Workbook

Sheet 원가계산서
A1: 공 사 원 가 계 산 서
A2: 공사명 : 성남외고 기숙사 전면보수공사 폐기물처리용역
A3: 구 분 비 목 | D3: 금 액 | E3: 구 성 비 | F3: 비 고
A5: 순 공 사 원 가 | B5: 재료비 | C5: 직 접 재 료 비 | G5: A1 | H5: 0
C6: 간 접 재 료 비 | G6: A2 | H6: 0
C7: 소 계 | G7: A | H7: 0
B8: 노무비 | C8: 직 접 노 무 비 | G8: B1 | H8: 0
C9: 간 접 노 무 비 | G9: B2 | H9: 0
C10: 소 계 | G10: B | H10: 0
B11: 경 비 | C11: 기 계 경 비 | G11: C4 | H11: 0
C12: 산 재 보 험 료 | G12: C10 | H12: 0
C13: 고 용 보 험 료 | G13: C11 | H13: 0
C14: 건 강 보 험 료 | G14: C12 | H14: 0
C15: 연 금 보 험 료 | G15: C13 | H15: 0
C16: 노인 장기 요양보험료 | G16: C14 | H16: 0
C17: 퇴 직 공 제 부 금 비 | G17: C15 | H17: 0
C18: 산업 안전 보건관리비 | G18: C16 | H18: 0
C19: 기 타 경 비 | G19: C20 | H19: 0
C20: 환 경 보 전 비 | G20: C25 | H20: 0
C21: 석 면 분 담 금 | G21: C33 | H21: 0
C22: 임 금 채 권 부 담 금 | G22: C34 | H22: 0
C23: 소 계 | G23: C | H23: 0
B24: 계 | G24: X | H24: 0
A25: 일 반 관 리 비 | G25: D | H25: 0
A26: 이 윤 | G26: E | H26: 0
A27: 폐 기 물 처 리 비 | G27: L | H27: 0
A28: 총 원 가 | G28: F | H28: 0
A29: 부 가 가 치 세 | E29: ="(총원가)*"&H29*100&"%" -> (총원가)*10% | G29: H | H29: 0.1
A30: 도 급 금 액 | G30: Y | H30: 0
A31: 총 공 사 금 액 | H31: 0

Sheet 집계표
A1: 공 사 집 계 표
A2: 공사명 : 성남외국어고등학교 기숙사 전면보수공사 건설폐기물 운반 및 처리용역
A3: 품 명 | B3: 규 격 | C3: 단위 | D3: 수량 | E3: 재 료 비 | G3: 노 무 비 | I3: 경 비 | K3: 합 계 | M3: 비고
E4: 단 가 | F4: 금 액 | G4: 단 가 | H4: 금 액 | I4: 단 가 | J4: 금 액 | K4: 단 가 | L4: 금 액 | N4: 손료요율 | O4: 손료구분 | P4: 적용구분 | Q4: 합계구분 | R4: 기계경비 | S4: 운반비 | T4: 작업부산물 | U4: 관급 | V4: 외주비 | W4: 장비비 | X4: 폐기물처리비 | Y4: 가설비 | Z4: 잡비제외분 | AA4: 사급자재대 | AB4: 관급자재대 | AC4: 관급자관급자재 | AD4: 작업설.부산물(철거) | AE4: 안전관리비 | AF4: 품질관리비 | AG4: 신기술사용료 | AH4: 사용자항목6 | AI4: 사용자항목7 | AJ4: 석면분담금 | AK4: 임금채권부담금 | AL4: 사용자항목10 | AM4: 사용자항목11 | AN4: 사용자항목12 | AO4: 사용자항목13 | AP4: 사용자항목14 | AQ4: 사용자항목15 | AR4: 사용자항목16 | AS4: 사용자항목17 | AT4: 사용자항목18 | AU4: 사용자항목19 | AV4: 간접재료비 | AW4: 품목구분 | AX4: 조달코드 | AY4: 구분
A5: 01. 건설폐기물처리비 | C5: 식 | D5: 1 | R5: =D5*내역서!R24 -> 0 | S5: =D5*내역서!S24 -> 0 | T5: =D5*내역서!T24 -> 0 | U5: =D5*내역서!U24 -> 0 | V5: =D5*내역서!V24 -> 0 | W5: =D5*내역서!W24 -> 0 | X5: =D5*내역서!X24 -> 0 | Y5: =D5*내역서!Y24 -> 0 | Z5: =D5*내역서!Z24 -> 0 | AA5: =D5*내역서!AA24 -> 0 | AB5: =D5*내역서!AB24 -> 0 | AC5: =D5*내역서!AC24 -> 0 | AD5: =D5*내역서!AD24 -> 0 | AE5: =D5*내역서!AE24 -> 0 | AF5: =D5*내역서!AF24 -> 0 | AG5: =D5*내역서!AG24 -> 0 | AH5: =D5*내역서!AH24 -> 0 | AI5: =D5*내역서!AI24 -> 0 | AJ5: =D5*내역서!AJ24 -> 0 | AK5: =D5*내역서!AK24 -> 0 | AL5: =D5*내역서!AL24 -> 0 | AM5: =D5*내역서!AM24 -> 0 | AN5: =D5*내역서!AN24 -> 0 | AO5: =D5*내역서!AO24 -> 0 | AP5: =D5*내역서!AP24 -> 0 | AQ5: =D5*내역서!AQ24 -> 0 | AR5: =D5*내역서!AR24 -> 0 | AS5: =D5*내역서!AS24 -> 0 | AT5: =D5*내역서!AT24 -> 0 | AU5: =D5*내역서!AU24 -> 0 | AV5: =D5*내역서!AV24 -> 0
A24: 합 계 | R24: =SUM(R5:R5) -> 0 | S24: =SUM(S5:S5) -> 0 | T24: =SUM(T5:T5) -> 0 | U24: =SUM(U5:U5) -> 0 | V24: =SUM(V5:V5) -> 0 | W24: =SUM(W5:W5) -> 0 | X24: =SUM(X5:X5) -> 0 | Y24: =SUM(Y5:Y5) -> 0 | ... AY24: =SUM(AY5:AY5) -> 0

Sheet 내역서
A1: 공 사 내 역 서
A2: 공사명 : 성남외국어고등학교 기숙사 전면보수공사 건설폐기물 운반 및 처리용역
A3: 품 명 | B3: 규 격 | C3: 단위 | D3: 수 량 | E3: 재 료 비 | G3: 노 무 비 | I3: 경 비 | K3: 합 계 | M3: 비고
E4: 단 가 | F4: 금 액 | G4: 단 가 | H4: 금 액 | I4: 단 가 | J4: 금 액 | K4: 단 가 | L4: 금 액 | N4: 손료요율 | O4: 손료구분 | P4: 적용구분 | Q4: 합계구분 | R4: 기계경비 | S4: 운반비 | T4: 작업부산물 | U4: 관급 | V4: 외주비 | W4: 장비비 | X4: 폐기물처리비 | Y4: 가설비 | Z4: 잡비제외분 | AA4: 사급자재대 | AB4: 관급자재대 | AC4: 관급자관급자재 | AD4: 작업설.부산물(철거) | AE4: 안전관리비 | AF4: 품질관리비 | AG4: 신기술사용료 | AH4: 사용자항목6 | AI4: 사용자항목7 | AJ4: 석면분담금 | AK4: 임금채권부담금 | AL4: 사용자항목10 | AM4: 사용자항목11 | AN4: 사용자항목12 | AO4: 사용자항목13 | AP4: 사용자항목14 | AQ4: 사용자항목15 | AR4: 사용자항목16 | AS4: 사용자항목17 | AT4: 사용자항목18 | AU4: 사용자항목19 | AV4: 간접재료비 | AW4: 품목구분 | AX4: 조달코드 | AY4: 구분
A5: 01. 건설폐기물처리비
A6: 건설폐재류 | B6: 가연성이 제거된 재활용이 가능한 혼합물 | C6: TON | D6: 121 | O6: ="03" -> 03 | P6: 폐기물처리비 | Q6: 1 | R6: =IF(P6="기계경비",J6,0) -> 0 | S6: =IF(P6="운반비",L6,0) -> 0 | T6: =IF(P6="작업부산물",F6,0) -> 0 | U6: =IF(P6="관급",F6,0) -> 0 | V6: =IF(P6="외주비",J6,0) -> 0 | W6: =IF(P6="장비비",J6,0) -> 0 | X6: =IF(P6="폐기물처리비",L6,0) -> 0 | Y6: =IF(P6="가설비",J6,0) -> 0 | Z6: =IF(P6="잡비제외분",F6,0) -> 0 | AA6: =IF(P6="사급자재대",L6,0) -> 0 | AB6: =IF(P6="관급자재대",L6,0) -> 0 | AC6: =IF(P6="관급자관급자재",L6,0) -> 0 | AD6: =IF(P6="작업설.부산물(철거)",L6,0) -> 0 | AE6: =IF(P6="안전관리비",L6,0) -> 0 | AF6: =IF(P6="품질관리비",L6,0) -> 0 | AG6: =IF(P6="신기술사용료",L6,0) -> 0 | AH6: =IF(P6="사용자항목6",L6,0) -> 0 | AI6: =IF(P6="사용자항목7",L6,0) -> 0 | AJ6: =IF(P6="석면분담금",L6,0) -> 0 | AK6: =IF(P6="임금채권부담금",L6,0) -> 0 | AL6: =IF(P6="사용자항목10",L6,0) -> 0 | AM6: =IF(P6="사용자항목11",L6,0) -> 0 | AN6: =IF(P6="사용자항목12",L6,0) -> 0 | AO6: =IF(P6="사용자항목13",L6,0) -> 0 | AP6: =IF(P6="사용자항목14",L6,0) -> 0 | AQ6: =IF(P6="사용자항목15",L6,0) -> 0 | AR6: =IF(P6="사용자항목16",L6,0) -> 0 | AS6: =IF(P6="사용자항목17",L6,0) -> 0 | AT6: =IF(P6="사용자항목18",L6,0) -> 0 | AU6: =IF(P6="사용자항목19",L6,0) -> 0
A7: 건설폐재류 운반비 | B7: 24톤 덤프트럭, 30km | C7: TON | D7: 121 | O7: ="03" -> 03 | P7: 폐기물처리비 | Q7: 1 | R7: =IF(P7="기계경비",J7,0) -> 0 | S7: =IF(P7="운반비",L7,0) -> 0 | T7: =IF(P7="작업부산물",F7,0) -> 0 | U7: =IF(P7="관급",F7,0) -> 0 | V7: =IF(P7="외주비",J7,0) -> 0 | W7: =IF(P7="장비비",J7,0) -> 0 | X7: =IF(P7="폐기물처리비",L7,0) -> 0 | Y7: =IF(P7="가설비",J7,0) -> 0 | Z7: =IF(P7="잡비제외분",F7,0) -> 0 | AA7: =IF(P7="사급자재대",L7,0) -> 0 | AB7: =IF(P7="관급자재대",L7,0) -> 0 | AC7: =IF(P7="관급자관급자재",L7,0) -> 0 | AD7: =IF(P7="작업설.부산물(철거)",L7,0) -> 0 | AE7: =IF(P7="안전관리비",L7,0) -> 0 | AF7: =IF(P7="품질관리비",L7,0) -> 0 | AG7: =IF(P7="신기술사용료",L7,0) -> 0 | AH7: =IF(P7="사용자항목6",L7,0) -> 0 | AI7: =IF(P7="사용자항목7",L7,0) -> 0 | AJ7: =IF(P7="석면분담금",L7,0) -> 0 | AK7: =IF(P7="임금채권부담금",L7,0) -> 0 | AL7: =IF(P7="사용자항목10",L7,0) -> 0 | AM7: =IF(P7="사용자항목11",L7,0) -> 0 | AN7: =IF(P7="사용자항목12",L7,0) -> 0 | AO7: =IF(P7="사용자항목13",L7,0) -> 0 | AP7: =IF(P7="사용자항목14",L7,0) -> 0 | AQ7: =IF(P7="사용자항목15",L7,0) -> 0 | AR7: =IF(P7="사용자항목16",L7,0) -> 0 | AS7: =IF(P7="사용자항목17",L7,0) -> 0 | AT7: =IF(P7="사용자항목18",L7,0) -> 0 | AU7: =IF(P7="사용자항목19",L7,0) -> 0
A8: 혼합건설폐기물 | B8: 그 밖의 건설폐기물에 가연성 5% 이하 혼합 | C8: TON | D8: 80 | O8: ="03" -> 03 | P8: 폐기물처리비 | Q8: 1 | R8: =IF(P8="기계경비",J8,0) -> 0 | S8: =IF(P8="운반비",L8,0) -> 0 | T8: =IF(P8="작업부산물",F8,0) -> 0 | U8: =IF(P8="관급",F8,0) -> 0 | V8: =IF(P8="외주비",J8,0) -> 0 | W8: =IF(P8="장비비",J8,0) -> 0 | X8: =IF(P8="폐기물처리비",L8,0) -> 0 | Y8: =IF(P8="가설비",J8,0) -> 0 | Z8: =IF(P8="잡비제외분",F8,0) -> 0 | AA8: =IF(P8="사급자재대",L8,0) -> 0 | AB8: =IF(P8="관급자재대",L8,0) -> 0 | AC8: =IF(P8="관급자관급자재",L8,0) -> 0 | AD8: =IF(P8="작업설.부산물(철거)",L8,0) -> 0 | AE8: =IF(P8="안전관리비",L8,0) -> 0 | AF8: =IF(P8="품질관리비",L8,0) -> 0 | AG8: =IF(P8="신기술사용료",L8,0) -> 0 | AH8: =IF(P8="사용자항목6",L8,0) -> 0 | AI8: =IF(P8="사용자항목7",L8,0) -> 0 | AJ8: =IF(P8="석면분담금",L8,0) -> 0 | AK8: =IF(P8="임금채권부담금",L8,0) -> 0 | AL8: =IF(P8="사용자항목10",L8,0) -> 0 | AM8: =IF(P8="사용자항목11",L8,0) -> 0 | AN8: =IF(P8="사용자항목12",L8,0) -> 0 | AO8: =IF(P8="사용자항목13",L8,0) -> 0 | AP8: =IF(P8="사용자항목14",L8,0) -> 0 | AQ8: =IF(P8="사용자항목15",L8,0) -> 0 | AR8: =IF(P8="사용자항목16",L8,0) -> 0 | AS8: =IF(P8="사용자항목17",L8,0) -> 0 | AT8: =IF(P8="사용자항목18",L8,0) -> 0 | AU8: =IF(P8="사용자항목19",L8,0) -> 0
A9: 혼합건설폐기물 운반비 | B9: 24톤 암롤트럭, 30km | C9: TON | D9: 80 | O9: ="03" -> 03 | P9: 폐기물처리비 | Q9: 1 | R9: =IF(P9="기계경비",J9,0) -> 0 | S9: =IF(P9="운반비",L9,0) -> 0 | T9: =IF(P9="작업부산물",F9,0) -> 0 | U9: =IF(P9="관급",F9,0) -> 0 | V9: =IF(P9="외주비",J9,0) -> 0 | W9: =IF(P9="장비비",J9,0) -> 0 | X9: =IF(P9="폐기물처리비",L9,0) -> 0 | Y9: =IF(P9="가설비",J9,0) -> 0 | Z9: =IF(P9="잡비제외분",F9,0) -> 0 | AA9: =IF(P9="사급자재대",L9,0) -> 0 | AB9: =IF(P9="관급자재대",L9,0) -> 0 | AC9: =IF(P9="관급자관급자재",L9,0) -> 0 | AD9: =IF(P9="작업설.부산물(철거)",L9,0) -> 0 | AE9: =IF(P9="안전관리비",L9,0) -> 0 | AF9: =IF(P9="품질관리비",L9,0) -> 0 | AG9: =IF(P9="신기술사용료",L9,0) -> 0 | AH9: =IF(P9="사용자항목6",L9,0) -> 0 | AI9: =IF(P9="사용자항목7",L9,0) -> 0 | AJ9: =IF(P9="석면분담금",L9,0) -> 0 | AK9: =IF(P9="임금채권부담금",L9,0) -> 0 | AL9: =IF(P9="사용자항목10",L9,0) -> 0 | AM9: =IF(P9="사용자항목11",L9,0) -> 0 | AN9: =IF(P9="사용자항목12",L9,0) -> 0 | AO9: =IF(P9="사용자항목13",L9,0) -> 0 | AP9: =IF(P9="사용자항목14",L9,0) -> 0 | AQ9: =IF(P9="사용자항목15",L9,0) -> 0 | AR9: =IF(P9="사용자항목16",L9,0) -> 0 | AS9: =IF(P9="사용자항목17",L9,0) -> 0 | AT9: =IF(P9="사용자항목18",L9,0) -> 0 | AU9: =IF(P9="사용자항목19",L9,0) -> 0
A24: 합 계 | R24: =INT(SUM(R6:R9)) -> 0 | S24: =INT(SUM(S6:S9)) -> 0 | T24: =INT(SUM(T6:T9)) -> 0 | U24: =INT(SUM(U6:U9)) -> 0 | V24: =INT(SUM(V6:V9)) -> 0 | W24: =INT(SUM(W6:W9)) -> 0 | X24: =INT(SUM(X6:X9)) -> 0 | Y24: =INT(SUM(Y6:Y9)) -> 0 | ... AY24: =INT(SUM(AY6:AY9)) -> 0
