Workbook
Name _: #N/A
Name _?ó_ü?_?C?g??: #REF!
Name __: #N/A
Name _________JJ1: [1]지입S3!#REF!
Name _________JJ10: [2]자재단가!#REF!
Name _________JJ100: #N/A
Name _________JJ101: #N/A
Name _________JJ102: #N/A
Name _________JJ103: #N/A
Name _________JJ104: #N/A
Name _________JJ105: #N/A
Name _________JJ106: #N/A
Name _________JJ107: #N/A
Name _________JJ108: #N/A
Name _________JJ109: #N/A
Name _________JJ11: [2]자재단가!#REF!
Name _________JJ110: #N/A
Name _________JJ111: #N/A
Name _________JJ112: #N/A
Name _________JJ113: [2]자재단가!#REF!
Name _________JJ114: [2]자재단가!#REF!
Name _________JJ115: [2]자재단가!#REF!
Name _________JJ116: [2]자재단가!#REF!
Name _________JJ117: [2]자재단가!#REF!
Name _________JJ118: [2]자재단가!#REF!
Name _________JJ119: [2]자재단가!#REF!
Name _________JJ12: [2]자재단가!#REF!
Name _________JJ120: [2]자재단가!#REF!
Name _________JJ121: [2]자재단가!#REF!
Name _________JJ122: [2]자재단가!#REF!
Name _________JJ123: [2]자재단가!#REF!
Name _________JJ124: [2]자재단가!#REF!
Name _________JJ125: [2]자재단가!#REF!
Name _________JJ126: [2]자재단가!#REF!
Name _________JJ127: [2]자재단가!#REF!
Name _________JJ128: [2]자재단가!#REF!
Name _________JJ129: [2]자재단가!#REF!
Name _________JJ13: [2]자재단가!#REF!
Name _________JJ130: [2]자재단가!#REF!
Name _________JJ131: [2]자재단가!#REF!
Name _________JJ132: [2]자재단가!#REF!
Name _________JJ133: [2]자재단가!#REF!
Name _________JJ134: [2]자재단가!#REF!
Name _________JJ135: [2]자재단가!#REF!
Name _________JJ136: [2]자재단가!#REF!
Name _________JJ137: [2]자재단가!#REF!
Name _________JJ138: [2]자재단가!#REF!
Name _________JJ139: [2]자재단가!#REF!
Name _________JJ14: [2]자재단가!#REF!
Name _________JJ140: [2]자재단가!#REF!
Name _________JJ141: #N/A
Name _________JJ142: #N/A
Name _________JJ143: #N/A
Name _________JJ144: #N/A
Name _________JJ145: #N/A
Name _________JJ146: #N/A
Name _________JJ147: #N/A
Name _________JJ148: #N/A
Name _________JJ149: #N/A
Name _________JJ15: [2]자재단가!#REF!

Sheet 공사원가계산서
A2: 공사원가 계산서
A3: =#REF! -> #REF! | G3: 공사기간 : 착공일로부터 50일 | I3: (단위:원)
A4: 비 목 | C4: 구 분 | D4: 도급공사금액 | E4: 사급재료비 | F4: 구성비 | G4: 적용기준 | H4: 적용률 | I4: 비 고
A5: 순공사원가 | B5: 재료비 | C5: 직접재료비 | D5: =일위대가!$F$22+일위대가!$F$59 -> 13758142 | F5: =D5/$D$26 -> 0.35178067
C6: 간접재료비 | D6: =일위대가!$L$27+일위대가!$L$64 -> 714619 | F6: =D6/$D$26 -> 0.018272028 | G6: 직접재료비+직접노무비 | H6: 0.03
C7: 소 계 | D7: =SUM(D5:D6) -> 14472761 | F7: =D7/$D$26 -> 0.3700527
B8: 노무비 | C8: 직접노무비 | D8: =일위대가!$H$22+일위대가!$H$59 -> 10062558 | F8: =D8/$D$26 -> 0.25728862
C9: 간접노무비 | D9: =INT(D8*H9) -> 1760947 | F9: =D9/$D$26 -> 0.045025492 | G9: 직접노무비 | H9: 0.175
C10: 소 계 | D10: =SUM(D8:D9) -> 11823505 | F10: =D10/$D$26 -> 0.30231411
B11: 경 비 | C11: 기계경비 | D11: =일위대가!$J$22+일위대가!$J$59 -> 3476704 | F11: =D11/$D$26 -> 0.088895525 | I11: 실적정산
C12: 산재보험료 | D12: =TRUNC(D10*H12) -> 420916 | F12: =D12/$D$26 -> 0.010762363 | G12: 노무비 X | H12: 0.0356
C13: 고용보험료 | D13: =TRUNC(D10*H13) -> 119417 | F13: =D13/$D$26 -> 0.0030533623 | G13: 노무비 X | H13: 0.0101
C14: 건강보험료 | D14: =TRUNC(D8*H14) -> 361748 | F14: =D14/$D$26 -> 0.0092495014 | G14: 직접노무비 | H14: 0.03595
C15: 노인장기요양보험료 | D15: =TRUNC(D14*H15) -> 47533 | F15: =D15/$D$26 -> 0.0012153669 | G15: 건강보험료 | H15: 0.1314
C16: 연금보험료 | D16: =TRUNC(D8*H16) -> 477971 | F16: =D16/$D$26 -> 0.012221197 | G16: 직접노무비 | H16: 0.0475
C17: 기타경비 | D17: =TRUNC((D7+D10)*H17) -> 1246705 | F17: =D17/$D$26 -> 0.031876886 | G17: 재료비+노무비 | H17: 0.04741 | I17: 수도광열비 제외
C18: 산업안전보건관리비 | D18: =TRUNC((D7+D8)*H18) -> 763048 | F18: =D18/$D$26 -> 0.019510304 | G18: 재료비+직접노무비 | H18: 0.0311 | I18: 실적정산
C19: 석면분담금 | D19: =TRUNC((D10*H19)) -> 709 | F19: =D19/$D$26 -> 1.8128356e-05 | G19: 노무비 | H19: 6e-05
C20: 임금채권부담금 | D20: =TRUNC((D10*H20)) -> 10641 | F20: =D20/$D$26 -> 0.00027207875 | G20: 노무비 | H20: 0.0009
C21: 소 계 | D21: =SUM(D11:D20) -> 6925392 | F21: =D21/$D$26 -> 0.17707471
B22: 합 계 | D22: =D7+D10+D21 -> 33221658 | F22: =D22/$D$26 -> 0.84944152
A23: 일 반 관 리 비 | D23: =ROUNDDOWN(D22*H23,0) -> 2657732 | F23: =D23/$D$26 -> 0.067955306 | G23: 재료비+노무비+경비 | H23: 0.08
A24: 이 윤 | D24: =ROUNDDOWN((D10+D21+D23)*H24,0) -> 3210994 | F24: =D24/$D$26 -> 0.082101611 | G24: 노무비+경비+일반관리비 | H24: 0.15
A25: 근로자재해보장보험 | D25: 20000 | F25: =D25/$D$26 -> 0.00051137816 | G25: 노무비 | H25: 0.00125 | I25: MAX[(노무비*0.125%), 20,000원]
A26: 총 원 가 | D26: =ROUNDDOWN(D22+D23+D24+D25,-4) -> 39110000 | F26: =D26/$D$26 -> 1 | G26: 천단위 이하 절사
A28: 순공사원가 [ 부가세 포함 ] | I28: =ROUNDUP(SUM(D7,D10,D21)*1.1,0) -> 36543824
A29: 입찰가격 점수 산정 시의 A 값( 연금보험료, 건강보험료, 노인장기요양보험료, 산업안전보건관리비, 퇴직공제부금비 합산액) | I29: =D16+D14+D15+D18 -> 1650300

Sheet 일위대가
A2: 일 위 대 가
M3: (단위:원)
A4: 명 칭 | B4: 규격 | C4: 수량 | D4: 단위 | E4: 재 료 비 | G4: 노 무 비 | I4: 경 비 | K4: 합 계 | M4: 비고
E5: 단 가 | F5: 금 액 | G5: 단 가 | H5: 금 액 | I5: 단 가 | J5: 금 액 | K5: 단가 | L5: 금 액
A6: 1 | B6: 블로워 #B 분해점검
A7: 1. 재료비
A8: 임펠러플랜지 | B8: - | C8: 6 | D8: EA | E8: =단가산출서!$E$6 -> 223905 | F8: =INT(C8*E8) -> 1343430
A9: 베어링 | B9: 6315 C3 | C9: 2 | D9: EA | E9: =단가산출서!$E$8 -> 177100 | F9: =INT(C9*E9) -> 354200
A10: DOUBLE CARBON | B10: Φ74(내경) * Φ120(외경) | C10: 1 | D10: SET | E10: =단가산출서!$E$9 -> 1328250 | F10: =INT(C10*E10) -> 1328250
A11: SEAL | B11: 75*110*10T | C11: 2 | D11: EA | E11: =단가산출서!$E$10 -> 82225 | F11: =INT(C11*E11) -> 164450
B12: 70*100*10T | C12: 1 | D12: EA | E12: =단가산출서!$E$11 -> 82225 | F12: =INT(C12*E12) -> 82225
A13: OIL | B13: ISO VG 68 | C13: 1 | D13: 식 | E13: =단가산출서!$E$12 -> 56925 | F13: =INT(C13*E13) -> 56925
A14: 모터 베어링 | B14: - | C14: 2 | D14: EA | E14: =단가산출서!$E$13 -> 118278 | F14: =INT(C14*E14) -> 236556
A16: 2. 노무비
A17: 기계설비공 | C17: =E38 -> 11.686 | D17: MD | G17: =노임단가!$C$8 -> 242647 | H17: =INT(C17*G17) -> 2835572
A18: 보통인부 | C18: =F38 -> 5.094 | D18: MD | G18: =노임단가!$C$6 -> 172698 | H18: =INT(C18*G18) -> 879723
A20: 3. 경 비
A21: 크레인 | B21: 25ton | C21: 2 | D21: 일 | I21: =기계경비!$B$11*8 -> 869176 | J21: =INT(C21*I21) -> 1738352
A22: 합 계 | F22: =SUM(F8:F14) -> 3566036 | H22: =SUM(H17:H18) -> 3715295 | J22: =J21 -> 1738352 | L22: =F22+H22+J22 -> 9019683
A24: 4. 간접재료비
A25: 잡재료비 | B25: 직접재료비 x | C25: 3 | D25: % | F25: =INT(F22*0.03) -> 106981
A26: 공구손료 | B26: 직접노무비 x | C26: 3 | D26: % | F26: =INT(H22*0.03) -> 111458
A27: 합 계 | F27: =SUM(F25:F26) -> 218439 | L27: =F27+H27+J27 -> 218439
B29: 적용 : "기계설비표준품셈" 4-2-1 송풍기 설치 (p.167) | I29: 공량산출근거
B30: 공량 계산 | E30: 편흡입 | I30: 가. 블로워 임펠러 규격 Φ610*27L 송풍기 호칭번호 063
E31: 기계설비공 | F31: 보통인부
B32: 단위작업별 공량 | C32: 해체 및 반출 | E32: 1.843 | F32: 0.547
C33: 임펠러 플랜지 교체 | E33: 2 | F33: 1
C34: 임팰러 개별 밸런싱 | E34: 2 | F34: 1
C35: 베어링 등 소모품 교체 | E35: 2 | F35: 1
C36: 분해 및 재조립 | E36: 2 | F36: 1
C37: 반입 및 설치 | E37: 1.843 | F37: 0.547
B38: 공량 합계 | E38: =SUM(E32:E37) -> 11.686 | F38: =SUM(F32:F37) -> 5.094
A41: 명 칭 | B41: 규격 | C41: 수량 | D41: 단위 | E41: 재 료 비 | G41: 노 무 비 | I41: 경 비 | K41: 합 계 | M41: 비고
E42: 단 가 | F42: 금 액 | G42: 단 가 | H42: 금 액 | I42: 단 가 | J42: 금 액 | K42: 단가 | L42: 금 액
A43: 2 | B43: 블로워 #C 분해점검 및 임펠러 교체
A44: 1. 재료비
A45: 임펠러&플랜지 | B45: Φ610*21L | C45: 6 | D45: EA | E45: =단가산출서!$E$7 -> 1328250 | F45: =INT(C45*E45) -> 7969500
A46: 베어링 | B46: 6315 C3 | C46: 2 | D46: EA | E46: =단가산출서!$E$8 -> 177100 | F46: =INT(C46*E46) -> 354200
A47: DOUBLE CARBON | B47: Φ74(내경) * Φ120(외경) | C47: 1 | D47: SET | E47: =단가산출서!$E$9 -> 1328250 | F47: =INT(C47*E47) -> 1328250
...

Sheet 단가산출서
B2: 단 가 산 출 내 역 서
F3: (단위:원)
B4: 품 명 | C4: 규 격 | D4: 단위 | E4: 적용단가 | F4: 비 고
B6: 임펠러플랜지 | D6: EA | E6: 223905
B7: 임펠러&플랜지 | C7: Φ610*21L | D7: EA | E7: 1328250
B8: 베어링 | C8: 6315 C3 | D8: EA | E8: 177100
B9: DOUBLE CARBON | C9: Φ74(내경) * Φ120(외경) | D9: SET | E9: 1328250
B10: SEAL | C10: 75*110*10T | D10: EA | E10: 82225
C11: 70*100*10T | D11: EA | E11: 82225
B12: OIL | C12: ISO VG 68 | D12: 식 | E12: 56925
B13: 모터 베어링 | D13: EA | E13: 118278

Sheet 기계경비
A2: 기 계 경 비
A3: 적용 : "2026년 건설기계의 기계경비 산출표(p8)", "시설공사 중기기초단가"('26.09.01)
A4: 품목 : 이동식크레인 25ton
A5: 구 분 | B5: 단 가 | C5: 단 위 | D5: 비 고
A6: 시간당 손료 | B6: 59751 | C6: 원
A7: 주연료 | B7: 6.1 | C7: l/hr
A8: 잡재료 | B8: 39 | C8: % | D8: 주연료의%
A9: 운전원 | B9: =노임단가!$C$10 -> 283323 | C9: 원
A10: 경유 | B10: 1590 | C10: 원/l
A11: 기계경비 | B11: =INT(B6+B10*B7+(B10*B7*B8%)+(B9/8)) -> 108647 | C11: 원/hr | D11: 1일 8시간
A13: ＊ 기계경비산출식 : 시간당손료+주연료(경유)*경유단가+(건설기계운전사노임단가/8)

Sheet 노임단가
B2: 노 임 단 가
B3: 단가(2026.09.01.공표, 단위:원)
B4: 직 종 | C4: 단 가
B5: 작 업 반 장 | C5: 218316
B6: 보 통 인 부 | C6: 172698
B7: 특 별 인 부 | C7: 228717
B8: 기 계 설 비 공 | C8: 242647
B9: 배관공 | C9: 249073
B10: 건설기계운전사 | C10: 283323
B11: 화물차운전사 | C11: 240042
B13: ※ 조사기관이 조사·공표한 당해직종의 시중노임단가가 없는 년도(또는 시기)의 경우에는 전후년도(또는 시기)의 당해직종의 시중노임단가에 그간의 전체 평균 시중노임단가 증가율을 적용하여 해당년도(또는 시기)의 당해직종의 노임단가를 산정할 수 있음.
A19: 공 표 일 | C19: 2026.9.1 | D19: 2026.1.1 | E19: 2025.9.1 | F19: 2025.1.1
A20: 번 호 직 종 명
A21: 1001 | B21: 작업반장 | C21: 218316 | D21: 215907 | E21: 214661 | F21: 213033
A22: 1002 | B22: 보통인부 | C22: 172698 | D22: 172068 | E22: 171037 | F22: 169804
A23: 1003 | B23: 특별인부 | C23: 228717 | D23: 226122 | E23: 224490 | F23: 221506
A24: 1004 | B24: 조력공 | C24: 181496 | D24: 179028 | E24: 179958 | F24: 180331
A25: *1005 | B25: 제도사 | C25: 242423 | D25: 237324 | E25: 239200 | F25: 232099
A26: 1006 | B26: 비계공 | C26: 284440 | D26: 281939 | E26: 279613 | F26: 279433
A27: 1007 | B27: 형틀목공 | C27: 275379 | D27: 275790 | E27: 273074 | F27: 272831
A28: 1008 | B28: 철근공 | C28: 268932 | D28: 268187 | E28: 265818 | F28: 264104
A29: 1009 | B29: 철공 | C29: 243870 | D29: 239808 | E29: 237686 | F29: 237754
A30: 1010 | B30: 철판공 | C30: 220901 | D30: 221481 | E30: 219862 | F30: 219236
A31: 1011 | B31: 철골공 | C31: 255172 | D31: 252641 | E31: 251511 | F31: 250239
A32: 1012 | B32: 용접공 | C32: 286330 | D32: 282536 | E32: 280178 | F32: 278326
A33: 1013 | B33: 콘크리트공 | C33: 276285 | D33: 273540 | E33: 271064 | F33: 266361
A34: 1014 | B34: 보링공 | C34: 233503 | D34: 232562 | E34: 226520 | F34: 225273
A35: *1015 | B35: 착암공 | C35: 223246 | D35: 222306 | E35: 220354 | F35: 220081
A36: 1016 | B36: 화약취급공 | C36: 270444 | D36: 272448 | E36: 261462 | F36: 258751
A37: 1017 | B37: 할석공 | C37: 246224 | D37: 241932 | E37: 240163 | F37: 236986
A38: *1018 | B38: 포설공 | C38: 221306 | D38: 221015 | E38: 219579 | F38: 216121
A39: 1019 | B39: 포장공 | C39: 274873 | D39: 273308 | E39: 270747 | F39: 267989
A40: *1020 | B40: 잠수부 | C40: 391240 | D40: 387342 | E40: 392061 | F40: 388892
A41: 1021 | B41: 조적공 | C41: 273229 | D41: 270807 | E41: 275141 | F41: 266624
A42: 1022 | B42: 견출공 | C42: 254875 | D42: 250903 | E42: 247938 | F42: 243075
A43: 1023 | B43: 건축목공 | C43: 282990 | D43: 277642 | E43: 283068 | F43: 277894
A44: 1024 | B44: 창호공 | C44: 248547 | D44: 247188 | E44: 250287 | F44: 248350
A45: 1025 | B45: 유리공 | C45: 258602 | D45: 253539 | E45: 250389 | F45: 248139
A46: 1026 | B46: 방수공 | C46: 233163 | D46: 228286 | E46: 226204 | F46: 220722
A47: 1027 | B47: 미장공 | C47: 279102 | D47: 277276 | E47: 278998 | F47: 272354
...

Sheet 제비율표(26.4.13.)
B2: ※ 적용시기 : 2026. 04. 13. 입찰공고분부터 | AL2: 2026년 건축∙산업환경설비공사 원가계산 간접공사비(제비율) 적용기준 (참고: 간접노무비율, 기타경비율, 일반관리비율, 이윤율, 공사이행보증수수료율은 조달청 분석요율임)
AC3: [간접노무비] | AL3: [기타경비] | BE3: [일반관리비] | BR3: [이윤] | BY3: [건설기계대여대금 지급보증액 발급금액] | DJ3: [산업안전보건관리비]
B7: 공사규모 | M7: 공사기간 | AC7: (직노) x 율 | AL7: (재+노) x 율 | AU7: 공사규모 | BE7: (재+노+경) x 율 | BR7: (노+경+일) x 율 | BY7: (직접공사비) x 율 | DJ7: □ 도급자관급 미포함 공사 | EA7: (재+직노) x 율 + 기초액
B9: (직접공사비) | AC9: 건축 | AH9: 산업 설비 (건축) | AL9: 건축 | AQ9: 산업 설비 (건축) | AU9: (추정가격) | BE9: 건축, 산업설비(건축) | BK9: 전문· 전기·통신· 소방·기타
BY11: 종합건설업 | CM11: 전문건설업 | DJ11: □ 도급자관급 포함 공사 | EA11: (재+직노+도급자관급) x 요율주2) + 기초액과
EA13: [(재+직노) x 요율주3) + 기초액] x 1.2 중에 작은 금액
B15: 10억 미만 | M15: 6개월 이하 (183일) | AC15: 17.5 | AH15: =AC15 -> 17.5 | AL15: 5 | AQ15: =AL15 -> 5 | AU15: 5억 미만 | BE15: 8 | BK15: 8 | BR15: 15 | BY15: 구분 | CH15: 요율 | CM15: 구분 | DD15: 요율 | DJ15: 산업안전보건관리비 대상액주1) | EA15: 구분 | ER15: 요율 | EZ15: 기초액(천원)
M17: 7~12개월 (365일) | AC17: 17.9 | AH17: =AC17 -> 17.9 | AL17: 5.2 | AQ17: =AL17 -> 5.2
M19: 13~36개월 (1095일) | AC19: 18.2 | AH19: =AC19 -> 18.2 | AL19: 5.5 | AQ19: =AL19 -> 5.5 | BY19: 건축공사 | CH19: 0.07 | CM19: 비계·구조물해체공사 | DD19: 0.68 | DJ19: 5억 미만 | EA19: 건축공사 | ER19: 3.11
M21: 36개월 초과 (1096일) | AC21: 19.4 | AH21: =AC21 -> 19.4 | AL21: 6.1 | AQ21: =AL21 -> 6.1 | AU21: 5억 - 30억 미만 | BK21: 6.5 | EA21: 토목공사 | ER21: 3.15
B23: 10억 - 50억 미만 | M23: 6개월 이하 (183일) | AC23: 17.4 | AH23: =AC23 -> 17.4 | AL23: 5.2 | AQ23: =AL23 -> 5.2 | EA23: 중건설공사 | ER23: 3.64
M25: 7~12개월 (365일) | AC25: 17.8 | AH25: =AC25 -> 17.8 | AL25: 5.4 | AQ25: =AL25 -> 5.4 | BY25: 산업∙설비공사 | CH25: 0.16 | CM25: 석공사, 철근콘크리트공사, 가스시설공사(1종) | DD25: 0.32 | EA25: 특수건설공사 | ER25: 2.07
M27: 13~36개월 (1095일) | AC27: 18.1 | AH27: =AC27 -> 18.1 | AL27: 5.7 | AQ27: =AL27 -> 5.7 | AU27: 30억 - 50억 미만 | BK27: 5 | DJ27: 5억 ~ 50억 미만 | EA27: 건축공사 | ER27: 2.28 | EZ27: 4325
M29: 36개월 초과 (1096일) | AC29: 19.2 | AH29: =AC29 -> 19.2 | AL29: 6.4 | AQ29: =AL29 -> 6.4 | EA29: 토목공사 | ER29: 2.53 | EZ29: 3300
B31: 50억 - 300억 미만 | M31: 6개월 이하 (183일) | AC31: 17.5 | AH31: =AC31 -> 17.5 | AL31: 5.9 | AQ31: =AL31 -> 5.9 | AU31: 50억 - 100억 미만 | BE31: 6.5 | BR31: 12 | CM31: 도장공사, 철강재설치공사 | DD31: 0.16 | EA31: 중건설공사 | ER31: 3.05 | EZ31: 2975
M33: 7~12개월 (365일) | AC33: 17.9 | AH33: =AC33 -> 17.9 | AL33: 6 | AQ33: =AL33 -> 6 | EA33: 특수건설공사 | ER33: 1.59 | EZ33: 2450
M35: 13~36개월 (1095일) | AC35: 18.2 | AH35: =AC35 -> 18.2 | AL35: 6.4 | AQ35: =AL35 -> 6.4 | AU35: 100억 - 300억 미만 | BK35: 4.5 | DJ35: 50억 이상 | DQ35: 추정금액 800억 미만 건설공사 | EA35: 건축공사 | ER35: 2.37
CM36: 기계설비공사업 및 그 외 | DD36: 0.1
M37: 36개월 초과 (1096일) | AC37: 19.4 | AH37: =AC37 -> 19.4 | AL37: 7 | AQ37: =AL37 -> 7 | EA37: 토목공사 | ER37: 2.6
B39: 300억 - 1000억 미만 | M39: 6개월 이하 (183일) | AC39: 17.5 | AH39: =AC39 -> 17.5 | AL39: 6.1 | AQ39: =AL39 -> 6.1 | AU39: 300억 - 1000억 미만 | BE39: 5 | BR39: 10 | EA39: 중건설공사 | ER39: 3.11
M41: 7~12개월 (365일) | AC41: 17.9 | AH41: =AC41 -> 17.9 | AL41: 6.3 | AQ41: =AL41 -> 6.3 | BY41: * 적용제외: 국가유산수리공사, 전기, 정보통신, 소방시설 | EA41: 특수건설공사 | ER41: 1.64
M43: 13~36개월 (1095일) | AC43: 18.2 | AH43: =AC43 -> 18.2 | AL43: 6.6 | AQ43: =AL43 -> 6.6 | AU43: 1000억 이상 | BE43: 4.5 | BR43: 9 | BY43: ※ 건설기계대여대금 지급보증서 발급금액 및 업종별 건설기계 | DQ43: 추정금액 800억 이상 건설공사 | EA43: 건축공사 | ER43: 2.64
M45: 36개월 초과 (1096일) | AC45: 19.4 | AH45: =AC45 -> 19.4 | AL45: 7.2 | AQ45: =AL45 -> 7.2 | BY45: 투입비율 산정기준(국토부 고시 제2019-286호, 2019.6.19.) | EA45: 토목공사 | ER45: 2.73
B47: 1000억 이상 | M47: 6개월 이하 (183일) | AC47: 17.4 | AH47: =AC47 -> 17.4 | AL47: 6.4 | AQ47: =AL47 -> 6.4 | AU47: [건강보험료] | BC47: [노인장기요양보험료] | BQ47: [연금보험료] | BY47: [산재보험료] | EA47: 중건설공사 | ER47: 3.39
M49: 7~12개월 (365일) | AC49: 17.8 | AH49: =AC49 -> 17.8 | AL49: 6.5 | AQ49: =AL49 -> 6.5 | EA49: 특수건설공사 | ER49: 1.78
M51: 13~36개월 (1095일) | AC51: 18.1 | AH51: =AC51 -> 18.1 | AL51: 6.9 | AQ51: =AL51 -> 6.9 | AU51: (직노) x 3.595 | BC51: (건강보험료) x 13.14 | BQ51: (직노) x 4.75 | BY51: (노) x 3.56 | DJ51: * 총 공사금액(도급금액+도급자설치 관급금액) 2천만원 이상 건설공사
M53: 36개월 초과 (1096일) | AC53: 19.3 | AH53: =AC53 -> 19.3 | AL53: 7.5 | AQ53: =AL53 -> 7.5 | AU53: * 공사기간 1개월(30일) 이상인 모든 건설공사 | BY53: * 모든 건설공사 적용. 노동부 고시 제2024-77호(2024. 12. 30.), 산업재해보상보험법시행령 | DJ53: 주1) 산업안전보건관리비 대상액
B55: * 기타경비항목: 수도광열비, 복리후생비, 소모품비 및 사무용품비, 여비∙교통∙통신비, 세금과공과, 도서인쇄비 | AU55: (노인장기요양보험료는 소수점 다섯째자리에서 반올림)
DJ56: - 재료비+직접노무비+도급자설치 관급금액
B57: □ 산업설비(건축) 해당공종 : 지열공사, 소각시설 등 | AU57: ※ 사회보험의 보험료 적용기준 (국토부 고시 제2021-905호, 2021.7.1.) | BY57: ※ 사회보험의 보험료 적용기준 (국토부 고시 제2021-905호, 2021.7.1.)
B59: [고용보험료] | AU59: [환경보전비] | BY59: [건설하도급대금지급보증서발급수수료] | DJ59: 주2) 대상액이 재료비, 직접노무비, 도급자관급의 합계금액인 요율
DJ62: 주3) 대상액이 재료비, 직접노무비의 합계금액인 요율
B63: (노) x 율 | AU63: (직접공사비) x 율 | BY63: (직접공사비) x 율
B65: 공사배정규모(추정금액) | AH65: 요율 | AU65: 구분 | BT65: 요율 | BY65: 공사규모(추정가격) | DB65: 요율 | DJ65: * 산업안전보건관리비 산출 건설공사의 종류
B67: [1등급] 1200억 이상 | AH67: 1.57
AU68: 도로(예시: 교량, 터널, 활주로 등) | BT68: 0.9 | BY68: 50억 미만 | DB68: 0.081 | DJ68: - [건축공사] 「건설산업기본법 시행령」 (별표 1) 제1호 '나'목 / 제2호의 전문공사로서 건축물과
B69: [2등급] 800억 ~ 1200억 미만 | AH69: 1.30
AU70: 플랜트(예시: 발전소, 쓰레기소각장 등) | BT70: 0.4
B71: [3등급] 520억 ~ 800억 미만 | AH71: 1.13 | BY71: 50억 이상 - 100억 미만 | DB71: 0.08 | DJ71: 관련하여 분리하여 발주되었고 시간적·장소적으로도 독립하여 행하는 공사
AU72: 지하철 | BT72: 0.5
...

Sheet 기타경비 제비율
A1: 2026년 유지보수 공사 기타경비 적용기준(3억 ~ 5억미만, 6개월이하)
A3: 조달청 제비율 적용기준 및 종합물가정보 ‘26. 4월호 참고
A4: 항 목 | B4: 공사규모 | C4: 공사종류 | D4: 공사기간 | E4: 규모 + 종류 + 기간 | F4: 항목별 경비 | G4: 항목별 비율(%)
B5: 3억이상 ~ 5억 미만(A) | C5: 산업설비(B) | D5: 6개월 이하(C) | E5: D = A+B+C | F5: E = D/3 | G5: 항목별 경비 / 합계 x 100(%)
A6: 수도광열비 | B6: 0.154 | C6: 0.422 | D6: 0.232 | E6: =B6+C6+D6 -> 0.808 | F6: =ROUNDDOWN(E6/3,3) -> 0.269 | G6: =ROUND(F6/$F$12*100,3) -> 5.162
A7: 복리후생비 | B7: 1.637 | C7: 4.137 | D7: 1.85 | E7: =B7+C7+D7 -> 7.624 | F7: =ROUNDDOWN(E7/3,3) -> 2.541 | G7: =ROUND(F7/$F$12*100,3) -> 48.762
A8: 소모품비 | B8: 1.269 | C8: 1.197 | D8: 1.495 | E8: =B8+C8+D8 -> 3.961 | F8: =ROUNDDOWN(E8/3,3) -> 1.32 | G8: =ROUND(F8/$F$12*100,3) -> 25.331
A9: 여비․교통․통신비 | B9: 0.539 | C9: 0.646 | D9: 0.543 | E9: =B9+C9+D9 -> 1.728 | F9: =ROUNDDOWN(E9/3,3) -> 0.576 | G9: =ROUND(F9/$F$12*100,3) -> 11.054
A10: 세금과공과 | B10: 0.467 | C10: 0.366 | D10: 0.422 | E10: =B10+C10+D10 -> 1.255 | F10: =ROUNDDOWN(E10/3,3) -> 0.418 | G10: =ROUND(F10/$F$12*100,3) -> 8.021
A11: 도서인쇄비 | B11: 0.094 | C11: 0.073 | D11: 0.095 | E11: =B11+C11+D11 -> 0.262 | F11: =ROUNDDOWN(E11/3,3) -> 0.087 | G11: =ROUND(F11/$F$12*100,3) -> 1.67
A12: 합 계 | B12: =SUM(B6:B11) -> 4.16 | C12: =SUM(C6:C11) -> 6.841 | D12: =SUM(D6:D11) -> 4.637 | E12: =SUM(E6:E11) -> 15.638 | F12: =SUM(F6:F11) -> 5.211 | G12: =ROUNDDOWN(F12/$F$12*100,3) -> 100
A13: 조달청 기타경비 요율 | F13: 5
A14: 조달청 기타경비 요율에서 수도광열비 제외한 요율 | F14: =ROUNDDOWN(F13-F13*G6/100,3) -> 4.741 | G14: = 5.0 - 5.0 X 5.162%
A15: 1) 원가계산서 작성시 조달청 제비율 적용기준 및 관련 고시 등을 반드시 최신본으로 확인 2) 공사규모, 공사종류, 공사기간이 다른 조건일 경우, 예시 시트 참조하여 각 항목별 비율 적용 필요
A17: 2026년 유지보수 공사 기타경비 적용기준(5억이상 10억원 미만, 6개월이하)
A19: 조달청 제비율 적용기준 및 종합물가정보 ‘26. 4월호 참고
A20: 항 목 | B20: 공사규모 | C20: 공사종류 | D20: 공사기간 | E20: 규모 + 종류 + 기간 | F20: 항목별 경비 | G20: 항목별 비율(%)
B21: 5억 이상 10억원 미만(A) | C21: 산업설비(B) | D21: 6개월 이하(C) | E21: D = A+B+C | F21: E = D/3 | G21: 항목별 경비 / 합계 x 100(%)
A22: 수도광열비 | B22: 0.199 | C22: 0.422 | D22: 0.232 | E22: =B22+C22+D22 -> 0.853 | F22: =ROUNDDOWN(E22/3,3) -> 0.284 | G22: =ROUND(F22/$F$28*100,3) -> 5.294
A23: 복리후생비 | B23: 1.881 | C23: 4.137 | D23: 1.85 | E23: =B23+C23+D23 -> 7.868 | F23: =ROUNDDOWN(E23/3,3) -> 2.622 | G23: =ROUND(F23/$F$28*100,3) -> 48.872
A24: 소모품비 | B24: 1.409 | C24: 1.197 | D24: 1.495 | E24: =B24+C24+D24 -> 4.101 | F24: =ROUNDDOWN(E24/3,3) -> 1.367 | G24: =ROUND(F24/$F$28*100,3) -> 25.48
A25: 여비․교통․통신비 | B25: 0.549 | C25: 0.646 | D25: 0.543 | E25: =B25+C25+D25 -> 1.738 | F25: =ROUNDDOWN(E25/3,3) -> 0.579 | G25: =ROUND(F25/$F$28*100,3) -> 10.792
A26: 세금과공과 | B26: 0.493 | C26: 0.366 | D26: 0.422 | E26: =B26+C26+D26 -> 1.281 | F26: =ROUNDDOWN(E26/3,3) -> 0.427 | G26: =ROUND(F26/$F$28*100,3) -> 7.959
A27: 도서인쇄비 | B27: 0.092 | C27: 0.073 | D27: 0.095 | E27: =B27+C27+D27 -> 0.26 | F27: =ROUNDDOWN(E27/3,3) -> 0.086 | G27: =ROUND(F27/$F$28*100,3) -> 1.603
A28: 합 계 | B28: =SUM(B22:B27) -> 4.623 | C28: =SUM(C22:C27) -> 6.841 | D28: =SUM(D22:D27) -> 4.637 | E28: =SUM(E22:E27) -> 16.101 | F28: =SUM(F22:F27) -> 5.365 | G28: =ROUNDDOWN(F28/$F$28*100,3) -> 100
A29: 조달청 기타경비 요율 | F29: 5
A30: 조달청 기타경비 요율에서 수도광열비 제외한 요율 | F30: =ROUNDDOWN(F29-F29*G22/100,3) -> 4.735 | G30: = 5.0 - 5.0 X 5.294%
A31: 1) 원가계산서 작성시 조달청 제비율 적용기준 및 관련 고시 등을 반드시 최신본으로 확인 2) 공사규모, 공사종류, 공사기간이 다른 조건일 경우, 예시 시트 참조하여 각 항목별 비율 적용 필요
A33: 2026년 유지보수 공사 기타경비 적용기준(10억이상 30억원 미만, 6개월이하)
A35: 조달청 제비율 적용기준 및 종합물가정보 ‘26. 4월호 참고
A36: 항 목 | B36: 공사규모 | C36: 공사종류 | D36: 공사기간 | E36: 규모 + 종류 + 기간 | F36: 항목별 경비 | G36: 항목별 비율(%)
B37: 10억 이상 30억원 미만(A) | C37: 산업설비(B) | D37: 6개월 이하(C) | E37: D = A+B+C | F37: E = D/3 | G37: 항목별 경비 / 합계 x 100(%)
A38: 수도광열비 | B38: 0.199 | C38: 0.422 | D38: 0.232 | E38: =B38+C38+D38 -> 0.853 | F38: =ROUNDDOWN(E38/3,3) -> 0.284 | G38: =ROUND(F38/$F$44*100,3) -> 5.294
A39: 복리후생비 | B39: 1.881 | C39: 4.137 | D39: 1.85 | E39: =B39+C39+D39 -> 7.868 | F39: =ROUNDDOWN(E39/3,3) -> 2.622 | G39: =ROUND(F39/$F$28*100,3) -> 48.872
A40: 소모품비 | B40: 1.409 | C40: 1.197 | D40: 1.495 | E40: =B40+C40+D40 -> 4.101 | F40: =ROUNDDOWN(E40/3,3) -> 1.367 | G40: =ROUND(F40/$F$28*100,3) -> 25.48
A41: 여비․교통․통신비 | B41: 0.549 | C41: 0.646 | D41: 0.543 | E41: =B41+C41+D41 -> 1.738 | F41: =ROUNDDOWN(E41/3,3) -> 0.579 | G41: =ROUND(F41/$F$28*100,3) -> 10.792
A42: 세금과공과 | B42: 0.493 | C42: 0.366 | D42: 0.422 | E42: =B42+C42+D42 -> 1.281 | F42: =ROUNDDOWN(E42/3,3) -> 0.427 | G42: =ROUND(F42/$F$28*100,3) -> 7.959
A43: 도서인쇄비 | B43: 0.092 | C43: 0.073 | D43: 0.095 | E43: =B43+C43+D43 -> 0.26 | F43: =ROUNDDOWN(E43/3,3) -> 0.086 | G43: =ROUND(F43/$F$28*100,3) -> 1.603
A44: 합 계 | B44: =SUM(B38:B43) -> 4.623 | C44: =SUM(C38:C43) -> 6.841 | D44: =SUM(D38:D43) -> 4.637 | E44: =SUM(E38:E43) -> 16.101 | F44: =SUM(F38:F43) -> 5.365 | G44: =ROUNDDOWN(F44/$F$28*100,3) -> 100
A45: 조달청 기타경비 요율 | F45: 5.2
...

Sheet 근로자재해보장보험
