Workbook

Sheet 원가계산서
A1: 공 사 원 가 계 산 서
A2: ='내역서'!A1 -> ■ 공사명 : 사범대학본관 1층 학생라운지 시설공사(건축) | H2: ="금" &NUMBERSTRING(D26,1)&"원정 ("&DOLLAR(D26)&")" -> #NAME?
A3: 비 목 | D3: 금 액 | E3: 구 성 비 | H3: 비 고
B4: 재 료 비 | C4: 직 접 재 료 비 | D4: ='내역서'!F13 -> 0 | K4: 직공비 | L4: =D6+D7+D10 -> 0
C5: 작업설, 부산물(△)
C6: [ 소 계 ] | D6: =SUM(D4:D5) -> 0
B7: 노 무 비 | C7: 직 접 노 무 비 | D7: ='내역서'!H13 -> 0
C8: 간 접 노 무 비
C9: [ 소 계 ] | D9: =SUM(D7:D8) -> 0
B10: 경 비 | C10: 기 계 경 비 | D10: ='내역서'!J13 -> 0
C11: 산 재 보 험 료 | D11: =ROUNDUP($D$9*F11,0) -> 0 | E11: 노무비의 | F11: 0.0356 | H11: 0
C12: 고 용 보 험 료 | D12: =ROUNDUP($D$9*F12,0) -> 0 | E12: 노무비의 | F12: 0.0101 | H12: 0
C13: 건 강 보 험 료 | D13: =ROUNDUP($D$9*F13,0) -> 0 | E13: 직접노무비의 | F13: 0.03545 | H13: 30일 이상 건설공사
C14: 국 민 연 금 | D14: =ROUNDUP($D$9*F14,0) -> 0 | E14: 직접노무비의 | F14: 0.045 | H14: 30일 이상 건설공사
C15: 노인장기요양보험료 | D15: =ROUNDUP(D13*F15,0) -> 0 | E15: 건강보험료의 | F15: 0.1295 | H15: 30일 이상 건설공사
C16: 퇴 직 공 제 부 금 비 | E16: 직접노무비의 | F16: 0.023 | H16: 50억원 이상 건설공사
C17: 산업안전보건관리비 | D17: =ROUNDUP((D6+D9)*F17,0) -> 0 | E17: (재료비+노무비)의 | F17: 0.0311 | H17: 2천만원 이상
C18: 석면분담금 | D18: =ROUNDUP($D$9*F18,0) -> 0 | E18: 노무비의 | F18: 6e-05
C19: 임금채권부담금 | D19: =ROUNDUP($D$9*F19,0) -> 0 | E19: 노무비의 | F19: 0.0009
C20: [ 소 계 ] | D20: =SUM(D10:D17) -> 0
A21: 계 | D21: =D20+D9+D6 -> 0
A22: 일 반 관 리 비 | D22: =ROUNDUP(D21*8%,0) -> 0 | E22: 계의 | F22: 0.08 | G22: 이내
A23: 이 윤 | D23: =ROUNDUP((D9+D20+D22)*15%,0) -> 0 | E23: (노무비+경비+일반관리비)의 | F23: 0.15 | G23: 이내
A24: 합 계 금 액 | D24: =SUM(D21:D23) -> 0 | L24: ='원가계산서'!D25 -> 0
A25: 단 수 정 리 | D25: =-MOD(D24,1000000) -> 0
A26: 총 공 사 비 | D26: =SUM(D24:D25) -> 0

Sheet 내역서
A1: ="■ 공사명 : "&O1&"" -> ■ 공사명 : 사범대학본관 1층 학생라운지 시설공사(건축) | N1: 공사명 | O1: 사범대학본관 1층 학생라운지 시설공사(건축)
A2: 품 명 | B2: 규 격 | C2: 단위 | D2: 수량 | E2: 재 료 비 | G2: 노 무 비 | I2: 경 비 | K2: 합 계 | M2: 비 고
E3: 단 가 | F3: 금 액 | G3: 단 가 | H3: 금 액 | I3: 단 가 | J3: 금 액 | K3: 단 가 | L3: 금 액
A5: ■ 직접공사비
A6: =A15 -> 1. 가설 및 철거공사 | C6: 식 | D6: 1 | F6: =F31 -> 0 | H6: =H31 -> 0 | J6: =J31 -> 0 | L6: =L31 -> 0
A7: =A33 -> 2. 천장공사 | C7: 식 | D7: 1 | F7: =F45 -> 0 | H7: =H45 -> 0 | J7: =J45 -> 0 | L7: =L45 -> 0
A8: =A47 -> 3. 벽체공사 | C8: 식 | D8: 1 | F8: =F71 -> 0 | H8: =H71 -> 0 | J8: =J71 -> 0 | L8: =L71 -> 0
A9: =A73 -> 4. 바닥공사 | C9: 식 | D9: 1 | F9: =F77 -> 0 | H9: =H77 -> 0 | J9: =J77 -> 0 | L9: =L77 -> 0
A13: 합 계 | F13: =SUM(F6:F12) -> 0 | H13: =SUM(H6:H12) -> 0 | J13: =SUM(J6:J12) -> 0 | L13: =SUM(L6:L12) -> 0
A15: 1. 가설 및 철거공사
A16: 먹매김 | C16: M2 | D16: 34.4668 | F16: =ROUNDUP(D16*E16,0) -> 0 | H16: =ROUNDUP(D16*G16,0) -> 0 | J16: =ROUNDUP(D16*I16,0) -> 0 | K16: =G16+E16+I16 -> 0 | L16: =F16+H16+J16 -> 0
A17: 자재 소운반 | C17: M2 | D17: 34.4668 | F17: =ROUNDUP(D17*E17,0) -> 0 | H17: =ROUNDUP(D17*G17,0) -> 0 | J17: =ROUNDUP(D17*I17,0) -> 0 | K17: =G17+E17+I17 -> 0 | L17: =F17+H17+J17 -> 0
A18: 자재 대운반 | C18: M2 | D18: 34.4668 | F18: =ROUNDUP(D18*E18,0) -> 0 | H18: =ROUNDUP(D18*G18,0) -> 0 | J18: =ROUNDUP(D18*I18,0) -> 0 | K18: =G18+E18+I18 -> 0 | L18: =F18+H18+J18 -> 0
A19: 내부 수평 비계 | C19: M2 | D19: 34.4668 | F19: =ROUNDUP(D19*E19,0) -> 0 | H19: =ROUNDUP(D19*G19,0) -> 0 | J19: =ROUNDUP(D19*I19,0) -> 0 | K19: =G19+E19+I19 -> 0 | L19: =F19+H19+J19 -> 0
A20: 현장 보양 | C20: M2 | D20: 34.4668 | F20: =ROUNDUP(D20*E20,0) -> 0 | H20: =ROUNDUP(D20*G20,0) -> 0 | J20: =ROUNDUP(D20*I20,0) -> 0 | K20: =G20+E20+I20 -> 0 | L20: =F20+H20+J20 -> 0
A21: 현장 정리 정돈 | C21: M2 | D21: 34.4668 | F21: =ROUNDUP(D21*E21,0) -> 0 | H21: =ROUNDUP(D21*G21,0) -> 0 | J21: =ROUNDUP(D21*I21,0) -> 0 | K21: =G21+E21+I21 -> 0 | L21: =F21+H21+J21 -> 0
A22: 가설칸막이 | B22: 석고보드1P, 조인트 전체 테이핑 | C22: 식 | D22: 1 | F22: =ROUNDUP(D22*E22,0) -> 0 | H22: =ROUNDUP(D22*G22,0) -> 0 | J22: =ROUNDUP(D22*I22,0) -> 0 | K22: =G22+E22+I22 -> 0 | L22: =F22+H22+J22 -> 0
A23: 가설칸막이 출입문
A24: 준공 청소 | C24: M2 | D24: 34.4668 | F24: =ROUNDUP(D24*E24,0) -> 0 | H24: =ROUNDUP(D24*G24,0) -> 0 | J24: =ROUNDUP(D24*I24,0) -> 0 | K24: =G24+E24+I24 -> 0 | L24: =F24+H24+J24 -> 0
A25: 천정 구조틀 철거 | B25: 구조틀 및 마감재 | C25: M2 | D25: 34.4668 | F25: =ROUNDUP(D25*E25,0) -> 0 | H25: =ROUNDUP(D25*G25,0) -> 0 | J25: =ROUNDUP(D25*I25,0) -> 0 | K25: =G25+E25+I25 -> 0 | L25: =F25+H25+J25 -> 0
A26: 커튼박스 철거 | C26: M | D26: 1.98 | F26: =ROUNDUP(D26*E26,0) -> 0 | H26: =ROUNDUP(D26*G26,0) -> 0 | J26: =ROUNDUP(D26*I26,0) -> 0 | K26: =G26+E26+I26 -> 0 | L26: =F26+H26+J26 -> 0
A27: 바닥재철거 | B27: P-TILE | C27: M2 | D27: 34.4668 | F27: =ROUNDUP(D27*E27,0) -> 0 | H27: =ROUNDUP(D27*G27,0) -> 0 | J27: =ROUNDUP(D27*I27,0) -> 0 | K27: =G27+E27+I27 -> 0 | L27: =F27+H27+J27 -> 0
A28: 폐기물 소운반 | C28: 인 | D28: 2 | F28: =ROUNDUP(D28*E28,0) -> 0 | H28: =ROUNDUP(D28*G28,0) -> 0 | J28: =ROUNDUP(D28*I28,0) -> 0 | K28: =G28+E28+I28 -> 0 | L28: =F28+H28+J28 -> 0
A29: 폐기물 반출 | B29: 혼합폐기물 / 2.5톤 | C29: 대 | D29: 1.5 | F29: =ROUNDUP(D29*E29,0) -> 0 | H29: =ROUNDUP(D29*G29,0) -> 0 | J29: =ROUNDUP(D29*I29,0) -> 0 | K29: =G29+E29+I29 -> 0 | L29: =F29+H29+J29 -> 0
K30: =G30+E30 -> 0 | L30: =INT(F30+H30) -> 0
A31: 소계 | F31: =SUM(F16:F30) -> 0 | H31: =SUM(H16:H30) -> 0 | J31: =SUM(J16:J30) -> 0 | L31: =SUM(L16:L30) -> 0
A33: 2. 천장공사
A34: 경량 천정 구조틀 | B34: M-BAR | C34: M2 | D34: 34.4668 | F34: =ROUNDUP(D34*E34,0) -> 0 | H34: =ROUNDUP(D34*G34,0) -> 0 | J34: =ROUNDUP(D34*I34,0) -> 0 | K34: =G34+E34+I34 -> 0 | L34: =F34+H34+J34 -> 0
A35: 석고보드 | B35: 일반 9.5T 2P | C35: M2 | D35: 34.4668 | F35: =ROUNDUP(D35*E35,0) -> 0 | H35: =ROUNDUP(D35*G35,0) -> 0 | J35: =ROUNDUP(D35*I35,0) -> 0 | K35: =G35+E35+I35 -> 0 | L35: =F35+H35+J35 -> 0
A36: 몰딩 | B36: AL | C36: M | D36: 24.58 | F36: =ROUNDUP(D36*E36,0) -> 0 | H36: =ROUNDUP(D36*G36,0) -> 0 | J36: =ROUNDUP(D36*I36,0) -> 0 | K36: =G36+E36+I36 -> 0 | L36: =F36+H36+J36 -> 0
A37: 도장 | C37: M2 | D37: 34.4668 | F37: =ROUNDUP(D37*E37,0) -> 0 | H37: =ROUNDUP(D37*G37,0) -> 0 | J37: =ROUNDUP(D37*I37,0) -> 0 | K37: =G37+E37+I37 -> 0 | L37: =F37+H37+J37 -> 0
A38: ST'L 간접등박스 | B38: 150*100*70 | C38: M | D38: 8 | F38: =ROUNDUP(D38*E38,0) -> 0 | H38: =ROUNDUP(D38*G38,0) -> 0 | J38: =ROUNDUP(D38*I38,0) -> 0 | K38: =G38+E38+I38 -> 0 | L38: =F38+H38+J38 -> 0
A39: ST'L 간접등박스 도장 | C39: M | D39: 8 | F39: =ROUNDUP(D39*E39,0) -> 0 | H39: =ROUNDUP(D39*G39,0) -> 0 | J39: =ROUNDUP(D39*I39,0) -> 0 | K39: =G39+E39+I39 -> 0 | L39: =F39+H39+J39 -> 0
A40: 커튼박스 | B40: 150*150*150 | C40: M | D40: 2 | F40: =ROUNDUP(D40*E40,0) -> 0 | H40: =ROUNDUP(D40*G40,0) -> 0 | J40: =ROUNDUP(D40*I40,0) -> 0 | K40: =G40+E40+I40 -> 0 | L40: =F40+H40+J40 -> 0
A41: 커튼박스 도장 | C41: M | D41: 2 | F41: =ROUNDUP(D41*E41,0) -> 0 | H41: =ROUNDUP(D41*G41,0) -> 0 | J41: =ROUNDUP(D41*I41,0) -> 0 | K41: =G41+E41+I41 -> 0 | L41: =F41+H41+J41 -> 0
A42: 우드블라인드 | B42: 백색 | C42: 식 | D42: 1 | F42: =ROUNDUP(D42*E42,0) -> 0 | H42: =ROUNDUP(D42*G42,0) -> 0 | J42: =ROUNDUP(D42*I42,0) -> 0 | K42: =G42+E42+I42 -> 0 | L42: =F42+H42+J42 -> 0
A43: 점검구 | B43: 450*450 AL | C43: EA | D43: 1 | F43: =ROUNDUP(D43*E43,0) -> 0 | H43: =ROUNDUP(D43*G43,0) -> 0 | J43: =ROUNDUP(D43*I43,0) -> 0 | K43: =G43+E43+I43 -> 0 | L43: =F43+H43+J43 -> 0
K44: =G44+E44 -> 0 | L44: =INT(F44+H44) -> 0
A45: 소계 | F45: =SUM(F34:F44) -> 0 | H45: =SUM(H34:H44) -> 0 | J45: =SUM(J34:J44) -> 0 | L45: =SUM(L34:L44) -> 0
A47: 3. 벽체공사
...
