Workbook

Sheet 겉표지
A1: =표지!A1 -> 內 譯 書 | Z1: 견적가로형식-1
C18: 件 名: | D18: =표지!C13 -> 샘플
C20: 提 出 處: | D20: =표지!C4 -> 貴下
C22: 提 出 日: | D22: =표지!C6 -> 2026년 5월 22일
D36: =표지!I3 -> 이지테크 주식회사
D37: =표지!I4
D38: =표지!I5 -> 서울시 강남구 포이동 1 9 1 - 3
D39: =표지!I6
D40: =표지!I7 -> 대표이사 조 한 구
D41: =표지!I8
D42: =표지!I9 -> 대표전화 (02) 5 2 9 - 2 1 5 6
D43: =표지!I10
D44: =표지!I11 -> 팩 스 (02) 5 2 9 - 2 1 9 0
D45: =표지!I12
D46: =표지!I13

Sheet 표지
A1: 內 譯 書
I3: 이지테크 주식회사
B4: 제 출 처: | C4: 貴下
I5: 서울시 강남구 포이동 1 9 1 - 3
B6: 제 출 일: | C6: 2026년 5월 22일
I7: 대표이사 조 한 구
B8: 아래와 같이 內譯書를 제출합니다.
I9: 대표전화 (02) 5 2 9 - 2 1 5 6
I11: 팩 스 (02) 5 2 9 - 2 1 9 0
B13: 공 사 명: | C13: 샘플
B15: 공사금액: | C15: ="一金"&NUMBERSTRING(F40,2)&"원整("&DOLLAR(F40,0)&")" -> 一金零원整(₩0)
B17: 내 용 | D17: 단위 | E17: 수량 | F17: 금 액 | H17: 비 고 | M17: 요율 | N17: 금액 | O17: 이윤 | P17: 끝자리맞추기
N18: =E18*F18 -> 0
N19: =E19*F19 -> 0
N20: =E20*F20 -> 0
N21: =E21*F21 -> 0
N22: =E22*F22 -> 0
N23: =E23*F23 -> 0
N24: =E24*F24 -> 0
N25: =E25*F25 -> 0
N26: =E26*F26 -> 0
N27: =E27*F27 -> 0
N28: =E28*F28 -> 0
N29: =E29*F29 -> 0
... N39: =E39*F39 -> 0
F40: =N40 -> 0 | N40: =SUM(N18:N39) -> 0
B41: 1. 부가가치세 별도
B42: 2. 한전불입금 별도

Sheet 원가
A1: 원 가 계 산 서
A3: 공사명: | C3: 2026년 고흥군김협회 김 배양장시설 전기공사 | E3: 공사기간:
A4: 비 목 | C4: 구 분 | D4: 금 액 | E4: 구 성 비
B5: 재 료 비 | C5: 직 접 재 료 비 | D5: =옵션!$B$2 -> 0
C6: 간 접 재 료 비
C7: ( 소 계 ) | D7: =SUM(D5:D6) -> 0
A8: 순 | B8: 노 무 비 | C8: 직 접 노 무 비 | D8: =옵션!$C$2 -> 0
C9: 간 접 노 무 비 | E9: (직접 노무비) * 17.5 %
C10: ( 소 계 )
C11: 산 재 보 험 료 | E11: (노무비) * 3.56 %
C12: 고 용 보 험 료 | E12: (노무비) * 1.01 %
A13: 공 | C13: 안 전 관 리 비 | E13: (재료+직노) * 3.11 %
B14: 경 | C14: 기 타 경 비 | E14: (재료+노무) * 5 %
C15: 건 강 보 험 료 | E15: (직접 노무비) * 3.595 %
C16: 연 금 보 험 료 | E16: (직접 노무비) * 4.75 %
C17: 노인장기요양보험 | E17: (건강 보험료) * 13.14 %
A18: 사 | C18: 석 면 분 담 금 | E18: (노무비) * 0.006 %
C19: 임금채권부담금 | E19: (노무비) * 0.09 %
B22: 비
A23: 비
C25: ( 소 계 )
B26: ( 순 공 사 비 계 )
A27: 일 반 관 리 비 | E27: (재료+노무+경비) * 8 %
A28: 이 윤 | E28: (노무+경비+일반관리비) * 15 %
A29: ( 총 원 가 )
A30: 부 가 가 치 세
A35: ( 총 계 ) | D35: =#REF! -> #REF!

Sheet 총괄표
A1: 총줄수-> | B1: 29 | C1: 2.0 | D1: [ 2026 고흥군김협회 김 배양장시설 전기 ] | AA1: 연속견적가로형식
A2: 번호 | B2: 공종코드 | C2: … | D2: 공 종 명 | E2: 규격 | F2: 단위 | G2: 수량 | H2: 재료비 | J2: 노무비 | M2: 경비 | P2: 계 | Q2: 비고
H3: 단가 | I3: 금액 | J3: 수량 | K3: 단가 | L3: 금액 | M3: 단가 | N3: 금액 | O3: 단가
B4: 공종줄 | D4: [고흥군김협회 김 배양장시설 전기]
B5: 001 | D5: 1. 전력간선 및 동력설비 | F5: 식 | G5: 1 | H5: =내역서!I29 -> 0 | I5: =G5*H5 -> 0 | K5: =내역서!L29 -> 0 | L5: =G5*K5 -> 0 | M5: =내역서!N29 -> 0 | N5: =G5*M5 -> 0 | P5: =SUM(I5,L5,N5) -> 0
B6: 002 | D6: 2. 전등설비 | F6: 식 | G6: 1 | H6: =내역서!I55 -> 0 | I6: =G6*H6 -> 0 | K6: =내역서!L55 -> 0 | L6: =G6*K6 -> 0 | M6: =내역서!N55 -> 0 | N6: =G6*M6 -> 0 | P6: =SUM(I6,L6,N6) -> 0
I7: =G7*H7 -> 0 | L7: =G7*K7 -> 0 | N7: =G7*M7 -> 0 | P7: =SUM(I7,L7,N7) -> 0
I8: =G8*H8 -> 0 | L8: =G8*K8 -> 0 | N8: =G8*M8 -> 0 | P8: =SUM(I8,L8,N8) -> 0
I9: =G9*H9 -> 0 | L9: =G9*K9 -> 0 | N9: =G9*M9 -> 0 | P9: =SUM(I9,L9,N9) -> 0
I10: =G10*H10 -> 0 | L10: =G10*K10 -> 0 | N10: =G10*M10 -> 0 | P10: =SUM(I10,L10,N10) -> 0
I11: =G11*H11 -> 0 | L11: =G11*K11 -> 0 | N11: =G11*M11 -> 0 | P11: =SUM(I11,L11,N11) -> 0
I12: =G12*H12 -> 0 | L12: =G12*K12 -> 0 | N12: =G12*M12 -> 0 | P12: =SUM(I12,L12,N12) -> 0
I13: =G13*H13 -> 0 | L13: =G13*K13 -> 0 | N13: =G13*M13 -> 0 | P13: =SUM(I13,L13,N13) -> 0
I14: =G14*H14 -> 0 | L14: =G14*K14 -> 0 | N14: =G14*M14 -> 0 | P14: =SUM(I14,L14,N14) -> 0
I15: =G15*H15 -> 0 | L15: =G15*K15 -> 0 | N15: =G15*M15 -> 0 | P15: =SUM(I15,L15,N15) -> 0
I16: =G16*H16 -> 0 | L16: =G16*K16 -> 0 | N16: =G16*M16 -> 0 | P16: =SUM(I16,L16,N16) -> 0
I17: =G17*H17 -> 0 | L17: =G17*K17 -> 0 | N17: =G17*M17 -> 0 | P17: =SUM(I17,L17,N17) -> 0
I18: =G18*H18 -> 0 | L18: =G18*K18 -> 0 | N18: =G18*M18 -> 0 | P18: =SUM(I18,L18,N18) -> 0
... I28: =G28*H28 -> 0 | L28: =G28*K28 -> 0 | N28: =G28*M28 -> 0 | P28: =SUM(I28,L28,N28) -> 0
C29: Total | D29: ( 합 계 ) | I29: =TRUNC(SUM(I4:I28)) -> 0 | L29: =TRUNC(SUM(L4:L28)) -> 0 | N29: =TRUNC(SUM(N4:N28)) -> 0 | P29: =TRUNC(SUM(P4:P28)) -> 0

Sheet 내역서
A1: 총줄수-> | B1: 55 | C1: 2.0 | D1: [ 2026 고흥군김협회 김 배양장시설 전기 ] | W1: 노임 계산 정보 | AA1: 부속재 및 손료
A2: 번호 | B2: 공종코드 | C2: 코드 | D2: 명 칭 | E2: 규 격 | F2: 단위 | G2: 수량 | H2: 재료비 | J2: 노무비 | M2: 경비 | P2: 계 | Q2: 비고 | W2: 노임계 | X2: 전체(%) | Y2: 공종별(%) | Z2: 노임 소수 | AA2: CD배관재 | AB2: 일반배관재 | AC2: 소모재 | AD2: 자재계 | AE2: 노임계
H3: 단가 | I3: 금액 | J3: 수량 | K3: 단가 | L3: 금액 | M3: 단가 | N3: 금액 | O3: 단가 | AD3: =IF(옵션!$C$11 =0, "1", 옵션!$C$11) -> 1000 | AE3: =IF(옵션!$C$12 =0, "1", 옵션!$C$12) -> 1
B4: 공종줄 | D4: 1.전력간선 및 동력설비
A5: 59753178002 | B5: 001 | C5: 3913170610045632 | D5: 파상형 폴리에틸렌 전선관 | E5: 40㎜ | F5: m | P5: =SUM(I5,L5,N5) -> 0 | AB5: =J5*H5 -> 0 | AC5: =J5*H5 -> 0
A6: A0500000000 | B6: 001 | C6: RENT000000000002 | D6: [ 배관 부속재 ] | E6: 전선관의 15 % | F6: 식 | P6: =SUM(I6,L6,N6) -> 0 | AB6: =TRUNC(SUM(AB4:AB5)) -> 0
A7: MM496797032 | B7: 001 | C7: 3913170620174473 | D7: 1종금속제가요전선관 | E7: 36 mm 고장력-방수 | F7: m | P7: =SUM(I7,L7,N7) -> 0 | AC7: =J7*H7 -> 0
A8: MM618792345 | B8: 001 | C8: 3912120220176449 | D8: 1종금속제가요전선관 | E8: KS방수 콘넥타 36mm | F8: 개 | P8: =SUM(I8,L8,N8) -> 0
A9: 59753857001 | B9: 001 | C9: 3912130310035794 | D9: 풀박스 | E9: 100×100×50 | F9: 개 | P9: =SUM(I9,L9,N9) -> 0
A10: MM300040379 | B10: 001 | C10: 3913171221650789 | D10: 전선덕트 | E10: 알루미늄 150x100mm | F10: m | P10: =SUM(I10,L10,N10) -> 0
A11: E1450927203 | B11: 001 | C11: 2612152420683697 | D11: 접지용비닐절연전선(F-GV) | E11: 6㎟ | F11: m | P11: =SUM(I11,L11,N11) -> 0 | AC11: =J11*H11 -> 0
A12: E1450927208 | B12: 001 | C12: 2612152420683701 | D12: 접지용비닐절연전선(F-GV) | E12: 35㎟ | F12: m | P12: =SUM(I12,L12,N12) -> 0 | AC12: =J12*H12 -> 0
A13: E1450287540 | B13: 001 | C13: 2612162920683923 | D13: 폴리에틸렌 난연케이블 | E13: 0.6/1kv F-CV 3C×6㎟ | F13: m | P13: =SUM(I13,L13,N13) -> 0 | AC13: =J13*H13 -> 0
A14: E1450287563 | B14: 001 | C14: 2612162920683945 | D14: 폴리에틸렌 난연케이블 | E14: 0.6/1kv F-CV 4C×6㎟ | F14: m | P14: =SUM(I14,L14,N14) -> 0 | AC14: =J14*H14 -> 0
A15: E1450287571 | B15: 001 | C15: 2612162920683951 | D15: 폴리에틸렌 난연케이블 | E15: 0.6/1kv F-CV 4C×70㎟ | F15: m | P15: =SUM(I15,L15,N15) -> 0 | AC15: =J15*H15 -> 0
A16: E1450358087 | B16: 001 | C16: 2612160320684239 | D16: 난연제어케이블 | E16: F-CVV 5Cx2.5㎟ | F16: m | P16: =SUM(I16,L16,N16) -> 0 | AC16: =J16*H16 -> 0
A17: MM300041263 | B17: 001 | C17: 2612152220183493 | D17: 가공지선 | E17: 38 | F17: m | P17: =SUM(I17,L17,N17) -> 0
A18: 59750427104 | B18: 001 | C18: 3912161310034846 | D18: 접지봉 | E18: 16Φ×1800 mm | F18: 개 | P18: =SUM(I18,L18,N18) -> 0
A19: MM300015803 | B19: 001 | C19: 3912161620167061 | D19: 배선용차단기(ABS-204) | E19: 4P 250AF 175AT | F19: EA | P19: =SUM(I19,L19,N19) -> 0
A20: 56959000001 | B20: 001 | C20: EAZ800010000 | D20: 분전반 | E20: LP-M | F20: 면 | P20: =SUM(I20,L20,N20) -> 0
A21: A0100000000 | B21: 001 | C21: RENT000000000003 | D21: [ 소모 잡자재 ] | E21: 전선, 전선관의 2 % | F21: 식 | P21: =SUM(I21,L21,N21) -> 0 | Z21: 노임계 | AC21: =TRUNC(TRUNC(SUM(AC4:AC20))*옵션!$B$33/100) -> 0 | AD21: =TRUNC(SUM(I4:I20))+TRUNC(SUM(N4:N20)) -> 0
A22: 56900017016 | B22: 001 | C22: L001010101000075 | D22: 노 무 비 | E22: 내선전공 | F22: 인 | P22: =SUM(I22,L22,N22) -> 0 | AE22: =L22 -> 0
A23: 56900017076 | B23: 001 | C23: L001010101000078 | D23: 노 무 비 | E23: 저압케이블전공 | F23: 인 | P23: =SUM(I23,L23,N23) -> 0 | AE23: =L23 -> 0
A24: 56900017031 | B24: 001 | C24: L001010101000081 | D24: 노 무 비 | E24: 배전전공 | F24: 인 | P24: =SUM(I24,L24,N24) -> 0 | AE24: =L24 -> 0
A25: 56900017041 | B25: 001 | C25: L001010101000002 | D25: 노 무 비 | E25: 보통인부 | F25: 인 | P25: =SUM(I25,L25,N25) -> 0 | AE25: =L25 -> 0
A26: A0300000000 | B26: 001 | C26: RENT000000000006 | D26: [ 공 구 손 료 ] | H26: =IF(TRUNC((AD27+AC27)/$AE$3)*$AE$3-AD27 <0, AC27, TRUNC((AD27+AC27)/$AE$3)*$AE$3-AD27) -> 0 | I26: =H26 -> 0 | J26: 1 | L26: =TRUNC(G26*K26) -> 0 | N26: =TRUNC(G26*M26) -> 0 | P26: =SUM(I26,L26,N26) -> 0
I27: =TRUNC(G27*H27) -> 0 | L27: =TRUNC(G27*K27) -> 0 | N27: =TRUNC(G27*M27) -> 0 | P27: =SUM(I27,L27,N27) -> 0 | AC27: =TRUNC(AE27*옵션!$B$36/100) -> 0 | AD27: =TRUNC(SUM(L4:L25)) -> 0 | AE27: =TRUNC(SUM(AE4:AE26)) -> 0
I28: =TRUNC(G28*H28) -> 0 | L28: =TRUNC(G28*K28) -> 0 | N28: =TRUNC(G28*M28) -> 0 | P28: =SUM(I28,L28,N28) -> 0
B29: 합계줄 | D29: ( 합 계 ) | I29: =TRUNC(SUM(I4:I28)) -> 0 | L29: =TRUNC(SUM(L4:L28)) -> 0 | N29: =TRUNC(SUM(N4:N28)) -> 0 | P29: =TRUNC(SUM(P4:P28)) -> 0
B30: 공종줄 | D30: 2.전등설비
A31: MM496797029 | B31: 002 | C31: 3913170620174470 | D31: 1종금속제가요전선관 | E31: 16 mm 고장력-방수 | F31: m | P31: =SUM(I31,L31,N31) -> 0 | AC31: =J31*H31 -> 0
A32: MM618792342 | B32: 002 | C32: 3912120220176446 | D32: 1종금속제가요전선관 | E32: KS방수 콘넥타 16mm | F32: 개 | P32: =SUM(I32,L32,N32) -> 0
A33: 59753767041 | B33: 002 | C33: 3912130810035753 | D33: 아우트렛박스 | E33: 중형4각 54㎜ | F33: 개 | P33: =SUM(I33,L33,N33) -> 0
A34: 59753767231 | B34: 002 | C34: 3912130820174713 | D34: 아우트렛박스 커버 | E34: 커버, 4각, 평형 | F34: 개 | P34: =SUM(I34,L34,N34) -> 0
A35: MM481669624 | B35: 002 | C35: 2612162922076727 | D35: 450/750V 내열비닐절연전선 | E35: HFIX 1.78mm(2.5㎟) | F35: m | P35: =SUM(I35,L35,N35) -> 0 | Z35: 노임계 | AC35: =J35*H35 -> 0
A36: MM047775391 | B36: 002 | C36: InMastDBNonCode | D36: 조명기구 | E36: LED 투광등 200W | F36: EA | P36: =SUM(I36,L36,N36) -> 0
A37: A0100000000 | B37: 002 | C37: RENT000000000003 | D37: [ 소모 잡자재 ] | E37: 전선, 전선관의 2 % | F37: 식 | P37: =SUM(I37,L37,N37) -> 0 | AC37: =TRUNC(TRUNC(SUM(AC30:AC36))*옵션!$B$33/100) -> 0 | AD37: =TRUNC(SUM(I30:I36))+TRUNC(SUM(N30:N36)) -> 0
A38: 56900017016 | B38: 002 | C38: L001010101000075 | D38: 노 무 비 | E38: 내선전공 | F38: 인 | P38: =SUM(I38,L38,N38) -> 0 | AE38: =L38 -> 0
A39: A0300000000 | B39: 002 | C39: RENT000000000006 | D39: [ 공 구 손 료 ] | P39: =SUM(I39,L39,N39) -> 0
P40: =SUM(I40,L40,N40) -> 0 | AC40: =TRUNC(AE40*옵션!$B$36/100) -> 0 | AD40: =TRUNC(SUM(L30:L38)) -> 0 | AE40: =TRUNC(SUM(AE30:AE39)) -> 0
P41: =SUM(I41,L41,N41) -> 0
I42: =TRUNC(G42*H42) -> 0 | L42: =TRUNC(G42*K42) -> 0 | N42: =TRUNC(G42*M42) -> 0 | P42: =SUM(I42,L42,N42) -> 0
I43: =TRUNC(G43*H43) -> 0 | L43: =TRUNC(G43*K43) -> 0 | N43: =TRUNC(G43*M43) -> 0 | P43: =SUM(I43,L43,N43) -> 0
I44: =TRUNC(G44*H44) -> 0 | L44: =TRUNC(G44*K44) -> 0 | N44: =TRUNC(G44*M44) -> 0 | P44: =SUM(I44,L44,N44) -> 0
I45: =TRUNC(G45*H45) -> 0 | L45: =TRUNC(G45*K45) -> 0 | N45: =TRUNC(G45*M45) -> 0 | P45: =SUM(I45,L45,N45) -> 0
I46: =TRUNC(G46*H46) -> 0 | L46: =TRUNC(G46*K46) -> 0 | N46: =TRUNC(G46*M46) -> 0 | P46: =SUM(I46,L46,N46) -> 0
I47: =TRUNC(G47*H47) -> 0 | L47: =TRUNC(G47*K47) -> 0 | N47: =TRUNC(G47*M47) -> 0 | P47: =SUM(I47,L47,N47) -> 0
I48: =TRUNC(G48*H48) -> 0 | L48: =TRUNC(G48*K48) -> 0 | N48: =TRUNC(G48*M48) -> 0 | P48: =SUM(I48,L48,N48) -> 0
I49: =TRUNC(G49*H49) -> 0 | L49: =TRUNC(G49*K49) -> 0 | N49: =TRUNC(G49*M49) -> 0 | P49: =SUM(I49,L49,N49) -> 0
I50: =TRUNC(G50*H50) -> 0 | L50: =TRUNC(G50*K50) -> 0 | N50: =TRUNC(G50*M50) -> 0 | P50: =SUM(I50,L50,N50) -> 0
I51: =TRUNC(G51*H51) -> 0 | L51: =TRUNC(G51*K51) -> 0 | N51: =TRUNC(G51*M51) -> 0 | P51: =SUM(I51,L51,N51) -> 0
I52: =TRUNC(G52*H52) -> 0 | L52: =TRUNC(G52*K52) -> 0 | N52: =TRUNC(G52*M52) -> 0 | P52: =SUM(I52,L52,N52) -> 0
I53: =TRUNC(G53*H53) -> 0 | L53: =TRUNC(G53*K53) -> 0 | N53: =TRUNC(G53*M53) -> 0 | P53: =SUM(I53,L53,N53) -> 0
I54: =TRUNC(G54*H54) -> 0 | L54: =TRUNC(G54*K54) -> 0 | N54: =TRUNC(G54*M54) -> 0 | P54: =SUM(I54,L54,N54) -> 0
B55: 합계줄 | D55: ( 합 계 ) | I55: =TRUNC(SUM(I30:I54)) -> 0 | L55: =TRUNC(SUM(L30:L54)) -> 0 | N55: =TRUNC(SUM(N30:N54)) -> 0 | P55: =TRUNC(SUM(P30:P54)) -> 0

Sheet 합산자재
A1: 총줄수-> | B1: 55 | C1: [ 고흥군수협 풍화지점 주유소 사무실 개축 전기 ] - 합산자재목록
A2: 번호 | B2: … | C2: 코드 | D2: 명 칭 | E2: 규 격 | F2: 단위 | G2: 수량 | H2: 재료비 | I2: 노무비 | J2: 경비 | K2: 지급비 | L2: 계 | M2: 비고
C4: 3913170610045632 | D4: 파상형 폴리에틸렌 전선관 | E4: 40㎜ | F4: m | G4: 340.9 | H4: =TRUNC(#REF!*옵션!$D$11) -> #REF! | L4: =SUM(H4,I4,J4) -> #REF!
C5: 3913170620174470 | D5: 1종금속제가요전선관 | E5: 16 mm 고장력-방수 | F5: m | G5: 254.1 | H5: =TRUNC(#REF!*옵션!$D$11) -> #REF! | L5: =SUM(H5,I5,J5) -> #REF!
C6: 3913170620174473 | D6: 1종금속제가요전선관 | E6: 36 mm 고장력-방수 | F6: m | G6: 115.5 | H6: =TRUNC(#REF!*옵션!$D$11) -> #REF! | L6: =SUM(H6,I6,J6) -> #REF!
C7: 3912120220176446 | D7: 1종금속제가요전선관 | E7: KS방수 콘넥타 16mm | F7: 개 | G7: 60 | H7: =TRUNC(#REF!*옵션!$D$11) -> #REF! | L7: =SUM(H7,I7,J7) -> #REF!
C8: 3912120220176449 | D8: 1종금속제가요전선관 | E8: KS방수 콘넥타 36mm | F8: 개 | G8: 60 | H8: =TRUNC(#REF!*옵션!$D$11) -> #REF! | L8: =SUM(H8,I8,J8) -> #REF!
C9: 3912130810035753 | D9: 아우트렛박스 | E9: 중형4각 54㎜ | F9: 개 | G9: 30 | H9: =TRUNC(#REF!*옵션!$D$11) -> #REF! | L9: =SUM(H9,I9,J9) -> #REF!
C10: 3912130820174713 | D10: 아우트렛박스 커버 | E10: 커버, 4각, 평형 | F10: 개 | G10: 30 | H10: =TRUNC(#REF!*옵션!$D$11) -> #REF! | L10: =SUM(H10,I10,J10) -> #REF!
C11: 3912130310035794 | D11: 풀박스 | E11: 100×100×50 | F11: 개 | G11: 45 | H11: =TRUNC(#REF!*옵션!$D$11) -> #REF! | L11: =SUM(H11,I11,J11) -> #REF!
C12: 3913171221650789 | D12: 전선덕트 | E12: 알루미늄 150x100mm | F12: m | G12: 176.4 | H12: =TRUNC(#REF!*옵션!$D$11) -> #REF! | L12: =SUM(H12,I12,J12) -> #REF!
C13: 2612162922076727 | D13: 450/750V 내열비닐절연전선 | E13: HFIX 1.78mm(2.5㎟) | F13: m | G13: 2286.9 | H13: =TRUNC(#REF!*옵션!$D$11) -> #REF! | L13: =SUM(H13,I13,J13) -> #REF!
C14: 2612152420683697 | D14: 접지용비닐절연전선(F-GV) | E14: 6㎟ | F14: m | G14: 1248.5 | H14: =TRUNC(#REF!*옵션!$D$11) -> #REF! | L14: =SUM(H14,I14,J14) -> #REF!
C15: 2612152420683701 | D15: 접지용비닐절연전선(F-GV) | E15: 35㎟ | F15: m | G15: 14.3 | H15: =TRUNC(#REF!*옵션!$D$11) -> #REF! | L15: =SUM(H15,I15,J15) -> #REF!
... C37: 391115ZZ701Z0001 | D37: 기타잡자재 | E37: LP-M | F37: 식 | G37: 1 | H37: =TRUNC(#REF!*옵션!$D$11) -> #REF! | L37: =SUM(H37,I37,J37) -> #REF!
C38: L001010101000075 | D38: 노 무 비 | E38: 내선전공 | F38: 인 | G38: 134.175 | I38: =TRUNC(#REF!) -> #REF! | L38: =SUM(H38,I38,J38) -> #REF!
C39: L001010101000078 | D39: 노 무 비 | E39: 저압케이블전공 | F39: 인 | G39: 55 | I39: =TRUNC(#REF!) -> #REF! | L39: =SUM(H39,I39,J39) -> #REF!
C40: L001010101000084 | D40: 노 무 비 | E40: 계장공 | F40: 인 | G40: 2.2 | I40: =TRUNC(#REF!) -> #REF! | L40: =SUM(H40,I40,J40) -> #REF!
C41: L001010101000081 | D41: 노 무 비 | E41: 배전전공 | F41: 인 | G41: 2 | I41: =TRUNC(#REF!) -> #REF! | L41: =SUM(H41,I41,J41) -> #REF!
C42: L001010501000116 | D42: 노 무 비 | E42: 변전전공 | F42: 인 | G42: 2.42 | I42: =TRUNC(#REF!) -> #REF! | L42: =SUM(H42,I42,J42) -> #REF!
C43: L001010101000002 | D43: 노 무 비 | E43: 보통인부 | F43: 인 | G43: 7.852 | I43: =TRUNC(#REF!) -> #REF! | L43: =SUM(H43,I43,J43) -> #REF!
L44: =SUM(H44,I44,J44) -> 0
L45: =SUM(H45,I45,J45) -> 0
L46: =SUM(H46,I46,J46) -> 0
L47: =SUM(H47,I47,J47) -> 0
L48: =SUM(H48,I48,J48) -> 0
L49: =SUM(H49,I49,J49) -> 0
L50: =SUM(H50,I50,J50) -> 0
L51: =SUM(H51,I51,J51) -> 0
L52: =SUM(H52,I52,J52) -> 0
L53: =SUM(H53,I53,J53) -> 0
L54: =SUM(H54,I54,J54) -> 0
L55: =SUM(H55,I55,J55) -> 0

Sheet 옵션
B1: 재료비 | C1: 노무비 | D1: 경비 | F1: 계
A2: 총 급 액 | B2: =총괄표!I29 -> 0 | C2: =총괄표!L29 -> 0 | D2: =총괄표!N29 -> 0 | F2: =SUM(B2,C2,D2) -> 0
A3: 관급 자재비 | F3: =SUM(B3,C3,D3) -> 0 | H3: 금액조정이 안되나요?
H6: 이지테크에서 변환할 때 2번 옵션을 지정하여 다시 해보세요
H9: 시트를 삭제할 때 에러가 뜨면 1번 옵션으로 하면 됩니다.
B10: 적용율(%) | C10: 끝자리 | D10: 적용율(%)/100 | E10: 일위대가소수
A11: 전체자재 적용율(%)(공종/일위대가) | B11: 100 | C11: 1000 | D11: =$B$11/100 -> 1
A12: 전체노임 적용율(%)(공종) | B12: 100 | C12: 1 | D12: =$B$12/100 -> 1 | E12: 2 | H12: 2번 옵션으로 변환했을 때에는 결과값이 다를 수 있습니다.
A13: 전체노임 적용율(%)(일위대가) | B13: 100 | C13: 1 | D13: =$B$13/100 -> 1 | E13: 5
A20: *(그룹별 자재 단가 추가 할증)* | B20: 적용율(%) | D20: 적용율(%)/100
A21: Cable(CAB) 할증(%) | B21: =B11 -> 100 | D21: =$B$21/100 -> 1
A22: Wire (WIR) 할증(%) | B22: =B11 -> 100 | D22: =$B$22/100 -> 1
A23: Pipe (PIP) 할증(%) | B23: =B11 -> 100 | D23: =$B$23/100 -> 1
A24: 제 4그룹 할증(%) | B24: =B11 -> 100 | D24: =$B$24/100 -> 1
A25: 제 5그룹 할증(%) | B25: =B11 -> 100 | D25: =$B$25/100 -> 1
A30: *(그룹별 노임 추가 할증)* | B30: 적용율(%) | C30: 자동부속재(전기) | D30: 자동부속재(통신)
A31: 배관부속재(%) | B31: 15 | C31: 15 | D31: 20
A32: CD관부속재(%) | B32: 40 | C32: 40 | D32: 40
A33: 소모잡자재(%) | B33: 2 | H33: 본 파일은 이지테크에서 2번 옵션으로 만들었습니다.
A34: 방폭할증(%)
A35: 고소할증(%) | B35: 2
A36: 공구손료(%) | B36: 3
A40: *(공종별 노임 적용율(%))* | B40: 적용율(%) | C40: 소수자릿수
A41: 1. 전력간선 및 동력설비 | B41: 100 | C41: 0
A42: 2. 전등설비 | B42: 100 | C42: 0

Sheet 사용설명
B1: ** 반드시 다음 사항을 숙지하신 다음 수정 작업을 하십시오 **
A2: 1. | B2: 속성이 숫자인 셀을 삭제할 때는 반드시 'Delete' 키를 사용하십시오.
B3: **주의:'Space Bar' 로 지웠을 때는 '#Value' Error가 발생됩니다.
A4: 2. | B4: 일위대가(을지)는 소수점 처리 때문에 셀 속성을 '일반'으로 하였습니다.(소수점 능동 처리)
B5: **참고: (수량*단가)의 결과는 소수 한자리, 금액을 취합한 소계는 1원 이하 절사입니다.
A6: 3. | B6: 내역서에서는 수량에만 셀 속성을 '일반'으로 하였습니다.(소수점 능동 처리)
A7: 4. | B7: 단가수정은 '단가조사서'시트 에서 하십시오.
B8: a)표지와 원가 -> 총괄표 -> 내역서 ->일위대가와 합산자재 ->단가조사서 를 참조하고
B9: 있으므로 단가조사서의 결정단가를 수정하면 전체 금액이 갱신됩니다.
B10: **주의: 금액란은 공식이 걸려있으므로 조심하여 수정하십시오.
B11: b)전체 자재를 일정 요율(%)로 변경할 때는 옵션시트의 자재 적용율을 조정하면 됩니다.
A12: 5. | B12: 노임 단가는 '단가조사서'시트에서 품셈은 '노임근거'시트에서 수정하십시오.
B13: a)전체 노임을 일정 요율(%)로 변경할 때는 '옵션시트'의 전체노임 적용율을 조정하면 됩니다.
B14: b)공종별로 노임을 수정하려면 '옵션시트'의 공종별 노임 적용율을 조정하면 됩니다.
B15: c)케이블 및 전선 자재 단가를 추가로 조정하려면 그룹별 자재 적용율을 조정하면 됩니다.
B16: 그룹은 견적 프로그램에서 엑셀파일이 만들어질때 지정됩니다.
A17: 6. | B17: 겉표지의 모든 정보는 표지를 참조하였습니다.(정보 수정은 표지에서만 하시면 됩니다.)
A18: 7. | B18: 필수 :본 프로그램의 총 금액을 확인한 후 사용하십시오.
A19: 8. | B19: 본 파일의 내용을 인쇄할 경우, 미리보기를 통하여 페이지 절선을 확인 후 인쇄하십시오.
A20: 9. | B20: 관급자재 Sheet가 해당이 없을 경우엔 삭제하십시오.
A21: 10. | B21: 페이지 절선이 맞지 않으면 다음을 참고하십시오.
B33: a. 해당시트의 셀 전체를 선택합니다.
B34: b. 행높이를 적절히 가감하면 페이지 절선을 맞출 수 있습니다.
