Workbook
Name _?쾴?: #REF!
Name _?쾴?_?: #REF!
Name _?쾴?___P: #REF!
Name _?쾴?_T: #REF!
Name __?쾴?: #REF!
Name __?쾴?_?: #REF!
Name __?쾴?___P: #REF!
Name __?쾴?_T: #REF!
Name ___?쾴?: #REF!
Name ___?쾴?_?: #REF!
Name ___?쾴?___P: #REF!
Name ___?쾴?_T: #REF!
Name __a2: [2]청산공사!#REF!
Name _1: #REF!
Name _1_3_0Crite: #REF!
Name _10_0_0新規工事: '[3]P.M 별'!#REF!
Name _10A_61: #N/A
Name _10A_62: #N/A
Name _10A_63: #N/A
Name _10A_64: #N/A
Name _10A_65: #N/A
Name _10A_66: #N/A
Name _10A_67: #N/A
Name _10A_68: #N/A
Name _10A_69: #N/A
Name _10A_70: #N/A
Name _10A_71: #N/A
Name _10A_72: #N/A
Name _10A_73: #N/A
Name _10A_74: #N/A
Name _10A_75: #N/A
Name _10A_76: #N/A
Name _10A_77: #N/A
Name _10A_78: #N/A
Name _10A_79: #N/A
Name _10A_80: #N/A
Name _10A_81: #N/A
Name _10A_82: #N/A
Name _10A_83: #N/A
Name _10A_84: #N/A
Name _10A_85: #N/A
Name _10A_86: #N/A
Name _10A_87: #N/A
Name _10A_88: #N/A
Name _10A_89: #N/A
Name _10A_90: #N/A
Name _10B_61: #N/A
Name _10B_62: #N/A
Name _10B_63: #N/A
Name _10B_64: #N/A
Name _10B_65: #N/A
Name _10B_66: #N/A
Name _10B_67: #N/A
Name _10B_68: #N/A
Name _10B_69: #N/A
Name _10B_70: #N/A
Name _10B_71: #N/A
Name _10B_72: #N/A
Name _10B_73: #N/A
Name _10B_74: #N/A

Sheet 내역서(폐합성수지)
B1: 내역서
B3: 공종 | C3: 품 명 | D3: 규 격 | E3: 수 량 | F3: 단위 | G3: 합 계 | I3: 노 무 비 | K3: 재 료 비 | M3: 경 비 | O3: 비 고
G4: 단 가 | H4: 금 액 | I4: 단 가 | J4: 금 액 | K4: 단 가 | L4: 금 액 | M4: 단 가 | N4: 금 액
B6: ● | C6: 폐기물처리비
B7: 다. | C7: 폐복합매트
C8: 폐기물처리비(상차포함) | D8: 폐합성수지 | E8: 204 | F8: 톤
C9: 폐기물운반비(상차포함) | E9: =E8 -> 204 | F9: 톤
C10: 단수정리 | F10: 식
C11: 부가가치세 | D11: 합계의 | E11: 10 | F11: %

Sheet 일위대가총괄표 (2)
B1: 일위대가총괄표
B3: 호 표 | C3: 품 명 | D3: 규 격 | E3: 단위 | F3: 합 계 | G3: 노무비 | H3: 재료비 | I3: 경 비 | J3: 비 고 | Z3: 당초합계 | AA3: 당초노무비 | AB3: 당초재료비 | AC3: 당초경비
B4: 제1호표 | C4: 제체사석(해상수중) | D4: 0.001~0.03㎥급 | E4: ㎥ | F4: =G4+H4+I4 -> #REF! | G4: ='일위대가 (2)'!J5 -> #REF! | H4: ='일위대가 (2)'!L5 -> #REF! | I4: ='일위대가 (2)'!N5 -> #REF! | Z4: 26102 | AA4: 7463 | AB4: 16492 | AC4: 2147
B5: 제2호표 | C5: 제체사석(해상수상) | D5: 0.001~0.03㎥급 | E5: ㎥ | F5: =G5+H5+I5 -> #REF! | G5: ='일위대가 (2)'!J10 -> #REF! | H5: ='일위대가 (2)'!L10 -> #REF! | I5: ='일위대가 (2)'!N10 -> #REF! | Z5: 23452 | AA5: 4820 | AB5: 16445 | AC5: 2187
B6: 제3호표 | C6: 제체사석(육상덤프) | D6: 0.001~0.03㎥급 | E6: ㎥ | F6: =G6+H6+I6 -> #REF! | G6: ='일위대가 (2)'!J15 -> #REF! | H6: ='일위대가 (2)'!L15 -> #REF! | I6: ='일위대가 (2)'!N15 -> #REF! | Z6: 25449 | AA6: 3302 | AB6: 20039 | AC6: 2108
B7: 제4호표 | C7: 제체사석(육상수상:백호) | D7: 0.001~0.03㎥급 | E7: ㎥ | F7: =G7+H7+I7 -> #REF! | G7: ='일위대가 (2)'!J20 -> #REF! | H7: ='일위대가 (2)'!L20 -> #REF! | I7: ='일위대가 (2)'!N20 -> #REF! | Z7: 27720 | AA7: 4355 | AB7: 20757 | AC7: 2608
B8: 제5호표 | C8: 치환사석(육상수상,백호) | D8: 0.001~0.03㎥급 | E8: ㎥ | F8: =G8+H8+I8 -> #REF! | G8: ='일위대가 (2)'!J25 -> #REF! | H8: ='일위대가 (2)'!L25 -> #REF! | I8: ='일위대가 (2)'!N25 -> #REF! | Z8: 27720 | AA8: 4355 | AB8: 20757 | AC8: 2608
B9: 제6호표 | C9: 필터사석(육상덤프) | D9: Φ100mm이하 | E9: ㎥ | F9: =G9+H9+I9 -> #REF! | G9: ='일위대가 (2)'!J30 -> #REF! | H9: ='일위대가 (2)'!L30 -> #REF! | I9: ='일위대가 (2)'!N30 -> #REF! | Z9: 26012 | AA9: 2825 | AB9: 21385 | AC9: 1802
B10: 제7호표 | C10: 필터사석(육상수상:백호) | D10: Φ100mm이하 | E10: ㎥ | F10: =G10+H10+I10 -> #REF! | G10: ='일위대가 (2)'!J35 -> #REF! | H10: ='일위대가 (2)'!L35 -> #REF! | I10: ='일위대가 (2)'!N35 -> #REF! | Z10: 26764 | AA10: 3235 | AB10: 21582 | AC10: 1947
B11: 제8호표 | C11: 보호압사석(육상수중,크람셀) | D11: 0.001~0.03㎥급 | E11: ㎥ | F11: =G11+H11+I11 -> #REF! | G11: ='일위대가 (2)'!J40 -> #REF! | H11: ='일위대가 (2)'!L40 -> #REF! | I11: ='일위대가 (2)'!N40 -> #REF! | Z11: 30515 | AA11: 6027 | AB11: 20696 | AC11: 3792
B12: 제9호표 | C12: 보호압사석(육상수상,크람셀) | D12: 0.001~0.03㎥급 | E12: ㎥ | F12: =G12+H12+I12 -> #REF! | G12: ='일위대가 (2)'!J45 -> #REF! | H12: ='일위대가 (2)'!L45 -> #REF! | I12: ='일위대가 (2)'!N45 -> #REF! | Z12: 28277 | AA12: 4030 | AB12: 20535 | AC12: 3712
B13: 제10호표 | C13: 보호압사석(육상수상,백호) | D13: 0.001~0.03㎥급 | E13: ㎥ | F13: =G13+H13+I13 -> #REF! | G13: ='일위대가 (2)'!J50 -> #REF! | H13: ='일위대가 (2)'!L50 -> #REF! | I13: ='일위대가 (2)'!N50 -> #REF! | Z13: 27720 | AA13: 4355 | AB13: 20757 | AC13: 2608
B14: 제11호표 | C14: 필터매트부설 | D14: 수중(잠수조),50kN | E14: ㎡ | F14: =G14+H14+I14 -> #REF! | G14: ='일위대가 (2)'!J55 -> #REF! | H14: ='일위대가 (2)'!L55 -> #REF! | I14: ='일위대가 (2)'!N55 -> #REF! | Z14: 6269 | AA14: 950 | AB14: 5300 | AC14: 19
B15: 제12호표 | C15: 필터매트부설 | D15: 수상,50kN | E15: ㎡ | F15: =G15+H15+I15 -> #REF! | G15: ='일위대가 (2)'!J59 -> #REF! | H15: ='일위대가 (2)'!L59 -> #REF! | I15: ='일위대가 (2)'!N59 -> #REF! | Z15: 5575 | AA15: 220 | AB15: 5355
B16: 제13호표 | C16: 복합매트부설(수중) | D16: 100KN | E16: ㎡ | F16: =G16+H16+I16 -> #REF! | G16: ='일위대가 (2)'!J63 -> #REF! | H16: ='일위대가 (2)'!L63 -> #REF! | I16: ='일위대가 (2)'!N63 -> #REF! | Z16: 6901 | AA16: 950 | AB16: 5932 | AC16: 19
B17: 제14호표 | C17: 복합매트부설(수상) | D17: 100KN | E17: ㎡ | F17: =G17+H17+I17 -> #REF! | G17: ='일위대가 (2)'!J67 -> #REF! | H17: ='일위대가 (2)'!L67 -> #REF! | I17: ='일위대가 (2)'!N67 -> #REF! | Z17: 6180 | AA17: 220 | AB17: 5960
B18: 제15호표 | C18: 차수매트부설(수상) | D18: 50KN | E18: ㎡ | F18: =G18+H18+I18 -> #REF! | G18: ='일위대가 (2)'!J71 -> #REF! | H18: ='일위대가 (2)'!L71 -> #REF! | I18: ='일위대가 (2)'!N71 -> #REF! | Z18: 7335 | AA18: 220 | AB18: 7115
B19: 제16호표 | C19: 중간피복석(육상수중) | D19: 0.03㎥급 | E19: ㎥ | F19: =G19+H19+I19 -> #REF! | G19: ='일위대가 (2)'!J75 -> #REF! | H19: ='일위대가 (2)'!L75 -> #REF! | I19: ='일위대가 (2)'!N75 -> #REF! | Z19: 40468 | AA19: 12706 | AB19: 24569 | AC19: 3193
B20: 제17호표 | C20: 중간피복석(육상수상) | D20: 0.03㎥급 | E20: ㎥ | F20: =G20+H20+I20 -> #REF! | G20: ='일위대가 (2)'!J80 -> #REF! | H20: ='일위대가 (2)'!L80 -> #REF! | I20: ='일위대가 (2)'!N80 -> #REF! | Z20: 35980 | AA20: 9367 | AB20: 24062 | AC20: 2551
B21: 제18호표 | C21: 피복석(해상수중) | D21: 0.4㎥급 | E21: ㎥ | F21: =G21+H21+I21 -> #REF! | G21: ='일위대가 (2)'!J85 -> #REF! | H21: ='일위대가 (2)'!L85 -> #REF! | I21: ='일위대가 (2)'!N85 -> #REF! | Z21: 54146 | AA21: 17836 | AB21: 32002 | AC21: 4308
B22: 제19호표 | C22: 피복석(해상수상) | D22: 0.4㎥급, 기중기25Ton | E22: ㎥ | F22: =G22+H22+I22 -> #REF! | G22: ='일위대가 (2)'!J91 -> #REF! | H22: ='일위대가 (2)'!L91 -> #REF! | I22: ='일위대가 (2)'!N91 -> #REF! | Z22: 56669 | AA22: 18624 | AB22: 32536 | AC22: 5509
B23: 제20호표 | C23: 피복석속고르기(해상수중) | D23: 0.4㎥급(H=0~15m) | E23: ㎡ | F23: =G23+H23+I23 -> #REF! | G23: ='일위대가 (2)'!J97 -> #REF! | H23: ='일위대가 (2)'!L97 -> #REF! | I23: ='일위대가 (2)'!N97 -> #REF! | Z23: 83472 | AA23: 72395 | AB23: 7816 | AC23: 3261
B24: 제21호표 | C24: 피복석고르기(해상수중) | D24: 0.4㎥급(H=0~15m) | E24: ㎡ | F24: =G24+H24+I24 -> #REF! | G24: ='일위대가 (2)'!J101 -> #REF! | H24: ='일위대가 (2)'!L101 -> #REF! | I24: ='일위대가 (2)'!N101 -> #REF! | Z24: 90009 | AA24: 78040 | AB24: 8449 | AC24: 3520
B25: 제22호표 | C25: 사면보호사석(육상수상) | D25: 0.03㎥급 | E25: ㎥ | F25: =G25+H25+I25 -> #REF! | G25: ='일위대가 (2)'!J105 -> #REF! | H25: ='일위대가 (2)'!L105 -> #REF! | I25: ='일위대가 (2)'!N105 -> #REF! | Z25: 35980 | AA25: 9367 | AB25: 24062 | AC25: 2551
B26: 제23호표 | C26: 사면보호사석고르기 | D26: 수상 | E26: ㎡ | F26: =G26+H26+I26 -> #REF! | G26: ='일위대가 (2)'!J110 -> #REF! | H26: ='일위대가 (2)'!L110 -> #REF! | I26: ='일위대가 (2)'!N110 -> #REF! | Z26: 32353 | AA26: 23618 | AB26: 5193 | AC26: 3542
B27: 제24호표 | C27: 쇄석(육상덤프) | D27: Φ40mm이하 | E27: ㎥ | F27: =G27+H27+I27 -> #REF! | G27: ='일위대가 (2)'!J113 -> #REF! | H27: ='일위대가 (2)'!L113 -> #REF! | I27: ='일위대가 (2)'!N113 -> #REF! | Z27: 25622 | AA27: 2825 | AB27: 20995 | AC27: 1802
B28: 제25호표 | C28: 피복석(해상수중) | D28: 0.3㎥급 | E28: ㎥ | F28: =G28+H28+I28 -> #REF! | G28: ='일위대가 (2)'!J118 -> #REF! | H28: ='일위대가 (2)'!L118 -> #REF! | I28: ='일위대가 (2)'!N118 -> #REF! | Z28: 53887 | AA28: 17660 | AB28: 31937 | AC28: 4290
B29: 제26호표 | C29: 피복석(육상덤프) | D29: 0.1㎥급 | E29: ㎥ | F29: =G29+H29+I29 -> #REF! | G29: ='일위대가 (2)'!J124 -> #REF! | H29: ='일위대가 (2)'!L124 -> #REF! | I29: ='일위대가 (2)'!N124 -> #REF! | Z29: 48886 | AA29: 6799 | AB29: 38834 | AC29: 3253
B30: 제27호표 | C30: 피복석(해상수상) | D30: 0.4㎥급 | E30: ㎥ | F30: =G30+H30+I30 -> #REF! | G30: ='일위대가 (2)'!J129 -> #REF! | H30: ='일위대가 (2)'!L129 -> #REF! | I30: ='일위대가 (2)'!N129 -> #REF! | Z30: 53751 | AA30: 17366 | AB30: 31930 | AC30: 4455
B31: 제28호표 | C31: 피복석고르기(해상수상) | D31: 0.4㎥급 | E31: ㎡ | F31: =G31+H31+I31 -> #REF! | G31: ='일위대가 (2)'!J135 -> #REF! | H31: ='일위대가 (2)'!L135 -> #REF! | I31: ='일위대가 (2)'!N135 -> #REF! | Z31: 38649 | AA31: 32804 | AB31: 3237 | AC31: 2608
B32: 제29호표 | C32: 치환사석(해상수상) | D32: 0.001~0.03㎥급 | E32: ㎥ | F32: =G32+H32+I32 -> #REF! | G32: ='일위대가 (2)'!J139 -> #REF! | H32: ='일위대가 (2)'!L139 -> #REF! | I32: ='일위대가 (2)'!N139 -> #REF! | Z32: 23452 | AA32: 4820 | AB32: 16445 | AC32: 2187
B33: 제30호표 | C33: 저면매트부설(수중) | D33: 50kN | E33: ㎡ | F33: =G33+H33+I33 -> #REF! | G33: ='일위대가 (2)'!J144 -> #REF! | H33: ='일위대가 (2)'!L144 -> #REF! | I33: ='일위대가 (2)'!N144 -> #REF! | Z33: 5349 | AA33: 950 | AB33: 4380 | AC33: 19
B34: 제31호표 | C34: 중간피복석(육상수중) | D34: 0.1㎥급 | E34: ㎥ | F34: =G34+H34+I34 -> #REF! | G34: ='일위대가 (2)'!J148 -> #REF! | H34: ='일위대가 (2)'!L148 -> #REF! | I34: ='일위대가 (2)'!N148 -> #REF! | Z34: 60185 | AA34: 16203 | AB34: 39644 | AC34: 4338
B35: 제32호표 | C35: 중간피복석(육상수상) | D35: 0.1㎥급 | E35: ㎥ | F35: =G35+H35+I35 -> #REF! | G35: ='일위대가 (2)'!J153 -> #REF! | H35: ='일위대가 (2)'!L153 -> #REF! | I35: ='일위대가 (2)'!N153 -> #REF! | Z35: 55697 | AA35: 12864 | AB35: 39137 | AC35: 3696
B36: 제33호표 | C36: 피복석(해상수중) | D36: 0.5㎥급 | E36: ㎥ | F36: =G36+H36+I36 -> #REF! | G36: ='일위대가 (2)'!J158 -> #REF! | H36: ='일위대가 (2)'!L158 -> #REF! | I36: ='일위대가 (2)'!N158 -> #REF! | Z36: 55642 | AA36: 18771 | AB36: 32418 | AC36: 4453
B37: 제34호표 | C37: 피복석(해상수상) | D37: 0.5㎥급, 기중기25Ton | E37: ㎥ | F37: =G37+H37+I37 -> #REF! | G37: ='일위대가 (2)'!J164 -> #REF! | H37: ='일위대가 (2)'!L164 -> #REF! | I37: ='일위대가 (2)'!N164 -> #REF! | Z37: 57086 | AA37: 18667 | AB37: 32863 | AC37: 5556
B38: 제35호표 | C38: 피복석속고르기(해상수중) | D38: 0.1㎥급(H=0~15m) | E38: ㎡ | F38: =G38+H38+I38 -> #REF! | G38: ='일위대가 (2)'!J170 -> #REF! | H38: ='일위대가 (2)'!L170 -> #REF! | I38: ='일위대가 (2)'!N170 -> #REF! | Z38: 83472 | AA38: 72395 | AB38: 7816 | AC38: 3261
B39: 제36호표 | C39: 피복석고르기(해상수중) | D39: 0.1㎥급(H=0~15m) | E39: ㎡ | F39: =G39+H39+I39 -> #REF! | G39: ='일위대가 (2)'!J174 -> #REF! | H39: ='일위대가 (2)'!L174 -> #REF! | I39: ='일위대가 (2)'!N174 -> #REF! | Z39: 90009 | AA39: 78040 | AB39: 8449 | AC39: 3520
B40: 제37호표 | C40: 피복석고르기(해상수상) | D40: 0.1㎥급 | E40: ㎡ | F40: =G40+H40+I40 -> #REF! | G40: ='일위대가 (2)'!J178 -> #REF! | H40: ='일위대가 (2)'!L178 -> #REF! | I40: ='일위대가 (2)'!N178 -> #REF! | Z40: 38649 | AA40: 32804 | AB40: 3237 | AC40: 2608
B41: 제38호표 | C41: 피복석속고르기(해상수중) | D41: 0.5㎥급(H=0~15m) | E41: ㎡ | F41: =G41+H41+I41 -> #REF! | G41: ='일위대가 (2)'!J182 -> #REF! | H41: ='일위대가 (2)'!L182 -> #REF! | I41: ='일위대가 (2)'!N182 -> #REF! | Z41: 83472 | AA41: 72395 | AB41: 7816 | AC41: 3261
B42: 제39호표 | C42: 피복석고르기(해상수중) | D42: 0.5㎥급(H=0~15m) | E42: ㎡ | F42: =G42+H42+I42 -> #REF! | G42: ='일위대가 (2)'!J186 -> #REF! | H42: ='일위대가 (2)'!L186 -> #REF! | I42: ='일위대가 (2)'!N186 -> #REF! | Z42: 90009 | AA42: 78040 | AB42: 8449 | AC42: 3520
B43: 제40호표 | C43: 피복석고르기(해상수상) | D43: 0.5㎥급 | E43: ㎡ | F43: =G43+H43+I43 -> #REF! | G43: ='일위대가 (2)'!J190 -> #REF! | H43: ='일위대가 (2)'!L190 -> #REF! | I43: ='일위대가 (2)'!N190 -> #REF! | Z43: 38649 | AA43: 32804 | AB43: 3237 | AC43: 2608
B44: 제41호표 | C44: 사면보호사석(육상수중) | D44: 0.03㎥급 | E44: ㎥ | F44: =G44+H44+I44 -> #REF! | G44: ='일위대가 (2)'!J194 -> #REF! | H44: ='일위대가 (2)'!L194 -> #REF! | I44: ='일위대가 (2)'!N194 -> #REF! | Z44: 40468 | AA44: 12706 | AB44: 24569 | AC44: 3193
B45: 제42호표 | C45: 어초블록제작 | D45: 3.4B×3.15H×3.4L | E45: EA | F45: =G45+H45+I45 -> #REF! | G45: ='일위대가 (2)'!J199 -> #REF! | H45: ='일위대가 (2)'!L199 -> #REF! | I45: ='일위대가 (2)'!N199 -> #REF! | Z45: 5195612 | AA45: 2598750 | AB45: 2380483 | AC45: 216379
B46: 제43호표 | C46: 철근콘크리트타설 | D46: 보통:펌프차S=8~12cm | E46: ㎥ | F46: =G46+H46+I46 -> #REF! | G46: ='일위대가 (2)'!J210 -> #REF! | H46: ='일위대가 (2)'!L210 -> #REF! | I46: ='일위대가 (2)'!N210 -> #REF! | Z46: 23836 | AA46: 15575 | AB46: 3038 | AC46: 5223
B47: 제44호표 | C47: 강재거푸집제작 | E47: 식 | F47: =G47+H47+I47 -> #REF! | G47: ='일위대가 (2)'!J215 -> #REF! | H47: ='일위대가 (2)'!L215 -> #REF! | I47: ='일위대가 (2)'!N215 -> #REF! | Z47: 23136924 | AA47: 18205870 | AB47: 4903892 | AC47: 27162
B48: 제45호표 | C48: 잡철물제작 및 설치 | D48: 간단 | E48: Ton | F48: =G48+H48+I48 -> #REF! | G48: ='일위대가 (2)'!J221 -> #REF! | H48: ='일위대가 (2)'!L221 -> #REF! | I48: ='일위대가 (2)'!N221 -> #REF! | Z48: 6630085 | AA48: 6310527 | AB48: 310143 | AC48: 9415
B49: 제46호표 | C49: 피복석(해상수중) | D49: 0.2㎥급 | E49: ㎥ | F49: =G49+H49+I49 -> #REF! | G49: ='일위대가 (2)'!J225 -> #REF! | H49: ='일위대가 (2)'!L225 -> #REF! | I49: ='일위대가 (2)'!N225 -> #REF! | Z49: 53863 | AA49: 17644 | AB49: 31931 | AC49: 4288
B50: 제47호표 | C50: 바닥보호사석(해상수상) | D50: 0.001~0.03㎥급 | E50: ㎥ | F50: =G50+H50+I50 -> #REF! | G50: ='일위대가 (2)'!J231 -> #REF! | H50: ='일위대가 (2)'!L231 -> #REF! | I50: ='일위대가 (2)'!N231 -> #REF! | Z50: 23452 | AA50: 4820 | AB50: 16445 | AC50: 2187
B51: 제48호표 | C51: 피복석(해상수상) | D51: 0.3㎥급, 기중기25Ton | E51: ㎥ | F51: =G51+H51+I51 -> #REF! | G51: ='일위대가 (2)'!J236 -> #REF! | H51: ='일위대가 (2)'!L236 -> #REF! | I51: ='일위대가 (2)'!N236 -> #REF! | Z51: 56270 | AA51: 18364 | AB51: 32450 | AC51: 5456
B52: 제49호표 | C52: 피복석속고르기(해상수중) | D52: 0.3㎥급(H=0~15m) | E52: ㎡ | F52: =G52+H52+I52 -> #REF! | G52: ='일위대가 (2)'!J242 -> #REF! | H52: ='일위대가 (2)'!L242 -> #REF! | I52: ='일위대가 (2)'!N242 -> #REF! | Z52: 83472 | AA52: 72395 | AB52: 7816 | AC52: 3261
B53: 제50호표 | C53: 피복석고르기(해상수중) | D53: 0.3㎥급(H=0~15m) | E53: ㎡ | F53: =G53+H53+I53 -> #REF! | G53: ='일위대가 (2)'!J246 -> #REF! | H53: ='일위대가 (2)'!L246 -> #REF! | I53: ='일위대가 (2)'!N246 -> #REF! | Z53: 90009 | AA53: 78040 | AB53: 8449 | AC53: 3520
B54: 제51호표 | C54: 피복석고르기(해상수상) | D54: 0.3㎥급 | E54: ㎡ | F54: =G54+H54+I54 -> #REF! | G54: ='일위대가 (2)'!J250 -> #REF! | H54: ='일위대가 (2)'!L250 -> #REF! | I54: ='일위대가 (2)'!N250 -> #REF! | Z54: 38649 | AA54: 32804 | AB54: 3237 | AC54: 2608
B55: 제52호표 | C55: 속채움사석(해상수중) | D55: Φ100mm이하 | E55: ㎥ | F55: =G55+H55+I55 -> #REF! | G55: ='일위대가 (2)'!J254 -> #REF! | H55: ='일위대가 (2)'!L254 -> #REF! | I55: ='일위대가 (2)'!N254 -> #REF! | Z55: 24456 | AA55: 6973 | AB55: 16090 | AC55: 1393
B56: 제53호표 | C56: 속채움사석(해상수상) | D56: Φ100mm이하 | E56: ㎥ | F56: =G56+H56+I56 -> #REF! | G56: ='일위대가 (2)'!J259 -> #REF! | H56: ='일위대가 (2)'!L259 -> #REF! | I56: ='일위대가 (2)'!N259 -> #REF! | Z56: 21335 | AA56: 4107 | AB56: 15918 | AC56: 1310
B57: 제54호표 | C57: 중간피복석(해상수중) | D57: 0.03㎥급 | E57: ㎥ | F57: =G57+H57+I57 -> #REF! | G57: ='일위대가 (2)'!J264 -> #REF! | H57: ='일위대가 (2)'!L264 -> #REF! | I57: ='일위대가 (2)'!N264 -> #REF! | Z57: 41922 | AA57: 17584 | AB57: 20055 | AC57: 4283
B58: 제55호표 | C58: 중간피복석(해상수상) | D58: 0.03㎥급 | E58: ㎥ | F58: =G58+H58+I58 -> #REF! | G58: ='일위대가 (2)'!J270 -> #REF! | H58: ='일위대가 (2)'!L270 -> #REF! | I58: ='일위대가 (2)'!N270 -> #REF! | Z58: 41527 | AA58: 17114 | AB58: 19983 | AC58: 4430
B59: 제56호표 | C59: 에코스톤(해상수중) | D59: 1.0㎥급 | E59: ㎥ | F59: =G59+H59+I59 -> #REF! | G59: ='일위대가 (2)'!J276 -> #REF! | H59: ='일위대가 (2)'!L276 -> #REF! | I59: ='일위대가 (2)'!N276 -> #REF! | Z59: 58100 | AA59: 19602 | AB59: 33977 | AC59: 4521
B60: 제57호표 | C60: 피복석(해상수상) | D60: 0.3㎥급 | E60: ㎥ | F60: =G60+H60+I60 -> #REF! | G60: ='일위대가 (2)'!J282 -> #REF! | H60: ='일위대가 (2)'!L282 -> #REF! | I60: ='일위대가 (2)'!N282 -> #REF! | Z60: 53492 | AA60: 17190 | AB60: 31865 | AC60: 4437
B61: 제58호표 | C61: 자연석계단 | D61: W1500 | E61: 단 | F61: =G61+H61+I61 -> #REF! | G61: ='일위대가 (2)'!J288 -> #REF! | H61: ='일위대가 (2)'!L288 -> #REF! | I61: ='일위대가 (2)'!N288 -> #REF! | Z61: 79193 | AA61: 39349 | AB61: 35052 | AC61: 4792
B62: 제59호표 | C62: 조경유용석 쌓기및놓기 | E62: 톤 | F62: =G62+H62+I62 -> #REF! | G62: ='일위대가 (2)'!J292 -> #REF! | H62: ='일위대가 (2)'!L292 -> #REF! | I62: ='일위대가 (2)'!N292 -> #REF! | Z62: 126063 | AA62: 100897 | AB62: 12877 | AC62: 12289
B63: 제60호표 | C63: 무근콘크리트타설/펌프차 | D63: 보통,100㎥미만/회 | E63: ㎥ | F63: =G63+H63+I63 -> #REF! | G63: ='일위대가 (2)'!J297 -> #REF! | H63: ='일위대가 (2)'!L297 -> #REF! | I63: ='일위대가 (2)'!N297 -> #REF! | Z63: 24176 | AA63: 15919 | AB63: 3363 | AC63: 4894
B64: 제61호표 | C64: 시공이음 | D64: 흐름유도공 | E64: 개소 | F64: =G64+H64+I64 -> #REF! | G64: ='일위대가 (2)'!J301 -> #REF! | H64: ='일위대가 (2)'!L301 -> #REF! | I64: ='일위대가 (2)'!N301 -> #REF! | Z64: 509424 | AA64: 255085 | AB64: 254339
B65: 제62호표 | C65: 제체사석(육상수중,크람셀) | D65: 0.001~0.03㎥급 | E65: ㎥ | F65: =G65+H65+I65 -> #REF! | G65: ='일위대가 (2)'!J307 -> #REF! | H65: ='일위대가 (2)'!L307 -> #REF! | I65: ='일위대가 (2)'!N307 -> #REF! | Z65: 30515 | AA65: 6027 | AB65: 20696 | AC65: 3792
B66: 제63호표 | C66: 제체사석(육상수상,크람셀) | D66: 0.001~0.03㎥급 | E66: ㎥ | F66: =G66+H66+I66 -> #REF! | G66: ='일위대가 (2)'!J312 -> #REF! | H66: ='일위대가 (2)'!L312 -> #REF! | I66: ='일위대가 (2)'!N312 -> #REF! | Z66: 28277 | AA66: 4030 | AB66: 20535 | AC66: 3712
B67: 제64호표 | C67: 피복석(육상수중) | D67: 0.1㎥급 | E67: ㎥ | F67: =G67+H67+I67 -> #REF! | G67: ='일위대가 (2)'!J317 -> #REF! | H67: ='일위대가 (2)'!L317 -> #REF! | I67: ='일위대가 (2)'!N317 -> #REF! | Z67: 60185 | AA67: 16203 | AB67: 39644 | AC67: 4338
B68: 제65호표 | C68: 피복석(육상수상) | D68: 0.1㎥급 | E68: ㎥ | F68: =G68+H68+I68 -> #REF! | G68: ='일위대가 (2)'!J322 -> #REF! | H68: ='일위대가 (2)'!L322 -> #REF! | I68: ='일위대가 (2)'!N322 -> #REF! | Z68: 55697 | AA68: 12864 | AB68: 39137 | AC68: 3696
B69: 제66호표 | C69: 피복석고르기(육상수중) | D69: 0.1㎥급 | E69: ㎡ | F69: =G69+H69+I69 -> #REF! | G69: ='일위대가 (2)'!J327 -> #REF! | H69: ='일위대가 (2)'!L327 -> #REF! | I69: ='일위대가 (2)'!N327 -> #REF! | Z69: 62590 | AA69: 52576 | AB69: 5378 | AC69: 4636
B70: 제67호표 | C70: 피복석고르기(육상수상) | D70: 0.1㎥급 | E70: ㎡ | F70: =G70+H70+I70 -> #REF! | G70: ='일위대가 (2)'!J330 -> #REF! | H70: ='일위대가 (2)'!L330 -> #REF! | I70: ='일위대가 (2)'!N330 -> #REF! | Z70: 28729 | AA70: 25569 | AB70: 1498 | AC70: 1662
B71: 제68호표 | C71: 피복석(육상수중) | D71: 0.3㎥급 | E71: ㎥ | F71: =G71+H71+I71 -> #REF! | G71: ='일위대가 (2)'!J333 -> #REF! | H71: ='일위대가 (2)'!L333 -> #REF! | I71: ='일위대가 (2)'!N333 -> #REF! | Z71: 60341 | AA71: 16285 | AB71: 39680 | AC71: 4376
B72: 제69호표 | C72: 피복석(육상수상) | D72: 0.3㎥급 | E72: ㎥ | F72: =G72+H72+I72 -> #REF! | G72: ='일위대가 (2)'!J338 -> #REF! | H72: ='일위대가 (2)'!L338 -> #REF! | I72: ='일위대가 (2)'!N338 -> #REF! | Z72: 55853 | AA72: 12946 | AB72: 39173 | AC72: 3734
B73: 제70호표 | C73: 피복석고르기(육상수중) | D73: 0.3㎥급 | E73: ㎡ | F73: =G73+H73+I73 -> #REF! | G73: ='일위대가 (2)'!J343 -> #REF! | H73: ='일위대가 (2)'!L343 -> #REF! | I73: ='일위대가 (2)'!N343 -> #REF! | Z73: 62590 | AA73: 52576 | AB73: 5378 | AC73: 4636
B74: 제71호표 | C74: 피복석고르기(육상수상) | D74: 0.3㎥급 | E74: ㎡ | F74: =G74+H74+I74 -> #REF! | G74: ='일위대가 (2)'!J346 -> #REF! | H74: ='일위대가 (2)'!L346 -> #REF! | I74: ='일위대가 (2)'!N346 -> #REF! | Z74: 28729 | AA74: 25569 | AB74: 1498 | AC74: 1662
B75: 제72호표 | C75: 치환사석(해상수중) | D75: 0.03㎥급 이하 | E75: ㎥ | F75: =G75+H75+I75 -> #REF! | G75: ='일위대가 (2)'!J349 -> #REF! | H75: ='일위대가 (2)'!L349 -> #REF! | I75: ='일위대가 (2)'!N349 -> #REF! | Z75: 25302 | AA75: 7463 | AB75: 15692 | AC75: 2147
B76: 제73호표 | C76: 제체사석(육상수중,크람셀) | D76: 0.03㎥급 이하 | E76: ㎥ | F76: =G76+H76+I76 -> #REF! | G76: ='일위대가 (2)'!J354 -> #REF! | H76: ='일위대가 (2)'!L354 -> #REF! | I76: ='일위대가 (2)'!N354 -> #REF! | Z76: 29795 | AA76: 6027 | AB76: 19976 | AC76: 3792
B77: 제74호표 | C77: 제체사석(육상수상,크람셀) | D77: 0.03㎥급 이하 | E77: ㎥ | F77: =G77+H77+I77 -> #REF! | G77: ='일위대가 (2)'!J359 -> #REF! | H77: ='일위대가 (2)'!L359 -> #REF! | I77: ='일위대가 (2)'!N359 -> #REF! | Z77: 27557 | AA77: 4030 | AB77: 19815 | AC77: 3712
B78: 제75호표 | C78: 제체사석(육상덤프) | D78: 0.03㎥급 이하 | E78: ㎥ | F78: =G78+H78+I78 -> #REF! | G78: ='일위대가 (2)'!J364 -> #REF! | H78: ='일위대가 (2)'!L364 -> #REF! | I78: ='일위대가 (2)'!N364 -> #REF! | Z78: 24729 | AA78: 3302 | AB78: 19319 | AC78: 2108
B79: 제76호표 | C79: 제체사석유용(육상덤프),타공사 준설암 유용 | D79: 0.001~0.03㎥급이하 | E79: ㎥ | F79: =G79+H79+I79 -> #REF! | G79: ='일위대가 (2)'!J369 -> #REF! | H79: ='일위대가 (2)'!L369 -> #REF! | I79: ='일위대가 (2)'!N369 -> #REF! | Z79: 24021 | AA79: 9540 | AB79: 8511 | AC79: 5970
B80: 제77호표 | C80: 제체사석(육상수상:백호) | D80: 0.03㎥급 이하 | E80: ㎥ | F80: =G80+H80+I80 -> #REF! | G80: ='일위대가 (2)'!J376 -> #REF! | H80: ='일위대가 (2)'!L376 -> #REF! | I80: ='일위대가 (2)'!N376 -> #REF! | Z80: 27000 | AA80: 4355 | AB80: 20037 | AC80: 2608
B81: 제78호표 | C81: 부상토굴착 및 파쇄 | E81: ㎥ | F81: =G81+H81+I81 -> 27450 | G81: ='일위대가 (2)'!J381 -> 11733 | H81: ='일위대가 (2)'!L381 -> 7980 | I81: ='일위대가 (2)'!N381 -> 7737 | Z81: 27450 | AA81: 11733 | AB81: 7980 | AC81: 7737
B82: 제79호표 | C82: GRID형 다짐판 손료 | D82: 육상용,20톤급 | E82: 식 | F82: =G82+H82+I82 -> #REF! | G82: ='일위대가 (2)'!J385 -> #REF! | H82: ='일위대가 (2)'!L385 -> #REF! | I82: ='일위대가 (2)'!N385 -> #REF! | Z82: 164757 | AA82: 120749 | AB82: 43799 | AC82: 209
B83: 제80호표 | C83: GRID형 다짐판 제작 | D83: 육상용,20톤급 | E83: 개 | F83: =G83+H83+I83 -> #REF! | G83: ='일위대가 (2)'!J388 -> #REF! | H83: ='일위대가 (2)'!L388 -> #REF! | I83: ='일위대가 (2)'!N388 -> #REF! | Z83: 102973381 | AA83: 75468201 | AB83: 27374521 | AC83: 130659
B84: 제81호표 | C84: GRID형 다짐판 손료 | D84: 육상용,30톤급 | E84: 식 | F84: =G84+H84+I84 -> #REF! | G84: ='일위대가 (2)'!J396 -> #REF! | H84: ='일위대가 (2)'!L396 -> #REF! | I84: ='일위대가 (2)'!N396 -> #REF! | Z84: 307091 | AA84: 231349 | AB84: 75356 | AC84: 386
B85: 제82호표 | C85: GRID형 다짐판 제작 | D85: 육상용,30톤급 | E85: 개 | F85: =G85+H85+I85 -> #REF! | G85: ='일위대가 (2)'!J399 -> #REF! | H85: ='일위대가 (2)'!L399 -> #REF! | I85: ='일위대가 (2)'!N399 -> #REF! | Z85: 191932562 | AA85: 144593341 | AB85: 47097932 | AC85: 241289
B86: 제83호표 | C86: 가설교량 도장(북측) | D86: 하부공 | E86: 개소 | F86: =G86+H86+I86 -> #REF! | G86: ='일위대가 (2)'!J410 -> #REF! | H86: ='일위대가 (2)'!L410 -> #REF! | I86: ='일위대가 (2)'!N410 -> #REF! | Z86: 140436065 | AA86: 56378630 | AB86: 81239345 | AC86: 2818090
B87: 제84호표 | C87: 태양광가로등설치 | D87: 50W/5m | E87: 개소 | F87: =G87+H87+I87 -> #REF! | G87: ='일위대가 (2)'!J413 -> #REF! | H87: ='일위대가 (2)'!L413 -> #REF! | I87: ='일위대가 (2)'!N413 -> #REF! | Z87: 3888182 | AC87: 3888182
B88: 제85호표 | C88: 가설교량 도장(남측) | D88: 하부공 | E88: 개소 | F88: =G88+H88+I88 -> #REF! | G88: ='일위대가 (2)'!J417 -> #REF! | H88: ='일위대가 (2)'!L417 -> #REF! | I88: ='일위대가 (2)'!N417 -> #REF! | Z88: 207875416 | AA88: 83452432 | AB88: 120251608 | AC88: 4171376
B89: 제86호표 | C89: 피복석(해상수중) | D89: 0.1㎥급 | E89: ㎥ | F89: =G89+H89+I89 -> #REF! | G89: ='일위대가 (2)'!J420 -> #REF! | H89: ='일위대가 (2)'!L420 -> #REF! | I89: ='일위대가 (2)'!N420 -> #REF! | Z89: 53777 | AA89: 17584 | AB89: 31910 | AC89: 4283
B90: 제87호표 | C90: 피복석(해상수상) | D90: 0.1㎥급, 기중기25Ton | E90: ㎥ | F90: =G90+H90+I90 -> #REF! | G90: ='일위대가 (2)'!J426 -> #REF! | H90: ='일위대가 (2)'!L426 -> #REF! | I90: ='일위대가 (2)'!N426 -> #REF! | Z90: 55811 | AA90: 18078 | AB90: 32371 | AC90: 5362
B91: 제88호표 | C91: 기초사석(해상수중) | D91: 0.015~0.03㎥급 | E91: ㎥ | F91: =G91+H91+I91 -> #REF! | G91: ='일위대가 (2)'!J432 -> #REF! | H91: ='일위대가 (2)'!L432 -> #REF! | I91: ='일위대가 (2)'!N432 -> #REF! | Z91: 28902 | AA91: 7463 | AB91: 19292 | AC91: 2147
B92: 제89호표 | C92: 해상작업기지블록제작(TYPE-A) | D92: 2.48B×1.7H×5.5L | E92: EA | F92: =G92+H92+I92 -> #REF! | G92: ='일위대가 (2)'!J437 -> #REF! | H92: ='일위대가 (2)'!L437 -> #REF! | I92: ='일위대가 (2)'!N437 -> #REF! | Z92: 1657368 | AA92: 1199058 | AB92: 336353 | AC92: 121957
B93: 제90호표 | C93: 해상작업기지블록제작(TYPE-B) | D93: 2.48B×1.7H×4.5L | E93: EA | F93: =G93+H93+I93 -> #REF! | G93: ='일위대가 (2)'!J444 -> #REF! | H93: ='일위대가 (2)'!L444 -> #REF! | I93: ='일위대가 (2)'!N444 -> #REF! | Z93: 1476907 | AA93: 1094259 | AB93: 284143 | AC93: 98505
B94: 제91호표 | C94: 해상작업기지블록제작(TYPE-B1) | D94: 3.73B×1.7H×4.5L | E94: EA | F94: =G94+H94+I94 -> #REF! | G94: ='일위대가 (2)'!J451 -> #REF! | H94: ='일위대가 (2)'!L451 -> #REF! | I94: ='일위대가 (2)'!N451 -> #REF! | Z94: 1955004 | AA94: 1407821 | AB94: 398955 | AC94: 148228
B95: 제92호표 | C95: 해상작업기지블록제작(TYPE-B2) | D95: 2.48B×1.7H×4.5L | E95: EA | F95: =G95+H95+I95 -> #REF! | G95: ='일위대가 (2)'!J458 -> #REF! | H95: ='일위대가 (2)'!L458 -> #REF! | I95: ='일위대가 (2)'!N458 -> #REF! | Z95: 1368269 | AA95: 996996 | AB95: 272402 | AC95: 98871
B96: 제93호표 | C96: 해상작업기지블록제작(TYPE-C) | D96: 2.48B×1.7H×3.0L | E96: EA | F96: =G96+H96+I96 -> #REF! | G96: ='일위대가 (2)'!J465 -> #REF! | H96: ='일위대가 (2)'!L465 -> #REF! | I96: ='일위대가 (2)'!N465 -> #REF! | Z96: 1135579 | AA96: 851036 | AB96: 219047 | AC96: 65496
B97: 제94호표 | C97: 해상작업기지블록제작(TYPE-C1) | D97: 2.48B×1.7H×3.0L | E97: EA | F97: =G97+H97+I97 -> #REF! | G97: ='일위대가 (2)'!J472 -> #REF! | H97: ='일위대가 (2)'!L472 -> #REF! | I97: ='일위대가 (2)'!N472 -> #REF! | Z97: 1020146 | AA97: 753773 | AB97: 200511 | AC97: 65862
B98: 제95호표 | C98: 철근콘크리트타설 | D98: 양호:펌프차S=8~12cm | E98: ㎥ | F98: =G98+H98+I98 -> #REF! | G98: ='일위대가 (2)'!J479 -> #REF! | H98: ='일위대가 (2)'!L479 -> #REF! | I98: ='일위대가 (2)'!N479 -> #REF! | Z98: 19883 | AA98: 13006 | AB98: 2567 | AC98: 4310
B99: 제96호표 | C99: 철근가공조립(간단) | E99: Ton | F99: =G99+H99+I99 -> #REF! | G99: ='일위대가 (2)'!J484 -> #REF! | H99: ='일위대가 (2)'!L484 -> #REF! | I99: ='일위대가 (2)'!N484 -> #REF! | Z99: 700916 | AA99: 693907 | AB99: 3508 | AC99: 3501
B100: 제97호표 | C100: 와이어메시 설치 | E100: ㎡ | F100: =G100+H100+I100 -> #REF! | G100: ='일위대가 (2)'!J488 -> #REF! | H100: ='일위대가 (2)'!L488 -> #REF! | I100: ='일위대가 (2)'!N488 -> #REF! | Z100: 3416 | AA100: 960 | AB100: 2456
B101: 제98호표 | C101: 세로줄눈 | D101: 다웰바(Φ25×500) | E101: m | F101: =G101+H101+I101 -> #REF! | G101: ='일위대가 (2)'!J492 -> #REF! | H101: ='일위대가 (2)'!L492 -> #REF! | I101: ='일위대가 (2)'!N492 -> #REF! | Z101: 12914 | AA101: 1215 | AB101: 11699
...

Sheet 일위대가 (2)
B1: 일위대가
B3: 호 표 | C3: 품 명 | D3: 규 격 | E3: 수 량 | F3: 단위 | G3: 합 계 | I3: 노 무 비 | K3: 재 료 비 | M3: 경 비 | O3: 비 고
G4: 단 가 | H4: 금 액 | I4: 단 가 | J4: 금 액 | K4: 단 가 | L4: 금 액 | M4: 단 가 | N4: 금 액
B5: 제1호표 | C5: 제체사석(해상수중) | D5: 0.001~0.03㎥급 | F5: ㎥ | H5: =J5+L5+N5 -> #REF! | J5: =TRUNC(J6+J7+J8) -> #REF! | L5: =TRUNC(L6+L7+L8) -> #REF! | N5: =TRUNC(N6+N7+N8) -> #REF!
C6: 사석(대선상차도) | D6: 0.001~0.03㎥급 | E6: 1 | F6: ㎥ | G6: =I6+K6+M6 -> #REF! | H6: =J6+L6+N6 -> #REF! | I6: =#REF! -> #REF! | J6: =TRUNC(E6*I6,0) -> #REF! | K6: =#REF! -> #REF! | L6: =TRUNC(E6*K6,0) -> #REF! | M6: =#REF! -> #REF! | N6: =TRUNC(E6*M6,0) -> #REF! | O6: 견적1참조
C7: 사석해상운반(L=6.0km) | D7: 각종, 굴삭기 2.0㎥ | E7: 1 | F7: ㎥ | G7: =I7+K7+M7 -> 4687 | H7: =J7+L7+N7 -> 4687 | I7: =단가산출총괄표!G4 -> 2201 | J7: =TRUNC(E7*I7,0) -> 2201 | K7: =단가산출총괄표!H4 -> 1120 | L7: =TRUNC(E7*K7,0) -> 1120 | M7: =단가산출총괄표!I4 -> 1366 | N7: =TRUNC(E7*M7,0) -> 1366 | O7: 단산1참조
C8: 사석투하(해상수중) | D8: 각종(굴삭기(무한궤도 2.0㎥), 잠수조) | E8: 1 | F8: ㎥ | G8: =I8+K8+M8 -> #REF! | H8: =J8+L8+N8 -> #REF! | I8: =#REF! -> #REF! | J8: =TRUNC(E8*I8,0) -> #REF! | K8: =#REF! -> #REF! | L8: =TRUNC(E8*K8,0) -> #REF! | M8: =#REF! -> #REF! | N8: =TRUNC(E8*M8,0) -> #REF! | O8: 표준1참조
J9: =TRUNC(E9*I9,0) -> 0 | L9: =TRUNC(E9*K9,0) -> 0 | N9: =TRUNC(E9*M9,0) -> 0
B10: 제2호표 | C10: 제체사석(해상수상) | D10: 0.001~0.03㎥급 | F10: ㎥ | H10: =J10+L10+N10 -> #REF! | J10: =TRUNC(J11+J12+J13) -> #REF! | L10: =TRUNC(L11+L12+L13) -> #REF! | N10: =TRUNC(N11+N12+N13) -> #REF!
C11: 사석(대선상차도) | D11: 0.001~0.03㎥급 | E11: 1 | F11: ㎥ | G11: =I11+K11+M11 -> #REF! | H11: =J11+L11+N11 -> #REF! | I11: =#REF! -> #REF! | J11: =TRUNC(E11*I11,0) -> #REF! | K11: =#REF! -> #REF! | L11: =TRUNC(E11*K11,0) -> #REF! | M11: =#REF! -> #REF! | N11: =TRUNC(E11*M11,0) -> #REF! | O11: 견적1참조
C12: 사석해상운반(L=6.0km) | D12: 각종, 굴삭기 2.0㎥ | E12: 1 | F12: ㎥ | G12: =I12+K12+M12 -> 4687 | H12: =J12+L12+N12 -> 4687 | I12: =단가산출총괄표!G4 -> 2201 | J12: =TRUNC(E12*I12,0) -> 2201 | K12: =단가산출총괄표!H4 -> 1120 | L12: =TRUNC(E12*K12,0) -> 1120 | M12: =단가산출총괄표!I4 -> 1366 | N12: =TRUNC(E12*M12,0) -> 1366 | O12: 단산1참조
C13: 사석투하(해상수상) | D13: 각종(굴삭기(무한궤도 2.0㎥) | E13: 1 | F13: ㎥ | G13: =I13+K13+M13 -> #REF! | H13: =J13+L13+N13 -> #REF! | I13: =#REF! -> #REF! | J13: =TRUNC(E13*I13,0) -> #REF! | K13: =#REF! -> #REF! | L13: =TRUNC(E13*K13,0) -> #REF! | M13: =#REF! -> #REF! | N13: =TRUNC(E13*M13,0) -> #REF! | O13: 표준2참조
J14: =TRUNC(E14*I14,0) -> 0 | L14: =TRUNC(E14*K14,0) -> 0 | N14: =TRUNC(E14*M14,0) -> 0
B15: 제3호표 | C15: 제체사석(육상덤프) | D15: 0.001~0.03㎥급 | F15: ㎥ | H15: =J15+L15+N15 -> #REF! | J15: =TRUNC(J16+J17+J18) -> #REF! | L15: =TRUNC(L16+L17+L18) -> #REF! | N15: =TRUNC(N16+N17+N18) -> #REF!
C16: 사석(석산상차도) | D16: 0.001~0.03㎥급 | E16: 1 | F16: ㎥ | G16: =I16+K16+M16 -> #REF! | H16: =J16+L16+N16 -> #REF! | I16: =#REF! -> #REF! | J16: =TRUNC(E16*I16,0) -> #REF! | K16: =#REF! -> #REF! | L16: =TRUNC(E16*K16,0) -> #REF! | M16: =#REF! -> #REF! | N16: =TRUNC(E16*M16,0) -> #REF! | O16: 견적2참조
C17: 사석육상운반(석산→현장) | D17: 0.03㎥급이하 | E17: 1 | F17: ㎥ | G17: =I17+K17+M17 -> 7556 | H17: =J17+L17+N17 -> 7556 | I17: =단가산출총괄표!G5 -> 3057 | J17: =TRUNC(E17*I17,0) -> 3057 | K17: =단가산출총괄표!H5 -> 2534 | L17: =TRUNC(E17*K17,0) -> 2534 | M17: =단가산출총괄표!I5 -> 1965 | N17: =TRUNC(E17*M17,0) -> 1965 | O17: 단산2참조
C18: 사석정리 | D18: 각종(불도저 19톤) | E18: 1 | F18: ㎥ | G18: =I18+K18+M18 -> #REF! | H18: =J18+L18+N18 -> #REF! | I18: =#REF! -> #REF! | J18: =TRUNC(E18*I18,0) -> #REF! | K18: =#REF! -> #REF! | L18: =TRUNC(E18*K18,0) -> #REF! | M18: =#REF! -> #REF! | N18: =TRUNC(E18*M18,0) -> #REF! | O18: 표준3참조
J19: =TRUNC(E19*I19,0) -> 0 | L19: =TRUNC(E19*K19,0) -> 0 | N19: =TRUNC(E19*M19,0) -> 0
B20: 제4호표 | C20: 제체사석(육상수상:백호) | D20: 0.001~0.03㎥급 | F20: ㎥ | H20: =J20+L20+N20 -> #REF! | J20: =TRUNC(J21+J22+J23) -> #REF! | L20: =TRUNC(L21+L22+L23) -> #REF! | N20: =TRUNC(N21+N22+N23) -> #REF!
C21: 사석(석산상차도) | D21: 0.001~0.03㎥급 | E21: 1 | F21: ㎥ | G21: =I21+K21+M21 -> #REF! | H21: =J21+L21+N21 -> #REF! | I21: =#REF! -> #REF! | J21: =TRUNC(E21*I21,0) -> #REF! | K21: =#REF! -> #REF! | L21: =TRUNC(E21*K21,0) -> #REF! | M21: =#REF! -> #REF! | N21: =TRUNC(E21*M21,0) -> #REF! | O21: 견적2참조
C22: 사석육상운반(석산→현장) | D22: 0.03㎥급이하 | E22: 1 | F22: ㎥ | G22: =I22+K22+M22 -> 7556 | H22: =J22+L22+N22 -> 7556 | I22: =단가산출총괄표!G5 -> 3057 | J22: =TRUNC(E22*I22,0) -> 3057 | K22: =단가산출총괄표!H5 -> 2534 | L22: =TRUNC(E22*K22,0) -> 2534 | M22: =단가산출총괄표!I5 -> 1965 | N22: =TRUNC(E22*M22,0) -> 1965 | O22: 단산2참조
C23: 사석투하(육상수상) | D23: 각종(굴삭기(무한궤도 1.0㎥)) | E23: 1 | F23: ㎥ | G23: =I23+K23+M23 -> #REF! | H23: =J23+L23+N23 -> #REF! | I23: =#REF! -> #REF! | J23: =TRUNC(E23*I23,0) -> #REF! | K23: =#REF! -> #REF! | L23: =TRUNC(E23*K23,0) -> #REF! | M23: =#REF! -> #REF! | N23: =TRUNC(E23*M23,0) -> #REF! | O23: 표준4참조
J24: =TRUNC(E24*I24,0) -> 0 | L24: =TRUNC(E24*K24,0) -> 0 | N24: =TRUNC(E24*M24,0) -> 0
B25: 제5호표 | C25: 치환사석(육상수상,백호) | D25: 0.001~0.03㎥급 | F25: ㎥ | H25: =J25+L25+N25 -> #REF! | J25: =TRUNC(J26+J27+J28) -> #REF! | L25: =TRUNC(L26+L27+L28) -> #REF! | N25: =TRUNC(N26+N27+N28) -> #REF!
C26: 사석(석산상차도) | D26: 0.001~0.03㎥급 | E26: 1 | F26: ㎥ | G26: =I26+K26+M26 -> #REF! | H26: =J26+L26+N26 -> #REF! | I26: =#REF! -> #REF! | J26: =TRUNC(E26*I26,0) -> #REF! | K26: =#REF! -> #REF! | L26: =TRUNC(E26*K26,0) -> #REF! | M26: =#REF! -> #REF! | N26: =TRUNC(E26*M26,0) -> #REF! | O26: 견적2참조
C27: 사석육상운반(석산→현장) | D27: 0.03㎥급이하 | E27: 1 | F27: ㎥ | G27: =I27+K27+M27 -> 7556 | H27: =J27+L27+N27 -> 7556 | I27: =단가산출총괄표!G5 -> 3057 | J27: =TRUNC(E27*I27,0) -> 3057 | K27: =단가산출총괄표!H5 -> 2534 | L27: =TRUNC(E27*K27,0) -> 2534 | M27: =단가산출총괄표!I5 -> 1965 | N27: =TRUNC(E27*M27,0) -> 1965 | O27: 단산2참조
C28: 사석투하(육상수상) | D28: 각종(굴삭기(무한궤도 1.0㎥)) | E28: 1 | F28: ㎥ | G28: =I28+K28+M28 -> #REF! | H28: =J28+L28+N28 -> #REF! | I28: =#REF! -> #REF! | J28: =TRUNC(E28*I28,0) -> #REF! | K28: =#REF! -> #REF! | L28: =TRUNC(E28*K28,0) -> #REF! | M28: =#REF! -> #REF! | N28: =TRUNC(E28*M28,0) -> #REF! | O28: 표준4참조
J29: =TRUNC(E29*I29,0) -> 0 | L29: =TRUNC(E29*K29,0) -> 0 | N29: =TRUNC(E29*M29,0) -> 0
B30: 제6호표 | C30: 필터사석(육상덤프) | D30: Φ100mm이하 | F30: ㎥ | H30: =J30+L30+N30 -> #REF! | J30: =TRUNC(J31+J32+J33) -> #REF! | L30: =TRUNC(L31+L32+L33) -> #REF! | N30: =TRUNC(N31+N32+N33) -> #REF!
C31: 필터사석(석산상차도) | D31: Φ100mm이하 | E31: 1 | F31: ㎥ | G31: =I31+K31+M31 -> #REF! | H31: =J31+L31+N31 -> #REF! | I31: =#REF! -> #REF! | J31: =TRUNC(E31*I31,0) -> #REF! | K31: =#REF! -> #REF! | L31: =TRUNC(E31*K31,0) -> #REF! | M31: =#REF! -> #REF! | N31: =TRUNC(E31*M31,0) -> #REF! | O31: 견적3참조
C32: 육상운반(석산→현장) | D32: Φ100mm이하 | E32: 1 | F32: ㎥ | G32: =I32+K32+M32 -> 6679 | H32: =J32+L32+N32 -> 6679 | I32: =단가산출총괄표!G6 -> 2580 | J32: =TRUNC(E32*I32,0) -> 2580 | K32: =단가산출총괄표!H6 -> 2440 | L32: =TRUNC(E32*K32,0) -> 2440 | M32: =단가산출총괄표!I6 -> 1659 | N32: =TRUNC(E32*M32,0) -> 1659 | O32: 단산3참조
C33: 사석정리 | D33: 각종(불도저 19톤) | E33: 1 | F33: ㎥ | G33: =I33+K33+M33 -> #REF! | H33: =J33+L33+N33 -> #REF! | I33: =#REF! -> #REF! | J33: =TRUNC(E33*I33,0) -> #REF! | K33: =#REF! -> #REF! | L33: =TRUNC(E33*K33,0) -> #REF! | M33: =#REF! -> #REF! | N33: =TRUNC(E33*M33,0) -> #REF! | O33: 표준3참조
J34: =TRUNC(E34*I34,0) -> 0 | L34: =TRUNC(E34*K34,0) -> 0 | N34: =TRUNC(E34*M34,0) -> 0
B35: 제7호표 | C35: 필터사석(육상수상:백호) | D35: Φ100mm이하 | F35: ㎥ | H35: =J35+L35+N35 -> #REF! | J35: =TRUNC(J36+J37+J38) -> #REF! | L35: =TRUNC(L36+L37+L38) -> #REF! | N35: =TRUNC(N36+N37+N38) -> #REF!
C36: 필터사석(석산상차도) | D36: Φ100mm이하 | E36: 1 | F36: ㎥ | G36: =I36+K36+M36 -> #REF! | H36: =J36+L36+N36 -> #REF! | I36: =#REF! -> #REF! | J36: =TRUNC(E36*I36,0) -> #REF! | K36: =#REF! -> #REF! | L36: =TRUNC(E36*K36,0) -> #REF! | M36: =#REF! -> #REF! | N36: =TRUNC(E36*M36,0) -> #REF! | O36: 견적3참조
C37: 육상운반(석산→현장) | D37: Φ100mm이하 | E37: 1 | F37: ㎥ | G37: =I37+K37+M37 -> 6679 | H37: =J37+L37+N37 -> 6679 | I37: =단가산출총괄표!G6 -> 2580 | J37: =TRUNC(E37*I37,0) -> 2580 | K37: =단가산출총괄표!H6 -> 2440 | L37: =TRUNC(E37*K37,0) -> 2440 | M37: =단가산출총괄표!I6 -> 1659 | N37: =TRUNC(E37*M37,0) -> 1659 | O37: 단산3참조
C38: 필터사석투하(육상수상) | D38: D=100mm 이하(굴삭기(무한궤도 1.0㎥)) | E38: 1 | F38: ㎥ | G38: =I38+K38+M38 -> #REF! | H38: =J38+L38+N38 -> #REF! | I38: =#REF! -> #REF! | J38: =TRUNC(E38*I38,0) -> #REF! | K38: =#REF! -> #REF! | L38: =TRUNC(E38*K38,0) -> #REF! | M38: =#REF! -> #REF! | N38: =TRUNC(E38*M38,0) -> #REF! | O38: 표준5참조
J39: =TRUNC(E39*I39,0) -> 0 | L39: =TRUNC(E39*K39,0) -> 0 | N39: =TRUNC(E39*M39,0) -> 0
B40: 제8호표 | C40: 보호압사석(육상수중,크람셀) | D40: 0.001~0.03㎥급 | F40: ㎥ | H40: =J40+L40+N40 -> #REF! | J40: =TRUNC(J41+J42+J43) -> #REF! | L40: =TRUNC(L41+L42+L43) -> #REF! | N40: =TRUNC(N41+N42+N43) -> #REF!
C41: 사석(석산상차도) | D41: 0.001~0.03㎥급 | E41: 1 | F41: ㎥ | G41: =I41+K41+M41 -> #REF! | H41: =J41+L41+N41 -> #REF! | I41: =#REF! -> #REF! | J41: =TRUNC(E41*I41,0) -> #REF! | K41: =#REF! -> #REF! | L41: =TRUNC(E41*K41,0) -> #REF! | M41: =#REF! -> #REF! | N41: =TRUNC(E41*M41,0) -> #REF! | O41: 견적2참조
C42: 사석육상운반(석산→현장) | D42: 0.03㎥급이하 | E42: 1 | F42: ㎥ | G42: =I42+K42+M42 -> 7556 | H42: =J42+L42+N42 -> 7556 | I42: =단가산출총괄표!G5 -> 3057 | J42: =TRUNC(E42*I42,0) -> 3057 | K42: =단가산출총괄표!H5 -> 2534 | L42: =TRUNC(E42*K42,0) -> 2534 | M42: =단가산출총괄표!I5 -> 1965 | N42: =TRUNC(E42*M42,0) -> 1965 | O42: 단산2참조
C43: 사석투하(육상수중,크램셀) | D43: 0.03㎥이하 | E43: 1 | F43: ㎥ | G43: =I43+K43+M43 -> 5679 | H43: =J43+L43+N43 -> 5679 | I43: =단가산출총괄표!G7 -> 2970 | J43: =TRUNC(E43*I43,0) -> 2970 | K43: =단가산출총괄표!H7 -> 882 | L43: =TRUNC(E43*K43,0) -> 882 | M43: =단가산출총괄표!I7 -> 1827 | N43: =TRUNC(E43*M43,0) -> 1827 | O43: 단산4참조
J44: =TRUNC(E44*I44,0) -> 0 | L44: =TRUNC(E44*K44,0) -> 0 | N44: =TRUNC(E44*M44,0) -> 0
B45: 제9호표 | C45: 보호압사석(육상수상,크람셀) | D45: 0.001~0.03㎥급 | F45: ㎥ | H45: =J45+L45+N45 -> #REF! | J45: =TRUNC(J46+J47+J48) -> #REF! | L45: =TRUNC(L46+L47+L48) -> #REF! | N45: =TRUNC(N46+N47+N48) -> #REF!
C46: 사석(석산상차도) | D46: 0.001~0.03㎥급 | E46: 1 | F46: ㎥ | G46: =I46+K46+M46 -> #REF! | H46: =J46+L46+N46 -> #REF! | I46: =#REF! -> #REF! | J46: =TRUNC(E46*I46,0) -> #REF! | K46: =#REF! -> #REF! | L46: =TRUNC(E46*K46,0) -> #REF! | M46: =#REF! -> #REF! | N46: =TRUNC(E46*M46,0) -> #REF! | O46: 견적2참조
C47: 사석육상운반(석산→현장) | D47: 0.03㎥급이하 | E47: 1 | F47: ㎥ | G47: =I47+K47+M47 -> 7556 | H47: =J47+L47+N47 -> 7556 | I47: =단가산출총괄표!G5 -> 3057 | J47: =TRUNC(E47*I47,0) -> 3057 | K47: =단가산출총괄표!H5 -> 2534 | L47: =TRUNC(E47*K47,0) -> 2534 | M47: =단가산출총괄표!I5 -> 1965 | N47: =TRUNC(E47*M47,0) -> 1965 | O47: 단산2참조
C48: 사석투하(육상수상,크램셀) | D48: 0.03㎥이하 | E48: 1 | F48: ㎥ | G48: =I48+K48+M48 -> 3441 | H48: =J48+L48+N48 -> 3441 | I48: =단가산출총괄표!G8 -> 973 | J48: =TRUNC(E48*I48,0) -> 973 | K48: =단가산출총괄표!H8 -> 721 | L48: =TRUNC(E48*K48,0) -> 721 | M48: =단가산출총괄표!I8 -> 1747 | N48: =TRUNC(E48*M48,0) -> 1747 | O48: 단산5참조
J49: =TRUNC(E49*I49,0) -> 0 | L49: =TRUNC(E49*K49,0) -> 0 | N49: =TRUNC(E49*M49,0) -> 0
B50: 제10호표 | C50: 보호압사석(육상수상,백호) | D50: 0.001~0.03㎥급 | F50: ㎥ | H50: =J50+L50+N50 -> #REF! | J50: =TRUNC(J51+J52+J53) -> #REF! | L50: =TRUNC(L51+L52+L53) -> #REF! | N50: =TRUNC(N51+N52+N53) -> #REF!
C51: 사석(석산상차도) | D51: 0.001~0.03㎥급 | E51: 1 | F51: ㎥ | G51: =I51+K51+M51 -> #REF! | H51: =J51+L51+N51 -> #REF! | I51: =#REF! -> #REF! | J51: =TRUNC(E51*I51,0) -> #REF! | K51: =#REF! -> #REF! | L51: =TRUNC(E51*K51,0) -> #REF! | M51: =#REF! -> #REF! | N51: =TRUNC(E51*M51,0) -> #REF! | O51: 견적2참조
C52: 사석육상운반(석산→현장) | D52: 0.03㎥급이하 | E52: 1 | F52: ㎥ | G52: =I52+K52+M52 -> 7556 | H52: =J52+L52+N52 -> 7556 | I52: =단가산출총괄표!G5 -> 3057 | J52: =TRUNC(E52*I52,0) -> 3057 | K52: =단가산출총괄표!H5 -> 2534 | L52: =TRUNC(E52*K52,0) -> 2534 | M52: =단가산출총괄표!I5 -> 1965 | N52: =TRUNC(E52*M52,0) -> 1965 | O52: 단산2참조
C53: 사석투하(육상수상) | D53: 각종(굴삭기(무한궤도 1.0㎥)) | E53: 1 | F53: ㎥ | G53: =I53+K53+M53 -> #REF! | H53: =J53+L53+N53 -> #REF! | I53: =#REF! -> #REF! | J53: =TRUNC(E53*I53,0) -> #REF! | K53: =#REF! -> #REF! | L53: =TRUNC(E53*K53,0) -> #REF! | M53: =#REF! -> #REF! | N53: =TRUNC(E53*M53,0) -> #REF! | O53: 표준4참조
J54: =TRUNC(E54*I54,0) -> 0 | L54: =TRUNC(E54*K54,0) -> 0 | N54: =TRUNC(E54*M54,0) -> 0
B55: 제11호표 | C55: 필터매트부설 | D55: 수중(잠수조),50kN | F55: ㎡ | H55: =J55+L55+N55 -> #REF! | J55: =TRUNC(J56+J57) -> #REF! | L55: =TRUNC(L56+L57) -> #REF! | N55: =TRUNC(N56+N57) -> #REF!
C56: 필터매트 | D56: 50kN/m | E56: 1.15 | F56: ㎡ | G56: =I56+K56+M56 -> #REF! | H56: =J56+L56+N56 -> #REF! | I56: =#REF! -> #REF! | J56: =TRUNC(E56*I56,0) -> #REF! | K56: =#REF! -> #REF! | L56: =TRUNC(E56*K56,0) -> #REF! | M56: =#REF! -> #REF! | N56: =TRUNC(E56*M56,0) -> #REF!
C57: 필터매트부설 | D57: 수중(잠수조 | E57: 1 | F57: ㎡ | G57: =I57+K57+M57 -> #REF! | H57: =J57+L57+N57 -> #REF! | I57: =#REF! -> #REF! | J57: =TRUNC(E57*I57,0) -> #REF! | K57: =#REF! -> #REF! | L57: =TRUNC(E57*K57,0) -> #REF! | M57: =#REF! -> #REF! | N57: =TRUNC(E57*M57,0) -> #REF! | O57: 표준8참조
J58: =TRUNC(E58*I58,0) -> 0 | L58: =TRUNC(E58*K58,0) -> 0 | N58: =TRUNC(E58*M58,0) -> 0
B59: 제12호표 | C59: 필터매트부설 | D59: 수상,50kN | F59: ㎡ | H59: =J59+L59+N59 -> #REF! | J59: =TRUNC(J60+J61) -> #REF! | L59: =TRUNC(L60+L61) -> #REF! | N59: =TRUNC(N60+N61) -> #REF!
C60: 필터매트 | D60: 50kN/m | E60: 1.1 | F60: ㎡ | G60: =I60+K60+M60 -> #REF! | H60: =J60+L60+N60 -> #REF! | I60: =#REF! -> #REF! | J60: =TRUNC(E60*I60,0) -> #REF! | K60: =#REF! -> #REF! | L60: =TRUNC(E60*K60,0) -> #REF! | M60: =#REF! -> #REF! | N60: =TRUNC(E60*M60,0) -> #REF!
C61: 필터매트부설 | D61: 수상 | E61: 1 | F61: ㎡ | G61: =I61+K61+M61 -> #REF! | H61: =J61+L61+N61 -> #REF! | I61: =#REF! -> #REF! | J61: =TRUNC(E61*I61,0) -> #REF! | K61: =#REF! -> #REF! | L61: =TRUNC(E61*K61,0) -> #REF! | M61: =#REF! -> #REF! | N61: =TRUNC(E61*M61,0) -> #REF! | O61: 표준9참조
J62: =TRUNC(E62*I62,0) -> 0 | L62: =TRUNC(E62*K62,0) -> 0 | N62: =TRUNC(E62*M62,0) -> 0
B63: 제13호표 | C63: 복합매트부설(수중) | D63: 100KN | F63: ㎡ | H63: =J63+L63+N63 -> #REF! | J63: =TRUNC(J64+J65) -> #REF! | L63: =TRUNC(L64+L65) -> #REF! | N63: =TRUNC(N64+N65) -> #REF!
C64: 복합매트 | D64: 100kN/m | E64: 1.15 | F64: ㎡ | G64: =I64+K64+M64 -> #REF! | H64: =J64+L64+N64 -> #REF! | I64: =#REF! -> #REF! | J64: =TRUNC(E64*I64,0) -> #REF! | K64: =#REF! -> #REF! | L64: =TRUNC(E64*K64,0) -> #REF! | M64: =#REF! -> #REF! | N64: =TRUNC(E64*M64,0) -> #REF! | O64: 견적78
C65: 필터매트부설 | D65: 수중(잠수조 | E65: 1 | F65: ㎡ | G65: =I65+K65+M65 -> #REF! | H65: =J65+L65+N65 -> #REF! | I65: =#REF! -> #REF! | J65: =TRUNC(E65*I65,0) -> #REF! | K65: =#REF! -> #REF! | L65: =TRUNC(E65*K65,0) -> #REF! | M65: =#REF! -> #REF! | N65: =TRUNC(E65*M65,0) -> #REF! | O65: 표준8참조
J66: =TRUNC(E66*I66,0) -> 0 | L66: =TRUNC(E66*K66,0) -> 0 | N66: =TRUNC(E66*M66,0) -> 0
B67: 제14호표 | C67: 복합매트부설(수상) | D67: 100KN | F67: ㎡ | H67: =J67+L67+N67 -> #REF! | J67: =TRUNC(J68+J69) -> #REF! | L67: =TRUNC(L68+L69) -> #REF! | N67: =TRUNC(N68+N69) -> #REF!
C68: 복합매트 | D68: 100kN/m | E68: 1.1 | F68: ㎡ | G68: =I68+K68+M68 -> #REF! | H68: =J68+L68+N68 -> #REF! | I68: =#REF! -> #REF! | J68: =TRUNC(E68*I68,0) -> #REF! | K68: =#REF! -> #REF! | L68: =TRUNC(E68*K68,0) -> #REF! | M68: =#REF! -> #REF! | N68: =TRUNC(E68*M68,0) -> #REF! | O68: 견적78
C69: 필터매트부설 | D69: 수상 | E69: 1 | F69: ㎡ | G69: =I69+K69+M69 -> #REF! | H69: =J69+L69+N69 -> #REF! | I69: =#REF! -> #REF! | J69: =TRUNC(E69*I69,0) -> #REF! | K69: =#REF! -> #REF! | L69: =TRUNC(E69*K69,0) -> #REF! | M69: =#REF! -> #REF! | N69: =TRUNC(E69*M69,0) -> #REF! | O69: 표준9참조
J70: =TRUNC(E70*I70,0) -> 0 | L70: =TRUNC(E70*K70,0) -> 0 | N70: =TRUNC(E70*M70,0) -> 0
B71: 제15호표 | C71: 차수매트부설(수상) | D71: 50KN | F71: ㎡ | H71: =J71+L71+N71 -> #REF! | J71: =TRUNC(J72+J73) -> #REF! | L71: =TRUNC(L72+L73) -> #REF! | N71: =TRUNC(N72+N73) -> #REF!
C72: 차수매트 | D72: 50kN/㎡ | E72: 1.1 | F72: ㎡ | G72: =I72+K72+M72 -> #REF! | H72: =J72+L72+N72 -> #REF! | I72: =#REF! -> #REF! | J72: =TRUNC(E72*I72,0) -> #REF! | K72: =#REF! -> #REF! | L72: =TRUNC(E72*K72,0) -> #REF! | M72: =#REF! -> #REF! | N72: =TRUNC(E72*M72,0) -> #REF!
C73: 필터매트부설 | D73: 수상 | E73: 1 | F73: ㎡ | G73: =I73+K73+M73 -> #REF! | H73: =J73+L73+N73 -> #REF! | I73: =#REF! -> #REF! | J73: =TRUNC(E73*I73,0) -> #REF! | K73: =#REF! -> #REF! | L73: =TRUNC(E73*K73,0) -> #REF! | M73: =#REF! -> #REF! | N73: =TRUNC(E73*M73,0) -> #REF! | O73: 표준9참조
J74: =TRUNC(E74*I74,0) -> 0 | L74: =TRUNC(E74*K74,0) -> 0 | N74: =TRUNC(E74*M74,0) -> 0
B75: 제16호표 | C75: 중간피복석(육상수중) | D75: 0.03㎥급 | F75: ㎥ | H75: =J75+L75+N75 -> #REF! | J75: =TRUNC(J76+J77+J78) -> #REF! | L75: =TRUNC(L76+L77+L78) -> #REF! | N75: =TRUNC(N76+N77+N78) -> #REF!
C76: 사석(석산상차도) | D76: 0.03㎥급 | E76: 1 | F76: ㎥ | G76: =I76+K76+M76 -> #REF! | H76: =J76+L76+N76 -> #REF! | I76: =#REF! -> #REF! | J76: =TRUNC(E76*I76,0) -> #REF! | K76: =#REF! -> #REF! | L76: =TRUNC(E76*K76,0) -> #REF! | M76: =#REF! -> #REF! | N76: =TRUNC(E76*M76,0) -> #REF! | O76: 견적4참조
C77: 사석육상운반(석산→현장) | D77: 0.03㎥급이하 | E77: 1 | F77: ㎥ | G77: =I77+K77+M77 -> 7556 | H77: =J77+L77+N77 -> 7556 | I77: =단가산출총괄표!G5 -> 3057 | J77: =TRUNC(E77*I77,0) -> 3057 | K77: =단가산출총괄표!H5 -> 2534 | L77: =TRUNC(E77*K77,0) -> 2534 | M77: =단가산출총괄표!I5 -> 1965 | N77: =TRUNC(E77*M77,0) -> 1965 | O77: 단산2참조
C78: 피복석투하(육상수중) | D78: 0.1~0.4㎥(크레인 25톤, 잠수조) | E78: 1 | F78: ㎥ | G78: =I78+K78+M78 -> #REF! | H78: =J78+L78+N78 -> #REF! | I78: =#REF! -> #REF! | J78: =TRUNC(E78*I78,0) -> #REF! | K78: =#REF! -> #REF! | L78: =TRUNC(E78*K78,0) -> #REF! | M78: =#REF! -> #REF! | N78: =TRUNC(E78*M78,0) -> #REF! | O78: 표준10참조
J79: =TRUNC(E79*I79,0) -> 0 | L79: =TRUNC(E79*K79,0) -> 0 | N79: =TRUNC(E79*M79,0) -> 0
B80: 제17호표 | C80: 중간피복석(육상수상) | D80: 0.03㎥급 | F80: ㎥ | H80: =J80+L80+N80 -> #REF! | J80: =TRUNC(J81+J82+J83) -> #REF! | L80: =TRUNC(L81+L82+L83) -> #REF! | N80: =TRUNC(N81+N82+N83) -> #REF!
C81: 사석(석산상차도) | D81: 0.03㎥급 | E81: 1 | F81: ㎥ | G81: =I81+K81+M81 -> #REF! | H81: =J81+L81+N81 -> #REF! | I81: =#REF! -> #REF! | J81: =TRUNC(E81*I81,0) -> #REF! | K81: =#REF! -> #REF! | L81: =TRUNC(E81*K81,0) -> #REF! | M81: =#REF! -> #REF! | N81: =TRUNC(E81*M81,0) -> #REF! | O81: 견적4참조
C82: 사석육상운반(석산→현장) | D82: 0.03㎥급이하 | E82: 1 | F82: ㎥ | G82: =I82+K82+M82 -> 7556 | H82: =J82+L82+N82 -> 7556 | I82: =단가산출총괄표!G5 -> 3057 | J82: =TRUNC(E82*I82,0) -> 3057 | K82: =단가산출총괄표!H5 -> 2534 | L82: =TRUNC(E82*K82,0) -> 2534 | M82: =단가산출총괄표!I5 -> 1965 | N82: =TRUNC(E82*M82,0) -> 1965 | O82: 단산2참조
C83: 피복석투하(육상수상) | D83: 0.1~0.4㎥(크레인 10톤) | E83: 1 | F83: ㎥ | G83: =I83+K83+M83 -> #REF! | H83: =J83+L83+N83 -> #REF! | I83: =#REF! -> #REF! | J83: =TRUNC(E83*I83,0) -> #REF! | K83: =#REF! -> #REF! | L83: =TRUNC(E83*K83,0) -> #REF! | M83: =#REF! -> #REF! | N83: =TRUNC(E83*M83,0) -> #REF! | O83: 표준11참조
J84: =TRUNC(E84*I84,0) -> 0 | L84: =TRUNC(E84*K84,0) -> 0 | N84: =TRUNC(E84*M84,0) -> 0
B85: 제18호표 | C85: 피복석(해상수중) | D85: 0.4㎥급 | F85: ㎥ | H85: =J85+L85+N85 -> #REF! | J85: =TRUNC(J86+J87+J88+J89) -> #REF! | L85: =TRUNC(L86+L87+L88+L89) -> #REF! | N85: =TRUNC(N86+N87+N88+N89) -> #REF!
C86: 피복석(대선상차도) | D86: 0.4㎥급 | E86: 1 | F86: ㎥ | G86: =I86+K86+M86 -> #REF! | H86: =J86+L86+N86 -> #REF! | I86: =#REF! -> #REF! | J86: =TRUNC(E86*I86,0) -> #REF! | K86: =#REF! -> #REF! | L86: =TRUNC(E86*K86,0) -> #REF! | M86: =#REF! -> #REF! | N86: =TRUNC(E86*M86,0) -> #REF! | O86: 견적5참조
C87: 피복석해상운반 | D87: 0.4㎥급 | E87: 1 | F87: ㎥ | G87: =I87+K87+M87 -> 9584 | H87: =J87+L87+N87 -> 9584 | I87: =단가산출총괄표!G9 -> 5131 | J87: =TRUNC(E87*I87,0) -> 5131 | K87: =단가산출총괄표!H9 -> 1038 | L87: =TRUNC(E87*K87,0) -> 1038 | M87: =단가산출총괄표!I9 -> 3415 | N87: =TRUNC(E87*M87,0) -> 3415 | O87: 단산6참조
C88: 피복석투하(해상수중) | D88: 0.1~0.4㎥(조합기중기선 10톤, 잠수조) | E88: 1 | F88: ㎥ | G88: =I88+K88+M88 -> #REF! | H88: =J88+L88+N88 -> #REF! | I88: =#REF! -> #REF! | J88: =TRUNC(E88*I88,0) -> #REF! | K88: =#REF! -> #REF! | L88: =TRUNC(E88*K88,0) -> #REF! | M88: =#REF! -> #REF! | N88: =TRUNC(E88*M88,0) -> #REF! | O88: 표준12참조
C89: 해상기중기 예인 및 피예인 | D89: 0.4㎥급 | E89: 1 | F89: ㎥ | G89: =I89+K89+M89 -> 2637 | H89: =J89+L89+N89 -> 2637 | I89: =단가산출총괄표!G10 -> 1824 | J89: =TRUNC(E89*I89,0) -> 1824 | K89: =단가산출총괄표!H10 -> 638 | L89: =TRUNC(E89*K89,0) -> 638 | M89: =단가산출총괄표!I10 -> 175 | N89: =TRUNC(E89*M89,0) -> 175 | O89: 단산7참조
J90: =TRUNC(E90*I90,0) -> 0 | L90: =TRUNC(E90*K90,0) -> 0 | N90: =TRUNC(E90*M90,0) -> 0
B91: 제19호표 | C91: 피복석(해상수상) | D91: 0.4㎥급, 기중기25Ton | F91: ㎥ | H91: =J91+L91+N91 -> #REF! | J91: =TRUNC(J92+J93+J94+J95) -> #REF! | L91: =TRUNC(L92+L93+L94+L95) -> #REF! | N91: =TRUNC(N92+N93+N94+N95) -> #REF!
C92: 피복석(대선상차도) | D92: 0.4㎥급 | E92: 1 | F92: ㎥ | G92: =I92+K92+M92 -> #REF! | H92: =J92+L92+N92 -> #REF! | I92: =#REF! -> #REF! | J92: =TRUNC(E92*I92,0) -> #REF! | K92: =#REF! -> #REF! | L92: =TRUNC(E92*K92,0) -> #REF! | M92: =#REF! -> #REF! | N92: =TRUNC(E92*M92,0) -> #REF! | O92: 견적5참조
C93: 피복석해상운반 | D93: 0.4㎥급 | E93: 1 | F93: ㎥ | G93: =I93+K93+M93 -> 9584 | H93: =J93+L93+N93 -> 9584 | I93: =단가산출총괄표!G9 -> 5131 | J93: =TRUNC(E93*I93,0) -> 5131 | K93: =단가산출총괄표!H9 -> 1038 | L93: =TRUNC(E93*K93,0) -> 1038 | M93: =단가산출총괄표!I9 -> 3415 | N93: =TRUNC(E93*M93,0) -> 3415 | O93: 단산6참조
C94: 피복석투하(해상수상) | D94: 0.4㎥급,기중기선 25톤급 | E94: 1 | F94: ㎥ | G94: =I94+K94+M94 -> 14748 | H94: =J94+L94+N94 -> 14748 | I94: =단가산출총괄표!G11 -> 11669 | J94: =TRUNC(E94*I94,0) -> 11669 | K94: =단가산출총괄표!H11 -> 1160 | L94: =TRUNC(E94*K94,0) -> 1160 | M94: =단가산출총괄표!I11 -> 1919 | N94: =TRUNC(E94*M94,0) -> 1919 | O94: 단산8참조
C95: 해상기중기 예인 및 피예인 | D95: 0.4㎥급 | E95: 1 | F95: ㎥ | G95: =I95+K95+M95 -> 2637 | H95: =J95+L95+N95 -> 2637 | I95: =단가산출총괄표!G10 -> 1824 | J95: =TRUNC(E95*I95,0) -> 1824 | K95: =단가산출총괄표!H10 -> 638 | L95: =TRUNC(E95*K95,0) -> 638 | M95: =단가산출총괄표!I10 -> 175 | N95: =TRUNC(E95*M95,0) -> 175 | O95: 단산7참조
J96: =TRUNC(E96*I96,0) -> 0 | L96: =TRUNC(E96*K96,0) -> 0 | N96: =TRUNC(E96*M96,0) -> 0
B97: 제20호표 | C97: 피복석속고르기(해상수중) | D97: 0.4㎥급(H=0~15m) | F97: ㎡ | H97: =J97+L97+N97 -> #REF! | J97: =TRUNC(J98+J99) -> #REF! | L97: =TRUNC(L98+L99) -> #REF! | N97: =TRUNC(N98+N99) -> #REF!
C98: 피복석속고르기(해상수중) | D98: 0.1~0.5㎥급 이하(이우선5톤,잠수조),수중(H=0~15ｍ) | E98: 1 | F98: ㎡ | G98: =I98+K98+M98 -> #REF! | H98: =J98+L98+N98 -> #REF! | I98: =#REF! -> #REF! | J98: =TRUNC(E98*I98,0) -> #REF! | K98: =#REF! -> #REF! | L98: =TRUNC(E98*K98,0) -> #REF! | M98: =#REF! -> #REF! | N98: =TRUNC(E98*M98,0) -> #REF! | O98: 표준15참조
C99: 피복석속고르기 이우선예인 및 피예인노력비(해상수중 | D99: 0.5㎥급까지 | E99: 1 | F99: ㎡ | G99: =I99+K99+M99 -> 21121 | H99: =J99+L99+N99 -> 21121 | I99: =단가산출총괄표!G12 -> 15032 | J99: =TRUNC(E99*I99,0) -> 15032 | K99: =단가산출총괄표!H12 -> 4778 | L99: =TRUNC(E99*K99,0) -> 4778 | M99: =단가산출총괄표!I12 -> 1311 | N99: =TRUNC(E99*M99,0) -> 1311 | O99: 단산9참조
J100: =TRUNC(E100*I100,0) -> 0 | L100: =TRUNC(E100*K100,0) -> 0 | N100: =TRUNC(E100*M100,0) -> 0
B101: 제21호표 | C101: 피복석고르기(해상수중) | D101: 0.4㎥급(H=0~15m) | F101: ㎡ | H101: =J101+L101+N101 -> #REF! | J101: =TRUNC(J102+J103) -> #REF! | L101: =TRUNC(L102+L103) -> #REF! | N101: =TRUNC(N102+N103) -> #REF!
...

Sheet 단가산출총괄표1
B1: 단가산출총괄표
B3: No | C3: 품 명 | D3: 규 격 | E3: 단위 | F3: 합 계 | G3: 노무비 | H3: 재료비 | I3: 경 비 | J3: 비 고 | Z3: 당초합계 | AA3: 당초노무비 | AB3: 당초재료비 | AC3: 당초경비
B4: 39 | C4: 동치환(북측배수호안) | D4: 치환두께 2.5m이하 | E4: ㎡ | F4: =G4+H4+I4 -> 19678 | G4: =단가산출1!D5 -> 8881 | H4: =단가산출1!E5 -> 5021 | I4: =단가산출1!F5 -> 5776 | Z4: 20816 | AA4: 9419 | AB4: 5304 | AC4: 6093
B5: 40 | C5: 동치환(북측배수호안) | D5: 치환두께 4.0m이하 | E5: ㎡ | F5: =G5+H5+I5 -> 45481 | G5: =단가산출1!D149 -> 20337 | H5: =단가산출1!E149 -> 11437 | I5: =단가산출1!F149 -> 13707 | Z5: 45484 | AA5: 20340 | AB5: 11437 | AC5: 13707
B6: 39 | C6: 동치환(북측배수호안) | D6: 치환두께 2.5m이하 | E6: ㎡ | F6: =G6+H6+I6 -> 23871 | G6: =단가산출1!D321 -> 12822 | H6: =단가산출1!E321 -> 5900 | I6: =단가산출1!F321 -> 5149 | Z6: 23871 | AA6: 12822 | AB6: 5900 | AC6: 5149
B7: 40 | C7: 동치환(북측배수호안) | D7: 치환두께 4.0m이하 | E7: ㎡ | F7: =G7+H7+I7 -> 54359 | G7: =단가산출1!D465 -> 28839 | H7: =단가산출1!E465 -> 13278 | I7: =단가산출1!F465 -> 12242 | Z7: 54359 | AA7: 28839 | AB7: 13278 | AC7: 12242
B8: 41 | C8: 동치환(서측분리 1구간) | D8: 치환두께 2.5m이하 | E8: ㎡ | F8: =G8+H8+I8 -> 20816 | G8: =단가산출1!D637 -> 9419 | H8: =단가산출1!E637 -> 5304 | I8: =단가산출1!F637 -> 6093 | Z8: 20816 | AA8: 9419 | AB8: 5304 | AC8: 6093
B9: 42 | C9: 동치환(서측분리 1구간) | D9: 치환두께 4.0m이하 | E9: ㎡ | F9: =G9+H9+I9 -> 35169 | G9: =단가산출1!D781 -> 15760 | H9: =단가산출1!E781 -> 8872 | I9: =단가산출1!F781 -> 10537 | Z9: 35169 | AA9: 15760 | AB9: 8872 | AC9: 10537
B10: 43 | C10: 동치환(서측분리 2구간) | D10: 치환두께 2.5m이하 | E10: ㎡ | F10: =G10+H10+I10 -> 13940 | G10: =단가산출1!D953 -> 6365 | H10: =단가산출1!E953 -> 3594 | I10: =단가산출1!F953 -> 3981 | Z10: 13940 | AA10: 6365 | AB10: 3594 | AC10: 3981
B11: 44 | C11: 동치환(서측분리 2구간) | D11: 치환두께 4.0m이하 | E11: ㎡ | F11: =G11+H11+I11 -> 28282 | G11: =단가산출1!D1097 -> 12703 | H11: =단가산출1!E1097 -> 7160 | I11: =단가산출1!F1097 -> 8419 | Z11: 28282 | AA11: 12703 | AB11: 7160 | AC11: 8419
B12: 45 | C12: 동치환(내부가호안 1구간) | D12: 치환두께 2.5m이하 | E12: ㎡ | F12: =G12+H12+I12 -> 19097 | G12: =단가산출1!D1269 -> 8656 | H12: =단가산출1!E1269 -> 4876 | I12: =단가산출1!F1269 -> 5565 | Z12: 19097 | AA12: 8656 | AB12: 4876 | AC12: 5565
B13: 46 | C13: 동치환(내부가호안 1구간) | D13: 치환두께 4.0m이하 | E13: ㎡ | F13: =G13+H13+I13 -> 38596 | G13: =단가산출1!D1413 -> 17284 | H13: =단가산출1!E1413 -> 9724 | I13: =단가산출1!F1413 -> 11588 | Z13: 38596 | AA13: 17284 | AB13: 9724 | AC13: 11588
B14: 47 | C14: 동치환(내부가호안 2구간) | D14: 치환두께 2.5m이하 | E14: ㎡ | F14: =G14+H14+I14 -> 17377 | G14: =단가산출1!D1585 -> 7891 | H14: =단가산출1!E1585 -> 4449 | I14: =단가산출1!F1585 -> 5037 | Z14: 17377 | AA14: 7891 | AB14: 4449 | AC14: 5037
B15: 48 | C15: 동치환(내부가호안 2구간) | D15: 치환두께 4.0m이하 | E15: ㎡ | F15: =G15+H15+I15 -> 35169 | G15: =단가산출1!D1729 -> 15760 | H15: =단가산출1!E1729 -> 8872 | I15: =단가산출1!F1729 -> 10537 | Z15: 35169 | AA15: 15760 | AB15: 8872 | AC15: 10537
B16: 49 | C16: 동다짐 | D16: 다짐두께 2.5m이하 | E16: ㎡ | F16: =G16+H16+I16 -> 9044 | G16: =단가산출1!D1901 -> 4247 | H16: =단가산출1!E1901 -> 2261 | I16: =단가산출1!F1901 -> 2536 | Z16: 9044 | AA16: 4247 | AB16: 2261 | AC16: 2536
B17: 50 | C17: 피복석해상운반 | D17: 0.1㎥급 | E17: ㎥ | F17: =G17+H17+I17 -> 9584 | G17: =단가산출1!D2050 -> 5131 | H17: =단가산출1!E2050 -> 1038 | I17: =단가산출1!F2050 -> 3415 | Z17: 9584 | AA17: 5131 | AB17: 1038 | AC17: 3415
B18: 51 | C18: 해상기중기 예인 및 피예인 | D18: 0.1㎥급 | E18: ㎥ | F18: =G18+H18+I18 -> 2268 | G18: =단가산출1!D2110 -> 1572 | H18: =단가산출1!E2110 -> 546 | I18: =단가산출1!F2110 -> 150 | Z18: 2268 | AA18: 1572 | AB18: 546 | AC18: 150
B19: 52 | C19: 피복석투하(해상수상) | D19: 0.1㎥급, 기중기선25톤 | E19: ㎥ | F19: =G19+H19+I19 -> 14259 | G19: =단가산출1!D2165 -> 11375 | H19: =단가산출1!E2165 -> 1087 | I19: =단가산출1!F2165 -> 1797 | Z19: 14259 | AA19: 11375 | AB19: 1087 | AC19: 1797
B20: 53 | C20: 콘크리트블록운반거치 | D20: 해상수중:25~30톤 | E20: EA | F20: =G20+H20+I20 -> 1017681 | G20: =단가산출1!D2195 -> 758236 | H20: =단가산출1!E2195 -> 101037 | I20: =단가산출1!F2195 -> 158408 | Z20: 1017681 | AA20: 758236 | AB20: 101037 | AC20: 158408
B21: 54 | C21: 콘크리트블록운반거치 | D21: 해상수중:40~45톤 | E21: EA | F21: =G21+H21+I21 -> 1330797 | G21: =단가산출1!D2378 -> 886534 | H21: =단가산출1!E2378 -> 160672 | I21: =단가산출1!F2378 -> 283591 | Z21: 1330797 | AA21: 886534 | AB21: 160672 | AC21: 283591
B22: 55 | C22: 콘크리트블록운반거치 | D22: 해상수중:45~50톤 | E22: EA | F22: =G22+H22+I22 -> 1350924 | G22: =단가산출1!D2561 -> 888527 | H22: =단가산출1!E2561 -> 167611 | I22: =단가산출1!F2561 -> 294786 | Z22: 1350924 | AA22: 888527 | AB22: 167611 | AC22: 294786
B23: 56 | C23: 콘크리트블록운반거치 | D23: 해상수중:55~60톤 | E23: EA | F23: =G23+H23+I23 -> 1521998 | G23: =단가산출1!D2744 -> 946451 | H23: =단가산출1!E2744 -> 182726 | I23: =단가산출1!F2744 -> 392821 | Z23: 1521998 | AA23: 946451 | AB23: 182726 | AC23: 392821
B24: 57 | C24: 콘크리트블록운반거치 | D24: 해상수중:65~70톤 | E24: EA | F24: =G24+H24+I24 -> 1494415 | G24: =단가산출1!D2927 -> 941909 | H24: =단가산출1!E2927 -> 179499 | I24: =단가산출1!F2927 -> 373007 | Z24: 1494415 | AA24: 941909 | AB24: 179499 | AC24: 373007
B25: 58 | C25: 콘크리트블록운반거치 | D25: 해상수중:30~35톤 | E25: EA | F25: =G25+H25+I25 -> 1205462 | G25: =단가산출1!D3074 -> 870641 | H25: =단가산출1!E3074 -> 123450 | I25: =단가산출1!F3074 -> 211371 | Z25: 1205462 | AA25: 870641 | AB25: 123450 | AC25: 211371
B26: 59 | C26: 콘크리트블록운반거치 | D26: 해상수중:35~40톤 | E26: EA | F26: =G26+H26+I26 -> 1231831 | G26: =단가산출1!D3257 -> 862696 | H26: =단가산출1!E3257 -> 126988 | I26: =단가산출1!F3257 -> 242147 | Z26: 1231831 | AA26: 862696 | AB26: 126988 | AC26: 242147
B27: 60 | C27: 줄눈설치 | D27: 수축줄눈 | E27: M | F27: =G27+H27+I27 -> 5896 | G27: =단가산출1!D3440 -> 2086 | H27: =단가산출1!E3440 -> 3743 | I27: =단가산출1!F3440 -> 67 | Z27: 5896 | AA27: 2086 | AB27: 3743 | AC27: 67
B28: 61 | C28: 콘크리트 포장줄눈 절단 | E28: M | F28: =G28+H28+I28 -> 2013 | G28: =단가산출1!D3483 -> 1132 | H28: =단가산출1!E3483 -> 814 | I28: =단가산출1!F3483 -> 67 | Z28: 2013 | AA28: 1132 | AB28: 814 | AC28: 67
B29: 62 | C29: 콘크리트블록운반거치 | D29: 해상수중:20~25톤 | E29: EA | F29: =G29+H29+I29 -> 867213 | G29: =단가산출1!D3558 -> 657171 | H29: =단가산출1!E3558 -> 77542 | I29: =단가산출1!F3558 -> 132500 | Z29: 867213 | AA29: 657171 | AB29: 77542 | AC29: 132500
B30: 63 | C30: 피복석투하(해상수상)-품 | D30: 1.0㎥급 | E30: ㎥ | F30: =G30+H30+I30 -> 16212 | G30: =단가산출1!D3741 -> 12550 | H30: =단가산출1!E3741 -> 1380 | I30: =단가산출1!F3741 -> 2282 | Z30: 16212 | AA30: 12550 | AB30: 1380 | AC30: 2282
B31: 64 | C31: 피복석육상운반(석산→현장) | D31: 1.0㎥급 | E31: ㎥ | F31: =G31+H31+I31 -> 13288 | G31: =단가산출1!D3771 -> 7015 | H31: =단가산출1!E3771 -> 2944 | I31: =단가산출1!F3771 -> 3329 | Z31: 13288 | AA31: 7015 | AB31: 2944 | AC31: 3329
B32: 65 | C32: 철근 권상 | D32: H = 7m이상 | E32: Ton | F32: =G32+H32+I32 -> 25574 | G32: =단가산출1!D3821 -> 17702 | H32: =단가산출1!E3821 -> 1936 | I32: =단가산출1!F3821 -> 5936 | Z32: 25574 | AA32: 17702 | AB32: 1936 | AC32: 5936
B33: 66 | C33: 무수축몰탈 | E33: ㎥ | F33: =G33+H33+I33 -> 566828 | G33: =단가산출1!D3853 -> 367903 | H33: =단가산출1!E3853 -> 198925 | I33: =단가산출1!F3853 -> 0 | Z33: 566828 | AA33: 367903 | AB33: 198925
B34: 67 | C34: 흄관부설및접합(고무링접합) | D34: D=300mm | E34: M | F34: =G34+H34+I34 -> 27577 | G34: =단가산출1!D3902 -> 22969 | H34: =단가산출1!E3902 -> 2450 | I34: =단가산출1!F3902 -> 2158 | Z34: 27577 | AA34: 22969 | AB34: 2450 | AC34: 2158
B35: 68 | C35: 여수토점검로운반거치 | E35: 기 | F35: =G35+H35+I35 -> 1531066 | G35: =단가산출1!D3936 -> 876254 | H35: =단가산출1!E3936 -> 199807 | I35: =단가산출1!F3936 -> 455005 | Z35: 1531066 | AA35: 876254 | AB35: 199807 | AC35: 455005
B36: 69 | C36: 절토 및 야적 | D36: 토사 | E36: ㎥ | F36: =G36+H36+I36 -> 5095 | G36: =단가산출1!D4119 -> 2583 | H36: =단가산출1!E4119 -> 1020 | I36: =단가산출1!F4119 -> 1492 | Z36: 5095 | AA36: 2583 | AB36: 1020 | AC36: 1492
B37: 70 | C37: 보도용 블록 장비사용 철거 | D37: A-Type | E37: ㎡ | F37: =G37+H37+I37 -> 2454 | G37: =단가산출1!D4200 -> 1787 | H37: =단가산출1!E4200 -> 376 | I37: =단가산출1!F4200 -> 291 | Z37: 2454 | AA37: 1787 | AB37: 376 | AC37: 291
B38: 71 | C38: 보차도 및 도로경계블록 철거 | D38: A-Type, 500mm미만(폭+높이) | E38: M | F38: =G38+H38+I38 -> 6015 | G38: =단가산출1!D4246 -> 4529 | H38: =단가산출1!E4246 -> 837 | I38: =단가산출1!F4246 -> 649 | Z38: 6015 | AA38: 4529 | AB38: 837 | AC38: 649
B39: 72 | C39: 보차도 및 도로경계블록 철거 | D39: A-Type, 300mm미만(폭+높이) | E39: M | F39: =G39+H39+I39 -> 3247 | G39: =단가산출1!D4285 -> 2445 | H39: =단가산출1!E4285 -> 452 | I39: =단가산출1!F4285 -> 350 | Z39: 3247 | AA39: 2445 | AB39: 452 | AC39: 350
B40: 73 | C40: 폐기물상차 | D40: 백호1.0㎥ | E40: ㎥ | F40: =G40+H40+I40 -> 4254 | G40: =단가산출1!D4324 -> 1683 | H40: =단가산출1!E4324 -> 1472 | I40: =단가산출1!F4324 -> 1099 | Z40: 4254 | AA40: 1683 | AB40: 1472 | AC40: 1099
B41: 74 | C41: 교통안전표지판 철거 | E41: EA | F41: =G41+H41+I41 -> 56147 | G41: =단가산출1!D4341 -> 49419 | H41: =단가산출1!E4341 -> 3925 | I41: =단가산출1!F4341 -> 2803 | Z41: 56147 | AA41: 49419 | AB41: 3925 | AC41: 2803
B42: 75 | C42: 투수아스팔트 표층 포설및다짐 | D42: 소규모포설,t=5~7cm | E42: ㎡ | F42: =G42+H42+I42 -> 7688 | G42: =단가산출1!D4373 -> 6429 | H42: =단가산출1!E4373 -> 831 | I42: =단가산출1!F4373 -> 428 | Z42: 7688 | AA42: 6429 | AB42: 831 | AC42: 428
B43: 76 | C43: 아스팔트 표층 포설및다짐 | D43: 소규모포설,t=7.5cm이하 | E43: ㎡ | F43: =G43+H43+I43 -> 6404 | G43: =단가산출1!D4433 -> 5356 | H43: =단가산출1!E4433 -> 691 | I43: =단가산출1!F4433 -> 357 | Z43: 6404 | AA43: 5356 | AB43: 691 | AC43: 357
B44: 77 | C44: 아스팔트 기층 포설및다짐 | D44: 소형장비,t=8~10cm | E44: ㎡ | F44: =G44+H44+I44 -> 2752 | G44: =단가산출1!D4493 -> 1808 | H44: =단가산출1!E4493 -> 426 | I44: =단가산출1!F4493 -> 518 | Z44: 2752 | AA44: 1808 | AB44: 426 | AC44: 518
B45: 78 | C45: 입도조정기층포설및다짐 | D45: 인력식 소규모 장비사용 시공 | E45: ㎥ | F45: =G45+H45+I45 -> 14451 | G45: =단가산출1!D4576 -> 10656 | H45: =단가산출1!E4576 -> 2186 | I45: =단가산출1!F4576 -> 1609 | Z45: 14451 | AA45: 10656 | AB45: 2186 | AC45: 1609
B46: 79 | C46: EGI휀스 | E46: M | F46: =G46+H46+I46 -> 108205 | G46: =단가산출1!D4620 -> 26956 | H46: =단가산출1!E4620 -> 80628 | I46: =단가산출1!F4620 -> 621 | Z46: 95158 | AA46: 26956 | AB46: 67581 | AC46: 621
B47: 80 | C47: 성 토 | D47: 백호0.6㎥ | E47: ㎥ | F47: =G47+H47+I47 -> 5562 | G47: =단가산출1!D4736 -> 2870 | H47: =단가산출1!E4736 -> 1116 | I47: =단가산출1!F4736 -> 1576 | Z47: 5562 | AA47: 2870 | AB47: 1116 | AC47: 1576
B48: 81 | C48: 철근콘크리트깨기 | D48: T=30cm미만(대형브레이커+0.7㎥) | E48: ㎥ | F48: =G48+H48+I48 -> 75446 | G48: =단가산출1!D4817 -> 47914 | H48: =단가산출1!E4817 -> 13115 | I48: =단가산출1!F4817 -> 14417 | Z48: 75446 | AA48: 47914 | AB48: 13115 | AC48: 14417
B49: 82 | C49: 건설기술자 인건비 | E49: 식 | F49: =G49+H49+I49 -> 618108920 | G49: =단가산출1!D4883 -> 618108920 | H49: =단가산출1!E4883 -> 0 | I49: =단가산출1!F4883 -> 0 | Z49: 618108920 | AA49: 618108920
B50: 83 | C50: 철근 운반비 | E50: Ton | F50: =G50+H50+I50 -> 17005 | G50: =단가산출1!D4920 -> 0 | H50: =단가산출1!E4920 -> 0 | I50: =단가산출1!F4920 -> 17005 | Z50: 17005 | AC50: 17005
B51: 84 | C51: 안전관리계획 작성 및 검토비 | E51: 식 | F51: =G51+H51+I51 -> 5163338 | G51: =단가산출1!D4939 -> 0 | H51: =단가산출1!E4939 -> 0 | I51: =단가산출1!F4939 -> 5163338 | Z51: 5163338 | AC51: 5163338
B52: 85 | C52: 가설구조물의 구조적 안전성 확인비용 | E52: 개소 | F52: =G52+H52+I52 -> 3549438 | G52: =단가산출1!D4989 -> 0 | H52: =단가산출1!E4989 -> 0 | I52: =단가산출1!F4989 -> 3549438 | Z52: 3549438 | AC52: 3549438
B53: 86 | C53: 안전점검비용 | E53: 식 | F53: =G53+H53+I53 -> 11160000 | G53: =단가산출1!D5013 -> 0 | H53: =단가산출1!E5013 -> 0 | I53: =단가산출1!F5013 -> 11160000 | Z53: 11160000 | AC53: 11160000
B54: 87 | C54: 신호수배치(북측가설교량 진입부) | E54: 식 | F54: =G54+H54+I54 -> 70913525 | G54: =단가산출1!D5049 -> 70913525 | H54: =단가산출1!E5049 -> 0 | I54: =단가산출1!F5049 -> 0 | Z54: 70913525 | AA54: 70913525
B55: 88 | C55: PS단가(설계VE 절감액) | D55: 투기장방재,애향공간 마련 등 | E55: 식 | F55: =G55+H55+I55 -> 912254545 | G55: =단가산출1!D5060 -> 0 | H55: =단가산출1!E5060 -> 0 | I55: =단가산출1!F5060 -> 912254545 | Z55: 912254545 | AC55: 912254545
B56: 89 | C56: 터파기 및 운반 | D56: 토사 | E56: ㎥ | F56: =G56+H56+I56 -> 19440 | G56: =단가산출1!D5297 -> 8568 | H56: =단가산출1!E5297 -> 6123 | I56: =단가산출1!F5297 -> 4749
B57: 90 | C57: 품질차량비 | E57: 식 | F57: =G57+H57+I57 -> 28600000 | I57: =단가산출1!F5383 -> 28600000
F85: ㅛ

Sheet 단가산출1
B1: 단가산출
B3: 산 출 근 거 | C3: 합 계 | D3: 노무비 | E3: 재료비 | F3: 경 비
B5: 39.동치환(북측배수호안)(치환두께 2.5m이하)[㎡] | C5: =D5+E5+F5 -> 19678 | D5: =D147 -> 8881 | E5: =E147 -> 5021 | F5: =F147 -> 5776
B7: ◎ 동치환 조건
B9: 구 분 기 호 추 중 량 낙 하 고 타격횟수 타격에너지
B10: (ton) (m) (회) (ton.m)
B12: 1차다짐 ㉠ 20 12 20 768.0
B14: 마무리다짐 20 5 2 무시
B16: 합 계 768.0
B18: 가. 각 다짐별 Cm 산정
B20: 1) 1차 다짐 {동다짐기 + 다짐판(20TON) + DROP HEIGHT(15)}
B22: T1 = (2.5m÷2m/min)/5= 0.25 분 {동다짐기 이동 시간,다짐판을 매단체 이동,1회이동으로 5점시공}
B24: T2 = 0.25분{BOOM SWING시간}}
B26: T3 = 2분{동다짐기 위치잡기시간}
B28: t1 = 12.0 m÷10m/min = 1.2 분 {LIFTING 시간}
... B70: Q=1/Q1= 18.87 ㎡/hr
B72: 노무비 : 47,849 ÷ 18.87 = 2,535 | H72: =TRUNC(47849/18.87) -> 2535
B73: 재료비 : 50,476 ÷ 18.87 = 2,674 | H73: =TRUNC(50476/18.87) -> 2674
B74: 경 비 : 105,510 ÷ 18.87 = 5,591 | H74: =TRUNC(105510/18.87) -> 5591
B75: 소 계 : 10,800 | C75: =D75+E75+F75 -> 10800 | D75: =H72 -> 2535 | E75: =H73 -> 2674 | F75: =H74 -> 5591
B77: 다. GRID형 다짐판 사용료(hr)
B79: Cm11 = Cm1÷(2.5×12.5) = 2.29분
B81: Cm22 = Cm2÷(2.5×12.5) = 0.25분
B83: Cm = Cm11+Cm22 = 2.54분
B85: Q = Cm/60 = 0.042hr/㎡
B87: GRID형다짐판손료(육상용,20톤급)[식] *일위79참조*
B89: 노무비 : 120,749 × 0.042 = 5,071 | H89: =TRUNC(120749*0.042) -> 5071
B90: 재료비 : 43,799 × 0.042 = 1,839 | H90: =TRUNC(43799*0.042) -> 1839
B91: 경 비 : 209 × 0.042 = 8 | H91: =TRUNC(209*0.042) -> 8
B92: 소 계 : 6,918 | C92: =D92+E92+F92 -> 6918 | D92: =H89 -> 5071 | E92: =H90 -> 1839 | F92: =H91 -> 8
B94: 라. 소모품비
B96: GRID형다짐판손료(육상용,20톤급)[식] *일위79참조*
B98: Q = 0.5%
B100: 노무비 : 120,749 × 0.005 = 603
B101: 재료비 : 43,799 × 0.005 = 218
B102: 경 비 : 209 × 0.005 = 1
B103: 소 계 : 822 | C103: =D103+E103+F103 -> 822 | D103: 603 | E103: 218 | F103: 1
B105: 마.작업인부
B107: Cm11 = Cm1÷(2.5×12.5) = 2.29분
B109: Cm22 = Cm2÷(2.5×12.5) = 0.25분
B111: Q = Cm11+Cm22 ×0.2 = 2.34분
B113: 작업반장 : 189,313×(0.1인÷8hr)×(2.34/60) = 92 | I113: =TRUNC(189313*(0.1/8)*(2.34/60)) -> 92
B114: 보통인부 : 148,510×(0.2인÷8hr)×(2.34/60) = 144 | I114: =TRUNC(148510*(0.2/8)*(2.34/60)) -> 144
B115: 측량고급기능사 : 195,285×(0.1인÷8hr)×(2.34/60) = 95 | I115: =TRUNC(195285*(0.1/8)*(2.34/60)) -> 95
B116: 측량초급기능사 : 142,459×(0.1인÷8hr)×(2.34/60) = 69 | I116: =TRUNC(142459*(0.1/8)*(2.34/60)) -> 69
B117: 소 계 400 | C117: =D117+E117+F117 -> 400 | D117: =I113+I114+I115+I116 -> 400
B119: 바. 정지
B121: ◎ 다짐후 불도우저로 정지 1회
B123: ■ 정지(불도우저(무한궤도) 19Ton) : 1회계상
B125: L = 20m V1 = 40m/분 V2 = 46m/분
B127: q = 3.2×0.96 = 3.07 f = 0.9 E = 0.25 t = 0.25분 H = 0.2m
B129: L L
B130: Cm = ──+──+t = 1.18분
B131: V1 V2
B133: 60·q·f·E
B134: Q = ─────── = 175.61㎡/hr
B135: H ×Cm
B137: 노무비 : 47,849 ÷ 175.61 × 1회 = 272
... B139: 경 비 : 31,020 ÷ 175.61 × 1회 = 176
B140: 소 계 : 738 | C140: =D140+E140+F140 -> 738 | D140: 272 | E140: 290 | F140: 176
B142: 사. 합 계
B144: 노무비 : 2,535 + 5,071 + 603 + 400 + 272 = 8,881
B145: 재료비 : 2,674 + 1,839 + 218 + 290 = 5,021
B146: 경 비 : 5,591 + 8 + 1 + 176 = 5,776
B147: 계 : 19,678 | C147: =D147+E147+F147 -> 19678 | D147: =SUM(D75:D146) -> 8881 | E147: =SUM(E75:E146) -> 5021 | F147: =SUM(F75:F146) -> 5776
B149: 40.동치환(북측배수호안)(치환두께 4.0m이하)[㎡] | C149: =D149+E149+F149 -> 45481 | D149: =D319 -> 20337 | E149: =E319 -> 11437 | F149: =F319 -> 13707
B151: ◎ 동치환 조건
B153: 구 분 기 호 추 중 량 낙 하 고 타격횟수 타격에너지
B154: (ton) (m) (회) (ton.m)
B156: 1차다짐 ㉠ 20 12 24 921.6
B158: 2차다짐 ㉠ 20 12 28 1,075.2
B160: 마무리다짐 20 5 2 무시
B162: 합 계 1,996.8
B164: 가. 각 다짐별 Cm 산정
B166: 1) 1차 다짐 {동다짐기 + 다짐판(20TON) + DROP HEIGHT(15)}
B168: T1 = (2.5m÷2m/min)/5= 0.25 분 {동다짐기 이동 시간,다짐판을 매단체 이동,1회이동으로 5점시공}
B170: T2 = 0.25분{BOOM SWING시간}}
B172: T3 = 2분{동다짐기 위치잡기시간}
... B242: 경 비 : 105,510 ÷ 7.81 = 13,509
B243: 소 계 : 26,097 | C243: =D243+E243+F243 -> 26097 | D243: 6126 | E243: 6462 | F243: 13509
B245: 다. GRID형 다짐판 사용료(hr)
B247: Cm11 = Cm1÷(2.5×12.5) = 2.73분
B249: Cm22 = Cm2÷(2.5×12.5) = 3.17분
B251: Cm33 = Cm3÷(2.5×12.5) = 0.25분
B253: Cm = Cm11+Cm22+Cm33 = 6.15분
B255: Q = Cm/60 = 0.102hr/㎡
B257: GRID형다짐판손료(육상용,20톤급)[식] *일위79참조*
B259: 노무비 : 120,749 × 0.102 = 12,316
B260: 재료비 : 43,799 × 0.102 = 4,467
B261: 경 비 : 209 × 0.102 = 21
B262: 소 계 : 16,804 | C262: =D262+E262+F262 -> 16804 | D262: 12316 | E262: 4467 | F262: 21
B264: 라. 소모품비
B266: GRID형다짐판손료(육상용,20톤급)[식] *일위79참조*
B268: Q = 0.5%
B270: 노무비 : 120,749 × 0.005 = 603
B271: 재료비 : 43,799 × 0.005 = 218
B272: 경 비 : 209 × 0.005 = 1
B273: 소 계 : 822 | C273: =D273+E273+F273 -> 822 | D273: 603 | E273: 218 | F273: 1
B275: 마.작업인부
B277: Cm11 = Cm1÷(2.5×12.5) = 2.73분
...

Sheet 일위대가총괄표1
B1: 일위대가총괄표
B3: 호 표 | C3: 품 명 | D3: 규 격 | E3: 단위 | F3: 합 계 | G3: 노무비 | H3: 재료비 | I3: 경 비 | J3: 비 고 | Z3: 당초합계 | AA3: 당초노무비 | AB3: 당초재료비 | AC3: 당초경비
B4: 제218호표 | C4: =일위대가1!C6 -> 공사용등부표 이설 | D4: =일위대가1!D6 -> LS-24 | E4: =일위대가1!F6 -> 기 | F4: =G4+H4+I4 -> 5840816 | I4: =일위대가1!H6 -> 5840816 | Z4: 746396 | AA4: 360838 | AB4: 347200 | AC4: 38358

Sheet 일위대가1
B1: 일위대가
B3: 호 표 | C3: 품 명 | D3: 규 격 | E3: 수 량 | F3: 단위 | G3: 합 계 | I3: 노무비 | K3: 재료비 | M3: 경 비 | O3: 비 고
G4: 단 가 | H4: 금 액 | I4: 단 가 | J4: 금 액 | K4: 단 가 | L4: 금 액 | M4: 단 가 | N4: 금 액
B6: 제218호표 | C6: 공사용등부표 이설 | D6: LS-24 | F6: 기 | H6: =J6+L6+N6 -> 5840816 | J6: =TRUNC(J7+J8+J9+J14+J10+J11+J12+J13+J15) -> 1127932 | L6: =TRUNC(L7+L8+L9+L14+L10+L11+L12+L13+L15) -> 0 | N6: =TRUNC(N7+N8+N9+N14+N10+N11+N12+N13+N15) -> 4712884 | Q6: =SUM(R6:T6) -> 242584334 | R6: 79775798 | S6: 52220105 | T6: 110588431
C7: 통신관련기사 | E7: 1 | F7: 인 | G7: =I7+K7+M7 -> 275633 | H7: =J7+L7+N7 -> 275633 | I7: 275633 | J7: =TRUNC(E7*I7,1) -> 275633 | L7: =TRUNC(E7*K7,1) -> 0 | N7: =TRUNC(E7*M7,1) -> 0 | Q7: =SUM(R7:T7) -> #DIV/0! | R7: =+ROUND(J7/$J6*$R6,0) -> 19494830 | S7: =+ROUND(L7/L6*S6,0) -> #DIV/0! | T7: =+ROUND(N7/N6*T6,0) -> 0
C8: 전기공사기사 | E8: 1 | F8: 인 | G8: =I8+K8+M8 -> 279912 | H8: =J8+L8+N8 -> 279912 | I8: 279912 | J8: =TRUNC(E8*I8,1) -> 279912 | L8: =TRUNC(E8*K8,1) -> 0 | N8: =TRUNC(E8*M8,1) -> 0 | Q8: =SUM(R8:T8) -> #DIV/0! | R8: =+ROUND(J8/J6*R6,0) -> 19797473 | S8: =+ROUND(L8/L6*S6,0) -> #DIV/0! | T8: =+ROUND(N8/N6*T6,0) -> 0
C9: 작업반장 | E9: 1 | F9: 인 | G9: =I9+K9+M9 -> 189313 | H9: =J9+L9+N9 -> 189313 | I9: 189313 | J9: =TRUNC(E9*I9,1) -> 189313 | L9: =TRUNC(E9*K9,1) -> 0 | N9: =TRUNC(E9*M9,1) -> 0 | Q9: =SUM(R9:T9) -> #DIV/0! | R9: =+ROUND(J9/$J6*$R6,0) -> 13389633 | S9: =+ROUND(L9/L6*S6,0) -> #DIV/0! | T9: =+ROUND(N9/N6*T6,0) -> 0
C10: 보통인부 | E10: 1 | F10: 인 | G10: =I10+K10+M10 -> 148510 | H10: =J10+L10+N10 -> 148510 | I10: 148510 | J10: =TRUNC(E10*I10,1) -> 148510 | L10: =TRUNC(E10*K10,1) -> 0 | N10: =TRUNC(E10*M10,1) -> 0
C11: 용접공 | E11: 1 | F11: 인 | G11: =I11+K11+M11 -> 234564 | H11: =J11+L11+N11 -> 234564 | I11: 234564 | J11: =TRUNC(E11*I11,1) -> 234564 | L11: =TRUNC(E11*K11,1) -> 0 | N11: =TRUNC(E11*M11,1) -> 0
C12: 예선 | D12: 597kw | E12: 0.7 | F12: 일 | G12: =I12+K12+M12 -> 3575832 | H12: =J12+L12+N12 -> 2503082.4 | J12: =TRUNC(E12*I12,1) -> 0 | L12: =TRUNC(E12*K12,1) -> 0 | M12: 3575832 | N12: =TRUNC(E12*M12,1) -> 2503082.4
C13: 조합중기선 | D13: 80ton | E13: 0.7 | F13: 일 | G13: =I13+K13+M13 -> 2085432 | H13: =J13+L13+N13 -> 1459802.4 | J13: =TRUNC(E13*I13,1) -> 0 | L13: =TRUNC(E13*K13,1) -> 0 | M13: 2085432 | N13: =TRUNC(E13*M13,1) -> 1459802.4
C14: 작업선 | D14: 119kw | E14: 1 | F14: 일 | G14: =I14+K14+M14 -> 600000 | H14: =J14+L14+N14 -> 600000 | J14: =TRUNC(E14*I14,1) -> 0 | L14: =TRUNC(E14*K14,1) -> 0 | M14: 600000 | N14: =TRUNC(E14*M14,1) -> 600000 | Q14: =SUM(R14:T14) -> #DIV/0! | R14: =+ROUND(J14/$J6*$R6,0) -> 0 | S14: =+ROUND(L14/L6*S6,0) -> #DIV/0! | T14: =+ROUND(N14/N6*T6,0) -> 14079077
C15: 위치측량 | D15: DGPS | E15: 1 | F15: 회 | G15: =I15+K15+M15 -> 150000 | H15: =J15+L15+N15 -> 150000 | J15: =TRUNC(E15*I15,1) -> 0 | L15: =TRUNC(E15*K15,1) -> 0 | M15: 150000 | N15: =TRUNC(E15*M15,1) -> 150000

Sheet 일위대가총괄표
B1: 일위대가총괄표
B3: 호 표 | C3: 품 명 | D3: 규 격 | E3: 단위 | F3: 합 계 | G3: 노무비 | H3: 재료비 | I3: 경 비 | J3: 비 고 | Z3: 당초합계 | AA3: 당초노무비 | AB3: 당초재료비 | AC3: 당초경비
B4: 제1호표 | C4: 제체사석(해상수중) | D4: 0.001~0.03㎥급 | E4: ㎥ | F4: =G4+H4+I4 -> #REF! | G4: =일위대가!J5 -> #REF! | H4: =일위대가!L5 -> #REF! | I4: =일위대가!N5 -> #REF! | Z4: 26102 | AA4: 7463 | AB4: 16492 | AC4: 2147
B5: 제2호표 | C5: 제체사석(해상수상) | D5: 0.001~0.03㎥급 | E5: ㎥ | F5: =G5+H5+I5 -> #REF! | G5: =일위대가!J10 -> #REF! | H5: =일위대가!L10 -> #REF! | I5: =일위대가!N10 -> #REF! | Z5: 23452 | AA5: 4820 | AB5: 16445 | AC5: 2187
B6: 제3호표 | C6: 제체사석(육상덤프) | D6: 0.001~0.03㎥급 | E6: ㎥ | F6: =G6+H6+I6 -> #REF! | G6: =일위대가!J15 -> #REF! | H6: =일위대가!L15 -> #REF! | I6: =일위대가!N15 -> #REF! | Z6: 25449 | AA6: 3302 | AB6: 20039 | AC6: 2108
B7: 제4호표 | C7: 제체사석(육상수상:백호) | D7: 0.001~0.03㎥급 | E7: ㎥ | F7: =G7+H7+I7 -> #REF! | G7: =일위대가!J20 -> #REF! | H7: =일위대가!L20 -> #REF! | I7: =일위대가!N20 -> #REF! | Z7: 27720 | AA7: 4355 | AB7: 20757 | AC7: 2608
B8: 제5호표 | C8: 치환사석(육상수상,백호) | D8: 0.001~0.03㎥급 | E8: ㎥ | F8: =G8+H8+I8 -> #REF! | G8: =일위대가!J25 -> #REF! | H8: =일위대가!L25 -> #REF! | I8: =일위대가!N25 -> #REF! | Z8: 27720 | AA8: 4355 | AB8: 20757 | AC8: 2608
B9: 제6호표 | C9: 필터사석(육상덤프) | D9: Φ100mm이하 | E9: ㎥ | F9: =G9+H9+I9 -> #REF! | G9: =일위대가!J30 -> #REF! | H9: =일위대가!L30 -> #REF! | I9: =일위대가!N30 -> #REF! | Z9: 26012 | AA9: 2825 | AB9: 21385 | AC9: 1802
B10: 제7호표 | C10: 필터사석(육상수상:백호) | D10: Φ100mm이하 | E10: ㎥ | F10: =G10+H10+I10 -> #REF! | G10: =일위대가!J35 -> #REF! | H10: =일위대가!L35 -> #REF! | I10: =일위대가!N35 -> #REF! | Z10: 26764 | AA10: 3235 | AB10: 21582 | AC10: 1947
B11: 제8호표 | C11: 보호압사석(육상수중,크람셀) | D11: 0.001~0.03㎥급 | E11: ㎥ | F11: =G11+H11+I11 -> #REF! | G11: =일위대가!J40 -> #REF! | H11: =일위대가!L40 -> #REF! | I11: =일위대가!N40 -> #REF! | Z11: 30515 | AA11: 6027 | AB11: 20696 | AC11: 3792
B12: 제9호표 | C12: 보호압사석(육상수상,크람셀) | D12: 0.001~0.03㎥급 | E12: ㎥ | F12: =G12+H12+I12 -> #REF! | G12: =일위대가!J45 -> #REF! | H12: =일위대가!L45 -> #REF! | I12: =일위대가!N45 -> #REF! | Z12: 28277 | AA12: 4030 | AB12: 20535 | AC12: 3712
B13: 제10호표 | C13: 보호압사석(육상수상,백호) | D13: 0.001~0.03㎥급 | E13: ㎥ | F13: =G13+H13+I13 -> #REF! | G13: =일위대가!J50 -> #REF! | H13: =일위대가!L50 -> #REF! | I13: =일위대가!N50 -> #REF! | Z13: 27720 | AA13: 4355 | AB13: 20757 | AC13: 2608
B14: 제11호표 | C14: 필터매트부설 | D14: 수중(잠수조),50kN | E14: ㎡ | F14: =G14+H14+I14 -> #REF! | G14: =일위대가!J55 -> #REF! | H14: =일위대가!L55 -> #REF! | I14: =일위대가!N55 -> #REF! | Z14: 6269 | AA14: 950 | AB14: 5300 | AC14: 19
B15: 제12호표 | C15: 필터매트부설 | D15: 수상,50kN | E15: ㎡ | F15: =G15+H15+I15 -> #REF! | G15: =일위대가!J59 -> #REF! | H15: =일위대가!L59 -> #REF! | I15: =일위대가!N59 -> #REF! | Z15: 5575 | AA15: 220 | AB15: 5355
B16: 제13호표 | C16: 복합매트부설(수중) | D16: 100KN | E16: ㎡ | F16: =G16+H16+I16 -> #REF! | G16: =일위대가!J63 -> #REF! | H16: =일위대가!L63 -> #REF! | I16: =일위대가!N63 -> #REF! | Z16: 6901 | AA16: 950 | AB16: 5932 | AC16: 19
B17: 제14호표 | C17: 복합매트부설(수상) | D17: 100KN | E17: ㎡ | F17: =G17+H17+I17 -> #REF! | G17: =일위대가!J67 -> #REF! | H17: =일위대가!L67 -> #REF! | I17: =일위대가!N67 -> #REF! | Z17: 6180 | AA17: 220 | AB17: 5960
B18: 제15호표 | C18: 차수매트부설(수상) | D18: 50KN | E18: ㎡ | F18: =G18+H18+I18 -> #REF! | G18: =일위대가!J71 -> #REF! | H18: =일위대가!L71 -> #REF! | I18: =일위대가!N71 -> #REF! | Z18: 7335 | AA18: 220 | AB18: 7115
B19: 제16호표 | C19: 중간피복석(육상수중) | D19: 0.03㎥급 | E19: ㎥ | F19: =G19+H19+I19 -> #REF! | G19: =일위대가!J75 -> #REF! | H19: =일위대가!L75 -> #REF! | I19: =일위대가!N75 -> #REF! | Z19: 40468 | AA19: 12706 | AB19: 24569 | AC19: 3193
B20: 제17호표 | C20: 중간피복석(육상수상) | D20: 0.03㎥급 | E20: ㎥ | F20: =G20+H20+I20 -> #REF! | G20: =일위대가!J80 -> #REF! | H20: =일위대가!L80 -> #REF! | I20: =일위대가!N80 -> #REF! | Z20: 35980 | AA20: 9367 | AB20: 24062 | AC20: 2551
B21: 제18호표 | C21: 피복석(해상수중) | D21: 0.4㎥급 | E21: ㎥ | F21: =G21+H21+I21 -> #REF! | G21: =일위대가!J85 -> #REF! | H21: =일위대가!L85 -> #REF! | I21: =일위대가!N85 -> #REF! | Z21: 54146 | AA21: 17836 | AB21: 32002 | AC21: 4308
B22: 제19호표 | C22: 피복석(해상수상) | D22: 0.4㎥급, 기중기25Ton | E22: ㎥ | F22: =G22+H22+I22 -> #REF! | G22: =일위대가!J91 -> #REF! | H22: =일위대가!L91 -> #REF! | I22: =일위대가!N91 -> #REF! | Z22: 56669 | AA22: 18624 | AB22: 32536 | AC22: 5509
B23: 제20호표 | C23: 피복석속고르기(해상수중) | D23: 0.4㎥급(H=0~15m) | E23: ㎡ | F23: =G23+H23+I23 -> #REF! | G23: =일위대가!J97 -> #REF! | H23: =일위대가!L97 -> #REF! | I23: =일위대가!N97 -> #REF! | Z23: 83472 | AA23: 72395 | AB23: 7816 | AC23: 3261
B24: 제21호표 | C24: 피복석고르기(해상수중) | D24: 0.4㎥급(H=0~15m) | E24: ㎡ | F24: =G24+H24+I24 -> #REF! | G24: =일위대가!J101 -> #REF! | H24: =일위대가!L101 -> #REF! | I24: =일위대가!N101 -> #REF! | Z24: 90009 | AA24: 78040 | AB24: 8449 | AC24: 3520
B25: 제22호표 | C25: 사면보호사석(육상수상) | D25: 0.03㎥급 | E25: ㎥ | F25: =G25+H25+I25 -> #REF! | G25: =일위대가!J105 -> #REF! | H25: =일위대가!L105 -> #REF! | I25: =일위대가!N105 -> #REF! | Z25: 35980 | AA25: 9367 | AB25: 24062 | AC25: 2551
B26: 제23호표 | C26: 사면보호사석고르기 | D26: 수상 | E26: ㎡ | F26: =G26+H26+I26 -> #REF! | G26: =일위대가!J110 -> #REF! | H26: =일위대가!L110 -> #REF! | I26: =일위대가!N110 -> #REF! | Z26: 32353 | AA26: 23618 | AB26: 5193 | AC26: 3542
B27: 제24호표 | C27: 쇄석(육상덤프) | D27: Φ40mm이하 | E27: ㎥ | F27: =G27+H27+I27 -> #REF! | G27: =일위대가!J113 -> #REF! | H27: =일위대가!L113 -> #REF! | I27: =일위대가!N113 -> #REF! | Z27: 25622 | AA27: 2825 | AB27: 20995 | AC27: 1802
B28: 제25호표 | C28: 피복석(해상수중) | D28: 0.3㎥급 | E28: ㎥ | F28: =G28+H28+I28 -> #REF! | G28: =일위대가!J118 -> #REF! | H28: =일위대가!L118 -> #REF! | I28: =일위대가!N118 -> #REF! | Z28: 53887 | AA28: 17660 | AB28: 31937 | AC28: 4290
B29: 제26호표 | C29: 피복석(육상덤프) | D29: 0.1㎥급 | E29: ㎥ | F29: =G29+H29+I29 -> #REF! | G29: =일위대가!J124 -> #REF! | H29: =일위대가!L124 -> #REF! | I29: =일위대가!N124 -> #REF! | Z29: 48886 | AA29: 6799 | AB29: 38834 | AC29: 3253
B30: 제27호표 | C30: 피복석(해상수상) | D30: 0.4㎥급 | E30: ㎥ | F30: =G30+H30+I30 -> #REF! | G30: =일위대가!J129 -> #REF! | H30: =일위대가!L129 -> #REF! | I30: =일위대가!N129 -> #REF! | Z30: 53751 | AA30: 17366 | AB30: 31930 | AC30: 4455
B31: 제28호표 | C31: 피복석고르기(해상수상) | D31: 0.4㎥급 | E31: ㎡ | F31: =G31+H31+I31 -> #REF! | G31: =일위대가!J135 -> #REF! | H31: =일위대가!L135 -> #REF! | I31: =일위대가!N135 -> #REF! | Z31: 38649 | AA31: 32804 | AB31: 3237 | AC31: 2608
B32: 제29호표 | C32: 치환사석(해상수상) | D32: 0.001~0.03㎥급 | E32: ㎥ | F32: =G32+H32+I32 -> #REF! | G32: =일위대가!J139 -> #REF! | H32: =일위대가!L139 -> #REF! | I32: =일위대가!N139 -> #REF! | Z32: 23452 | AA32: 4820 | AB32: 16445 | AC32: 2187
B33: 제30호표 | C33: 저면매트부설(수중) | D33: 50kN | E33: ㎡ | F33: =G33+H33+I33 -> #REF! | G33: =일위대가!J144 -> #REF! | H33: =일위대가!L144 -> #REF! | I33: =일위대가!N144 -> #REF! | Z33: 5349 | AA33: 950 | AB33: 4380 | AC33: 19
B34: 제31호표 | C34: 중간피복석(육상수중) | D34: 0.1㎥급 | E34: ㎥ | F34: =G34+H34+I34 -> #REF! | G34: =일위대가!J148 -> #REF! | H34: =일위대가!L148 -> #REF! | I34: =일위대가!N148 -> #REF! | Z34: 60185 | AA34: 16203 | AB34: 39644 | AC34: 4338
B35: 제32호표 | C35: 중간피복석(육상수상) | D35: 0.1㎥급 | E35: ㎥ | F35: =G35+H35+I35 -> #REF! | G35: =일위대가!J153 -> #REF! | H35: =일위대가!L153 -> #REF! | I35: =일위대가!N153 -> #REF! | Z35: 55697 | AA35: 12864 | AB35: 39137 | AC35: 3696
B36: 제33호표 | C36: 피복석(해상수중) | D36: 0.5㎥급 | E36: ㎥ | F36: =G36+H36+I36 -> #REF! | G36: =일위대가!J158 -> #REF! | H36: =일위대가!L158 -> #REF! | I36: =일위대가!N158 -> #REF! | Z36: 55642 | AA36: 18771 | AB36: 32418 | AC36: 4453
B37: 제34호표 | C37: 피복석(해상수상) | D37: 0.5㎥급, 기중기25Ton | E37: ㎥ | F37: =G37+H37+I37 -> #REF! | G37: =일위대가!J164 -> #REF! | H37: =일위대가!L164 -> #REF! | I37: =일위대가!N164 -> #REF! | Z37: 57086 | AA37: 18667 | AB37: 32863 | AC37: 5556
B38: 제35호표 | C38: 피복석속고르기(해상수중) | D38: 0.1㎥급(H=0~15m) | E38: ㎡ | F38: =G38+H38+I38 -> #REF! | G38: =일위대가!J170 -> #REF! | H38: =일위대가!L170 -> #REF! | I38: =일위대가!N170 -> #REF! | Z38: 83472 | AA38: 72395 | AB38: 7816 | AC38: 3261
B39: 제36호표 | C39: 피복석고르기(해상수중) | D39: 0.1㎥급(H=0~15m) | E39: ㎡ | F39: =G39+H39+I39 -> #REF! | G39: =일위대가!J174 -> #REF! | H39: =일위대가!L174 -> #REF! | I39: =일위대가!N174 -> #REF! | Z39: 90009 | AA39: 78040 | AB39: 8449 | AC39: 3520
B40: 제37호표 | C40: 피복석고르기(해상수상) | D40: 0.1㎥급 | E40: ㎡ | F40: =G40+H40+I40 -> #REF! | G40: =일위대가!J178 -> #REF! | H40: =일위대가!L178 -> #REF! | I40: =일위대가!N178 -> #REF! | Z40: 38649 | AA40: 32804 | AB40: 3237 | AC40: 2608
B41: 제38호표 | C41: 피복석속고르기(해상수중) | D41: 0.5㎥급(H=0~15m) | E41: ㎡ | F41: =G41+H41+I41 -> #REF! | G41: =일위대가!J182 -> #REF! | H41: =일위대가!L182 -> #REF! | I41: =일위대가!N182 -> #REF! | Z41: 83472 | AA41: 72395 | AB41: 7816 | AC41: 3261
B42: 제39호표 | C42: 피복석고르기(해상수중) | D42: 0.5㎥급(H=0~15m) | E42: ㎡ | F42: =G42+H42+I42 -> #REF! | G42: =일위대가!J186 -> #REF! | H42: =일위대가!L186 -> #REF! | I42: =일위대가!N186 -> #REF! | Z42: 90009 | AA42: 78040 | AB42: 8449 | AC42: 3520
B43: 제40호표 | C43: 피복석고르기(해상수상) | D43: 0.5㎥급 | E43: ㎡ | F43: =G43+H43+I43 -> #REF! | G43: =일위대가!J190 -> #REF! | H43: =일위대가!L190 -> #REF! | I43: =일위대가!N190 -> #REF! | Z43: 38649 | AA43: 32804 | AB43: 3237 | AC43: 2608
B44: 제41호표 | C44: 사면보호사석(육상수중) | D44: 0.03㎥급 | E44: ㎥ | F44: =G44+H44+I44 -> #REF! | G44: =일위대가!J194 -> #REF! | H44: =일위대가!L194 -> #REF! | I44: =일위대가!N194 -> #REF! | Z44: 40468 | AA44: 12706 | AB44: 24569 | AC44: 3193
B45: 제42호표 | C45: 어초블록제작 | D45: 3.4B×3.15H×3.4L | E45: EA | F45: =G45+H45+I45 -> #REF! | G45: =일위대가!J199 -> #REF! | H45: =일위대가!L199 -> #REF! | I45: =일위대가!N199 -> #REF! | Z45: 5195612 | AA45: 2598750 | AB45: 2380483 | AC45: 216379
B46: 제43호표 | C46: 철근콘크리트타설 | D46: 보통:펌프차S=8~12cm | E46: ㎥ | F46: =G46+H46+I46 -> #REF! | G46: =일위대가!J210 -> #REF! | H46: =일위대가!L210 -> #REF! | I46: =일위대가!N210 -> #REF! | Z46: 23836 | AA46: 15575 | AB46: 3038 | AC46: 5223
B47: 제44호표 | C47: 강재거푸집제작 | E47: 식 | F47: =G47+H47+I47 -> #REF! | G47: =일위대가!J215 -> #REF! | H47: =일위대가!L215 -> #REF! | I47: =일위대가!N215 -> #REF! | Z47: 23136924 | AA47: 18205870 | AB47: 4903892 | AC47: 27162
B48: 제45호표 | C48: 잡철물제작 및 설치 | D48: 간단 | E48: Ton | F48: =G48+H48+I48 -> #REF! | G48: =일위대가!J221 -> #REF! | H48: =일위대가!L221 -> #REF! | I48: =일위대가!N221 -> #REF! | Z48: 6630085 | AA48: 6310527 | AB48: 310143 | AC48: 9415
B49: 제46호표 | C49: 피복석(해상수중) | D49: 0.2㎥급 | E49: ㎥ | F49: =G49+H49+I49 -> #REF! | G49: =일위대가!J225 -> #REF! | H49: =일위대가!L225 -> #REF! | I49: =일위대가!N225 -> #REF! | Z49: 53863 | AA49: 17644 | AB49: 31931 | AC49: 4288
B50: 제47호표 | C50: 바닥보호사석(해상수상) | D50: 0.001~0.03㎥급 | E50: ㎥ | F50: =G50+H50+I50 -> #REF! | G50: =일위대가!J231 -> #REF! | H50: =일위대가!L231 -> #REF! | I50: =일위대가!N231 -> #REF! | Z50: 23452 | AA50: 4820 | AB50: 16445 | AC50: 2187
B51: 제48호표 | C51: 피복석(해상수상) | D51: 0.3㎥급, 기중기25Ton | E51: ㎥ | F51: =G51+H51+I51 -> #REF! | G51: =일위대가!J236 -> #REF! | H51: =일위대가!L236 -> #REF! | I51: =일위대가!N236 -> #REF! | Z51: 56270 | AA51: 18364 | AB51: 32450 | AC51: 5456
B52: 제49호표 | C52: 피복석속고르기(해상수중) | D52: 0.3㎥급(H=0~15m) | E52: ㎡ | F52: =G52+H52+I52 -> #REF! | G52: =일위대가!J242 -> #REF! | H52: =일위대가!L242 -> #REF! | I52: =일위대가!N242 -> #REF! | Z52: 83472 | AA52: 72395 | AB52: 7816 | AC52: 3261
B53: 제50호표 | C53: 피복석고르기(해상수중) | D53: 0.3㎥급(H=0~15m) | E53: ㎡ | F53: =G53+H53+I53 -> #REF! | G53: =일위대가!J246 -> #REF! | H53: =일위대가!L246 -> #REF! | I53: =일위대가!N246 -> #REF! | Z53: 90009 | AA53: 78040 | AB53: 8449 | AC53: 3520
B54: 제51호표 | C54: 피복석고르기(해상수상) | D54: 0.3㎥급 | E54: ㎡ | F54: =G54+H54+I54 -> #REF! | G54: =일위대가!J250 -> #REF! | H54: =일위대가!L250 -> #REF! | I54: =일위대가!N250 -> #REF! | Z54: 38649 | AA54: 32804 | AB54: 3237 | AC54: 2608
B55: 제52호표 | C55: 속채움사석(해상수중) | D55: Φ100mm이하 | E55: ㎥ | F55: =G55+H55+I55 -> #REF! | G55: =일위대가!J254 -> #REF! | H55: =일위대가!L254 -> #REF! | I55: =일위대가!N254 -> #REF! | Z55: 24456 | AA55: 6973 | AB55: 16090 | AC55: 1393
B56: 제53호표 | C56: 속채움사석(해상수상) | D56: Φ100mm이하 | E56: ㎥ | F56: =G56+H56+I56 -> #REF! | G56: =일위대가!J259 -> #REF! | H56: =일위대가!L259 -> #REF! | I56: =일위대가!N259 -> #REF! | Z56: 21335 | AA56: 4107 | AB56: 15918 | AC56: 1310
B57: 제54호표 | C57: 중간피복석(해상수중) | D57: 0.03㎥급 | E57: ㎥ | F57: =G57+H57+I57 -> #REF! | G57: =일위대가!J264 -> #REF! | H57: =일위대가!L264 -> #REF! | I57: =일위대가!N264 -> #REF! | Z57: 41922 | AA57: 17584 | AB57: 20055 | AC57: 4283
B58: 제55호표 | C58: 중간피복석(해상수상) | D58: 0.03㎥급 | E58: ㎥ | F58: =G58+H58+I58 -> #REF! | G58: =일위대가!J270 -> #REF! | H58: =일위대가!L270 -> #REF! | I58: =일위대가!N270 -> #REF! | Z58: 41527 | AA58: 17114 | AB58: 19983 | AC58: 4430
B59: 제56호표 | C59: 에코스톤(해상수중) | D59: 1.0㎥급 | E59: ㎥ | F59: =G59+H59+I59 -> #REF! | G59: =일위대가!J276 -> #REF! | H59: =일위대가!L276 -> #REF! | I59: =일위대가!N276 -> #REF! | Z59: 58100 | AA59: 19602 | AB59: 33977 | AC59: 4521
B60: 제57호표 | C60: 피복석(해상수상) | D60: 0.3㎥급 | E60: ㎥ | F60: =G60+H60+I60 -> #REF! | G60: =일위대가!J282 -> #REF! | H60: =일위대가!L282 -> #REF! | I60: =일위대가!N282 -> #REF! | Z60: 53492 | AA60: 17190 | AB60: 31865 | AC60: 4437
B61: 제58호표 | C61: 자연석계단 | D61: W1500 | E61: 단 | F61: =G61+H61+I61 -> #REF! | G61: =일위대가!J288 -> #REF! | H61: =일위대가!L288 -> #REF! | I61: =일위대가!N288 -> #REF! | Z61: 79193 | AA61: 39349 | AB61: 35052 | AC61: 4792
B62: 제59호표 | C62: 조경유용석 쌓기및놓기 | E62: 톤 | F62: =G62+H62+I62 -> #REF! | G62: =일위대가!J292 -> #REF! | H62: =일위대가!L292 -> #REF! | I62: =일위대가!N292 -> #REF! | Z62: 126063 | AA62: 100897 | AB62: 12877 | AC62: 12289
B63: 제60호표 | C63: 무근콘크리트타설/펌프차 | D63: 보통,100㎥미만/회 | E63: ㎥ | F63: =G63+H63+I63 -> #REF! | G63: =일위대가!J297 -> #REF! | H63: =일위대가!L297 -> #REF! | I63: =일위대가!N297 -> #REF! | Z63: 24176 | AA63: 15919 | AB63: 3363 | AC63: 4894
B64: 제61호표 | C64: 시공이음 | D64: 흐름유도공 | E64: 개소 | F64: =G64+H64+I64 -> #REF! | G64: =일위대가!J301 -> #REF! | H64: =일위대가!L301 -> #REF! | I64: =일위대가!N301 -> #REF! | Z64: 509424 | AA64: 255085 | AB64: 254339
B65: 제62호표 | C65: 제체사석(육상수중,크람셀) | D65: 0.001~0.03㎥급 | E65: ㎥ | F65: =G65+H65+I65 -> #REF! | G65: =일위대가!J307 -> #REF! | H65: =일위대가!L307 -> #REF! | I65: =일위대가!N307 -> #REF! | Z65: 30515 | AA65: 6027 | AB65: 20696 | AC65: 3792
B66: 제63호표 | C66: 제체사석(육상수상,크람셀) | D66: 0.001~0.03㎥급 | E66: ㎥ | F66: =G66+H66+I66 -> #REF! | G66: =일위대가!J312 -> #REF! | H66: =일위대가!L312 -> #REF! | I66: =일위대가!N312 -> #REF! | Z66: 28277 | AA66: 4030 | AB66: 20535 | AC66: 3712
B67: 제64호표 | C67: 피복석(육상수중) | D67: 0.1㎥급 | E67: ㎥ | F67: =G67+H67+I67 -> #REF! | G67: =일위대가!J317 -> #REF! | H67: =일위대가!L317 -> #REF! | I67: =일위대가!N317 -> #REF! | Z67: 60185 | AA67: 16203 | AB67: 39644 | AC67: 4338
B68: 제65호표 | C68: 피복석(육상수상) | D68: 0.1㎥급 | E68: ㎥ | F68: =G68+H68+I68 -> #REF! | G68: =일위대가!J322 -> #REF! | H68: =일위대가!L322 -> #REF! | I68: =일위대가!N322 -> #REF! | Z68: 55697 | AA68: 12864 | AB68: 39137 | AC68: 3696
B69: 제66호표 | C69: 피복석고르기(육상수중) | D69: 0.1㎥급 | E69: ㎡ | F69: =G69+H69+I69 -> #REF! | G69: =일위대가!J327 -> #REF! | H69: =일위대가!L327 -> #REF! | I69: =일위대가!N327 -> #REF! | Z69: 62590 | AA69: 52576 | AB69: 5378 | AC69: 4636
B70: 제67호표 | C70: 피복석고르기(육상수상) | D70: 0.1㎥급 | E70: ㎡ | F70: =G70+H70+I70 -> #REF! | G70: =일위대가!J330 -> #REF! | H70: =일위대가!L330 -> #REF! | I70: =일위대가!N330 -> #REF! | Z70: 28729 | AA70: 25569 | AB70: 1498 | AC70: 1662
B71: 제68호표 | C71: 피복석(육상수중) | D71: 0.3㎥급 | E71: ㎥ | F71: =G71+H71+I71 -> #REF! | G71: =일위대가!J333 -> #REF! | H71: =일위대가!L333 -> #REF! | I71: =일위대가!N333 -> #REF! | Z71: 60341 | AA71: 16285 | AB71: 39680 | AC71: 4376
B72: 제69호표 | C72: 피복석(육상수상) | D72: 0.3㎥급 | E72: ㎥ | F72: =G72+H72+I72 -> #REF! | G72: =일위대가!J338 -> #REF! | H72: =일위대가!L338 -> #REF! | I72: =일위대가!N338 -> #REF! | Z72: 55853 | AA72: 12946 | AB72: 39173 | AC72: 3734
B73: 제70호표 | C73: 피복석고르기(육상수중) | D73: 0.3㎥급 | E73: ㎡ | F73: =G73+H73+I73 -> #REF! | G73: =일위대가!J343 -> #REF! | H73: =일위대가!L343 -> #REF! | I73: =일위대가!N343 -> #REF! | Z73: 62590 | AA73: 52576 | AB73: 5378 | AC73: 4636
B74: 제71호표 | C74: 피복석고르기(육상수상) | D74: 0.3㎥급 | E74: ㎡ | F74: =G74+H74+I74 -> #REF! | G74: =일위대가!J346 -> #REF! | H74: =일위대가!L346 -> #REF! | I74: =일위대가!N346 -> #REF! | Z74: 28729 | AA74: 25569 | AB74: 1498 | AC74: 1662
B75: 제72호표 | C75: 치환사석(해상수중) | D75: 0.03㎥급 이하 | E75: ㎥ | F75: =G75+H75+I75 -> #REF! | G75: =일위대가!J349 -> #REF! | H75: =일위대가!L349 -> #REF! | I75: =일위대가!N349 -> #REF! | Z75: 25302 | AA75: 7463 | AB75: 15692 | AC75: 2147
B76: 제73호표 | C76: 제체사석(육상수중,크람셀) | D76: 0.03㎥급 이하 | E76: ㎥ | F76: =G76+H76+I76 -> #REF! | G76: =일위대가!J354 -> #REF! | H76: =일위대가!L354 -> #REF! | I76: =일위대가!N354 -> #REF! | Z76: 29795 | AA76: 6027 | AB76: 19976 | AC76: 3792
B77: 제74호표 | C77: 제체사석(육상수상,크람셀) | D77: 0.03㎥급 이하 | E77: ㎥ | F77: =G77+H77+I77 -> #REF! | G77: =일위대가!J359 -> #REF! | H77: =일위대가!L359 -> #REF! | I77: =일위대가!N359 -> #REF! | Z77: 27557 | AA77: 4030 | AB77: 19815 | AC77: 3712
B78: 제75호표 | C78: 제체사석(육상덤프) | D78: 0.03㎥급 이하 | E78: ㎥ | F78: =G78+H78+I78 -> #REF! | G78: =일위대가!J364 -> #REF! | H78: =일위대가!L364 -> #REF! | I78: =일위대가!N364 -> #REF! | Z78: 24729 | AA78: 3302 | AB78: 19319 | AC78: 2108
B79: 제76호표 | C79: 제체사석유용(육상덤프),타공사 준설암 유용 | D79: 0.001~0.03㎥급이하 | E79: ㎥ | F79: =G79+H79+I79 -> #REF! | G79: =일위대가!J369 -> #REF! | H79: =일위대가!L369 -> #REF! | I79: =일위대가!N369 -> #REF! | Z79: 24021 | AA79: 9540 | AB79: 8511 | AC79: 5970
B80: 제77호표 | C80: 제체사석(육상수상:백호) | D80: 0.03㎥급 이하 | E80: ㎥ | F80: =G80+H80+I80 -> #REF! | G80: =일위대가!J376 -> #REF! | H80: =일위대가!L376 -> #REF! | I80: =일위대가!N376 -> #REF! | Z80: 27000 | AA80: 4355 | AB80: 20037 | AC80: 2608
B81: 제78호표 | C81: 부상토굴착 및 파쇄 | E81: ㎥ | F81: =G81+H81+I81 -> 27450 | G81: =일위대가!J381 -> 11733 | H81: =일위대가!L381 -> 7980 | I81: =일위대가!N381 -> 7737 | Z81: 27450 | AA81: 11733 | AB81: 7980 | AC81: 7737
B82: 제79호표 | C82: GRID형 다짐판 손료 | D82: 육상용,20톤급 | E82: 식 | F82: =G82+H82+I82 -> #REF! | G82: =일위대가!J385 -> #REF! | H82: =일위대가!L385 -> #REF! | I82: =일위대가!N385 -> #REF! | Z82: 164757 | AA82: 120749 | AB82: 43799 | AC82: 209
B83: 제80호표 | C83: GRID형 다짐판 제작 | D83: 육상용,20톤급 | E83: 개 | F83: =G83+H83+I83 -> #REF! | G83: =일위대가!J388 -> #REF! | H83: =일위대가!L388 -> #REF! | I83: =일위대가!N388 -> #REF! | Z83: 102973381 | AA83: 75468201 | AB83: 27374521 | AC83: 130659
B84: 제81호표 | C84: GRID형 다짐판 손료 | D84: 육상용,30톤급 | E84: 식 | F84: =G84+H84+I84 -> #REF! | G84: =일위대가!J396 -> #REF! | H84: =일위대가!L396 -> #REF! | I84: =일위대가!N396 -> #REF! | Z84: 307091 | AA84: 231349 | AB84: 75356 | AC84: 386
B85: 제82호표 | C85: GRID형 다짐판 제작 | D85: 육상용,30톤급 | E85: 개 | F85: =G85+H85+I85 -> #REF! | G85: =일위대가!J399 -> #REF! | H85: =일위대가!L399 -> #REF! | I85: =일위대가!N399 -> #REF! | Z85: 191932562 | AA85: 144593341 | AB85: 47097932 | AC85: 241289
B86: 제83호표 | C86: 가설교량 도장(북측) | D86: 하부공 | E86: 개소 | F86: =G86+H86+I86 -> #REF! | G86: =일위대가!J410 -> #REF! | H86: =일위대가!L410 -> #REF! | I86: =일위대가!N410 -> #REF! | Z86: 140436065 | AA86: 56378630 | AB86: 81239345 | AC86: 2818090
B87: 제84호표 | C87: 태양광가로등설치 | D87: 50W/5m | E87: 개소 | F87: =G87+H87+I87 -> #REF! | G87: =일위대가!J413 -> #REF! | H87: =일위대가!L413 -> #REF! | I87: =일위대가!N413 -> #REF! | Z87: 3888182 | AC87: 3888182
B88: 제85호표 | C88: 가설교량 도장(남측) | D88: 하부공 | E88: 개소 | F88: =G88+H88+I88 -> #REF! | G88: =일위대가!J417 -> #REF! | H88: =일위대가!L417 -> #REF! | I88: =일위대가!N417 -> #REF! | Z88: 207875416 | AA88: 83452432 | AB88: 120251608 | AC88: 4171376
B89: 제86호표 | C89: 피복석(해상수중) | D89: 0.1㎥급 | E89: ㎥ | F89: =G89+H89+I89 -> #REF! | G89: =일위대가!J420 -> #REF! | H89: =일위대가!L420 -> #REF! | I89: =일위대가!N420 -> #REF! | Z89: 53777 | AA89: 17584 | AB89: 31910 | AC89: 4283
B90: 제87호표 | C90: 피복석(해상수상) | D90: 0.1㎥급, 기중기25Ton | E90: ㎥ | F90: =G90+H90+I90 -> #REF! | G90: =일위대가!J426 -> #REF! | H90: =일위대가!L426 -> #REF! | I90: =일위대가!N426 -> #REF! | Z90: 55811 | AA90: 18078 | AB90: 32371 | AC90: 5362
B91: 제88호표 | C91: 기초사석(해상수중) | D91: 0.015~0.03㎥급 | E91: ㎥ | F91: =G91+H91+I91 -> #REF! | G91: =일위대가!J432 -> #REF! | H91: =일위대가!L432 -> #REF! | I91: =일위대가!N432 -> #REF! | Z91: 28902 | AA91: 7463 | AB91: 19292 | AC91: 2147
B92: 제89호표 | C92: 해상작업기지블록제작(TYPE-A) | D92: 2.48B×1.7H×5.5L | E92: EA | F92: =G92+H92+I92 -> #REF! | G92: =일위대가!J437 -> #REF! | H92: =일위대가!L437 -> #REF! | I92: =일위대가!N437 -> #REF! | Z92: 1657368 | AA92: 1199058 | AB92: 336353 | AC92: 121957
B93: 제90호표 | C93: 해상작업기지블록제작(TYPE-B) | D93: 2.48B×1.7H×4.5L | E93: EA | F93: =G93+H93+I93 -> #REF! | G93: =일위대가!J444 -> #REF! | H93: =일위대가!L444 -> #REF! | I93: =일위대가!N444 -> #REF! | Z93: 1476907 | AA93: 1094259 | AB93: 284143 | AC93: 98505
B94: 제91호표 | C94: 해상작업기지블록제작(TYPE-B1) | D94: 3.73B×1.7H×4.5L | E94: EA | F94: =G94+H94+I94 -> #REF! | G94: =일위대가!J451 -> #REF! | H94: =일위대가!L451 -> #REF! | I94: =일위대가!N451 -> #REF! | Z94: 1955004 | AA94: 1407821 | AB94: 398955 | AC94: 148228
B95: 제92호표 | C95: 해상작업기지블록제작(TYPE-B2) | D95: 2.48B×1.7H×4.5L | E95: EA | F95: =G95+H95+I95 -> #REF! | G95: =일위대가!J458 -> #REF! | H95: =일위대가!L458 -> #REF! | I95: =일위대가!N458 -> #REF! | Z95: 1368269 | AA95: 996996 | AB95: 272402 | AC95: 98871
B96: 제93호표 | C96: 해상작업기지블록제작(TYPE-C) | D96: 2.48B×1.7H×3.0L | E96: EA | F96: =G96+H96+I96 -> #REF! | G96: =일위대가!J465 -> #REF! | H96: =일위대가!L465 -> #REF! | I96: =일위대가!N465 -> #REF! | Z96: 1135579 | AA96: 851036 | AB96: 219047 | AC96: 65496
B97: 제94호표 | C97: 해상작업기지블록제작(TYPE-C1) | D97: 2.48B×1.7H×3.0L | E97: EA | F97: =G97+H97+I97 -> #REF! | G97: =일위대가!J472 -> #REF! | H97: =일위대가!L472 -> #REF! | I97: =일위대가!N472 -> #REF! | Z97: 1020146 | AA97: 753773 | AB97: 200511 | AC97: 65862
B98: 제95호표 | C98: 철근콘크리트타설 | D98: 양호:펌프차S=8~12cm | E98: ㎥ | F98: =G98+H98+I98 -> #REF! | G98: =일위대가!J479 -> #REF! | H98: =일위대가!L479 -> #REF! | I98: =일위대가!N479 -> #REF! | Z98: 19883 | AA98: 13006 | AB98: 2567 | AC98: 4310
B99: 제96호표 | C99: 철근가공조립(간단) | E99: Ton | F99: =G99+H99+I99 -> #REF! | G99: =일위대가!J484 -> #REF! | H99: =일위대가!L484 -> #REF! | I99: =일위대가!N484 -> #REF! | Z99: 700916 | AA99: 693907 | AB99: 3508 | AC99: 3501
B100: 제97호표 | C100: 와이어메시 설치 | E100: ㎡ | F100: =G100+H100+I100 -> #REF! | G100: =일위대가!J488 -> #REF! | H100: =일위대가!L488 -> #REF! | I100: =일위대가!N488 -> #REF! | Z100: 3416 | AA100: 960 | AB100: 2456
B101: 제98호표 | C101: 세로줄눈 | D101: 다웰바(Φ25×500) | E101: m | F101: =G101+H101+I101 -> #REF! | G101: =일위대가!J492 -> #REF! | H101: =일위대가!L492 -> #REF! | I101: =일위대가!N492 -> #REF! | Z101: 12914 | AA101: 1215 | AB101: 11699
...

Sheet 일위대가
B1: 일위대가
B3: 호 표 | C3: 품 명 | D3: 규 격 | E3: 수 량 | F3: 단위 | G3: 합 계 | I3: 노 무 비 | K3: 재 료 비 | M3: 경 비 | O3: 비 고
G4: 단 가 | H4: 금 액 | I4: 단 가 | J4: 금 액 | K4: 단 가 | L4: 금 액 | M4: 단 가 | N4: 금 액
B5: 제1호표 | C5: 제체사석(해상수중) | D5: 0.001~0.03㎥급 | F5: ㎥ | H5: =J5+L5+N5 -> #REF! | J5: =TRUNC(J6+J7+J8) -> #REF! | L5: =TRUNC(L6+L7+L8) -> #REF! | N5: =TRUNC(N6+N7+N8) -> #REF!
C6: 사석(대선상차도) | D6: 0.001~0.03㎥급 | E6: 1 | F6: ㎥ | G6: =I6+K6+M6 -> #REF! | H6: =J6+L6+N6 -> #REF! | I6: =#REF! -> #REF! | J6: =TRUNC(E6*I6,0) -> #REF! | K6: =#REF! -> #REF! | L6: =TRUNC(E6*K6,0) -> #REF! | M6: =#REF! -> #REF! | N6: =TRUNC(E6*M6,0) -> #REF! | O6: 견적1참조
C7: 사석해상운반(L=6.0km) | D7: 각종, 굴삭기 2.0㎥ | E7: 1 | F7: ㎥ | G7: =I7+K7+M7 -> 4687 | H7: =J7+L7+N7 -> 4687 | I7: =단가산출총괄표!G4 -> 2201 | J7: =TRUNC(E7*I7,0) -> 2201 | K7: =단가산출총괄표!H4 -> 1120 | L7: =TRUNC(E7*K7,0) -> 1120 | M7: =단가산출총괄표!I4 -> 1366 | N7: =TRUNC(E7*M7,0) -> 1366 | O7: 단산1참조
C8: 사석투하(해상수중) | D8: 각종(굴삭기(무한궤도 2.0㎥), 잠수조) | E8: 1 | F8: ㎥ | G8: =I8+K8+M8 -> #REF! | H8: =J8+L8+N8 -> #REF! | I8: =#REF! -> #REF! | J8: =TRUNC(E8*I8,0) -> #REF! | K8: =#REF! -> #REF! | L8: =TRUNC(E8*K8,0) -> #REF! | M8: =#REF! -> #REF! | N8: =TRUNC(E8*M8,0) -> #REF! | O8: 표준1참조
J9: =TRUNC(E9*I9,0) -> 0 | L9: =TRUNC(E9*K9,0) -> 0 | N9: =TRUNC(E9*M9,0) -> 0
B10: 제2호표 | C10: 제체사석(해상수상) | D10: 0.001~0.03㎥급 | F10: ㎥ | H10: =J10+L10+N10 -> #REF! | J10: =TRUNC(J11+J12+J13) -> #REF! | L10: =TRUNC(L11+L12+L13) -> #REF! | N10: =TRUNC(N11+N12+N13) -> #REF!
C11: 사석(대선상차도) | D11: 0.001~0.03㎥급 | E11: 1 | F11: ㎥ | G11: =I11+K11+M11 -> #REF! | H11: =J11+L11+N11 -> #REF! | I11: =#REF! -> #REF! | J11: =TRUNC(E11*I11,0) -> #REF! | K11: =#REF! -> #REF! | L11: =TRUNC(E11*K11,0) -> #REF! | M11: =#REF! -> #REF! | N11: =TRUNC(E11*M11,0) -> #REF! | O11: 견적1참조
C12: 사석해상운반(L=6.0km) | D12: 각종, 굴삭기 2.0㎥ | E12: 1 | F12: ㎥ | G12: =I12+K12+M12 -> 4687 | H12: =J12+L12+N12 -> 4687 | I12: =단가산출총괄표!G4 -> 2201 | J12: =TRUNC(E12*I12,0) -> 2201 | K12: =단가산출총괄표!H4 -> 1120 | L12: =TRUNC(E12*K12,0) -> 1120 | M12: =단가산출총괄표!I4 -> 1366 | N12: =TRUNC(E12*M12,0) -> 1366 | O12: 단산1참조
C13: 사석투하(해상수상) | D13: 각종(굴삭기(무한궤도 2.0㎥) | E13: 1 | F13: ㎥ | G13: =I13+K13+M13 -> #REF! | H13: =J13+L13+N13 -> #REF! | I13: =#REF! -> #REF! | J13: =TRUNC(E13*I13,0) -> #REF! | K13: =#REF! -> #REF! | L13: =TRUNC(E13*K13,0) -> #REF! | M13: =#REF! -> #REF! | N13: =TRUNC(E13*M13,0) -> #REF! | O13: 표준2참조
J14: =TRUNC(E14*I14,0) -> 0 | L14: =TRUNC(E14*K14,0) -> 0 | N14: =TRUNC(E14*M14,0) -> 0
B15: 제3호표 | C15: 제체사석(육상덤프) | D15: 0.001~0.03㎥급 | F15: ㎥ | H15: =J15+L15+N15 -> #REF! | J15: =TRUNC(J16+J17+J18) -> #REF! | L15: =TRUNC(L16+L17+L18) -> #REF! | N15: =TRUNC(N16+N17+N18) -> #REF!
C16: 사석(석산상차도) | D16: 0.001~0.03㎥급 | E16: 1 | F16: ㎥ | G16: =I16+K16+M16 -> #REF! | H16: =J16+L16+N16 -> #REF! | I16: =#REF! -> #REF! | J16: =TRUNC(E16*I16,0) -> #REF! | K16: =#REF! -> #REF! | L16: =TRUNC(E16*K16,0) -> #REF! | M16: =#REF! -> #REF! | N16: =TRUNC(E16*M16,0) -> #REF! | O16: 견적2참조
C17: 사석육상운반(석산→현장) | D17: 0.03㎥급이하 | E17: 1 | F17: ㎥ | G17: =I17+K17+M17 -> 7556 | H17: =J17+L17+N17 -> 7556 | I17: =단가산출총괄표!G5 -> 3057 | J17: =TRUNC(E17*I17,0) -> 3057 | K17: =단가산출총괄표!H5 -> 2534 | L17: =TRUNC(E17*K17,0) -> 2534 | M17: =단가산출총괄표!I5 -> 1965 | N17: =TRUNC(E17*M17,0) -> 1965 | O17: 단산2참조
C18: 사석정리 | D18: 각종(불도저 19톤) | E18: 1 | F18: ㎥ | G18: =I18+K18+M18 -> #REF! | H18: =J18+L18+N18 -> #REF! | I18: =#REF! -> #REF! | J18: =TRUNC(E18*I18,0) -> #REF! | K18: =#REF! -> #REF! | L18: =TRUNC(E18*K18,0) -> #REF! | M18: =#REF! -> #REF! | N18: =TRUNC(E18*M18,0) -> #REF! | O18: 표준3참조
J19: =TRUNC(E19*I19,0) -> 0 | L19: =TRUNC(E19*K19,0) -> 0 | N19: =TRUNC(E19*M19,0) -> 0
B20: 제4호표 | C20: 제체사석(육상수상:백호) | D20: 0.001~0.03㎥급 | F20: ㎥ | H20: =J20+L20+N20 -> #REF! | J20: =TRUNC(J21+J22+J23) -> #REF! | L20: =TRUNC(L21+L22+L23) -> #REF! | N20: =TRUNC(N21+N22+N23) -> #REF!
C21: 사석(석산상차도) | D21: 0.001~0.03㎥급 | E21: 1 | F21: ㎥ | G21: =I21+K21+M21 -> #REF! | H21: =J21+L21+N21 -> #REF! | I21: =#REF! -> #REF! | J21: =TRUNC(E21*I21,0) -> #REF! | K21: =#REF! -> #REF! | L21: =TRUNC(E21*K21,0) -> #REF! | M21: =#REF! -> #REF! | N21: =TRUNC(E21*M21,0) -> #REF! | O21: 견적2참조
C22: 사석육상운반(석산→현장) | D22: 0.03㎥급이하 | E22: 1 | F22: ㎥ | G22: =I22+K22+M22 -> 7556 | H22: =J22+L22+N22 -> 7556 | I22: =단가산출총괄표!G5 -> 3057 | J22: =TRUNC(E22*I22,0) -> 3057 | K22: =단가산출총괄표!H5 -> 2534 | L22: =TRUNC(E22*K22,0) -> 2534 | M22: =단가산출총괄표!I5 -> 1965 | N22: =TRUNC(E22*M22,0) -> 1965 | O22: 단산2참조
C23: 사석투하(육상수상) | D23: 각종(굴삭기(무한궤도 1.0㎥)) | E23: 1 | F23: ㎥ | G23: =I23+K23+M23 -> #REF! | H23: =J23+L23+N23 -> #REF! | I23: =#REF! -> #REF! | J23: =TRUNC(E23*I23,0) -> #REF! | K23: =#REF! -> #REF! | L23: =TRUNC(E23*K23,0) -> #REF! | M23: =#REF! -> #REF! | N23: =TRUNC(E23*M23,0) -> #REF! | O23: 표준4참조
J24: =TRUNC(E24*I24,0) -> 0 | L24: =TRUNC(E24*K24,0) -> 0 | N24: =TRUNC(E24*M24,0) -> 0
B25: 제5호표 | C25: 치환사석(육상수상,백호) | D25: 0.001~0.03㎥급 | F25: ㎥ | H25: =J25+L25+N25 -> #REF! | J25: =TRUNC(J26+J27+J28) -> #REF! | L25: =TRUNC(L26+L27+L28) -> #REF! | N25: =TRUNC(N26+N27+N28) -> #REF!
C26: 사석(석산상차도) | D26: 0.001~0.03㎥급 | E26: 1 | F26: ㎥ | G26: =I26+K26+M26 -> #REF! | H26: =J26+L26+N26 -> #REF! | I26: =#REF! -> #REF! | J26: =TRUNC(E26*I26,0) -> #REF! | K26: =#REF! -> #REF! | L26: =TRUNC(E26*K26,0) -> #REF! | M26: =#REF! -> #REF! | N26: =TRUNC(E26*M26,0) -> #REF! | O26: 견적2참조
C27: 사석육상운반(석산→현장) | D27: 0.03㎥급이하 | E27: 1 | F27: ㎥ | G27: =I27+K27+M27 -> 7556 | H27: =J27+L27+N27 -> 7556 | I27: =단가산출총괄표!G5 -> 3057 | J27: =TRUNC(E27*I27,0) -> 3057 | K27: =단가산출총괄표!H5 -> 2534 | L27: =TRUNC(E27*K27,0) -> 2534 | M27: =단가산출총괄표!I5 -> 1965 | N27: =TRUNC(E27*M27,0) -> 1965 | O27: 단산2참조
C28: 사석투하(육상수상) | D28: 각종(굴삭기(무한궤도 1.0㎥)) | E28: 1 | F28: ㎥ | G28: =I28+K28+M28 -> #REF! | H28: =J28+L28+N28 -> #REF! | I28: =#REF! -> #REF! | J28: =TRUNC(E28*I28,0) -> #REF! | K28: =#REF! -> #REF! | L28: =TRUNC(E28*K28,0) -> #REF! | M28: =#REF! -> #REF! | N28: =TRUNC(E28*M28,0) -> #REF! | O28: 표준4참조
J29: =TRUNC(E29*I29,0) -> 0 | L29: =TRUNC(E29*K29,0) -> 0 | N29: =TRUNC(E29*M29,0) -> 0
B30: 제6호표 | C30: 필터사석(육상덤프) | D30: Φ100mm이하 | F30: ㎥ | H30: =J30+L30+N30 -> #REF! | J30: =TRUNC(J31+J32+J33) -> #REF! | L30: =TRUNC(L31+L32+L33) -> #REF! | N30: =TRUNC(N31+N32+N33) -> #REF!
C31: 필터사석(석산상차도) | D31: Φ100mm이하 | E31: 1 | F31: ㎥ | G31: =I31+K31+M31 -> #REF! | H31: =J31+L31+N31 -> #REF! | I31: =#REF! -> #REF! | J31: =TRUNC(E31*I31,0) -> #REF! | K31: =#REF! -> #REF! | L31: =TRUNC(E31*K31,0) -> #REF! | M31: =#REF! -> #REF! | N31: =TRUNC(E31*M31,0) -> #REF! | O31: 견적3참조
C32: 육상운반(석산→현장) | D32: Φ100mm이하 | E32: 1 | F32: ㎥ | G32: =I32+K32+M32 -> 6679 | H32: =J32+L32+N32 -> 6679 | I32: =단가산출총괄표!G6 -> 2580 | J32: =TRUNC(E32*I32,0) -> 2580 | K32: =단가산출총괄표!H6 -> 2440 | L32: =TRUNC(E32*K32,0) -> 2440 | M32: =단가산출총괄표!I6 -> 1659 | N32: =TRUNC(E32*M32,0) -> 1659 | O32: 단산3참조
C33: 사석정리 | D33: 각종(불도저 19톤) | E33: 1 | F33: ㎥ | G33: =I33+K33+M33 -> #REF! | H33: =J33+L33+N33 -> #REF! | I33: =#REF! -> #REF! | J33: =TRUNC(E33*I33,0) -> #REF! | K33: =#REF! -> #REF! | L33: =TRUNC(E33*K33,0) -> #REF! | M33: =#REF! -> #REF! | N33: =TRUNC(E33*M33,0) -> #REF! | O33: 표준3참조
J34: =TRUNC(E34*I34,0) -> 0 | L34: =TRUNC(E34*K34,0) -> 0 | N34: =TRUNC(E34*M34,0) -> 0
B35: 제7호표 | C35: 필터사석(육상수상:백호) | D35: Φ100mm이하 | F35: ㎥ | H35: =J35+L35+N35 -> #REF! | J35: =TRUNC(J36+J37+J38) -> #REF! | L35: =TRUNC(L36+L37+L38) -> #REF! | N35: =TRUNC(N36+N37+N38) -> #REF!
C36: 필터사석(석산상차도) | D36: Φ100mm이하 | E36: 1 | F36: ㎥ | G36: =I36+K36+M36 -> #REF! | H36: =J36+L36+N36 -> #REF! | I36: =#REF! -> #REF! | J36: =TRUNC(E36*I36,0) -> #REF! | K36: =#REF! -> #REF! | L36: =TRUNC(E36*K36,0) -> #REF! | M36: =#REF! -> #REF! | N36: =TRUNC(E36*M36,0) -> #REF! | O36: 견적3참조
C37: 육상운반(석산→현장) | D37: Φ100mm이하 | E37: 1 | F37: ㎥ | G37: =I37+K37+M37 -> 6679 | H37: =J37+L37+N37 -> 6679 | I37: =단가산출총괄표!G6 -> 2580 | J37: =TRUNC(E37*I37,0) -> 2580 | K37: =단가산출총괄표!H6 -> 2440 | L37: =TRUNC(E37*K37,0) -> 2440 | M37: =단가산출총괄표!I6 -> 1659 | N37: =TRUNC(E37*M37,0) -> 1659 | O37: 단산3참조
C38: 필터사석투하(육상수상) | D38: D=100mm 이하(굴삭기(무한궤도 1.0㎥)) | E38: 1 | F38: ㎥ | G38: =I38+K38+M38 -> #REF! | H38: =J38+L38+N38 -> #REF! | I38: =#REF! -> #REF! | J38: =TRUNC(E38*I38,0) -> #REF! | K38: =#REF! -> #REF! | L38: =TRUNC(E38*K38,0) -> #REF! | M38: =#REF! -> #REF! | N38: =TRUNC(E38*M38,0) -> #REF! | O38: 표준5참조
J39: =TRUNC(E39*I39,0) -> 0 | L39: =TRUNC(E39*K39,0) -> 0 | N39: =TRUNC(E39*M39,0) -> 0
B40: 제8호표 | C40: 보호압사석(육상수중,크람셀) | D40: 0.001~0.03㎥급 | F40: ㎥ | H40: =J40+L40+N40 -> #REF! | J40: =TRUNC(J41+J42+J43) -> #REF! | L40: =TRUNC(L41+L42+L43) -> #REF! | N40: =TRUNC(N41+N42+N43) -> #REF!
C41: 사석(석산상차도) | D41: 0.001~0.03㎥급 | E41: 1 | F41: ㎥ | G41: =I41+K41+M41 -> #REF! | H41: =J41+L41+N41 -> #REF! | I41: =#REF! -> #REF! | J41: =TRUNC(E41*I41,0) -> #REF! | K41: =#REF! -> #REF! | L41: =TRUNC(E41*K41,0) -> #REF! | M41: =#REF! -> #REF! | N41: =TRUNC(E41*M41,0) -> #REF! | O41: 견적2참조
C42: 사석육상운반(석산→현장) | D42: 0.03㎥급이하 | E42: 1 | F42: ㎥ | G42: =I42+K42+M42 -> 7556 | H42: =J42+L42+N42 -> 7556 | I42: =단가산출총괄표!G5 -> 3057 | J42: =TRUNC(E42*I42,0) -> 3057 | K42: =단가산출총괄표!H5 -> 2534 | L42: =TRUNC(E42*K42,0) -> 2534 | M42: =단가산출총괄표!I5 -> 1965 | N42: =TRUNC(E42*M42,0) -> 1965 | O42: 단산2참조
C43: 사석투하(육상수중,크램셀) | D43: 0.03㎥이하 | E43: 1 | F43: ㎥ | G43: =I43+K43+M43 -> 5679 | H43: =J43+L43+N43 -> 5679 | I43: =단가산출총괄표!G7 -> 2970 | J43: =TRUNC(E43*I43,0) -> 2970 | K43: =단가산출총괄표!H7 -> 882 | L43: =TRUNC(E43*K43,0) -> 882 | M43: =단가산출총괄표!I7 -> 1827 | N43: =TRUNC(E43*M43,0) -> 1827 | O43: 단산4참조
J44: =TRUNC(E44*I44,0) -> 0 | L44: =TRUNC(E44*K44,0) -> 0 | N44: =TRUNC(E44*M44,0) -> 0
B45: 제9호표 | C45: 보호압사석(육상수상,크람셀) | D45: 0.001~0.03㎥급 | F45: ㎥ | H45: =J45+L45+N45 -> #REF! | J45: =TRUNC(J46+J47+J48) -> #REF! | L45: =TRUNC(L46+L47+L48) -> #REF! | N45: =TRUNC(N46+N47+N48) -> #REF!
C46: 사석(석산상차도) | D46: 0.001~0.03㎥급 | E46: 1 | F46: ㎥ | G46: =I46+K46+M46 -> #REF! | H46: =J46+L46+N46 -> #REF! | I46: =#REF! -> #REF! | J46: =TRUNC(E46*I46,0) -> #REF! | K46: =#REF! -> #REF! | L46: =TRUNC(E46*K46,0) -> #REF! | M46: =#REF! -> #REF! | N46: =TRUNC(E46*M46,0) -> #REF! | O46: 견적2참조
C47: 사석육상운반(석산→현장) | D47: 0.03㎥급이하 | E47: 1 | F47: ㎥ | G47: =I47+K47+M47 -> 7556 | H47: =J47+L47+N47 -> 7556 | I47: =단가산출총괄표!G5 -> 3057 | J47: =TRUNC(E47*I47,0) -> 3057 | K47: =단가산출총괄표!H5 -> 2534 | L47: =TRUNC(E47*K47,0) -> 2534 | M47: =단가산출총괄표!I5 -> 1965 | N47: =TRUNC(E47*M47,0) -> 1965 | O47: 단산2참조
C48: 사석투하(육상수상,크램셀) | D48: 0.03㎥이하 | E48: 1 | F48: ㎥ | G48: =I48+K48+M48 -> 3441 | H48: =J48+L48+N48 -> 3441 | I48: =단가산출총괄표!G8 -> 973 | J48: =TRUNC(E48*I48,0) -> 973 | K48: =단가산출총괄표!H8 -> 721 | L48: =TRUNC(E48*K48,0) -> 721 | M48: =단가산출총괄표!I8 -> 1747 | N48: =TRUNC(E48*M48,0) -> 1747 | O48: 단산5참조
J49: =TRUNC(E49*I49,0) -> 0 | L49: =TRUNC(E49*K49,0) -> 0 | N49: =TRUNC(E49*M49,0) -> 0
B50: 제10호표 | C50: 보호압사석(육상수상,백호) | D50: 0.001~0.03㎥급 | F50: ㎥ | H50: =J50+L50+N50 -> #REF! | J50: =TRUNC(J51+J52+J53) -> #REF! | L50: =TRUNC(L51+L52+L53) -> #REF! | N50: =TRUNC(N51+N52+N53) -> #REF!
C51: 사석(석산상차도) | D51: 0.001~0.03㎥급 | E51: 1 | F51: ㎥ | G51: =I51+K51+M51 -> #REF! | H51: =J51+L51+N51 -> #REF! | I51: =#REF! -> #REF! | J51: =TRUNC(E51*I51,0) -> #REF! | K51: =#REF! -> #REF! | L51: =TRUNC(E51*K51,0) -> #REF! | M51: =#REF! -> #REF! | N51: =TRUNC(E51*M51,0) -> #REF! | O51: 견적2참조
C52: 사석육상운반(석산→현장) | D52: 0.03㎥급이하 | E52: 1 | F52: ㎥ | G52: =I52+K52+M52 -> 7556 | H52: =J52+L52+N52 -> 7556 | I52: =단가산출총괄표!G5 -> 3057 | J52: =TRUNC(E52*I52,0) -> 3057 | K52: =단가산출총괄표!H5 -> 2534 | L52: =TRUNC(E52*K52,0) -> 2534 | M52: =단가산출총괄표!I5 -> 1965 | N52: =TRUNC(E52*M52,0) -> 1965 | O52: 단산2참조
C53: 사석투하(육상수상) | D53: 각종(굴삭기(무한궤도 1.0㎥)) | E53: 1 | F53: ㎥ | G53: =I53+K53+M53 -> #REF! | H53: =J53+L53+N53 -> #REF! | I53: =#REF! -> #REF! | J53: =TRUNC(E53*I53,0) -> #REF! | K53: =#REF! -> #REF! | L53: =TRUNC(E53*K53,0) -> #REF! | M53: =#REF! -> #REF! | N53: =TRUNC(E53*M53,0) -> #REF! | O53: 표준4참조
J54: =TRUNC(E54*I54,0) -> 0 | L54: =TRUNC(E54*K54,0) -> 0 | N54: =TRUNC(E54*M54,0) -> 0
B55: 제11호표 | C55: 필터매트부설 | D55: 수중(잠수조),50kN | F55: ㎡ | H55: =J55+L55+N55 -> #REF! | J55: =TRUNC(J56+J57) -> #REF! | L55: =TRUNC(L56+L57) -> #REF! | N55: =TRUNC(N56+N57) -> #REF!
C56: 필터매트 | D56: 50kN/m | E56: 1.15 | F56: ㎡ | G56: =I56+K56+M56 -> #REF! | H56: =J56+L56+N56 -> #REF! | I56: =#REF! -> #REF! | J56: =TRUNC(E56*I56,0) -> #REF! | K56: =#REF! -> #REF! | L56: =TRUNC(E56*K56,0) -> #REF! | M56: =#REF! -> #REF! | N56: =TRUNC(E56*M56,0) -> #REF!
C57: 필터매트부설 | D57: 수중(잠수조 | E57: 1 | F57: ㎡ | G57: =I57+K57+M57 -> #REF! | H57: =J57+L57+N57 -> #REF! | I57: =#REF! -> #REF! | J57: =TRUNC(E57*I57,0) -> #REF! | K57: =#REF! -> #REF! | L57: =TRUNC(E57*K57,0) -> #REF! | M57: =#REF! -> #REF! | N57: =TRUNC(E57*M57,0) -> #REF! | O57: 표준8참조
J58: =TRUNC(E58*I58,0) -> 0 | L58: =TRUNC(E58*K58,0) -> 0 | N58: =TRUNC(E58*M58,0) -> 0
B59: 제12호표 | C59: 필터매트부설 | D59: 수상,50kN | F59: ㎡ | H59: =J59+L59+N59 -> #REF! | J59: =TRUNC(J60+J61) -> #REF! | L59: =TRUNC(L60+L61) -> #REF! | N59: =TRUNC(N60+N61) -> #REF!
C60: 필터매트 | D60: 50kN/m | E60: 1.1 | F60: ㎡ | G60: =I60+K60+M60 -> #REF! | H60: =J60+L60+N60 -> #REF! | I60: =#REF! -> #REF! | J60: =TRUNC(E60*I60,0) -> #REF! | K60: =#REF! -> #REF! | L60: =TRUNC(E60*K60,0) -> #REF! | M60: =#REF! -> #REF! | N60: =TRUNC(E60*M60,0) -> #REF!
C61: 필터매트부설 | D61: 수상 | E61: 1 | F61: ㎡ | G61: =I61+K61+M61 -> #REF! | H61: =J61+L61+N61 -> #REF! | I61: =#REF! -> #REF! | J61: =TRUNC(E61*I61,0) -> #REF! | K61: =#REF! -> #REF! | L61: =TRUNC(E61*K61,0) -> #REF! | M61: =#REF! -> #REF! | N61: =TRUNC(E61*M61,0) -> #REF! | O61: 표준9참조
J62: =TRUNC(E62*I62,0) -> 0 | L62: =TRUNC(E62*K62,0) -> 0 | N62: =TRUNC(E62*M62,0) -> 0
B63: 제13호표 | C63: 복합매트부설(수중) | D63: 100KN | F63: ㎡ | H63: =J63+L63+N63 -> #REF! | J63: =TRUNC(J64+J65) -> #REF! | L63: =TRUNC(L64+L65) -> #REF! | N63: =TRUNC(N64+N65) -> #REF!
C64: 복합매트 | D64: 100kN/m | E64: 1.15 | F64: ㎡ | G64: =I64+K64+M64 -> #REF! | H64: =J64+L64+N64 -> #REF! | I64: =#REF! -> #REF! | J64: =TRUNC(E64*I64,0) -> #REF! | K64: =#REF! -> #REF! | L64: =TRUNC(E64*K64,0) -> #REF! | M64: =#REF! -> #REF! | N64: =TRUNC(E64*M64,0) -> #REF! | O64: 견적78
C65: 필터매트부설 | D65: 수중(잠수조 | E65: 1 | F65: ㎡ | G65: =I65+K65+M65 -> #REF! | H65: =J65+L65+N65 -> #REF! | I65: =#REF! -> #REF! | J65: =TRUNC(E65*I65,0) -> #REF! | K65: =#REF! -> #REF! | L65: =TRUNC(E65*K65,0) -> #REF! | M65: =#REF! -> #REF! | N65: =TRUNC(E65*M65,0) -> #REF! | O65: 표준8참조
J66: =TRUNC(E66*I66,0) -> 0 | L66: =TRUNC(E66*K66,0) -> 0 | N66: =TRUNC(E66*M66,0) -> 0
B67: 제14호표 | C67: 복합매트부설(수상) | D67: 100KN | F67: ㎡ | H67: =J67+L67+N67 -> #REF! | J67: =TRUNC(J68+J69) -> #REF! | L67: =TRUNC(L68+L69) -> #REF! | N67: =TRUNC(N68+N69) -> #REF!
C68: 복합매트 | D68: 100kN/m | E68: 1.1 | F68: ㎡ | G68: =I68+K68+M68 -> #REF! | H68: =J68+L68+N68 -> #REF! | I68: =#REF! -> #REF! | J68: =TRUNC(E68*I68,0) -> #REF! | K68: =#REF! -> #REF! | L68: =TRUNC(E68*K68,0) -> #REF! | M68: =#REF! -> #REF! | N68: =TRUNC(E68*M68,0) -> #REF! | O68: 견적78
C69: 필터매트부설 | D69: 수상 | E69: 1 | F69: ㎡ | G69: =I69+K69+M69 -> #REF! | H69: =J69+L69+N69 -> #REF! | I69: =#REF! -> #REF! | J69: =TRUNC(E69*I69,0) -> #REF! | K69: =#REF! -> #REF! | L69: =TRUNC(E69*K69,0) -> #REF! | M69: =#REF! -> #REF! | N69: =TRUNC(E69*M69,0) -> #REF! | O69: 표준9참조
J70: =TRUNC(E70*I70,0) -> 0 | L70: =TRUNC(E70*K70,0) -> 0 | N70: =TRUNC(E70*M70,0) -> 0
B71: 제15호표 | C71: 차수매트부설(수상) | D71: 50KN | F71: ㎡ | H71: =J71+L71+N71 -> #REF! | J71: =TRUNC(J72+J73) -> #REF! | L71: =TRUNC(L72+L73) -> #REF! | N71: =TRUNC(N72+N73) -> #REF!
C72: 차수매트 | D72: 50kN/㎡ | E72: 1.1 | F72: ㎡ | G72: =I72+K72+M72 -> #REF! | H72: =J72+L72+N72 -> #REF! | I72: =#REF! -> #REF! | J72: =TRUNC(E72*I72,0) -> #REF! | K72: =#REF! -> #REF! | L72: =TRUNC(E72*K72,0) -> #REF! | M72: =#REF! -> #REF! | N72: =TRUNC(E72*M72,0) -> #REF!
C73: 필터매트부설 | D73: 수상 | E73: 1 | F73: ㎡ | G73: =I73+K73+M73 -> #REF! | H73: =J73+L73+N73 -> #REF! | I73: =#REF! -> #REF! | J73: =TRUNC(E73*I73,0) -> #REF! | K73: =#REF! -> #REF! | L73: =TRUNC(E73*K73,0) -> #REF! | M73: =#REF! -> #REF! | N73: =TRUNC(E73*M73,0) -> #REF! | O73: 표준9참조
J74: =TRUNC(E74*I74,0) -> 0 | L74: =TRUNC(E74*K74,0) -> 0 | N74: =TRUNC(E74*M74,0) -> 0
B75: 제16호표 | C75: 중간피복석(육상수중) | D75: 0.03㎥급 | F75: ㎥ | H75: =J75+L75+N75 -> #REF! | J75: =TRUNC(J76+J77+J78) -> #REF! | L75: =TRUNC(L76+L77+L78) -> #REF! | N75: =TRUNC(N76+N77+N78) -> #REF!
C76: 사석(석산상차도) | D76: 0.03㎥급 | E76: 1 | F76: ㎥ | G76: =I76+K76+M76 -> #REF! | H76: =J76+L76+N76 -> #REF! | I76: =#REF! -> #REF! | J76: =TRUNC(E76*I76,0) -> #REF! | K76: =#REF! -> #REF! | L76: =TRUNC(E76*K76,0) -> #REF! | M76: =#REF! -> #REF! | N76: =TRUNC(E76*M76,0) -> #REF! | O76: 견적4참조
C77: 사석육상운반(석산→현장) | D77: 0.03㎥급이하 | E77: 1 | F77: ㎥ | G77: =I77+K77+M77 -> 7556 | H77: =J77+L77+N77 -> 7556 | I77: =단가산출총괄표!G5 -> 3057 | J77: =TRUNC(E77*I77,0) -> 3057 | K77: =단가산출총괄표!H5 -> 2534 | L77: =TRUNC(E77*K77,0) -> 2534 | M77: =단가산출총괄표!I5 -> 1965 | N77: =TRUNC(E77*M77,0) -> 1965 | O77: 단산2참조
C78: 피복석투하(육상수중) | D78: 0.1~0.4㎥(크레인 25톤, 잠수조) | E78: 1 | F78: ㎥ | G78: =I78+K78+M78 -> #REF! | H78: =J78+L78+N78 -> #REF! | I78: =#REF! -> #REF! | J78: =TRUNC(E78*I78,0) -> #REF! | K78: =#REF! -> #REF! | L78: =TRUNC(E78*K78,0) -> #REF! | M78: =#REF! -> #REF! | N78: =TRUNC(E78*M78,0) -> #REF! | O78: 표준10참조
J79: =TRUNC(E79*I79,0) -> 0 | L79: =TRUNC(E79*K79,0) -> 0 | N79: =TRUNC(E79*M79,0) -> 0
B80: 제17호표 | C80: 중간피복석(육상수상) | D80: 0.03㎥급 | F80: ㎥ | H80: =J80+L80+N80 -> #REF! | J80: =TRUNC(J81+J82+J83) -> #REF! | L80: =TRUNC(L81+L82+L83) -> #REF! | N80: =TRUNC(N81+N82+N83) -> #REF!
C81: 사석(석산상차도) | D81: 0.03㎥급 | E81: 1 | F81: ㎥ | G81: =I81+K81+M81 -> #REF! | H81: =J81+L81+N81 -> #REF! | I81: =#REF! -> #REF! | J81: =TRUNC(E81*I81,0) -> #REF! | K81: =#REF! -> #REF! | L81: =TRUNC(E81*K81,0) -> #REF! | M81: =#REF! -> #REF! | N81: =TRUNC(E81*M81,0) -> #REF! | O81: 견적4참조
C82: 사석육상운반(석산→현장) | D82: 0.03㎥급이하 | E82: 1 | F82: ㎥ | G82: =I82+K82+M82 -> 7556 | H82: =J82+L82+N82 -> 7556 | I82: =단가산출총괄표!G5 -> 3057 | J82: =TRUNC(E82*I82,0) -> 3057 | K82: =단가산출총괄표!H5 -> 2534 | L82: =TRUNC(E82*K82,0) -> 2534 | M82: =단가산출총괄표!I5 -> 1965 | N82: =TRUNC(E82*M82,0) -> 1965 | O82: 단산2참조
C83: 피복석투하(육상수상) | D83: 0.1~0.4㎥(크레인 10톤) | E83: 1 | F83: ㎥ | G83: =I83+K83+M83 -> #REF! | H83: =J83+L83+N83 -> #REF! | I83: =#REF! -> #REF! | J83: =TRUNC(E83*I83,0) -> #REF! | K83: =#REF! -> #REF! | L83: =TRUNC(E83*K83,0) -> #REF! | M83: =#REF! -> #REF! | N83: =TRUNC(E83*M83,0) -> #REF! | O83: 표준11참조
J84: =TRUNC(E84*I84,0) -> 0 | L84: =TRUNC(E84*K84,0) -> 0 | N84: =TRUNC(E84*M84,0) -> 0
B85: 제18호표 | C85: 피복석(해상수중) | D85: 0.4㎥급 | F85: ㎥ | H85: =J85+L85+N85 -> #REF! | J85: =TRUNC(J86+J87+J88+J89) -> #REF! | L85: =TRUNC(L86+L87+L88+L89) -> #REF! | N85: =TRUNC(N86+N87+N88+N89) -> #REF!
C86: 피복석(대선상차도) | D86: 0.4㎥급 | E86: 1 | F86: ㎥ | G86: =I86+K86+M86 -> #REF! | H86: =J86+L86+N86 -> #REF! | I86: =#REF! -> #REF! | J86: =TRUNC(E86*I86,0) -> #REF! | K86: =#REF! -> #REF! | L86: =TRUNC(E86*K86,0) -> #REF! | M86: =#REF! -> #REF! | N86: =TRUNC(E86*M86,0) -> #REF! | O86: 견적5참조
C87: 피복석해상운반 | D87: 0.4㎥급 | E87: 1 | F87: ㎥ | G87: =I87+K87+M87 -> 9584 | H87: =J87+L87+N87 -> 9584 | I87: =단가산출총괄표!G9 -> 5131 | J87: =TRUNC(E87*I87,0) -> 5131 | K87: =단가산출총괄표!H9 -> 1038 | L87: =TRUNC(E87*K87,0) -> 1038 | M87: =단가산출총괄표!I9 -> 3415 | N87: =TRUNC(E87*M87,0) -> 3415 | O87: 단산6참조
C88: 피복석투하(해상수중) | D88: 0.1~0.4㎥(조합기중기선 10톤, 잠수조) | E88: 1 | F88: ㎥ | G88: =I88+K88+M88 -> #REF! | H88: =J88+L88+N88 -> #REF! | I88: =#REF! -> #REF! | J88: =TRUNC(E88*I88,0) -> #REF! | K88: =#REF! -> #REF! | L88: =TRUNC(E88*K88,0) -> #REF! | M88: =#REF! -> #REF! | N88: =TRUNC(E88*M88,0) -> #REF! | O88: 표준12참조
C89: 해상기중기 예인 및 피예인 | D89: 0.4㎥급 | E89: 1 | F89: ㎥ | G89: =I89+K89+M89 -> 2637 | H89: =J89+L89+N89 -> 2637 | I89: =단가산출총괄표!G10 -> 1824 | J89: =TRUNC(E89*I89,0) -> 1824 | K89: =단가산출총괄표!H10 -> 638 | L89: =TRUNC(E89*K89,0) -> 638 | M89: =단가산출총괄표!I10 -> 175 | N89: =TRUNC(E89*M89,0) -> 175 | O89: 단산7참조
J90: =TRUNC(E90*I90,0) -> 0 | L90: =TRUNC(E90*K90,0) -> 0 | N90: =TRUNC(E90*M90,0) -> 0
B91: 제19호표 | C91: 피복석(해상수상) | D91: 0.4㎥급, 기중기25Ton | F91: ㎥ | H91: =J91+L91+N91 -> #REF! | J91: =TRUNC(J92+J93+J94+J95) -> #REF! | L91: =TRUNC(L92+L93+L94+L95) -> #REF! | N91: =TRUNC(N92+N93+N94+N95) -> #REF!
C92: 피복석(대선상차도) | D92: 0.4㎥급 | E92: 1 | F92: ㎥ | G92: =I92+K92+M92 -> #REF! | H92: =J92+L92+N92 -> #REF! | I92: =#REF! -> #REF! | J92: =TRUNC(E92*I92,0) -> #REF! | K92: =#REF! -> #REF! | L92: =TRUNC(E92*K92,0) -> #REF! | M92: =#REF! -> #REF! | N92: =TRUNC(E92*M92,0) -> #REF! | O92: 견적5참조
C93: 피복석해상운반 | D93: 0.4㎥급 | E93: 1 | F93: ㎥ | G93: =I93+K93+M93 -> 9584 | H93: =J93+L93+N93 -> 9584 | I93: =단가산출총괄표!G9 -> 5131 | J93: =TRUNC(E93*I93,0) -> 5131 | K93: =단가산출총괄표!H9 -> 1038 | L93: =TRUNC(E93*K93,0) -> 1038 | M93: =단가산출총괄표!I9 -> 3415 | N93: =TRUNC(E93*M93,0) -> 3415 | O93: 단산6참조
C94: 피복석투하(해상수상) | D94: 0.4㎥급,기중기선 25톤급 | E94: 1 | F94: ㎥ | G94: =I94+K94+M94 -> 14748 | H94: =J94+L94+N94 -> 14748 | I94: =단가산출총괄표!G11 -> 11669 | J94: =TRUNC(E94*I94,0) -> 11669 | K94: =단가산출총괄표!H11 -> 1160 | L94: =TRUNC(E94*K94,0) -> 1160 | M94: =단가산출총괄표!I11 -> 1919 | N94: =TRUNC(E94*M94,0) -> 1919 | O94: 단산8참조
C95: 해상기중기 예인 및 피예인 | D95: 0.4㎥급 | E95: 1 | F95: ㎥ | G95: =I95+K95+M95 -> 2637 | H95: =J95+L95+N95 -> 2637 | I95: =단가산출총괄표!G10 -> 1824 | J95: =TRUNC(E95*I95,0) -> 1824 | K95: =단가산출총괄표!H10 -> 638 | L95: =TRUNC(E95*K95,0) -> 638 | M95: =단가산출총괄표!I10 -> 175 | N95: =TRUNC(E95*M95,0) -> 175 | O95: 단산7참조
J96: =TRUNC(E96*I96,0) -> 0 | L96: =TRUNC(E96*K96,0) -> 0 | N96: =TRUNC(E96*M96,0) -> 0
B97: 제20호표 | C97: 피복석속고르기(해상수중) | D97: 0.4㎥급(H=0~15m) | F97: ㎡ | H97: =J97+L97+N97 -> #REF! | J97: =TRUNC(J98+J99) -> #REF! | L97: =TRUNC(L98+L99) -> #REF! | N97: =TRUNC(N98+N99) -> #REF!
C98: 피복석속고르기(해상수중) | D98: 0.1~0.5㎥급 이하(이우선5톤,잠수조),수중(H=0~15ｍ) | E98: 1 | F98: ㎡ | G98: =I98+K98+M98 -> #REF! | H98: =J98+L98+N98 -> #REF! | I98: =#REF! -> #REF! | J98: =TRUNC(E98*I98,0) -> #REF! | K98: =#REF! -> #REF! | L98: =TRUNC(E98*K98,0) -> #REF! | M98: =#REF! -> #REF! | N98: =TRUNC(E98*M98,0) -> #REF! | O98: 표준15참조
C99: 피복석속고르기 이우선예인 및 피예인노력비(해상수중 | D99: 0.5㎥급까지 | E99: 1 | F99: ㎡ | G99: =I99+K99+M99 -> 21121 | H99: =J99+L99+N99 -> 21121 | I99: =단가산출총괄표!G12 -> 15032 | J99: =TRUNC(E99*I99,0) -> 15032 | K99: =단가산출총괄표!H12 -> 4778 | L99: =TRUNC(E99*K99,0) -> 4778 | M99: =단가산출총괄표!I12 -> 1311 | N99: =TRUNC(E99*M99,0) -> 1311 | O99: 단산9참조
J100: =TRUNC(E100*I100,0) -> 0 | L100: =TRUNC(E100*K100,0) -> 0 | N100: =TRUNC(E100*M100,0) -> 0
B101: 제21호표 | C101: 피복석고르기(해상수중) | D101: 0.4㎥급(H=0~15m) | F101: ㎡ | H101: =J101+L101+N101 -> #REF! | J101: =TRUNC(J102+J103) -> #REF! | L101: =TRUNC(L102+L103) -> #REF! | N101: =TRUNC(N102+N103) -> #REF!
...

Sheet 단가산출총괄표
B1: 단가산출총괄표
B3: No | C3: 품 명 | D3: 규 격 | E3: 단위 | F3: 합 계 | G3: 노무비 | H3: 재료비 | I3: 경 비 | J3: 비 고 | Z3: 당초합계 | AA3: 당초노무비 | AB3: 당초재료비 | AC3: 당초경비
B4: 1 | C4: 사석해상운반(L=6.0km) | D4: 각종, 굴삭기 2.0㎥ | E4: ㎥ | F4: =G4+H4+I4 -> 4687 | G4: =단가산출!D4 -> 2201 | H4: =단가산출!E4 -> 1120 | I4: =단가산출!F4 -> 1366 | Z4: 4687 | AA4: 2201 | AB4: 1120 | AC4: 1366
B5: 2 | C5: 사석육상운반(석산→현장) | D5: 0.03㎥급이하 | E5: ㎥ | F5: =G5+H5+I5 -> 7556 | G5: =단가산출!D63 -> 3057 | H5: =단가산출!E63 -> 2534 | I5: =단가산출!F63 -> 1965 | Z5: 7556 | AA5: 3057 | AB5: 2534 | AC5: 1965
B6: 3 | C6: 육상운반(석산→현장) | D6: Φ100mm이하 | E6: ㎥ | F6: =G6+H6+I6 -> 6679 | G6: =단가산출!D111 -> 2580 | H6: =단가산출!E111 -> 2440 | I6: =단가산출!F111 -> 1659 | Z6: 6679 | AA6: 2580 | AB6: 2440 | AC6: 1659
B7: 4 | C7: 사석투하(육상수중,크램셀) | D7: 0.03㎥이하 | E7: ㎥ | F7: =G7+H7+I7 -> 5679 | G7: =단가산출!D159 -> 2970 | H7: =단가산출!E159 -> 882 | I7: =단가산출!F159 -> 1827 | Z7: 5679 | AA7: 2970 | AB7: 882 | AC7: 1827
B8: 5 | C8: 사석투하(육상수상,크램셀) | D8: 0.03㎥이하 | E8: ㎥ | F8: =G8+H8+I8 -> 3441 | G8: =단가산출!D211 -> 973 | H8: =단가산출!E211 -> 721 | I8: =단가산출!F211 -> 1747 | Z8: 3441 | AA8: 973 | AB8: 721 | AC8: 1747
B9: 6 | C9: 피복석해상운반 | D9: 0.4㎥급 | E9: ㎥ | F9: =G9+H9+I9 -> 9584 | G9: =단가산출!D254 -> 5131 | H9: =단가산출!E254 -> 1038 | I9: =단가산출!F254 -> 3415 | Z9: 9584 | AA9: 5131 | AB9: 1038 | AC9: 3415
B10: 7 | C10: 해상기중기 예인 및 피예인 | D10: 0.4㎥급 | E10: ㎥ | F10: =G10+H10+I10 -> 2637 | G10: =단가산출!D314 -> 1824 | H10: =단가산출!E314 -> 638 | I10: =단가산출!F314 -> 175 | Z10: 2637 | AA10: 1824 | AB10: 638 | AC10: 175
B11: 8 | C11: 피복석투하(해상수상) | D11: 0.4㎥급,기중기선 25톤급 | E11: ㎥ | F11: =G11+H11+I11 -> 14748 | G11: =단가산출!D369 -> 11669 | H11: =단가산출!E369 -> 1160 | I11: =단가산출!F369 -> 1919 | Z11: 14748 | AA11: 11669 | AB11: 1160 | AC11: 1919
B12: 9 | C12: 피복석속고르기 이우선예인 및 피예인노력비(해상수중 | D12: 0.5㎥급까지 | E12: ㎡ | F12: =G12+H12+I12 -> 21121 | G12: =단가산출!D399 -> 15032 | H12: =단가산출!E399 -> 4778 | I12: =단가산출!F399 -> 1311 | Z12: 21121 | AA12: 15032 | AB12: 4778 | AC12: 1311
B13: 10 | C13: 피복석고르기 이우선예인 및 피예인노력비(해상수중) | D13: 0.5㎥급까지 | E13: ㎡ | F13: =G13+H13+I13 -> 22893 | G13: =단가산출!D452 -> 16293 | H13: =단가산출!E452 -> 5179 | I13: =단가산출!F452 -> 1421 | Z13: 22893 | AA13: 16293 | AB13: 5179 | AC13: 1421
B14: 11 | C14: 피복석해상운반 | D14: 0.3㎥급 | E14: ㎥ | F14: =G14+H14+I14 -> 9584 | G14: =단가산출!D505 -> 5131 | H14: =단가산출!E505 -> 1038 | I14: =단가산출!F505 -> 3415 | Z14: 9584 | AA14: 5131 | AB14: 1038 | AC14: 3415
B15: 12 | C15: 해상기중기 예인 및 피예인 | D15: 0.3㎥급 | E15: ㎥ | F15: =G15+H15+I15 -> 2378 | G15: =단가산출!D565 -> 1648 | H15: =단가산출!E565 -> 573 | I15: =단가산출!F565 -> 157 | Z15: 2378 | AA15: 1648 | AB15: 573 | AC15: 157
B16: 13 | C16: 피복석육상운반(석산→현장) | D16: 0.1㎥급 | E16: ㎥ | F16: =G16+H16+I16 -> 12573 | G16: =단가산출!D620 -> 6554 | H16: =단가산출!E620 -> 2909 | I16: =단가산출!F620 -> 3110 | Z16: 12573 | AA16: 6554 | AB16: 2909 | AC16: 3110
B17: 14 | C17: 피복석고르기 기중기예인 및 피예인노력비(해상수상) | D17: 각종 | E17: ㎡ | F17: =G17+H17+I17 -> 6451 | G17: =단가산출!D670 -> 4470 | H17: =단가산출!E670 -> 1555 | I17: =단가산출!F670 -> 426 | Z17: 6451 | AA17: 4470 | AB17: 1555 | AC17: 426
B18: 15 | C18: 피복석제거 및 유용(육상수중) | D18: 0.4㎥급 | E18: ㎥ | F18: =G18+H18+I18 -> 22280 | G18: =단가산출!D715 -> 17580 | H18: =단가산출!E715 -> 1470 | I18: =단가산출!F715 -> 3230 | Z18: 22280 | AA18: 17580 | AB18: 1470 | AC18: 3230
B19: 16 | C19: 피복석제거 및 유용(육상수상) | D19: 0.4㎥급 | E19: ㎥ | F19: =G19+H19+I19 -> 18553 | G19: =단가산출!D780 -> 13554 | H19: =단가산출!E780 -> 1363 | I19: =단가산출!F780 -> 3636 | Z19: 18553 | AA19: 13554 | AB19: 1363 | AC19: 3636
B20: 17 | C20: 피복석해상운반 | D20: 0.5㎥급 | E20: ㎥ | F20: =G20+H20+I20 -> 9584 | G20: =단가산출!D845 -> 5131 | H20: =단가산출!E845 -> 1038 | I20: =단가산출!F845 -> 3415 | Z20: 9584 | AA20: 5131 | AB20: 1038 | AC20: 3415
B21: 18 | C21: 해상기중기 예인 및 피예인 | D21: 0.5㎥급 | E21: ㎥ | F21: =G21+H21+I21 -> 2487 | G21: =단가산출!D905 -> 1724 | H21: =단가산출!E905 -> 599 | I21: =단가산출!F905 -> 164 | Z21: 2487 | AA21: 1724 | AB21: 599 | AC21: 164
B22: 19 | C22: 피복석투하(해상수상) | D22: 0.5㎥급, 기중기선25톤 | E22: ㎥ | F22: =G22+H22+I22 -> 14985 | G22: =단가산출!D960 -> 11812 | H22: =단가산출!E960 -> 1196 | I22: =단가산출!F960 -> 1977 | Z22: 14985 | AA22: 11812 | AB22: 1196 | AC22: 1977
B23: 20 | C23: 어초블록운반거치 | D23: 해상수상:20~25톤 | E23: EA | F23: =G23+H23+I23 -> 773106 | G23: =단가산출!D990 -> 574680 | H23: =단가산출!E990 -> 68891 | I23: =단가산출!F990 -> 129535 | Z23: 773106 | AA23: 574680 | AB23: 68891 | AC23: 129535
B24: 21 | C24: 피복석해상운반 | D24: 0.2㎥급 | E24: ㎥ | F24: =G24+H24+I24 -> 9584 | G24: =단가산출!D1173 -> 5131 | H24: =단가산출!E1173 -> 1038 | I24: =단가산출!F1173 -> 3415 | Z24: 9584 | AA24: 5131 | AB24: 1038 | AC24: 3415
B25: 22 | C25: 해상기중기 예인 및 피예인 | D25: 0.2㎥급 | E25: ㎥ | F25: =G25+H25+I25 -> 2354 | G25: =단가산출!D1233 -> 1632 | H25: =단가산출!E1233 -> 567 | I25: =단가산출!F1233 -> 155 | Z25: 2354 | AA25: 1632 | AB25: 567 | AC25: 155
B26: 23 | C26: 피복석투하(해상수상)-품 | D26: 0.3㎥급 | E26: ㎥ | F26: =G26+H26+I26 -> 14608 | G26: =단가산출!D1288 -> 11585 | H26: =단가산출!E1288 -> 1139 | I26: =단가산출!F1288 -> 1884 | Z26: 14608 | AA26: 11585 | AB26: 1139 | AC26: 1884
B27: 24 | C27: 필터사석해상운반(L=6.0km) | D27: 각종, 굴삭기 2.0㎥ | E27: ㎥ | F27: =G27+H27+I27 -> 3887 | G27: =단가산출!D1318 -> 1729 | H27: =단가산출!E1318 -> 1120 | I27: =단가산출!F1318 -> 1038 | Z27: 3887 | AA27: 1729 | AB27: 1120 | AC27: 1038
B28: 25 | C28: 피복석해상운반 | D28: 0.03㎥급 | E28: ㎥ | F28: =G28+H28+I28 -> 9584 | G28: =단가산출!D1377 -> 5131 | H28: =단가산출!E1377 -> 1038 | I28: =단가산출!F1377 -> 3415 | Z28: 9584 | AA28: 5131 | AB28: 1038 | AC28: 3415
B29: 26 | C29: 해상기중기 예인 및 피예인 | D29: 0.03㎥급 | E29: ㎥ | F29: =G29+H29+I29 -> 2268 | G29: =단가산출!D1437 -> 1572 | H29: =단가산출!E1437 -> 546 | I29: =단가산출!F1437 -> 150 | Z29: 2268 | AA29: 1572 | AB29: 546 | AC29: 150
B30: 27 | C30: 피복석해상운반 | D30: 1.0㎥급 | E30: ㎥ | F30: =G30+H30+I30 -> 9584 | G30: =단가산출!D1492 -> 5131 | H30: =단가산출!E1492 -> 1038 | I30: =단가산출!F1492 -> 3415 | Z30: 9584 | AA30: 5131 | AB30: 1038 | AC30: 3415
B31: 28 | C31: 해상기중기 예인 및 피예인 | D31: 1.0㎥급 | E31: ㎥ | F31: =G31+H31+I31 -> 2690 | G31: =단가산출!D1552 -> 1864 | H31: =단가산출!E1552 -> 648 | I31: =단가산출!F1552 -> 178 | Z31: 2690 | AA31: 1864 | AB31: 648 | AC31: 178
B32: 29 | C32: 피복석육상운반(석산→현장) | D32: 0.3㎥급 | E32: ㎥ | F32: =G32+H32+I32 -> 12729 | G32: =단가산출!D1607 -> 6636 | H32: =단가산출!E1607 -> 2945 | I32: =단가산출!F1607 -> 3148 | Z32: 12729 | AA32: 6636 | AB32: 2945 | AC32: 3148
B33: 30 | C33: 사석 선별 | E33: ㎥ | F33: =G33+H33+I33 -> 2765 | G33: =단가산출!D1657 -> 1133 | H33: =단가산출!E1657 -> 991 | I33: =단가산출!F1657 -> 641 | Z33: 2765 | AA33: 1133 | AB33: 991 | AC33: 641
B34: 31 | C34: 육상운반(야적장→현장) | D34: 0.03㎥급이하 | E34: ㎥ | F34: =G34+H34+I34 -> 16308 | G34: =단가산출!D1672 -> 6536 | H34: =단가산출!E1672 -> 5570 | I34: =단가산출!F1672 -> 4202 | Z34: 16308 | AA34: 6536 | AB34: 5570 | AC34: 4202
B35: 32 | C35: 부상토파쇄(중추식10Ton) | E35: ㎥ | F35: =G35+H35+I35 -> 8894 | G35: =단가산출!D1714 -> 6116 | H35: =단가산출!E1714 -> 1469 | I35: =단가산출!F1714 -> 1309 | Z35: 8894 | AA35: 6116 | AB35: 1469 | AC35: 1309
B36: 33 | C36: 부상토굴착(그래브준설선3.0㎥급) | D36: 점토(야적장) | E36: ㎥ | F36: =G36+H36+I36 -> 25690 | G36: =단가산출!D1799 -> 11012 | H36: =단가산출!E1799 -> 7349 | I36: =단가산출!F1799 -> 7329 | Z36: 25690 | AA36: 11012 | AB36: 7349 | AC36: 7329
B37: 34 | C37: 부상토 파쇄 | D37: 부상토 | E37: ㎥ | F37: =G37+H37+I37 -> 1760 | G37: =단가산출!D2018 -> 721 | H37: =단가산출!E2018 -> 631 | I37: =단가산출!F2018 -> 408 | Z37: 1760 | AA37: 721 | AB37: 631 | AC37: 408
B38: 35 | C38: 동치환(외곽호안 1구간) | D38: 치환두께 2.5m이하 | E38: ㎡ | F38: =G38+H38+I38 -> 13940 | G38: =단가산출!D2035 -> 6365 | H38: =단가산출!E2035 -> 3594 | I38: =단가산출!F2035 -> 3981 | Z38: 13940 | AA38: 6365 | AB38: 3594 | AC38: 3981
B39: 36 | C39: 동치환(외곽호안 1구간) | D39: 치환두께 4.0m이하 | E39: ㎡ | F39: =G39+H39+I39 -> 28282 | G39: =단가산출!D2179 -> 12703 | H39: =단가산출!E2179 -> 7160 | I39: =단가산출!F2179 -> 8419 | Z39: 28282 | AA39: 12703 | AB39: 7160 | AC39: 8419
B40: 93 | C40: 동치환(외곽호안 1구간) | D40: 치환두께 9.0m이하 | E40: ㎡ | F40: =G40+H40+I40 -> 38974 | G40: =단가산출!D2351 -> 17457 | H40: =단가산출!E2351 -> 9821 | I40: =단가산출!F2351 -> 11696
B41: 94 | C41: 동치환(서측분리 2구간) | D41: 치환두께 8.0m이하 | E41: ㎡ | F41: =G41+H41+I41 -> 38619 | G41: =단가산출!D2525 -> 17289 | H41: =단가산출!E2525 -> 9730 | I41: =단가산출!F2525 -> 11600
B42: 37 | C42: 동치환(외곽호안 2구간) | D42: 치환두께 2.5m이하 | E42: ㎡ | F42: =G42+H42+I42 -> 20816 | G42: =단가산출!D2701 -> 9419 | H42: =단가산출!E2701 -> 5304 | I42: =단가산출!F2701 -> 6093 | Z42: 20816 | AA42: 9419 | AB42: 5304 | AC42: 6093
B43: 38 | C43: 동치환(외곽호안 2구간) | D43: 치환두께 4.0m이하 | E43: ㎡ | F43: =G43+H43+I43 -> 45484 | G43: =단가산출!D2845 -> 20340 | H43: =단가산출!E2845 -> 11437 | I43: =단가산출!F2845 -> 13707 | Z43: 45484 | AA43: 20340 | AB43: 11437 | AC43: 13707
B44: 39 | C44: 동치환(북측배수호안) | D44: 치환두께 2.5m이하 | E44: ㎡ | F44: =G44+H44+I44 -> 23871 | G44: =단가산출!D3017 -> 12822 | H44: =단가산출!E3017 -> 5900 | I44: =단가산출!F3017 -> 5149 | Z44: 23871 | AA44: 12822 | AB44: 5900 | AC44: 5149
B45: 40 | C45: 동치환(북측배수호안) | D45: 치환두께 4.0m이하 | E45: ㎡ | F45: =G45+H45+I45 -> 54359 | G45: =단가산출!D3161 -> 28839 | H45: =단가산출!E3161 -> 13278 | I45: =단가산출!F3161 -> 12242 | Z45: 54359 | AA45: 28839 | AB45: 13278 | AC45: 12242
B46: 41 | C46: 동치환(서측분리 1구간) | D46: 치환두께 2.5m이하 | E46: ㎡ | F46: =G46+H46+I46 -> 20816 | G46: =단가산출!D3333 -> 9419 | H46: =단가산출!E3333 -> 5304 | I46: =단가산출!F3333 -> 6093 | Z46: 20816 | AA46: 9419 | AB46: 5304 | AC46: 6093
B47: 42 | C47: 동치환(서측분리 1구간) | D47: 치환두께 4.0m이하 | E47: ㎡ | F47: =G47+H47+I47 -> 35169 | G47: =단가산출!D3477 -> 15760 | H47: =단가산출!E3477 -> 8872 | I47: =단가산출!F3477 -> 10537 | Z47: 35169 | AA47: 15760 | AB47: 8872 | AC47: 10537
B48: 43 | C48: 동치환(서측분리 2구간) | D48: 치환두께 2.5m이하 | E48: ㎡ | F48: =G48+H48+I48 -> 13940 | G48: =단가산출!D3649 -> 6365 | H48: =단가산출!E3649 -> 3594 | I48: =단가산출!F3649 -> 3981 | Z48: 13940 | AA48: 6365 | AB48: 3594 | AC48: 3981
B49: 44 | C49: 동치환(서측분리 2구간) | D49: 치환두께 4.0m이하 | E49: ㎡ | F49: =G49+H49+I49 -> 28282 | G49: =단가산출!D3793 -> 12703 | H49: =단가산출!E3793 -> 7160 | I49: =단가산출!F3793 -> 8419 | Z49: 28282 | AA49: 12703 | AB49: 7160 | AC49: 8419
B50: 45 | C50: 동치환(내부가호안 1구간) | D50: 치환두께 2.5m이하 | E50: ㎡ | F50: =G50+H50+I50 -> 19097 | G50: =단가산출!D3965 -> 8656 | H50: =단가산출!E3965 -> 4876 | I50: =단가산출!F3965 -> 5565 | Z50: 19097 | AA50: 8656 | AB50: 4876 | AC50: 5565
B51: 46 | C51: 동치환(내부가호안 1구간) | D51: 치환두께 4.0m이하 | E51: ㎡ | F51: =G51+H51+I51 -> 38596 | G51: =단가산출!D4109 -> 17284 | H51: =단가산출!E4109 -> 9724 | I51: =단가산출!F4109 -> 11588 | Z51: 38596 | AA51: 17284 | AB51: 9724 | AC51: 11588
B52: 92 | C52: 동치환(내부가호안 1구간) | D52: 치환두께 6.0m이하 | E52: ㎡ | F52: =G52+H52+I52 -> 40317 | G52: =단가산출!D4281 -> 18045 | H52: =단가산출!E4281 -> 10154 | I52: =단가산출!F4281 -> 12118
B53: 47 | C53: 동치환(내부가호안 2구간) | D53: 치환두께 2.5m이하 | E53: ㎡ | F53: =G53+H53+I53 -> 17377 | G53: =단가산출!D4453 -> 7891 | H53: =단가산출!E4453 -> 4449 | I53: =단가산출!F4453 -> 5037 | Z53: 17377 | AA53: 7891 | AB53: 4449 | AC53: 5037
B54: 48 | C54: 동치환(내부가호안 2구간) | D54: 치환두께 4.0m이하 | E54: ㎡ | F54: =G54+H54+I54 -> 35169 | G54: =단가산출!D4597 -> 15760 | H54: =단가산출!E4597 -> 8872 | I54: =단가산출!F4597 -> 10537 | Z54: 35169 | AA54: 15760 | AB54: 8872 | AC54: 10537
B55: 49 | C55: 동다짐 | D55: 다짐두께 2.5m이하 | E55: ㎡ | F55: =G55+H55+I55 -> 9044 | G55: =단가산출!D4769 -> 4247 | H55: =단가산출!E4769 -> 2261 | I55: =단가산출!F4769 -> 2536 | Z55: 9044 | AA55: 4247 | AB55: 2261 | AC55: 2536
B56: 50 | C56: 피복석해상운반 | D56: 0.1㎥급 | E56: ㎥ | F56: =G56+H56+I56 -> 9584 | G56: =단가산출!D4918 -> 5131 | H56: =단가산출!E4918 -> 1038 | I56: =단가산출!F4918 -> 3415 | Z56: 9584 | AA56: 5131 | AB56: 1038 | AC56: 3415
B57: 51 | C57: 해상기중기 예인 및 피예인 | D57: 0.1㎥급 | E57: ㎥ | F57: =G57+H57+I57 -> 2268 | G57: =단가산출!D4978 -> 1572 | H57: =단가산출!E4978 -> 546 | I57: =단가산출!F4978 -> 150 | Z57: 2268 | AA57: 1572 | AB57: 546 | AC57: 150
B58: 52 | C58: 피복석투하(해상수상) | D58: 0.1㎥급, 기중기선25톤 | E58: ㎥ | F58: =G58+H58+I58 -> 14259 | G58: =단가산출!D5033 -> 11375 | H58: =단가산출!E5033 -> 1087 | I58: =단가산출!F5033 -> 1797 | Z58: 14259 | AA58: 11375 | AB58: 1087 | AC58: 1797
B59: 53 | C59: 콘크리트블록운반거치 | D59: 해상수중:25~30톤 | E59: EA | F59: =G59+H59+I59 -> 1017681 | G59: =단가산출!D5063 -> 758236 | H59: =단가산출!E5063 -> 101037 | I59: =단가산출!F5063 -> 158408 | Z59: 1017681 | AA59: 758236 | AB59: 101037 | AC59: 158408
B60: 54 | C60: 콘크리트블록운반거치 | D60: 해상수중:40~45톤 | E60: EA | F60: =G60+H60+I60 -> 1330797 | G60: =단가산출!D5246 -> 886534 | H60: =단가산출!E5246 -> 160672 | I60: =단가산출!F5246 -> 283591 | Z60: 1330797 | AA60: 886534 | AB60: 160672 | AC60: 283591
B61: 55 | C61: 콘크리트블록운반거치 | D61: 해상수중:45~50톤 | E61: EA | F61: =G61+H61+I61 -> 1350924 | G61: =단가산출!D5429 -> 888527 | H61: =단가산출!E5429 -> 167611 | I61: =단가산출!F5429 -> 294786 | Z61: 1350924 | AA61: 888527 | AB61: 167611 | AC61: 294786
B62: 56 | C62: 콘크리트블록운반거치 | D62: 해상수중:55~60톤 | E62: EA | F62: =G62+H62+I62 -> 1521998 | G62: =단가산출!D5612 -> 946451 | H62: =단가산출!E5612 -> 182726 | I62: =단가산출!F5612 -> 392821 | Z62: 1521998 | AA62: 946451 | AB62: 182726 | AC62: 392821
B63: 57 | C63: 콘크리트블록운반거치 | D63: 해상수중:65~70톤 | E63: EA | F63: =G63+H63+I63 -> 1494415 | G63: =단가산출!D5795 -> 941909 | H63: =단가산출!E5795 -> 179499 | I63: =단가산출!F5795 -> 373007 | Z63: 1494415 | AA63: 941909 | AB63: 179499 | AC63: 373007
B64: 58 | C64: 콘크리트블록운반거치 | D64: 해상수중:30~35톤 | E64: EA | F64: =G64+H64+I64 -> 1205462 | G64: =단가산출!D5942 -> 870641 | H64: =단가산출!E5942 -> 123450 | I64: =단가산출!F5942 -> 211371 | Z64: 1205462 | AA64: 870641 | AB64: 123450 | AC64: 211371
B65: 59 | C65: 콘크리트블록운반거치 | D65: 해상수중:35~40톤 | E65: EA | F65: =G65+H65+I65 -> 1231831 | G65: =단가산출!D6125 -> 862696 | H65: =단가산출!E6125 -> 126988 | I65: =단가산출!F6125 -> 242147 | Z65: 1231831 | AA65: 862696 | AB65: 126988 | AC65: 242147
B66: 60 | C66: 줄눈설치 | D66: 수축줄눈 | E66: M | F66: =G66+H66+I66 -> 5896 | G66: =단가산출!D6308 -> 2086 | H66: =단가산출!E6308 -> 3743 | I66: =단가산출!F6308 -> 67 | Z66: 5896 | AA66: 2086 | AB66: 3743 | AC66: 67
B67: 61 | C67: 콘크리트 포장줄눈 절단 | E67: M | F67: =G67+H67+I67 -> 2013 | G67: =단가산출!D6351 -> 1132 | H67: =단가산출!E6351 -> 814 | I67: =단가산출!F6351 -> 67 | Z67: 2013 | AA67: 1132 | AB67: 814 | AC67: 67
B68: 62 | C68: 콘크리트블록운반거치 | D68: 해상수중:20~25톤 | E68: EA | F68: =G68+H68+I68 -> 867213 | G68: =단가산출!D6426 -> 657171 | H68: =단가산출!E6426 -> 77542 | I68: =단가산출!F6426 -> 132500 | Z68: 867213 | AA68: 657171 | AB68: 77542 | AC68: 132500
B69: 63 | C69: 피복석투하(해상수상)-품 | D69: 1.0㎥급 | E69: ㎥ | F69: =G69+H69+I69 -> 16212 | G69: =단가산출!D6609 -> 12550 | H69: =단가산출!E6609 -> 1380 | I69: =단가산출!F6609 -> 2282 | Z69: 16212 | AA69: 12550 | AB69: 1380 | AC69: 2282
B70: 64 | C70: 피복석육상운반(석산→현장) | D70: 1.0㎥급 | E70: ㎥ | F70: =G70+H70+I70 -> 13288 | G70: =단가산출!D6639 -> 7015 | H70: =단가산출!E6639 -> 2944 | I70: =단가산출!F6639 -> 3329 | Z70: 13288 | AA70: 7015 | AB70: 2944 | AC70: 3329
B71: 65 | C71: 철근 권상 | D71: H = 7m이상 | E71: Ton | F71: =G71+H71+I71 -> 25574 | G71: =단가산출!D6689 -> 17702 | H71: =단가산출!E6689 -> 1936 | I71: =단가산출!F6689 -> 5936 | Z71: 25574 | AA71: 17702 | AB71: 1936 | AC71: 5936
B72: 66 | C72: 무수축몰탈 | E72: ㎥ | F72: =G72+H72+I72 -> 566828 | G72: =단가산출!D6721 -> 367903 | H72: =단가산출!E6721 -> 198925 | I72: =단가산출!F6721 -> 0 | Z72: 566828 | AA72: 367903 | AB72: 198925
B73: 67 | C73: 흄관부설및접합(고무링접합) | D73: D=300mm | E73: M | F73: =G73+H73+I73 -> 27577 | G73: =단가산출!D6770 -> 22969 | H73: =단가산출!E6770 -> 2450 | I73: =단가산출!F6770 -> 2158 | Z73: 27577 | AA73: 22969 | AB73: 2450 | AC73: 2158
B74: 68 | C74: 여수토점검로운반거치 | E74: 기 | F74: =G74+H74+I74 -> 1531066 | G74: =단가산출!D6804 -> 876254 | H74: =단가산출!E6804 -> 199807 | I74: =단가산출!F6804 -> 455005 | Z74: 1531066 | AA74: 876254 | AB74: 199807 | AC74: 455005
B75: 69 | C75: 절토 및 야적 | D75: 토사 | E75: ㎥ | F75: =G75+H75+I75 -> 5095 | G75: =단가산출!D6987 -> 2583 | H75: =단가산출!E6987 -> 1020 | I75: =단가산출!F6987 -> 1492 | Z75: 5095 | AA75: 2583 | AB75: 1020 | AC75: 1492
B76: 70 | C76: 보도용 블록 장비사용 철거 | D76: A-Type | E76: ㎡ | F76: =G76+H76+I76 -> 2454 | G76: =단가산출!D7068 -> 1787 | H76: =단가산출!E7068 -> 376 | I76: =단가산출!F7068 -> 291 | Z76: 2454 | AA76: 1787 | AB76: 376 | AC76: 291
B77: 71 | C77: 보차도 및 도로경계블록 철거 | D77: A-Type, 500mm미만(폭+높이) | E77: M | F77: =G77+H77+I77 -> 6015 | G77: =단가산출!D7114 -> 4529 | H77: =단가산출!E7114 -> 837 | I77: =단가산출!F7114 -> 649 | Z77: 6015 | AA77: 4529 | AB77: 837 | AC77: 649
B78: 72 | C78: 보차도 및 도로경계블록 철거 | D78: A-Type, 300mm미만(폭+높이) | E78: M | F78: =G78+H78+I78 -> 3247 | G78: =단가산출!D7153 -> 2445 | H78: =단가산출!E7153 -> 452 | I78: =단가산출!F7153 -> 350 | Z78: 3247 | AA78: 2445 | AB78: 452 | AC78: 350
B79: 73 | C79: 폐기물상차 | D79: 백호1.0㎥ | E79: ㎥ | F79: =G79+H79+I79 -> 4254 | G79: =단가산출!D7192 -> 1683 | H79: =단가산출!E7192 -> 1472 | I79: =단가산출!F7192 -> 1099 | Z79: 4254 | AA79: 1683 | AB79: 1472 | AC79: 1099
B80: 74 | C80: 교통안전표지판 철거 | E80: EA | F80: =G80+H80+I80 -> 56147 | G80: =단가산출!D7209 -> 49419 | H80: =단가산출!E7209 -> 3925 | I80: =단가산출!F7209 -> 2803 | Z80: 56147 | AA80: 49419 | AB80: 3925 | AC80: 2803
B81: 75 | C81: 투수아스팔트 표층 포설및다짐 | D81: 소규모포설,t=5~7cm | E81: ㎡ | F81: =G81+H81+I81 -> 7688 | G81: =단가산출!D7241 -> 6429 | H81: =단가산출!E7241 -> 831 | I81: =단가산출!F7241 -> 428 | Z81: 7688 | AA81: 6429 | AB81: 831 | AC81: 428
B82: 76 | C82: 아스팔트 표층 포설및다짐 | D82: 소규모포설,t=7.5cm이하 | E82: ㎡ | F82: =G82+H82+I82 -> 6404 | G82: =단가산출!D7301 -> 5356 | H82: =단가산출!E7301 -> 691 | I82: =단가산출!F7301 -> 357 | Z82: 6404 | AA82: 5356 | AB82: 691 | AC82: 357
B83: 77 | C83: 아스팔트 기층 포설및다짐 | D83: 소형장비,t=8~10cm | E83: ㎡ | F83: =G83+H83+I83 -> 2752 | G83: =단가산출!D7361 -> 1808 | H83: =단가산출!E7361 -> 426 | I83: =단가산출!F7361 -> 518 | Z83: 2752 | AA83: 1808 | AB83: 426 | AC83: 518
B84: 78 | C84: 입도조정기층포설및다짐 | D84: 인력식 소규모 장비사용 시공 | E84: ㎥ | F84: =G84+H84+I84 -> 14451 | G84: =단가산출!D7444 -> 10656 | H84: =단가산출!E7444 -> 2186 | I84: =단가산출!F7444 -> 1609 | Z84: 14451 | AA84: 10656 | AB84: 2186 | AC84: 1609
B85: 79 | C85: EGI휀스 | E85: M | F85: =G85+H85+I85 -> 95158 | G85: =단가산출!D7488 -> 26956 | H85: =단가산출!E7488 -> 67581 | I85: =단가산출!F7488 -> 621 | Z85: 95158 | AA85: 26956 | AB85: 67581 | AC85: 621
B86: 80 | C86: 성 토 | D86: 백호0.6㎥ | E86: ㎥ | F86: =G86+H86+I86 -> 5562 | G86: =단가산출!D7604 -> 2870 | H86: =단가산출!E7604 -> 1116 | I86: =단가산출!F7604 -> 1576 | Z86: 5562 | AA86: 2870 | AB86: 1116 | AC86: 1576
B87: 81 | C87: 철근콘크리트깨기 | D87: T=30cm미만(대형브레이커+0.7㎥) | E87: ㎥ | F87: =G87+H87+I87 -> 75446 | G87: =단가산출!D7685 -> 47914 | H87: =단가산출!E7685 -> 13115 | I87: =단가산출!F7685 -> 14417 | Z87: 75446 | AA87: 47914 | AB87: 13115 | AC87: 14417
B88: 82 | C88: 건설기술자 인건비 | E88: 식 | F88: =G88+H88+I88 -> 618108920 | G88: =단가산출!D7751 -> 618108920 | H88: =단가산출!E7751 -> 0 | I88: =단가산출!F7751 -> 0 | Z88: 618108920 | AA88: 618108920
B89: 83 | C89: 철근 운반비 | E89: Ton | F89: =G89+H89+I89 -> 17005 | G89: =단가산출!D7788 -> 0 | H89: =단가산출!E7788 -> 0 | I89: =단가산출!F7788 -> 17005 | Z89: 17005 | AC89: 17005
B90: 84 | C90: 안전관리계획 작성 및 검토비 | E90: 식 | F90: =G90+H90+I90 -> 5163338 | G90: =단가산출!D7807 -> 0 | H90: =단가산출!E7807 -> 0 | I90: =단가산출!F7807 -> 5163338 | Z90: 5163338 | AC90: 5163338
B91: 85 | C91: 가설구조물의 구조적 안전성 확인비용 | E91: 개소 | F91: =G91+H91+I91 -> 3549438 | G91: =단가산출!D7857 -> 0 | H91: =단가산출!E7857 -> 0 | I91: =단가산출!F7857 -> 3549438 | Z91: 3549438 | AC91: 3549438
B92: 86 | C92: 안전점검비용 | E92: 식 | F92: =G92+H92+I92 -> 11160000 | G92: =단가산출!D7881 -> 0 | H92: =단가산출!E7881 -> 0 | I92: =단가산출!F7881 -> 11160000 | Z92: 11160000 | AC92: 11160000
B93: 87 | C93: 신호수배치(북측가설교량 진입부) | E93: 식 | F93: =G93+H93+I93 -> 70913525 | G93: =단가산출!D7917 -> 70913525 | H93: =단가산출!E7917 -> 0 | I93: =단가산출!F7917 -> 0 | Z93: 70913525 | AA93: 70913525
B94: 88 | C94: PS단가(설계VE 절감액) | D94: 투기장방재,애향공간 마련 등 | E94: 식 | F94: =G94+H94+I94 -> 912254545 | G94: =단가산출!D7928 -> 0 | H94: =단가산출!E7928 -> 0 | I94: =단가산출!F7928 -> 912254545 | Z94: 912254545 | AC94: 912254545

Sheet 단가산출
B1: 단가산출
B3: 산 출 근 거 | C3: 합 계 | D3: 노무비 | E3: 재료비 | F3: 경 비
B4: 1.사석해상운반(L=6.0km)(각종, 굴삭기 2.0㎥)[㎥] | C4: 4687 | D4: 2201 | E4: 1120 | F4: 1366
B6: qr = 675㎥ {대선적재능력} rt = 2.60Ton/㎥ {자연상태토석의 단위중량}
B7: Td = 24Ton {덤프트럭의 적재중량} ts = 4.1분 {덤프트럭의 대선적하시간}
B8: Es = 0.9 {덤프트럭의 작업효율} L = 1.85 {체적변화율}
B9: L1 = 6.0km {해상운반거리} E = 0.80 {해상작업효율}
B10: Va = 5.5km/hr {적재시의 예선속도} Vb = 9.3km/hr {공선시의 예선속도}
B11: qm = 2.00㎥ {투하장비 버킷용량} Vc = 12.9km/hr {독항시의 예선속도}
B12: fm = 0.9 {체적환산계수} k = 0.55 {버킷계수}
B13: Cm = 25초 {1회 사이클시간} T = 60분
B14: t = 35분 {접·이안, 투·인묘시간} tb = 15분 {접·이안시간}
B15: Em = 0.45 {투하장비 작업효율}
B17: 가. 해상 운반 (대선(1,500Ton))
B19: q1 = Td/rt×L = 17.08 {흐트러진상태의 1회 적재량}
... B40: 경 비 : 46,532 ÷ 41.18 = 1,129
B41: 소 계 : 2,754 | C41: =D41+E41+F41 -> 2754 | D41: 1625 | F41: 1129
B43: 나. 대선 예인 (예선 (597kW))
B45: T
B46: N = ───────────── = 0.43회/hr
B47: ((L1/Va)+(L1/Vb))·60 +t
B49: Q = N×qr×E = 232.2 ㎥/hr
B51: 노무비 : 133,871 ÷ 232.2 = 576
B52: 재료비 : 260,177 ÷ 232.2 = 1,120
B53: 경 비 : 55,149 ÷ 232.2 = 237
B54: 소 계 : 1,933 | C54: =D54+E54+F54 -> 1933 | D54: 576 | E54: 1120 | F54: 237
B56: 다. 합 계
B58: 노무비 : 1,625 + 576 = 2,201
B59: 재료비 : 1,120
B60: 경 비 : 1,129 + 237 = 1,366
B61: 계 : 4,687 | C61: =D61+E61+F61 -> 4687 | D61: 2201 | E61: 1120 | F61: 1366
B63: 2.사석육상운반(석산→현장)(0.03㎥급이하)[㎥] | C63: 7556 | D63: 3057 | E63: 2534 | F63: 1965
B65: ■ 덤프트럭(자동덮개)(24Ton)
B67: 석산 L1=0.6km 석산 L2=0.6km 율 촌 L3=4.0km 현장 L4=1.2km 현장
B68: ◎───────◎────────◎─────────◎─────────◎
B69: V11=7km/hr 입구 V21=30km/hr 교차로 V31=35km/hr 입구 V41=15km/hr
B70: V12=8km/hr V22=35km/hr V32=35km/hr V42=20km/hr
B72: T = 24Ton rt = 2.6Ton/㎥ L = 1.85
B74: q = T/rt×L = 17.08㎥ f = 0.9 E = 0.90
B76: ☞ 백호관련 : qt = 2.0㎥ K = 0.55 Cms = 27초(135˚) Es = 0.45
B78: n = q/(qt×K)= 15.53회 {사이클 회수}
B80: Cms·n
B81: t1 = ──── = 15.53분
B82: 60·Es
... B108: 경 비 : 30,761 ÷ 15.65 = 1,965
B109: 소 계 : 7,556 | C109: =D109+E109+F109 -> 7556 | D109: 3057 | E109: 2534 | F109: 1965
B111: 3.육상운반(석산→현장)(Φ100mm이하)[㎥] | C111: 6679 | D111: 2580 | E111: 2440 | F111: 1659
B113: ■ 덤프트럭(자동덮개)(24Ton)
B115: 석산 L1=0.6km 석산 L2=0.6km 율 촌 L3=4.0km 현장 L4=1.2km 현장
B116: ◎───────◎────────◎─────────◎─────────◎
B117: V11=7km/hr 입구 V21=30km/hr 교차로 V31=35km/hr 입구 V41=15km/hr
B118: V12=8km/hr V22=35km/hr V32=35km/hr V42=20km/hr
B120: T = 24Ton rt = 1.6Ton/㎥ L = 1.175
B122: q = T/rt×L = 17.63㎥ f = 0.9 E = 0.9 Es = 0.65
B124: ☞ 백호관련 : qt = 2.0㎥ K = 0.7 Cms = 27초(135˚)
B126: n = q/(qt×K)= 12.59회{백호 사이클 회수}
B128: Cms·n
B129: t1 = ──── = 8.72분
B130: 60·Es
... B156: 경 비 : 30,761 ÷ 18.54 = 1,659
B157: 소 계 : 6,679 | C157: =D157+E157+F157 -> 6679 | D157: 2580 | E157: 2440 | F157: 1659
B159: 4.사석투하(육상수중,크램셀)(0.03㎥이하)[㎥] | C159: 5679 | D159: 2970 | E159: 882 | F159: 1827
B161: 가. 크레인 취업
B163: 1) 크레인(무한궤도)(80Ton)
B165: q = 2.68㎥ K = 0.55 f = 0.9 E = 0.5 Cm = 36.5×1.17 = 42.71초{180˚}
B167: 3600·q·K·f·E
B168: Q = ────────── = 55.91㎥/hr
B169: Cm
B171: 노무비 : 47,849 ÷ 55.91 = 855
B172: 재료비 : 40,339 ÷ 55.91 = 721
B173: 경 비 : 95,990 ÷ 55.91 = 1,716
B174: 소 계 : 3,292 | C174: =D174+E174+F174 -> 3292 | D174: 855 | E174: 721 | F174: 1716
B176: 2) 크레인부수물(크램셀) (2.68㎥)
B178: 노무비 : 0 ÷ 55.91 = 0
B179: 재료비 : 0 ÷ 55.91 = 0
B180: 경 비 : 1,750 ÷ 55.91 = 31
B181: 소 계 : 31 | C181: =D181+E181+F181 -> 31 | F181: 31
B183: 3) 계
B185: 노무비 : 855
B186: 재료비 : 721
B187: 경 비 : 1,716 + 31 = 1,747
B188: 계 : 3,323 | C188: =D188+E188+F188 -> 3323 | D188: 855 | E188: 721 | F188: 1747
B190: 나. 인건비
B192: 보통인부 : 148,510×0.0008인 = 118
B193: 소 계 : 118 | C193: =D193+E193+F193 -> 118 | D193: 118
B195: 다. 잠수조(1조)
B197: Q = 55.91×6hr = 335.46 조/㎥
B199: 노무비 : 670,196 ÷ 335.46 = 1,997
B200: 재료비 : 54,067 ÷ 335.46 = 161
B201: 경 비 : 27,017 ÷ 335.46 = 80
B202: 소 계 : 2,238 | C202: =D202+E202+F202 -> 2238 | D202: 1997 | E202: 161 | F202: 80
B204: 라. 합 계
B206: 노무비 : 855 + 118 + 1,997 = 2,970
B207: 재료비 : 721 + 161 = 882
B208: 경 비 : 1,747 + 80 = 1,827
B209: 계 : 5,679 | C209: =D209+E209+F209 -> 5679 | D209: 2970 | E209: 882 | F209: 1827
B211: 5.사석투하(육상수상,크램셀)(0.03㎥이하)[㎥] | C211: 3441 | D211: 973 | E211: 721 | F211: 1747
B213: 가. 크레인 취업
B215: 1) 크레인(무한궤도)(80Ton)
B217: q = 2.68㎥ K = 0.55 f = 0.9 E = 0.5 Cm = 36.5×1.17 = 42.71초{180˚}
...
