Workbook
Name _?쾴?: #REF!
Name _?쾴?_?: #REF!
Name _?쾴?___P: #REF!
Name _?쾴?_T: #REF!
Name __?쾴?: #REF!
Name __?쾴?_?: #REF!
Name __?쾴?___P: #REF!
Name __?쾴?_T: #REF!
Name ___?쾴?: #REF!
Name ___?쾴?_?: #REF!
Name ___?쾴?___P: #REF!
Name ___?쾴?_T: #REF!
Name __a2: [2]청산공사!#REF!
Name _1: #REF!
Name _1_3_0Crite: #REF!
Name _10_0_0新規工事: '[3]P.M 별'!#REF!
Name _10A_61: #N/A
Name _10A_62: #N/A
Name _10A_63: #N/A
Name _10A_64: #N/A
Name _10A_65: #N/A
Name _10A_66: #N/A
Name _10A_67: #N/A
Name _10A_68: #N/A
Name _10A_69: #N/A
Name _10A_70: #N/A
Name _10A_71: #N/A
Name _10A_72: #N/A
Name _10A_73: #N/A
Name _10A_74: #N/A
Name _10A_75: #N/A
Name _10A_76: #N/A
Name _10A_77: #N/A
Name _10A_78: #N/A
Name _10A_79: #N/A
Name _10A_80: #N/A
Name _10A_81: #N/A
Name _10A_82: #N/A
Name _10A_83: #N/A
Name _10A_84: #N/A
Name _10A_85: #N/A
Name _10A_86: #N/A
Name _10A_87: #N/A
Name _10A_88: #N/A
Name _10A_89: #N/A
Name _10A_90: #N/A
Name _10B_61: #N/A
Name _10B_62: #N/A
Name _10B_63: #N/A
Name _10B_64: #N/A
Name _10B_65: #N/A
Name _10B_66: #N/A
Name _10B_67: #N/A
Name _10B_68: #N/A
Name _10B_69: #N/A
Name _10B_70: #N/A
Name _10B_71: #N/A
Name _10B_72: #N/A
Name _10B_73: #N/A
Name _10B_74: #N/A

Sheet 내역서(폐합성수지)
B1: 내역서
B3: 공종 | C3: 품 명 | D3: 규 격 | E3: 수 량 | F3: 단위 | G3: 합 계 | I3: 노 무 비 | K3: 재 료 비 | M3: 경 비 | O3: 비 고
G4: 단 가 | H4: 금 액 | I4: 단 가 | J4: 금 액 | K4: 단 가 | L4: 금 액 | M4: 단 가 | N4: 금 액
B6: ● | C6: 폐기물처리비
B7: 다. | C7: 폐복합매트
C8: 폐기물처리비(상차포함) | D8: 폐합성수지 | E8: 204 | F8: 톤
C9: 폐기물운반비(상차포함) | E9: =E8 -> 204 | F9: 톤
C10: 단수정리 | F10: 식
C11: 부가가치세 | D11: 합계의 | E11: 10 | F11: %

Sheet 일위대가총괄표 (2)
B1: 일위대가총괄표
B3: 호 표 | C3: 품 명 | D3: 규 격 | E3: 단위 | F3: 합 계 | G3: 노무비 | H3: 재료비 | I3: 경 비 | J3: 비 고 | Z3: 당초합계 | AA3: 당초노무비 | AB3: 당초재료비 | AC3: 당초경비
B4: 제1호표 | C4: 제체사석(해상수중) | D4: 0.001~0.03㎥급 | E4: ㎥ | F4: =G4+H4+I4 -> #REF! | G4: ='일위대가 (2)'!J5 -> #REF! | H4: ='일위대가 (2)'!L5 -> #REF! | I4: ='일위대가 (2)'!N5 -> #REF! | Z4: 26102 | AA4: 7463 | AB4: 16492 | AC4: 2147
B5: 제2호표 | C5: 제체사석(해상수상) | D5: 0.001~0.03㎥급 | E5: ㎥ | F5: =G5+H5+I5 -> #REF! | G5: ='일위대가 (2)'!J10 -> #REF! | H5: ='일위대가 (2)'!L10 -> #REF! | I5: ='일위대가 (2)'!N10 -> #REF! | Z5: 23452 | AA5: 4820 | AB5: 16445 | AC5: 2187
B6: 제3호표 | C6: 제체사석(육상덤프) | D6: 0.001~0.03㎥급 | E6: ㎥ | F6: =G6+H6+I6 -> #REF! | G6: ='일위대가 (2)'!J15 -> #REF! | H6: ='일위대가 (2)'!L15 -> #REF! | I6: ='일위대가 (2)'!N15 -> #REF! | Z6: 25449 | AA6: 3302 | AB6: 20039 | AC6: 2108
B7: 제4호표 | C7: 제체사석(육상수상:백호) | D7: 0.001~0.03㎥급 | E7: ㎥ | F7: =G7+H7+I7 -> #REF! | G7: ='일위대가 (2)'!J20 -> #REF! | H7: ='일위대가 (2)'!L20 -> #REF! | I7: ='일위대가 (2)'!N20 -> #REF! | Z7: 27720 | AA7: 4355 | AB7: 20757 | AC7: 2608
B8: 제5호표 | C8: 치환사석(육상수상,백호) | D8: 0.001~0.03㎥급 | E8: ㎥ | F8: =G8+H8+I8 -> #REF! | G8: ='일위대가 (2)'!J25 -> #REF! | H8: ='일위대가 (2)'!L25 -> #REF! | I8: ='일위대가 (2)'!N25 -> #REF! | Z8: 27720 | AA8: 4355 | AB8: 20757 | AC8: 2608
B9: 제6호표 | C9: 필터사석(육상덤프) | D9: Φ100mm이하 | E9: ㎥ | F9: =G9+H9+I9 -> #REF! | G9: ='일위대가 (2)'!J30 -> #REF! | H9: ='일위대가 (2)'!L30 -> #REF! | I9: ='일위대가 (2)'!N30 -> #REF! | Z9: 26012 | AA9: 2825 | AB9: 21385 | AC9: 1802
B10: 제7호표 | C10: 필터사석(육상수상:백호) | D10: Φ100mm이하 | E10: ㎥ | F10: =G10+H10+I10 -> #REF! | G10: ='일위대가 (2)'!J35 -> #REF! | H10: ='일위대가 (2)'!L35 -> #REF! | I10: ='일위대가 (2)'!N35 -> #REF! | Z10: 26764 | AA10: 3235 | AB10: 21582 | AC10: 1947
B11: 제8호표 | C11: 보호압사석(육상수중,크람셀) | D11: 0.001~0.03㎥급 | E11: ㎥ | F11: =G11+H11+I11 -> #REF! | G11: ='일위대가 (2)'!J40 -> #REF! | H11: ='일위대가 (2)'!L40 -> #REF! | I11: ='일위대가 (2)'!N40 -> #REF! | Z11: 30515 | AA11: 6027 | AB11: 20696 | AC11: 3792
B12: 제9호표 | C12: 보호압사석(육상수상,크람셀) | D12: 0.001~0.03㎥급 | E12: ㎥ | F12: =G12+H12+I12 -> #REF! | G12: ='일위대가 (2)'!J45 -> #REF! | H12: ='일위대가 (2)'!L45 -> #REF! | I12: ='일위대가 (2)'!N45 -> #REF! | Z12: 28277 | AA12: 4030 | AB12: 20535 | AC12: 3712
B13: 제10호표 | C13: 보호압사석(육상수상,백호) | D13: 0.001~0.03㎥급 | E13: ㎥ | F13: =G13+H13+I13 -> #REF! | G13: ='일위대가 (2)'!J50 -> #REF! | H13: ='일위대가 (2)'!L50 -> #REF! | I13: ='일위대가 (2)'!N50 -> #REF! | Z13: 27720 | AA13: 4355 | AB13: 20757 | AC13: 2608
B14: 제11호표 | C14: 필터매트부설 | D14: 수중(잠수조),50kN | E14: ㎡ | F14: =G14+H14+I14 -> #REF! | G14: ='일위대가 (2)'!J55 -> #REF! | H14: ='일위대가 (2)'!L55 -> #REF! | I14: ='일위대가 (2)'!N55 -> #REF! | Z14: 6269 | AA14: 950 | AB14: 5300 | AC14: 19
B15: 제12호표 | C15: 필터매트부설 | D15: 수상,50kN | E15: ㎡ | F15: =G15+H15+I15 -> #REF! | G15: ='일위대가 (2)'!J59 -> #REF! | H15: ='일위대가 (2)'!L59 -> #REF! | I15: ='일위대가 (2)'!N59 -> #REF! | Z15: 5575 | AA15: 220 | AB15: 5355
B16: 제13호표 | C16: 복합매트부설(수중) | D16: 100KN | E16: ㎡ | F16: =G16+H16+I16 -> #REF! | G16: ='일위대가 (2)'!J63 -> #REF! | H16: ='일위대가 (2)'!L63 -> #REF! | I16: ='일위대가 (2)'!N63 -> #REF! | Z16: 6901 | AA16: 950 | AB16: 5932 | AC16: 19
B17: 제14호표 | C17: 복합매트부설(수상) | D17: 100KN | E17: ㎡ | F17: =G17+H17+I17 -> #REF! | G17: ='일위대가 (2)'!J67 -> #REF! | H17: ='일위대가 (2)'!L67 -> #REF! | I17: ='일위대가 (2)'!N67 -> #REF! | Z17: 6180 | AA17: 220 | AB17: 5960
B18: 제15호표 | C18: 차수매트부설(수상) | D18: 50KN | E18: ㎡ | F18: =G18+H18+I18 -> #REF! | G18: ='일위대가 (2)'!J71 -> #REF! | H18: ='일위대가 (2)'!L71 -> #REF! | I18: ='일위대가 (2)'!N71 -> #REF! | Z18: 7335 | AA18: 220 | AB18: 7115
B19: 제16호표 | C19: 중간피복석(육상수중) | D19: 0.03㎥급 | E19: ㎥ | F19: =G19+H19+I19 -> #REF! | G19: ='일위대가 (2)'!J75 -> #REF! | H19: ='일위대가 (2)'!L75 -> #REF! | I19: ='일위대가 (2)'!N75 -> #REF! | Z19: 40468 | AA19: 12706 | AB19: 24569 | AC19: 3193
B20: 제17호표 | C20: 중간피복석(육상수상) | D20: 0.03㎥급 | E20: ㎥ | F20: =G20+H20+I20 -> #REF! | G20: ='일위대가 (2)'!J80 -> #REF! | H20: ='일위대가 (2)'!L80 -> #REF! | I20: ='일위대가 (2)'!N80 -> #REF! | Z20: 35980 | AA20: 9367 | AB20: 24062 | AC20: 2551
B21: 제18호표 | C21: 피복석(해상수중) | D21: 0.4㎥급 | E21: ㎥ | F21: =G21+H21+I21 -> #REF! | G21: ='일위대가 (2)'!J85 -> #REF! | H21: ='일위대가 (2)'!L85 -> #REF! | I21: ='일위대가 (2)'!N85 -> #REF! | Z21: 54146 | AA21: 17836 | AB21: 32002 | AC21: 4308
B22: 제19호표 | C22: 피복석(해상수상) | D22: 0.4㎥급, 기중기25Ton | E22: ㎥ | F22: =G22+H22+I22 -> #REF! | G22: ='일위대가 (2)'!J91 -> #REF! | H22: ='일위대가 (2)'!L91 -> #REF! | I22: ='일위대가 (2)'!N91 -> #REF! | Z22: 56669 | AA22: 18624 | AB22: 32536 | AC22: 5509
B23: 제20호표 | C23: 피복석속고르기(해상수중) | D23: 0.4㎥급(H=0~15m) | E23: ㎡ | F23: =G23+H23+I23 -> #REF! | G23: ='일위대가 (2)'!J97 -> #REF! | H23: ='일위대가 (2)'!L97 -> #REF! | I23: ='일위대가 (2)'!N97 -> #REF! | Z23: 83472 | AA23: 72395 | AB23: 7816 | AC23: 3261
B24: 제21호표 | C24: 피복석고르기(해상수중) | D24: 0.4㎥급(H=0~15m) | E24: ㎡ | F24: =G24+H24+I24 -> #REF! | G24: ='일위대가 (2)'!J101 -> #REF! | H24: ='일위대가 (2)'!L101 -> #REF! | I24: ='일위대가 (2)'!N101 -> #REF! | Z24: 90009 | AA24: 78040 | AB24: 8449 | AC24: 3520
B25: 제22호표 | C25: 사면보호사석(육상수상) | D25: 0.03㎥급 | E25: ㎥ | F25: =G25+H25+I25 -> #REF! | G25: ='일위대가 (2)'!J105 -> #REF! | H25: ='일위대가 (2)'!L105 -> #REF! | I25: ='일위대가 (2)'!N105 -> #REF! | Z25: 35980 | AA25: 9367 | AB25: 24062 | AC25: 2551
B26: 제23호표 | C26: 사면보호사석고르기 | D26: 수상 | E26: ㎡ | F26: =G26+H26+I26 -> #REF! | G26: ='일위대가 (2)'!J110 -> #REF! | H26: ='일위대가 (2)'!L110 -> #REF! | I26: ='일위대가 (2)'!N110 -> #REF! | Z26: 32353 | AA26: 23618 | AB26: 5193 | AC26: 3542
B27: 제24호표 | C27: 쇄석(육상덤프) | D27: Φ40mm이하 | E27: ㎥ | F27: =G27+H27+I27 -> #REF! | G27: ='일위대가 (2)'!J113 -> #REF! | H27: ='일위대가 (2)'!L113 -> #REF! | I27: ='일위대가 (2)'!N113 -> #REF! | Z27: 25622 | AA27: 2825 | AB27: 20995 | AC27: 1802
B28: 제25호표 | C28: 피복석(해상수중) | D28: 0.3㎥급 | E28: ㎥ | F28: =G28+H28+I28 -> #REF! | G28: ='일위대가 (2)'!J118 -> #REF! | H28: ='일위대가 (2)'!L118 -> #REF! | I28: ='일위대가 (2)'!N118 -> #REF! | Z28: 53887 | AA28: 17660 | AB28: 31937 | AC28: 4290
B29: 제26호표 | C29: 피복석(육상덤프) | D29: 0.1㎥급 | E29: ㎥ | F29: =G29+H29+I29 -> #REF! | G29: ='일위대가 (2)'!J124 -> #REF! | H29: ='일위대가 (2)'!L124 -> #REF! | I29: ='일위대가 (2)'!N124 -> #REF! | Z29: 48886 | AA29: 6799 | AB29: 38834 | AC29: 3253
B30: 제27호표 | C30: 피복석(해상수상) | D30: 0.4㎥급 | E30: ㎥ | F30: =G30+H30+I30 -> #REF! | G30: ='일위대가 (2)'!J129 -> #REF! | H30: ='일위대가 (2)'!L129 -> #REF! | I30: ='일위대가 (2)'!N129 -> #REF! | Z30: 53751 | AA30: 17366 | AB30: 31930 | AC30: 4455
B31: 제28호표 | C31: 피복석고르기(해상수상) | D31: 0.4㎥급 | E31: ㎡ | F31: =G31+H31+I31 -> #REF! | G31: ='일위대가 (2)'!J135 -> #REF! | H31: ='일위대가 (2)'!L135 -> #REF! | I31: ='일위대가 (2)'!N135 -> #REF! | Z31: 38649 | AA31: 32804 | AB31: 3237 | AC31: 2608
B32: 제29호표 | C32: 치환사석(해상수상) | D32: 0.001~0.03㎥급 | E32: ㎥ | F32: =G32+H32+I32 -> #REF! | G32: ='일위대가 (2)'!J139 -> #REF! | H32: ='일위대가 (2)'!L139 -> #REF! | I32: ='일위대가 (2)'!N139 -> #REF! | Z32: 23452 | AA32: 4820 | AB32: 16445 | AC32: 2187
B33: 제30호표 | C33: 저면매트부설(수중) | D33: 50kN | E33: ㎡ | F33: =G33+H33+I33 -> #REF! | G33: ='일위대가 (2)'!J144 -> #REF! | H33: ='일위대가 (2)'!L144 -> #REF! | I33: ='일위대가 (2)'!N144 -> #REF! | Z33: 5349 | AA33: 950 | AB33: 4380 | AC33: 19
B34: 제31호표 | C34: 중간피복석(육상수중) | D34: 0.1㎥급 | E34: ㎥ | F34: =G34+H34+I34 -> #REF! | G34: ='일위대가 (2)'!J148 -> #REF! | H34: ='일위대가 (2)'!L148 -> #REF! | I34: ='일위대가 (2)'!N148 -> #REF! | Z34: 60185 | AA34: 16203 | AB34: 39644 | AC34: 4338
B35: 제32호표 | C35: 중간피복석(육상수상) | D35: 0.1㎥급 | E35: ㎥ | F35: =G35+H35+I35 -> #REF! | G35: ='일위대가 (2)'!J153 -> #REF! | H35: ='일위대가 (2)'!L153 -> #REF! | I35: ='일위대가 (2)'!N153 -> #REF! | Z35: 55697 | AA35: 12864 | AB35: 39137 | AC35: 3696
B36: 제33호표 | C36: 피복석(해상수중) | D36: 0.5㎥급 | E36: ㎥ | F36: =G36+H36+I36 -> #REF! | G36: ='일위대가 (2)'!J158 -> #REF! | H36: ='일위대가 (2)'!L158 -> #REF! | I36: ='일위대가 (2)'!N158 -> #REF! | Z36: 55642 | AA36: 18771 | AB36: 32418 | AC36: 4453
B37: 제34호표 | C37: 피복석(해상수상) | D37: 0.5㎥급, 기중기25Ton | E37: ㎥ | F37: =G37+H37+I37 -> #REF! | G37: ='일위대가 (2)'!J164 -> #REF! | H37: ='일위대가 (2)'!L164 -> #REF! | I37: ='일위대가 (2)'!N164 -> #REF! | Z37: 57086 | AA37: 18667 | AB37: 32863 | AC37: 5556
B38: 제35호표 | C38: 피복석속고르기(해상수중) | D38: 0.1㎥급(H=0~15m) | E38: ㎡ | F38: =G38+H38+I38 -> #REF! | G38: ='일위대가 (2)'!J170 -> #REF! | H38: ='일위대가 (2)'!L170 -> #REF! | I38: ='일위대가 (2)'!N170 -> #REF! | Z38: 83472 | AA38: 72395 | AB38: 7816 | AC38: 3261
B39: 제36호표 | C39: 피복석고르기(해상수중) | D39: 0.1㎥급(H=0~15m) | E39: ㎡ | F39: =G39+H39+I39 -> #REF! | G39: ='일위대가 (2)'!J174 -> #REF! | H39: ='일위대가 (2)'!L174 -> #REF! | I39: ='일위대가 (2)'!N174 -> #REF! | Z39: 90009 | AA39: 78040 | AB39: 8449 | AC39: 3520
B40: 제37호표 | C40: 피복석고르기(해상수상) | D40: 0.1㎥급 | E40: ㎡ | F40: =G40+H40+I40 -> #REF! | G40: ='일위대가 (2)'!J178 -> #REF! | H40: ='일위대가 (2)'!L178 -> #REF! | I40: ='일위대가 (2)'!N178 -> #REF! | Z40: 38649 | AA40: 32804 | AB40: 3237 | AC40: 2608
B41: 제38호표 | C41: 피복석속고르기(해상수중) | D41: 0.5㎥급(H=0~15m) | E41: ㎡ | F41: =G41+H41+I41 -> #REF! | G41: ='일위대가 (2)'!J182 -> #REF! | H41: ='일위대가 (2)'!L182 -> #REF! | I41: ='일위대가 (2)'!N182 -> #REF! | Z41: 83472 | AA41: 72395 | AB41: 7816 | AC41: 3261
...

Sheet 일위대가 (2)
B1: 일위대가
B3: 호 표 | C3: 품 명 | D3: 규 격 | E3: 수 량 | F3: 단위 | G3: 합 계 | I3: 노 무 비 | K3: 재 료 비 | M3: 경 비 | O3: 비 고
G4: 단 가 | H4: 금 액 | I4: 단 가 | J4: 금 액 | K4: 단 가 | L4: 금 액 | M4: 단 가 | N4: 금 액
B5: 제1호표 | C5: 제체사석(해상수중) | D5: 0.001~0.03㎥급 | F5: ㎥ | H5: =J5+L5+N5 -> #REF! | J5: =TRUNC(J6+J7+J8) -> #REF! | L5: =TRUNC(L6+L7+L8) -> #REF! | N5: =TRUNC(N6+N7+N8) -> #REF!
C6: 사석(대선상차도) | D6: 0.001~0.03㎥급 | E6: 1 | F6: ㎥ | G6: =I6+K6+M6 -> #REF! | H6: =J6+L6+N6 -> #REF! | I6: =#REF! -> #REF! | J6: =TRUNC(E6*I6,0) -> #REF! | K6: =#REF! -> #REF! | L6: =TRUNC(E6*K6,0) -> #REF! | M6: =#REF! -> #REF! | N6: =TRUNC(E6*M6,0) -> #REF! | O6: 견적1참조
C7: 사석해상운반(L=6.0km) | D7: 각종, 굴삭기 2.0㎥ | E7: 1 | F7: ㎥ | G7: =I7+K7+M7 -> 4687 | H7: =J7+L7+N7 -> 4687 | I7: =단가산출총괄표!G4 -> 2201 | J7: =TRUNC(E7*I7,0) -> 2201 | K7: =단가산출총괄표!H4 -> 1120 | L7: =TRUNC(E7*K7,0) -> 1120 | M7: =단가산출총괄표!I4 -> 1366 | N7: =TRUNC(E7*M7,0) -> 1366 | O7: 단산1참조
C8: 사석투하(해상수중) | D8: 각종(굴삭기(무한궤도 2.0㎥), 잠수조) | E8: 1 | F8: ㎥ | G8: =I8+K8+M8 -> #REF! | H8: =J8+L8+N8 -> #REF! | I8: =#REF! -> #REF! | J8: =TRUNC(E8*I8,0) -> #REF! | K8: =#REF! -> #REF! | L8: =TRUNC(E8*K8,0) -> #REF! | M8: =#REF! -> #REF! | N8: =TRUNC(E8*M8,0) -> #REF! | O8: 표준1참조
J9: =TRUNC(E9*I9,0) -> 0 | L9: =TRUNC(E9*K9,0) -> 0 | N9: =TRUNC(E9*M9,0) -> 0
B10: 제2호표 | C10: 제체사석(해상수상) | D10: 0.001~0.03㎥급 | F10: ㎥ | H10: =J10+L10+N10 -> #REF! | J10: =TRUNC(J11+J12+J13) -> #REF! | L10: =TRUNC(L11+L12+L13) -> #REF! | N10: =TRUNC(N11+N12+N13) -> #REF!
C11: 사석(대선상차도) | D11: 0.001~0.03㎥급 | E11: 1 | F11: ㎥ | G11: =I11+K11+M11 -> #REF! | H11: =J11+L11+N11 -> #REF! | I11: =#REF! -> #REF! | J11: =TRUNC(E11*I11,0) -> #REF! | K11: =#REF! -> #REF! | L11: =TRUNC(E11*K11,0) -> #REF! | M11: =#REF! -> #REF! | N11: =TRUNC(E11*M11,0) -> #REF! | O11: 견적1참조
C12: 사석해상운반(L=6.0km) | D12: 각종, 굴삭기 2.0㎥ | E12: 1 | F12: ㎥ | G12: =I12+K12+M12 -> 4687 | H12: =J12+L12+N12 -> 4687 | I12: =단가산출총괄표!G4 -> 2201 | J12: =TRUNC(E12*I12,0) -> 2201 | K12: =단가산출총괄표!H4 -> 1120 | L12: =TRUNC(E12*K12,0) -> 1120 | M12: =단가산출총괄표!I4 -> 1366 | N12: =TRUNC(E12*M12,0) -> 1366 | O12: 단산1참조
C13: 사석투하(해상수상) | D13: 각종(굴삭기(무한궤도 2.0㎥) | E13: 1 | F13: ㎥ | G13: =I13+K13+M13 -> #REF! | H13: =J13+L13+N13 -> #REF! | I13: =#REF! -> #REF! | J13: =TRUNC(E13*I13,0) -> #REF! | K13: =#REF! -> #REF! | L13: =TRUNC(E13*K13,0) -> #REF! | M13: =#REF! -> #REF! | N13: =TRUNC(E13*M13,0) -> #REF! | O13: 표준2참조
J14: =TRUNC(E14*I14,0) -> 0 | L14: =TRUNC(E14*K14,0) -> 0 | N14: =TRUNC(E14*M14,0) -> 0
B15: 제3호표 | C15: 제체사석(육상덤프) | D15: 0.001~0.03㎥급 | F15: ㎥ | H15: =J15+L15+N15 -> #REF! | J15: =TRUNC(J16+J17+J18) -> #REF! | L15: =TRUNC(L16+L17+L18) -> #REF! | N15: =TRUNC(N16+N17+N18) -> #REF!
C16: 사석(석산상차도) | D16: 0.001~0.03㎥급 | E16: 1 | F16: ㎥ | G16: =I16+K16+M16 -> #REF! | H16: =J16+L16+N16 -> #REF! | I16: =#REF! -> #REF! | J16: =TRUNC(E16*I16,0) -> #REF! | K16: =#REF! -> #REF! | L16: =TRUNC(E16*K16,0) -> #REF! | M16: =#REF! -> #REF! | N16: =TRUNC(E16*M16,0) -> #REF! | O16: 견적2참조
C17: 사석육상운반(석산→현장) | D17: 0.03㎥급이하 | E17: 1 | F17: ㎥ | G17: =I17+K17+M17 -> 7556 | H17: =J17+L17+N17 -> 7556 | I17: =단가산출총괄표!G5 -> 3057 | J17: =TRUNC(E17*I17,0) -> 3057 | K17: =단가산출총괄표!H5 -> 2534 | L17: =TRUNC(E17*K17,0) -> 2534 | M17: =단가산출총괄표!I5 -> 1965 | N17: =TRUNC(E17*M17,0) -> 1965 | O17: 단산2참조
C18: 사석정리 | D18: 각종(불도저 19톤) | E18: 1 | F18: ㎥ | G18: =I18+K18+M18 -> #REF! | H18: =J18+L18+N18 -> #REF! | I18: =#REF! -> #REF! | J18: =TRUNC(E18*I18,0) -> #REF! | K18: =#REF! -> #REF! | L18: =TRUNC(E18*K18,0) -> #REF! | M18: =#REF! -> #REF! | N18: =TRUNC(E18*M18,0) -> #REF! | O18: 표준3참조
J19: =TRUNC(E19*I19,0) -> 0 | L19: =TRUNC(E19*K19,0) -> 0 | N19: =TRUNC(E19*M19,0) -> 0
B20: 제4호표 | C20: 제체사석(육상수상:백호) | D20: 0.001~0.03㎥급 | F20: ㎥ | H20: =J20+L20+N20 -> #REF! | J20: =TRUNC(J21+J22+J23) -> #REF! | L20: =TRUNC(L21+L22+L23) -> #REF! | N20: =TRUNC(N21+N22+N23) -> #REF!
C21: 사석(석산상차도) | D21: 0.001~0.03㎥급 | E21: 1 | F21: ㎥ | G21: =I21+K21+M21 -> #REF! | H21: =J21+L21+N21 -> #REF! | I21: =#REF! -> #REF! | J21: =TRUNC(E21*I21,0) -> #REF! | K21: =#REF! -> #REF! | L21: =TRUNC(E21*K21,0) -> #REF! | M21: =#REF! -> #REF! | N21: =TRUNC(E21*M21,0) -> #REF! | O21: 견적2참조
C22: 사석육상운반(석산→현장) | D22: 0.03㎥급이하 | E22: 1 | F22: ㎥ | G22: =I22+K22+M22 -> 7556 | H22: =J22+L22+N22 -> 7556 | I22: =단가산출총괄표!G5 -> 3057 | J22: =TRUNC(E22*I22,0) -> 3057 | K22: =단가산출총괄표!H5 -> 2534 | L22: =TRUNC(E22*K22,0) -> 2534 | M22: =단가산출총괄표!I5 -> 1965 | N22: =TRUNC(E22*M22,0) -> 1965 | O22: 단산2참조
C23: 사석투하(육상수상) | D23: 각종(굴삭기(무한궤도 1.0㎥)) | E23: 1 | F23: ㎥ | G23: =I23+K23+M23 -> #REF! | H23: =J23+L23+N23 -> #REF! | I23: =#REF! -> #REF! | J23: =TRUNC(E23*I23,0) -> #REF! | K23: =#REF! -> #REF! | L23: =TRUNC(E23*K23,0) -> #REF! | M23: =#REF! -> #REF! | N23: =TRUNC(E23*M23,0) -> #REF! | O23: 표준4참조
J24: =TRUNC(E24*I24,0) -> 0 | L24: =TRUNC(E24*K24,0) -> 0 | N24: =TRUNC(E24*M24,0) -> 0
B25: 제5호표 | C25: 치환사석(육상수상,백호) | D25: 0.001~0.03㎥급 | F25: ㎥ | H25: =J25+L25+N25 -> #REF! | J25: =TRUNC(J26+J27+J28) -> #REF! | L25: =TRUNC(L26+L27+L28) -> #REF! | N25: =TRUNC(N26+N27+N28) -> #REF!
C26: 사석(석산상차도) | D26: 0.001~0.03㎥급 | E26: 1 | F26: ㎥ | G26: =I26+K26+M26 -> #REF! | H26: =J26+L26+N26 -> #REF! | I26: =#REF! -> #REF! | J26: =TRUNC(E26*I26,0) -> #REF! | K26: =#REF! -> #REF! | L26: =TRUNC(E26*K26,0) -> #REF! | M26: =#REF! -> #REF! | N26: =TRUNC(E26*M26,0) -> #REF! | O26: 견적2참조
C27: 사석육상운반(석산→현장) | D27: 0.03㎥급이하 | E27: 1 | F27: ㎥ | G27: =I27+K27+M27 -> 7556 | H27: =J27+L27+N27 -> 7556 | I27: =단가산출총괄표!G5 -> 3057 | J27: =TRUNC(E27*I27,0) -> 3057 | K27: =단가산출총괄표!H5 -> 2534 | L27: =TRUNC(E27*K27,0) -> 2534 | M27: =단가산출총괄표!I5 -> 1965 | N27: =TRUNC(E27*M27,0) -> 1965 | O27: 단산2참조
C28: 사석투하(육상수상) | D28: 각종(굴삭기(무한궤도 1.0㎥)) | E28: 1 | F28: ㎥ | G28: =I28+K28+M28 -> #REF! | H28: =J28+L28+N28 -> #REF! | I28: =#REF! -> #REF! | J28: =TRUNC(E28*I28,0) -> #REF! | K28: =#REF! -> #REF! | L28: =TRUNC(E28*K28,0) -> #REF! | M28: =#REF! -> #REF! | N28: =TRUNC(E28*M28,0) -> #REF! | O28: 표준4참조
J29: =TRUNC(E29*I29,0) -> 0 | L29: =TRUNC(E29*K29,0) -> 0 | N29: =TRUNC(E29*M29,0) -> 0
B30: 제6호표 | C30: 필터사석(육상덤프) | D30: Φ100mm이하 | F30: ㎥ | H30: =J30+L30+N30 -> #REF! | J30: =TRUNC(J31+J32+J33) -> #REF! | L30: =TRUNC(L31+L32+L33) -> #REF! | N30: =TRUNC(N31+N32+N33) -> #REF!
C31: 필터사석(석산상차도) | D31: Φ100mm이하 | E31: 1 | F31: ㎥ | G31: =I31+K31+M31 -> #REF! | H31: =J31+L31+N31 -> #REF! | I31: =#REF! -> #REF! | J31: =TRUNC(E31*I31,0) -> #REF! | K31: =#REF! -> #REF! | L31: =TRUNC(E31*K31,0) -> #REF! | M31: =#REF! -> #REF! | N31: =TRUNC(E31*M31,0) -> #REF! | O31: 견적3참조
C32: 육상운반(석산→현장) | D32: Φ100mm이하 | E32: 1 | F32: ㎥ | G32: =I32+K32+M32 -> 6679 | H32: =J32+L32+N32 -> 6679 | I32: =단가산출총괄표!G6 -> 2580 | J32: =TRUNC(E32*I32,0) -> 2580 | K32: =단가산출총괄표!H6 -> 2440 | L32: =TRUNC(E32*K32,0) -> 2440 | M32: =단가산출총괄표!I6 -> 1659 | N32: =TRUNC(E32*M32,0) -> 1659 | O32: 단산3참조
C33: 사석정리 | D33: 각종(불도저 19톤) | E33: 1 | F33: ㎥ | G33: =I33+K33+M33 -> #REF! | H33: =J33+L33+N33 -> #REF! | I33: =#REF! -> #REF! | J33: =TRUNC(E33*I33,0) -> #REF! | K33: =#REF! -> #REF! | L33: =TRUNC(E33*K33,0) -> #REF! | M33: =#REF! -> #REF! | N33: =TRUNC(E33*M33,0) -> #REF! | O33: 표준3참조
J34: =TRUNC(E34*I34,0) -> 0 | L34: =TRUNC(E34*K34,0) -> 0 | N34: =TRUNC(E34*M34,0) -> 0
B35: 제7호표 | C35: 필터사석(육상수상:백호) | D35: Φ100mm이하 | F35: ㎥ | H35: =J35+L35+N35 -> #REF! | J35: =TRUNC(J36+J37+J38) -> #REF! | L35: =TRUNC(L36+L37+L38) -> #REF! | N35: =TRUNC(N36+N37+N38) -> #REF!
C36: 필터사석(석산상차도) | D36: Φ100mm이하 | E36: 1 | F36: ㎥ | G36: =I36+K36+M36 -> #REF! | H36: =J36+L36+N36 -> #REF! | I36: =#REF! -> #REF! | J36: =TRUNC(E36*I36,0) -> #REF! | K36: =#REF! -> #REF! | L36: =TRUNC(E36*K36,0) -> #REF! | M36: =#REF! -> #REF! | N36: =TRUNC(E36*M36,0) -> #REF! | O36: 견적3참조
C37: 육상운반(석산→현장) | D37: Φ100mm이하 | E37: 1 | F37: ㎥ | G37: =I37+K37+M37 -> 6679 | H37: =J37+L37+N37 -> 6679 | I37: =단가산출총괄표!G6 -> 2580 | J37: =TRUNC(E37*I37,0) -> 2580 | K37: =단가산출총괄표!H6 -> 2440 | L37: =TRUNC(E37*K37,0) -> 2440 | M37: =단가산출총괄표!I6 -> 1659 | N37: =TRUNC(E37*M37,0) -> 1659 | O37: 단산3참조
C38: 필터사석투하(육상수상) | D38: D=100mm 이하(굴삭기(무한궤도 1.0㎥)) | E38: 1 | F38: ㎥ | G38: =I38+K38+M38 -> #REF! | H38: =J38+L38+N38 -> #REF! | I38: =#REF! -> #REF! | J38: =TRUNC(E38*I38,0) -> #REF! | K38: =#REF! -> #REF! | L38: =TRUNC(E38*K38,0) -> #REF! | M38: =#REF! -> #REF! | N38: =TRUNC(E38*M38,0) -> #REF! | O38: 표준5참조
J39: =TRUNC(E39*I39,0) -> 0 | L39: =TRUNC(E39*K39,0) -> 0 | N39: =TRUNC(E39*M39,0) -> 0
B40: 제8호표 | C40: 보호압사석(육상수중,크람셀) | D40: 0.001~0.03㎥급 | F40: ㎥ | H40: =J40+L40+N40 -> #REF! | J40: =TRUNC(J41+J42+J43) -> #REF! | L40: =TRUNC(L41+L42+L43) -> #REF! | N40: =TRUNC(N41+N42+N43) -> #REF!
C41: 사석(석산상차도) | D41: 0.001~0.03㎥급 | E41: 1 | F41: ㎥ | G41: =I41+K41+M41 -> #REF! | H41: =J41+L41+N41 -> #REF! | I41: =#REF! -> #REF! | J41: =TRUNC(E41*I41,0) -> #REF! | K41: =#REF! -> #REF! | L41: =TRUNC(E41*K41,0) -> #REF! | M41: =#REF! -> #REF! | N41: =TRUNC(E41*M41,0) -> #REF! | O41: 견적2참조
...

Sheet 단가산출총괄표1
B1: 단가산출총괄표
B3: No | C3: 품 명 | D3: 규 격 | E3: 단위 | F3: 합 계 | G3: 노무비 | H3: 재료비 | I3: 경 비 | J3: 비 고 | Z3: 당초합계 | AA3: 당초노무비 | AB3: 당초재료비 | AC3: 당초경비
B4: 39 | C4: 동치환(북측배수호안) | D4: 치환두께 2.5m이하 | E4: ㎡ | F4: =G4+H4+I4 -> 19678 | G4: =단가산출1!D5 -> 8881 | H4: =단가산출1!E5 -> 5021 | I4: =단가산출1!F5 -> 5776 | Z4: 20816 | AA4: 9419 | AB4: 5304 | AC4: 6093
B5: 40 | C5: 동치환(북측배수호안) | D5: 치환두께 4.0m이하 | E5: ㎡ | F5: =G5+H5+I5 -> 45481 | G5: =단가산출1!D149 -> 20337 | H5: =단가산출1!E149 -> 11437 | I5: =단가산출1!F149 -> 13707 | Z5: 45484 | AA5: 20340 | AB5: 11437 | AC5: 13707
B6: 39 | C6: 동치환(북측배수호안) | D6: 치환두께 2.5m이하 | E6: ㎡ | F6: =G6+H6+I6 -> 23871 | G6: =단가산출1!D321 -> 12822 | H6: =단가산출1!E321 -> 5900 | I6: =단가산출1!F321 -> 5149 | Z6: 23871 | AA6: 12822 | AB6: 5900 | AC6: 5149
B7: 40 | C7: 동치환(북측배수호안) | D7: 치환두께 4.0m이하 | E7: ㎡ | F7: =G7+H7+I7 -> 54359 | G7: =단가산출1!D465 -> 28839 | H7: =단가산출1!E465 -> 13278 | I7: =단가산출1!F465 -> 12242 | Z7: 54359 | AA7: 28839 | AB7: 13278 | AC7: 12242
B8: 41 | C8: 동치환(서측분리 1구간) | D8: 치환두께 2.5m이하 | E8: ㎡ | F8: =G8+H8+I8 -> 20816 | G8: =단가산출1!D637 -> 9419 | H8: =단가산출1!E637 -> 5304 | I8: =단가산출1!F637 -> 6093 | Z8: 20816 | AA8: 9419 | AB8: 5304 | AC8: 6093
B9: 42 | C9: 동치환(서측분리 1구간) | D9: 치환두께 4.0m이하 | E9: ㎡ | F9: =G9+H9+I9 -> 35169 | G9: =단가산출1!D781 -> 15760 | H9: =단가산출1!E781 -> 8872 | I9: =단가산출1!F781 -> 10537 | Z9: 35169 | AA9: 15760 | AB9: 8872 | AC9: 10537
B10: 43 | C10: 동치환(서측분리 2구간) | D10: 치환두께 2.5m이하 | E10: ㎡ | F10: =G10+H10+I10 -> 13940 | G10: =단가산출1!D953 -> 6365 | H10: =단가산출1!E953 -> 3594 | I10: =단가산출1!F953 -> 3981 | Z10: 13940 | AA10: 6365 | AB10: 3594 | AC10: 3981
B11: 44 | C11: 동치환(서측분리 2구간) | D11: 치환두께 4.0m이하 | E11: ㎡ | F11: =G11+H11+I11 -> 28282 | G11: =단가산출1!D1097 -> 12703 | H11: =단가산출1!E1097 -> 7160 | I11: =단가산출1!F1097 -> 8419 | Z11: 28282 | AA11: 12703 | AB11: 7160 | AC11: 8419
B12: 45 | C12: 동치환(내부가호안 1구간) | D12: 치환두께 2.5m이하 | E12: ㎡ | F12: =G12+H12+I12 -> 19097 | G12: =단가산출1!D1269 -> 8656 | H12: =단가산출1!E1269 -> 4876 | I12: =단가산출1!F1269 -> 5565 | Z12: 19097 | AA12: 8656 | AB12: 4876 | AC12: 5565
B13: 46 | C13: 동치환(내부가호안 1구간) | D13: 치환두께 4.0m이하 | E13: ㎡ | F13: =G13+H13+I13 -> 38596 | G13: =단가산출1!D1413 -> 17284 | H13: =단가산출1!E1413 -> 9724 | I13: =단가산출1!F1413 -> 11588 | Z13: 38596 | AA13: 17284 | AB13: 9724 | AC13: 11588
B14: 47 | C14: 동치환(내부가호안 2구간) | D14: 치환두께 2.5m이하 | E14: ㎡ | F14: =G14+H14+I14 -> 17377 | G14: =단가산출1!D1585 -> 7891 | H14: =단가산출1!E1585 -> 4449 | I14: =단가산출1!F1585 -> 5037 | Z14: 17377 | AA14: 7891 | AB14: 4449 | AC14: 5037
B15: 48 | C15: 동치환(내부가호안 2구간) | D15: 치환두께 4.0m이하 | E15: ㎡ | F15: =G15+H15+I15 -> 35169 | G15: =단가산출1!D1729 -> 15760 | H15: =단가산출1!E1729 -> 8872 | I15: =단가산출1!F1729 -> 10537 | Z15: 35169 | AA15: 15760 | AB15: 8872 | AC15: 10537
B16: 49 | C16: 동다짐 | D16: 다짐두께 2.5m이하 | E16: ㎡ | F16: =G16+H16+I16 -> 9044 | G16: =단가산출1!D1901 -> 4247 | H16: =단가산출1!E1901 -> 2261 | I16: =단가산출1!F1901 -> 2536 | Z16: 9044 | AA16: 4247 | AB16: 2261 | AC16: 2536
B17: 50 | C17: 피복석해상운반 | D17: 0.1㎥급 | E17: ㎥ | F17: =G17+H17+I17 -> 9584 | G17: =단가산출1!D2050 -> 5131 | H17: =단가산출1!E2050 -> 1038 | I17: =단가산출1!F2050 -> 3415 | Z17: 9584 | AA17: 5131 | AB17: 1038 | AC17: 3415
B18: 51 | C18: 해상기중기 예인 및 피예인 | D18: 0.1㎥급 | E18: ㎥ | F18: =G18+H18+I18 -> 2268 | G18: =단가산출1!D2110 -> 1572 | H18: =단가산출1!E2110 -> 546 | I18: =단가산출1!F2110 -> 150 | Z18: 2268 | AA18: 1572 | AB18: 546 | AC18: 150
B19: 52 | C19: 피복석투하(해상수상) | D19: 0.1㎥급, 기중기선25톤 | E19: ㎥ | F19: =G19+H19+I19 -> 14259 | G19: =단가산출1!D2165 -> 11375 | H19: =단가산출1!E2165 -> 1087 | I19: =단가산출1!F2165 -> 1797 | Z19: 14259 | AA19: 11375 | AB19: 1087 | AC19: 1797
B20: 53 | C20: 콘크리트블록운반거치 | D20: 해상수중:25~30톤 | E20: EA | F20: =G20+H20+I20 -> 1017681 | G20: =단가산출1!D2195 -> 758236 | H20: =단가산출1!E2195 -> 101037 | I20: =단가산출1!F2195 -> 158408 | Z20: 1017681 | AA20: 758236 | AB20: 101037 | AC20: 158408
B21: 54 | C21: 콘크리트블록운반거치 | D21: 해상수중:40~45톤 | E21: EA | F21: =G21+H21+I21 -> 1330797 | G21: =단가산출1!D2378 -> 886534 | H21: =단가산출1!E2378 -> 160672 | I21: =단가산출1!F2378 -> 283591 | Z21: 1330797 | AA21: 886534 | AB21: 160672 | AC21: 283591
B22: 55 | C22: 콘크리트블록운반거치 | D22: 해상수중:45~50톤 | E22: EA | F22: =G22+H22+I22 -> 1350924 | G22: =단가산출1!D2561 -> 888527 | H22: =단가산출1!E2561 -> 167611 | I22: =단가산출1!F2561 -> 294786 | Z22: 1350924 | AA22: 888527 | AB22: 167611 | AC22: 294786
B23: 56 | C23: 콘크리트블록운반거치 | D23: 해상수중:55~60톤 | E23: EA | F23: =G23+H23+I23 -> 1521998 | G23: =단가산출1!D2744 -> 946451 | H23: =단가산출1!E2744 -> 182726 | I23: =단가산출1!F2744 -> 392821 | Z23: 1521998 | AA23: 946451 | AB23: 182726 | AC23: 392821
B24: 57 | C24: 콘크리트블록운반거치 | D24: 해상수중:65~70톤 | E24: EA | F24: =G24+H24+I24 -> 1494415 | G24: =단가산출1!D2927 -> 941909 | H24: =단가산출1!E2927 -> 179499 | I24: =단가산출1!F2927 -> 373007 | Z24: 1494415 | AA24: 941909 | AB24: 179499 | AC24: 373007
B25: 58 | C25: 콘크리트블록운반거치 | D25: 해상수중:30~35톤 | E25: EA | F25: =G25+H25+I25 -> 1205462 | G25: =단가산출1!D3074 -> 870641 | H25: =단가산출1!E3074 -> 123450 | I25: =단가산출1!F3074 -> 211371 | Z25: 1205462 | AA25: 870641 | AB25: 123450 | AC25: 211371
B26: 59 | C26: 콘크리트블록운반거치 | D26: 해상수중:35~40톤 | E26: EA | F26: =G26+H26+I26 -> 1231831 | G26: =단가산출1!D3257 -> 862696 | H26: =단가산출1!E3257 -> 126988 | I26: =단가산출1!F3257 -> 242147 | Z26: 1231831 | AA26: 862696 | AB26: 126988 | AC26: 242147
B27: 60 | C27: 줄눈설치 | D27: 수축줄눈 | E27: M | F27: =G27+H27+I27 -> 5896 | G27: =단가산출1!D3440 -> 2086 | H27: =단가산출1!E3440 -> 3743 | I27: =단가산출1!F3440 -> 67 | Z27: 5896 | AA27: 2086 | AB27: 3743 | AC27: 67
B28: 61 | C28: 콘크리트 포장줄눈 절단 | E28: M | F28: =G28+H28+I28 -> 2013 | G28: =단가산출1!D3483 -> 1132 | H28: =단가산출1!E3483 -> 814 | I28: =단가산출1!F3483 -> 67 | Z28: 2013 | AA28: 1132 | AB28: 814 | AC28: 67
B29: 62 | C29: 콘크리트블록운반거치 | D29: 해상수중:20~25톤 | E29: EA | F29: =G29+H29+I29 -> 867213 | G29: =단가산출1!D3558 -> 657171 | H29: =단가산출1!E3558 -> 77542 | I29: =단가산출1!F3558 -> 132500 | Z29: 867213 | AA29: 657171 | AB29: 77542 | AC29: 132500
B30: 63 | C30: 피복석투하(해상수상)-품 | D30: 1.0㎥급 | E30: ㎥ | F30: =G30+H30+I30 -> 16212 | G30: =단가산출1!D3741 -> 12550 | H30: =단가산출1!E3741 -> 1380 | I30: =단가산출1!F3741 -> 2282 | Z30: 16212 | AA30: 12550 | AB30: 1380 | AC30: 2282
B31: 64 | C31: 피복석육상운반(석산→현장) | D31: 1.0㎥급 | E31: ㎥ | F31: =G31+H31+I31 -> 13288 | G31: =단가산출1!D3771 -> 7015 | H31: =단가산출1!E3771 -> 2944 | I31: =단가산출1!F3771 -> 3329 | Z31: 13288 | AA31: 7015 | AB31: 2944 | AC31: 3329
B32: 65 | C32: 철근 권상 | D32: H = 7m이상 | E32: Ton | F32: =G32+H32+I32 -> 25574 | G32: =단가산출1!D3821 -> 17702 | H32: =단가산출1!E3821 -> 1936 | I32: =단가산출1!F3821 -> 5936 | Z32: 25574 | AA32: 17702 | AB32: 1936 | AC32: 5936
B33: 66 | C33: 무수축몰탈 | E33: ㎥ | F33: =G33+H33+I33 -> 566828 | G33: =단가산출1!D3853 -> 367903 | H33: =단가산출1!E3853 -> 198925 | I33: =단가산출1!F3853 -> 0 | Z33: 566828 | AA33: 367903 | AB33: 198925
B34: 67 | C34: 흄관부설및접합(고무링접합) | D34: D=300mm | E34: M | F34: =G34+H34+I34 -> 27577 | G34: =단가산출1!D3902 -> 22969 | H34: =단가산출1!E3902 -> 2450 | I34: =단가산출1!F3902 -> 2158 | Z34: 27577 | AA34: 22969 | AB34: 2450 | AC34: 2158
B35: 68 | C35: 여수토점검로운반거치 | E35: 기 | F35: =G35+H35+I35 -> 1531066 | G35: =단가산출1!D3936 -> 876254 | H35: =단가산출1!E3936 -> 199807 | I35: =단가산출1!F3936 -> 455005 | Z35: 1531066 | AA35: 876254 | AB35: 199807 | AC35: 455005
B36: 69 | C36: 절토 및 야적 | D36: 토사 | E36: ㎥ | F36: =G36+H36+I36 -> 5095 | G36: =단가산출1!D4119 -> 2583 | H36: =단가산출1!E4119 -> 1020 | I36: =단가산출1!F4119 -> 1492 | Z36: 5095 | AA36: 2583 | AB36: 1020 | AC36: 1492
B37: 70 | C37: 보도용 블록 장비사용 철거 | D37: A-Type | E37: ㎡ | F37: =G37+H37+I37 -> 2454 | G37: =단가산출1!D4200 -> 1787 | H37: =단가산출1!E4200 -> 376 | I37: =단가산출1!F4200 -> 291 | Z37: 2454 | AA37: 1787 | AB37: 376 | AC37: 291
B38: 71 | C38: 보차도 및 도로경계블록 철거 | D38: A-Type, 500mm미만(폭+높이) | E38: M | F38: =G38+H38+I38 -> 6015 | G38: =단가산출1!D4246 -> 4529 | H38: =단가산출1!E4246 -> 837 | I38: =단가산출1!F4246 -> 649 | Z38: 6015 | AA38: 4529 | AB38: 837 | AC38: 649
B39: 72 | C39: 보차도 및 도로경계블록 철거 | D39: A-Type, 300mm미만(폭+높이) | E39: M | F39: =G39+H39+I39 -> 3247 | G39: =단가산출1!D4285 -> 2445 | H39: =단가산출1!E4285 -> 452 | I39: =단가산출1!F4285 -> 350 | Z39: 3247 | AA39: 2445 | AB39: 452 | AC39: 350
B40: 73 | C40: 폐기물상차 | D40: 백호1.0㎥ | E40: ㎥ | F40: =G40+H40+I40 -> 4254 | G40: =단가산출1!D4324 -> 1683 | H40: =단가산출1!E4324 -> 1472 | I40: =단가산출1!F4324 -> 1099 | Z40: 4254 | AA40: 1683 | AB40: 1472 | AC40: 1099
B41: 74 | C41: 교통안전표지판 철거 | E41: EA | F41: =G41+H41+I41 -> 56147 | G41: =단가산출1!D4341 -> 49419 | H41: =단가산출1!E4341 -> 3925 | I41: =단가산출1!F4341 -> 2803 | Z41: 56147 | AA41: 49419 | AB41: 3925 | AC41: 2803
...

Sheet 단가산출1
B1: 단가산출
B3: 산 출 근 거 | C3: 합 계 | D3: 노무비 | E3: 재료비 | F3: 경 비
B5: 39.동치환(북측배수호안)(치환두께 2.5m이하)[㎡] | C5: =D5+E5+F5 -> 19678 | D5: =D147 -> 8881 | E5: =E147 -> 5021 | F5: =F147 -> 5776
B7: ◎ 동치환 조건
B9: 구 분 기 호 추 중 량 낙 하 고 타격횟수 타격에너지
B10: (ton) (m) (회) (ton.m)
B12: 1차다짐 ㉠ 20 12 20 768.0
B14: 마무리다짐 20 5 2 무시
B16: 합 계 768.0
B18: 가. 각 다짐별 Cm 산정
B20: 1) 1차 다짐 {동다짐기 + 다짐판(20TON) + DROP HEIGHT(15)}
B22: T1 = (2.5m÷2m/min)/5= 0.25 분 {동다짐기 이동 시간,다짐판을 매단체 이동,1회이동으로 5점시공}
B24: T2 = 0.25분{BOOM SWING시간}}
B26: T3 = 2분{동다짐기 위치잡기시간}
B28: t1 = 12.0 m÷10m/min = 1.2 분 {LIFTING 시간}
... B70: Q=1/Q1= 18.87 ㎡/hr
B72: 노무비 : 47,849 ÷ 18.87 = 2,535 | H72: =TRUNC(47849/18.87) -> 2535
B73: 재료비 : 50,476 ÷ 18.87 = 2,674 | H73: =TRUNC(50476/18.87) -> 2674
B74: 경 비 : 105,510 ÷ 18.87 = 5,591 | H74: =TRUNC(105510/18.87) -> 5591
B75: 소 계 : 10,800 | C75: =D75+E75+F75 -> 10800 | D75: =H72 -> 2535 | E75: =H73 -> 2674 | F75: =H74 -> 5591
B77: 다. GRID형 다짐판 사용료(hr)
B79: Cm11 = Cm1÷(2.5×12.5) = 2.29분
B81: Cm22 = Cm2÷(2.5×12.5) = 0.25분
B83: Cm = Cm11+Cm22 = 2.54분
B85: Q = Cm/60 = 0.042hr/㎡
B87: GRID형다짐판손료(육상용,20톤급)[식] *일위79참조*
B89: 노무비 : 120,749 × 0.042 = 5,071 | H89: =TRUNC(120749*0.042) -> 5071
B90: 재료비 : 43,799 × 0.042 = 1,839 | H90: =TRUNC(43799*0.042) -> 1839
B91: 경 비 : 209 × 0.042 = 8 | H91: =TRUNC(209*0.042) -> 8
B92: 소 계 : 6,918 | C92: =D92+E92+F92 -> 6918 | D92: =H89 -> 5071 | E92: =H90 -> 1839 | F92: =H91 -> 8
B94: 라. 소모품비
B96: GRID형다짐판손료(육상용,20톤급)[식] *일위79참조*
B98: Q = 0.5%
B100: 노무비 : 120,749 × 0.005 = 603
B101: 재료비 : 43,799 × 0.005 = 218
B102: 경 비 : 209 × 0.005 = 1
B103: 소 계 : 822 | C103: =D103+E103+F103 -> 822 | D103: 603 | E103: 218 | F103: 1
B105: 마.작업인부
B107: Cm11 = Cm1÷(2.5×12.5) = 2.29분
B109: Cm22 = Cm2÷(2.5×12.5) = 0.25분
...

Sheet 일위대가총괄표1
B1: 일위대가총괄표
B3: 호 표 | C3: 품 명 | D3: 규 격 | E3: 단위 | F3: 합 계 | G3: 노무비 | H3: 재료비 | I3: 경 비 | J3: 비 고 | Z3: 당초합계 | AA3: 당초노무비 | AB3: 당초재료비 | AC3: 당초경비
B4: 제218호표 | C4: =일위대가1!C6 -> 공사용등부표 이설 | D4: =일위대가1!D6 -> LS-24 | E4: =일위대가1!F6 -> 기 | F4: =G4+H4+I4 -> 5840816 | I4: =일위대가1!H6 -> 5840816 | Z4: 746396 | AA4: 360838 | AB4: 347200 | AC4: 38358

Sheet 일위대가1
B1: 일위대가
B3: 호 표 | C3: 품 명 | D3: 규 격 | E3: 수 량 | F3: 단위 | G3: 합 계 | I3: 노무비 | K3: 재료비 | M3: 경 비 | O3: 비 고
G4: 단 가 | H4: 금 액 | I4: 단 가 | J4: 금 액 | K4: 단 가 | L4: 금 액 | M4: 단 가 | N4: 금 액
B6: 제218호표 | C6: 공사용등부표 이설 | D6: LS-24 | F6: 기 | H6: =J6+L6+N6 -> 5840816 | J6: =TRUNC(J7+J8+J9+J14+J10+J11+J12+J13+J15) -> 1127932 | L6: =TRUNC(L7+L8+L9+L14+L10+L11+L12+L13+L15) -> 0 | N6: =TRUNC(N7+N8+N9+N14+N10+N11+N12+N13+N15) -> 4712884 | Q6: =SUM(R6:T6) -> 242584334 | R6: 79775798 | S6: 52220105 | T6: 110588431
C7: 통신관련기사 | E7: 1 | F7: 인 | G7: =I7+K7+M7 -> 275633 | H7: =J7+L7+N7 -> 275633 | I7: 275633 | J7: =TRUNC(E7*I7,1) -> 275633 | L7: =TRUNC(E7*K7,1) -> 0 | N7: =TRUNC(E7*M7,1) -> 0 | Q7: =SUM(R7:T7) -> #DIV/0! | R7: =+ROUND(J7/$J6*$R6,0) -> 19494830 | S7: =+ROUND(L7/L6*S6,0) -> #DIV/0! | T7: =+ROUND(N7/N6*T6,0) -> 0
C8: 전기공사기사 | E8: 1 | F8: 인 | G8: =I8+K8+M8 -> 279912 | H8: =J8+L8+N8 -> 279912 | I8: 279912 | J8: =TRUNC(E8*I8,1) -> 279912 | L8: =TRUNC(E8*K8,1) -> 0 | N8: =TRUNC(E8*M8,1) -> 0 | Q8: =SUM(R8:T8) -> #DIV/0! | R8: =+ROUND(J8/J6*R6,0) -> 19797473 | S8: =+ROUND(L8/L6*S6,0) -> #DIV/0! | T8: =+ROUND(N8/N6*T6,0) -> 0
C9: 작업반장 | E9: 1 | F9: 인 | G9: =I9+K9+M9 -> 189313 | H9: =J9+L9+N9 -> 189313 | I9: 189313 | J9: =TRUNC(E9*I9,1) -> 189313 | L9: =TRUNC(E9*K9,1) -> 0 | N9: =TRUNC(E9*M9,1) -> 0 | Q9: =SUM(R9:T9) -> #DIV/0! | R9: =+ROUND(J9/$J6*$R6,0) -> 13389633 | S9: =+ROUND(L9/L6*S6,0) -> #DIV/0! | T9: =+ROUND(N9/N6*T6,0) -> 0
C10: 보통인부 | E10: 1 | F10: 인 | G10: =I10+K10+M10 -> 148510 | H10: =J10+L10+N10 -> 148510 | I10: 148510 | J10: =TRUNC(E10*I10,1) -> 148510 | L10: =TRUNC(E10*K10,1) -> 0 | N10: =TRUNC(E10*M10,1) -> 0
C11: 용접공 | E11: 1 | F11: 인 | G11: =I11+K11+M11 -> 234564 | H11: =J11+L11+N11 -> 234564 | I11: 234564 | J11: =TRUNC(E11*I11,1) -> 234564 | L11: =TRUNC(E11*K11,1) -> 0 | N11: =TRUNC(E11*M11,1) -> 0
C12: 예선 | D12: 597kw | E12: 0.7 | F12: 일 | G12: =I12+K12+M12 -> 3575832 | H12: =J12+L12+N12 -> 2503082.4 | J12: =TRUNC(E12*I12,1) -> 0 | L12: =TRUNC(E12*K12,1) -> 0 | M12: 3575832 | N12: =TRUNC(E12*M12,1) -> 2503082.4
C13: 조합중기선 | D13: 80ton | E13: 0.7 | F13: 일 | G13: =I13+K13+M13 -> 2085432 | H13: =J13+L13+N13 -> 1459802.4 | J13: =TRUNC(E13*I13,1) -> 0 | L13: =TRUNC(E13*K13,1) -> 0 | M13: 2085432 | N13: =TRUNC(E13*M13,1) -> 1459802.4
C14: 작업선 | D14: 119kw | E14: 1 | F14: 일 | G14: =I14+K14+M14 -> 600000 | H14: =J14+L14+N14 -> 600000 | J14: =TRUNC(E14*I14,1) -> 0 | L14: =TRUNC(E14*K14,1) -> 0 | M14: 600000 | N14: =TRUNC(E14*M14,1) -> 600000 | Q14: =SUM(R14:T14) -> #DIV/0! | R14: =+ROUND(J14/$J6*$R6,0) -> 0 | S14: =+ROUND(L14/L6*S6,0) -> #DIV/0! | T14: =+ROUND(N14/N6*T6,0) -> 14079077
C15: 위치측량 | D15: DGPS | E15: 1 | F15: 회 | G15: =I15+K15+M15 -> 150000 | H15: =J15+L15+N15 -> 150000 | J15: =TRUNC(E15*I15,1) -> 0 | L15: =TRUNC(E15*K15,1) -> 0 | M15: 150000 | N15: =TRUNC(E15*M15,1) -> 150000

Sheet 일위대가총괄표
B1: 일위대가총괄표
B3: 호 표 | C3: 품 명 | D3: 규 격 | E3: 단위 | F3: 합 계 | G3: 노무비 | H3: 재료비 | I3: 경 비 | J3: 비 고 | Z3: 당초합계 | AA3: 당초노무비 | AB3: 당초재료비 | AC3: 당초경비
B4: 제1호표 | C4: 제체사석(해상수중) | D4: 0.001~0.03㎥급 | E4: ㎥ | F4: =G4+H4+I4 -> #REF! | G4: =일위대가!J5 -> #REF! | H4: =일위대가!L5 -> #REF! | I4: =일위대가!N5 -> #REF! | Z4: 26102 | AA4: 7463 | AB4: 16492 | AC4: 2147
B5: 제2호표 | C5: 제체사석(해상수상) | D5: 0.001~0.03㎥급 | E5: ㎥ | F5: =G5+H5+I5 -> #REF! | G5: =일위대가!J10 -> #REF! | H5: =일위대가!L10 -> #REF! | I5: =일위대가!N10 -> #REF! | Z5: 23452 | AA5: 4820 | AB5: 16445 | AC5: 2187
B6: 제3호표 | C6: 제체사석(육상덤프) | D6: 0.001~0.03㎥급 | E6: ㎥ | F6: =G6+H6+I6 -> #REF! | G6: =일위대가!J15 -> #REF! | H6: =일위대가!L15 -> #REF! | I6: =일위대가!N15 -> #REF! | Z6: 25449 | AA6: 3302 | AB6: 20039 | AC6: 2108
B7: 제4호표 | C7: 제체사석(육상수상:백호) | D7: 0.001~0.03㎥급 | E7: ㎥ | F7: =G7+H7+I7 -> #REF! | G7: =일위대가!J20 -> #REF! | H7: =일위대가!L20 -> #REF! | I7: =일위대가!N20 -> #REF! | Z7: 27720 | AA7: 4355 | AB7: 20757 | AC7: 2608
B8: 제5호표 | C8: 치환사석(육상수상,백호) | D8: 0.001~0.03㎥급 | E8: ㎥ | F8: =G8+H8+I8 -> #REF! | G8: =일위대가!J25 -> #REF! | H8: =일위대가!L25 -> #REF! | I8: =일위대가!N25 -> #REF! | Z8: 27720 | AA8: 4355 | AB8: 20757 | AC8: 2608
B9: 제6호표 | C9: 필터사석(육상덤프) | D9: Φ100mm이하 | E9: ㎥ | F9: =G9+H9+I9 -> #REF! | G9: =일위대가!J30 -> #REF! | H9: =일위대가!L30 -> #REF! | I9: =일위대가!N30 -> #REF! | Z9: 26012 | AA9: 2825 | AB9: 21385 | AC9: 1802
B10: 제7호표 | C10: 필터사석(육상수상:백호) | D10: Φ100mm이하 | E10: ㎥ | F10: =G10+H10+I10 -> #REF! | G10: =일위대가!J35 -> #REF! | H10: =일위대가!L35 -> #REF! | I10: =일위대가!N35 -> #REF! | Z10: 26764 | AA10: 3235 | AB10: 21582 | AC10: 1947
B11: 제8호표 | C11: 보호압사석(육상수중,크람셀) | D11: 0.001~0.03㎥급 | E11: ㎥ | F11: =G11+H11+I11 -> #REF! | G11: =일위대가!J40 -> #REF! | H11: =일위대가!L40 -> #REF! | I11: =일위대가!N40 -> #REF! | Z11: 30515 | AA11: 6027 | AB11: 20696 | AC11: 3792
B12: 제9호표 | C12: 보호압사석(육상수상,크람셀) | D12: 0.001~0.03㎥급 | E12: ㎥ | F12: =G12+H12+I12 -> #REF! | G12: =일위대가!J45 -> #REF! | H12: =일위대가!L45 -> #REF! | I12: =일위대가!N45 -> #REF! | Z12: 28277 | AA12: 4030 | AB12: 20535 | AC12: 3712
B13: 제10호표 | C13: 보호압사석(육상수상,백호) | D13: 0.001~0.03㎥급 | E13: ㎥ | F13: =G13+H13+I13 -> #REF! | G13: =일위대가!J50 -> #REF! | H13: =일위대가!L50 -> #REF! | I13: =일위대가!N50 -> #REF! | Z13: 27720 | AA13: 4355 | AB13: 20757 | AC13: 2608
B14: 제11호표 | C14: 필터매트부설 | D14: 수중(잠수조),50kN | E14: ㎡ | F14: =G14+H14+I14 -> #REF! | G14: =일위대가!J55 -> #REF! | H14: =일위대가!L55 -> #REF! | I14: =일위대가!N55 -> #REF! | Z14: 6269 | AA14: 950 | AB14: 5300 | AC14: 19
B15: 제12호표 | C15: 필터매트부설 | D15: 수상,50kN | E15: ㎡ | F15: =G15+H15+I15 -> #REF! | G15: =일위대가!J59 -> #REF! | H15: =일위대가!L59 -> #REF! | I15: =일위대가!N59 -> #REF! | Z15: 5575 | AA15: 220 | AB15: 5355
B16: 제13호표 | C16: 복합매트부설(수중) | D16: 100KN | E16: ㎡ | F16: =G16+H16+I16 -> #REF! | G16: =일위대가!J63 -> #REF! | H16: =일위대가!L63 -> #REF! | I16: =일위대가!N63 -> #REF! | Z16: 6901 | AA16: 950 | AB16: 5932 | AC16: 19
B17: 제14호표 | C17: 복합매트부설(수상) | D17: 100KN | E17: ㎡ | F17: =G17+H17+I17 -> #REF! | G17: =일위대가!J67 -> #REF! | H17: =일위대가!L67 -> #REF! | I17: =일위대가!N67 -> #REF! | Z17: 6180 | AA17: 220 | AB17: 5960
B18: 제15호표 | C18: 차수매트부설(수상) | D18: 50KN | E18: ㎡ | F18: =G18+H18+I18 -> #REF! | G18: =일위대가!J71 -> #REF! | H18: =일위대가!L71 -> #REF! | I18: =일위대가!N71 -> #REF! | Z18: 7335 | AA18: 220 | AB18: 7115
B19: 제16호표 | C19: 중간피복석(육상수중) | D19: 0.03㎥급 | E19: ㎥ | F19: =G19+H19+I19 -> #REF! | G19: =일위대가!J75 -> #REF! | H19: =일위대가!L75 -> #REF! | I19: =일위대가!N75 -> #REF! | Z19: 40468 | AA19: 12706 | AB19: 24569 | AC19: 3193
B20: 제17호표 | C20: 중간피복석(육상수상) | D20: 0.03㎥급 | E20: ㎥ | F20: =G20+H20+I20 -> #REF! | G20: =일위대가!J80 -> #REF! | H20: =일위대가!L80 -> #REF! | I20: =일위대가!N80 -> #REF! | Z20: 35980 | AA20: 9367 | AB20: 24062 | AC20: 2551
B21: 제18호표 | C21: 피복석(해상수중) | D21: 0.4㎥급 | E21: ㎥ | F21: =G21+H21+I21 -> #REF! | G21: =일위대가!J85 -> #REF! | H21: =일위대가!L85 -> #REF! | I21: =일위대가!N85 -> #REF! | Z21: 54146 | AA21: 17836 | AB21: 32002 | AC21: 4308
B22: 제19호표 | C22: 피복석(해상수상) | D22: 0.4㎥급, 기중기25Ton | E22: ㎥ | F22: =G22+H22+I22 -> #REF! | G22: =일위대가!J91 -> #REF! | H22: =일위대가!L91 -> #REF! | I22: =일위대가!N91 -> #REF! | Z22: 56669 | AA22: 18624 | AB22: 32536 | AC22: 5509
B23: 제20호표 | C23: 피복석속고르기(해상수중) | D23: 0.4㎥급(H=0~15m) | E23: ㎡ | F23: =G23+H23+I23 -> #REF! | G23: =일위대가!J97 -> #REF! | H23: =일위대가!L97 -> #REF! | I23: =일위대가!N97 -> #REF! | Z23: 83472 | AA23: 72395 | AB23: 7816 | AC23: 3261
B24: 제21호표 | C24: 피복석고르기(해상수중) | D24: 0.4㎥급(H=0~15m) | E24: ㎡ | F24: =G24+H24+I24 -> #REF! | G24: =일위대가!J101 -> #REF! | H24: =일위대가!L101 -> #REF! | I24: =일위대가!N101 -> #REF! | Z24: 90009 | AA24: 78040 | AB24: 8449 | AC24: 3520
B25: 제22호표 | C25: 사면보호사석(육상수상) | D25: 0.03㎥급 | E25: ㎥ | F25: =G25+H25+I25 -> #REF! | G25: =일위대가!J105 -> #REF! | H25: =일위대가!L105 -> #REF! | I25: =일위대가!N105 -> #REF! | Z25: 35980 | AA25: 9367 | AB25: 24062 | AC25: 2551
B26: 제23호표 | C26: 사면보호사석고르기 | D26: 수상 | E26: ㎡ | F26: =G26+H26+I26 -> #REF! | G26: =일위대가!J110 -> #REF! | H26: =일위대가!L110 -> #REF! | I26: =일위대가!N110 -> #REF! | Z26: 32353 | AA26: 23618 | AB26: 5193 | AC26: 3542
B27: 제24호표 | C27: 쇄석(육상덤프) | D27: Φ40mm이하 | E27: ㎥ | F27: =G27+H27+I27 -> #REF! | G27: =일위대가!J113 -> #REF! | H27: =일위대가!L113 -> #REF! | I27: =일위대가!N113 -> #REF! | Z27: 25622 | AA27: 2825 | AB27: 20995 | AC27: 1802
B28: 제25호표 | C28: 피복석(해상수중) | D28: 0.3㎥급 | E28: ㎥ | F28: =G28+H28+I28 -> #REF! | G28: =일위대가!J118 -> #REF! | H28: =일위대가!L118 -> #REF! | I28: =일위대가!N118 -> #REF! | Z28: 53887 | AA28: 17660 | AB28: 31937 | AC28: 4290
B29: 제26호표 | C29: 피복석(육상덤프) | D29: 0.1㎥급 | E29: ㎥ | F29: =G29+H29+I29 -> #REF! | G29: =일위대가!J124 -> #REF! | H29: =일위대가!L124 -> #REF! | I29: =일위대가!N124 -> #REF! | Z29: 48886 | AA29: 6799 | AB29: 38834 | AC29: 3253
B30: 제27호표 | C30: 피복석(해상수상) | D30: 0.4㎥급 | E30: ㎥ | F30: =G30+H30+I30 -> #REF! | G30: =일위대가!J129 -> #REF! | H30: =일위대가!L129 -> #REF! | I30: =일위대가!N129 -> #REF! | Z30: 53751 | AA30: 17366 | AB30: 31930 | AC30: 4455
B31: 제28호표 | C31: 피복석고르기(해상수상) | D31: 0.4㎥급 | E31: ㎡ | F31: =G31+H31+I31 -> #REF! | G31: =일위대가!J135 -> #REF! | H31: =일위대가!L135 -> #REF! | I31: =일위대가!N135 -> #REF! | Z31: 38649 | AA31: 32804 | AB31: 3237 | AC31: 2608
B32: 제29호표 | C32: 치환사석(해상수상) | D32: 0.001~0.03㎥급 | E32: ㎥ | F32: =G32+H32+I32 -> #REF! | G32: =일위대가!J139 -> #REF! | H32: =일위대가!L139 -> #REF! | I32: =일위대가!N139 -> #REF! | Z32: 23452 | AA32: 4820 | AB32: 16445 | AC32: 2187
B33: 제30호표 | C33: 저면매트부설(수중) | D33: 50kN | E33: ㎡ | F33: =G33+H33+I33 -> #REF! | G33: =일위대가!J144 -> #REF! | H33: =일위대가!L144 -> #REF! | I33: =일위대가!N144 -> #REF! | Z33: 5349 | AA33: 950 | AB33: 4380 | AC33: 19
B34: 제31호표 | C34: 중간피복석(육상수중) | D34: 0.1㎥급 | E34: ㎥ | F34: =G34+H34+I34 -> #REF! | G34: =일위대가!J148 -> #REF! | H34: =일위대가!L148 -> #REF! | I34: =일위대가!N148 -> #REF! | Z34: 60185 | AA34: 16203 | AB34: 39644 | AC34: 4338
B35: 제32호표 | C35: 중간피복석(육상수상) | D35: 0.1㎥급 | E35: ㎥ | F35: =G35+H35+I35 -> #REF! | G35: =일위대가!J153 -> #REF! | H35: =일위대가!L153 -> #REF! | I35: =일위대가!N153 -> #REF! | Z35: 55697 | AA35: 12864 | AB35: 39137 | AC35: 3696
B36: 제33호표 | C36: 피복석(해상수중) | D36: 0.5㎥급 | E36: ㎥ | F36: =G36+H36+I36 -> #REF! | G36: =일위대가!J158 -> #REF! | H36: =일위대가!L158 -> #REF! | I36: =일위대가!N158 -> #REF! | Z36: 55642 | AA36: 18771 | AB36: 32418 | AC36: 4453
B37: 제34호표 | C37: 피복석(해상수상) | D37: 0.5㎥급, 기중기25Ton | E37: ㎥ | F37: =G37+H37+I37 -> #REF! | G37: =일위대가!J164 -> #REF! | H37: =일위대가!L164 -> #REF! | I37: =일위대가!N164 -> #REF! | Z37: 57086 | AA37: 18667 | AB37: 32863 | AC37: 5556
B38: 제35호표 | C38: 피복석속고르기(해상수중) | D38: 0.1㎥급(H=0~15m) | E38: ㎡ | F38: =G38+H38+I38 -> #REF! | G38: =일위대가!J170 -> #REF! | H38: =일위대가!L170 -> #REF! | I38: =일위대가!N170 -> #REF! | Z38: 83472 | AA38: 72395 | AB38: 7816 | AC38: 3261
B39: 제36호표 | C39: 피복석고르기(해상수중) | D39: 0.1㎥급(H=0~15m) | E39: ㎡ | F39: =G39+H39+I39 -> #REF! | G39: =일위대가!J174 -> #REF! | H39: =일위대가!L174 -> #REF! | I39: =일위대가!N174 -> #REF! | Z39: 90009 | AA39: 78040 | AB39: 8449 | AC39: 3520
B40: 제37호표 | C40: 피복석고르기(해상수상) | D40: 0.1㎥급 | E40: ㎡ | F40: =G40+H40+I40 -> #REF! | G40: =일위대가!J178 -> #REF! | H40: =일위대가!L178 -> #REF! | I40: =일위대가!N178 -> #REF! | Z40: 38649 | AA40: 32804 | AB40: 3237 | AC40: 2608
B41: 제38호표 | C41: 피복석속고르기(해상수중) | D41: 0.5㎥급(H=0~15m) | E41: ㎡ | F41: =G41+H41+I41 -> #REF! | G41: =일위대가!J182 -> #REF! | H41: =일위대가!L182 -> #REF! | I41: =일위대가!N182 -> #REF! | Z41: 83472 | AA41: 72395 | AB41: 7816 | AC41: 3261
...

Sheet 일위대가
B1: 일위대가
B3: 호 표 | C3: 품 명 | D3: 규 격 | E3: 수 량 | F3: 단위 | G3: 합 계 | I3: 노 무 비 | K3: 재 료 비 | M3: 경 비 | O3: 비 고
G4: 단 가 | H4: 금 액 | I4: 단 가 | J4: 금 액 | K4: 단 가 | L4: 금 액 | M4: 단 가 | N4: 금 액
B5: 제1호표 | C5: 제체사석(해상수중) | D5: 0.001~0.03㎥급 | F5: ㎥ | H5: =J5+L5+N5 -> #REF! | J5: =TRUNC(J6+J7+J8) -> #REF! | L5: =TRUNC(L6+L7+L8) -> #REF! | N5: =TRUNC(N6+N7+N8) -> #REF!
C6: 사석(대선상차도) | D6: 0.001~0.03㎥급 | E6: 1 | F6: ㎥ | G6: =I6+K6+M6 -> #REF! | H6: =J6+L6+N6 -> #REF! | I6: =#REF! -> #REF! | J6: =TRUNC(E6*I6,0) -> #REF! | K6: =#REF! -> #REF! | L6: =TRUNC(E6*K6,0) -> #REF! | M6: =#REF! -> #REF! | N6: =TRUNC(E6*M6,0) -> #REF! | O6: 견적1참조
C7: 사석해상운반(L=6.0km) | D7: 각종, 굴삭기 2.0㎥ | E7: 1 | F7: ㎥ | G7: =I7+K7+M7 -> 4687 | H7: =J7+L7+N7 -> 4687 | I7: =단가산출총괄표!G4 -> 2201 | J7: =TRUNC(E7*I7,0) -> 2201 | K7: =단가산출총괄표!H4 -> 1120 | L7: =TRUNC(E7*K7,0) -> 1120 | M7: =단가산출총괄표!I4 -> 1366 | N7: =TRUNC(E7*M7,0) -> 1366 | O7: 단산1참조
C8: 사석투하(해상수중) | D8: 각종(굴삭기(무한궤도 2.0㎥), 잠수조) | E8: 1 | F8: ㎥ | G8: =I8+K8+M8 -> #REF! | H8: =J8+L8+N8 -> #REF! | I8: =#REF! -> #REF! | J8: =TRUNC(E8*I8,0) -> #REF! | K8: =#REF! -> #REF! | L8: =TRUNC(E8*K8,0) -> #REF! | M8: =#REF! -> #REF! | N8: =TRUNC(E8*M8,0) -> #REF! | O8: 표준1참조
J9: =TRUNC(E9*I9,0) -> 0 | L9: =TRUNC(E9*K9,0) -> 0 | N9: =TRUNC(E9*M9,0) -> 0
B10: 제2호표 | C10: 제체사석(해상수상) | D10: 0.001~0.03㎥급 | F10: ㎥ | H10: =J10+L10+N10 -> #REF! | J10: =TRUNC(J11+J12+J13) -> #REF! | L10: =TRUNC(L11+L12+L13) -> #REF! | N10: =TRUNC(N11+N12+N13) -> #REF!
C11: 사석(대선상차도) | D11: 0.001~0.03㎥급 | E11: 1 | F11: ㎥ | G11: =I11+K11+M11 -> #REF! | H11: =J11+L11+N11 -> #REF! | I11: =#REF! -> #REF! | J11: =TRUNC(E11*I11,0) -> #REF! | K11: =#REF! -> #REF! | L11: =TRUNC(E11*K11,0) -> #REF! | M11: =#REF! -> #REF! | N11: =TRUNC(E11*M11,0) -> #REF! | O11: 견적1참조
C12: 사석해상운반(L=6.0km) | D12: 각종, 굴삭기 2.0㎥ | E12: 1 | F12: ㎥ | G12: =I12+K12+M12 -> 4687 | H12: =J12+L12+N12 -> 4687 | I12: =단가산출총괄표!G4 -> 2201 | J12: =TRUNC(E12*I12,0) -> 2201 | K12: =단가산출총괄표!H4 -> 1120 | L12: =TRUNC(E12*K12,0) -> 1120 | M12: =단가산출총괄표!I4 -> 1366 | N12: =TRUNC(E12*M12,0) -> 1366 | O12: 단산1참조
C13: 사석투하(해상수상) | D13: 각종(굴삭기(무한궤도 2.0㎥) | E13: 1 | F13: ㎥ | G13: =I13+K13+M13 -> #REF! | H13: =J13+L13+N13 -> #REF! | I13: =#REF! -> #REF! | J13: =TRUNC(E13*I13,0) -> #REF! | K13: =#REF! -> #REF! | L13: =TRUNC(E13*K13,0) -> #REF! | M13: =#REF! -> #REF! | N13: =TRUNC(E13*M13,0) -> #REF! | O13: 표준2참조
J14: =TRUNC(E14*I14,0) -> 0 | L14: =TRUNC(E14*K14,0) -> 0 | N14: =TRUNC(E14*M14,0) -> 0
B15: 제3호표 | C15: 제체사석(육상덤프) | D15: 0.001~0.03㎥급 | F15: ㎥ | H15: =J15+L15+N15 -> #REF! | J15: =TRUNC(J16+J17+J18) -> #REF! | L15: =TRUNC(L16+L17+L18) -> #REF! | N15: =TRUNC(N16+N17+N18) -> #REF!
C16: 사석(석산상차도) | D16: 0.001~0.03㎥급 | E16: 1 | F16: ㎥ | G16: =I16+K16+M16 -> #REF! | H16: =J16+L16+N16 -> #REF! | I16: =#REF! -> #REF! | J16: =TRUNC(E16*I16,0) -> #REF! | K16: =#REF! -> #REF! | L16: =TRUNC(E16*K16,0) -> #REF! | M16: =#REF! -> #REF! | N16: =TRUNC(E16*M16,0) -> #REF! | O16: 견적2참조
C17: 사석육상운반(석산→현장) | D17: 0.03㎥급이하 | E17: 1 | F17: ㎥ | G17: =I17+K17+M17 -> 7556 | H17: =J17+L17+N17 -> 7556 | I17: =단가산출총괄표!G5 -> 3057 | J17: =TRUNC(E17*I17,0) -> 3057 | K17: =단가산출총괄표!H5 -> 2534 | L17: =TRUNC(E17*K17,0) -> 2534 | M17: =단가산출총괄표!I5 -> 1965 | N17: =TRUNC(E17*M17,0) -> 1965 | O17: 단산2참조
C18: 사석정리 | D18: 각종(불도저 19톤) | E18: 1 | F18: ㎥ | G18: =I18+K18+M18 -> #REF! | H18: =J18+L18+N18 -> #REF! | I18: =#REF! -> #REF! | J18: =TRUNC(E18*I18,0) -> #REF! | K18: =#REF! -> #REF! | L18: =TRUNC(E18*K18,0) -> #REF! | M18: =#REF! -> #REF! | N18: =TRUNC(E18*M18,0) -> #REF! | O18: 표준3참조
J19: =TRUNC(E19*I19,0) -> 0 | L19: =TRUNC(E19*K19,0) -> 0 | N19: =TRUNC(E19*M19,0) -> 0
B20: 제4호표 | C20: 제체사석(육상수상:백호) | D20: 0.001~0.03㎥급 | F20: ㎥ | H20: =J20+L20+N20 -> #REF! | J20: =TRUNC(J21+J22+J23) -> #REF! | L20: =TRUNC(L21+L22+L23) -> #REF! | N20: =TRUNC(N21+N22+N23) -> #REF!
C21: 사석(석산상차도) | D21: 0.001~0.03㎥급 | E21: 1 | F21: ㎥ | G21: =I21+K21+M21 -> #REF! | H21: =J21+L21+N21 -> #REF! | I21: =#REF! -> #REF! | J21: =TRUNC(E21*I21,0) -> #REF! | K21: =#REF! -> #REF! | L21: =TRUNC(E21*K21,0) -> #REF! | M21: =#REF! -> #REF! | N21: =TRUNC(E21*M21,0) -> #REF! | O21: 견적2참조
C22: 사석육상운반(석산→현장) | D22: 0.03㎥급이하 | E22: 1 | F22: ㎥ | G22: =I22+K22+M22 -> 7556 | H22: =J22+L22+N22 -> 7556 | I22: =단가산출총괄표!G5 -> 3057 | J22: =TRUNC(E22*I22,0) -> 3057 | K22: =단가산출총괄표!H5 -> 2534 | L22: =TRUNC(E22*K22,0) -> 2534 | M22: =단가산출총괄표!I5 -> 1965 | N22: =TRUNC(E22*M22,0) -> 1965 | O22: 단산2참조
C23: 사석투하(육상수상) | D23: 각종(굴삭기(무한궤도 1.0㎥)) | E23: 1 | F23: ㎥ | G23: =I23+K23+M23 -> #REF! | H23: =J23+L23+N23 -> #REF! | I23: =#REF! -> #REF! | J23: =TRUNC(E23*I23,0) -> #REF! | K23: =#REF! -> #REF! | L23: =TRUNC(E23*K23,0) -> #REF! | M23: =#REF! -> #REF! | N23: =TRUNC(E23*M23,0) -> #REF! | O23: 표준4참조
J24: =TRUNC(E24*I24,0) -> 0 | L24: =TRUNC(E24*K24,0) -> 0 | N24: =TRUNC(E24*M24,0) -> 0
B25: 제5호표 | C25: 치환사석(육상수상,백호) | D25: 0.001~0.03㎥급 | F25: ㎥ | H25: =J25+L25+N25 -> #REF! | J25: =TRUNC(J26+J27+J28) -> #REF! | L25: =TRUNC(L26+L27+L28) -> #REF! | N25: =TRUNC(N26+N27+N28) -> #REF!
C26: 사석(석산상차도) | D26: 0.001~0.03㎥급 | E26: 1 | F26: ㎥ | G26: =I26+K26+M26 -> #REF! | H26: =J26+L26+N26 -> #REF! | I26: =#REF! -> #REF! | J26: =TRUNC(E26*I26,0) -> #REF! | K26: =#REF! -> #REF! | L26: =TRUNC(E26*K26,0) -> #REF! | M26: =#REF! -> #REF! | N26: =TRUNC(E26*M26,0) -> #REF! | O26: 견적2참조
C27: 사석육상운반(석산→현장) | D27: 0.03㎥급이하 | E27: 1 | F27: ㎥ | G27: =I27+K27+M27 -> 7556 | H27: =J27+L27+N27 -> 7556 | I27: =단가산출총괄표!G5 -> 3057 | J27: =TRUNC(E27*I27,0) -> 3057 | K27: =단가산출총괄표!H5 -> 2534 | L27: =TRUNC(E27*K27,0) -> 2534 | M27: =단가산출총괄표!I5 -> 1965 | N27: =TRUNC(E27*M27,0) -> 1965 | O27: 단산2참조
C28: 사석투하(육상수상) | D28: 각종(굴삭기(무한궤도 1.0㎥)) | E28: 1 | F28: ㎥ | G28: =I28+K28+M28 -> #REF! | H28: =J28+L28+N28 -> #REF! | I28: =#REF! -> #REF! | J28: =TRUNC(E28*I28,0) -> #REF! | K28: =#REF! -> #REF! | L28: =TRUNC(E28*K28,0) -> #REF! | M28: =#REF! -> #REF! | N28: =TRUNC(E28*M28,0) -> #REF! | O28: 표준4참조
J29: =TRUNC(E29*I29,0) -> 0 | L29: =TRUNC(E29*K29,0) -> 0 | N29: =TRUNC(E29*M29,0) -> 0
B30: 제6호표 | C30: 필터사석(육상덤프) | D30: Φ100mm이하 | F30: ㎥ | H30: =J30+L30+N30 -> #REF! | J30: =TRUNC(J31+J32+J33) -> #REF! | L30: =TRUNC(L31+L32+L33) -> #REF! | N30: =TRUNC(N31+N32+N33) -> #REF!
C31: 필터사석(석산상차도) | D31: Φ100mm이하 | E31: 1 | F31: ㎥ | G31: =I31+K31+M31 -> #REF! | H31: =J31+L31+N31 -> #REF! | I31: =#REF! -> #REF! | J31: =TRUNC(E31*I31,0) -> #REF! | K31: =#REF! -> #REF! | L31: =TRUNC(E31*K31,0) -> #REF! | M31: =#REF! -> #REF! | N31: =TRUNC(E31*M31,0) -> #REF! | O31: 견적3참조
C32: 육상운반(석산→현장) | D32: Φ100mm이하 | E32: 1 | F32: ㎥ | G32: =I32+K32+M32 -> 6679 | H32: =J32+L32+N32 -> 6679 | I32: =단가산출총괄표!G6 -> 2580 | J32: =TRUNC(E32*I32,0) -> 2580 | K32: =단가산출총괄표!H6 -> 2440 | L32: =TRUNC(E32*K32,0) -> 2440 | M32: =단가산출총괄표!I6 -> 1659 | N32: =TRUNC(E32*M32,0) -> 1659 | O32: 단산3참조
C33: 사석정리 | D33: 각종(불도저 19톤) | E33: 1 | F33: ㎥ | G33: =I33+K33+M33 -> #REF! | H33: =J33+L33+N33 -> #REF! | I33: =#REF! -> #REF! | J33: =TRUNC(E33*I33,0) -> #REF! | K33: =#REF! -> #REF! | L33: =TRUNC(E33*K33,0) -> #REF! | M33: =#REF! -> #REF! | N33: =TRUNC(E33*M33,0) -> #REF! | O33: 표준3참조
J34: =TRUNC(E34*I34,0) -> 0 | L34: =TRUNC(E34*K34,0) -> 0 | N34: =TRUNC(E34*M34,0) -> 0
B35: 제7호표 | C35: 필터사석(육상수상:백호) | D35: Φ100mm이하 | F35: ㎥ | H35: =J35+L35+N35 -> #REF! | J35: =TRUNC(J36+J37+J38) -> #REF! | L35: =TRUNC(L36+L37+L38) -> #REF! | N35: =TRUNC(N36+N37+N38) -> #REF!
C36: 필터사석(석산상차도) | D36: Φ100mm이하 | E36: 1 | F36: ㎥ | G36: =I36+K36+M36 -> #REF! | H36: =J36+L36+N36 -> #REF! | I36: =#REF! -> #REF! | J36: =TRUNC(E36*I36,0) -> #REF! | K36: =#REF! -> #REF! | L36: =TRUNC(E36*K36,0) -> #REF! | M36: =#REF! -> #REF! | N36: =TRUNC(E36*M36,0) -> #REF! | O36: 견적3참조
C37: 육상운반(석산→현장) | D37: Φ100mm이하 | E37: 1 | F37: ㎥ | G37: =I37+K37+M37 -> 6679 | H37: =J37+L37+N37 -> 6679 | I37: =단가산출총괄표!G6 -> 2580 | J37: =TRUNC(E37*I37,0) -> 2580 | K37: =단가산출총괄표!H6 -> 2440 | L37: =TRUNC(E37*K37,0) -> 2440 | M37: =단가산출총괄표!I6 -> 1659 | N37: =TRUNC(E37*M37,0) -> 1659 | O37: 단산3참조
C38: 필터사석투하(육상수상) | D38: D=100mm 이하(굴삭기(무한궤도 1.0㎥)) | E38: 1 | F38: ㎥ | G38: =I38+K38+M38 -> #REF! | H38: =J38+L38+N38 -> #REF! | I38: =#REF! -> #REF! | J38: =TRUNC(E38*I38,0) -> #REF! | K38: =#REF! -> #REF! | L38: =TRUNC(E38*K38,0) -> #REF! | M38: =#REF! -> #REF! | N38: =TRUNC(E38*M38,0) -> #REF! | O38: 표준5참조
J39: =TRUNC(E39*I39,0) -> 0 | L39: =TRUNC(E39*K39,0) -> 0 | N39: =TRUNC(E39*M39,0) -> 0
B40: 제8호표 | C40: 보호압사석(육상수중,크람셀) | D40: 0.001~0.03㎥급 | F40: ㎥ | H40: =J40+L40+N40 -> #REF! | J40: =TRUNC(J41+J42+J43) -> #REF! | L40: =TRUNC(L41+L42+L43) -> #REF! | N40: =TRUNC(N41+N42+N43) -> #REF!
C41: 사석(석산상차도) | D41: 0.001~0.03㎥급 | E41: 1 | F41: ㎥ | G41: =I41+K41+M41 -> #REF! | H41: =J41+L41+N41 -> #REF! | I41: =#REF! -> #REF! | J41: =TRUNC(E41*I41,0) -> #REF! | K41: =#REF! -> #REF! | L41: =TRUNC(E41*K41,0) -> #REF! | M41: =#REF! -> #REF! | N41: =TRUNC(E41*M41,0) -> #REF! | O41: 견적2참조
...

Sheet 단가산출총괄표
B1: 단가산출총괄표
B3: No | C3: 품 명 | D3: 규 격 | E3: 단위 | F3: 합 계 | G3: 노무비 | H3: 재료비 | I3: 경 비 | J3: 비 고 | Z3: 당초합계 | AA3: 당초노무비 | AB3: 당초재료비 | AC3: 당초경비
B4: 1 | C4: 사석해상운반(L=6.0km) | D4: 각종, 굴삭기 2.0㎥ | E4: ㎥ | F4: =G4+H4+I4 -> 4687 | G4: =단가산출!D4 -> 2201 | H4: =단가산출!E4 -> 1120 | I4: =단가산출!F4 -> 1366 | Z4: 4687 | AA4: 2201 | AB4: 1120 | AC4: 1366
B5: 2 | C5: 사석육상운반(석산→현장) | D5: 0.03㎥급이하 | E5: ㎥ | F5: =G5+H5+I5 -> 7556 | G5: =단가산출!D63 -> 3057 | H5: =단가산출!E63 -> 2534 | I5: =단가산출!F63 -> 1965 | Z5: 7556 | AA5: 3057 | AB5: 2534 | AC5: 1965
B6: 3 | C6: 육상운반(석산→현장) | D6: Φ100mm이하 | E6: ㎥ | F6: =G6+H6+I6 -> 6679 | G6: =단가산출!D111 -> 2580 | H6: =단가산출!E111 -> 2440 | I6: =단가산출!F111 -> 1659 | Z6: 6679 | AA6: 2580 | AB6: 2440 | AC6: 1659
B7: 4 | C7: 사석투하(육상수중,크램셀) | D7: 0.03㎥이하 | E7: ㎥ | F7: =G7+H7+I7 -> 5679 | G7: =단가산출!D159 -> 2970 | H7: =단가산출!E159 -> 882 | I7: =단가산출!F159 -> 1827 | Z7: 5679 | AA7: 2970 | AB7: 882 | AC7: 1827
B8: 5 | C8: 사석투하(육상수상,크램셀) | D8: 0.03㎥이하 | E8: ㎥ | F8: =G8+H8+I8 -> 3441 | G8: =단가산출!D211 -> 973 | H8: =단가산출!E211 -> 721 | I8: =단가산출!F211 -> 1747 | Z8: 3441 | AA8: 973 | AB8: 721 | AC8: 1747
B9: 6 | C9: 피복석해상운반 | D9: 0.4㎥급 | E9: ㎥ | F9: =G9+H9+I9 -> 9584 | G9: =단가산출!D254 -> 5131 | H9: =단가산출!E254 -> 1038 | I9: =단가산출!F254 -> 3415 | Z9: 9584 | AA9: 5131 | AB9: 1038 | AC9: 3415
B10: 7 | C10: 해상기중기 예인 및 피예인 | D10: 0.4㎥급 | E10: ㎥ | F10: =G10+H10+I10 -> 2637 | G10: =단가산출!D314 -> 1824 | H10: =단가산출!E314 -> 638 | I10: =단가산출!F314 -> 175 | Z10: 2637 | AA10: 1824 | AB10: 638 | AC10: 175
B11: 8 | C11: 피복석투하(해상수상) | D11: 0.4㎥급,기중기선 25톤급 | E11: ㎥ | F11: =G11+H11+I11 -> 14748 | G11: =단가산출!D369 -> 11669 | H11: =단가산출!E369 -> 1160 | I11: =단가산출!F369 -> 1919 | Z11: 14748 | AA11: 11669 | AB11: 1160 | AC11: 1919
B12: 9 | C12: 피복석속고르기 이우선예인 및 피예인노력비(해상수중 | D12: 0.5㎥급까지 | E12: ㎡ | F12: =G12+H12+I12 -> 21121 | G12: =단가산출!D399 -> 15032 | H12: =단가산출!E399 -> 4778 | I12: =단가산출!F399 -> 1311 | Z12: 21121 | AA12: 15032 | AB12: 4778 | AC12: 1311
B13: 10 | C13: 피복석고르기 이우선예인 및 피예인노력비(해상수중) | D13: 0.5㎥급까지 | E13: ㎡ | F13: =G13+H13+I13 -> 22893 | G13: =단가산출!D452 -> 16293 | H13: =단가산출!E452 -> 5179 | I13: =단가산출!F452 -> 1421 | Z13: 22893 | AA13: 16293 | AB13: 5179 | AC13: 1421
B14: 11 | C14: 피복석해상운반 | D14: 0.3㎥급 | E14: ㎥ | F14: =G14+H14+I14 -> 9584 | G14: =단가산출!D505 -> 5131 | H14: =단가산출!E505 -> 1038 | I14: =단가산출!F505 -> 3415 | Z14: 9584 | AA14: 5131 | AB14: 1038 | AC14: 3415
B15: 12 | C15: 해상기중기 예인 및 피예인 | D15: 0.3㎥급 | E15: ㎥ | F15: =G15+H15+I15 -> 2378 | G15: =단가산출!D565 -> 1648 | H15: =단가산출!E565 -> 573 | I15: =단가산출!F565 -> 157 | Z15: 2378 | AA15: 1648 | AB15: 573 | AC15: 157
B16: 13 | C16: 피복석육상운반(석산→현장) | D16: 0.1㎥급 | E16: ㎥ | F16: =G16+H16+I16 -> 12573 | G16: =단가산출!D620 -> 6554 | H16: =단가산출!E620 -> 2909 | I16: =단가산출!F620 -> 3110 | Z16: 12573 | AA16: 6554 | AB16: 2909 | AC16: 3110
B17: 14 | C17: 피복석고르기 기중기예인 및 피예인노력비(해상수상) | D17: 각종 | E17: ㎡ | F17: =G17+H17+I17 -> 6451 | G17: =단가산출!D670 -> 4470 | H17: =단가산출!E670 -> 1555 | I17: =단가산출!F670 -> 426 | Z17: 6451 | AA17: 4470 | AB17: 1555 | AC17: 426
B18: 15 | C18: 피복석제거 및 유용(육상수중) | D18: 0.4㎥급 | E18: ㎥ | F18: =G18+H18+I18 -> 22280 | G18: =단가산출!D715 -> 17580 | H18: =단가산출!E715 -> 1470 | I18: =단가산출!F715 -> 3230 | Z18: 22280 | AA18: 17580 | AB18: 1470 | AC18: 3230
B19: 16 | C19: 피복석제거 및 유용(육상수상) | D19: 0.4㎥급 | E19: ㎥ | F19: =G19+H19+I19 -> 18553 | G19: =단가산출!D780 -> 13554 | H19: =단가산출!E780 -> 1363 | I19: =단가산출!F780 -> 3636 | Z19: 18553 | AA19: 13554 | AB19: 1363 | AC19: 3636
B20: 17 | C20: 피복석해상운반 | D20: 0.5㎥급 | E20: ㎥ | F20: =G20+H20+I20 -> 9584 | G20: =단가산출!D845 -> 5131 | H20: =단가산출!E845 -> 1038 | I20: =단가산출!F845 -> 3415 | Z20: 9584 | AA20: 5131 | AB20: 1038 | AC20: 3415
B21: 18 | C21: 해상기중기 예인 및 피예인 | D21: 0.5㎥급 | E21: ㎥ | F21: =G21+H21+I21 -> 2487 | G21: =단가산출!D905 -> 1724 | H21: =단가산출!E905 -> 599 | I21: =단가산출!F905 -> 164 | Z21: 2487 | AA21: 1724 | AB21: 599 | AC21: 164
B22: 19 | C22: 피복석투하(해상수상) | D22: 0.5㎥급, 기중기선25톤 | E22: ㎥ | F22: =G22+H22+I22 -> 14985 | G22: =단가산출!D960 -> 11812 | H22: =단가산출!E960 -> 1196 | I22: =단가산출!F960 -> 1977 | Z22: 14985 | AA22: 11812 | AB22: 1196 | AC22: 1977
B23: 20 | C23: 어초블록운반거치 | D23: 해상수상:20~25톤 | E23: EA | F23: =G23+H23+I23 -> 773106 | G23: =단가산출!D990 -> 574680 | H23: =단가산출!E990 -> 68891 | I23: =단가산출!F990 -> 129535 | Z23: 773106 | AA23: 574680 | AB23: 68891 | AC23: 129535
B24: 21 | C24: 피복석해상운반 | D24: 0.2㎥급 | E24: ㎥ | F24: =G24+H24+I24 -> 9584 | G24: =단가산출!D1173 -> 5131 | H24: =단가산출!E1173 -> 1038 | I24: =단가산출!F1173 -> 3415 | Z24: 9584 | AA24: 5131 | AB24: 1038 | AC24: 3415
B25: 22 | C25: 해상기중기 예인 및 피예인 | D25: 0.2㎥급 | E25: ㎥ | F25: =G25+H25+I25 -> 2354 | G25: =단가산출!D1233 -> 1632 | H25: =단가산출!E1233 -> 567 | I25: =단가산출!F1233 -> 155 | Z25: 2354 | AA25: 1632 | AB25: 567 | AC25: 155
B26: 23 | C26: 피복석투하(해상수상)-품 | D26: 0.3㎥급 | E26: ㎥ | F26: =G26+H26+I26 -> 14608 | G26: =단가산출!D1288 -> 11585 | H26: =단가산출!E1288 -> 1139 | I26: =단가산출!F1288 -> 1884 | Z26: 14608 | AA26: 11585 | AB26: 1139 | AC26: 1884
B27: 24 | C27: 필터사석해상운반(L=6.0km) | D27: 각종, 굴삭기 2.0㎥ | E27: ㎥ | F27: =G27+H27+I27 -> 3887 | G27: =단가산출!D1318 -> 1729 | H27: =단가산출!E1318 -> 1120 | I27: =단가산출!F1318 -> 1038 | Z27: 3887 | AA27: 1729 | AB27: 1120 | AC27: 1038
B28: 25 | C28: 피복석해상운반 | D28: 0.03㎥급 | E28: ㎥ | F28: =G28+H28+I28 -> 9584 | G28: =단가산출!D1377 -> 5131 | H28: =단가산출!E1377 -> 1038 | I28: =단가산출!F1377 -> 3415 | Z28: 9584 | AA28: 5131 | AB28: 1038 | AC28: 3415
B29: 26 | C29: 해상기중기 예인 및 피예인 | D29: 0.03㎥급 | E29: ㎥ | F29: =G29+H29+I29 -> 2268 | G29: =단가산출!D1437 -> 1572 | H29: =단가산출!E1437 -> 546 | I29: =단가산출!F1437 -> 150 | Z29: 2268 | AA29: 1572 | AB29: 546 | AC29: 150
B30: 27 | C30: 피복석해상운반 | D30: 1.0㎥급 | E30: ㎥ | F30: =G30+H30+I30 -> 9584 | G30: =단가산출!D1492 -> 5131 | H30: =단가산출!E1492 -> 1038 | I30: =단가산출!F1492 -> 3415 | Z30: 9584 | AA30: 5131 | AB30: 1038 | AC30: 3415
B31: 28 | C31: 해상기중기 예인 및 피예인 | D31: 1.0㎥급 | E31: ㎥ | F31: =G31+H31+I31 -> 2690 | G31: =단가산출!D1552 -> 1864 | H31: =단가산출!E1552 -> 648 | I31: =단가산출!F1552 -> 178 | Z31: 2690 | AA31: 1864 | AB31: 648 | AC31: 178
B32: 29 | C32: 피복석육상운반(석산→현장) | D32: 0.3㎥급 | E32: ㎥ | F32: =G32+H32+I32 -> 12729 | G32: =단가산출!D1607 -> 6636 | H32: =단가산출!E1607 -> 2945 | I32: =단가산출!F1607 -> 3148 | Z32: 12729 | AA32: 6636 | AB32: 2945 | AC32: 3148
B33: 30 | C33: 사석 선별 | E33: ㎥ | F33: =G33+H33+I33 -> 2765 | G33: =단가산출!D1657 -> 1133 | H33: =단가산출!E1657 -> 991 | I33: =단가산출!F1657 -> 641 | Z33: 2765 | AA33: 1133 | AB33: 991 | AC33: 641
B34: 31 | C34: 육상운반(야적장→현장) | D34: 0.03㎥급이하 | E34: ㎥ | F34: =G34+H34+I34 -> 16308 | G34: =단가산출!D1672 -> 6536 | H34: =단가산출!E1672 -> 5570 | I34: =단가산출!F1672 -> 4202 | Z34: 16308 | AA34: 6536 | AB34: 5570 | AC34: 4202
B35: 32 | C35: 부상토파쇄(중추식10Ton) | E35: ㎥ | F35: =G35+H35+I35 -> 8894 | G35: =단가산출!D1714 -> 6116 | H35: =단가산출!E1714 -> 1469 | I35: =단가산출!F1714 -> 1309 | Z35: 8894 | AA35: 6116 | AB35: 1469 | AC35: 1309
B36: 33 | C36: 부상토굴착(그래브준설선3.0㎥급) | D36: 점토(야적장) | E36: ㎥ | F36: =G36+H36+I36 -> 25690 | G36: =단가산출!D1799 -> 11012 | H36: =단가산출!E1799 -> 7349 | I36: =단가산출!F1799 -> 7329 | Z36: 25690 | AA36: 11012 | AB36: 7349 | AC36: 7329
B37: 34 | C37: 부상토 파쇄 | D37: 부상토 | E37: ㎥ | F37: =G37+H37+I37 -> 1760 | G37: =단가산출!D2018 -> 721 | H37: =단가산출!E2018 -> 631 | I37: =단가산출!F2018 -> 408 | Z37: 1760 | AA37: 721 | AB37: 631 | AC37: 408
B38: 35 | C38: 동치환(외곽호안 1구간) | D38: 치환두께 2.5m이하 | E38: ㎡ | F38: =G38+H38+I38 -> 13940 | G38: =단가산출!D2035 -> 6365 | H38: =단가산출!E2035 -> 3594 | I38: =단가산출!F2035 -> 3981 | Z38: 13940 | AA38: 6365 | AB38: 3594 | AC38: 3981
B39: 36 | C39: 동치환(외곽호안 1구간) | D39: 치환두께 4.0m이하 | E39: ㎡ | F39: =G39+H39+I39 -> 28282 | G39: =단가산출!D2179 -> 12703 | H39: =단가산출!E2179 -> 7160 | I39: =단가산출!F2179 -> 8419 | Z39: 28282 | AA39: 12703 | AB39: 7160 | AC39: 8419
B40: 93 | C40: 동치환(외곽호안 1구간) | D40: 치환두께 9.0m이하 | E40: ㎡ | F40: =G40+H40+I40 -> 38974 | G40: =단가산출!D2351 -> 17457 | H40: =단가산출!E2351 -> 9821 | I40: =단가산출!F2351 -> 11696
B41: 94 | C41: 동치환(서측분리 2구간) | D41: 치환두께 8.0m이하 | E41: ㎡ | F41: =G41+H41+I41 -> 38619 | G41: =단가산출!D2525 -> 17289 | H41: =단가산출!E2525 -> 9730 | I41: =단가산출!F2525 -> 11600
...

Sheet 단가산출
B1: 단가산출
B3: 산 출 근 거 | C3: 합 계 | D3: 노무비 | E3: 재료비 | F3: 경 비
B4: 1.사석해상운반(L=6.0km)(각종, 굴삭기 2.0㎥)[㎥] | C4: 4687 | D4: 2201 | E4: 1120 | F4: 1366
B6: qr = 675㎥ {대선적재능력} rt = 2.60Ton/㎥ {자연상태토석의 단위중량}
B7: Td = 24Ton {덤프트럭의 적재중량} ts = 4.1분 {덤프트럭의 대선적하시간}
B8: Es = 0.9 {덤프트럭의 작업효율} L = 1.85 {체적변화율}
B9: L1 = 6.0km {해상운반거리} E = 0.80 {해상작업효율}
B10: Va = 5.5km/hr {적재시의 예선속도} Vb = 9.3km/hr {공선시의 예선속도}
B11: qm = 2.00㎥ {투하장비 버킷용량} Vc = 12.9km/hr {독항시의 예선속도}
B12: fm = 0.9 {체적환산계수} k = 0.55 {버킷계수}
B13: Cm = 25초 {1회 사이클시간} T = 60분
B14: t = 35분 {접·이안, 투·인묘시간} tb = 15분 {접·이안시간}
B15: Em = 0.45 {투하장비 작업효율}
B17: 가. 해상 운반 (대선(1,500Ton))
B19: q1 = Td/rt×L = 17.08 {흐트러진상태의 1회 적재량}
... B40: 경 비 : 46,532 ÷ 41.18 = 1,129
B41: 소 계 : 2,754 | C41: =D41+E41+F41 -> 2754 | D41: 1625 | F41: 1129
B43: 나. 대선 예인 (예선 (597kW))
B45: T
B46: N = ───────────── = 0.43회/hr
B47: ((L1/Va)+(L1/Vb))·60 +t
B49: Q = N×qr×E = 232.2 ㎥/hr
B51: 노무비 : 133,871 ÷ 232.2 = 576
B52: 재료비 : 260,177 ÷ 232.2 = 1,120
B53: 경 비 : 55,149 ÷ 232.2 = 237
B54: 소 계 : 1,933 | C54: =D54+E54+F54 -> 1933 | D54: 576 | E54: 1120 | F54: 237
B56: 다. 합 계
B58: 노무비 : 1,625 + 576 = 2,201
B59: 재료비 : 1,120
B60: 경 비 : 1,129 + 237 = 1,366
B61: 계 : 4,687 | C61: =D61+E61+F61 -> 4687 | D61: 2201 | E61: 1120 | F61: 1366
B63: 2.사석육상운반(석산→현장)(0.03㎥급이하)[㎥] | C63: 7556 | D63: 3057 | E63: 2534 | F63: 1965
B65: ■ 덤프트럭(자동덮개)(24Ton)
B67: 석산 L1=0.6km 석산 L2=0.6km 율 촌 L3=4.0km 현장 L4=1.2km 현장
B68: ◎───────◎────────◎─────────◎─────────◎
B69: V11=7km/hr 입구 V21=30km/hr 교차로 V31=35km/hr 입구 V41=15km/hr
B70: V12=8km/hr V22=35km/hr V32=35km/hr V42=20km/hr
B72: T = 24Ton rt = 2.6Ton/㎥ L = 1.85
B74: q = T/rt×L = 17.08㎥ f = 0.9 E = 0.90
B76: ☞ 백호관련 : qt = 2.0㎥ K = 0.55 Cms = 27초(135˚) Es = 0.45
...
