Workbook
Name \a: #REF!
Name \c: #REF!
Name \l: #REF!
Name \m: #REF!
Name \q: #REF!
Name \x: #REF!
Name \z: #REF!
Name A: #REF!
Name aa: #REF!
Name ap_s_t: #REF!
Name b: #REF!
Name B5B: [2]교각1!#REF!
Name B6B: [2]교각1!#REF!
Name B7B: [2]교각1!#REF!
Name BOM_OF_ECP: #REF!
Name Bust: #REF!
Name CCC: #REF!
Name Continue: #REF!
Name COPING_L: '[3]COPING-1'!#REF!
Name COPING_W: '[3]COPING-1'!#REF!
Name d: #REF!
Name d: #REF!
Name d: #REF!
Name d: #REF!
Name d: #REF!
Name d: #REF!
Name d: #REF!
Name ddd: #REF!
Name DIA: [2]교각1!#REF!
Name Document_array: {"Book1"}
Name Documents_array: #REF!
Name ee: [4]일위대가!#REF!
Name F1F: [2]교각1!#REF!
Name F2F: [2]교각1!#REF!
Name F3F: [2]교각1!#REF!
Name FEEL: #REF!
Name FN: [2]교각1!#REF!
Name ford2: '[3]역T형교대-2수량'!#REF!
Name Hello: #REF!
Name HH: [2]교각1!#REF!
Name HS: [2]교각1!#REF!
Name I: #REF!
Name l: #REF!
Name Macro1: '[5]ⴭⴭⴭⴭ'!Macro1
Name Macro1: '[5]ⴭⴭⴭⴭ'!Macro1
Name Macro1: '[5]ⴭⴭⴭⴭ'!Macro1
Name Macro1: '[5]ⴭⴭⴭⴭ'!Macro1
Name Macro1: '[5]ⴭⴭⴭⴭ'!Macro1
Name Macro1: '[5]ⴭⴭⴭⴭ'!Macro1
Name Macro1: '[5]ⴭⴭⴭⴭ'!Macro1
Name Macro1: '[5]ⴭⴭⴭⴭ'!Macro1
Name Macro1: '[5]ⴭⴭⴭⴭ'!Macro1
Name Macro1: '[5]ⴭⴭⴭⴭ'!Macro1
Name Macro1: '[5]ⴭⴭⴭⴭ'!Macro1
Name Macro1: '[5]ⴭⴭⴭⴭ'!Macro1
Name Macro1: '[5]ⴭⴭⴭⴭ'!Macro1
Name Macro1: '[5]ⴭⴭⴭⴭ'!Macro1
Name Macro1: '[5]ⴭⴭⴭⴭ'!Macro1
Name Macro1: '[5]ⴭⴭⴭⴭ'!Macro1
Name Macro1: '[5]ⴭⴭⴭⴭ'!Macro1

Sheet 기초자료
A1: 기초자료
A2: 사업명 | C2: 2026년 칡덩굴제거사업
A3: 설계자 | C3: (유)보람 | D3: 송지수
A4: 발주처 | C4: 신안군수
A5: 설계대상지
A6: 대상지 | B6: 총괄 | C6: 전남 신안군 장산면 대리 산23임 외 206필지
A7: 설계 기초 단가
A8: 항목 | B8: 종류 | C8: 금액
A9: 노임 | B9: 보통인부 | C9: =노임단가등!B4 -> 172068
B10: 특별인부 | C10: =노임단가등!B5 -> 226122
B11: 조경공
A12: 자재대 | B12: 배부식분무기 | C12: 280000
B13: 동력예취기 | C13: 400000 | E13: 2026년 5월1주~4주
B14: 휘발유 | C14: 1828 | E14: 2011.22
B15: 경유 | E15: 2011.75
B16: 페인트 | C16: 5194 | E16: 2011.33
B17: 하늘아래 | C17: 17600 | E17: 2011.06
E18: =SUM(E14:E17)/4 -> 2011.34
E19: =E18/1.1 -> 1828.4909
A20: 할증요소 | B20: 집단화정도 | C20: 0

Sheet 간지
A2: =기초자료!C2 -> 2026년 칡덩굴제거사업
A6: 2026. .
A9: 신안군
B14: 1. | C14: 설계설명서
C16: 가) | D16: 설계설명서
C17: 나) | D17: 예정공정표
C18: 다) | D18: 공정별 소요인원
B24: 2. | C24: 시 방 서
C26: 가) | D26: 일반 시방서
C27: 나) | D27: 특별 시방서
C28: 다) | D28: 전문 시방서
B34: 3. | C34: 임소반 구분
C36: 가) | D36: 덩굴류제거사업 필지조서
C37: 나) | D37: 덩굴류제거사업 표준지좌표
B43: 4. | C43: 설계내역서
C45: 가) | D45: 공사원가 계산서
C46: 나) | D46: 총괄설계 내역서
C47: 다) | D47: ha당 단가산출내역서
B54: 5. | C54: 소반별 시방서
C56: 가) | D56: 소반별 시방서
B64: 6. | C64: 공사원가계산 제비율 및
C65: 품셈적용기준
B73: 7. | C73: 증빙서류
C75: 가) | D75: 엔지니어링 사무소 등록증 사본
C76: 나) | D76: 사업자 등록증 사본
C77: 다) | D77: 산림경영기술자자격증 사본
B83: 6. | C83: 기타
D84: (적용단가 및 견적서 등)
C93: 덩굴류제거 표준지조사야장

Sheet 속지
B5: 가) | C5: 현장사진
B15: 나) | C15: 설계설명서
B25: 다) | C25: 예정공정표
B35: 라) | C35: 공정별소요인원
B45: 가) | C45: 일반시방서
B55: 나) | C55: 특별시방서
B65: 다) | C65: 전문시방서
B75: 가) | C75: 덩굴류제거사업 필지조서
B85: 나) | C85: 덩굴류제거사업 표준지좌표
B95: 가) | C95: 공사원가계산서
B105: 나) | C105: 총괄설계내역서
B115: 다) | C115: ha당 단가산출내역서
B125: 가) | C125: 소반별시방서

Sheet 표지설계서
A1: 2026년 월 일 | B1: 설계자 | D1: 심사자 | F1: 담당자 | H1: 팀 장 | J1: 과 장
A4: =+기초자료!C2 -> 2026년 칡덩굴제거사업
B6: ○ | C6: 소재지: | D6: =+기초자료!C6 -> 전남 신안군 장산면 대리 산23임 외 206필지
B8: ○ | C8: 면 적: | D8: =필지별조서!H281 -> 39.63 | E8: ha | F8: (덩굴류제거 - 덩굴걷기 | J8: =총괄내역서!C4+총괄내역서!C6+총괄내역서!C7+총괄내역서!C8+총괄내역서!C9 -> 22.96
F9: (덩굴류제거 - 약제처리 | J9: =총괄내역서!C5 -> 16.67
B11: ○ | C11: 사업기간: | D11: =예정공정표!V4 -> 60일 | E11: 일
B13: ○ | C13: 공사비: | D13: =+TEXT((NUMBERSTRING(I13,1)),"일금 @원정") -> 일금 영원정 | I13: =공사원가계산서!D26 -> 0
C14: - 총 원 가 : | D14: =+TEXT((NUMBERSTRING(I14,1)),"일금 @원정") -> 일금 영원정 | I14: =+공사원가계산서!D24 -> 0
C15: - 부 가 세 : | D15: =+TEXT((NUMBERSTRING(I15,1)),"일금 @원정") -> 일금 영원정 | I15: =+공사원가계산서!D25 -> 0
B18: ○ | C18: 설계자: | D18: =+기초자료!C3 -> (유)보람 | F18: 산림경영기술자 기술고급 | J18: =+기초자료!D3 -> 송지수
I20: =+기초자료!C4 -> 신안군수

Sheet 목차
A2: 목 차
C4: 1.설계설명서 | I4: 5. 소반별 시방서
C6: 가) 현장사진 | I6: 가) 소반별 시방서
C7: 나) 설계설명서
C8: 다) 예정공정표
C9: 라) 공정별소요인원
C10: 2. 시 방 서 | I10: 6. 기타(적용단가 및 견적서등)
C12: 가) 일반시방서
C13: 나) 특별시방서
C14: 다) 전문시방서
C16: 3. 임소반 구분
C18: 가) 덩굴류제거사업 필지조서
C19: 나) 덩굴류제거사업 표준지좌표
C23: 4. 설계내역서
C25: 가) 공사원가 계산서
C26: 나) 총괄설계내역서
C27: 다) ha당 단가산출내역서

Sheet 설계사진
A1: 현 장 사 진

Sheet 설계설명서
A2: 설 계 설 명 서
B4: 1. 사 업 명 | D4: =+표지설계서!A4 -> 2026년 칡덩굴제거사업
B6: 2. 소 재 지 | D6: =+표지설계서!D6 -> 전남 신안군 장산면 대리 산23임 외 206필지
B8: 3. 면 적 | D8: =+표지설계서!D8 -> 39.63 | E8: ha | F8: =표지설계서!F8 -> (덩굴류제거 - 덩굴걷기 | I8: =표지설계서!J8 -> 22.96
F9: =표지설계서!F9 -> (덩굴류제거 - 약제처리 | I9: =표지설계서!J9 -> 16.67
B11: 4. 작 업 기 간 | D11: 착수일부터 | E11: =+예정공정표!V4&"일 까지" -> 60일일 까지
B13: 5. 현 장 설 명
B14: ① 입 지 여 건 | D14: 사업지는 신안군 장산면 일원에 분포하고 있고, 도로,작업로, 마을과 연접하여 접근성은 양호한 편임.
B15: ② 지 황 | D15: 산지경사는 평균경사는 완이며, 방위는 동향,북향, 남향, 북향의 임지가 산재해 있다.
B17: 6. 설 계 목 적 | D17: 덩굴류제거사업을 통해 입목성장에 피해를 주는 덩굴을 능률적이고 효과적으로 제거하여 산림피해를 예방하고 경관적으로
D18: 쾌적한 환경을 조성하고자 한다.
B23: 7. 임소반 구획 | D23: 임반은 면별로 구획. 소반은 작업종 기타 임지의 상황에 따라 소반을 구획한다.
B25: 8. 작 업 방 법 | D25: ○ 본 품에는 덩굴걷기,약제처리 품을 적용한다.
B29: 9. 실시설계 표준지 선정 및 조사 | D29: ○ 표준지 조사비율은 사업면적의 0.5%로 한다.
D30: ○ 표준지 크기는 100㎡(반지름5.67m 원형)로 한다.
D31: (원형 표준지)표준지 중앙부에 임업용 황색 마킹테이프를 2겹으로 둘러서 표시한다.
D32: ○ 표준지는 산복, 산록부에 고르게 배치하였다.
B34: 10. 단가적용기준 | D34: ○ 사업비산출기준은 '덩굴류제거 설계-감리 및 사업시행지침'을 적용한다.
D35: ○ 노임단가는 대한건설협회에서 2026년 상반기에 공포한 시중 노임단가를 적용한다.
B37: 11. 설계기준 및 변경조건 | D37: ○ 설계단가는 사업면적, 작업량, 작업장 난이도에 따라 차등적용하였으므로 상기항목이 변동될 경우에는 설계변경을
D38: 실시한다.

Sheet 예정공정표
A2: 예 정 공 정 표
A4: =기초자료!C2 -> 2026년 칡덩굴제거사업 | V4: =O7 -> 60일
A6: 기 간 사업종 | D6: 공사기간 | V6: 비고
D7: 5일 | E7: 10일 | F7: 15일 | G7: 20일 | H7: 25일 | I7: 30일 | J7: 35일 | K7: 40일 | L7: 45일 | M7: 50일 | N7: 55일 | O7: 60일 | R7: 50
A8: 설계서검토
D10: 2 | J10: 2 | N10: 2 | R10: 2
A11: 덩굴걷기 | V11: ='공정별 소요인원'!E27-V20 -> 97
A13: ='공정별 소요인원'!F25 -> 10.1 | B13: × | C13: =SUM(D13:M13) -> 50 | D13: 5 | E13: 5 | F13: 5 | G13: 5 | H13: 5 | I13: 5 | J13: 5 | K13: 5 | L13: 5 | M13: 5 | N13: 5 | R13: 3
A14: 약제처리 | V14: ='공정별 소요인원'!G27+'공정별 소요인원'!I27 -> 59
A16: ='공정별 소요인원'!H25 -> 0.43636364 | B16: × | C16: =SUM(D16,E16,H16,I16,J16,K16,L16) -> 10 | D16: 5 | E16: 5 | P16: 5 | R16: 5 | T16: 5
A17: 배 부 식 약 제 처 리 | V17: ='공정별 소요인원'!G27 -> 24
A19: ='공정별 소요인원'!G26 -> 0.43636364 | B19: × | C19: =SUM(D19:H19) -> 15 | D19: 5 | F19: 5 | H19: 5 | I19: 5 | J19: 5 | L19: 5 | N19: 5 | P19: 5 | R19: 5 | T19: 5
A20: 작업장정리및보완 | V20: ='공정별 소요인원'!K28 -> 4
A22: ='공정별 소요인원'!J26 -> 0 | B22: × | C22: =SUM(K22) -> 0 | O22: 5 | T22: 5
V24: =V14+V20 -> 63

Sheet 공정별 소요인원
A1: 공정별 소요인원 검토내역
L2: 금액: 원, 인원: 인
A3: 임소반 | B3: 작업면적 (ha) | C3: 경계표시 | E3: 덩굴류제거-덩굴걷기 | G3: 덩굴류제거-약제처리(특별) | I3: 덩굴류제거-약제처리(보통) | K3: 합 계 | L3: 작업장 정리
C4: =[20]뿌리굴취!I7 -> 172068 | E4: =노임단가등!B5 -> 226122 | G4: =노임단가등!B5 -> 226122 | I4: =노임단가등!B4 -> 172068
C5: ha당 | D5: 소반 | E5: ha당 | F5: 소반 | G5: ha당 | H5: 소반 | I5: ha당 | J5: 소반
A6: =총괄내역서!A4 -> 1-0-1 | B6: =총괄내역서!C4 -> 4.52 | D6: =ROUND(+$B6*C6,0) -> 0 | E6: ='[21]단산(덩굴걷기)'!$K$16 -> 1056672 | F6: =INT(($B6*E6)) -> 4776157 | K6: =D6+F6+H6 -> 4776157
A7: =총괄내역서!A5 -> 1-0-2 | B7: =총괄내역서!C5 -> 16.67 | G7: ='[22]단산(약제살포)'!$K$16 -> 320203 | H7: =INT(($B7*G7)) -> 5337784 | I7: ='[22]단산(약제살포)'!$K$17 -> 362665 | J7: =INT(($B7*I7)) -> 6045625 | K7: =D7+F7+H7 -> 5337784
A8: =총괄내역서!A6 -> 1-0-3 | B8: =총괄내역서!C6 -> 0.43 | E8: ='[23]단산(덩굴걷기)'!$K$16 -> 943457 | F8: =INT(($B8*E8)) -> 405686 | K8: =D8+F8+H8 -> 405686
A9: =총괄내역서!A7 -> 1-0-4 | B9: =총괄내역서!C7 -> 5.68 | E9: ='[24]단산(덩굴걷기)'!$K$16 -> 1056672 | F9: =INT(($B9*E9)) -> 6001896 | K9: =D9+F9+H9 -> 6001896
A10: =총괄내역서!A8 -> 1-0-5 | B10: =총괄내역서!C8 -> 8.8 | E10: ='[25]단산(덩굴걷기)'!$K$16 -> 943457 | F10: =INT(($B10*E10)) -> 8302421 | K10: =D10+F10+H10 -> 8302421
A11: =총괄내역서!A9 -> 1-0-6 | B11: =총괄내역서!C9 -> 3.53 | E11: ='[26]단산(덩굴걷기)'!$K$16 -> 943457 | F11: =INT(($B11*E11)) -> 3330403 | K11: =D11+F11+H11 -> 3330403
A12: =[20]내역서!A10 -> 0 | B12: =[20]내역서!B10 -> 0 | E12: ='[20]2-4'!M27 -> 0 | F12: =INT(($B12*E12)) -> 0 | K12: =D12+F12+H12 -> 0
A13: =[20]내역서!A11 -> 0 | B13: =[20]내역서!B11 -> 0 | E13: ='[20]2-5'!M27 -> 0 | F13: =INT(($B13*E13)) -> 0 | H13: =ROUND(+$B13*G13,0) -> 0 | J13: =ROUND(+$B13*I13,0) -> 0 | K13: =D13+F13+H13 -> 0
A14: =[20]내역서!A12 -> 0 | B14: =[20]내역서!B12 -> 0 | E14: ='[20]4-1'!M27 -> 0 | F14: =INT(($B14*E14)) -> 0 | K14: =D14+F14+H14 -> 0
A15: =[20]내역서!A13 -> 0 | B15: =[20]내역서!B13 -> 0 | E15: ='[20]4-2'!M27 -> 0 | F15: =INT(($B15*E15)) -> 0 | K15: =D15+F15+H15 -> 0
A16: =[20]내역서!A14 -> 0 | B16: =[20]내역서!B14 -> 0 | E16: ='[20]5-1'!M27 -> 0 | F16: =INT(($B16*E16)) -> 0 | K16: =D16+F16+H16 -> 0
A17: =[20]내역서!A15 -> 0 | B17: =[20]내역서!B15 -> 0 | E17: ='[20]6-1'!M27 -> 0 | F17: =INT(($B17*E17)) -> 0 | K17: =D17+F17+H17 -> 0
A18: =[20]내역서!A16 -> 0 | B18: =[20]내역서!B16 -> 0 | E18: ='[20]6-2'!M27 -> 0 | F18: =INT(($B18*E18)) -> 0 | K18: =D18+F18+H18 -> 0
B19: =[20]내역서!B17 -> 0 | K19: =D19+F19+H19 -> 0
B20: =[20]내역서!B18 -> 0 | K20: =D20+F20+H20 -> 0
K21: =D21+F21+H21 -> 0
A22: 계 | B22: =SUM(B6:B21) -> 39.63 | D22: =+SUM(D6:D21) -> 0 | F22: =+SUM(F6:F21) -> 22816563 | H22: =+SUM(H6:H21) -> 5337784 | J22: =+SUM(J6:J21) -> 6045625 | K22: =+SUM(K6:K21) -> 28154347
A23: 설계내역 소요인원(1) | C23: =ROUND(+D22/C4,0) -> 0 | E23: =ROUND(+F22/E4,0) -> 101 | G23: =ROUND(+H22/G4,0) -> 24 | I23: =ROUND(+J22/I4,0) -> 35 | K23: =E23+G23+I23 -> 160 | L23: =+K28 -> 4
A24: 일수, 일일소요인원 | C24: 일 수 | D24: 인 원 | E24: 일 수 | F24: 인 원 | G24: 일 수 | H24: 인 원 | I24: 일 수 | J24: 인 원 | L24: 일 수 | M24: 인 원
C25: 3 | D25: =+C23/C25 -> 0 | E25: 10 | F25: =+E23/E25 -> 10.1 | G25: 55 | H25: =+G23/G25 -> 0.43636364 | I25: 55 | J25: =+I23/I25 -> 0.63636364 | L25: 5 | M25: =+K28/L25 -> 0.8
A26: 공정별 일일 적용인원 | C26: =+IF(D25=0,0,IF(D25<1,1,(IF(D25>1,ROUNDDOWN(D25,0))))) -> 0 | E26: =F25 -> 10.1 | G26: =H25 -> 0.43636364 | I26: =J25 -> 0.63636364 | L26: =+M25 -> 0.8
A27: 공정별 적용 소요인원(2) | C27: =+C25*C26 -> 0 | E27: =E25*E26 -> 101 | G27: =G25*G26 -> 24 | I27: =I25*I26 -> 35 | K27: =E27+G27+I27-K28 -> 156 | L27: =+L25*L26 -> 4
A28: 공정별 남는인원(1) - (2) | C28: =+C23-C27 -> 0 | E28: =+E23-E27 -> 0 | G28: =+G23-G27 -> 0 | I28: =+I23-I27 -> 0 | K28: 4 | L28: 0
D32: =C26 -> 0 | K32: 169804 | L32: 172068
K33: 221506 | L33: 226122 | M33: =ROUND(L33*1.5,0) -> 339183
L34: =L32+M33 -> 511251
K35: =SUM(K32:K33)/2 -> 195655

Sheet 시방서
A1: 일 반 시 방 서
A3: 1. 적용범위
A4: 가. 숲가꾸기사업은 계약서, 설계도서, 입찰유의서, 계약일반조건, 계약 특수조건 등 계약 문서에 의하여 시행하여야 하며, 본 계약문서에
A5: 규정하지 않은 사항은 아래의 각 시방서의 규정에 따라 시공하고 이 시방서에 규정되지 아니한 사항에 대하여는 산림청 제정 '지속가능한
A6: 산림자원관리지침(2020. 06. 15 훈령 제1,454호) 에 의한다.
A7: 나. 본 시방서는 작업의 일반사항을 위한 것이며 기술적인 사항은 특별시방서와 전문시방서에 의한다.
A8: 다. 일반시방서의 내용과 특별시방서의 내용이 서로 상이할 경우에는 특별시방서를 우선으로 하며 도면과 시방서가 상이할 경우에는 도면을
A9: 우선으로 하되 도면이 오류나 누락 등으로 모순이 있을 경우에는 발주처장, 감독자와 시공자가 상호 협의하여 결정하여야 한다.
A10: 라. 일반 및 특별시방서에 명기된 내용 이외에 특별한 작업종 및 숲가꾸기사업의 품질향상을 위하여 필요한 사항은 발주처장과 협의하여 시행하
A11: 여야 한다.
A13: 2. 용어의 정의
A14: 가. 계 약 서 : 도급계약서와 계약조건, 설계내역서, 설계도서, 시방서 등 기타 이것을 보충하는 서류를 말한다.
... A337: o 뽑거나 자른 뿌리와 주두부는 구덩이 위에 놓아 작업결과를 확인할 수 있도록 한다.

Sheet 필지별조서
A1: 2026년 칡덩굴제거사업 필지별조서
A3: 임소반 | C3: 위 치 | F3: 지 목 | G3: 지적 (ha) | H3: 사업면적 (ha) | I3: 사 업 종 | L3: 본수 | N3: 덩굴약제처리(약제살포) | T3: 비 고
C4: 읍,면 | D4: 리 | E4: 지번
I5: 덩굴걷기 | J5: 뿌리굴취 | K5: 약제처리 | L5: ha당본수 | M5: 총본수 | N5: 면적(ha) | O5: ha본수 | P5: 총본수
A11: 소계 | E11: =COUNTA(E6:E10) -> 0 | G11: =SUM(#REF!) -> #REF! | H11: =SUM(H6:H10) -> 0 | I11: =SUM(I6:I10) -> 0 | J11: =SUM(J6:J10) -> 0 | K11: =SUM(K6:K10) -> 0 | L11: =표준지좌표!#REF! -> #REF! | M11: =표준지좌표!#REF! -> #REF!
A12: 1-0-1 | C12: 장산 | D12: 대리 | E12: 산23 | H12: 0.13 | I12: =H12 -> 0.13
C13: 장산 | D13: 대리 | E13: 산31-1 | H13: 0.06 | I13: =H13 -> 0.06
C14: 장산 | D14: 대리 | E14: 산34 | H14: 0.08 | I14: =H14 -> 0.08
C15: 장산 | D15: 대리 | E15: 산32 | H15: 0.09 | I15: =H15 -> 0.09
C16: 장산 | D16: 대리 | E16: 산53 | H16: 0.12 | I16: =H16 -> 0.12
C17: 장산 | D17: 대리 | E17: 626-1 | H17: 0.13 | I17: =H17 -> 0.13
C18: 장산 | D18: 대리 | E18: 626 | H18: 0.36 | I18: =H18 -> 0.36
C19: 장산 | D19: 대리 | E19: 산65-1 | H19: 0.07 | I19: =H19 -> 0.07
C20: 장산 | D20: 대리 | E20: 산50 | H20: 0.15 | I20: =H20 -> 0.15
C21: 장산 | D21: 대리 | E21: 산67 | H21: 0.06 | I21: =H21 -> 0.06
C22: 장산 | D22: 대리 | E22: 산66 | H22: 0.03 | I22: =H22 -> 0.03
C23: 장산 | D23: 대리 | E23: 산65-4 | H23: 0.03 | I23: =H23 -> 0.03
C24: 장산 | D24: 대리 | E24: 산65-6 | H24: 0.08 | I24: =H24 -> 0.08
C25: 장산 | D25: 대리 | E25: 산42-8 | H25: 0.84 | I25: =H25 -> 0.84
C26: 장산 | D26: 대리 | E26: 산42-34 | H26: 0.03 | I26: =H26 -> 0.03
C27: 장산 | D27: 대리 | E27: 산42-45 | H27: 0.15 | I27: =H27 -> 0.15
C28: 장산 | D28: 대리 | E28: 산42-9 | H28: 0.08 | I28: =H28 -> 0.08
C29: 장산 | D29: 대리 | E29: 산42-43 | H29: 0.14 | I29: =H29 -> 0.14
C30: 장산 | D30: 공수 | E30: 20-17 | H30: 0.09 | I30: =H30 -> 0.09
... C32: 장산 | D32: 공수 | E32: 20-40 | H32: 0.16 | I32: =H32 -> 0.16
C33: 장산 | D33: 공수 | E33: 1015 | H33: 0.66 | I33: =H33 -> 0.66
C34: 장산 | D34: 공수 | E34: 25-7 | H34: 0.03 | I34: =H34 -> 0.03
C35: 장산 | D35: 공수 | E35: 25-6 | H35: 0.31 | I35: =H35 -> 0.31
C36: 장산 | D36: 공수 | E36: 25-16 | H36: 0.04 | I36: =H36 -> 0.04
C37: 장산 | D37: 공수 | E37: 25-9 | H37: 0.07 | I37: =H37 -> 0.07
A38: 소계 | E38: =COUNTA(E12:E37) -> 26 | G38: =SUM(#REF!) -> #REF! | H38: =SUM(H12:H37) -> 4.52 | I38: =SUM(I12:I37) -> 4.52 | J38: =SUM(J10:J37) -> 0 | K38: =SUM(K10:K37) -> 0
A39: 1-0-2 | C39: 장산 | D39: 다수 | E39: 산101-187 | H39: 0.17 | K39: =H39 -> 0.17
C40: 장산 | D40: 다수 | E40: 455-6 | H40: 0.06 | K40: =H40 -> 0.06
C41: 장산 | D41: 다수 | E41: 산101-13 | H41: 0.12 | K41: =H41 -> 0.12
C42: 장산 | D42: 다수 | E42: 454 | H42: 0.14 | K42: =H42 -> 0.14
C43: 장산 | D43: 다수 | E43: 453 | H43: 0.08 | K43: =H43 -> 0.08
C44: 장산 | D44: 다수 | E44: 산101-168 | H44: 0.08 | K44: =H44 -> 0.08
C45: 장산 | D45: 다수 | E45: 455-2 | H45: 0.07 | K45: =H45 -> 0.07
C46: 장산 | D46: 다수 | E46: 455-3 | H46: 0.06 | K46: =H46 -> 0.06
C47: 장산 | D47: 다수 | E47: 455-4 | H47: 0.11 | K47: =H47 -> 0.11
C48: 장산 | D48: 다수 | E48: 455-7 | H48: 0.03 | K48: =H48 -> 0.03
C49: 장산 | D49: 다수 | E49: 455-9 | H49: 0.03 | K49: =H49 -> 0.03
C50: 장산 | D50: 다수 | E50: 산101-186 | H50: 0.27 | K50: =H50 -> 0.27
C51: 장산 | D51: 다수 | E51: 산101-6 | H51: 0.23 | K51: =H51 -> 0.23
C52: 장산 | D52: 다수 | E52: 산91 | H52: 0.09 | K52: =H52 -> 0.09
C53: 장산 | D53: 다수 | E53: 455 | H53: 0.14 | K53: =H53 -> 0.14
C54: 장산 | D54: 다수 | E54: 456 | H54: 0.12 | K54: =H54 -> 0.12
A55: 1-0-2 | C55: 장산 | D55: 다수 | E55: 457 | H55: 0.15 | K55: =H55 -> 0.15
C56: 장산 | D56: 다수 | E56: 459 | H56: 0.14 | K56: =H56 -> 0.14
C57: 장산 | D57: 다수 | E57: 산92-1 | H57: 0.06 | K57: =H57 -> 0.06
C58: 장산 | D58: 다수 | E58: 466 | H58: 0.1 | K58: =H58 -> 0.1
C59: 장산 | D59: 다수 | E59: 466-14 | H59: 0.06 | K59: =H59 -> 0.06
C60: 장산 | D60: 다수 | E60: 466-2 | H60: 0.15 | K60: =H60 -> 0.15
C61: 장산 | D61: 다수 | E61: 466-9 | H61: 0.09 | K61: =H61 -> 0.09
C62: 장산 | D62: 다수 | E62: 466-11 | H62: 0.06 | K62: =H62 -> 0.06
C63: 장산 | D63: 다수 | E63: 468-1 | H63: 0.06 | K63: =H63 -> 0.06
C64: 장산 | D64: 다수 | E64: 466-1 | H64: 0.19 | K64: =H64 -> 0.19
C65: 장산 | D65: 다수 | E65: 466-5 | H65: 0.03 | K65: =H65 -> 0.03
C66: 장산 | D66: 다수 | E66: 466-15 | H66: 0.03 | K66: =H66 -> 0.03
C67: 장산 | D67: 다수 | E67: 466-3 | H67: 0.1 | K67: =H67 -> 0.1
C68: 장산 | D68: 다수 | E68: 466-7 | H68: 0.04 | K68: =H68 -> 0.04
C69: 장산 | D69: 다수 | E69: 산98 | H69: 0.18 | K69: =H69 -> 0.18
C70: 장산 | D70: 다수 | E70: 466-4 | H70: 0.03 | K70: =H70 -> 0.03
... C78: 장산 | D78: 다수 | E78: 478-1 | H78: 0.42 | K78: =H78 -> 0.42
C79: 장산 | D79: 다수 | E79: 478 | H79: 0.05 | K79: =H79 -> 0.05
C80: 장산 | D80: 다수 | E80: 481-2 | H80: 0.09 | K80: =H80 -> 0.09
C81: 장산 | D81: 다수 | E81: 산97-2 | H81: 0.05 | K81: =H81 -> 0.05
C82: 장산 | D82: 다수 | E82: 479 | H82: 0.22 | K82: =H82 -> 0.22
C83: 장산 | D83: 다수 | E83: 산73-3 | H83: 0.04 | K83: =H83 -> 0.04
C84: 장산 | D84: 다수 | E84: 479-1 | H84: 0.22 | K84: =H84 -> 0.22
C85: 장산 | D85: 다수 | E85: 409 | H85: 0.18 | K85: =H85 -> 0.18
C86: 장산 | D86: 다수 | E86: 산73-1 | H86: 0.09 | K86: =H86 -> 0.09
C87: 장산 | D87: 다수 | E87: 411 | H87: 0.1 | K87: =H87 -> 0.1
C88: 장산 | D88: 다수 | E88: 산71-1 | H88: 0.09 | K88: =H88 -> 0.09
C89: 장산 | D89: 다수 | E89: 412 | H89: 0.21 | K89: =H89 -> 0.21
C90: 장산 | D90: 다수 | E90: 410-1 | H90: 0.12 | K90: =H90 -> 0.12
C91: 장산 | D91: 다수 | E91: 산89 | H91: 1.14 | K91: =H91 -> 1.14
C92: 장산 | D92: 다수 | E92: 산88 | H92: 0.17 | K92: =H92 -> 0.17
C93: 장산 | D93: 다수 | E93: 산101-14 | H93: 0.42 | K93: =H93 -> 0.42
C94: 장산 | D94: 다수 | E94: 산86 | H94: 0.14 | K94: =H94 -> 0.14
C95: 장산 | D95: 다수 | E95: 산86-1 | H95: 0.32 | K95: =H95 -> 0.32
C96: 장산 | D96: 다수 | E96: 649 | H96: 0.2 | K96: =H96 -> 0.2
C97: 장산 | D97: 다수 | E97: 662-6 | H97: 0.16 | K97: =H97 -> 0.16
C98: 장산 | D98: 다수 | E98: 산101-84 | H98: 0.14 | K98: =H98 -> 0.14
C99: 장산 | D99: 다수 | E99: 649-1 | H99: 0.07 | K99: =H99 -> 0.07
C100: 장산 | D100: 다수 | E100: 산10-16 | H100: 0.17 | K100: =H100 -> 0.17
A101: 1-0-2 | C101: 장산 | D101: 다수 | E101: 662-5 | H101: 0.15 | K101: =H101 -> 0.15
C102: 장산 | D102: 다수 | E102: 662-7 | H102: 0.05 | K102: =H102 -> 0.05
C103: 장산 | D103: 다수 | E103: 662-3 | H103: 0.08 | K103: =H103 -> 0.08
C104: 장산 | D104: 다수 | E104: 662-2 | H104: 0.13 | K104: =H104 -> 0.13
C105: 장산 | D105: 다수 | E105: 산85 | H105: 0.16 | K105: =H105 -> 0.16
C106: 장산 | D106: 다수 | E106: 662-4 | H106: 0.25 | K106: =H106 -> 0.25
C107: 장산 | D107: 다수 | E107: 659 | H107: 0.21 | K107: =H107 -> 0.21
C108: 장산 | D108: 다수 | E108: 660 | H108: 0.06 | K108: =H108 -> 0.06
C109: 장산 | D109: 다수 | E109: 661 | H109: 0.07 | K109: =H109 -> 0.07
C110: 장산 | D110: 다수 | E110: 산101-91 | H110: 0.06 | K110: =H110 -> 0.06
C111: 장산 | D111: 다수 | E111: 산101-24 | H111: 0.31 | K111: =H111 -> 0.31
C112: 장산 | D112: 다수 | E112: 664-7 | H112: 0.1 | K112: =H112 -> 0.1
C113: 장산 | D113: 다수 | E113: 산101-75 | H113: 0.12 | K113: =H113 -> 0.12
C114: 장산 | D114: 다수 | E114: 664-5 | H114: 0.23 | K114: =H114 -> 0.23
...

Sheet 표준지좌표
A1: 표준지 GPS 좌표, 덩굴류제거 본수 조사표
A3: 임.소반 | B3: 사업면적 (ha) | C3: 표준지 번호 | D3: (grs80) | F3: 표준지 면적(ha) | G3: 경사도 | H3: 집단화정도 | I3: 총본수 | J3: 작업시기 | K3: 덩굴피복도 | L3: 소재지
D4: X | E4: Y
A5: 1-0-1 | C5: 1 | D5: 123587 | E5: 228761 | F5: 0.01 | G5: 중 | H5: 평균면적3ha이상 | J5: 10월~12월 | K5: 밀(60%~80%)
C6: 2 | D6: 121029 | E6: 226830 | F6: 0.01 | G6: 중 | H6: 평균면적3ha이상 | J6: 10월~12월 | K6: 밀(60%~80%)
C7: 3 | D7: 121165 | E7: 226247 | F7: 0.01 | G7: 중 | H7: 평균면적3ha이상 | J7: 10월~12월 | K7: 밀(60%~80%)
B8: =필지별조서!H38 -> 4.52 | F8: =SUM(F5:F7) -> 0.03 | H8: =G8/F8 -> 0 | I8: =ROUNDDOWN(B8*H8,0) -> 0 | J8: =ROUNDDOWN(B8*H8,0) -> 0
A9: 1-0-2 | C9: 1 | D9: 121733 | E9: 225859 | F9: 0.01 | G9: 중 | H9: 평균면적3ha이상 | J9: 10월~12월 | K9: 밀(60%~80%)
C10: 2 | D10: 121645 | E10: 225640 | F10: 0.01 | G10: 중 | H10: 평균면적3ha이상 | J10: 10월~12월 | K10: 밀(60%~80%)
C11: 3 | D11: 121481 | E11: 225706 | F11: 0.01 | G11: 중 | H11: 평균면적3ha이상 | J11: 10월~12월 | K11: 밀(60%~80%)
C12: 4 | D12: 121310 | E12: 225693 | F12: 0.01 | G12: 중 | H12: 평균면적3ha이상 | J12: 10월~12월 | K12: 밀(60%~80%)
C13: 5 | D13: 121650 | E13: 225438 | F13: 0.01 | G13: 중 | H13: 평균면적3ha이상 | J13: 10월~12월 | K13: 밀(60%~80%)
C14: 6 | D14: 121447 | E14: 225244 | F14: 0.01 | G14: 중 | H14: 평균면적3ha이상 | J14: 10월~12월 | K14: 밀(60%~80%)
C15: 7 | D15: 121279 | E15: 225349 | F15: 0.01 | G15: 중 | H15: 평균면적3ha이상 | J15: 10월~12월 | K15: 밀(60%~80%)
C16: 8 | D16: 121175 | E16: 225380 | F16: 0.01 | G16: 중 | H16: 평균면적3ha이상 | J16: 10월~12월 | K16: 밀(60%~80%)
C17: 9 | D17: 121203 | E17: 225189 | F17: 0.01 | G17: 중 | H17: 평균면적3ha이상 | J17: 10월~12월 | K17: 밀(60%~80%)
B18: =필지별조서!H165 -> 16.67 | F18: =SUM(F9:F17) -> 0.09 | H18: =G18/F18 -> 0 | J18: =ROUNDDOWN(B18*H18,0) -> 0
A19: 1-0-3 | C19: 1 | D19: 137698 | E19: 252122 | F19: 0.01 | G19: 중 | H19: 평균면적3ha이상 | J19: 10월~12월 | K19: 밀(60%~80%)
B32: =필지별조서!H180 -> 0.43
A33: 1-0-4 | C33: 1 | D33: 130443 | E33: 259799 | F33: 0.01 | G33: 중 | H33: 평균면적3ha이상 | J33: 10월~12월 | K33: 밀(60%~80%)
C34: 2 | D34: 129681 | E34: 260380 | F34: 0.01 | G34: 중 | H34: 평균면적3ha이상 | J34: 10월~12월 | K34: 밀(60%~80%)
C35: 3 | D35: 129132 | E35: 259690 | F35: 0.01 | G35: 중 | H35: 평균면적3ha이상 | J35: 10월~12월 | K35: 밀(60%~80%)
B36: =필지별조서!H218 -> 5.68 | F36: =SUM(F33:F35) -> 0.03
A37: 1-0-5 | C37: 1 | D37: 116531 | E37: 258330 | F37: 0.01 | G37: 중 | H37: 평균면적3ha이상 | J37: 10월~12월 | K37: 밀(60%~80%)
C38: 2 | D38: 115826 | E38: 258066 | F38: 0.01 | G38: 중 | H38: 평균면적3ha이상 | J38: 10월~12월 | K38: 밀(60%~80%)
C39: 3 | D39: 114878 | E39: 257898 | F39: 0.01 | G39: 중 | H39: 평균면적3ha이상 | J39: 10월~12월 | K39: 밀(60%~80%)
C40: 4 | D40: 113927 | E40: 257277 | F40: 0.01 | G40: 중 | H40: 평균면적3ha이상 | J40: 10월~12월 | K40: 밀(60%~80%)
C41: 5 | D41: 112883 | E41: 256532 | F41: 0.01 | G41: 중 | H41: 평균면적3ha이상 | J41: 10월~12월 | K41: 밀(60%~80%)
B42: =필지별조서!H240 -> 8.8 | F42: =SUM(F37:F41) -> 0.05
A43: 1-0-6 | C43: 1 | D43: 117005 | E43: 241259 | F43: 0.01 | G43: 중 | H43: 평균면적3ha이상 | J43: 10월~12월 | K43: 밀(60%~80%)
C44: 2 | D44: 116287 | E44: 241267 | F44: 0.01 | G44: 중 | H44: 평균면적3ha이상 | J44: 10월~12월 | K44: 밀(60%~80%)
B45: =필지별조서!H258 -> 3.53 | F45: =SUM(F43:F44) -> 0.02
A46: 2-0-4
A48: 2-0-5
A65: 합계 | B65: =SUM(B64,B57,B55,B53,B51,B49,B47,B45,B42,B36,B32,B18,B8) -> 39.63 | H65: =I65/B65 -> 0 | I65: =SUM(I64,I57,I55,I53,I51,I47,I45,I42,I36,I32,I18,I8) -> 0 | K65: =SUM(K64,K57,K55,K53,K51,K47,K45,K42,K36,K32,K18,K8) -> 0 | O65: =공사원가계산서!D26 -> 0
B67: =SUM(B5:B64) -> 39.63
G69: =G8+G18+G32+G36+G42+G45 -> 0
G70: =G69/8 -> 0

Sheet 공사원가계산서
A1: 공 사 원 가 계 산 서
A2: 사업명 : | B2: =기초자료!C2 -> 2026년 칡덩굴제거사업 | G2: 단위 (원)
A3: 비 목 | D3: 금 액 | E3: 구성비 | F3: 비 고
A4: 순 공 사 원 가 | B4: 재료비 | C4: 직접재료비 | D4: =총괄내역서!I17 -> 0
C5: 간접재료비
C6: 小 計 | D6: =+SUM(D4:D5) -> 0 | E6: =+D6/D26 -> #DIV/0!
B7: 노무비 | C7: 직접노무비 | D7: =총괄내역서!G17 -> 0
C8: 간접노무비 | D8: =INT(D7*G8) -> 0 | F8: 직 접 노 무 비 의 | G8: 0.184
C9: 小 計 | D9: =+SUM(D7:D8) -> 0 | E9: =+D9/D26 -> #DIV/0!
B10: 경 비 | C10: 기계경비 | D10: =총괄내역서!K17 -> 0 | F10: 기계손료 × 장비단가
C11: 산업재해보상보험료 | D11: =INT(D9*G11) -> 0 | F11: 노무비(직접+간접)의 | G11: 0.0586
C12: 고용보험료 | D12: =INT(D9*G12) -> 0 | F12: 노무비(직접+간접)의 | G12: 0.0115
C13: 국민건강보험료 | D13: =INT(D7*G13) -> 0 | F13: 직 접 노 무 비 의 | G13: 0.03595
C14: 국민연금보험료 | D14: =INT(D7*G14) -> 0 | F14: 직 접 노 무 비 의 | G14: 0.0475
C15: 노인장기요양보험료 | D15: =INT(D13*G15) -> 0 | F15: 국민건강보험료 의 | G15: 0.1295
C16: 산업안전보건관리비 | D16: =INT((D6+D7)*G16) -> 0 | F16: (재료비+직접노무비)의 | G16: 0.0207
C17: 석면분담금 | D17: =INT(D9*G17) -> 0 | F17: 노 무 비 의 | G17: 6e-05
C18: 임금채권부담금 | D18: =INT(D9*G18) -> 0 | F18: 노 무 비 의 | G18: 0.0009
C19: 기타경비 | D19: =INT((D6+D9)*G19) -> 0 | F19: (재료비+노무비)의 | G19: 0.049
C20: 小 計 | D20: =SUM(D10:D19) -> 0 | E20: =+D20/D26 -> #DIV/0!
A21: 순사업원가 | D21: =+D6+D9+D20 -> 0 | E21: =+D21/D26 -> #DIV/0! | F21: 재료비+노무비+경비
A22: 일반관리비 | D22: =INT(D21*G22) -> 0 | E22: =+D22/D26 -> #DIV/0! | F22: (재료비+노무비+경비)의 | G22: 0.08
A23: 이윤 | D23: =INT((D9+D20+D22)*G23) -> 0 | E23: =+D23/D26 -> #DIV/0! | F23: (노무비+경비+일반관리비)의 | G23: 0.14998366
A24: 총원가 | D24: =SUM(D21:D23) -> 0 | E24: =+D24/D26 -> #DIV/0! | F24: 순사업원가+일반관리비+이윤
A25: 부가가치세 | D25: =+INT((D24)*G25) -> 0 | E25: =+D25/D26 -> #DIV/0! | F25: (총원가)의 | G25: 0.1
A26: 총 사 업 비 | D26: =D24+D25 -> 0 | E26: 1 | F26: 총원가+부가가치세
D30: =D26/표준지좌표!B65 -> 0

Sheet 총괄내역서
A1: 총괄 설계내역서
A2: 구분 | C2: 면적(ha) | D2: 계 | F2: 노무비 | H2: 재 료 비 | J2: 경비 | L2: 비고
D3: ha당 | E3: 금 액 | F3: ha당 | G3: 금 액 | H3: ha당 | I3: 금 액 | J3: ha당 | K3: 금 액
A4: =내역서!A4 -> 1-0-1 | C4: =내역서!B4 -> 4.52 | E4: =G4+I4+K4 -> 0 | G4: =내역서!F4 -> 0 | I4: =내역서!H4 -> 0 | K4: =내역서!J4 -> 0
A5: =내역서!A5 -> 1-0-2 | C5: =내역서!B5 -> 16.67 | E5: =G5+I5+K5 -> 0 | G5: =내역서!F5 -> 0 | I5: =내역서!H5 -> 0 | K5: =내역서!J5 -> 0
A6: 1-0-3 | C6: =내역서!B6 -> 0.43 | E6: =내역서!D6 -> 0 | G6: =내역서!F6 -> 0 | I6: =내역서!H6 -> 0 | K6: =내역서!J6 -> 0
A7: =내역서!A7 -> 1-0-4 | C7: =내역서!B7 -> 5.68 | E7: =G7+I7+K7 -> 0 | G7: =내역서!F7 -> 0 | I7: =내역서!H7 -> 0 | K7: =내역서!J7 -> 0
A8: =내역서!A8 -> 1-0-5 | C8: =내역서!B8 -> 8.8 | E8: =G8+I8+K8 -> 0 | G8: =내역서!F8 -> 0 | I8: =내역서!H8 -> 0 | K8: =내역서!J8 -> 0
A9: =내역서!A9 -> 1-0-6 | C9: =내역서!B9 -> 3.53 | E9: =G9+I9+K9 -> 0 | G9: =내역서!F9 -> 0 | I9: =내역서!H9 -> 0 | K9: =내역서!J9 -> 0
A10: =내역서!A10 -> 0 | C10: =내역서!B10 -> 0 | E10: =G10+I10+K10 -> 0 | G10: =내역서!F10 -> 0 | I10: =내역서!H10 -> 0 | K10: =내역서!J10 -> 0
A11: =내역서!A11 -> 0 | C11: =내역서!B11 -> 0 | E11: =G11+I11+K11 -> 0 | G11: =내역서!F11 -> 0
A12: =내역서!A12 -> 0 | C12: =내역서!B12 -> 0 | E12: =G12+I12+K12 -> 0 | G12: =내역서!F12 -> 0 | I12: =내역서!H12 -> 0 | K12: =내역서!J12 -> 0
A13: =내역서!A13 -> 0 | C13: =내역서!B13 -> 0 | E13: =G13+I13+K13 -> 0 | G13: =내역서!F13 -> 0 | I13: =내역서!H13 -> 0 | K13: =내역서!J13 -> 0
A14: =내역서!A14 -> 0 | C14: =내역서!B14 -> 0 | E14: =G14+I14+K14 -> 0 | G14: =내역서!F14 -> 0 | I14: =내역서!H14 -> 0 | K14: =내역서!J14 -> 0
A15: =내역서!A15 -> 0 | C15: =내역서!B15 -> 0 | E15: =G15+I15+K15 -> 0 | G15: =내역서!F15 -> 0 | I15: =내역서!H15 -> 0 | K15: =내역서!J15 -> 0
A16: =내역서!A16 -> 0 | C16: =내역서!B16 -> 0 | E16: =G16+I16+K16 -> 0 | G16: =내역서!F16 -> 0 | I16: =내역서!H16 -> 0 | K16: =내역서!J16 -> 0
A17: 합계 | C17: =SUM(C4:C16) -> 39.63 | E17: =SUM(E4:E16) -> 0 | G17: =SUM(G4:G16) -> 0 | I17: =SUM(I4:I16) -> 0 | K17: =SUM(K4:K16) -> 0

Sheet 내역서
A1: 덩굴류제거 설계내역서
A2: 임소반 | B2: 사업면적 (ha) | C2: 계 | E2: 노 무 비 | G2: 재 료 비 | I2: 경 비 | K2: 비고
C3: ha당 | D3: 금 액 | E3: ha당 | F3: 금 액 | G3: ha당 | H3: 금 액 | I3: ha당 | J3: 금 액
A4: 1-0-1 | B4: =표준지좌표!B8 -> 4.52
A5: 1-0-2 | B5: =표준지좌표!B18 -> 16.67
A6: 1-0-3 | B6: =표준지좌표!B32 -> 0.43
A7: 1-0-4 | B7: =표준지좌표!B36 -> 5.68
A8: 1-0-5 | B8: =표준지좌표!B42 -> 8.8
A9: 1-0-6 | B9: =표준지좌표!B45 -> 3.53
A19: 임반계 | B19: =SUM(B4:B18) -> 39.63 | D19: =SUM(D4:D18) -> 0 | F19: =SUM(F4:F18) -> 0 | H19: =SUM(H4:H18) -> 0 | J19: =SUM(J4:J18) -> 0
A20: 총 계 | B20: =B19 -> 39.63 | D20: =D19 -> 0 | F20: =F19 -> 0 | H20: =H19 -> 0 | J20: =J19 -> 0 | M20: =D20-F20-H20-J20 -> 0
D22: =D19/B19 -> 0

Sheet 뿌리굴취
A1: 덩굴류제거 ha당 단가산출서
A3: 임소반 및 면적 | D3: =표준지좌표!A5 -> 1-0-1 | E3: 소반면적 : | F3: =표준지좌표!B36 -> 5.68 | H3: 단위 사업종 : | I3: 뿌리굴취 | M3: 비고
A4: 구분 | D4: 작업량 | F4: 단위품(인,량,율) | H4: 소요품 | I4: 단가 | K4: 할인 . | L4: 계
B5: 단위작업 | E5: 단위 | G5: 단위 | J5: 종류 | K5: 할증
A6: 단위작업 | B6: ○ 덩굴류제거 | M6: =표준지좌표!H36 -> 0
B7: - 직접노무비 | H7: =H8 -> 0 | I7: =I8 -> 172068 | K7: =G31 -> 0.15 | L7: =TRUNC(H7*I7*(100%+K7),0) -> 0
B8: ·뿌리굴취 | D8: =M6 -> 0 | E8: 본/ha | F8: =0.8*0.9 -> 0.72 | G8: 인/100본 | H8: =ROUND(F8*D8/100,2) -> 0 | I8: =기초자료!C9 -> 172068 | J8: (보통인부) | M8: 뿌리굴취는 기본품에서 10% 감하여 적용
B22: 덩굴류제거 소계 | L22: =L7 -> 0
A23: ▣ 할인.할증률 산정
B24: 구 분 | D24: 할인.할증요소 | G24: 단위작업(%) | K24: 비 고 | O24: 구 분 | P24: 내 용 | Q24: 할증률
G25: 덩굴류제거 | O25: 경사도 | P25: 완 (15° 이하) | Q25: 0
B26: - 경사도 | D26: =P26 -> 중 (15°～30°) | G26: =Q26 -> 0.05 | K26: 합계 | M26: =SUM(M27:M31) -> 0 | P26: 중 (15°～30°) | Q26: 0.05
B27: - 집단화정도 | D27: =P28 -> 개소당 평균면적이 3ha 이상 | G27: 0 | K27: 직접노무비 | M27: =L7 -> 0 | P27: 급 (30° 초과) | Q27: 0.1
B28: - 작업시기 | D28: =P33 -> 6월∼9월 | G28: 0.1 | K28: 재료비 | O28: 집단화 정도 | P28: 개소당 평균면적이 3ha 이상 | Q28: 0
B29: - 하층식생 | D29: =P34 -> 보행이 용이하다 | G29: =Q34 -> 0 | K29: 기타경비 | P29: 개소당 평균면적이 1∼3ha 미만 | Q29: 0.05
B30: - 토양조건 | D30: =P37 -> 장애물이 거의 없음 | G30: =Q37 -> 0 | P30: 개소당 평균면적이 1ha 미만 | Q30: 0.1
B31: 소계 | G31: =SUM(G26:H30) -> 0.15 | O31: 작업시기 | P31: 1∼5월 | Q31: 0
P32: 10월∼12월 | Q32: 0.05
P33: 6월∼9월 | Q33: 0.1
F34: 8 | G34: =F3/F34 -> 0.71 | O34: 하층식생 | P34: 보행이 용이하다 | Q34: 0
P35: 보행하는데 약간의 어려움이 있다 | Q35: 0.05
P36: 식생을 제거하지 않고 보행이 곤란하다 | Q36: 0.1
O37: 토양조건 | P37: 장애물이 거의 없음 | Q37: 0
P38: 돌 등 장애물 함량이 10～30%인 지역 | Q38: 0.05
P39: 돌 등 장애물 함량이 30%이상인 지역 | Q39: 0.1

Sheet 살포
A1: 덩굴류제거 ha당 단가산출서
A3: 임소반 및 면적 | D3: =표준지좌표!A37 -> 1-0-5 | E3: 소반면적 : | F3: =표준지좌표!B42 -> 8.8 | H3: 단위 사업종 : | I3: 덩굴제거(약제살포) | M3: 비고
A4: 구분 | D4: 작업량 | F4: 단위품(인,량,율) | H4: 소요품 | I4: 단가 | K4: 할인 . | L4: 계
B5: 단위작업 | E5: 단위 | G5: 단위 | J5: 종류 | K5: 할증
A6: 단위작업 | B6: ○ 덩굴류제거
B7: - 직접노무비 | L7: =SUM(L8:L9) -> 653701
B8: · 약제살포 | D8: 1 | E8: ha | F8: 1 | G8: 인/ha | H8: 1 | I8: =기초자료!C10 -> 226122 | J8: (특별인부) | K8: =G31 -> 0.35 | L8: =TRUNC(H8*I8*(100%+K8),0) -> 305264
B9: · 작업보조 | D9: 1 | E9: ha | F9: 1.5 | G9: 인/ha | H9: 1.5 | I9: =기초자료!C9 -> 172068 | J9: (보통인부) | K9: =G31 -> 0.35 | L9: =TRUNC(H9*I9*(100%+K9),0) -> 348437
B11: - 재료비 | L11: =SUM(L12:L13) -> 193600
B12: · 농약(500㎖/1병) | D12: 1 | E12: ha | F12: 10 | G12: 병/ha | H12: =ROUND(F12*D12,2) -> 10 | I12: =기초자료!C17 -> 17600 | J12: 하늘아래 | L12: =TRUNC(H12*I12*(100%+K12),0) -> 176000
B13: · 잡품 | D13: =L12 -> 176000 | E13: 원 | F13: 10 | G13: % | L13: =TRUNC(D13*F13%,0) -> 17600
B15: - 기계경비 | L15: =SUM(L16) -> 2352
B16: · 배부식분무기 | D16: 1 | E16: 1대/ha | F16: 0.0084 | G16: 1대1인 | H16: =F16*D16 -> 0.0084 | I16: =기초자료!C12 -> 280000 | J16: 분무기(대) | L16: =TRUNC(H16*I16*(100%+K16),0) -> 2352
B22: 덩굴류제거 소계 | L22: =L7+L11+L15 -> 849653
A23: ▣ 할인.할증률 산정
B24: 구 분 | D24: 할인.할증요소 | G24: 단위작업(%) | K24: 비 고 | O24: 구 분 | P24: 내 용 | Q24: 할증률
G25: 덩굴류제거 | O25: 경사도 | P25: 완 (15° 이하) | Q25: 0
B26: - 경사도 | D26: =P26 -> 중 (15°～30°) | G26: 0.05 | K26: 합계 | M26: =SUM(M27:M31) -> 849653 | P26: 중 (15°～30°) | Q26: 0.05
B27: - 집단화정도 | D27: =P28 -> 개소당 평균면적이 3ha 이상 | G27: =Q28 -> 0 | K27: 직접노무비 | M27: =L7 -> 653701 | P27: 급 (30° 초과) | Q27: 0.1
B28: - 작업시기 | D28: =P33 -> 6월∼9월 | G28: =Q33 -> 0.1 | K28: 재료비 | M28: =L11 -> 193600 | O28: 집단화 정도 | P28: 개소당 평균면적이 3ha 이상 | Q28: 0
B29: - 덩굴피복도 | D29: =P38 -> 밀(60∼80% 피복) | G29: =Q38 -> 0.2 | K29: 기타경비 | M29: =L15 -> 2352 | P29: 개소당 평균면적이 1∼3ha 미만 | Q29: 0.05
G30: 0 | P30: 개소당 평균면적이 1ha 미만 | Q30: 0.1
B31: 소계 | G31: =SUM(G26:H30) -> 0.35 | O31: 작업시기 | P31: 1∼5월 | Q31: 0
P32: 10월∼12월 | Q32: 0.05
G33: =F3/4 -> 2.2 | P33: 6월∼9월 | Q33: 0.1
O34: 하층식생 | P34: 보행이 용이하다 | Q34: 0
P35: 보행하는데 약간의 어려움이 있다 | Q35: 0.05
P36: 식생을 제거하지 않고 보행이 곤란하다 | Q36: 0.1
O37: 덩굴피복도 | P37: 과밀(80%이상 피복) | Q37: 0.5
P38: 밀(60∼80% 피복) | Q38: 0.2
P39: 보통(40∼60% 피복) | Q39: 0
P40: 소(20∼40% 피복) | Q40: -0.2
P41: 과소(20%이하피복) | Q41: -0.5

Sheet 덩굴걷기
A1: 덩굴류제거 ha당 단가산출서
A3: 임소반 및 면적 | D3: =표준지좌표!A43 -> 1-0-6 | E3: 소반면적 : | F3: =표준지좌표!B45 -> 3.53 | H3: 단위 사업종 : | I3: 덩굴걷기 | M3: 비고
A4: 구분 | D4: 작업량 | F4: 단위품(인,량,율) | H4: 소요품 | I4: 단가 | K4: 할인 . | L4: 계
B5: 단위작업 | E5: 단위 | G5: 단위 | J5: 종류 | K5: 할증
A6: 단위작업 | B6: ○ 덩굴류제거
B7: - 직접노무비 | L7: =SUM(L8:L9) -> 895443
B8: · 덩굴걷기 | D8: 1 | E8: ha | F8: 3.3 | G8: 인/ha | H8: =ROUND(F8*D8,2) -> 3.3 | I8: =기초자료!C10 -> 226122 | J8: (특별인부) | K8: =G31 -> 0.2 | L8: =TRUNC(H8*I8*(100%+K8),0) -> 895443
B10: - 재료비(예취기) | L10: =SUM(L11:L12) -> 33178
B11: · 연료 | D11: =H8 -> 3.3 | E11: 인/ha | F11: 5 | G11: ℓ | H11: =ROUND(F11*D11,2) -> 16.5 | I11: =기초자료!C14 -> 1828 | J11: 휘발유 | L11: =ROUNDDOWN(I11*H11,0) -> 30162
B12: · 잡품 | D12: =L11 -> 30162 | E12: 원 | F12: 10 | G12: % | L12: =ROUNDDOWN(D12*F12/100,0) -> 3016
B14: - 기계경비 | L14: =SUM(L15) -> 11088
B15: · 동력예취기 | D15: =D11 -> 3.3 | E15: 인/ha | F15: 0.0084 | G15: 1대1인 | H15: =F15*D15 -> 0.02772 | I15: =기초자료!C13 -> 400000 | J15: 동력예취기 | L15: =TRUNC(H15*I15*(100%+K15),0) -> 11088
B22: 덩굴류제거 소계 | L22: =L7+L10+L14 -> 939709
A23: ▣ 할인.할증률 산정
B24: 구 분 | D24: 할인.할증요소 | G24: 단위작업(%) | K24: 비 고 | O24: 구 분 | P24: 내 용 | Q24: 할증률
G25: 덩굴류제거 | O25: 경사도 | P25: 완 (15° 이하) | Q25: 0
B26: - 경사도 | D26: =P26 -> 중 (15°～30°) | G26: 0 | K26: 합계 | M26: =SUM(M27:M31) -> 939709 | P26: 중 (15°～30°) | Q26: 0.05
B27: - 집단화정도 | D27: =P30 -> 개소당 평균면적이 1ha 미만 | G27: 0 | K27: 직접노무비 | M27: =L7 -> 895443 | P27: 급 (30° 초과) | Q27: 0.1
B28: - 작업시기 | D28: =P31 -> 1∼5월 | G28: =Q31 -> 0 | K28: 재료비 | M28: =L10 -> 33178 | O28: 집단화 정도 | P28: 개소당 평균면적이 3ha 이상 | Q28: 0
B29: - 덩굴피복도 | D29: =P39 -> 보통(40∼60% 피복) | G29: 0.2 | K29: 기타경비 | M29: =L14 -> 11088 | P29: 개소당 평균면적이 1∼3ha 미만 | Q29: 0.05
P30: 개소당 평균면적이 1ha 미만 | Q30: 0.1
B31: 소계 | G31: =SUM(G26:H30) -> 0.2 | O31: 작업시기 | P31: 1∼5월 | Q31: 0
P32: 10월∼12월 | Q32: 0.05
P33: 6월∼9월 | Q33: 0.1
O34: 하층식생 | P34: 보행이 용이하다 | Q34: 0
P35: 보행하는데 약간의 어려움이 있다 | Q35: 0.05
P36: 식생을 제거하지 않고 보행이 곤란하다 | Q36: 0.1
M37: =M26+살포!M26 -> 1789362 | O37: 덩굴피복도 | P37: 과밀(80%이상 피복) | Q37: 0.5
P38: 밀(60∼80% 피복) | Q38: 0.2
P39: 보통(40∼60% 피복) | Q39: 0
P40: 소(20∼40% 피복) | Q40: -0.2
P41: 과소(20%이하피복) | Q41: -0.5

Sheet 1-1
A1: 덩굴류제거 ha당 단가산출서
A3: 임소반 및 면적 | D3: =표준지좌표!A5 -> 1-0-1 | E3: 소반면적 : | F3: =표준지좌표!B8 -> 4.52 | H3: 단위 사업종 : | I3: 뿌리굴취 | M3: 비고
A4: 구분 | D4: 작업량 | F4: 단위품(인,량,율) | H4: 소요품 | I4: 단가 | K4: 할인 . | L4: 계
B5: 단위작업 | E5: 단위 | G5: 단위 | J5: 종류 | K5: 할증
A6: 단위작업 | B6: ○ 덩굴류제거 | M6: =표준지좌표!H8 -> 0
B7: - 직접노무비 | H7: =H8 -> 0 | I7: =I8 -> 172068 | K7: =G31 -> 0.05 | L7: =TRUNC(H7*I7*(100%+K7),0) -> 0
B8: ·뿌리굴취 | D8: =M6 -> 0 | E8: 본/ha | F8: =0.8*0.9 -> 0.72 | G8: 인/100본 | H8: =ROUND(F8*D8/100,2) -> 0 | I8: =기초자료!C9 -> 172068 | J8: (보통인부) | M8: 뿌리굴취는 기본품에서 10% 감하여 적용
B22: 덩굴류제거 소계 | L22: =L7 -> 0
A23: ▣ 할인.할증률 산정
B24: 구 분 | D24: 할인.할증요소 | G24: 단위작업(%) | K24: 비 고 | O24: 구 분 | P24: 내 용 | Q24: 할증률
G25: 덩굴류제거 | O25: 경사도 | P25: 완 (15° 이하) | Q25: 0
B26: - 경사도 | D26: =P26 -> 중 (15°～30°) | G26: =Q26 -> 0.05 | K26: 합계 | M26: =SUM(M27:M31) -> 0 | P26: 중 (15°～30°) | Q26: 0.05
B27: - 집단화정도 | D27: =P28 -> 개소당 평균면적이 3ha 이상 | G27: =Q28 -> 0 | K27: 직접노무비 | M27: =L7 -> 0 | P27: 급 (30° 초과) | Q27: 0.1
B28: - 작업시기 | D28: =P31 -> 1∼5월 | G28: =Q31 -> 0 | K28: 재료비 | O28: 집단화 정도 | P28: 개소당 평균면적이 3ha 이상 | Q28: 0
B29: - 하층식생 | D29: =P34 -> 보행이 용이하다 | G29: =Q34 -> 0 | K29: 기타경비 | P29: 개소당 평균면적이 1∼3ha 미만 | Q29: 0.05
B30: - 토양조건 | D30: =P37 -> 장애물이 거의 없음 | G30: =Q37 -> 0 | P30: 개소당 평균면적이 1ha 미만 | Q30: 0.1
B31: 소계 | G31: =SUM(G26:H30) -> 0.05 | O31: 작업시기 | P31: 1∼5월 | Q31: 0
P32: 10월∼12월 | Q32: 0.05
P33: 6월∼9월 | Q33: 0.1
F34: 8 | G34: =F3/F34 -> 0.565 | O34: 하층식생 | P34: 보행이 용이하다 | Q34: 0
P35: 보행하는데 약간의 어려움이 있다 | Q35: 0.05
P36: 식생을 제거하지 않고 보행이 곤란하다 | Q36: 0.1
O37: 토양조건 | P37: 장애물이 거의 없음 | Q37: 0
P38: 돌 등 장애물 함량이 10～30%인 지역 | Q38: 0.05
P39: 돌 등 장애물 함량이 30%이상인 지역 | Q39: 0.1

Sheet 1111
A1: 덩굴류제거 ha당 단가산출서
A3: 임소반 및 면적 | D3: =표준지좌표!A9 -> 1-0-2 | E3: 소반면적 : | F3: =표준지좌표!B18 -> 16.67 | H3: 단위 사업종 : | I3: 뿌리굴취 | M3: 비고
A4: 구분 | D4: 작업량 | F4: 단위품(인,량,율) | H4: 소요품 | I4: 단가 | K4: 할인 . | L4: 계
B5: 단위작업 | E5: 단위 | G5: 단위 | J5: 종류 | K5: 할증
A6: 단위작업 | B6: ○ 덩굴류제거 | M6: =표준지좌표!H18 -> 0
B7: - 직접노무비 | H7: =H8 -> 0 | I7: =I8 -> 172068 | K7: =G31 -> 0.05 | L7: =TRUNC(H7*I7*(100%+K7),0) -> 0
B8: ·뿌리굴취 | D8: =M6 -> 0 | E8: 본/ha | F8: =0.8*0.9 -> 0.72 | G8: 인/100본 | H8: =ROUND(F8*D8/100,2) -> 0 | I8: =기초자료!C9 -> 172068 | J8: (보통인부) | M8: 뿌리굴취는 기본품에서 10% 감하여 적용
B22: 덩굴류제거 소계 | L22: =L7 -> 0
A23: ▣ 할인.할증률 산정
B24: 구 분 | D24: 할인.할증요소 | G24: 단위작업(%) | K24: 비 고 | O24: 구 분 | P24: 내 용 | Q24: 할증률
G25: 덩굴류제거 | O25: 경사도 | P25: 완 (15° 이하) | Q25: 0
B26: - 경사도 | D26: =P26 -> 중 (15°～30°) | G26: =Q26 -> 0.05 | K26: 합계 | M26: =SUM(M27:M31) -> 0 | P26: 중 (15°～30°) | Q26: 0.05
B27: - 집단화정도 | D27: =P28 -> 개소당 평균면적이 3ha 이상 | G27: =Q28 -> 0 | K27: 직접노무비 | M27: =L7 -> 0 | P27: 급 (30° 초과) | Q27: 0.1
B28: - 작업시기 | D28: =P31 -> 1∼5월 | G28: =Q31 -> 0 | K28: 재료비 | O28: 집단화 정도 | P28: 개소당 평균면적이 3ha 이상 | Q28: 0
B29: - 하층식생 | D29: =P34 -> 보행이 용이하다 | G29: =Q34 -> 0 | K29: 기타경비 | P29: 개소당 평균면적이 1∼3ha 미만 | Q29: 0.05
B30: - 토양조건 | D30: =P37 -> 장애물이 거의 없음 | G30: =Q37 -> 0 | P30: 개소당 평균면적이 1ha 미만 | Q30: 0.1
B31: 소계 | G31: =SUM(G26:H30) -> 0.05 | O31: 작업시기 | P31: 1∼5월 | Q31: 0
P32: 10월∼12월 | Q32: 0.05
P33: 6월∼9월 | Q33: 0.1
F34: 8 | G34: =F3/F34 -> 2.08375 | O34: 하층식생 | P34: 보행이 용이하다 | Q34: 0
P35: 보행하는데 약간의 어려움이 있다 | Q35: 0.05
P36: 식생을 제거하지 않고 보행이 곤란하다 | Q36: 0.1
O37: 토양조건 | P37: 장애물이 거의 없음 | Q37: 0
P38: 돌 등 장애물 함량이 10～30%인 지역 | Q38: 0.05
P39: 돌 등 장애물 함량이 30%이상인 지역 | Q39: 0.1

Sheet 1-2
A1: 덩굴류제거 ha당 단가산출서
A3: 임소반 및 면적 | D3: =표준지좌표!A9 -> 1-0-2 | E3: 소반면적 : | F3: =표준지좌표!B18 -> 16.67 | H3: 단위 사업종 : | I3: 뿌리굴취 | M3: 비고
A4: 구분 | D4: 작업량 | F4: 단위품(인,량,율) | H4: 소요품 | I4: 단가 | K4: 할인 . | L4: 계
B5: 단위작업 | E5: 단위 | G5: 단위 | J5: 종류 | K5: 할증
A6: 단위작업 | B6: ○ 덩굴류제거 | M6: =표준지좌표!H18 -> 0
B7: - 직접노무비 | H7: =H8 -> 0 | I7: =I8 -> 172068 | K7: =G31 -> 0.05 | L7: =TRUNC(H7*I7*(100%+K7),0) -> 0
B8: ·뿌리굴취 | D8: =M6 -> 0 | E8: 본/ha | F8: =0.8*0.9 -> 0.72 | G8: 인/100본 | H8: =ROUND(F8*D8/100,2) -> 0 | I8: =기초자료!C9 -> 172068 | J8: (보통인부) | M8: 뿌리굴취는 기본품에서 10% 감하여 적용
B22: 덩굴류제거 소계 | L22: =L7 -> 0
A23: ▣ 할인.할증률 산정
B24: 구 분 | D24: 할인.할증요소 | G24: 단위작업(%) | K24: 비 고 | O24: 구 분 | P24: 내 용 | Q24: 할증률
G25: 덩굴류제거 | O25: 경사도 | P25: 완 (15° 이하) | Q25: 0
B26: - 경사도 | D26: =P26 -> 중 (15°～30°) | G26: =Q26 -> 0.05 | K26: 합계 | M26: =SUM(M27:M31) -> 0 | P26: 중 (15°～30°) | Q26: 0.05
B27: - 집단화정도 | D27: =P28 -> 개소당 평균면적이 3ha 이상 | G27: =Q28 -> 0 | K27: 직접노무비 | M27: =L7 -> 0 | P27: 급 (30° 초과) | Q27: 0.1
B28: - 작업시기 | D28: =P31 -> 1∼5월 | G28: =Q31 -> 0 | K28: 재료비 | O28: 집단화 정도 | P28: 개소당 평균면적이 3ha 이상 | Q28: 0
B29: - 하층식생 | D29: =P34 -> 보행이 용이하다 | G29: =Q34 -> 0 | K29: 기타경비 | P29: 개소당 평균면적이 1∼3ha 미만 | Q29: 0.05
B30: - 토양조건 | D30: =P37 -> 장애물이 거의 없음 | G30: =Q37 -> 0 | P30: 개소당 평균면적이 1ha 미만 | Q30: 0.1
B31: 소계 | G31: =SUM(G26:H30) -> 0.05 | O31: 작업시기 | P31: 1∼5월 | Q31: 0
P32: 10월∼12월 | Q32: 0.05
P33: 6월∼9월 | Q33: 0.1
F34: 8 | G34: =F3/F34 -> 2.08375 | O34: 하층식생 | P34: 보행이 용이하다 | Q34: 0
P35: 보행하는데 약간의 어려움이 있다 | Q35: 0.05
P36: 식생을 제거하지 않고 보행이 곤란하다 | Q36: 0.1
O37: 토양조건 | P37: 장애물이 거의 없음 | Q37: 0
P38: 돌 등 장애물 함량이 10～30%인 지역 | Q38: 0.05
P39: 돌 등 장애물 함량이 30%이상인 지역 | Q39: 0.1

Sheet 1-3(약제)
A1: 덩굴류제거 ha당 단가산출서
A3: 임소반 및 면적 | D3: =표준지좌표!A19 -> 1-0-3 | E3: 소반면적 : | F3: =표준지좌표!B32 -> 0.43 | H3: 단위 사업종 : | I3: 덩굴제거(약제살포) | M3: 비고
A4: 구분 | D4: 작업량 | F4: 단위품(인,량,율) | H4: 소요품 | I4: 단가 | K4: 할인 . | L4: 계
B5: 단위작업 | E5: 단위 | G5: 단위 | J5: 종류 | K5: 할증 | O5: ○ 덩굴피복도와 덩굴본수 환산표
A6: 단위작업 | B6: ○ 덩굴류제거 | O6: 덩굴 피복도(%) | P6: 할인·할증율 | Q6: 환산계수 | R6: 덩굴본수(본/ha) | S6: o 본 품에는 약제배합, 살포 및 뒷정리를 포함한다.
B7: - 직접노무비 | L7: =SUM(L8:L9) -> 508435 | O7: 80%이상 | P7: 1.5 | Q7: 1 | R7: 1600 | S7: o ha당 근사미농약소요랑 : 20병----ha당 희석액 800ℓ(약제 희석비율 = 농약 150㎖ : 물 20ℓ)
B8: · 약제살포 | D8: 1 | E8: ha | F8: 1 | G8: 인/ha | H8: 1 | I8: =기초자료!C10 -> 226122 | J8: (특별인부) | K8: =G31 -> 0.05 | L8: =TRUNC(H8*I8*(100%+K8),0) -> 237428 | O8: 60~80% | P8: 1.2 | Q8: 0.8 | R8: 1300 | S8: o 하늘아래 농약소요량 : 1병(500㎖)----(약제 희석비율 = 농약 100㎖ : 물 20ℓ)
B9: · 작업보조 | D9: 1 | E9: ha | F9: 1.5 | G9: 인/ha | H9: 1.5 | I9: =기초자료!C9 -> 172068 | J9: (보통인부) | K9: =G31 -> 0.05 | L9: =TRUNC(H9*I9*(100%+K9),0) -> 271007 | O9: 40~60% | P9: 1 | Q9: 0.67 | R9: 1100
O10: 20~40% | P10: 0.8 | Q10: 0.53 | R10: 900
B11: - 재료비 | L11: =SUM(L12:L13) -> 116160 | O11: 20%이하 | P11: 0.5 | Q11: 0.33 | R11: 500
B12: · 농약(300㎖/1병) | D12: 1 | E12: 본/ha | F12: 5000 | G12: ㎖ | H12: =ROUND((F12/500)*1.6,0) -> 16 | I12: 6600 | J12: 하늘아래 | L12: =TRUNC(H12*I12*(100%+K12),0) -> 105600 | M12: 5000㎖/500㎖ = 10병 기준에 의해
B13: · 잡품 | D13: =L12 -> 105600 | E13: 원 | F13: 10 | G13: % | L13: =TRUNC(D13*F13%,0) -> 10560 | M13: 300㎖ 기준 환산시 16병 | P13: 1000 | Q13: 500 | R13: =P13/Q13 -> 2
R14: =Q13/P13 -> 0.5 | S14: 300
B15: - 기계경비 | L15: =SUM(L16) -> 2352 | S15: =S14*R14 -> 150
B16: · 배부식분무기 | D16: 1 | E16: 1대/ha | F16: 0.0084 | G16: 1대1인 | H16: =F16*D16 -> 0.0084 | I16: =기초자료!C12 -> 280000 | J16: 분무기(대) | L16: =TRUNC(H16*I16*(100%+K16),0) -> 2352 | Q16: =500/300 -> 1.6666667
O18: o 덩굴피복도 조사: 지표면을 덩굴로 덮고 있는 정도를 다음과 같이 5단계로 구분하여 조사한다.
B22: 덩굴류제거 소계 | L22: =L7+L11+L15 -> 626947
A23: ▣ 할인.할증률 산정
B24: 구 분 | D24: 할인.할증요소 | G24: 단위작업(%) | K24: 비 고 | O24: 구 분 | P24: 내 용 | Q24: 할증률
G25: 덩굴류제거 | O25: 경사도 | P25: 완 (15° 이하) | Q25: 0
B26: - 경사도 | D26: =P26 -> 중 (15°～30°) | G26: 0.05 | K26: 합계 | M26: =SUM(M27:M31) -> 626947 | P26: 중 (15°～30°) | Q26: 0.05
B27: - 집단화정도 | D27: =P28 -> 개소당 평균면적이 3ha 이상 | G27: =Q28 -> 0 | K27: 직접노무비 | M27: =L7 -> 508435 | P27: 급 (30° 초과) | Q27: 0.1
B28: - 작업시기 | D28: =P31 -> 1∼5월 | G28: =Q31 -> 0 | K28: 재료비 | M28: =L11 -> 116160 | O28: 집단화 정도 | P28: 개소당 평균면적이 3ha 이상 | Q28: 0
B29: - 덩굴피복도 | D29: =P39 -> 보통(40∼60% 피복) | G29: =Q39 -> 0 | K29: 기타경비 | M29: =L15 -> 2352 | P29: 개소당 평균면적이 1∼3ha 미만 | Q29: 0.05
G30: 0 | P30: 개소당 평균면적이 1ha 미만 | Q30: 0.1
B31: 소계 | G31: =SUM(G26:H30) -> 0.05 | O31: 작업시기 | P31: 1∼5월 | Q31: 0
P32: 10월∼12월 | Q32: 0.05
G33: =F3/4 -> 0.1075 | P33: 6월∼9월 | Q33: 0.1
O34: 하층식생 | P34: 보행이 용이하다 | Q34: 0
P35: 보행하는데 약간의 어려움이 있다 | Q35: 0.05
P36: 식생을 제거하지 않고 보행이 곤란하다 | Q36: 0.1
O37: 덩굴피복도 | P37: 과밀(80%이상 피복) | Q37: 0.5
P38: 밀(60∼80% 피복) | Q38: 0.2
P39: 보통(40∼60% 피복) | Q39: 0
P40: 소(20∼40% 피복) | Q40: -0.2
P41: 과소(20%이하피복) | Q41: -0.5

Sheet 2-1
A1: 덩굴류제거 ha당 단가산출서
A3: 임소반 및 면적 | D3: =표준지좌표!A33 -> 1-0-4 | E3: 소반면적 : | F3: =표준지좌표!B36 -> 5.68 | H3: 단위 사업종 : | I3: 뿌리굴취 | M3: 비고
A4: 구분 | D4: 작업량 | F4: 단위품(인,량,율) | H4: 소요품 | I4: 단가 | K4: 할인 . | L4: 계
B5: 단위작업 | E5: 단위 | G5: 단위 | J5: 종류 | K5: 할증
A6: 단위작업 | B6: ○ 덩굴류제거 | M6: =표준지좌표!H36 -> 0
B7: - 직접노무비 | H7: =H8 -> 0 | I7: =I8 -> 172068 | K7: =G31 -> 0.05 | L7: =TRUNC(H7*I7*(100%+K7),0) -> 0
B8: ·뿌리굴취 | D8: =M6 -> 0 | E8: 본/ha | F8: =0.8*0.9 -> 0.72 | G8: 인/100본 | H8: =ROUND(F8*D8/100,2) -> 0 | I8: =기초자료!C9 -> 172068 | J8: (보통인부) | M8: 뿌리굴취는 기본품에서 10% 감하여 적용
B22: 덩굴류제거 소계 | L22: =L7 -> 0
A23: ▣ 할인.할증률 산정
B24: 구 분 | D24: 할인.할증요소 | G24: 단위작업(%) | K24: 비 고 | O24: 구 분 | P24: 내 용 | Q24: 할증률
G25: 덩굴류제거 | O25: 경사도 | P25: 완 (15° 이하) | Q25: 0
B26: - 경사도 | D26: =P26 -> 중 (15°～30°) | G26: =Q26 -> 0.05 | K26: 합계 | M26: =SUM(M27:M31) -> 0 | P26: 중 (15°～30°) | Q26: 0.05
B27: - 집단화정도 | D27: =P28 -> 개소당 평균면적이 3ha 이상 | G27: =Q28 -> 0 | K27: 직접노무비 | M27: =L7 -> 0 | P27: 급 (30° 초과) | Q27: 0.1
B28: - 작업시기 | D28: =P31 -> 1∼5월 | G28: =Q31 -> 0 | K28: 재료비 | O28: 집단화 정도 | P28: 개소당 평균면적이 3ha 이상 | Q28: 0
B29: - 하층식생 | D29: =P34 -> 보행이 용이하다 | G29: =Q34 -> 0 | K29: 기타경비 | P29: 개소당 평균면적이 1∼3ha 미만 | Q29: 0.05
B30: - 토양조건 | D30: =P37 -> 장애물이 거의 없음 | G30: =Q37 -> 0 | P30: 개소당 평균면적이 1ha 미만 | Q30: 0.1
B31: 소계 | G31: =SUM(G26:H30) -> 0.05 | O31: 작업시기 | P31: 1∼5월 | Q31: 0
P32: 10월∼12월 | Q32: 0.05
P33: 6월∼9월 | Q33: 0.1
F34: 8 | G34: =F3/F34 -> 0.71 | O34: 하층식생 | P34: 보행이 용이하다 | Q34: 0
P35: 보행하는데 약간의 어려움이 있다 | Q35: 0.05
P36: 식생을 제거하지 않고 보행이 곤란하다 | Q36: 0.1
O37: 토양조건 | P37: 장애물이 거의 없음 | Q37: 0
P38: 돌 등 장애물 함량이 10～30%인 지역 | Q38: 0.05
P39: 돌 등 장애물 함량이 30%이상인 지역 | Q39: 0.1

Sheet 2-2
A1: 덩굴류제거 ha당 단가산출서
A3: 임소반 및 면적 | D3: =표준지좌표!A37 -> 1-0-5 | E3: 소반면적 : | F3: =표준지좌표!B42 -> 8.8 | H3: 단위 사업종 : | I3: 뿌리굴취 | M3: 비고
A4: 구분 | D4: 작업량 | F4: 단위품(인,량,율) | H4: 소요품 | I4: 단가 | K4: 할인 . | L4: 계
B5: 단위작업 | E5: 단위 | G5: 단위 | J5: 종류 | K5: 할증
A6: 단위작업 | B6: ○ 덩굴류제거 | M6: =표준지좌표!H42 -> 0
B7: - 직접노무비 | H7: =H8 -> 0 | I7: =I8 -> 172068 | K7: =G31 -> 0.05 | L7: =TRUNC(H7*I7*(100%+K7),0) -> 0
B8: ·뿌리굴취 | D8: =M6 -> 0 | E8: 본/ha | F8: =0.8*0.9 -> 0.72 | G8: 인/100본 | H8: =ROUND(F8*D8/100,2) -> 0 | I8: =기초자료!C9 -> 172068 | J8: (보통인부) | M8: 뿌리굴취는 기본품에서 10% 감하여 적용
B22: 덩굴류제거 소계 | L22: =L7 -> 0
A23: ▣ 할인.할증률 산정
B24: 구 분 | D24: 할인.할증요소 | G24: 단위작업(%) | K24: 비 고 | O24: 구 분 | P24: 내 용 | Q24: 할증률
G25: 덩굴류제거 | O25: 경사도 | P25: 완 (15° 이하) | Q25: 0
B26: - 경사도 | D26: =P26 -> 중 (15°～30°) | G26: =Q26 -> 0.05 | K26: 합계 | M26: =SUM(M27:M31) -> 0 | P26: 중 (15°～30°) | Q26: 0.05
B27: - 집단화정도 | D27: =P28 -> 개소당 평균면적이 3ha 이상 | G27: =Q28 -> 0 | K27: 직접노무비 | M27: =L7 -> 0 | P27: 급 (30° 초과) | Q27: 0.1
B28: - 작업시기 | D28: =P31 -> 1∼5월 | G28: =Q31 -> 0 | K28: 재료비 | O28: 집단화 정도 | P28: 개소당 평균면적이 3ha 이상 | Q28: 0
B29: - 하층식생 | D29: =P34 -> 보행이 용이하다 | G29: =Q34 -> 0 | K29: 기타경비 | P29: 개소당 평균면적이 1∼3ha 미만 | Q29: 0.05
B30: - 토양조건 | D30: =P37 -> 장애물이 거의 없음 | G30: =Q37 -> 0 | P30: 개소당 평균면적이 1ha 미만 | Q30: 0.1
B31: 소계 | G31: =SUM(G26:H30) -> 0.05 | O31: 작업시기 | P31: 1∼5월 | Q31: 0
P32: 10월∼12월 | Q32: 0.05
P33: 6월∼9월 | Q33: 0.1
F34: 8 | G34: =F3/F34 -> 1.1 | O34: 하층식생 | P34: 보행이 용이하다 | Q34: 0
P35: 보행하는데 약간의 어려움이 있다 | Q35: 0.05
P36: 식생을 제거하지 않고 보행이 곤란하다 | Q36: 0.1
O37: 토양조건 | P37: 장애물이 거의 없음 | Q37: 0
P38: 돌 등 장애물 함량이 10～30%인 지역 | Q38: 0.05
P39: 돌 등 장애물 함량이 30%이상인 지역 | Q39: 0.1

Sheet 2-3
A1: 덩굴류제거 ha당 단가산출서
A3: 임소반 및 면적 | D3: =표준지좌표!A43 -> 1-0-6 | E3: 소반면적 : | F3: =표준지좌표!B45 -> 3.53 | H3: 단위 사업종 : | I3: 뿌리굴취 | M3: 비고
A4: 구분 | D4: 작업량 | F4: 단위품(인,량,율) | H4: 소요품 | I4: 단가 | K4: 할인 . | L4: 계
B5: 단위작업 | E5: 단위 | G5: 단위 | J5: 종류 | K5: 할증
A6: 단위작업 | B6: ○ 덩굴류제거 | M6: =표준지좌표!H45 -> 0
B7: - 직접노무비 | H7: =H8 -> 0 | I7: =I8 -> 172068 | K7: =G31 -> 0.05 | L7: =TRUNC(H7*I7*(100%+K7),0) -> 0
B8: ·뿌리굴취 | D8: =M6 -> 0 | E8: 본/ha | F8: =0.8*0.9 -> 0.72 | G8: 인/100본 | H8: =ROUND(F8*D8/100,2) -> 0 | I8: =기초자료!C9 -> 172068 | J8: (보통인부) | M8: 뿌리굴취는 기본품에서 10% 감하여 적용
B22: 덩굴류제거 소계 | L22: =L7 -> 0
A23: ▣ 할인.할증률 산정
B24: 구 분 | D24: 할인.할증요소 | G24: 단위작업(%) | K24: 비 고 | O24: 구 분 | P24: 내 용 | Q24: 할증률
G25: 덩굴류제거 | O25: 경사도 | P25: 완 (15° 이하) | Q25: 0
B26: - 경사도 | D26: =P26 -> 중 (15°～30°) | G26: =Q26 -> 0.05 | K26: 합계 | M26: =SUM(M27:M31) -> 0 | P26: 중 (15°～30°) | Q26: 0.05
B27: - 집단화정도 | D27: =P28 -> 개소당 평균면적이 3ha 이상 | G27: =Q28 -> 0 | K27: 직접노무비 | M27: =L7 -> 0 | P27: 급 (30° 초과) | Q27: 0.1
B28: - 작업시기 | D28: =P31 -> 1∼5월 | G28: =Q31 -> 0 | K28: 재료비 | O28: 집단화 정도 | P28: 개소당 평균면적이 3ha 이상 | Q28: 0
B29: - 하층식생 | D29: =P34 -> 보행이 용이하다 | G29: =Q34 -> 0 | K29: 기타경비 | P29: 개소당 평균면적이 1∼3ha 미만 | Q29: 0.05
B30: - 토양조건 | D30: =P37 -> 장애물이 거의 없음 | G30: =Q37 -> 0 | P30: 개소당 평균면적이 1ha 미만 | Q30: 0.1
B31: 소계 | G31: =SUM(G26:H30) -> 0.05 | O31: 작업시기 | P31: 1∼5월 | Q31: 0
P32: 10월∼12월 | Q32: 0.05
P33: 6월∼9월 | Q33: 0.1
F34: 8 | G34: =F3/F34 -> 0.44125 | O34: 하층식생 | P34: 보행이 용이하다 | Q34: 0
P35: 보행하는데 약간의 어려움이 있다 | Q35: 0.05
P36: 식생을 제거하지 않고 보행이 곤란하다 | Q36: 0.1
O37: 토양조건 | P37: 장애물이 거의 없음 | Q37: 0
P38: 돌 등 장애물 함량이 10～30%인 지역 | Q38: 0.05
P39: 돌 등 장애물 함량이 30%이상인 지역 | Q39: 0.1

Sheet 2-4
A1: 덩굴류제거 ha당 단가산출서
A3: 임소반 및 면적 | D3: =표준지좌표!A46 -> 2-0-4 | E3: 소반면적 : | F3: =표준지좌표!B47 -> 0 | H3: 단위 사업종 : | I3: 뿌리굴취 | M3: 비고
A4: 구분 | D4: 작업량 | F4: 단위품(인,량,율) | H4: 소요품 | I4: 단가 | K4: 할인 . | L4: 계
B5: 단위작업 | E5: 단위 | G5: 단위 | J5: 종류 | K5: 할증
A6: 단위작업 | B6: ○ 덩굴류제거 | M6: =표준지좌표!H47 -> 0
B7: - 직접노무비 | H7: =H8 -> 0 | I7: =I8 -> 172068 | K7: =G31 -> 0.05 | L7: =TRUNC(H7*I7*(100%+K7),0) -> 0
B8: ·뿌리굴취 | D8: =M6 -> 0 | E8: 본/ha | F8: =0.8*0.9 -> 0.72 | G8: 인/100본 | H8: =ROUND(F8*D8/100,2) -> 0 | I8: =기초자료!C9 -> 172068 | J8: (보통인부) | M8: 뿌리굴취는 기본품에서 10% 감하여 적용
B22: 덩굴류제거 소계 | L22: =L7 -> 0
A23: ▣ 할인.할증률 산정
B24: 구 분 | D24: 할인.할증요소 | G24: 단위작업(%) | K24: 비 고 | O24: 구 분 | P24: 내 용 | Q24: 할증률
G25: 덩굴류제거 | O25: 경사도 | P25: 완 (15° 이하) | Q25: 0
B26: - 경사도 | D26: =P26 -> 중 (15°～30°) | G26: =Q26 -> 0.05 | K26: 합계 | M26: =SUM(M27:M31) -> 0 | P26: 중 (15°～30°) | Q26: 0.05
B27: - 집단화정도 | D27: =P28 -> 개소당 평균면적이 3ha 이상 | G27: =Q28 -> 0 | K27: 직접노무비 | M27: =L7 -> 0 | P27: 급 (30° 초과) | Q27: 0.1
B28: - 작업시기 | D28: =P31 -> 1∼5월 | G28: =Q31 -> 0 | K28: 재료비 | O28: 집단화 정도 | P28: 개소당 평균면적이 3ha 이상 | Q28: 0
B29: - 하층식생 | D29: =P34 -> 보행이 용이하다 | G29: =Q34 -> 0 | K29: 기타경비 | P29: 개소당 평균면적이 1∼3ha 미만 | Q29: 0.05
B30: - 토양조건 | D30: =P37 -> 장애물이 거의 없음 | G30: =Q37 -> 0 | P30: 개소당 평균면적이 1ha 미만 | Q30: 0.1
B31: 소계 | G31: =SUM(G26:H30) -> 0.05 | O31: 작업시기 | P31: 1∼5월 | Q31: 0
P32: 10월∼12월 | Q32: 0.05
P33: 6월∼9월 | Q33: 0.1
F34: 8 | G34: =F3/F34 -> 0 | O34: 하층식생 | P34: 보행이 용이하다 | Q34: 0
P35: 보행하는데 약간의 어려움이 있다 | Q35: 0.05
P36: 식생을 제거하지 않고 보행이 곤란하다 | Q36: 0.1
O37: 토양조건 | P37: 장애물이 거의 없음 | Q37: 0
P38: 돌 등 장애물 함량이 10～30%인 지역 | Q38: 0.05
P39: 돌 등 장애물 함량이 30%이상인 지역 | Q39: 0.1

Sheet 2-5
A1: 덩굴류제거 ha당 단가산출서
A3: 임소반 및 면적 | D3: =표준지좌표!A48 -> 2-0-5 | E3: 소반면적 : | F3: =표준지좌표!B49 -> 0 | H3: 단위 사업종 : | I3: 뿌리굴취 | M3: 비고
A4: 구분 | D4: 작업량 | F4: 단위품(인,량,율) | H4: 소요품 | I4: 단가 | K4: 할인 . | L4: 계
B5: 단위작업 | E5: 단위 | G5: 단위 | J5: 종류 | K5: 할증
A6: 단위작업 | B6: ○ 덩굴류제거 | M6: =표준지좌표!H49 -> 0
B7: - 직접노무비 | H7: =H8 -> 0 | I7: =I8 -> 172068 | K7: =G31 -> 0.05 | L7: =TRUNC(H7*I7*(100%+K7),0) -> 0
B8: ·뿌리굴취 | D8: =M6 -> 0 | E8: 본/ha | F8: =0.8*0.9 -> 0.72 | G8: 인/100본 | H8: =ROUND(F8*D8/100,2) -> 0 | I8: =기초자료!C9 -> 172068 | J8: (보통인부) | M8: 뿌리굴취는 기본품에서 10% 감하여 적용
B22: 덩굴류제거 소계 | L22: =L7 -> 0
A23: ▣ 할인.할증률 산정
B24: 구 분 | D24: 할인.할증요소 | G24: 단위작업(%) | K24: 비 고 | O24: 구 분 | P24: 내 용 | Q24: 할증률
G25: 덩굴류제거 | O25: 경사도 | P25: 완 (15° 이하) | Q25: 0
B26: - 경사도 | D26: =P26 -> 중 (15°～30°) | G26: =Q26 -> 0.05 | K26: 합계 | M26: =SUM(M27:M31) -> 0 | P26: 중 (15°～30°) | Q26: 0.05
B27: - 집단화정도 | D27: =P28 -> 개소당 평균면적이 3ha 이상 | G27: =Q28 -> 0 | K27: 직접노무비 | M27: =L7 -> 0 | P27: 급 (30° 초과) | Q27: 0.1
B28: - 작업시기 | D28: =P31 -> 1∼5월 | G28: =Q31 -> 0 | K28: 재료비 | O28: 집단화 정도 | P28: 개소당 평균면적이 3ha 이상 | Q28: 0
B29: - 하층식생 | D29: =P34 -> 보행이 용이하다 | G29: =Q34 -> 0 | K29: 기타경비 | P29: 개소당 평균면적이 1∼3ha 미만 | Q29: 0.05
B30: - 토양조건 | D30: =P37 -> 장애물이 거의 없음 | G30: =Q37 -> 0 | P30: 개소당 평균면적이 1ha 미만 | Q30: 0.1
B31: 소계 | G31: =SUM(G26:H30) -> 0.05 | O31: 작업시기 | P31: 1∼5월 | Q31: 0
P32: 10월∼12월 | Q32: 0.05
P33: 6월∼9월 | Q33: 0.1
F34: 8 | G34: =F3/F34 -> 0 | O34: 하층식생 | P34: 보행이 용이하다 | Q34: 0
P35: 보행하는데 약간의 어려움이 있다 | Q35: 0.05
P36: 식생을 제거하지 않고 보행이 곤란하다 | Q36: 0.1
O37: 토양조건 | P37: 장애물이 거의 없음 | Q37: 0
P38: 돌 등 장애물 함량이 10～30%인 지역 | Q38: 0.05
P39: 돌 등 장애물 함량이 30%이상인 지역 | Q39: 0.1

Sheet 4-1
A1: 덩굴류제거 ha당 단가산출서
A3: 임소반 및 면적 | D3: =표준지좌표!A50 -> 0 | E3: 소반면적 : | F3: =표준지좌표!B51 -> 0 | H3: 단위 사업종 : | I3: 뿌리굴취 | M3: 비고
A4: 구분 | D4: 작업량 | F4: 단위품(인,량,율) | H4: 소요품 | I4: 단가 | K4: 할인 . | L4: 계
B5: 단위작업 | E5: 단위 | G5: 단위 | J5: 종류 | K5: 할증
A6: 단위작업 | B6: ○ 덩굴류제거 | M6: =표준지좌표!H51 -> 0
B7: - 직접노무비 | H7: =H8 -> 0 | I7: =I8 -> 172068 | K7: =G31 -> 0.1 | L7: =TRUNC(H7*I7*(100%+K7),0) -> 0
B8: ·뿌리굴취 | D8: =M6 -> 0 | E8: 본/ha | F8: =0.8*0.9 -> 0.72 | G8: 인/100본 | H8: =ROUND(F8*D8/100,2) -> 0 | I8: =기초자료!C9 -> 172068 | J8: (보통인부) | M8: 뿌리굴취는 기본품에서 10% 감하여 적용
B22: 덩굴류제거 소계 | L22: =L7 -> 0
A23: ▣ 할인.할증률 산정
B24: 구 분 | D24: 할인.할증요소 | G24: 단위작업(%) | K24: 비 고 | O24: 구 분 | P24: 내 용 | Q24: 할증률
G25: 덩굴류제거 | O25: 경사도 | P25: 완 (15° 이하) | Q25: 0
B26: - 경사도 | D26: =P26 -> 중 (15°～30°) | G26: =Q26 -> 0.05 | K26: 합계 | M26: =SUM(M27:M31) -> 0 | P26: 중 (15°～30°) | Q26: 0.05
B27: - 집단화정도 | D27: =P28 -> 개소당 평균면적이 3ha 이상 | G27: 0 | K27: 직접노무비 | M27: =L7 -> 0 | P27: 급 (30° 초과) | Q27: 0.1
B28: - 작업시기 | D28: =P32 -> 10월∼12월 | G28: 0.05 | K28: 재료비 | O28: 집단화 정도 | P28: 개소당 평균면적이 3ha 이상 | Q28: 0
B29: - 하층식생 | D29: =P34 -> 보행이 용이하다 | G29: =Q34 -> 0 | K29: 기타경비 | P29: 개소당 평균면적이 1∼3ha 미만 | Q29: 0.05
B30: - 토양조건 | D30: =P37 -> 장애물이 거의 없음 | G30: =Q37 -> 0 | P30: 개소당 평균면적이 1ha 미만 | Q30: 0.1
B31: 소계 | G31: =SUM(G26:H30) -> 0.1 | O31: 작업시기 | P31: 1∼5월 | Q31: 0
P32: 10월∼12월 | Q32: 0.05
P33: 6월∼9월 | Q33: 0.1
F34: 8 | G34: =F3/F34 -> 0 | O34: 하층식생 | P34: 보행이 용이하다 | Q34: 0
P35: 보행하는데 약간의 어려움이 있다 | Q35: 0.05
P36: 식생을 제거하지 않고 보행이 곤란하다 | Q36: 0.1
O37: 토양조건 | P37: 장애물이 거의 없음 | Q37: 0
P38: 돌 등 장애물 함량이 10～30%인 지역 | Q38: 0.05
P39: 돌 등 장애물 함량이 30%이상인 지역 | Q39: 0.1

Sheet 4-2
A1: 덩굴류제거 ha당 단가산출서
A3: 임소반 및 면적 | D3: =표준지좌표!A52 -> 0 | E3: 소반면적 : | F3: =표준지좌표!B53 -> 0 | H3: 단위 사업종 : | I3: 뿌리굴취 | M3: 비고
A4: 구분 | D4: 작업량 | F4: 단위품(인,량,율) | H4: 소요품 | I4: 단가 | K4: 할인 . | L4: 계
B5: 단위작업 | E5: 단위 | G5: 단위 | J5: 종류 | K5: 할증
A6: 단위작업 | B6: ○ 덩굴류제거 | M6: =표준지좌표!H53 -> 0
B7: - 직접노무비 | H7: =H8 -> 0 | I7: =I8 -> 172068 | K7: =G31 -> 0.1 | L7: =TRUNC(H7*I7*(100%+K7),0) -> 0
B8: ·뿌리굴취 | D8: =M6 -> 0 | E8: 본/ha | F8: =0.8*0.9 -> 0.72 | G8: 인/100본 | H8: =ROUND(F8*D8/100,2) -> 0 | I8: =기초자료!C9 -> 172068 | J8: (보통인부) | M8: 뿌리굴취는 기본품에서 10% 감하여 적용
B22: 덩굴류제거 소계 | L22: =L7 -> 0
A23: ▣ 할인.할증률 산정
B24: 구 분 | D24: 할인.할증요소 | G24: 단위작업(%) | K24: 비 고 | O24: 구 분 | P24: 내 용 | Q24: 할증률
G25: 덩굴류제거 | O25: 경사도 | P25: 완 (15° 이하) | Q25: 0
B26: - 경사도 | D26: =P26 -> 중 (15°～30°) | G26: =Q26 -> 0.05 | K26: 합계 | M26: =SUM(M27:M31) -> 0 | P26: 중 (15°～30°) | Q26: 0.05
B27: - 집단화정도 | D27: =P28 -> 개소당 평균면적이 3ha 이상 | G27: 0 | K27: 직접노무비 | M27: =L7 -> 0 | P27: 급 (30° 초과) | Q27: 0.1
B28: - 작업시기 | D28: =P32 -> 10월∼12월 | G28: 0.05 | K28: 재료비 | O28: 집단화 정도 | P28: 개소당 평균면적이 3ha 이상 | Q28: 0
B29: - 하층식생 | D29: =P34 -> 보행이 용이하다 | G29: =Q34 -> 0 | K29: 기타경비 | P29: 개소당 평균면적이 1∼3ha 미만 | Q29: 0.05
B30: - 토양조건 | D30: =P37 -> 장애물이 거의 없음 | G30: =Q37 -> 0 | P30: 개소당 평균면적이 1ha 미만 | Q30: 0.1
B31: 소계 | G31: =SUM(G26:H30) -> 0.1 | O31: 작업시기 | P31: 1∼5월 | Q31: 0
P32: 10월∼12월 | Q32: 0.05
P33: 6월∼9월 | Q33: 0.1
F34: 8 | G34: =F3/F34 -> 0 | O34: 하층식생 | P34: 보행이 용이하다 | Q34: 0
P35: 보행하는데 약간의 어려움이 있다 | Q35: 0.05
P36: 식생을 제거하지 않고 보행이 곤란하다 | Q36: 0.1
O37: 토양조건 | P37: 장애물이 거의 없음 | Q37: 0
P38: 돌 등 장애물 함량이 10～30%인 지역 | Q38: 0.05
P39: 돌 등 장애물 함량이 30%이상인 지역 | Q39: 0.1

Sheet 5-1
A1: 덩굴류제거 ha당 단가산출서
A3: 임소반 및 면적 | D3: =표준지좌표!A54 -> 0 | E3: 소반면적 : | F3: =표준지좌표!B55 -> 0 | H3: 단위 사업종 : | I3: 뿌리굴취 | M3: 비고
A4: 구분 | D4: 작업량 | F4: 단위품(인,량,율) | H4: 소요품 | I4: 단가 | K4: 할인 . | L4: 계
B5: 단위작업 | E5: 단위 | G5: 단위 | J5: 종류 | K5: 할증
A6: 단위작업 | B6: ○ 덩굴류제거 | M6: =표준지좌표!H55 -> 0
B7: - 직접노무비 | H7: =H8 -> 0 | I7: =I8 -> 172068 | K7: =G31 -> 0.1 | L7: =TRUNC(H7*I7*(100%+K7),0) -> 0
B8: ·뿌리굴취 | D8: =M6 -> 0 | E8: 본/ha | F8: =0.8*0.9 -> 0.72 | G8: 인/100본 | H8: =ROUND(F8*D8/100,2) -> 0 | I8: =기초자료!C9 -> 172068 | J8: (보통인부) | M8: 뿌리굴취는 기본품에서 10% 감하여 적용
B22: 덩굴류제거 소계 | L22: =L7 -> 0
A23: ▣ 할인.할증률 산정
B24: 구 분 | D24: 할인.할증요소 | G24: 단위작업(%) | K24: 비 고 | O24: 구 분 | P24: 내 용 | Q24: 할증률
G25: 덩굴류제거 | O25: 경사도 | P25: 완 (15° 이하) | Q25: 0
B26: - 경사도 | D26: =P26 -> 중 (15°～30°) | G26: =Q26 -> 0.05 | K26: 합계 | M26: =SUM(M27:M31) -> 0 | P26: 중 (15°～30°) | Q26: 0.05
B27: - 집단화정도 | D27: =P28 -> 개소당 평균면적이 3ha 이상 | G27: 0 | K27: 직접노무비 | M27: =L7 -> 0 | P27: 급 (30° 초과) | Q27: 0.1
B28: - 작업시기 | D28: =P32 -> 10월∼12월 | G28: 0.05 | K28: 재료비 | O28: 집단화 정도 | P28: 개소당 평균면적이 3ha 이상 | Q28: 0
B29: - 하층식생 | D29: =P34 -> 보행이 용이하다 | G29: =Q34 -> 0 | K29: 기타경비 | P29: 개소당 평균면적이 1∼3ha 미만 | Q29: 0.05
B30: - 토양조건 | D30: =P37 -> 장애물이 거의 없음 | G30: =Q37 -> 0 | P30: 개소당 평균면적이 1ha 미만 | Q30: 0.1
B31: 소계 | G31: =SUM(G26:H30) -> 0.1 | O31: 작업시기 | P31: 1∼5월 | Q31: 0
P32: 10월∼12월 | Q32: 0.05
P33: 6월∼9월 | Q33: 0.1
F34: 8 | G34: =F3/F34 -> 0 | O34: 하층식생 | P34: 보행이 용이하다 | Q34: 0
P35: 보행하는데 약간의 어려움이 있다 | Q35: 0.05
P36: 식생을 제거하지 않고 보행이 곤란하다 | Q36: 0.1
O37: 토양조건 | P37: 장애물이 거의 없음 | Q37: 0
P38: 돌 등 장애물 함량이 10～30%인 지역 | Q38: 0.05
P39: 돌 등 장애물 함량이 30%이상인 지역 | Q39: 0.1

Sheet 6-1
A1: 덩굴류제거 ha당 단가산출서
A3: 임소반 및 면적 | D3: =표준지좌표!A56 -> 0 | E3: 소반면적 : | F3: =표준지좌표!B57 -> 0 | H3: 단위 사업종 : | I3: 뿌리굴취 | M3: 비고
A4: 구분 | D4: 작업량 | F4: 단위품(인,량,율) | H4: 소요품 | I4: 단가 | K4: 할인 . | L4: 계
B5: 단위작업 | E5: 단위 | G5: 단위 | J5: 종류 | K5: 할증
A6: 단위작업 | B6: ○ 덩굴류제거 | M6: =표준지좌표!H57 -> 0
B7: - 직접노무비 | H7: =H8 -> 0 | I7: =I8 -> 172068 | K7: =G31 -> 0.1 | L7: =TRUNC(H7*I7*(100%+K7),0) -> 0
B8: ·뿌리굴취 | D8: =M6 -> 0 | E8: 본/ha | F8: =0.8*0.9 -> 0.72 | G8: 인/100본 | H8: =ROUND(F8*D8/100,2) -> 0 | I8: =기초자료!C9 -> 172068 | J8: (보통인부) | M8: 뿌리굴취는 기본품에서 10% 감하여 적용
B22: 덩굴류제거 소계 | L22: =L7 -> 0
A23: ▣ 할인.할증률 산정
B24: 구 분 | D24: 할인.할증요소 | G24: 단위작업(%) | K24: 비 고 | O24: 구 분 | P24: 내 용 | Q24: 할증률
G25: 덩굴류제거 | O25: 경사도 | P25: 완 (15° 이하) | Q25: 0
B26: - 경사도 | D26: =P26 -> 중 (15°～30°) | G26: =Q26 -> 0.05 | K26: 합계 | M26: =SUM(M27:M31) -> 0 | P26: 중 (15°～30°) | Q26: 0.05
B27: - 집단화정도 | D27: =P28 -> 개소당 평균면적이 3ha 이상 | G27: 0 | K27: 직접노무비 | M27: =L7 -> 0 | P27: 급 (30° 초과) | Q27: 0.1
B28: - 작업시기 | D28: =P32 -> 10월∼12월 | G28: 0.05 | K28: 재료비 | O28: 집단화 정도 | P28: 개소당 평균면적이 3ha 이상 | Q28: 0
B29: - 하층식생 | D29: =P34 -> 보행이 용이하다 | G29: =Q34 -> 0 | K29: 기타경비 | P29: 개소당 평균면적이 1∼3ha 미만 | Q29: 0.05
B30: - 토양조건 | D30: =P37 -> 장애물이 거의 없음 | G30: =Q37 -> 0 | P30: 개소당 평균면적이 1ha 미만 | Q30: 0.1
B31: 소계 | G31: =SUM(G26:H30) -> 0.1 | O31: 작업시기 | P31: 1∼5월 | Q31: 0
P32: 10월∼12월 | Q32: 0.05
P33: 6월∼9월 | Q33: 0.1
F34: 8 | G34: =F3/F34 -> 0 | O34: 하층식생 | P34: 보행이 용이하다 | Q34: 0
P35: 보행하는데 약간의 어려움이 있다 | Q35: 0.05
P36: 식생을 제거하지 않고 보행이 곤란하다 | Q36: 0.1
O37: 토양조건 | P37: 장애물이 거의 없음 | Q37: 0
P38: 돌 등 장애물 함량이 10～30%인 지역 | Q38: 0.05
P39: 돌 등 장애물 함량이 30%이상인 지역 | Q39: 0.1

Sheet 6-2
A1: 덩굴류제거 ha당 단가산출서
A3: 임소반 및 면적 | D3: =표준지좌표!A58 -> 0 | E3: 소반면적 : | F3: =표준지좌표!B64 -> 0 | H3: 단위 사업종 : | I3: 뿌리굴취 | M3: 비고
A4: 구분 | D4: 작업량 | F4: 단위품(인,량,율) | H4: 소요품 | I4: 단가 | K4: 할인 . | L4: 계
B5: 단위작업 | E5: 단위 | G5: 단위 | J5: 종류 | K5: 할증
A6: 단위작업 | B6: ○ 덩굴류제거 | M6: =표준지좌표!H64 -> 0
B7: - 직접노무비 | H7: =H8 -> 0 | I7: =I8 -> 172068 | K7: =G31 -> 0.1 | L7: =TRUNC(H7*I7*(100%+K7),0) -> 0
B8: ·뿌리굴취 | D8: =M6 -> 0 | E8: 본/ha | F8: =0.8*0.9 -> 0.72 | G8: 인/100본 | H8: =ROUND(F8*D8/100,2) -> 0 | I8: =기초자료!C9 -> 172068 | J8: (보통인부) | M8: 뿌리굴취는 기본품에서 10% 감하여 적용
B22: 덩굴류제거 소계 | L22: =L7 -> 0
A23: ▣ 할인.할증률 산정
B24: 구 분 | D24: 할인.할증요소 | G24: 단위작업(%) | K24: 비 고 | O24: 구 분 | P24: 내 용 | Q24: 할증률
G25: 덩굴류제거 | O25: 경사도 | P25: 완 (15° 이하) | Q25: 0
B26: - 경사도 | D26: =P26 -> 중 (15°～30°) | G26: =Q26 -> 0.05 | K26: 합계 | M26: =SUM(M27:M31) -> 0 | P26: 중 (15°～30°) | Q26: 0.05
B27: - 집단화정도 | D27: =P28 -> 개소당 평균면적이 3ha 이상 | G27: 0 | K27: 직접노무비 | M27: =L7 -> 0 | P27: 급 (30° 초과) | Q27: 0.1
B28: - 작업시기 | D28: =P32 -> 10월∼12월 | G28: 0.05 | K28: 재료비 | O28: 집단화 정도 | P28: 개소당 평균면적이 3ha 이상 | Q28: 0
B29: - 하층식생 | D29: =P34 -> 보행이 용이하다 | G29: =Q34 -> 0 | K29: 기타경비 | P29: 개소당 평균면적이 1∼3ha 미만 | Q29: 0.05
B30: - 토양조건 | D30: =P37 -> 장애물이 거의 없음 | G30: =Q37 -> 0 | P30: 개소당 평균면적이 1ha 미만 | Q30: 0.1
B31: 소계 | G31: =SUM(G26:H30) -> 0.1 | O31: 작업시기 | P31: 1∼5월 | Q31: 0
P32: 10월∼12월 | Q32: 0.05
P33: 6월∼9월 | Q33: 0.1
F34: 8 | G34: =F3/F34 -> 0 | O34: 하층식생 | P34: 보행이 용이하다 | Q34: 0
P35: 보행하는데 약간의 어려움이 있다 | Q35: 0.05
P36: 식생을 제거하지 않고 보행이 곤란하다 | Q36: 0.1
O37: 토양조건 | P37: 장애물이 거의 없음 | Q37: 0
P38: 돌 등 장애물 함량이 10～30%인 지역 | Q38: 0.05
P39: 돌 등 장애물 함량이 30%이상인 지역 | Q39: 0.1

Sheet 소1-1
A1: 소반별 시방서
C3: 소재지 | D3: =필지별조서!C166 -> 압해 | E3: =필지별조서!D166 -> 학교 | F3: 산30-10임 외 55필지 | G3: 임소반 | H3: =필지별조서!A166 -> 1-0-3
A5: 1. 산림의 기능 및 경영목표
B6: 가. 산림의기능: 주기능 - 목재생산림, 특용수생산림, 생활환경보전림(경관형)
B7: 나. 경 영 목 표: 조림목의 생육환경 개선과, 생활권 주변 경관을 유지 및 시각적 효과 증진을 목표로 함
B8: 다. 사 업 종: 칡덩굴제거이며, 단위작업으로는 뿌리고살(뿌리굴취)임
A10: 2. 지황
B11: 가. 지형
B12: ○ | C12: =" "&H3&"소반은 "&D3&"면 "&E3&"리에 분산되어 있으며 전체적인 방향은 각 방향이며, 해발고는 다양하게 분포한다." -> 1-0-3소반은 압해면 학교리에 분산되어 있으며 전체적인 방향은 각 방향이며, 해발고는 다양하게 분포한다.
B13: ○ | C13: ="산지경사는 "&E26&"경사이고, 덩굴류 분포형태는 분산되어 분포하고 있음" -> 산지경사는 중 (15°～30°)경사이고, 덩굴류 분포형태는 분산되어 분포하고 있음
B15: 나. 면적
B16: ○ | C16: =" 사업대상지는 "&D3&"면 "&E3&"리 "&F3&"임" -> 사업대상지는 압해면 학교리 산30-10임 외 55필지임
B17: ○ | C17: =" 소반내에 덩굴류제거 사업면적은 "&D26&"ha 임" -> 소반내에 덩굴류제거 사업면적은 4.52ha 임
B19: 다. 접근성: 사업지 주변으로 도로, 작업로가 있어 작업장까지 접근하기 쉬움
A21: 3. 작업방법
B22: 가. 임황
C24: 작업방법 | D24: 면적(ha) | E24: 경사도 | F24: 집단화정도 | G24: 하층식생 | H24: 토양조건
C26: 뿌리굴취 | D26: =표준지좌표!B8 -> 4.52 | E26: ='1-1'!D26 -> 중 (15°～30°) | F26: ='1-1'!D27 -> 개소당 평균면적이 3ha 이상 | G26: ='1-1'!D29 -> 보행이 용이하다 | H26: ='1-1'!D30 -> 장애물이 거의 없음
B28: 나. 덩굴제거 소요인력
C30: 구분 | D30: 사용도구 | F30: 단위 | G30: 소요인력 | H30: 인력구분
C31: 뿌리고살 | D31: 괭이, 손톱, 송곳 | F31: 인/100본 | G31: 0.72 | H31: 보통인부
B33: ○ | C33: 본 품에는 덩굴을 인력으로 걷기, 주두부 찾기, 세근처리, 구덩이파기, 주근 자르기, 뿌리처리와
C34: 뒷정리를 포함한다.
B35: ○ | C35: 칡덩굴 수량(본)은 주두부 직경이 1cm이상인 것을 기준으로 한다
B36: ○ | C36: 뿌리굴취는 기본품에서 10%를 감하여 적용한다.
B38: 다. 뿌리굴취 작업방법
B39: ○ | C39: 인력 또는 기계를 이용하여 직경 2cm 이상의 뿌리를 굴취한다. 굴취가 곤란한 경우, 주두부로부터
C40: 지하부 20cm이상 떨어진 지점을 손톱으로 자르면 굴취로 본다.
B41: ○ | C41: 직경 2cm 미만의 뿌리는 손으로 뽑거나 주두부 아래 5cm 이상 떨어진 지하부를 절단한다.
B42: ○ | C42: 뿌리 굴취가 완료되면 구덩이는 되메우기를 실시한다.
B43: ○ | C43: 뽑거나 자른 뿌리와 주두부는 구덩이 위에 놓아 작업결과를 확인할 수 있도록 한다.
B45: 라. 기타
B46: ○ | C46: 안전사고가 발생되지 않도록 작업시간 전과 휴식시간 중에 수시로 안전교육을 실시한다.
B47: ○ | C47: 작업중 뱀, 독충 등으로 인한 피해가 발생되지 않도록 각별한 주의가 필요하며, 응급약품을
C48: 현장에 비치토록 하고 개인별 안전장비 착용을 의무화하도록 한다.

Sheet 소5
A1: 소반별 시방서
C3: 소재지 | D3: =필지별조서!#REF! -> #REF! | E3: =필지별조서!#REF! -> #REF! | F3: =필지별조서!#REF!&"등 2필지" -> #REF! | G3: 임소반 | H3: =표준지좌표!#REF! -> #REF!
A5: 1. 산림의 기능 및 경영목표
B6: 가. 산림의기능: 주기능 - 생활환경보전림(경관형)
B7: 나. 경 영 목 표: 생활권 주변 경관을 유지하고 심리적 안정감과 시각적 효과 증진을 목표로 함
B8: 다. 사 업 종: 칡덩굴제거이며, 단위작업으로는 뿌리고살(뿌리굴취)임
A10: 2. 지황
B11: 가. 지형
B12: ○ | C12: =" "&H3&"소반은 "&D3&"면 "&E3&"리 산정이하의 지역으로 해발고 140~265m 사이에 분포함" -> #REF!
B13: ○ | C13: ="산지경사는 "&E26&"경사이고, 덩굴류 분포형태는 분산되어 분포하고 있음" -> #REF!
B15: 나. 면적
B16: ○ | C16: =" 사업대상지는 "&D3&"면 "&E3&"리 "&F3&"로 지적면적은 "&필지별조서!#REF!+필지별조서!#REF!&"ha 임" -> #REF!
B17: ○ | C17: =" 소반내에 덩굴류제거 사업면적은 "&D26&"ha 임" -> #REF!
B19: 다. 접근성: 사업지 주변으로 도로, 작업로가 있어 작업장까지 접근하기 쉬움
A21: 3. 작업방법
B22: 가. 임황
C24: 작업방법 | D24: 면적(ha) | E24: 경사도 | F24: 집단화정도 | G24: 하층식생 | H24: 토양조건
C26: 뿌리굴취 | D26: =표준지좌표!#REF! -> #REF! | E26: =#REF! -> #REF! | F26: =#REF! -> #REF! | G26: =#REF! -> #REF! | H26: =#REF! -> #REF!
B28: 나. 덩굴제거 소요인력
C30: 구분 | D30: 사용도구 | F30: 단위 | G30: 소요인력 | H30: 인력구분
C31: 뿌리고살 | D31: 괭이, 손톱, 송곳 | F31: 인/100본 | G31: 0.8 | H31: 보통인부
B33: ○ | C33: 본 품에는 덩굴을 인력으로 걷기, 주두부 찾기, 세근처리, 구덩이파기, 주근 자르기, 뿌리처리와
C34: 뒷정리를 포함한다.
B35: ○ | C35: 칡덩굴 수량(본)은 주두부 직경이 1cm이상인 것을 기준으로 한다
B36: ○ | C36: 뿌리굴취는 기본품에서 10%를 감하여 적용한다.
B38: 다. 뿌리굴취 작업방법
B39: ○ | C39: 인력 또는 기계를 이용하여 직경 2cm 이상의 뿌리를 굴취한다. 굴취가 곤란한 경우, 주두부로부터
C40: 지하부 20cm이상 떨어진 지점을 손톱으로 자르면 굴취로 본다.
B41: ○ | C41: 직경 2cm 미만의 뿌리는 손으로 뽑거나 주두부 아래 5cm 이상 떨어진 지하부를 절단한다.
B42: ○ | C42: 뿌리 굴취가 완료되면 구덩이는 되메우기를 실시한다.
B43: ○ | C43: 뽑거나 자른 뿌리와 주두부는 구덩이 위에 놓아 작업결과를 확인할 수 있도록 한다.
B45: 라. 기타
B46: ○ | C46: 안전사고가 발생되지 않도록 작업시간 전과 휴식시간 중에 수시로 안전교육을 실시한다.
B47: ○ | C47: 작업중 뱀, 독충 등으로 인한 피해가 발생되지 않도록 각별한 주의가 필요하며, 응급약품을
C48: 현장에 비치토록 하고 개인별 안전장비 착용을 의무화하도록 한다.

Sheet 소6
A1: 소반별 시방서
C3: 소재지 | D3: =필지별조서!#REF! -> #REF! | E3: =필지별조서!#REF! -> #REF! | F3: =필지별조서!#REF!&"등 2필지" -> #REF! | G3: 임소반 | H3: =표준지좌표!#REF! -> #REF!
A5: 1. 산림의 기능 및 경영목표
B6: 가. 산림의기능: 주기능 - 생활환경보전림(경관형)
B7: 나. 경 영 목 표: 생활권 주변 경관을 유지하고 심리적 안정감과 시각적 효과 증진을 목표로 함
B8: 다. 사 업 종: 칡덩굴제거이며, 단위작업으로는 뿌리고살(뿌리굴취)임
A10: 2. 지황
B11: 가. 지형
B12: ○ | C12: =" "&H3&"소반은 "&D3&"면 "&E3&"리 산복이하의 지역으로 해발고 230~255m 사이에 분포함" -> #REF!
B13: ○ | C13: ="산지경사는 "&E26&"경사이고, 덩굴류 분포형태는 분산되어 분포하고 있음" -> #REF!
B15: 나. 면적
B16: ○ | C16: =" 사업대상지는 "&D3&"면 "&E3&"리 "&F3&"로 지적면적은 "&필지별조서!#REF!+필지별조서!#REF!&"ha 임" -> #REF!
B17: ○ | C17: =" 소반내에 덩굴류제거 사업면적은 "&D26&"ha 임" -> #REF!
B19: 다. 접근성: 사업지 주변으로 도로, 작업로가 있어 작업장까지 접근하기 쉬움
A21: 3. 작업방법
B22: 가. 임황
C24: 작업방법 | D24: 면적(ha) | E24: 경사도 | F24: 집단화정도 | G24: 하층식생 | H24: 토양조건
C26: 뿌리굴취 | D26: =표준지좌표!#REF! -> #REF! | E26: =#REF! -> #REF! | F26: =#REF! -> #REF! | G26: =#REF! -> #REF! | H26: =#REF! -> #REF!
B28: 나. 덩굴제거 소요인력
C30: 구분 | D30: 사용도구 | F30: 단위 | G30: 소요인력 | H30: 인력구분
C31: 뿌리고살 | D31: 괭이, 손톱, 송곳 | F31: 인/100본 | G31: 0.8 | H31: 보통인부
B33: ○ | C33: 본 품에는 덩굴을 인력으로 걷기, 주두부 찾기, 세근처리, 구덩이파기, 주근 자르기, 뿌리처리와
C34: 뒷정리를 포함한다.
B35: ○ | C35: 칡덩굴 수량(본)은 주두부 직경이 1cm이상인 것을 기준으로 한다
B36: ○ | C36: 뿌리굴취는 기본품에서 10%를 감하여 적용한다.
B38: 다. 뿌리굴취 작업방법
B39: ○ | C39: 인력 또는 기계를 이용하여 직경 2cm 이상의 뿌리를 굴취한다. 굴취가 곤란한 경우, 주두부로부터
C40: 지하부 20cm이상 떨어진 지점을 손톱으로 자르면 굴취로 본다.
B41: ○ | C41: 직경 2cm 미만의 뿌리는 손으로 뽑거나 주두부 아래 5cm 이상 떨어진 지하부를 절단한다.
B42: ○ | C42: 뿌리 굴취가 완료되면 구덩이는 되메우기를 실시한다.
B43: ○ | C43: 뽑거나 자른 뿌리와 주두부는 구덩이 위에 놓아 작업결과를 확인할 수 있도록 한다.
B45: 라. 기타
B46: ○ | C46: 안전사고가 발생되지 않도록 작업시간 전과 휴식시간 중에 수시로 안전교육을 실시한다.
B47: ○ | C47: 작업중 뱀, 독충 등으로 인한 피해가 발생되지 않도록 각별한 주의가 필요하며, 응급약품을
C48: 현장에 비치토록 하고 개인별 안전장비 착용을 의무화하도록 한다.

Sheet 소7
A1: 소반별 시방서
C3: 소재지 | D3: =필지별조서!#REF! -> #REF! | E3: =필지별조서!#REF! -> #REF! | F3: =필지별조서!#REF!&"등 2필지" -> #REF! | G3: 임소반 | H3: =필지별조서!#REF! -> #REF!
A5: 1. 산림의 기능 및 경영목표
B6: 가. 산림의기능: 주기능 - 생활환경보전림(경관형)
B7: 나. 경 영 목 표: 생활권 주변 경관을 유지하고 심리적 안정감과 시각적 효과 증진을 목표로 함
B8: 다. 사 업 종: 칡덩굴제거이며, 단위작업으로는 뿌리고살(뿌리굴취)임
A10: 2. 지황
B11: 가. 지형
B12: ○ | C12: =" "&H3&"소반은 "&D3&"면 "&E3&"리 산복이하의 지역으로 해발고 65~130m 사이에 분포함" -> #REF!
B13: ○ | C13: ="산지경사는 "&E26&"경사이고, 덩굴류 분포형태는 분산되어 분포하고 있음" -> #REF!
B15: 나. 면적
B16: ○ | C16: =" 사업대상지는 "&D3&"면 "&E3&"리 "&F3&"로 지적면적은 "&필지별조서!#REF!+필지별조서!#REF!&"ha 임" -> #REF!
B17: ○ | C17: =" 소반내에 덩굴류제거 사업면적은 "&D26&"ha 임" -> #REF!
B19: 다. 접근성: 사업지 주변으로 도로, 작업로가 있어 작업장까지 접근하기 쉬움
A21: 3. 작업방법
B22: 가. 임황
C24: 작업방법 | D24: 면적(ha) | E24: 경사도 | F24: 집단화정도 | G24: 하층식생 | H24: 토양조건
C26: 뿌리굴취 | D26: =표준지좌표!#REF! -> #REF! | E26: =#REF! -> #REF! | F26: =#REF! -> #REF! | G26: =#REF! -> #REF! | H26: =#REF! -> #REF!
B28: 나. 덩굴제거 소요인력
C30: 구분 | D30: 사용도구 | F30: 단위 | G30: 소요인력 | H30: 인력구분
C31: 뿌리고살 | D31: 괭이, 손톱, 송곳 | F31: 인/100본 | G31: 0.8 | H31: 보통인부
B33: ○ | C33: 본 품에는 덩굴을 인력으로 걷기, 주두부 찾기, 세근처리, 구덩이파기, 주근 자르기, 뿌리처리와
C34: 뒷정리를 포함한다.
B35: ○ | C35: 칡덩굴 수량(본)은 주두부 직경이 1cm이상인 것을 기준으로 한다
B36: ○ | C36: 뿌리굴취는 기본품에서 10%를 감하여 적용한다.
B38: 다. 뿌리굴취 작업방법
B39: ○ | C39: 인력 또는 기계를 이용하여 직경 2cm 이상의 뿌리를 굴취한다. 굴취가 곤란한 경우, 주두부로부터
C40: 지하부 20cm이상 떨어진 지점을 손톱으로 자르면 굴취로 본다.
B41: ○ | C41: 직경 2cm 미만의 뿌리는 손으로 뽑거나 주두부 아래 5cm 이상 떨어진 지하부를 절단한다.
B42: ○ | C42: 뿌리 굴취가 완료되면 구덩이는 되메우기를 실시한다.
B43: ○ | C43: 뽑거나 자른 뿌리와 주두부는 구덩이 위에 놓아 작업결과를 확인할 수 있도록 한다.
B45: 라. 기타
B46: ○ | C46: 안전사고가 발생되지 않도록 작업시간 전과 휴식시간 중에 수시로 안전교육을 실시한다.
B47: ○ | C47: 작업중 뱀, 독충 등으로 인한 피해가 발생되지 않도록 각별한 주의가 필요하며, 응급약품을
C48: 현장에 비치토록 하고 개인별 안전장비 착용을 의무화하도록 한다.

Sheet 111111
A1: 소반별 시방서
C3: 소재지 | D3: =필지별조서!#REF! -> #REF! | E3: =필지별조서!#REF! -> #REF! | F3: 산63임 | G3: 임소반 | H3: =표준지좌표!A9 -> 1-0-2
A5: 1. 산림의 기능 및 경영목표
B6: 가. 산림의기능: 주기능 - 목재생산림, 특용수생산림, 생활환경보전림(경관형)
B7: 나. 경 영 목 표: 조림목의 생육환경 개선과, 생활권 주변 경관을 유지 및 시각적 효과 증진을 목표로 함
B8: 다. 사 업 종: 칡덩굴제거이며, 단위작업으로는 뿌리고살(뿌리굴취)임
A10: 2. 지황
B11: 가. 지형
B12: ○ | C12: =" "&H3&"소반은 "&D3&"면 "&E3&"리에 분산되어 있으며 전체적인 방향은 각 방향이며, 해발고는 다양하게 분포한다." -> #REF!
B13: ○ | C13: ="산지경사는 "&E26&"경사이고, 덩굴류 분포형태는 분산되어 분포하고 있음" -> 산지경사는 중 (15°～30°)경사이고, 덩굴류 분포형태는 분산되어 분포하고 있음
B15: 나. 면적
B16: ○ | C16: =" 사업대상지는 "&D3&"면 "&E3&"리 "&F3&"로 지적면적은 "&필지별조서!G218&"ha 임" -> #REF!
B17: ○ | C17: =" 소반내에 덩굴류제거 사업면적은 "&D26&"ha 임" -> 소반내에 덩굴류제거 사업면적은 16.67ha 임
B19: 다. 접근성: 사업지 주변으로 도로, 작업로가 있어 작업장까지 접근하기 쉬움
A21: 3. 작업방법
B22: 가. 임황
C24: 작업방법 | D24: 면적(ha) | E24: 경사도 | F24: 집단화정도 | G24: 하층식생 | H24: 토양조건
C26: 뿌리굴취 | D26: =표준지좌표!B18 -> 16.67 | E26: ='1111'!D26 -> 중 (15°～30°) | F26: ='1111'!D27 -> 개소당 평균면적이 3ha 이상 | G26: ='1111'!D29 -> 보행이 용이하다 | H26: ='1111'!D30 -> 장애물이 거의 없음
B28: 나. 덩굴제거 소요인력
C30: 구분 | D30: 사용도구 | F30: 단위 | G30: 소요인력 | H30: 인력구분
C31: 뿌리고살 | D31: 괭이, 손톱, 송곳 | F31: 인/100본 | G31: 0.72 | H31: 보통인부
B33: ○ | C33: 본 품에는 덩굴을 인력으로 걷기, 주두부 찾기, 세근처리, 구덩이파기, 주근 자르기, 뿌리처리와
C34: 뒷정리를 포함한다.
B35: ○ | C35: 칡덩굴 수량(본)은 주두부 직경이 1cm이상인 것을 기준으로 한다
B36: ○ | C36: 뿌리굴취는 기본품에서 10%를 감하여 적용한다.
B38: 다. 뿌리굴취 작업방법
B39: ○ | C39: 인력 또는 기계를 이용하여 직경 2cm 이상의 뿌리를 굴취한다. 굴취가 곤란한 경우, 주두부로부터
C40: 지하부 20cm이상 떨어진 지점을 손톱으로 자르면 굴취로 본다.
B41: ○ | C41: 직경 2cm 미만의 뿌리는 손으로 뽑거나 주두부 아래 5cm 이상 떨어진 지하부를 절단한다.
B42: ○ | C42: 뿌리 굴취가 완료되면 구덩이는 되메우기를 실시한다.
B43: ○ | C43: 뽑거나 자른 뿌리와 주두부는 구덩이 위에 놓아 작업결과를 확인할 수 있도록 한다.
B45: 라. 기타
B46: ○ | C46: 안전사고가 발생되지 않도록 작업시간 전과 휴식시간 중에 수시로 안전교육을 실시한다.
B47: ○ | C47: 작업중 뱀, 독충 등으로 인한 피해가 발생되지 않도록 각별한 주의가 필요하며, 응급약품을
C48: 현장에 비치토록 하고 개인별 안전장비 착용을 의무화하도록 한다.

Sheet 소1-2
A1: 소반별 시방서
C3: 소재지 | D3: =필지별조서!#REF! -> #REF! | E3: =필지별조서!#REF! -> #REF! | F3: 산51-1임 외 11필지 | G3: 임소반 | H3: =필지별조서!#REF! -> #REF!
A5: 1. 산림의 기능 및 경영목표
B6: 가. 산림의기능: 주기능 - 목재생산림, 특용수생산림, 생활환경보전림(경관형)
B7: 나. 경 영 목 표: 조림목의 생육환경 개선과, 생활권 주변 경관을 유지 및 시각적 효과 증진을 목표로 함
B8: 다. 사 업 종: 칡덩굴제거이며, 단위작업으로는 (배부식)약제살포임.
A10: 2. 지황
B11: 가. 지형
B12: ○ | C12: =" "&H3&"소반은 "&D3&"면 "&E3&"리에 분산되어 있으며 전체적인 방향은 각 방향이며, 해발고는 다양하게 분포한다." -> #REF!
B13: ○ | C13: 산지경사는 "중"경사이고, 덩굴류 분포형태는 임도변 구간구간 집중되어 분포하고 있음
B15: 나. 면적
B16: ○ | C16: =" 사업대상지는 "&D3&"면 "&E3&"리 "&F3&"임" -> #REF!
B17: ○ | C17: =" 소반내에 덩굴류제거 사업면적은 "&D26&"ha 임" -> 소반내에 덩굴류제거 사업면적은 5.68ha 임
B19: 다. 접근성: 사업지 주변으로 도로, 작업로가 있어 작업장까지 접근하기 쉬움
A21: 3. 작업방법
B22: 가. 임황
C24: 작업방법 | D24: 면적(ha) | E24: 경사도 | F24: 집단화정도 | G24: 하층식생 | H24: 토양조건
C26: 뿌리굴취 | D26: =필지별조서!H218 -> 5.68 | E26: ='1-2'!D26 -> 중 (15°～30°) | F26: ='1-2'!D27 -> 개소당 평균면적이 3ha 이상 | G26: ='1-2'!D29 -> 보행이 용이하다 | H26: ='1-2'!D30 -> 장애물이 거의 없음
B28: 나. 덩굴제거 소요인력
C30: 구분 | D30: 사용도구 | F30: 단위 | G30: 소요인력 | H30: 인력구분
C31: 뿌리고살 | D31: 괭이, 손톱, 송곳 | F31: 인/100본 | G31: 0.72 | H31: 보통인부
B34: ○ | C34: 본 품에는 덩굴을 인력으로 걷기, 주두부 찾기, 세근처리, 구덩이파기, 주근 자르기, 뿌리처리와
C35: 뒷정리를 포함한다.
B36: ○ | C36: 칡덩굴 수량(본)은 주두부 직경이 1cm이상인 것을 기준으로 한다
B37: ○ | C37: 뿌리굴취는 기본품에서 10%를 감하여 적용한다.
B39: 다. 뿌리굴취 작업방법
B40: ○ | C40: 인력 또는 기계를 이용하여 직경 2cm 이상의 뿌리를 굴취한다. 굴취가 곤란한 경우, 주두부로부터
C41: 지하부 20cm이상 떨어진 지점을 손톱으로 자르면 굴취로 본다.
B42: ○ | C42: 직경 2cm 미만의 뿌리는 손으로 뽑거나 주두부 아래 5cm 이상 떨어진 지하부를 절단한다.
B43: ○ | C43: 뿌리 굴취가 완료되면 구덩이는 되메우기를 실시한다.
B44: ○ | C44: 뽑거나 자른 뿌리와 주두부는 구덩이 위에 놓아 작업결과를 확인할 수 있도록 한다.
B46: 라. 기타
B47: ○ | C47: 안전사고가 발생되지 않도록 작업시간 전과 휴식시간 중에 수시로 안전교육을 실시한다.
B48: ○ | C48: 작업중 뱀, 독충 등으로 인한 피해가 발생되지 않도록 각별한 주의가 필요하며, 응급약품을
C49: 현장에 비치토록 하고 개인별 안전장비 착용을 의무화하도록 한다.

Sheet 소1-3
A1: 소반별 시방서
C3: 소재지 | D3: =필지별조서!C219 -> 자은 | E3: =필지별조서!D219 -> 한운 | F3: 산48-1임 외 15필지 | G3: 임소반 | H3: =필지별조서!A219 -> 1-0-5
A5: 1. 산림의 기능 및 경영목표
B6: 가. 산림의기능: 주기능 - 목재생산림, 특용수생산림, 생활환경보전림(경관형)
B7: 나. 경 영 목 표: 조림목의 생육환경 개선과, 생활권 주변 경관을 유지 및 시각적 효과 증진을 목표로 함
B8: 다. 사 업 종: 칡덩굴제거이며, 단위작업으로는 약제살포임
A10: 2. 지황
B11: 가. 지형
B12: ○ | C12: =" "&H3&"소반은 "&D3&"면 "&E3&"리에 분산되어 있으며 전체적인 방향은 각 방향이며, 해발고는 다양하게 분포한다." -> 1-0-5소반은 자은면 한운리에 분산되어 있으며 전체적인 방향은 각 방향이며, 해발고는 다양하게 분포한다.
B13: ○ | C13: ="산지경사는 "&E26&"경사이고, 덩굴류 분포형태는 분산되어 분포하고 있음" -> 산지경사는 중 (15°～30°)경사이고, 덩굴류 분포형태는 분산되어 분포하고 있음
B15: 나. 면적
B16: ○ | C16: =" 사업대상지는 "&D3&"면 "&E3&"리 "&F3&"임" -> 사업대상지는 자은면 한운리 산48-1임 외 15필지임
B17: ○ | C17: =" 소반내에 덩굴류제거 사업면적은 "&D26&"ha 임" -> 소반내에 덩굴류제거 사업면적은 8.8ha 임
B19: 다. 접근성: 사업지 주변으로 도로, 작업로가 있어 작업장까지 접근하기 쉬움
A21: 3. 작업방법
B22: 가. 임황
C24: 작업방법 | D24: 면적(ha) | E24: 경사도 | F24: 집단화정도 | G24: 작업시기 | H24: 덩굴피복도
C26: 약제살포 | D26: =필지별조서!H240 -> 8.8 | E26: ='1-3(약제)'!D26 -> 중 (15°～30°) | F26: ='1-3(약제)'!D27 -> 개소당 평균면적이 3ha 이상 | G26: ='1-3(약제)'!D28 -> 1∼5월 | H26: ='1-3(약제)'!D29 -> 보통(40∼60% 피복)
B28: 나. 덩굴제거 소요인력
C30: 구분 | D30: 사용도구 | F30: 단위 | G30: 소요인력 | H30: 인력구분
C31: 약제살포 | D31: 배부식분무기 | F31: 인/ha | G31: 1 | H31: 특별인부
C32: 작업보조 | F32: 인/ha | G32: 1.5 | H32: 보통인부
B33: ○ | C33: 약제살포 품은 배부식분무기를 사용하여 배합된 액체형 약제를 덩굴류에 살포하는 품이다.
C34: 본 품에는 약제배합, 살포 및 뒷정리를 포함한다.
B35: ○ | C35: 본 품은 모든 덩굴류에 적용한다.
B36: ○ | C36: 약제살포 품은 덩굴 피복도를 보통(40∼60% 피복, 1,100본/ha)으로 산정한 품이다. 대상지조건에 따라
C37: 덩굴피복도에 따른 할인·할증률로 소요인력을 가·감한다.
B39: 다. 작업방법
B40: 1) 1차 약제살포
B41: ○ | C41: 배부식분무기를 이용하여 덩굴의 잎이나 줄기에 전면 살포
B42: ○ | C42: 주변 생육임목에 직접 닫지 않도록 배부식 분무기로 살포함을 원칙으로 함
B44: 라. 기타
B45: ○ | C45: 안전사고가 발생되지 않도록 작업시간 전과 휴식시간 중에 수시로 안전교육을 실시한다.
B46: ○ | C46: 작업중 뱀, 독충 등으로 인한 피해가 발생되지 않도록 각별한 주의가 필요하며, 응급약품을
C47: 현장에 비치토록 하고 개인별 안전장비 착용을 의무화하도록 한다.
C48: 현장에 비치토록 하고 개인별 안전장비 착용을 의무화하도록 한다.

Sheet 소2-2
A1: 소반별 시방서
C3: 소재지 | D3: =필지별조서!C259 -> 0 | E3: =필지별조서!D259 -> 0 | F3: 산38-1임 등 1필지 | G3: 임소반 | H3: =필지별조서!A259 -> 2-0-2
A5: 1. 산림의 기능 및 경영목표
B6: 가. 산림의기능: 주기능 - 목재생산림, 특용수생산림, 생활환경보전림(경관형)
B7: 나. 경 영 목 표: 조림목의 생육환경 개선과, 생활권 주변 경관을 유지 및 시각적 효과 증진을 목표로 함
B8: 다. 사 업 종: 칡덩굴제거이며, 단위작업으로는 뿌리고살(뿌리굴취)임
A10: 2. 지황
B11: 가. 지형
B12: ○ | C12: =" "&H3&"소반은 "&D3&"면 "&E3&"리에 분산되어 있으며 전체적인 방향은 각 방향이며, 해발고는 다양하게 분포한다." -> 2-0-2소반은 0면 0리에 분산되어 있으며 전체적인 방향은 각 방향이며, 해발고는 다양하게 분포한다.
B13: ○ | C13: ="산지경사는 "&E26&"경사이고, 덩굴류 분포형태는 분산되어 분포하고 있음" -> 산지경사는 중 (15°～30°)경사이고, 덩굴류 분포형태는 분산되어 분포하고 있음
B15: 나. 면적
B16: ○ | C16: =" 사업대상지는 "&D3&"면 "&E3&"리 "&F3&"로 지적면적은 "&필지별조서!G261&"ha 임" -> 사업대상지는 0면 0리 산38-1임 등 1필지로 지적면적은 0ha 임
B17: ○ | C17: =" 소반내에 덩굴류제거 사업면적은 "&D26&"ha 임" -> 소반내에 덩굴류제거 사업면적은 0ha 임
B19: 다. 접근성: 사업지 주변으로 도로, 작업로가 있어 작업장까지 접근하기 쉬움
A21: 3. 작업방법
B22: 가. 임황
C24: 작업방법 | D24: 면적(ha) | E24: 경사도 | F24: 집단화정도 | G24: 하층식생 | H24: 토양조건
C26: 뿌리굴취 | D26: =필지별조서!H261 -> 0 | E26: ='2-2'!D26 -> 중 (15°～30°) | F26: ='2-2'!D27 -> 개소당 평균면적이 3ha 이상 | G26: ='2-2'!D29 -> 보행이 용이하다 | H26: ='2-2'!D30 -> 장애물이 거의 없음
B28: 나. 덩굴제거 소요인력
C30: 구분 | D30: 사용도구 | F30: 단위 | G30: 소요인력 | H30: 인력구분
C31: 뿌리고살 | D31: 괭이, 손톱, 송곳 | F31: 인/100본 | G31: 0.72 | H31: 보통인부
B33: ○ | C33: 본 품에는 덩굴을 인력으로 걷기, 주두부 찾기, 세근처리, 구덩이파기, 주근 자르기, 뿌리처리와
C34: 뒷정리를 포함한다.
B35: ○ | C35: 칡덩굴 수량(본)은 주두부 직경이 1cm이상인 것을 기준으로 한다
B36: ○ | C36: 뿌리굴취는 기본품에서 10%를 감하여 적용한다.
B38: 다. 뿌리굴취 작업방법
B39: ○ | C39: 인력 또는 기계를 이용하여 직경 2cm 이상의 뿌리를 굴취한다. 굴취가 곤란한 경우, 주두부로부터
C40: 지하부 20cm이상 떨어진 지점을 손톱으로 자르면 굴취로 본다.
B41: ○ | C41: 직경 2cm 미만의 뿌리는 손으로 뽑거나 주두부 아래 5cm 이상 떨어진 지하부를 절단한다.
B42: ○ | C42: 뿌리 굴취가 완료되면 구덩이는 되메우기를 실시한다.
B43: ○ | C43: 뽑거나 자른 뿌리와 주두부는 구덩이 위에 놓아 작업결과를 확인할 수 있도록 한다.
B45: 라. 기타
B46: ○ | C46: 안전사고가 발생되지 않도록 작업시간 전과 휴식시간 중에 수시로 안전교육을 실시한다.
B47: ○ | C47: 작업중 뱀, 독충 등으로 인한 피해가 발생되지 않도록 각별한 주의가 필요하며, 응급약품을
C48: 현장에 비치토록 하고 개인별 안전장비 착용을 의무화하도록 한다.

Sheet 소2-3
A1: 소반별 시방서
C3: 소재지 | D3: =필지별조서!C262 -> 0 | E3: =필지별조서!D262 -> 0 | F3: 산89-1임 | G3: 임소반 | H3: =필지별조서!A262 -> 2-0-3
A5: 1. 산림의 기능 및 경영목표
B6: 가. 산림의기능: 주기능 - 목재생산림, 특용수생산림, 생활환경보전림(경관형)
B7: 나. 경 영 목 표: 조림목의 생육환경 개선과, 생활권 주변 경관을 유지 및 시각적 효과 증진을 목표로 함
B8: 다. 사 업 종: 칡덩굴제거이며, 단위작업으로는 뿌리고살(뿌리굴취)임
A10: 2. 지황
B11: 가. 지형
B12: ○ | C12: =" "&H3&"소반은 "&D3&"면 "&E3&"리에 분산되어 있으며 전체적인 방향은 각 방향이며, 해발고는 다양하게 분포한다." -> 2-0-3소반은 0면 0리에 분산되어 있으며 전체적인 방향은 각 방향이며, 해발고는 다양하게 분포한다.
B13: ○ | C13: ="산지경사는 "&E26&"경사이고, 덩굴류 분포형태는 분산되어 분포하고 있음" -> 산지경사는 중 (15°～30°)경사이고, 덩굴류 분포형태는 분산되어 분포하고 있음
B15: 나. 면적
B16: ○ | C16: =" 사업대상지는 "&D3&"면 "&E3&"리 "&F3&"로 지적면적은 "&필지별조서!G263&"ha 임" -> 사업대상지는 0면 0리 산89-1임로 지적면적은 0ha 임
B17: ○ | C17: =" 소반내에 덩굴류제거 사업면적은 "&D26&"ha 임" -> 소반내에 덩굴류제거 사업면적은 0ha 임
B19: 다. 접근성: 사업지 주변으로 도로, 작업로가 있어 작업장까지 접근하기 쉬움
A21: 3. 작업방법
B22: 가. 임황
C24: 작업방법 | D24: 면적(ha) | E24: 경사도 | F24: 집단화정도 | G24: 하층식생 | H24: 토양조건
C26: 뿌리굴취 | D26: =필지별조서!H263 -> 0 | E26: ='2-3'!D26 -> 중 (15°～30°) | F26: ='2-3'!D27 -> 개소당 평균면적이 3ha 이상 | G26: ='2-3'!D29 -> 보행이 용이하다 | H26: ='2-3'!D30 -> 장애물이 거의 없음
B28: 나. 덩굴제거 소요인력
C30: 구분 | D30: 사용도구 | F30: 단위 | G30: 소요인력 | H30: 인력구분
C31: 뿌리고살 | D31: 괭이, 손톱, 송곳 | F31: 인/100본 | G31: 0.72 | H31: 보통인부
B33: ○ | C33: 본 품에는 덩굴을 인력으로 걷기, 주두부 찾기, 세근처리, 구덩이파기, 주근 자르기, 뿌리처리와
C34: 뒷정리를 포함한다.
B35: ○ | C35: 칡덩굴 수량(본)은 주두부 직경이 1cm이상인 것을 기준으로 한다
B36: ○ | C36: 뿌리굴취는 기본품에서 10%를 감하여 적용한다.
B38: 다. 뿌리굴취 작업방법
B39: ○ | C39: 인력 또는 기계를 이용하여 직경 2cm 이상의 뿌리를 굴취한다. 굴취가 곤란한 경우, 주두부로부터
C40: 지하부 20cm이상 떨어진 지점을 손톱으로 자르면 굴취로 본다.
B41: ○ | C41: 직경 2cm 미만의 뿌리는 손으로 뽑거나 주두부 아래 5cm 이상 떨어진 지하부를 절단한다.
B42: ○ | C42: 뿌리 굴취가 완료되면 구덩이는 되메우기를 실시한다.
B43: ○ | C43: 뽑거나 자른 뿌리와 주두부는 구덩이 위에 놓아 작업결과를 확인할 수 있도록 한다.
B45: 라. 기타
B46: ○ | C46: 안전사고가 발생되지 않도록 작업시간 전과 휴식시간 중에 수시로 안전교육을 실시한다.
B47: ○ | C47: 작업중 뱀, 독충 등으로 인한 피해가 발생되지 않도록 각별한 주의가 필요하며, 응급약품을
C48: 현장에 비치토록 하고 개인별 안전장비 착용을 의무화하도록 한다.

Sheet 소2-4
A1: 소반별 시방서
C3: 소재지 | D3: =필지별조서!C264 -> 0 | E3: =필지별조서!D264 -> 0 | F3: 산143임 | G3: 임소반 | H3: =필지별조서!A264 -> 2-0-4
A5: 1. 산림의 기능 및 경영목표
B6: 가. 산림의기능: 주기능 - 목재생산림, 특용수생산림, 생활환경보전림(경관형)
B7: 나. 경 영 목 표: 조림목의 생육환경 개선과, 생활권 주변 경관을 유지 및 시각적 효과 증진을 목표로 함
B8: 다. 사 업 종: 칡덩굴제거이며, 단위작업으로는 뿌리고살(뿌리굴취)임
A10: 2. 지황
B11: 가. 지형
B12: ○ | C12: =" "&H3&"소반은 "&D3&"면 "&E3&"리에 분산되어 있으며 전체적인 방향은 각 방향이며, 해발고는 다양하게 분포한다." -> 2-0-4소반은 0면 0리에 분산되어 있으며 전체적인 방향은 각 방향이며, 해발고는 다양하게 분포한다.
B13: ○ | C13: ="산지경사는 "&E26&"경사이고, 덩굴류 분포형태는 분산되어 분포하고 있음" -> 산지경사는 중 (15°～30°)경사이고, 덩굴류 분포형태는 분산되어 분포하고 있음
B15: 나. 면적
B16: ○ | C16: =" 사업대상지는 "&D3&"면 "&E3&"리 "&F3&"로 지적면적은 "&필지별조서!G265&"ha 임" -> 사업대상지는 0면 0리 산143임로 지적면적은 0ha 임
B17: ○ | C17: =" 소반내에 덩굴류제거 사업면적은 "&D26&"ha 임" -> 소반내에 덩굴류제거 사업면적은 0ha 임
B19: 다. 접근성: 사업지 주변으로 도로, 작업로가 있어 작업장까지 접근하기 쉬움
A21: 3. 작업방법
B22: 가. 임황
C24: 작업방법 | D24: 면적(ha) | E24: 경사도 | F24: 집단화정도 | G24: 하층식생 | H24: 토양조건
C26: 뿌리굴취 | D26: =필지별조서!H265 -> 0 | E26: ='2-4'!D26 -> 중 (15°～30°) | F26: ='2-4'!D27 -> 개소당 평균면적이 3ha 이상 | G26: ='2-4'!D29 -> 보행이 용이하다 | H26: ='2-4'!D30 -> 장애물이 거의 없음
B28: 나. 덩굴제거 소요인력
C30: 구분 | D30: 사용도구 | F30: 단위 | G30: 소요인력 | H30: 인력구분
C31: 뿌리고살 | D31: 괭이, 손톱, 송곳 | F31: 인/100본 | G31: 0.72 | H31: 보통인부
B33: ○ | C33: 본 품에는 덩굴을 인력으로 걷기, 주두부 찾기, 세근처리, 구덩이파기, 주근 자르기, 뿌리처리와
C34: 뒷정리를 포함한다.
B35: ○ | C35: 칡덩굴 수량(본)은 주두부 직경이 1cm이상인 것을 기준으로 한다
B36: ○ | C36: 뿌리굴취는 기본품에서 10%를 감하여 적용한다.
B38: 다. 뿌리굴취 작업방법
B39: ○ | C39: 인력 또는 기계를 이용하여 직경 2cm 이상의 뿌리를 굴취한다. 굴취가 곤란한 경우, 주두부로부터
C40: 지하부 20cm이상 떨어진 지점을 손톱으로 자르면 굴취로 본다.
B41: ○ | C41: 직경 2cm 미만의 뿌리는 손으로 뽑거나 주두부 아래 5cm 이상 떨어진 지하부를 절단한다.
B42: ○ | C42: 뿌리 굴취가 완료되면 구덩이는 되메우기를 실시한다.
B43: ○ | C43: 뽑거나 자른 뿌리와 주두부는 구덩이 위에 놓아 작업결과를 확인할 수 있도록 한다.
B45: 라. 기타
B46: ○ | C46: 안전사고가 발생되지 않도록 작업시간 전과 휴식시간 중에 수시로 안전교육을 실시한다.
B47: ○ | C47: 작업중 뱀, 독충 등으로 인한 피해가 발생되지 않도록 각별한 주의가 필요하며, 응급약품을
C48: 현장에 비치토록 하고 개인별 안전장비 착용을 의무화하도록 한다.

Sheet 소2-5
A1: 소반별 시방서
C3: 소재지 | D3: =필지별조서!C266 -> 0 | E3: =필지별조서!D266 -> 0 | F3: 산101임 | G3: 임소반 | H3: =필지별조서!A266 -> 2-0-5
A5: 1. 산림의 기능 및 경영목표
B6: 가. 산림의기능: 주기능 - 목재생산림, 특용수생산림, 생활환경보전림(경관형)
B7: 나. 경 영 목 표: 조림목의 생육환경 개선과, 생활권 주변 경관을 유지 및 시각적 효과 증진을 목표로 함
B8: 다. 사 업 종: 칡덩굴제거이며, 단위작업으로는 (배부식)약제살포임.
A10: 2. 지황
B11: 가. 지형
B12: ○ | C12: =" "&H3&"소반은 "&D3&"면 "&E3&"리에 분산되어 있으며 전체적인 방향은 각 방향이며, 해발고는 다양하게 분포한다." -> 2-0-5소반은 0면 0리에 분산되어 있으며 전체적인 방향은 각 방향이며, 해발고는 다양하게 분포한다.
B13: ○ | C13: 산지경사는 "중"경사이고, 덩굴류 분포형태는 임도변 구간구간 집중되어 분포하고 있음
B15: 나. 면적
B16: ○ | C16: =" 사업대상지는 "&D3&"면 "&E3&"리 "&F3&"로 지적면적은 "&필지별조서!G267&"ha 임" -> 사업대상지는 0면 0리 산101임로 지적면적은 0ha 임
B17: ○ | C17: =" 소반내에 덩굴류제거 사업면적은 "&D26&"ha 임" -> 소반내에 덩굴류제거 사업면적은 0ha 임
B19: 다. 접근성: 사업지 주변으로 도로, 작업로가 있어 작업장까지 접근하기 쉬움
A21: 3. 작업방법
B22: 가. 임황
C24: 작업방법 | D24: 면적(ha) | E24: 경사도 | F24: 집단화정도 | G24: 하층식생 | H24: 토양조건
C26: 뿌리굴취 | D26: =필지별조서!H267 -> 0 | E26: ='2-5'!D26 -> 중 (15°～30°) | F26: ='2-5'!D27 -> 개소당 평균면적이 3ha 이상 | G26: ='2-5'!D29 -> 보행이 용이하다 | H26: ='2-5'!D30 -> 장애물이 거의 없음
B28: 나. 덩굴제거 소요인력
C30: 구분 | D30: 사용도구 | F30: 단위 | G30: 소요인력 | H30: 인력구분
C31: 뿌리고살 | D31: 괭이, 손톱, 송곳 | F31: 인/100본 | G31: 0.72 | H31: 보통인부
B33: ○ | C33: 본 품에는 덩굴을 인력으로 걷기, 주두부 찾기, 세근처리, 구덩이파기, 주근 자르기, 뿌리처리와
C34: 뒷정리를 포함한다.
B35: ○ | C35: 칡덩굴 수량(본)은 주두부 직경이 1cm이상인 것을 기준으로 한다
B36: ○ | C36: 뿌리굴취는 기본품에서 10%를 감하여 적용한다.
B38: 다. 뿌리굴취 작업방법
B39: ○ | C39: 인력 또는 기계를 이용하여 직경 2cm 이상의 뿌리를 굴취한다. 굴취가 곤란한 경우, 주두부로부터
C40: 지하부 20cm이상 떨어진 지점을 손톱으로 자르면 굴취로 본다.
B41: ○ | C41: 직경 2cm 미만의 뿌리는 손으로 뽑거나 주두부 아래 5cm 이상 떨어진 지하부를 절단한다.
B42: ○ | C42: 뿌리 굴취가 완료되면 구덩이는 되메우기를 실시한다.
B43: ○ | C43: 뽑거나 자른 뿌리와 주두부는 구덩이 위에 놓아 작업결과를 확인할 수 있도록 한다.
B45: 라. 기타
B46: ○ | C46: 안전사고가 발생되지 않도록 작업시간 전과 휴식시간 중에 수시로 안전교육을 실시한다.
B47: ○ | C47: 작업중 뱀, 독충 등으로 인한 피해가 발생되지 않도록 각별한 주의가 필요하며, 응급약품을
C48: 현장에 비치토록 하고 개인별 안전장비 착용을 의무화하도록 한다.

Sheet 소4-1
A1: 소반별 시방서
C3: 소재지 | D3: =필지별조서!C268 -> 0 | E3: =필지별조서!D268 -> 0 | F3: 산9-1 등 1필지 | G3: 임소반 | H3: =필지별조서!A268 -> 4-0-1
A5: 1. 산림의 기능 및 경영목표
B6: 가. 산림의기능: 주기능 - 목재생산림, 특용수생산림, 생활환경보전림(경관형)
B7: 나. 경 영 목 표: 조림목의 생육환경 개선과, 생활권 주변 경관을 유지 및 시각적 효과 증진을 목표로 함
B8: 다. 사 업 종: 칡덩굴제거이며, 단위작업으로는 뿌리고살(뿌리굴취)임
A10: 2. 지황
B11: 가. 지형
B12: ○ | C12: =" "&H3&"소반은 "&D3&"면 "&E3&"리에 분산되어 있으며 전체적인 방향은 각 방향이며, 해발고는 다양하게 분포한다." -> 4-0-1소반은 0면 0리에 분산되어 있으며 전체적인 방향은 각 방향이며, 해발고는 다양하게 분포한다.
B13: ○ | C13: ="산지경사는 "&E26&"경사이고, 덩굴류 분포형태는 분산되어 분포하고 있음" -> 산지경사는 중 (15°～30°)경사이고, 덩굴류 분포형태는 분산되어 분포하고 있음
B15: 나. 면적
B16: ○ | C16: =" 사업대상지는 "&D3&"면 "&E3&"리 "&F3&"로 지적면적은 "&필지별조서!G270&"ha 임" -> 사업대상지는 0면 0리 산9-1 등 1필지로 지적면적은 0ha 임
B17: ○ | C17: =" 소반내에 덩굴류제거 사업면적은 "&D26&"ha 임" -> 소반내에 덩굴류제거 사업면적은 0ha 임
B19: 다. 접근성: 사업지 주변으로 도로, 작업로가 있어 작업장까지 접근하기 쉬움
A21: 3. 작업방법
B22: 가. 임황
C24: 작업방법 | D24: 면적(ha) | E24: 경사도 | F24: 집단화정도 | G24: 하층식생 | H24: 토양조건
C26: 뿌리굴취 | D26: =필지별조서!H270 -> 0 | E26: ='4-1'!D26 -> 중 (15°～30°) | F26: ='4-1'!D27 -> 개소당 평균면적이 3ha 이상 | G26: ='4-1'!D29 -> 보행이 용이하다 | H26: ='4-1'!D30 -> 장애물이 거의 없음
B28: 나. 덩굴제거 소요인력
C30: 구분 | D30: 사용도구 | F30: 단위 | G30: 소요인력 | H30: 인력구분
C31: 뿌리고살 | D31: 괭이, 손톱, 송곳 | F31: 인/100본 | G31: 0.72 | H31: 보통인부
B33: ○ | C33: 본 품에는 덩굴을 인력으로 걷기, 주두부 찾기, 세근처리, 구덩이파기, 주근 자르기, 뿌리처리와
C34: 뒷정리를 포함한다.
B35: ○ | C35: 칡덩굴 수량(본)은 주두부 직경이 1cm이상인 것을 기준으로 한다
B36: ○ | C36: 뿌리굴취는 기본품에서 10%를 감하여 적용한다.
B38: 다. 뿌리굴취 작업방법
B39: ○ | C39: 인력 또는 기계를 이용하여 직경 2cm 이상의 뿌리를 굴취한다. 굴취가 곤란한 경우, 주두부로부터
C40: 지하부 20cm이상 떨어진 지점을 손톱으로 자르면 굴취로 본다.
B41: ○ | C41: 직경 2cm 미만의 뿌리는 손으로 뽑거나 주두부 아래 5cm 이상 떨어진 지하부를 절단한다.
B42: ○ | C42: 뿌리 굴취가 완료되면 구덩이는 되메우기를 실시한다.
B43: ○ | C43: 뽑거나 자른 뿌리와 주두부는 구덩이 위에 놓아 작업결과를 확인할 수 있도록 한다.
B45: 라. 기타
B46: ○ | C46: 안전사고가 발생되지 않도록 작업시간 전과 휴식시간 중에 수시로 안전교육을 실시한다.
B47: ○ | C47: 작업중 뱀, 독충 등으로 인한 피해가 발생되지 않도록 각별한 주의가 필요하며, 응급약품을
C48: 현장에 비치토록 하고 개인별 안전장비 착용을 의무화하도록 한다.

Sheet 소4-2
A1: 소반별 시방서
C3: 소재지 | D3: =필지별조서!C271 -> 0 | E3: =필지별조서!D271 -> 0 | F3: 산140 | G3: 임소반 | H3: =필지별조서!A271 -> 4-0-2
A5: 1. 산림의 기능 및 경영목표
B6: 가. 산림의기능: 주기능 - 목재생산림, 특용수생산림, 생활환경보전림(경관형)
B7: 나. 경 영 목 표: 조림목의 생육환경 개선과, 생활권 주변 경관을 유지 및 시각적 효과 증진을 목표로 함
B8: 다. 사 업 종: 칡덩굴제거이며, 단위작업으로는 뿌리고살(뿌리굴취)임
A10: 2. 지황
B11: 가. 지형
B12: ○ | C12: =" "&H3&"소반은 "&D3&"면 "&E3&"리에 분산되어 있으며 전체적인 방향은 각 방향이며, 해발고는 다양하게 분포한다." -> 4-0-2소반은 0면 0리에 분산되어 있으며 전체적인 방향은 각 방향이며, 해발고는 다양하게 분포한다.
B13: ○ | C13: ="산지경사는 "&E26&"경사이고, 덩굴류 분포형태는 분산되어 분포하고 있음" -> 산지경사는 중 (15°～30°)경사이고, 덩굴류 분포형태는 분산되어 분포하고 있음
B15: 나. 면적
B16: ○ | C16: =" 사업대상지는 "&D3&"면 "&E3&"리 "&F3&"로 지적면적은 "&필지별조서!G272&"ha 임" -> 사업대상지는 0면 0리 산140로 지적면적은 0ha 임
B17: ○ | C17: =" 소반내에 덩굴류제거 사업면적은 "&D26&"ha 임" -> 소반내에 덩굴류제거 사업면적은 0ha 임
B19: 다. 접근성: 사업지 주변으로 도로, 작업로가 있어 작업장까지 접근하기 쉬움
A21: 3. 작업방법
B22: 가. 임황
C24: 작업방법 | D24: 면적(ha) | E24: 경사도 | F24: 집단화정도 | G24: 하층식생 | H24: 토양조건
C26: 뿌리굴취 | D26: =필지별조서!H272 -> 0 | E26: ='4-2'!D26 -> 중 (15°～30°) | F26: ='4-2'!D27 -> 개소당 평균면적이 3ha 이상 | G26: ='4-2'!D29 -> 보행이 용이하다 | H26: ='4-2'!D30 -> 장애물이 거의 없음
B28: 나. 덩굴제거 소요인력
C30: 구분 | D30: 사용도구 | F30: 단위 | G30: 소요인력 | H30: 인력구분
C31: 뿌리고살 | D31: 괭이, 손톱, 송곳 | F31: 인/100본 | G31: 0.72 | H31: 보통인부
B33: ○ | C33: 본 품에는 덩굴을 인력으로 걷기, 주두부 찾기, 세근처리, 구덩이파기, 주근 자르기, 뿌리처리와
C34: 뒷정리를 포함한다.
B35: ○ | C35: 칡덩굴 수량(본)은 주두부 직경이 1cm이상인 것을 기준으로 한다
B36: ○ | C36: 뿌리굴취는 기본품에서 10%를 감하여 적용한다.
B38: 다. 뿌리굴취 작업방법
B39: ○ | C39: 인력 또는 기계를 이용하여 직경 2cm 이상의 뿌리를 굴취한다. 굴취가 곤란한 경우, 주두부로부터
C40: 지하부 20cm이상 떨어진 지점을 손톱으로 자르면 굴취로 본다.
B41: ○ | C41: 직경 2cm 미만의 뿌리는 손으로 뽑거나 주두부 아래 5cm 이상 떨어진 지하부를 절단한다.
B42: ○ | C42: 뿌리 굴취가 완료되면 구덩이는 되메우기를 실시한다.
B43: ○ | C43: 뽑거나 자른 뿌리와 주두부는 구덩이 위에 놓아 작업결과를 확인할 수 있도록 한다.
B45: 라. 기타
B46: ○ | C46: 안전사고가 발생되지 않도록 작업시간 전과 휴식시간 중에 수시로 안전교육을 실시한다.
B47: ○ | C47: 작업중 뱀, 독충 등으로 인한 피해가 발생되지 않도록 각별한 주의가 필요하며, 응급약품을
C48: 현장에 비치토록 하고 개인별 안전장비 착용을 의무화하도록 한다.

Sheet 소5-1
A1: 소반별 시방서
C3: 소재지 | D3: =필지별조서!C273 -> 0 | E3: =필지별조서!D273 -> 0 | F3: 산57-7 | G3: 임소반 | H3: =필지별조서!A273 -> 5-0-1
A5: 1. 산림의 기능 및 경영목표
B6: 가. 산림의기능: 주기능 - 목재생산림, 특용수생산림, 생활환경보전림(경관형)
B7: 나. 경 영 목 표: 조림목의 생육환경 개선과, 생활권 주변 경관을 유지 및 시각적 효과 증진을 목표로 함
B8: 다. 사 업 종: 칡덩굴제거이며, 단위작업으로는 뿌리고살(뿌리굴취)임
A10: 2. 지황
B11: 가. 지형
B12: ○ | C12: =" "&H3&"소반은 "&D3&"면 "&E3&"리에 분산되어 있으며 전체적인 방향은 각 방향이며, 해발고는 다양하게 분포한다." -> 5-0-1소반은 0면 0리에 분산되어 있으며 전체적인 방향은 각 방향이며, 해발고는 다양하게 분포한다.
B13: ○ | C13: ="산지경사는 "&E26&"경사이고, 덩굴류 분포형태는 분산되어 분포하고 있음" -> 산지경사는 중 (15°～30°)경사이고, 덩굴류 분포형태는 분산되어 분포하고 있음
B15: 나. 면적
B16: ○ | C16: =" 사업대상지는 "&D3&"면 "&E3&"리 "&F3&"로 지적면적은 "&필지별조서!G274&"ha 임" -> 사업대상지는 0면 0리 산57-7로 지적면적은 0ha 임
B17: ○ | C17: =" 소반내에 덩굴류제거 사업면적은 "&D26&"ha 임" -> 소반내에 덩굴류제거 사업면적은 0ha 임
B19: 다. 접근성: 사업지 주변으로 도로, 작업로가 있어 작업장까지 접근하기 쉬움
A21: 3. 작업방법
B22: 가. 임황
C24: 작업방법 | D24: 면적(ha) | E24: 경사도 | F24: 집단화정도 | G24: 하층식생 | H24: 토양조건
C26: 뿌리굴취 | D26: =필지별조서!H274 -> 0 | E26: ='5-1'!D26 -> 중 (15°～30°) | F26: ='5-1'!D27 -> 개소당 평균면적이 3ha 이상 | G26: ='5-1'!D29 -> 보행이 용이하다 | H26: ='5-1'!D30 -> 장애물이 거의 없음
B28: 나. 덩굴제거 소요인력
C30: 구분 | D30: 사용도구 | F30: 단위 | G30: 소요인력 | H30: 인력구분
C31: 뿌리고살 | D31: 괭이, 손톱, 송곳 | F31: 인/100본 | G31: 0.72 | H31: 보통인부
B33: ○ | C33: 본 품에는 덩굴을 인력으로 걷기, 주두부 찾기, 세근처리, 구덩이파기, 주근 자르기, 뿌리처리와
C34: 뒷정리를 포함한다.
B35: ○ | C35: 칡덩굴 수량(본)은 주두부 직경이 1cm이상인 것을 기준으로 한다
B36: ○ | C36: 뿌리굴취는 기본품에서 10%를 감하여 적용한다.
B38: 다. 뿌리굴취 작업방법
B39: ○ | C39: 인력 또는 기계를 이용하여 직경 2cm 이상의 뿌리를 굴취한다. 굴취가 곤란한 경우, 주두부로부터
C40: 지하부 20cm이상 떨어진 지점을 손톱으로 자르면 굴취로 본다.
B41: ○ | C41: 직경 2cm 미만의 뿌리는 손으로 뽑거나 주두부 아래 5cm 이상 떨어진 지하부를 절단한다.
B42: ○ | C42: 뿌리 굴취가 완료되면 구덩이는 되메우기를 실시한다.
B43: ○ | C43: 뽑거나 자른 뿌리와 주두부는 구덩이 위에 놓아 작업결과를 확인할 수 있도록 한다.
B45: 라. 기타
B46: ○ | C46: 안전사고가 발생되지 않도록 작업시간 전과 휴식시간 중에 수시로 안전교육을 실시한다.
B47: ○ | C47: 작업중 뱀, 독충 등으로 인한 피해가 발생되지 않도록 각별한 주의가 필요하며, 응급약품을
C48: 현장에 비치토록 하고 개인별 안전장비 착용을 의무화하도록 한다.

Sheet 소6-1
A1: 소반별 시방서
C3: 소재지 | D3: =필지별조서!C275 -> 0 | E3: =필지별조서!D275 -> 0 | F3: 산206-3 | G3: 임소반 | H3: =필지별조서!A275 -> 6-0-1
A5: 1. 산림의 기능 및 경영목표
B6: 가. 산림의기능: 주기능 - 목재생산림, 특용수생산림, 생활환경보전림(경관형)
B7: 나. 경 영 목 표: 조림목의 생육환경 개선과, 생활권 주변 경관을 유지 및 시각적 효과 증진을 목표로 함
B8: 다. 사 업 종: 칡덩굴제거이며, 단위작업으로는 뿌리고살(뿌리굴취)임
A10: 2. 지황
B11: 가. 지형
B12: ○ | C12: =" "&H3&"소반은 "&D3&"면 "&E3&"리에 분산되어 있으며 전체적인 방향은 각 방향이며, 해발고는 다양하게 분포한다." -> 6-0-1소반은 0면 0리에 분산되어 있으며 전체적인 방향은 각 방향이며, 해발고는 다양하게 분포한다.
B13: ○ | C13: ="산지경사는 "&E26&"경사이고, 덩굴류 분포형태는 분산되어 분포하고 있음" -> 산지경사는 중 (15°～30°)경사이고, 덩굴류 분포형태는 분산되어 분포하고 있음
B15: 나. 면적
B16: ○ | C16: =" 사업대상지는 "&D3&"면 "&E3&"리 "&F3&"로 지적면적은 "&필지별조서!G276&"ha 임" -> 사업대상지는 0면 0리 산206-3로 지적면적은 0ha 임
B17: ○ | C17: =" 소반내에 덩굴류제거 사업면적은 "&D26&"ha 임" -> 소반내에 덩굴류제거 사업면적은 0ha 임
B19: 다. 접근성: 사업지 주변으로 도로, 작업로가 있어 작업장까지 접근하기 쉬움
A21: 3. 작업방법
B22: 가. 임황
C24: 작업방법 | D24: 면적(ha) | E24: 경사도 | F24: 집단화정도 | G24: 하층식생 | H24: 토양조건
C26: 뿌리굴취 | D26: =필지별조서!H276 -> 0 | E26: ='6-1'!D26 -> 중 (15°～30°) | F26: ='6-1'!D27 -> 개소당 평균면적이 3ha 이상 | G26: ='6-1'!D29 -> 보행이 용이하다 | H26: ='6-1'!D30 -> 장애물이 거의 없음
B28: 나. 덩굴제거 소요인력
C30: 구분 | D30: 사용도구 | F30: 단위 | G30: 소요인력 | H30: 인력구분
C31: 뿌리고살 | D31: 괭이, 손톱, 송곳 | F31: 인/100본 | G31: 0.72 | H31: 보통인부
B33: ○ | C33: 본 품에는 덩굴을 인력으로 걷기, 주두부 찾기, 세근처리, 구덩이파기, 주근 자르기, 뿌리처리와
C34: 뒷정리를 포함한다.
B35: ○ | C35: 칡덩굴 수량(본)은 주두부 직경이 1cm이상인 것을 기준으로 한다
B36: ○ | C36: 뿌리굴취는 기본품에서 10%를 감하여 적용한다.
B38: 다. 뿌리굴취 작업방법
B39: ○ | C39: 인력 또는 기계를 이용하여 직경 2cm 이상의 뿌리를 굴취한다. 굴취가 곤란한 경우, 주두부로부터
C40: 지하부 20cm이상 떨어진 지점을 손톱으로 자르면 굴취로 본다.
B41: ○ | C41: 직경 2cm 미만의 뿌리는 손으로 뽑거나 주두부 아래 5cm 이상 떨어진 지하부를 절단한다.
B42: ○ | C42: 뿌리 굴취가 완료되면 구덩이는 되메우기를 실시한다.
B43: ○ | C43: 뽑거나 자른 뿌리와 주두부는 구덩이 위에 놓아 작업결과를 확인할 수 있도록 한다.
B45: 라. 기타
B46: ○ | C46: 안전사고가 발생되지 않도록 작업시간 전과 휴식시간 중에 수시로 안전교육을 실시한다.
B47: ○ | C47: 작업중 뱀, 독충 등으로 인한 피해가 발생되지 않도록 각별한 주의가 필요하며, 응급약품을
C48: 현장에 비치토록 하고 개인별 안전장비 착용을 의무화하도록 한다.

Sheet 소6-2
A1: 소반별 시방서
C3: 소재지 | D3: =필지별조서!C277 -> 0 | E3: =필지별조서!D277 -> 0 | F3: 산100 등 1필지 | G3: 임소반 | H3: =필지별조서!H279 -> 0
A5: 1. 산림의 기능 및 경영목표
B6: 가. 산림의기능: 주기능 - 목재생산림, 특용수생산림, 생활환경보전림(경관형)
B7: 나. 경 영 목 표: 조림목의 생육환경 개선과, 생활권 주변 경관을 유지 및 시각적 효과 증진을 목표로 함
B8: 다. 사 업 종: 칡덩굴제거이며, 단위작업으로는 뿌리고살(뿌리굴취)임
A10: 2. 지황
B11: 가. 지형
B12: ○ | C12: =" "&H3&"소반은 "&D3&"면 "&E3&"리에 분산되어 있으며 전체적인 방향은 각 방향이며, 해발고는 다양하게 분포한다." -> 0소반은 0면 0리에 분산되어 있으며 전체적인 방향은 각 방향이며, 해발고는 다양하게 분포한다.
B13: ○ | C13: ="산지경사는 "&E26&"경사이고, 덩굴류 분포형태는 분산되어 분포하고 있음" -> 산지경사는 중 (15°～30°)경사이고, 덩굴류 분포형태는 분산되어 분포하고 있음
B15: 나. 면적
B16: ○ | C16: =" 사업대상지는 "&D3&"면 "&E3&"리 "&F3&"로 지적면적은 "&필지별조서!G279&"ha 임" -> 사업대상지는 0면 0리 산100 등 1필지로 지적면적은 0ha 임
B17: ○ | C17: =" 소반내에 덩굴류제거 사업면적은 "&D26&"ha 임" -> 소반내에 덩굴류제거 사업면적은 0ha 임
B19: 다. 접근성: 사업지 주변으로 도로, 작업로가 있어 작업장까지 접근하기 쉬움
A21: 3. 작업방법
B22: 가. 임황
C24: 작업방법 | D24: 면적(ha) | E24: 경사도 | F24: 집단화정도 | G24: 하층식생 | H24: 토양조건
C26: 뿌리굴취 | D26: =필지별조서!H279 -> 0 | E26: ='6-2'!D26 -> 중 (15°～30°) | F26: ='6-2'!D27 -> 개소당 평균면적이 3ha 이상 | G26: ='6-2'!D29 -> 보행이 용이하다 | H26: ='6-2'!D30 -> 장애물이 거의 없음
B28: 나. 덩굴제거 소요인력
C30: 구분 | D30: 사용도구 | F30: 단위 | G30: 소요인력 | H30: 인력구분
C31: 뿌리고살 | D31: 괭이, 손톱, 송곳 | F31: 인/100본 | G31: 0.72 | H31: 보통인부
B33: ○ | C33: 본 품에는 덩굴을 인력으로 걷기, 주두부 찾기, 세근처리, 구덩이파기, 주근 자르기, 뿌리처리와
C34: 뒷정리를 포함한다.
B35: ○ | C35: 칡덩굴 수량(본)은 주두부 직경이 1cm이상인 것을 기준으로 한다
B36: ○ | C36: 뿌리굴취는 기본품에서 10%를 감하여 적용한다.
B38: 다. 뿌리굴취 작업방법
B39: ○ | C39: 인력 또는 기계를 이용하여 직경 2cm 이상의 뿌리를 굴취한다. 굴취가 곤란한 경우, 주두부로부터
C40: 지하부 20cm이상 떨어진 지점을 손톱으로 자르면 굴취로 본다.
B41: ○ | C41: 직경 2cm 미만의 뿌리는 손으로 뽑거나 주두부 아래 5cm 이상 떨어진 지하부를 절단한다.
B42: ○ | C42: 뿌리 굴취가 완료되면 구덩이는 되메우기를 실시한다.
B43: ○ | C43: 뽑거나 자른 뿌리와 주두부는 구덩이 위에 놓아 작업결과를 확인할 수 있도록 한다.
B45: 라. 기타
B46: ○ | C46: 안전사고가 발생되지 않도록 작업시간 전과 휴식시간 중에 수시로 안전교육을 실시한다.
B47: ○ | C47: 작업중 뱀, 독충 등으로 인한 피해가 발생되지 않도록 각별한 주의가 필요하며, 응급약품을
C48: 현장에 비치토록 하고 개인별 안전장비 착용을 의무화하도록 한다.

Sheet 입력1-1
A1: 덩쿨제거입력사항 | E1: 입력
A2: 구분 | B2: 내용 | C2: 비고 | E2: 노무비 | F2: 보통인부 | G2: 148510 | I2: (2022년 상반기)
F3: 특별인부 | G3: 187435
A4: 조사년월일 | B4: 2024. 05.
A5: 조사자직
A6: 조사자성명 | B6: 산림경영기술자 기술고급 송 지 수 | E6: 재료비 | F6: 페인트 | G6: 5194 | H6: 부가세제외
A7: 산림조사내용 | F7: 마킹테이프 | G7: 5000 | H7: 부가세제외 | I7: (2022년 5월)
A8: 산림소재지 | B8: 전라남도 완도군 약산면 해동리 산123-1임 외 19필지 | F8: 근사미 | G8: 6600 | H8: 부가세제외
A9: 임/소반명
A10: 임반 | B10: 1-0
A11: 소반 | B11: 1-0
A12: 표준지개소수 | B12: =ROUNDUP(F19,0) -> 4
A13: 소반면적 | B13: 6.24
A14: 표준지면적 | B14: =B12*0.005 -> 0.02
A15: o 경사도 | B15: 0 | C15: 완(15º미만):0%, 중(15~30º):5%, 급(30º초과):10%
A16: o 분포형태 | B16: 0 | C16: 20~40%: 0%, 균일분포: 5%, 불규칙분포:10%
F17: 표준지
A18: 구분 | B18: X | C18: Y | F18: =+B13*0.5% -> 0.0312 | I18: =B13*0.05 -> 0.312
A19: 표준지 번호-1 | B19: 161542 | C19: 119187 | F19: =+F18/0.01 -> 3.12 | G19: 개소 | I19: =I18/0.05 -> 6.24
A20: 표준지 번호-2 | B20: 161121 | C20: 120172
A21: 표준지 번호-3 | B21: 160877 | C21: 120347
A22: 표준지 번호-4 | B22: 160696 | C22: 120438
A23: 표준지 번호-5 | B23: 160502 | C23: 120487
A24: 표준지 번호-6 | B24: 160309 | C24: 120544
A25: 표준지 번호-7 | B25: 159880 | C25: 120665
A26: 표준지 번호-8 | B26: 159120 | C26: 120906
A27: 표준지 번호-9 | B27: 157993 | C27: 120998
A28: 표준지 번호-10 | B28: 156919 | C28: 121095
A29: 표준지 번호-11 | B29: 154282 | C29: 120855
A30: 표준지 번호-12 | B30: 150116 | C30: 119772
A31: 표준지 번호-13 | B31: 148818 | C31: 119572
... A40: 표준지 번호-22 | B40: 141173 | C40: 121787
A41: 표준지 번호-23
A42: 표준지 번호-24
A43: 표준지 번호-25
A44: 표준지 번호-26
A45: 표준지 번호-27
A46: 표준지 번호-28
A47: 표준지 번호-29
A48: 표준지 번호-30
A49: 표준지 번호-31
A50: 표준지 번호-32
A51: 표준지 번호-33
A52: 표준지 번호-34
... A59: 표준지 번호-41

Sheet 본수1-1
A1: 덩 쿨 본 수 조 서 | H1: 출력코드 | I1: 출력코드
H2: 출력 | I2: 출력
A3: 임 / 소 반 : | B3: ='입력1-1'!B9&" "&'입력1-1'!B10&"-"&LEFT('입력1-1'!B11,1) -> 1-0-1 | F3: 소 반 면 적 : | G3: ='입력1-1'!B13 -> 6.24 | H3: 출력 | I3: 출력상태
A4: 표준지 개소 : | B4: =COUNTA(C7:D47) -> 22 | F4: 표준지 면 적 : | G4: ='입력1-1'!B14 -> 0.02 | H4: 출력
A5: 구분 | B5: 표준지 번호 | C5: 표준지 덩굴본수 | D5: 계 | E5: ha 당 | F5: 소반 전체 | G5: 비 고 | H5: 출력 | I5: 전자동
E6: 본수 | F6: 본수 | H6: 출력 | K6: 표준지
A7: 칡덩굴 | B7: 1 | C7: 5 | E7: 1 | F7: =IF(D7="","",ROUND(E7*$G$3,0)) | G7: =IF(E7=0,"","X : "&'입력1-1'!B19&" Y : "&'입력1-1'!C19) -> X : 161542 Y : 119187 | H7: =IF(E7=0,"NO","출력") -> 출력 | K7: 1ha 당 1개
B8: 2 | C8: 3 | E8: 1 | F8: =IF(D8="","",ROUND(E8*$G$3,0)) | G8: =IF(E8=0,"","X : "&'입력1-1'!B20&" Y : "&'입력1-1'!C20) -> X : 161121 Y : 120172 | H8: =IF(E8=0,"NO","출력") -> 출력
B9: 3 | C9: 4 | E9: 1 | F9: =IF(D9="","",ROUND(E9*$G$3,0)) | G9: =IF(E9=0,"","X : "&'입력1-1'!B21&" Y : "&'입력1-1'!C21) -> X : 160877 Y : 120347 | H9: =IF(E9=0,"NO","출력") -> 출력
B10: 4 | C10: 6 | E10: 1 | F10: =IF(D10="","",ROUND(E10*$G$3,0)) | G10: =IF(E10=0,"","X : "&'입력1-1'!B22&" Y : "&'입력1-1'!C22) -> X : 160696 Y : 120438 | H10: =IF(E10=0,"NO","출력") -> 출력
B11: 5 | C11: 7 | E11: 1 | F11: =IF(D11="","",ROUND(E11*$G$3,0)) | G11: =IF(E11=0,"","X : "&'입력1-1'!B23&" Y : "&'입력1-1'!C23) -> X : 160502 Y : 120487 | H11: =IF(E11=0,"NO","출력") -> 출력
B12: 6 | C12: 5 | E12: 1 | F12: =IF(D12="","",ROUND(E12*$G$3,0)) | G12: =IF(E12=0,"","X : "&'입력1-1'!B24&" Y : "&'입력1-1'!C24) -> X : 160309 Y : 120544 | H12: =IF(E12=0,"NO","출력") -> 출력
B13: 7 | C13: 3 | E13: 1 | F13: =IF(D13="","",ROUND(E13*$G$3,0)) | G13: =IF(E13=0,"","X : "&'입력1-1'!B25&" Y : "&'입력1-1'!C25) -> X : 159880 Y : 120665 | H13: =IF(E13=0,"NO","출력") -> 출력
B14: 8 | C14: 4 | E14: 1 | F14: =IF(D14="","",ROUND(E14*$G$3,0)) | G14: =IF(E14=0,"","X : "&'입력1-1'!B26&" Y : "&'입력1-1'!C26) -> X : 159120 Y : 120906 | H14: =IF(E14=0,"NO","출력") -> 출력
B15: 9 | C15: 2 | E15: 1 | F15: =IF(D15="","",ROUND(E15*$G$3,0)) | G15: =IF(E15=0,"","X : "&'입력1-1'!B27&" Y : "&'입력1-1'!C27) -> X : 157993 Y : 120998 | H15: =IF(E15=0,"NO","출력") -> 출력
B16: 10 | C16: 3 | E16: 1 | F16: =IF(D16="","",ROUND(E16*$G$3,0)) | G16: =IF(E16=0,"","X : "&'입력1-1'!B28&" Y : "&'입력1-1'!C28) -> X : 156919 Y : 121095 | H16: =IF(E16=0,"NO","출력") -> 출력
B17: 11 | C17: 4 | E17: 1 | F17: =IF(D17="","",ROUND(E17*$G$3,0)) | G17: =IF(E17=0,"","X : "&'입력1-1'!B29&" Y : "&'입력1-1'!C29) -> X : 154282 Y : 120855 | H17: =IF(E17=0,"NO","출력") -> 출력
B18: 12 | C18: 5 | E18: 1 | F18: =IF(D18="","",ROUND(E18*$G$3,0)) | G18: =IF(E18=0,"","X : "&'입력1-1'!B30&" Y : "&'입력1-1'!C30) -> X : 150116 Y : 119772 | H18: =IF(E18=0,"NO","출력") -> 출력
B19: 13 | C19: 6 | E19: 1 | F19: =IF(D19="","",ROUND(E19*$G$3,0)) | G19: =IF(E19=0,"","X : "&'입력1-1'!B31&" Y : "&'입력1-1'!C31) -> X : 148818 Y : 119572 | H19: =IF(E19=0,"NO","출력") -> 출력
... B24: 18 | C24: 1 | E24: 1 | F24: =IF(D24="","",ROUND(E24*$G$3,0)) | G24: =IF(E24=0,"","X : "&'입력1-1'!B36&" Y : "&'입력1-1'!C36) -> X : 143587 Y : 120177 | H24: =IF(E24=0,"NO","출력") -> 출력
A25: 칡덩굴 | B25: 19 | C25: 3 | E25: 1 | F25: =IF(D25="","",ROUND(E25*$G$3,0)) | G25: =IF(E25=0,"","X : "&'입력1-1'!B37&" Y : "&'입력1-1'!C37) -> X : 142972 Y : 120169 | H25: =IF(E25=0,"NO","출력") -> 출력
B26: 20 | C26: 2 | E26: 1 | F26: =IF(D26="","",ROUND(E26*$G$3,0)) | G26: =IF(E26=0,"","X : "&'입력1-1'!B38&" Y : "&'입력1-1'!C38) -> X : 142442 Y : 120374 | H26: =IF(E26=0,"NO","출력") -> 출력
B27: 21 | C27: 1 | E27: =C27*200 -> 200 | F27: =IF(D27="","",ROUND(E27*$G$3,0)) | G27: =IF(E27=0,"","X : "&'입력1-1'!B39&" Y : "&'입력1-1'!C39) -> X : 142001 Y : 120892 | H27: =IF(E27=0,"NO","출력") -> 출력
B28: 22 | C28: 4 | E28: =C28*200 -> 800 | F28: =IF(D28="","",ROUND(E28*$G$3,0)) | G28: =IF(E28=0,"","X : "&'입력1-1'!B40&" Y : "&'입력1-1'!C40) -> X : 141173 Y : 121787 | H28: =IF(E28=0,"NO","출력") -> 출력
B29: 23 | E29: =C29*200 -> 0 | F29: =IF(D29="","",ROUND(E29*$G$3,0)) | G29: =IF(E29=0,"","X : "&'입력1-1'!B41&" Y : "&'입력1-1'!C41) | H29: =IF(E29=0,"NO","출력") -> NO
B30: 24 | E30: =C30*200 -> 0 | F30: =IF(D30="","",ROUND(E30*$G$3,0)) | G30: =IF(E30=0,"","X : "&'입력1-1'!B42&" Y : "&'입력1-1'!C42) | H30: =IF(E30=0,"NO","출력") -> NO
B31: 25 | E31: =C31*200 -> 0 | F31: =IF(D31="","",ROUND(E31*$G$3,0)) | G31: =IF(E31=0,"","X : "&'입력1-1'!B43&" Y : "&'입력1-1'!C43) | H31: =IF(E31=0,"NO","출력") -> NO
B32: 26 | E32: =C32*200 -> 0 | F32: =IF(D32="","",ROUND(E32*$G$3,0)) | G32: =IF(E32=0,"","X : "&'입력1-1'!B44&" Y : "&'입력1-1'!C44) | H32: =IF(E32=0,"NO","출력") -> NO
B33: 27 | E33: =C33*200 -> 0 | F33: =IF(D33="","",ROUND(E33*$G$3,0)) | G33: =IF(E33=0,"","X : "&'입력1-1'!B45&" Y : "&'입력1-1'!C45) | H33: =IF(E33=0,"NO","출력") -> NO
B34: 28 | E34: =C34*200 -> 0 | F34: =IF(D34="","",ROUND(E34*$G$3,0)) | G34: =IF(E34=0,"","X : "&'입력1-1'!B46&" Y : "&'입력1-1'!C46) | H34: =IF(E34=0,"NO","출력") -> NO
B35: 29 | E35: =C35*200 -> 0 | F35: =IF(D35="","",ROUND(E35*$G$3,0)) | G35: =IF(E35=0,"","X : "&'입력1-1'!B47&" Y : "&'입력1-1'!C47) | H35: =IF(E35=0,"NO","출력") -> NO
B36: 30 | E36: =C36*200 -> 0 | G36: =IF(E36=0,"","X : "&'입력1-1'!B48&" Y : "&'입력1-1'!C48) | H36: =IF(E36=0,"NO","출력") -> NO
B37: 31 | E37: =C37*200 -> 0 | G37: =IF(E37=0,"","X : "&'입력1-1'!B49&" Y : "&'입력1-1'!C49) | H37: =IF(E37=0,"NO","출력") -> NO
B38: 32 | E38: =C38*200 -> 0 | G38: =IF(E38=0,"","X : "&'입력1-1'!B50&" Y : "&'입력1-1'!C50) | H38: =IF(E38=0,"NO","출력") -> NO
B39: 33 | E39: =C39*200 -> 0 | G39: =IF(E39=0,"","X : "&'입력1-1'!B51&" Y : "&'입력1-1'!C51) | H39: =IF(E39=0,"NO","출력") -> NO
B40: 34 | E40: =C40*200 -> 0 | G40: =IF(E40=0,"","X : "&'입력1-1'!B52&" Y : "&'입력1-1'!C52) | H40: =IF(E40=0,"NO","출력") -> NO
B41: 35 | E41: =C41*200 -> 0 | G41: =IF(E41=0,"","X : "&'입력1-1'!B53&" Y : "&'입력1-1'!C53) | H41: =IF(E41=0,"NO","출력") -> NO
B42: 36 | E42: =C42*200 -> 0 | G42: =IF(E42=0,"","X : "&'입력1-1'!B54&" Y : "&'입력1-1'!C54) | H42: =IF(E42=0,"NO","출력") -> NO
B43: 37 | E43: =C43*200 -> 0 | G43: =IF(E43=0,"","X : "&'입력1-1'!B55&" Y : "&'입력1-1'!C55) | H43: =IF(E43=0,"NO","출력") -> NO
B44: 38 | E44: =C44*200 -> 0 | G44: =IF(E44=0,"","X : "&'입력1-1'!B56&" Y : "&'입력1-1'!C56) | H44: =IF(E44=0,"NO","출력") -> NO
B45: 39 | E45: =C45*200 -> 0 | G45: =IF(E45=0,"","X : "&'입력1-1'!B57&" Y : "&'입력1-1'!C57) | H45: =IF(E45=0,"NO","출력") -> NO
B46: 40 | E46: =C46*200 -> 0 | G46: =IF(E46=0,"","X : "&'입력1-1'!B58&" Y : "&'입력1-1'!C58) | H46: =IF(E46=0,"NO","출력") -> NO
B47: 41 | E47: =C47*200 -> 0 | G47: =IF(E47=0,"","X : "&'입력1-1'!B59&" Y : "&'입력1-1'!C59) | H47: =IF(E47=0,"NO","출력") -> NO
A48: 합계 | E48: =ROUNDDOWN(SUM(E7:E47)/'입력1-1'!B12,0) -> 255 | F48: =SUM(F7:F35)/COUNTIF(F7:F35,">0") -> #DIV/0! | H48: 출력
C50: 뿌리굴취 | E50: =#REF! -> #REF! | F50: 원/ha | H50: 출력
C51: 약제처리 | E51: =+'[27]단산(약제처리)'!L26 -> 609945 | F51: 원/ha | H51: 출력
C53: =SUM(C7:C47) -> 84

Sheet 야장1-1
A1: 덩굴제거 설계표준지 조사야장
A4: · 조사일자 : | B4: ='입력1-1'!B4 -> 2024. 05. | D4: · 조사자 : | E4: ='입력1-1'!B6 -> 산림경영기술자 기술고급 송 지 수
A5: · 위 치 : | B5: ='본수1-1'!$B$3 -> 1-0-1 | C5: 소반
A6: 표준지No. | B6: ='본수1-1'!B7 -> 1 | C6: 크기 | D6: 반지름 4m( √ ), 5m×10m( ), 반지름 5.67m( )
A7: GPS좌표 | B7: ='본수1-1'!G7 -> X : 161542 Y : 119187
A8: 유 형 | B8: 풀베기단계( ), 풀베기경과( √ ), 전면적피복( ), 큰나무피해( )
A9: 작업방법 | B9: 지상부제거 | C9: ( ) | D9: , 뿌리제거 | E9: (√)
A10: 1cm이상 조사본수 | B10: =REPT("正",INT(H10/5))&IF((H10/5)-INT(H10/5)=0.2,"一",IF((H10/5)-INT(H10/5)=0.4,"┬",IF((H10/5)-INT(H10/5)=0.6,"下",IF((H10/5)-INT(H10/5)=0.8,"止","")))) -> 正 | F10: 표준지 칡 수량 | H10: ='본수1-1'!C7 -> 5
A11: 할증요소 | B11: · 경사도 : 완( ), 중(√), 급( )
B12: · 하층장애물 : 보행양호(√), 보행불편( ), 보행곤란( )
B13: · 토양조건 : 장애물없음(√), 돌함량 10~30%( ), 돌함량 30%이상( )
B14: · 덩굴피복도 : 과밀( ), 밀( ), 보통( ), 소( √ ), 과소( )
A16: 표준지No. | B16: ='본수1-1'!B8 -> 2 | C16: 크기 | D16: 반지름 4m( √ ), 5m×10m( ), 반지름 5.67m( )
A17: GPS좌표 | B17: ='본수1-1'!G8 -> X : 161121 Y : 120172
A18: 유 형 | B18: 풀베기단계( ), 풀베기경과( √ ), 전면적피복( ), 큰나무피해( )
A19: 작업방법 | B19: 지상부제거 | C19: ( ) | D19: , 뿌리제거 | E19: (√)
A20: 1cm이상 조사본수 | B20: =REPT("正",INT(H20/5))&IF((H20/5)-INT(H20/5)=0.2,"一",IF((H20/5)-INT(H20/5)=0.4,"┬",IF((H20/5)-INT(H20/5)=0.6,"下",IF((H20/5)-INT(H20/5)=0.8,"止","")))) -> 下 | F20: 표준지 칡 수량 | H20: ='본수1-1'!C8 -> 3
A21: 할증요소 | B21: · 경사도 : 완( ), 중(√), 급( )
B22: · 하층장애물 : 보행양호(√), 보행불편( ), 보행곤란( )
B23: · 토양조건 : 장애물없음(√), 돌함량 10~30%( ), 돌함량 30%이상( )
B24: · 덩굴피복도 : 과밀( ), 밀( ), 보통( ), 소( √ ), 과소( )
A26: 표준지No. | B26: ='본수1-1'!B9 -> 3 | C26: 크기 | D26: 반지름 4m( √ ), 5m×10m( ), 반지름 5.67m( )
A27: GPS좌표 | B27: ='본수1-1'!G9 -> X : 160877 Y : 120347
A28: 유 형 | B28: 풀베기단계( ), 풀베기경과( √ ), 전면적피복( ), 큰나무피해( )
A29: 작업방법 | B29: 지상부제거 | C29: ( ) | D29: , 뿌리제거 | E29: (√)
A30: 1cm이상 조사본수 | B30: =REPT("正",INT(H30/5))&IF((H30/5)-INT(H30/5)=0.2,"一",IF((H30/5)-INT(H30/5)=0.4,"┬",IF((H30/5)-INT(H30/5)=0.6,"下",IF((H30/5)-INT(H30/5)=0.8,"止","")))) -> 止 | F30: 표준지 칡 수량 | H30: ='본수1-1'!C9 -> 4
A31: 할증요소 | B31: · 경사도 : 완( ), 중(√), 급( )
B32: · 하층장애물 : 보행양호(√), 보행불편( ), 보행곤란( )
B33: · 토양조건 : 장애물없음(√), 돌함량 10~30%( ), 돌함량 30%이상( )
B34: · 덩굴피복도 : 과밀( ), 밀( ), 보통( ), 소( √ ), 과소( )
A36: 표준지No. | B36: ='본수1-1'!B10 -> 4 | C36: 크기 | D36: 반지름 4m( √ ), 5m×10m( ), 반지름 5.67m( )
A37: GPS좌표 | B37: ='본수1-1'!G10 -> X : 160696 Y : 120438
A38: 유 형 | B38: 풀베기단계( ), 풀베기경과( √ ), 전면적피복( ), 큰나무피해( )
A39: 작업방법 | B39: 지상부제거 | C39: ( ) | D39: , 뿌리제거 | E39: (√)
A40: 1cm이상 조사본수 | B40: =REPT("正",INT(H40/5))&IF((H40/5)-INT(H40/5)=0.2,"一",IF((H40/5)-INT(H40/5)=0.4,"┬",IF((H40/5)-INT(H40/5)=0.6,"下",IF((H40/5)-INT(H40/5)=0.8,"止","")))) -> 正一 | F40: 표준지 칡 수량 | H40: ='본수1-1'!C10 -> 6
A41: 할증요소 | B41: · 경사도 : 완( ), 중(√), 급( )
B42: · 하층장애물 : 보행양호(√), 보행불편( ), 보행곤란( )
B43: · 토양조건 : 장애물없음(√), 돌함량 10~30%( ), 돌함량 30%이상( )
B44: · 덩굴피복도 : 과밀( ), 밀( ), 보통( ), 소( √ ), 과소( )
A45: 덩굴제거 설계표준지 조사야장
A48: · 조사일자 : | B48: =B4 -> 2024. 05. | D48: · 조사자 : | E48: ='입력1-1'!B6 -> 산림경영기술자 기술고급 송 지 수
A49: · 위 치 : | B49: ='본수1-1'!$B$3 -> 1-0-1 | C49: 소반
A50: 표준지No. | B50: ='본수1-1'!B11 -> 5 | C50: 크기 | D50: 반지름 4m( √ ), 5m×10m( ), 반지름 5.67m( )
A51: GPS좌표 | B51: ='본수1-1'!G11 -> X : 160502 Y : 120487
A52: 유 형 | B52: 풀베기단계( ), 풀베기경과( √ ), 전면적피복( ), 큰나무피해( )
A53: 작업방법 | B53: 지상부제거 | C53: ( ) | D53: , 뿌리제거 | E53: (√)
A54: 1cm이상 조사본수 | B54: =REPT("正",INT(H54/5))&IF((H54/5)-INT(H54/5)=0.2,"一",IF((H54/5)-INT(H54/5)=0.4,"┬",IF((H54/5)-INT(H54/5)=0.6,"下",IF((H54/5)-INT(H54/5)=0.8,"止","")))) -> 正┬ | F54: 표준지 칡 수량 | H54: ='본수1-1'!C11 -> 7
A55: 할증요소 | B55: · 경사도 : 완( ), 중(√), 급( )
B56: · 하층장애물 : 보행양호(√), 보행불편( ), 보행곤란( )
B57: · 토양조건 : 장애물없음(√), 돌함량 10~30%( ), 돌함량 30%이상( )
B58: · 덩굴피복도 : 과밀( ), 밀( ), 보통( ), 소( √ ), 과소( )
A60: 표준지No. | B60: ='본수1-1'!B12 -> 6 | C60: 크기 | D60: 반지름 4m( √ ), 5m×10m( ), 반지름 5.67m( )
A61: GPS좌표 | B61: ='본수1-1'!G12 -> X : 160309 Y : 120544
A62: 유 형 | B62: 풀베기단계( ), 풀베기경과( √ ), 전면적피복( ), 큰나무피해( )
A63: 작업방법 | B63: 지상부제거 | C63: ( ) | D63: , 뿌리제거 | E63: (√)
A64: 1cm이상 조사본수 | B64: =REPT("正",INT(H64/5))&IF((H64/5)-INT(H64/5)=0.2,"一",IF((H64/5)-INT(H64/5)=0.4,"┬",IF((H64/5)-INT(H64/5)=0.6,"下",IF((H64/5)-INT(H64/5)=0.8,"止","")))) -> 正 | F64: 표준지 칡 수량 | H64: ='본수1-1'!C12 -> 5
A65: 할증요소 | B65: · 경사도 : 완( ), 중(√), 급( )
B66: · 하층장애물 : 보행양호(√), 보행불편( ), 보행곤란( )
B67: · 토양조건 : 장애물없음(√), 돌함량 10~30%( ), 돌함량 30%이상( )
B68: · 덩굴피복도 : 과밀( ), 밀( ), 보통( ), 소( √ ), 과소( )
A70: 표준지No. | B70: ='본수1-1'!B13 -> 7 | C70: 크기 | D70: 반지름 4m( √ ), 5m×10m( ), 반지름 5.67m( )
A71: GPS좌표 | B71: ='본수1-1'!G13 -> X : 159880 Y : 120665
A72: 유 형 | B72: 풀베기단계( ), 풀베기경과( √ ), 전면적피복( ), 큰나무피해( )
A73: 작업방법 | B73: 지상부제거 | C73: ( ) | D73: , 뿌리제거 | E73: (√)
A74: 1cm이상 조사본수 | B74: =REPT("正",INT(H74/5))&IF((H74/5)-INT(H74/5)=0.2,"一",IF((H74/5)-INT(H74/5)=0.4,"┬",IF((H74/5)-INT(H74/5)=0.6,"下",IF((H74/5)-INT(H74/5)=0.8,"止","")))) -> 下 | F74: 표준지 칡 수량 | H74: ='본수1-1'!C13 -> 3
A75: 할증요소 | B75: · 경사도 : 완( ), 중(√), 급( )
B76: · 하층장애물 : 보행양호(√), 보행불편( ), 보행곤란( )
B77: · 토양조건 : 장애물없음(√), 돌함량 10~30%( ), 돌함량 30%이상( )
B78: · 덩굴피복도 : 과밀( ), 밀( ), 보통( ), 소( √ ), 과소( )
A80: 표준지No. | B80: ='본수1-1'!B14 -> 8 | C80: 크기 | D80: 반지름 4m( √ ), 5m×10m( ), 반지름 5.67m( )
A81: GPS좌표 | B81: ='본수1-1'!G14 -> X : 159120 Y : 120906
A82: 유 형 | B82: 풀베기단계( ), 풀베기경과( √ ), 전면적피복( ), 큰나무피해( )
A83: 작업방법 | B83: 지상부제거 | C83: ( ) | D83: , 뿌리제거 | E83: (√)
A84: 1cm이상 조사본수 | B84: =REPT("正",INT(H84/5))&IF((H84/5)-INT(H84/5)=0.2,"一",IF((H84/5)-INT(H84/5)=0.4,"┬",IF((H84/5)-INT(H84/5)=0.6,"下",IF((H84/5)-INT(H84/5)=0.8,"止","")))) -> 止 | F84: 표준지 칡 수량 | H84: ='본수1-1'!C14 -> 4
A85: 할증요소 | B85: · 경사도 : 완( ), 중(√), 급( )
B86: · 하층장애물 : 보행양호(√), 보행불편( ), 보행곤란( )
B87: · 토양조건 : 장애물없음(√), 돌함량 10~30%( ), 돌함량 30%이상( )
B88: · 덩굴피복도 : 과밀( ), 밀( ), 보통( ), 소( √ ), 과소( )
A89: 덩굴제거 설계표준지 조사야장
A92: · 조사일자 : | B92: =B48 -> 2024. 05. | D92: · 조사자 : | E92: ='입력1-1'!B6 -> 산림경영기술자 기술고급 송 지 수
A93: · 위 치 : | B93: ='본수1-1'!$B$3 -> 1-0-1 | C93: 소반
A94: 표준지No. | B94: ='본수1-1'!B15 -> 9 | C94: 크기 | D94: 반지름 4m( √ ), 5m×10m( ), 반지름 5.67m( )
A95: GPS좌표 | B95: ='본수1-1'!G15 -> X : 157993 Y : 120998
A96: 유 형 | B96: 풀베기단계( ), 풀베기경과( √ ), 전면적피복( ), 큰나무피해( )
A97: 작업방법 | B97: 지상부제거 | C97: ( ) | D97: , 뿌리제거 | E97: (√)
A98: 1cm이상 조사본수 | B98: =REPT("正",INT(H98/5))&IF((H98/5)-INT(H98/5)=0.2,"一",IF((H98/5)-INT(H98/5)=0.4,"┬",IF((H98/5)-INT(H98/5)=0.6,"下",IF((H98/5)-INT(H98/5)=0.8,"止","")))) -> ┬ | F98: 표준지 칡 수량 | H98: ='본수1-1'!C15 -> 2
A99: 할증요소 | B99: · 경사도 : 완( ), 중(√), 급( )
B100: · 하층장애물 : 보행양호(√), 보행불편( ), 보행곤란( )
B101: · 토양조건 : 장애물없음(√), 돌함량 10~30%( ), 돌함량 30%이상( )
B102: · 덩굴피복도 : 과밀( ), 밀( ), 보통( ), 소( √ ), 과소( )
A104: 표준지No. | B104: ='본수1-1'!B16 -> 10 | C104: 크기 | D104: 반지름 4m( √ ), 5m×10m( ), 반지름 5.67m( )
A105: GPS좌표 | B105: ='본수1-1'!G16 -> X : 156919 Y : 121095
A106: 유 형 | B106: 풀베기단계( ), 풀베기경과( √ ), 전면적피복( ), 큰나무피해( )
A107: 작업방법 | B107: 지상부제거 | C107: ( ) | D107: , 뿌리제거 | E107: (√)
A108: 1cm이상 조사본수 | B108: =REPT("正",INT(H108/5))&IF((H108/5)-INT(H108/5)=0.2,"一",IF((H108/5)-INT(H108/5)=0.4,"┬",IF((H108/5)-INT(H108/5)=0.6,"下",IF((H108/5)-INT(H108/5)=0.8,"止","")))) -> 下 | F108: 표준지 칡 수량 | H108: ='본수1-1'!C16 -> 3
A109: 할증요소 | B109: .
B110: · 하층장애물 : 보행양호(√), 보행불편( ), 보행곤란( )
B111: · 토양조건 : 장애물없음(√), 돌함량 10~30%( ), 돌함량 30%이상( )
B112: · 덩굴피복도 : 과밀( ), 밀( ), 보통( ), 소( √ ), 과소( )
A114: 표준지No. | B114: ='본수1-1'!B17 -> 11 | C114: 크기 | D114: 반지름 4m( √ ), 5m×10m( ), 반지름 5.67m( )
...

Sheet 노임단가등
A1: 노임 단가표
A3: 구 분 | B3: 가 격 | C3: 비 고
A4: 보통인부 | B4: =[28]입력!$G$2 -> 172068 | C4: 2026년 하반기 건설노임단가
A5: 특별인부 | B5: =[28]입력!$G$3 -> 226122 | C5: =C4 -> 2026년 하반기 건설노임단가
A6: 고급기술자 | B6: 240794 | C6: 2021년 엔지니어링기술자노임단가
A7: 초급기술자 | B7: 175897 | C7: =C6 -> 2021년 엔지니어링기술자노임단가
A8: 휘발유(ℓ당) | B8: =C33 -> 0 | C8: opinet(5주평균)
A9: 체인톱(엔진톱 대) | B9: 900000 | C9: 2021년 05월 물가자료
A10: 친환경백색페인트(ℓ당) | B10: 7300 | C10: 숲가꾸기설계감리지침참조
B33: 5주평균
