Workbook

Sheet 원가
D1: 공 사 원 가 계 산 서
A3: 공사명 : 농산가공품 개발교육센터 건립 전기공사
A4: 비 목 | D4: 금 액 | H4: 비 고
A5: 순 공 사 원 가 | B5: 재 | C5: 직 접 재 료 비
B6: 료 | C6: 간 접 재 료 비
B7: 비 | C7: 작업설,부산물 (△)
C8: ［소 계］
B9: 노 | C9: 직 접 노 무 비
B10: 무 | C10: 간 접 노 무 비 | F10: 직접노무비* | G10: 0.179
B11: 비 | C11: ［소 계］
C12: 산 출 경 비
B13: 경 | C13: 산 재 보 험 료 | F13: 노무비* | G13: 0.0356 | J13: 안전관리비
C14: 고 용 보 험 료 | F14: 노무비* | G14: 0.0101 | J14: 분전반
C15: 건 강 보 험 료 | F15: 직접 노무비* | G15: 0.03595 | J15: 조명기구
C16: 노인장기요양보험료 | F16: 건강보험료의 * | G16: 0.1314 | J16: 조명기구
C17: 연 금 보 험 료 | F17: 직접 노무비* | G17: 0.0475 | J17: 소계
C18: 퇴 직 공 제 부 금 비 | F18: 직접 노무비* | G18: 0.023 | J18: (재료+직노+관급자재)*비율
C19: 산업안전보건관리비 | F19: (재료+직노) | G19: 0.0311 | H19: <1.2배 적용> | J19: {(재료+직노)*3.11%+0}*1.2 | K19: =INT((((D8+D9)*G19)+0)*1.2) -> 0
C20: 석 면 부 담 금 | F20: 노무비* | G20: 6e-05
C21: 임 금 채 권 부 담 금 | F21: 노무비* | G21: 0.0009
B22: 비 | C22: 기 타 경 비 | F22: (재료비+노무비)* | G22: 0.052
C23: ［소 계］
A24: 계
A25: 일 반 관 리 비 | F25: 계의* | G25: 0.08
A26: 이 윤 | F26: (노무비+경비+일반관리비)* | G26: 0.15
A27: 공 급 가 액 | J27: =D24+D25+(INT((D11+D23+D25)*G26)) -> 0
A28: 전기공사 손해배상공제 수수료 | F28: 순계약금액(공급가액+도급자관급액)의 | G28: 0.0026477 | J28: =ROUNDUP(SUM((D27+K17)*G28),-4) -> 0 | K28: 0.26477%(천단위절상)
A29: 부 가 가 치 세 | F29: 공급가액+손해배상공제수수료의 | G29: 0.1
A30: 합 계
A31: 관 급 자 재 비 (도 급 자 관 급) | H31: <부가세포함>
A32: 관 급 자 재 비 (관 급 자 관 급)
A33: 표 준 시 설 부 담 금
A35: 총 공 사 금 액 (총 계)

Sheet 내역
A1: 품 명 | B1: 재료 . 규격 | C1: 단위 | D1: 수량 | E1: 재 료 비 | G1: 노 무 비 | I1: 경 비 | K1: 총 액 | L1: 비 고
E2: 단 가 | F2: 금 액 | G2: 단 가 | H2: 금 액 | I2: 단 가 | J2: 금 액
A3: ▶ 농산가공품 개발교육센터 건립 전기공사 집계표
A4: =A22 -> 1. 전기인입 공사 | C4: 식 | D4: 1
A5: =A60 -> 2. 보안등 공사 | C5: 식 | D5: 1
A6: =A79 -> 3. 전기간선 공사 | C6: 식 | D6: 1
A7: =A155 -> 4. 전등 공사 | C7: 식 | D7: 1
A8: =A212 -> 5. 전열 공사 | C8: 식 | D8: 1
A9: =A231 -> 6. 냉난방 공사 | C9: 식 | D9: 1
A10: =A269 -> 7. 전열교환기 공사 | C10: 식 | D10: 1
A11: =A288 -> 8. 복사패널 및 에어커텐전원 공사 | C11: 식 | D11: 1
A13: 합 계
A22: =전기공량!A3 -> 1. 전기인입 공사
A23: =전기공량!A4 -> 전선관 | B23: =전기공량!B4 -> STEEL 104C | C23: =전기공량!C4 -> M | D23: =전기공량!F4 -> 0
A24: =전기공량!A5 -> 전선관 | B24: =전기공량!B5 -> ELP 40C | C24: =전기공량!C5 -> M | D24: =전기공량!F5 -> 0
A25: =전기공량!A6 -> 전선관 | B25: =전기공량!B6 -> ELP 125C | C25: =전기공량!C6 -> M | D25: =전기공량!F6 -> 0
A26: =전기공량!A7 -> 전선 | B26: =전기공량!B7 -> F-GV 120㎟ | C26: =전기공량!C7 -> M | D26: =전기공량!F7 -> 0
A27: =전기공량!A8 -> F-CV CABLE | B27: =전기공량!B8 -> 1/C 300㎟ | C27: =전기공량!C8 -> M | D27: =전기공량!F8 -> 0
A28: =전기공량!A9 -> 동관단자 | B28: =전기공량!B9 -> 300㎟(1H) | C28: =전기공량!C9 -> EA | D28: =전기공량!F9 -> 0
A29: =전기공량!A10 -> 접지봉 | B29: =전기공량!B10 -> 16φ x 1800㎜ x 3EA | C29: =전기공량!C10 -> SET | D29: =전기공량!F10 -> 0
A30: =전기공량!A11 -> 터파기 | B30: =전기공량!B11 -> 굴삭기-무한궤도:0.4㎥ | C30: =전기공량!C11 -> ㎥ | D30: =전기공량!F11 -> 0 | L30: =일위내역!L6 -> 제3호표
A31: =전기공량!A12 -> 되메우기 | B31: =전기공량!B12 -> 굴삭기-무한궤도:0.4㎥ | C31: =전기공량!C12 -> ㎥ | D31: =전기공량!F12 -> 0 | L31: =일위내역!L7 -> 제4호표
A32: =전기공량!A13 -> 케이블표시시트 | B32: =전기공량!B13 -> 폭 200㎜ | C32: =전기공량!C13 -> M | D32: =전기공량!F13 -> 0
A33: =전기공량!A14 -> 지중선로 표시기 | B33: =전기공량!B14 -> 황동 | C33: =전기공량!C14 -> EA | D33: =전기공량!F14 -> 0
A34: =전기공량!A15 -> 전기 맨홀(기성품) | B34: =전기공량!B15 -> 1000x1000x1000 | C34: =전기공량!C15 -> EA | D34: =전기공량!F15 -> 0
A35: =전기공량!A16 -> 맨홀 카바(주물) | B35: =전기공량!B16 -> Φ648 KS | C35: =전기공량!C16 -> EA | D35: =전기공량!F16 -> 0
A36: =전기공량!A17 -> 분전반 | B36: =전기공량!B17 -> P-M(800x1600x250) | C36: =전기공량!C17 -> 식 | D36: =전기공량!F17 -> 0 | L36: 관급자재
A37: 전선관 부속품 | B37: 배관의 15% | C37: 식 | D37: 1
A38: 소모품 | B38: 배관 배선의 2% | C38: 식 | D38: 1
A39: 노무비 | B39: 내선전공 | C39: 인 | D39: =TRUNC((전기공량!$H$19),1) -> 0
A40: 노무비 | B40: 저압케이블공 | C40: 인 | D40: =TRUNC((전기공량!$J$19),1) -> 0
A41: 노무비 | B41: 배전전공 | C41: 인 | D41: =TRUNC((전기공량!$N$19),1) -> 0
A42: 노무비 | B42: 보통인부 | C42: 인 | D42: =TRUNC((전기공량!$P$19),1) -> 0
A43: 노무비 | B43: 전기공사산업기사 | C43: 인 | D43: =TRUNC((전기공량!$T$19),1) -> 0
A44: 공구손료 | B44: 노무비의 3% | C44: 식 | D44: 1
A46: 합 계
A60: =전기공량!A22 -> 2. 보안등 공사
A61: =전기공량!A23 -> 전선관 | B61: =전기공량!B23 -> ELP 30C | C61: =전기공량!C23 -> M | D61: =전기공량!F23 -> 0
A62: =전기공량!A24 -> 전선 | B62: =전기공량!B24 -> F-GV 4㎟ | C62: =전기공량!C24 -> M | D62: =전기공량!F24 -> 0
A63: =전기공량!A25 -> F-CV CABLE | B63: =전기공량!B25 -> 2/C 4㎟ | C63: =전기공량!C25 -> M | D63: =전기공량!F25 -> 0
A64: =전기공량!A26 -> 터파기 | B64: =전기공량!B26 -> 굴삭기-무한궤도:0.4㎥ | C64: =전기공량!C26 -> ㎥ | D64: =전기공량!F26 -> 0 | L64: =일위내역!L6 -> 제3호표
A65: =전기공량!A27 -> 되메우기 | B65: =전기공량!B27 -> 굴삭기-무한궤도:0.4㎥ | C65: =전기공량!C27 -> ㎥ | D65: =전기공량!F27 -> 0 | L65: =일위내역!L7 -> 제4호표
A66: =전기공량!A28 -> 케이블표시시트 | B66: =전기공량!B28 -> 폭 200㎜ | C66: =전기공량!C28 -> M | D66: =전기공량!F28 -> 0
A67: =전기공량!A29 -> 접지봉 | B67: =전기공량!B29 -> 14φ x 1000㎜ | C67: =전기공량!C29 -> EA | D67: =전기공량!F29 -> 0
A68: =전기공량!A30 -> 다기능 접속함 | B68: =전기공량!B30 -> ELB1개/상시격등제어내장 | C68: =전기공량!C30 -> EA | D68: =전기공량!F30 -> 0
A69: =전기공량!A31 -> 조명기구-I | B69: =전기공량!B31 -> LED 60W,MH:3.34M(보안등주-STS) | C69: =전기공량!C31 -> EA | D69: =전기공량!F31 -> 0 | L69: 관급자재
A70: =전기공량!A32 -> 보안등 기초(기성품) | B70: =전기공량!B32 -> 400x600x600 | C70: =전기공량!C32 -> EA | D70: =전기공량!F32 -> 0
A71: 전선관 부속품 | B71: 배관의 15% | C71: 식 | D71: 1
A72: 소모품 | B72: 배관 배선의 2% | C72: 식 | D72: 1
A73: 노무비 | B73: 내선전공 | C73: 인 | D73: =TRUNC((전기공량!$H$34),1) -> 0
A74: 노무비 | B74: 저압케이블공 | C74: 인 | D74: =TRUNC((전기공량!$J$34),1) -> 0
A75: 노무비 | B75: 배전전공 | C75: 인 | D75: =TRUNC((전기공량!$N$34),1) -> 0
A76: 노무비 | B76: 보통인부 | C76: 인 | D76: =TRUNC((전기공량!$P$34),1) -> 0
A77: 공구손료 | B77: 노무비의 3% | C77: 식 | D77: 1
A78: 합 계
A79: =전기공량!A41 -> 3. 전기간선 공사
A80: =전기공량!A42 -> 전선관 | B80: =전기공량!B42 -> CD 22C(난연성) | C80: =전기공량!C42 -> M | D80: =전기공량!F42 -> 0
A81: =전기공량!A43 -> 전선관 | B81: =전기공량!B43 -> CD 28C(난연성) | C81: =전기공량!C43 -> M | D81: =전기공량!F43 -> 0
A82: =전기공량!A44 -> 전선관 | B82: =전기공량!B44 -> STEEL 42C | C82: =전기공량!C44 -> M | D82: =전기공량!F44 -> 0
A83: =전기공량!A45 -> 전선관 | B83: =전기공량!B45 -> STEEL 70C | C83: =전기공량!C45 -> M | D83: =전기공량!F45 -> 0
A84: =전기공량!A46 -> 후렉시블 전선관 | B84: =전기공량!B46 -> 22C 방수 | C84: =전기공량!C46 -> M | D84: =전기공량!F46 -> 0
A85: =전기공량!A47 -> 후렉시블 전선관 | B85: =전기공량!B47 -> 28C 방수 | C85: =전기공량!C47 -> M | D85: =전기공량!F47 -> 0
A86: =전기공량!A48 -> 전선 | B86: =전기공량!B48 -> HFIX 4㎟ | C86: =전기공량!C48 -> M | D86: =전기공량!F48 -> 0
A87: =전기공량!A49 -> 전선 | B87: =전기공량!B49 -> F-GV 4㎟ | C87: =전기공량!C49 -> M | D87: =전기공량!F49 -> 0
A88: =전기공량!A50 -> 전선 | B88: =전기공량!B50 -> F-GV 6㎟ | C88: =전기공량!C50 -> M | D88: =전기공량!F50 -> 0
A89: =전기공량!A51 -> 전선 | B89: =전기공량!B51 -> F-GV 10㎟ | C89: =전기공량!C51 -> M | D89: =전기공량!F51 -> 0
A90: =전기공량!A52 -> 전선 | B90: =전기공량!B52 -> F-GV 16㎟ | C90: =전기공량!C52 -> M | D90: =전기공량!F52 -> 0
A91: =전기공량!A53 -> 전선 | B91: =전기공량!B53 -> F-GV 25㎟ | C91: =전기공량!C53 -> M | D91: =전기공량!F53 -> 0
... A108: =전기공량!A70 -> COVER CLAMP | B108: =전기공량!B70 -> 100H | C108: =전기공량!C70 -> EA | D108: =전기공량!F70 -> 0
A109: =전기공량!A71 -> DUCT 행가 | B109: =전기공량!B71 -> W-400 | C109: =전기공량!C71 -> 식 | D109: =전기공량!F71 -> 0 | L109: =일위내역!L4 -> 제1호표
A110: =전기공량!A72 -> DUCT 행가 | B110: =전기공량!B72 -> W-400/수직 | C110: =전기공량!C72 -> 식 | D110: =전기공량!F72 -> 0 | L110: =일위내역!L5 -> 제2호표
A111: =전기공량!A73 -> 후렉시블콘넥터 | B111: =전기공량!B73 -> 22C (방수) | C111: =전기공량!C73 -> EA | D111: =전기공량!F73 -> 0
A112: =전기공량!A74 -> 후렉시블콘넥터 | B112: =전기공량!B74 -> 28C (방수) | C112: =전기공량!C74 -> EA | D112: =전기공량!F74 -> 0
A113: =전기공량!A75 -> 노말밴드 | B113: =전기공량!B75 -> STEEL 42C | C113: =전기공량!C75 -> EA | D113: =전기공량!F75 -> 0
A114: =전기공량!A76 -> 노말밴드 | B114: =전기공량!B76 -> STEEL 70C | C114: =전기공량!C76 -> EA | D114: =전기공량!F76 -> 0
A115: =전기공량!A77 -> 압착터미널 | B115: =전기공량!B77 -> 16㎟ | C115: =전기공량!C77 -> EA | D115: =전기공량!F77 -> 0
A116: =전기공량!A78 -> 압착터미널 | B116: =전기공량!B78 -> 50㎟ | C116: =전기공량!C78 -> EA | D116: =전기공량!F78 -> 0
A117: =전기공량!A79 -> PULL BOX | B117: =전기공량!B79 -> 150x150x100 | C117: =전기공량!C79 -> EA | D117: =전기공량!F79 -> 0
A118: =전기공량!A80 -> HI-BOX | B118: =전기공량!B80 -> C/T 4각 | C118: =전기공량!C80 -> EA | D118: =전기공량!F80 -> 0
A119: =전기공량!A81 -> HI-BOX(카바부) | B119: =전기공량!B81 -> O/L S-2 | C119: =전기공량!C81 -> EA | D119: =전기공량!F81 -> 0
A120: =전기공량!A82 -> HI-BOX(카바부) | B120: =전기공량!B82 -> O/L S-1 | C120: =전기공량!C82 -> EA | D120: =전기공량!F82 -> 0
A121: =전기공량!A83 -> BOX COVER | B121: =전기공량!B83 -> 철제평 | C121: =전기공량!C83 -> EA | D121: =전기공량!F83 -> 0
A122: =전기공량!A84 -> BLANK PLATE | B122: =전기공량!B84 -> SW 1G | C122: =전기공량!C84 -> EA | D122: =전기공량!F84 -> 0
... A128: =전기공량!A90 -> 인서트 | B128: =전기공량!B90 -> 3/8" | C128: =전기공량!C90 -> EA | D128: =전기공량!F90 -> 0
A129: =전기공량!A91 -> 분전반 | B129: =전기공량!B91 -> LP-M(900x2200x300) | C129: =전기공량!C91 -> 식 | D129: =전기공량!F91 -> 0 | L129: 관급자재
A130: =전기공량!A92 -> 분전반 | B130: =전기공량!B92 -> L-1(700x1100x180) | C130: =전기공량!C92 -> 식 | D130: =전기공량!F92 -> 0 | L130: 관급자재
A131: =전기공량!A93 -> 분전반 | B131: =전기공량!B93 -> L-2(700x1000x180) | C131: =전기공량!C93 -> 식 | D131: =전기공량!F93 -> 0 | L131: 관급자재
A132: =전기공량!A94 -> 분전반 | B132: =전기공량!B94 -> P-1(700x1800x250) | C132: =전기공량!C94 -> 식 | D132: =전기공량!F94 -> 0 | L132: 관급자재
A133: =전기공량!A95 -> 분전반 | B133: =전기공량!B95 -> P-2(700x1700x180) | C133: =전기공량!C95 -> 식 | D133: =전기공량!F95 -> 0 | L133: 관급자재
A134: =전기공량!A96 -> 분전반 | B134: =전기공량!B96 -> P-EV(600x600x180) | C134: =전기공량!C96 -> 식 | D134: =전기공량!F96 -> 0 | L134: 관급자재
A135: 전선관 부속품 | B135: 배관(CD)의 40% | C135: 식 | D135: 1
A136: 전선관 부속품 | B136: 배관의 15% | C136: 식 | D136: 1
A137: 소모품 | B137: 배관 배선의 2% | C137: 식 | D137: 1
A138: 노무비 | B138: 내선전공 | C138: 인 | D138: =TRUNC((전기공량!$H$97),1) -> 0
A139: 노무비 | B139: 저압케이블공 | C139: 인 | D139: =TRUNC((전기공량!$J$97),1) -> 0
A140: 공구손료 | B140: 노무비의 3% | C140: 식 | D140: 1
A142: 합 계
A155: =전기공량!A98 -> 4. 전등 공사
A156: =전기공량!A99 -> 전선관 | B156: =전기공량!B99 -> CD 16C(난연성) | C156: =전기공량!C99 -> M | D156: =SUM(전기공량!F99) -> 0
A157: =전기공량!A100 -> 전선관 | B157: =전기공량!B100 -> CD 22C(난연성) | C157: =전기공량!C100 -> M | D157: =SUM(전기공량!F100) -> 0
...

Sheet 일위내역
A1: 품 명 | B1: 재료 . 규격 | C1: 단위 | D1: 수량 | E1: 재 료 비 | G1: 노 무 비 | I1: 경 비 | K1: 총 액 | L1: 비 고
E2: 단 가 | F2: 금 액 | G2: 단 가 | H2: 금 액 | I2: 단 가 | J2: 금 액
A3: ▶ 일위대가 목록표
A4: DUCT 행가 | B4: W-400 | C4: 식 | D4: 1 | L4: 제1호표
A5: DUCT 행가 | B5: W-400/수직 | C5: 식 | D5: 1 | L5: 제2호표
A6: 터파기 | B6: 굴삭기-무한궤도:0.4㎥ | C6: ㎥ | D6: 1 | L6: 제3호표
A7: 되메우기 | B7: 굴삭기-무한궤도:0.4㎥ | C7: ㎥ | D7: 1 | L7: 제4호표
A23: 제1호표 DUCT 행가 (W-400)
A24: U-CHANNEL | B24: 41x41x2.6T | C24: M | D24: 0.6
A25: 달대볼트 | B25: 3/8"x1000㎜ | C25: EA | D25: 2
A26: 인서트 | B26: 3/8" | C26: EA | D26: 2
A27: 너트&와샤 | B27: 3/8" | C27: EA | D27: 2
A29: 합 계
A31: 제2호표 DUCT 행가 (W-400/수직)
A32: U-CHANNEL | B32: 41x41x2.6T | C32: M | D32: 0.6
A33: 셋트앙카 | B33: 1/2"x100㎜ | C33: EA | D33: 2
A34: 너트&와샤 | B34: 1/2" | C34: EA | D34: 2
A35: 노무비 | B35: 내선전공 | C35: 인 | D35: 0.072 | L35: 전품 5-29
A37: 합 계
A43: 제3호표 터파기(굴삭기-무한궤도:0.4㎥)
A44: 터파기 | B44: 굴삭기-무한궤도:0.4㎥ | C44: ㎥ | D44: 1
A46: 합 계
A48: 제4호표 되메우기(굴삭기-무한궤도:0.4㎥)
A49: 되메우기 | B49: 굴삭기-무한궤도:0.4㎥ | C49: ㎥ | D49: 1
A51: 합 계

Sheet 단가대비
A1: 단 가 대 비 표
A3: 품 명 | B3: 규 격 | C3: 품명 및 규격 | D3: 단위 | E3: 적용단가 | F3: 조 달 청 단 가 | G3: 물가자료(26년07) | I3: 물가정보(26년07) | K3: 견적단가 | L3: 견적단가 | M3: 견적단가
G4: 단 가 | H4: PAGE | I4: 단 가 | J4: PAGE
A5: 전선관 | B5: STEEL 42C | C5: =A5&B5 -> 전선관STEEL 42C | D5: M
A6: 전선관 | B6: STEEL 70C | C6: =A6&B6 -> 전선관STEEL 70C | D6: M
A7: 전선관 | B7: STEEL 104C | C7: =A7&B7 -> 전선관STEEL 104C | D7: M
A8: 전선관 | B8: ELP 30C | C8: =A8&B8 -> 전선관ELP 30C | D8: M
A9: 전선관 | B9: ELP 40C | C9: =A9&B9 -> 전선관ELP 40C | D9: M
A10: 전선관 | B10: ELP 125C | C10: =A10&B10 -> 전선관ELP 125C | D10: M
A11: 전선관 | B11: CD 16C(난연성) | C11: =A11&B11 -> 전선관CD 16C(난연성) | D11: M
A12: 전선관 | B12: CD 22C(난연성) | C12: =A12&B12 -> 전선관CD 22C(난연성) | D12: M
A13: 전선관 | B13: CD 28C(난연성) | C13: =A13&B13 -> 전선관CD 28C(난연성) | D13: M
A14: 후렉시블 전선관 | B14: 16C 일반 | C14: =A14&B14 -> 후렉시블 전선관16C 일반 | D14: M
A15: 후렉시블 전선관 | B15: 22C 일반 | C15: =A15&B15 -> 후렉시블 전선관22C 일반 | D15: M
A16: 후렉시블 전선관 | B16: 22C 방수 | C16: =A16&B16 -> 후렉시블 전선관22C 방수 | D16: M
... A106: 노무비 | B106: 변전전공 | C106: =A106&B106 -> 노무비변전전공 | D106: 인

Sheet 전기공량
A1: 품 명 | B1: 재료 . 규격 | C1: 단위 | D1: 자재 소계 | E1: 할증 율 (%) | F1: 자재 총계 | G1: 내선전공 | I1: 저압 케이블공 | K1: 특고압 케이블공 | M1: 배전전공 | O1: 보통인부 | Q1: 배관공 | S1: 전기공사 산업기사 | U1: 비고
G2: 단위공량 | H2: 공량계 | I2: 단위공량 | J2: 공량계 | K2: 단위공량 | L2: 공량계 | M2: 단위공량 | N2: 공량계 | O2: 단위공량 | P2: 공량계 | Q2: 단위공량 | R2: 공량계 | S2: 단위공량 | T2: 공량계
A3: 1. 전기인입 공사
A4: 전선관 | B4: STEEL 104C | C4: M | D4: 16.5 | T4: =ROUNDDOWN(($D4*S4),4) -> 0 | U4: 전품 5-1
A5: 전선관 | B5: ELP 40C | C5: M | D5: 7.5 | T5: =ROUNDDOWN(($D5*S5),4) -> 0 | U5: 전품 4-31
A6: 전선관 | B6: ELP 125C | C6: M | D6: 99.5 | T6: =ROUNDDOWN(($D6*S6),4) -> 0 | U6: 전품 4-31
A7: 전선 | B7: F-GV 120㎟ | C7: M | D7: 14 | T7: =ROUNDDOWN(($D7*S7),4) -> 0 | U7: 전품 3-38
A8: F-CV CABLE | B8: 1/C 300㎟ | C8: M | D8: 1122 | T8: =ROUNDDOWN(($D8*S8),4) -> 0 | U8: 전품 4-34
A9: 동관단자 | B9: 300㎟(1H) | C9: EA | D9: 16 | T9: =ROUNDDOWN(($D9*S9),4) -> 0 | U9: 전품 4-37
A10: 접지봉 | B10: 16φ x 1800㎜ x 3EA | C10: SET | D10: 1 | T10: =ROUNDDOWN(($D10*S10),4) -> 0 | U10: 전품 3-38
A11: 터파기 | B11: 굴삭기-무한궤도:0.4㎥ | C11: ㎥ | D11: 30.6
A12: 되메우기 | B12: 굴삭기-무한궤도:0.4㎥ | C12: ㎥ | D12: 30.6 | T12: =ROUNDDOWN(($D12*S12),4) -> 0
A13: 케이블표시시트 | B13: 폭 200㎜ | C13: M | D13: 97 | T13: =ROUNDDOWN(($D13*S13),4) -> 0 | U13: 전품 4-45
A14: 지중선로 표시기 | B14: 황동 | C14: EA | D14: 9 | U14: 전품 4-46
A15: 전기 맨홀(기성품) | B15: 1000x1000x1000 | C15: EA | D15: 2
A16: 맨홀 카바(주물) | B16: Φ648 KS | C16: EA | D16: 2 | U16: 전품 2-18
A17: 분전반 | B17: P-M(800x1600x250) | C17: 식 | D17: 1 | U17: 전품 5-4
A19: 공 량 계
A22: 2. 보안등 공사
A23: 전선관 | B23: ELP 30C | C23: M | D23: 128.5 | T23: =ROUNDDOWN(($D23*S23),4) -> 0 | U23: 전품 4-31
A24: 전선 | B24: F-GV 4㎟ | C24: M | D24: 12 | T24: =ROUNDDOWN(($D24*S24),4) -> 0 | U24: 전품 3-38
A25: F-CV CABLE | B25: 2/C 4㎟ | C25: M | D25: 220 | T25: =ROUNDDOWN(($D25*S25),4) -> 0 | U25: 전품 4-34
A26: 터파기 | B26: 굴삭기-무한궤도:0.4㎥ | C26: ㎥ | D26: 34.7
A27: 되메우기 | B27: 굴삭기-무한궤도:0.4㎥ | C27: ㎥ | D27: 34.7 | T27: =ROUNDDOWN(($D27*S27),4) -> 0
A28: 케이블표시시트 | B28: 폭 200㎜ | C28: M | D28: 110 | T28: =ROUNDDOWN(($D28*S28),4) -> 0 | U28: 전품 4-45
A29: 접지봉 | B29: 14φ x 1000㎜ | C29: EA | D29: 6 | T29: =ROUNDDOWN(($D29*S29),4) -> 0 | U29: 전품 3-38
A30: 다기능 접속함 | B30: ELB1개/상시격등제어내장 | C30: EA | D30: 6 | U30: 전품 5-19
A31: 조명기구-I | B31: LED 60W,MH:3.34M(보안등주-STS) | C31: EA | D31: 6 | U31: 전품 5-27(가)
A32: 보안등 기초(기성품) | B32: 400x600x600 | C32: EA | D32: 6 | U32: 전품 5-27-1
A34: 공 량 계 | T34: =SUM(T23:T33) -> 0
A41: 3. 전기간선 공사
A42: 전선관 | B42: CD 22C(난연성) | C42: M | D42: 120.3 | T42: =ROUNDDOWN(($D42*S42),4) -> 0 | U42: 전품 5-1
A43: 전선관 | B43: CD 28C(난연성) | C43: M | D43: 69.8 | T43: =ROUNDDOWN(($D43*S43),4) -> 0 | U43: 전품 5-1
A44: 전선관 | B44: STEEL 42C | C44: M | D44: 25.1 | T44: =ROUNDDOWN(($D44*S44),4) -> 0 | U44: 전품 5-1
A45: 전선관 | B45: STEEL 70C | C45: M | D45: 52.6 | T45: =ROUNDDOWN(($D45*S45),4) -> 0 | U45: 전품 5-1
A46: 후렉시블 전선관 | B46: 22C 방수 | C46: M | D46: 13.2 | T46: =ROUNDDOWN(($D46*S46),4) -> 0 | U46: 전품 5-1
A47: 후렉시블 전선관 | B47: 28C 방수 | C47: M | D47: 6 | T47: =ROUNDDOWN(($D47*S47),4) -> 0 | U47: 전품 5-1
A48: 전선 | B48: HFIX 4㎟ | C48: M | D48: 561 | T48: =ROUNDDOWN(($D48*S48),4) -> 0 | U48: 전품 5-10
A49: 전선 | B49: F-GV 4㎟ | C49: M | D49: 259.9 | T49: =ROUNDDOWN(($D49*S49),4) -> 0 | U49: 전품 3-38
A50: 전선 | B50: F-GV 6㎟ | C50: M | D50: 88.2 | T50: =ROUNDDOWN(($D50*S50),4) -> 0 | U50: 전품 3-38
A51: 전선 | B51: F-GV 10㎟ | C51: M | D51: 9 | T51: =ROUNDDOWN(($D51*S51),4) -> 0 | U51: 전품 3-38
A52: 전선 | B52: F-GV 16㎟ | C52: M | D52: 46.5 | T52: =ROUNDDOWN(($D52*S52),4) -> 0 | U52: 전품 3-38
A53: 전선 | B53: F-GV 25㎟ | C53: M | D53: 59.6 | T53: =ROUNDDOWN(($D53*S53),4) -> 0 | U53: 전품 3-38
... A64: HOR,TEE(DUCT/W/C) | B64: W400 x H100 x 2.3T | C64: EA | D64: 1 | T64: =ROUNDDOWN(($D64*S64),4) -> 0 | U64: 전품 5-8
A65: JOINT CONNECT | B65: 100H | C65: EA | D65: 26
A66: SHANK B/NUT | B66: 3/8" 19L | C66: EA | D66: 208
A67: BONDING JUMP | B67: 38㎟ | C67: EA | D67: 13
A68: SPRING NUT | B68: 3/8" | C68: EA | D68: 52
A69: HOLDDOWN CLAMP | B69: 3/8" | C69: EA | D69: 52
A70: COVER CLAMP | B70: 100H | C70: EA | D70: 52
A71: DUCT 행가 | B71: W-400 | C71: 식 | D71: 24
A72: DUCT 행가 | B72: W-400/수직 | C72: 식 | D72: 2
A73: 후렉시블콘넥터 | B73: 22C (방수) | C73: EA | D73: 4
A74: 후렉시블콘넥터 | B74: 28C (방수) | C74: EA | D74: 6
A75: 노말밴드 | B75: STEEL 42C | C75: EA | D75: 5
A76: 노말밴드 | B76: STEEL 70C | C76: EA | D76: 10
A77: 압착터미널 | B77: 16㎟ | C77: EA | D77: 8 | U77: 전품 4-37
A78: 압착터미널 | B78: 50㎟ | C78: EA | D78: 32 | U78: 전품 4-37
A79: PULL BOX | B79: 150x150x100 | C79: EA | D79: 1 | U79: 전품 5-4
A80: HI-BOX | B80: C/T 4각 | C80: EA | D80: 5 | U80: 전품 5-3
A81: HI-BOX(카바부) | B81: O/L S-2 | C81: EA | D81: 15 | U81: 전품 5-3
A82: HI-BOX(카바부) | B82: O/L S-1 | C82: EA | D82: 23 | U82: 전품 5-3
A83: BOX COVER | B83: 철제평 | C83: EA | D83: 5
A84: BLANK PLATE | B84: SW 1G | C84: EA | D84: 19 | U84: 전품 5-29
A85: 콘센트(접지) | B85: 4구 250V 16A | C85: EA | D85: 4 | U85: 전품 5-23(가)
A86: 콘센트(접지-WP) | B86: 1구 250V 16A | C86: EA | D86: 5 | U86: 전품 5-23(가)
A87: 파이프행가 | B87: 42C | C87: EA | D87: 10
A88: 파이프행가 | B88: 70C | C88: EA | D88: 22
A89: 달대볼트 | B89: 3/8"x1000㎜ | C89: EA | D89: 32
A90: 인서트 | B90: 3/8" | C90: EA | D90: 32 | U90: 전품 5-29
A91: 분전반 | B91: LP-M(900x2200x300) | C91: 식 | D91: 1 | T91: =ROUNDDOWN(($D91*S91),4) -> 0 | U91: 전품 5-4
A92: 분전반 | B92: L-1(700x1100x180) | C92: 식 | D92: 1 | T92: =ROUNDDOWN(($D92*S92),4) -> 0 | U92: 전품 5-4
A93: 분전반 | B93: L-2(700x1000x180) | C93: 식 | D93: 1 | T93: =ROUNDDOWN(($D93*S93),4) -> 0 | U93: 전품 5-4
A94: 분전반 | B94: P-1(700x1800x250) | C94: 식 | D94: 1 | T94: =ROUNDDOWN(($D94*S94),4) -> 0 | U94: 전품 5-4
A95: 분전반 | B95: P-2(700x1700x180) | C95: 식 | D95: 1 | T95: =ROUNDDOWN(($D95*S95),4) -> 0 | U95: 전품 5-4
A96: 분전반 | B96: P-EV(600x600x180) | C96: 식 | D96: 1 | T96: =ROUNDDOWN(($D96*S96),4) -> 0 | U96: 전품 5-4
A97: 공 량 계 | T97: =SUM(T42:T96) -> 0
A98: 4. 전등 공사
A99: 전선관 | B99: CD 16C(난연성) | C99: M | D99: 346.4 | T99: =ROUNDDOWN(($D99*S99),4) -> 0 | U99: 전품 5-1
A100: 전선관 | B100: CD 22C(난연성) | C100: M | D100: 127.8 | T100: =ROUNDDOWN(($D100*S100),4) -> 0 | U100: 전품 5-1
A101: 전선관 | B101: CD 28C(난연성) | C101: M | D101: 25.2 | T101: =ROUNDDOWN(($D101*S101),4) -> 0 | U101: 전품 5-1
A102: 후렉시블 전선관 | B102: 16C 일반 | C102: M | D102: 201.8 | T102: =ROUNDDOWN(($D102*S102),4) -> 0 | U102: 전품 5-1
A103: 전선 | B103: HFIX 2.5㎟ | C103: M | D103: 2226.5 | T103: =ROUNDDOWN(($D103*S103),4) -> 0 | U103: 전품 5-10
A104: UTP CABLE(CAT'5E) | B104: 4P 0.5㎜ | C104: M | D104: 39.6 | T104: =ROUNDDOWN(($D104*S104),4) -> 0 | U104: 통품 4-3-1
A105: 후렉시블콘넥터 | B105: 16C (일반) | C105: EA | D105: 284
A106: HI-BOX | B106: C/T 4각 | C106: EA | D106: 27 | T106: =ROUNDDOWN(($D106*S106),4) -> 0 | U106: 전품 5-3
A107: HI-BOX | B107: C/T 8각 | C107: EA | D107: 135 | T107: =ROUNDDOWN(($D107*S107),4) -> 0 | U107: 전품 5-3
A108: HI-BOX(카바부) | B108: O/L S-2 | C108: EA | D108: 11 | T108: =ROUNDDOWN(($D108*S108),4) -> 0 | U108: 전품 5-3
A109: HI-BOX(카바부) | B109: O/L S-1 | C109: EA | D109: 35 | T109: =ROUNDDOWN(($D109*S109),4) -> 0 | U109: 전품 5-3
A110: BOX COVER | B110: 철제평 | C110: EA | D110: 162
A111: 단로스위치(WIDE) | B111: 1구 250V 16A | C111: EA | D111: 13 | T111: =ROUNDDOWN(($D111*S111),4) -> 0 | U111: 전품 5-23(나)
A112: 단로스위치(WIDE) | B112: 2구 250V 16A | C112: EA | D112: 5 | T112: =ROUNDDOWN(($D112*S112),4) -> 0 | U112: 전품 5-23(나)
A113: 단로스위치(WIDE) | B113: 3구 250V 16A | C113: EA | D113: 3 | T113: =ROUNDDOWN(($D113*S113),4) -> 0 | U113: 전품 5-23(나)
A114: 단로스위치(WIDE) | B114: 5구 250V 16A | C114: EA | D114: 2 | T114: =ROUNDDOWN(($D114*S114),4) -> 0 | U114: 전품 5-23(나)
A115: 삼로스위치(WIDE) | B115: 1구 250V 16A | C115: EA | D115: 2 | T115: =ROUNDDOWN(($D115*S115),4) -> 0 | U115: 전품 5-23(나)
A116: 카운터절전스위치 | B116: 중앙처리장치,센서 | C116: SET | D116: 6 | T116: =ROUNDDOWN(($D116*S116),4) -> 0 | U116: 전품 5-23(나)
A117: 콘센트(접지) | B117: 1구 250V 16A | C117: EA | D117: 9 | T117: =ROUNDDOWN(($D117*S117),4) -> 0 | U117: 전품 5-23(가)
A118: 조명기구-A | B118: LED 40W 평판매입 | C118: EA | D118: 35 | T118: =ROUNDDOWN(($D118*S118),4) -> 0 | U118: 전품 5-25-3
A119: 조명기구-B | B119: LED 40W 평판매입(600x600) | C119: EA | D119: 16 | T119: =ROUNDDOWN(($D119*S119),4) -> 0 | U119: 전품 5-25-3
A120: 조명기구-C | B120: LED 40W 레이스웨이직부 | C120: EA | D120: 2 | T120: =ROUNDDOWN(($D120*S120),4) -> 0 | U120: 전품 5-25-3
...

Sheet 표지(관급)
A4: 농산가공품 개발교육센터 건립 전기공사
A6: 관 급 내 역 서
A14: 2026. 07.
A22: 경상북도 상주시
A29: =A4 -> 농산가공품 개발교육센터 건립 전기공사
A31: 분전반 제작구매
A39: =A14 -> 2026. 07.
A47: =A22 -> 경상북도 상주시
A54: =A4 -> 농산가공품 개발교육센터 건립 전기공사
A56: 조명기구 제작구매
A64: =A14 -> 2026. 07.
A72: =A22 -> 경상북도 상주시

Sheet 관급집계
A1: 품 명 | B1: 재료 . 규격 | C1: 단위 | D1: 수량 | E1: 재 료 비 | G1: 노 무 비 | I1: 경 비 | K1: 총 액 | L1: 비 고
E2: 단 가 | F2: 금 액 | G2: 단 가 | H2: 금 액 | I2: 단 가 | J2: 금 액
A3: ▶ 농산가공품 개발교육센터 건립 전기공사 관급자재 집계표
A4: =A22 -> 1. 분전반 제작구매 | C4: 식 | D4: 1
A5: =A41 -> 2. 조명기구 제작구매 | C5: 식 | D5: 1
A6: 소 계 (도급자관급)
A8: 합 계
A22: 1. 분전반 제작구매
A23: =전기공량!A17 -> 분전반 | B23: =전기공량!B17 -> P-M(800x1600x250) | C23: =전기공량!C17 -> 식 | D23: =전기공량!F17 -> 0 | L23: G2B식번 22909140
A24: =전기공량!A91 -> 분전반 | B24: =전기공량!B91 -> LP-M(900x2200x300) | C24: =전기공량!C91 -> 식 | D24: =전기공량!F91 -> 0 | L24: G2B식번 22909140
A25: =전기공량!A92 -> 분전반 | B25: =전기공량!B92 -> L-1(700x1100x180) | C25: =전기공량!C92 -> 식 | D25: =전기공량!F92 -> 0 | L25: G2B식번 22909140
A26: =전기공량!A93 -> 분전반 | B26: =전기공량!B93 -> L-2(700x1000x180) | C26: =전기공량!C93 -> 식 | D26: =전기공량!F93 -> 0 | L26: G2B식번 22909140
A27: =전기공량!A94 -> 분전반 | B27: =전기공량!B94 -> P-1(700x1800x250) | C27: =전기공량!C94 -> 식 | D27: =전기공량!F94 -> 0 | L27: G2B식번 22909140
A28: =전기공량!A95 -> 분전반 | B28: =전기공량!B95 -> P-2(700x1700x180) | C28: =전기공량!C95 -> 식 | D28: =전기공량!F95 -> 0 | L28: G2B식번 22909140
A29: =전기공량!A96 -> 분전반 | B29: =전기공량!B96 -> P-EV(600x600x180) | C29: =전기공량!C96 -> 식 | D29: =전기공량!F96 -> 0 | L29: G2B식번 22909140 | N29: 분전반 | O29: 부가세제외
A30: 소 계 | N30: =SUM(K23:K29) -> 0 | O30: =INT(N30/1.1) -> 0
A31: 부 가 세 | B31: 재료비의 | C31: % | D31: 10 | L31: < 포함 >
A32: 합 계
A33: 조달수수료 | B33: 단가(일반,3자,MAS) x 0.54%
A35: 총 계 | L35: < 백이하절상>
A41: 2. 조명기구 제작구매
A42: =전기공량!A118 -> 조명기구-A | B42: =전기공량!B118 -> LED 40W 평판매입 | C42: =전기공량!C118 -> EA | D42: =전기공량!F118 -> 0 | L42: G2B식번 23335954
A43: =전기공량!A119 -> 조명기구-B | B43: =전기공량!B119 -> LED 40W 평판매입(600x600) | C43: =전기공량!C119 -> EA | D43: =전기공량!F119 -> 0 | L43: G2B식번 23592274
A44: =전기공량!A120 -> 조명기구-C | B44: =전기공량!B120 -> LED 40W 레이스웨이직부 | C44: =전기공량!C120 -> EA | D44: =전기공량!F120 -> 0 | L44: G2B식번 23592262
A45: =전기공량!A121 -> 조명기구-D | B45: =전기공량!B121 -> LED 11W 벽부 | C45: =전기공량!C121 -> EA | D45: =전기공량!F121 -> 0 | L45: G2B식번 25313054
A46: =전기공량!A122 -> 조명기구-E | B46: =전기공량!B122 -> LED 11W 원형직부 | C46: =전기공량!C122 -> EA | D46: =전기공량!F122 -> 0 | L46: G2B식번 23958665
A47: =전기공량!A123 -> 조명기구-F | B47: =전기공량!B123 -> LED 10W 다운라이트 | C47: =전기공량!C123 -> EA | D47: =전기공량!F123 -> 0 | L47: G2B식번 24048970
A48: =전기공량!A124 -> 조명기구-G | B48: =전기공량!B124 -> LED 15W 멀티다운라이트 | C48: =전기공량!C124 -> EA | D48: =전기공량!F124 -> 0 | L48: G2B식번 24327628
A49: =전기공량!A125 -> 조명기구-H | B49: =전기공량!B125 -> LED 11W 원형직부(센서) | C49: =전기공량!C125 -> EA | D49: =전기공량!F125 -> 0 | L49: G2B식번 24339624
A50: =전기공량!A31 -> 조명기구-I | B50: =전기공량!B31 -> LED 60W,MH:3.34M(보안등주-STS) | C50: =전기공량!C31 -> EA | D50: =전기공량!F31 -> 0 | L50: G2B식번 23117654
A51: =전기공량!A126 -> 조명기구-J | B51: =전기공량!B126 -> LED 9W 볼라드 | C51: =전기공량!C126 -> EA | D51: =전기공량!F126 -> 0 | L51: G2B식번 24533831 | N51: 조명기구 | O51: 부가세제외
A52: 소 계 | N52: =SUM(K42:K51) -> 0 | O52: =INT(N52/1.1) -> 0
A53: 부 가 세 | B53: 재료비의 | C53: % | D53: 10 | L53: < 포함 >
A54: 합 계
A55: 조달수수료 | B55: 단가(일반,3자,MAS) x 0.54%
A57: 총 계 | L57: < 백이하절상>
