Workbook
Name ______a1: #REF!
Name ______Aaa1: #REF!
Name ______Aaa2: #REF!
Name ______Aaa3: #REF!
Name ______aab42: #REF!
Name ______Axa1: #REF!
Name ______Axa2: #REF!
Name ______Axa3: #REF!
Name ______Axx1: #REF!
Name ______Axx2: #REF!
Name ______Axx3: #REF!
Name ______Axy1: #REF!
Name ______Axy2: #REF!
Name ______Axy3: #REF!
Name ______Aya1: #REF!
Name ______Aya2: #REF!
Name ______Aya3: #REF!
Name ______Ayy1: #REF!
Name ______Ayy2: #REF!
Name ______Ayy3: #REF!
Name ______B2: #REF!
Name ______BEM1: #REF!
Name ______BEM2: #REF!
Name ______BEP1: #REF!
Name ______BEP2: #REF!
Name ______BES1: #REF!
Name ______BES2: #REF!
Name ______BMM1: #REF!
Name ______BMM2: #REF!
Name ______BMP1: #REF!
Name ______BMP2: #REF!
Name ______BMS1: #REF!
Name ______BMS2: #REF!
Name ______BVS1: #REF!
Name ______BVS2: #REF!
Name ______CEN1: #REF!
Name ______Dan1: #REF!
Name ______Dan2: #REF!
Name ______Dan3: #REF!
Name ______Dan4: #REF!
Name ______hor1: #REF!
Name ______hor2: #REF!
Name ______hor3: #REF!
Name ______HSH1: #REF!
Name ______HSH2: #REF!
Name ______IU69997: #REF!
Name ______IU79997: #REF!
Name ______IV65999: #REF!
Name ______IV67999: #REF!
Name ______IV68999: #REF!
Name ______IV69999: #REF!
Name ______IV88888: #REF!
Name ______IV99999: #REF!
Name ______IV999999: #REF!
Name ______JS1: #REF!
Name ______JS2: #REF!
Name ______Key1: #REF!
Name ______Key2: #REF!
Name ______Kh1: #REF!
Name ______Kh2: #REF!

Sheet 예산서
A1: 시장 | C1: 부시장 | E1: 국장 | G1: 과장 | H1: 전결 | I1: 팀장 | K1: 검토자 | M1: 담당자 | O1: 2026. 09.
J4: 교량명 : 신기2교 (L=40m B=5.7m)
J5: 위 치 : 충청남도 공주시 계룡면 화은리 456-3번지 일원
A7: 2026년 신기2교 정밀안전진단 및 내진성능평가용역 내역서
E9: ○ 용역개요
E11: - | F11: 정밀안전진단 및 내진성능평가 용역 1식
C14: 용역비: | F14: ="일금"&NUMBERSTRING(M14,1)&"원정(VAT. 포함)" -> 일금칠천이백삼십팔만원정(VAT. 포함) | L14: (￦ | M14: =내역서!L36 -> 72380000 | O14: )

Sheet 내역서
A2: ▣ 2026년 신기2교 정밀안전진단 및 내진성능평가용역
A4: 공 종 | B4: 규 격 | C4: 수량 | D4: 단위 | E4: 재 료 비 | G4: 노 무 비 | I4: 경 비 | K4: 총 계 | M4: 비 고
E5: 단 가 | F5: 금 액 | G5: 단 가 | H5: 금 액 | I5: 단 가 | J5: 금 액 | K5: 단 가 | L5: 금 액
A6: 1. 기본대가 | L6: =INT(L10+L12+L15+L24+L32+L33+L34) -> 65800000
A7: 1) 직접인건비
A8: 외 업 | B8: 고급기술자 | C8: =산출서!G68 -> 6 | D8: 인 | G8: =산출서!D104 -> 310884 | H8: =C8*G8 -> 1865304 | K8: =E8+G8+I8 -> 310884 | L8: =INT(F8+H8+J8) -> 1865304
A9: 내 업 | B9: 고급기술자 | C9: =산출서!I68 -> 28 | D9: 인 | G9: =산출서!D104 -> 310884 | H9: =C9*G9 -> 8704752 | K9: =E9+G9+I9 -> 310884 | L9: =INT(F9+H9+J9) -> 8704752
A10: 소 계 | L10: =L8+L9 -> 10570056
A11: 2) 제 경 비 | B11: 직접인건비의 110% | C11: 1 | D11: 식 | I11: =L10*N11/100 -> 4485684.4 | J11: =I11*C11 -> 4485684.4 | K11: =E11+G11+I11 -> 4485684.4 | L11: =INT(F11+H11+J11) -> 4485684 | N11: 42.43766
A12: 소 계 | L12: =L11 -> 4485684 | N12: 20
A14: 3) 기 술 료 | B14: ="(직.인+제경비) 의 "&ROUND(N12,1)&"%" -> (직.인+제경비) 의 20% | C14: 1 | D14: 식 | I14: =INT((L10+L12)*N12/100) -> 3011148 | J14: =I14*C14 -> 3011148 | K14: =E14+G14+I14 -> 3011148 | L14: =INT(F14+H14+J14) -> 3011148
A15: 소 계 | L15: =L14 -> 3011148
A16: 4). 직 접 경 비
A17: 현장체재비 | C17: =C8 -> 6 | D17: 인 | I17: 40000 | J17: =C17*I17 -> 240000 | K17: =E17+G17+I17 -> 40000 | L17: =INT(F17+H17+J17) -> 240000
A18: 차량운행비 | C18: =C8/4 -> 1.5 | D18: 일 | I18: 60710.516 | J18: =C18*I18 -> 91065.774 | K18: =E18+G18+I18 -> 60710.516 | L18: =INT(F18+H18+J18) -> 91065
A19: 여비 | C19: 10 | D19: 인 | I19: 32000 | J19: =C19*I19 -> 320000 | K19: =E19+G19+I19 -> 32000 | L19: =INT(F19+H19+J19) -> 320000
A20: 현지보조인부 | C20: =산출서!E98 -> 2.4 | D20: 인 | I20: =기초노임단가!B5 -> 228717 | J20: =INT(C20*I20) -> 548920 | K20: =E20+G20+I20 -> 228717 | L20: =INT(F20+H20+J20) -> 548920
A21: 위험수당 | B21: 현지 직접인건비의 10% | C21: 1 | D21: 식 | I21: =INT(L8*0.1) -> 186530 | J21: =C21*I21 -> 186530 | K21: =E21+G21+I21 -> 186530 | L21: =INT(F21+H21+J21) -> 186530
A22: 기계기구손료 | B22: 직접인건비의 10% | C22: 1 | D22: 식 | I22: =L10*0.1 -> 1057005.6 | J22: =C22*I22 -> 1057005.6 | K22: =E22+G22+I22 -> 1057005.6 | L22: =INT(F22+H22+J22) -> 1057005
A23: 보고서등 인쇄비 | C23: 1 | D23: 식 | I23: 231600 | J23: =C23*I23 -> 231600 | K23: =E23+G23+I23 -> 231600 | L23: =INT(F23+H23+J23) -> 231600
A24: 소 계 | L24: =SUM(L17,L18,L19,L20,L21,L22,L23) -> 2675120
A25: 5). 선택과업비용 | N25: =L17+L20+L23+L40 -> 1020520
A26: 구조해석 | C26: 1 | D26: 식 | I26: =일위대가!L4 -> 9401131 | J26: =C26*I26 -> 9401131 | K26: =E26+G26+I26 -> 9401131 | L26: =INT(F26+H26+J26) -> 9401131
A27: 재하시험 | C27: 1 | D27: 식 | I27: =일위대가!L10 -> 0 | J27: =C27*I27 -> 0 | K27: =E27+G27+I27 -> 0 | L27: =INT(F27+H27+J27) -> 0
A28: 수종조사 | B28: (조정계수 0.94) | D28: 기 | I28: =일위대가!H28 -> 3741202.8 | J28: =I28*C28 -> 0 | K28: =E28+G28+I28 -> 3741202.8 | L28: =INT(F28+H28+J28) -> 0
A29: 교량점검차 | B29: 굴절차(22m) | C29: 1 | D29: 식 | I29: =산출서!F126 -> 1716667.7 | J29: =C29*I29 -> 1716667.7 | K29: =E29+G29+I29 -> 1716667.7 | L29: =INT(F29+H29+J29) -> 1716667
A30: 내진성능평가(간략) | C30: 1 | D30: 식 | I30: =일위대가!L84 -> 18802263 | J30: =C30*I30 -> 18802263 | K30: =E30+G30+I30 -> 18802263 | L30: =INT(F30+H30+J30) -> 18802263
A31: 재하시험 | C31: 1 | D31: 식 | E31: =일위대가!F10 -> 2014724.3 | F31: =C31*E31 -> 2014724.3 | G31: =일위대가!H10 -> 4974144 | H31: =C31*G31 -> 4974144 | I31: =일위대가!J10 -> 7693245 | J31: =C31*I31 -> 7693245 | K31: =E31+G31+I31 -> 14682113 | L31: =INT(F31+H31+J31) -> 14682113
A32: 소 계 | L32: =SUM(L26,L29,L30,L31) -> 44602174
A33: 6) 손해배상보험료 | L33: ='손해배상공제 공제료'!G11 -> 469170
A34: 7) 단위조정 | L34: -13352
A35: 2. 부가가치세 | L35: =INT(L6*10%) -> 6580000
A36: 3. 총용역비 | L36: =L6+L35 -> 72380000

Sheet 산출서
A1: =예산서!A7 -> 2026년 신기2교 정밀안전진단 및 내진성능평가용역 내역서
A3: 1. 대가산출 근거
B4: 가. 시설물의 안전 및 유지관리 실시 등에 관한 지침 제6장 안전점검 등 비용의 산정기준 [국토교통부고시 제2020-458호, 2020.06.07 개정]
A6: 2. 산출기준
B7: 가. 인원수 산정시 고시 별표에 기재되지 않은 중간값의 시설물은 직선보간법 및 직선비례식을 적용한다.
A10: 3. 기본제원
B11: 구분 | C11: 연장(m) | D11: 차로수 | E11: 용도별 | F11: 구조형식별 | H11: 구조적 구성 | I11: 준공년도 | J11: 경과년수
B13: 신기2교 | C13: 40 | D13: 1 | E13: 교량(도로교) | F13: RC슬래브교 | H13: 단순 | I13: 1988 | J13: =2026-I13 -> 38
C17: 연장 | D17: =C12+C13+C14 -> 40 | E17: m
A21: 4. 조정비 산정
B22: 구분 | C22: 연장(m) | D22: 차로별 조정 | E22: 용도별 조정 | F22: 구조형식별 조정 | G22: 구조적 구성 | H22: 경과년수 조정 | I22: 전차보고서제공여부 조정 | J22: 조정 비율
B24: =B13 -> 신기2교 | C24: =C13 -> 40 | D24: 0.75 | E24: 1 | F24: 1 | G24: 0.85 | H24: 1.15 | I24: 1 | J24: =(1+(D24-1)+(E24-1)+(F24-1))*(1+(G24-1)+(H24-1)+(I24-1)) -> 0.75
B26: ※ 안전점검 등 비용의 산정기준 제62조 대가의 보정
B27: - 시설물의 구조적인 구성에 따른 보정 : 매우복잡 1.15 / 보통 1.0 / 단순 0.85
B28: - 시설물의 경과년수에 따른 보정 : 15년이내 1.00 / 15년 초과 25년 이내 1.05 / 25년 초과 35년 이내 1.10 / 35년 초과 55년 이내 1.15
B29: - 전차보고서 제공여부에 따라 조정 : 전차용역보고서 제공시 0.95 / 전차용역보고서 또는 야장 CAD파일 1개만 제공시 0.97 / 미제공시 1.0
B30: ※ 안전점검 등 비용의 산정기준 별표23 시설물별 조정비(제56조 제1항 관련)
B31: - 차로별 조정 : 2차로 0.75 / 4차로 1.00 / 6차로 1.15
B32: - 용도별 조정 : 도로교 1.0
B33: - 구조형식별 조정 : 콘크리트교 1.0 강교 1.1
A35: 5. 인원수 산정
B36: 가. 전체 인원수 (제56조1항 관련 별표22에 따름)
B37: 구 분 | C37: 연 장(m) | D37: 직선비례식 및 직선보간법 | H37: 기준인원(Y) | I37: 조정비 | J37: 조정인원 | M37: 구분 | N37: 규 격 | P37: 정밀안전진단 | R37: 정밀점검 | T37: 정기점검
D38: y = y1 + [ {(y2 - y1) / (x2 - x1)} × (x - x1) ] | P38: 전체 | Q38: 외업 | R38: 전체 | S38: 외업 | T38: 전체 | U38: 외업
D39: 길이(x1) | E39: 인원(y1) | F39: 길이(x2) | G39: 인원(y2) | M39: 교량 | N39: 도로교, 콘크리트, 4차로 | O39: 50 m | P39: 82 | Q39: 15 | R39: 26 | S39: 10 | T39: 5 | U39: 3
O40: 100 m | P40: 90 | Q40: 19 | R40: 28 | S40: 11 | T40: 6 | U40: 4
B41: =B24 -> 신기2교 | C41: =C24 -> 40 | D41: 0 | E41: 0 | F41: 50 | G41: =P39 -> 82 | H41: =ROUND(E41+(((G41-E41)/(F41-D41))*(C41-D41)),1) -> 65.6 | I41: =J24 -> 0.75 | J41: =ROUND(H41*I41,1) -> 49.2 | O41: 300 m | P41: 124 | Q41: 37 | R41: 36 | S41: 16 | T41: 8 | U41: 5
O42: 500 m | P42: 157 | Q42: 55 | R42: 45 | S42: 21 | T42: 11 | U42: 7
B43: 계 | C43: =SUM(C40:C42) -> 40 | H43: =SUM(H40:H42) -> 65.6 | J43: =SUM(J40:J42) -> 49.2 | O43: 1,000 m | P43: 241 | Q43: 99 | R43: 67 | S43: 34 | T43: 17 | U43: 10
B44: ※ 안전점검 등 비용의 산정기준 별표 24 기준인원수(또는 조정비) 보간(제56조제4 및 제5항 관련) | O44: 2,000 m | P44: 409 | Q44: 188 | R44: 110 | S44: 60 | T44: 29 | U44: 17
B45: ※ 엔지니어링기술자 노임단가 : 고급기술자 | F45: =기초노임단가!B12 -> 310884 | G45: 원 | O45: 4.000 m | P45: 630 | Q45: 365 | R45: 168 | S45: 112 | T45: 46 | U45: 31
B46: 나. 외업 인원수 | O46: 8.000 m | P46: 1067 | Q46: 720 | R46: 289 | S46: 216 | T46: 80 | U46: 59
B47: 구분 | C47: 연장(m) | D47: 직선비례식 및 직선보간법 | H47: 기준인원 | I47: 조정비 | J47: (조정) 외업인원 | O47: 16.000 m | P47: 1828 | Q47: 1431 | R47: 506 | S47: 424 | T47: 140 | U47: 115
D48: y = y1 + [ {(y2 - y1) / (x2 - x1)} × (x - x1) ]
D49: 길이(x1) | E49: 인원(y1) | F49: 길이(x2) | G49: 인원(y2)
B51: =B41 -> 신기2교 | C51: =C41 -> 40 | D51: =D41 -> 0 | E51: 0 | F51: =F41 -> 50 | G51: =Q39 -> 15 | H51: =ROUND(E51+(((G51-E51)/(F51-D51))*(C51-D51)),1) -> 12 | I51: =I41 -> 0.75 | J51: =ROUND(H51*I51,1) -> 9
B53: 계 | C53: =SUM(C50:C52) -> 40 | H53: =SUM(H50:H52) -> 12 | J53: =SUM(J50:J52) -> 9
B55: 다. 내업 인원수 (전체인원수 - 외업인원수)
B56: 구분 | C56: 길이(m) | D56: 전체인원수 | G56: 외 업 | I56: 내 업
B58: =B51 -> 신기2교 | C58: =C51 -> 40 | D58: =J41 -> 49.2 | G58: =J51 -> 9 | I58: =D58-G58 -> 40.2
B60: 계 | C60: =SUM(C57:C59) -> 40 | D60: =ROUNDDOWN(D58, 0) -> 49 | G60: =ROUNDDOWN(G58,0) -> 9 | I60: =I58 -> 40.2 | M60: =G60+I60 -> 49.2
B62: 라. 인원수 산정 (교량 안전등급 고려, 기존자료 제공등에 따른 인원수 조정)
B63: 구분 | C63: 길이(m) | D63: 전체인원수 | G63: 외 업 | I63: 내 업
B65: =B58 -> 신기2교 | C65: =C58 -> 40 | D65: =D58 -> 49.2 | G65: =G58 -> 9 | I65: =I58 -> 40.2
B67: 적용요율 | D67: 0.7 | G67: =D67 -> 0.7 | I67: =D67 -> 0.7 | M67: =D68 -> 34
B68: 계 | C68: =SUM(C64:C67) -> 40 | D68: =ROUNDDOWN(D65*D67, 0) -> 34 | G68: =ROUNDDOWN(G65*G67,0) -> 6 | I68: =ROUNDDOWN(I65*I67,0) -> 28 | M68: =G68+I68 -> 34
A70: 6. 직접 경비 산출
B71: ※ 안전점검 등 비용의 산정기준 별표 25 참조
B72: ① 여비 및 현장 체재비
B73: - 체재비 : 40,000원
B74: - 외업 인원 | C74: =G68 -> 6 | D74: 인
B75: - 여비 인원 | C75: 10 | D75: 인 | E75: (정밀안전진단 용역당 1회왕복 교통비 : 32,000원)
B76: ② 차량 운행비
B77: - 차량의 종류 : 승용차 (배기량 1600㏄ 이하)
B78: - 차량대수 : 외업 인원수(고급기술자 기준) 4인 이내 1대이며, 4인 초과시 4인당 1대 추가
B79: - 대가 산출방법
B80: · 차량비는 손료와 재료비로 계산한다.
B81: · 시간당 손료(상각비, 정비비, 관리비)계수 : 1473 × 10-7
B82: · 주연료 (휘발유) : 10ℓ/일 (2026년 공사원가통합관리시스템 1,473원/ℓ) | L82: 1319
B84: · 잡품 : 주연료비의 10%
B85: 1) 손 료 : | C85: 12,581,818 × 1,473 × 10-7= | E85: =E87*1473*0.0000001 -> 2644.7045 | F85: =E85*8 -> 21157.636
B86: 품명 | C86: 규격 | D86: 단가 | E86: 부가세 제외 | F86: 비고 | L86: =F85+E90+E91 -> 37360.636
B87: 2000cc 이하 | D87: 19750000 | E87: =INT(D87/1.1) -> 17954545 | L87: =L86*2 -> 74721.272
B89: 2) 재료비
B90: 휘발유 : 1,473원x10ℓ/일 = | E90: =1473*10 -> 14730 | L90: =2998+21030+2103 -> 26131
B91: 잡 품 : 14,730원/일 × 10% = | E91: =E90*0.1 -> 1473 | L91: =L90*2 -> 52262
B92: ■ 차량운행비 : (1,473원x8hr + 14,730원 + 1,473원) × 2 = | F92: =L87 -> 74721.272
B94: ③ 현지보조인부의 노임
B95: - 적용인수 : 외업인원수의 40% 적용 (정밀점검 및 정밀안전진단 동일)
B96: - 적용 임금 : 특별인부의 시중 노임단가 적용
B97: · 현지보조인부 수 : | E97: =C74*0.4 -> 2.4 | F97: 인
B98: =B58 -> 신기2교 | C98: =G68 -> 6 | D98: 0.4 | E98: =E97 -> 2.4 | F98: 인
B102: ④ 위험수당
B103: - 현지 직접인건비의 10~20% | L103: =G60*F45*0.1 -> 279795.6
B104: ■ 위험 수당 : | C104: =C98 -> 6 | D104: =F45 -> 310884 | E104: 0.1 | F104: =C104*D104*E104 -> 186530.4
B106: ⑤ 기계 및 기구 손료
B107: - 정밀안전진단 : 직접인건비의 10% | L107: =D108*E108*F108 -> 1057005.6
B108: ■ 기계 및 기구손료: | D108: =D68 -> 34 | E108: =F45 -> 310884 | F108: 0.1 | G108: =D108*E108*F108 -> 1057005.6
B110: ⑥ 보고서 등 인쇄비
B111: 품 명 | E111: 매수 | F111: 부수 | G111: 비고
B112: 정밀안전진단 보고서 | E112: 400 | F112: 3
B113: CD 보고서 | F113: 3
B114: - 인쇄 사양
B115: · 인쇄 규격 : A4
B116: ■ 인쇄비 | C116: (300쪽 페이지 기준)
B117: A4흑백복사비(단면) | D117: 260 | E117: 60 | F117: =D117*E117 -> 15600 | G117: 원
B118: A4칼라복사비(단면) | D118: 140 | E118: 2300 | F118: =D118*E118 -> 322000 | G118: 원
B119: · 표 지 | D119: 3 | E119: 4000 | F119: =D119*E119 -> 12000 | G119: 원
F120: =SUM(F117:F119) -> 349600 | G120: 원
B122: ⑦ 교량점검차
B123: - 차량의 종류 : 굴절차 (22.0m)
B124: - 차량대수 : 1대 8시간 사용 | E124: (1일)
B125: ■ 차량운행비 :
B126: (1) 교량점검차(굴절차 22m) | D126: 8 | E126: =점검차량!M25 -> 214583.46 | F126: =E126*D126 -> 1716667.7 | G126: 원

Sheet 일위대가
A1: 일 위 대 가 표
A2: 공 종 명 | B2: 규격 | C2: 수량 | D2: 단위 | E2: 재료비 | G2: 노무비 | I2: 경비 | K2: 합계 | M2: 비고
E3: 단가 | F3: 금액 | G3: 단가 | H3: 금액 | I3: 단가 | J3: 금액 | K3: 단가 | L3: 금액
A4: 제1호표 구조해석(RC, 연속교, 재하시험 구조해석 포함) | H4: =H5 -> 3730608 | J4: =SUM(J7:J8) -> 5670523 | L4: =H4+J4 -> 9401131
A5: 1.직접인건비 | H5: =H6 -> 3730608 | L5: =F5+H5+J5 -> 3730608
A6: 고급기술자 | C6: =구조해석!D8 -> 12 | D6: 인 | G6: =기초노임단가!B12 -> 310884 | H6: =INT(C6*G6) -> 3730608 | L6: =F6+H6+J6 -> 3730608
A7: 2.제경비 | B7: 1 항의 | C7: 110 | D7: % | I7: =H5 -> 3730608 | J7: =INT((I7*C7)/100) -> 4103668 | L7: =F7+H7+J7 -> 4103668
A8: 3.기술료 | B8: (1+2) 항의 | C8: 20 | D8: % | I8: =(H5+J7) -> 7834276 | J8: =INT((I8*C8)/100) -> 1566855 | L8: =F8+H8+J8 -> 1566855
A10: 제2호표 비파괴재하시험 | F10: =SUM(F12:F27) -> 2014724.3 | H10: =SUM(H12:H27) -> 4974144 | J10: =SUM(J11:J27) -> 7693245
A11: 1. 직접인건비
A12: 가. 외업 | B12: 고급기술자 | C12: =재하시험!L6 -> 11 | D12: 인 | G12: =기초노임단가!B12 -> 310884 | H12: =ROUNDDOWN(C12*G12,0) -> 3419724 | L12: =H12 -> 3419724
A13: 나. 내업 | B13: 고급기술자 | C13: =재하시험!L14 -> 5 | D13: 인 | G13: =기초노임단가!B12 -> 310884 | H13: =ROUNDDOWN(C13*G13,0) -> 1554420 | L13: =H13 -> 1554420
A14: 2. 제경비 | B14: 1 항의 | C14: 110 | D14: % | I14: =H12+H13 -> 4974144 | J14: =ROUNDDOWN(I14*C14*0.01,0) -> 5471558 | L14: =J14 -> 5471558
A15: 3. 기술료 | B15: (1+2) 항의 | C15: 20 | D15: % | I15: =L11+L14 -> 5471558 | J15: =ROUNDDOWN(I15*C15*0.01,0) -> 1094311 | L15: =J15 -> 1094311
A16: 4. 직접경비
A17: 가. 재 료 비 | F17: =SUM(F18:F21) -> 910000 | L17: =F17 -> 910000
A18: 스트레인 게이지 | B18: (방수형) | C18: =재하시험!J24 -> 30 | D18: 개 | E18: 17320 | F18: =C18*E18 -> 519600 | L18: =F18 -> 519600
A19: 게이지 접착제 | C19: 2 | D19: Box | E19: 42200 | F19: =C19*E19 -> 84400 | L19: =F19 -> 84400
A20: VM-테이프 | C20: 1 | D20: Box | E20: 66000 | F20: =C20*E20 -> 66000 | L20: =F20 -> 66000
A21: 쉴드 와이어 | C21: 200 | D21: ｍ | E21: 1200 | F21: =C21*E21 -> 240000 | L21: =F21 -> 240000
A22: 나. 공 구 손 료 | F22: =(H12+H13)*3% -> 149224.32 | L22: =F22 -> 149224.32
A23: 다. 잡재료 및 소모재료 | F23: =F17*5% -> 45500 | L23: =F23 -> 45500
A24: 라. 기 타
A25: 시험차량(덤프) | C25: 1 | D25: 대 | I25: 500000 | J25: =I25*C25 -> 500000 | L25: =J25 -> 500000
A26: 정적변형측정기 | C26: 1 | D26: 대 | I26: 114064 | J26: =I26*C26 -> 114064 | L26: =J26 -> 114064
A27: 동적변형측정기 | C27: 1 | D27: 대 | I27: 513312 | J27: =I27*C27 -> 513312 | L27: =J27 -> 513312
A28: 제 3 호표 수중조사 | H28: =H29 -> 3741202.8
A29: 제 3 호표 교각 수중 조사 (1기당, 수심 10m 이내)(작업조건:보통) | H29: =SUM(H30:H33) -> 3741202.8 | J29: =SUM(J30:J33) -> 1213398.2 | L29: =SUM(L31:L33) -> 2476842.9
A30: 1. 직접인건비 | H30: =L31 -> 1334738 | J30: =J35 -> 1213398.2
A31: 2. 제경비 (직접인건비의 110%) | H31: =INT(L31*1.1) -> 1468211 | L31: =J29*1.1 -> 1334738
A32: 3. 기술료 (직접인건비＋제경비)×20% | H32: =INT(L31+H31)*0.2 -> 560589.8 | L32: =(J30+L31)*0.3 -> 764440.86
A33: 4. 직접경비 | H33: =H71 -> 377664 | L33: =H71 -> 377664
A35: 제 3-1 호표 직 접 인 건 비 | H35: 1139430 | J35: =SUM(J36:J42) -> 1213398.2
A36: 자료분석 | C36: 1 | D36: 식 | J36: =J44 -> 92434
A37: 장비셋팅 | C37: 1 | D37: 식 | J37: =J47 -> 139298.81
A38: 육안조사 | C38: 1 | D38: 식 | J38: =J51 -> 127143.31
A39: 수중 비디오 촬영 | C39: 1 | D39: 식 | J39: =J56 -> 244695.62
A40: 비디오 가편집 | C40: 1 | D40: 식 | J40: =J61 -> 85871.19
A41: 비디오 편집 | C41: 1 | D41: 식 | J41: =J63 -> 139385.06
A42: 보고서 작성 | C42: 1 | D42: 식 | J42: =J66 -> 384570.21
A44: 제 3-1-1 호표 자 료 분 석 | H44: =J44+L44+N44 -> 92434 | J44: 92434
A45: 특급기술자 | C45: 0.173 | D45: 인 | I45: =기초노임단가!B11 -> 373353 | J45: =I45*C45 -> 64590.069
A46: 고급기술자 | C46: 0.173 | D46: 인 | I46: =기초노임단가!B12 -> 310884 | J46: =I46*C46 -> 53782.932
A47: 제 3-1-2 호표 장 비 셋 팅 | H47: 109760 | J47: =SUM(J48:J50) -> 139298.81
A48: 잠수조장 (고급기술자) | C48: 0.115 | D48: 인 | I48: =기초노임단가!B12 -> 310884 | J48: =I48*C48 -> 35751.66
A49: 잠수부 | C49: 0.23 | D49: 인 | I49: =기초노임단가!B18 -> 379657 | J49: =I49*C49 -> 87321.11
A50: 선부 | C50: 0.115 | D50: 인 | I50: 141096 | J50: =I50*C50 -> 16226.04
A51: 제 3-1-3 호표 육 안 조 사 | H51: 208272 | J51: =SUM(J52:J55) -> 127143.31
A52: 특급기술자 | C52: 0.115 | D52: 인 | I52: 292249 | J52: =I52*C52 -> 33608.635
A53: 잠수조장(고급기술자) | C53: 0.115 | D53: 인 | I53: 242055 | J53: =I53*C53 -> 27836.325
A54: 잠수부 | C54: 0.23 | D54: 인 | I54: 285645 | J54: =I54*C54 -> 65698.35
A55: 선부 | C55: 0.575 | D55: 인 | I55: =기초노임단가!B19 -> 0 | J55: =I55*C55 -> 0
A56: 제 3-1-4 호표 수중 비디오 촬영 및 스틸사진 | H56: 269717 | J56: =SUM(J57:J60) -> 244695.62
A57: 특급기술자 | C57: 0.23 | D57: 인 | I57: =기초노임단가!B11 -> 373353 | J57: =I57*C57 -> 85871.19
A58: 잠수조장 (고급기술자) | C58: 0.23 | D58: 인 | I58: =기초노임단가!B12 -> 310884 | J58: =I58*C58 -> 71503.32
A59: 잠수부 | C59: 0.23 | D59: 인 | I59: =기초노임단가!B18 -> 379657 | J59: =I59*C59 -> 87321.11
A60: 선부 | C60: 0.575 | D60: 인 | I60: =기초노임단가!B19 -> 0 | J60: =I60*C60 -> 0
A61: 제 3-1-5 호표 비디오테이프 자료 가편집 | H61: 67217 | J61: =SUM(J62) -> 85871.19
A62: 특급기술자 | C62: 0.23 | D62: 인 | I62: =기초노임단가!B11 -> 373353 | J62: =I62*C62 -> 85871.19
A63: 제 3-1-6 호표 비디오 편집 | H63: 100450 | J63: =SUM(J64:J65) -> 139385.06
A64: 고급기술자 | C64: 0.23 | D64: 인 | I64: =기초노임단가!B12 -> 310884 | J64: =I64*C64 -> 71503.32
A65: 중급기술자 | C65: 0.23 | D65: 인 | I65: =기초노임단가!B13 -> 295138 | J65: =I65*C65 -> 67881.74
A66: 제 3-1-7 호표 보고서작성 | H66: 291580 | J66: =SUM(J67:J69) -> 384570.21
A67: 특급기술자 | C67: 0.575 | D67: 인 | I67: =기초노임단가!B11 -> 373353 | J67: =I67*C67 -> 214677.97
A68: 고급기술자 | C68: 0.287 | D68: 인 | I68: =기초노임단가!B12 -> 310884 | J68: =I68*C68 -> 89223.708
A69: 고급기능사 | C69: 0.287 | D69: 인 | I69: =기초노임단가!B15 -> 281075 | J69: =I69*C69 -> 80668.525
A71: 제 3-2 호표 직 접 경 비 (1기당) | H71: =L71 -> 377664 | L71: =SUM(L72:L81) -> 377664
A72: 고무보트 및 엔진 | C72: 0.5 | D72: 대 | K72: 100000 | L72: =C72*K72 -> 50000
A73: 잠수장비 | C73: 4 | D73: 조 | K73: 50000 | L73: =C73*K73 -> 200000
A74: 콤푸레샤 | C74: 0.2 | D74: 대 | K74: 70000 | L74: =C74*K74 -> 14000
A75: 비디오 촬영 장비 | C75: 0.5 | D75: 조 | K75: 50000 | L75: =C75*K75 -> 25000
A76: 스틸 카메라 장비 | C76: 0.5 | D76: 조 | K76: 70000 | L76: =C76*K76 -> 35000
A77: 유선 수중 라이트 | C77: 0.5 | D77: 조 | K77: 10000 | L77: =C77*K77 -> 5000
A78: 발전기 | C78: 0.5 | D78: 대 | K78: 12000 | L78: =C78*K78 -> 6000
A79: 유류대 | C79: 2 | D79: ℓ | K79: 1332 | L79: =C79*K79 -> 2664
A80: 편집장비 사용료 | C80: 1 | D80: 식 | K80: 20000 | L80: =C80*K80 -> 20000
A81: 기타 액세서리 및 장비운반 | C81: 1 | D81: 식 | K81: 20000 | L81: =C81*K81 -> 20000
A84: 제3호표 내진성능평가(간략해석) | H84: =H85 -> 7461216 | J84: =SUM(J87:J88) -> 11341047 | L84: =H84+J84 -> 18802263
A85: 1.직접인건비 | H85: =H86 -> 7461216 | L85: =F85+H85+J85 -> 7461216
A86: 고급기술자 | C86: =내진성능평가!G19 -> 24 | D86: 인 | G86: =기초노임단가!B12 -> 310884 | H86: =INT(C86*G86) -> 7461216 | L86: =F86+H86+J86 -> 7461216
A87: 2.제경비 | B87: 1 항의 | C87: 110 | D87: % | I87: =H85 -> 7461216 | J87: =INT((I87*C87)/100) -> 8207337 | L87: =F87+H87+J87 -> 8207337
A88: 3.기술료 | B88: (1+2) 항의 | C88: 20 | D88: % | I88: =(H85+J87) -> 15668553 | J88: =INT((I88*C88)/100) -> 3133710 | L88: =F88+H88+J88 -> 3133710

Sheet 구조해석
A1: □ 구 조 해 석 ('시설물의 안전 및 유지관리 실시 등에 관한 지침' - 국토교통부고시 제2025-470호(2025.09.01 개정))
A2: ※ 교량
A3: 구 분 | B3: 단위 | C3: 수량 | D3: 기준인원수 | E3: 비 고
D4: (고급기술자)
A5: 1. RC, 단순교 | B5: 개소 | C5: 1 | D5: 7
A6: 2. RC, 단순교, 재하시험 구조해석 포함 | B6: 개소 | C6: 1 | D6: 10
A7: 3. RC, 연속교 | B7: 개소 | C7: 1 | D7: 8
A8: 4. RC, 연속교, 재하시험 구조해석 포함 | B8: 개소 | C8: 1 | D8: 12 | E8: 적용
A9: 5. PSC-I, 단순교 | B9: 개소 | C9: 1 | D9: 12
A10: 6. PSC-I, 단순교, 재하시험 구조해석 포함 | B10: 개소 | C10: 1 | D10: 18
A11: 7. PSC-I, 연속교 | B11: 개소 | C11: 1 | D11: 14
A12: 8. PSC-I, 연속교, 재하시험 구조해석 포함 | B12: 개소 | C12: 1 | D12: 21
A13: 9. SPG, 단순교 | B13: 개소 | C13: 1 | D13: 14
A14: 10. SPG, 단순교, 재하시험 구조해석 포함 | B14: 개소 | C14: 1 | D14: 21
A15: 11. SPG, 연속교 | B15: 개소 | C15: 1 | D15: 17
A16: 12. SPG, 연속교, 재하시험 구조해석 포함 | B16: 개소 | C16: 1 | D16: 26
A17: 13. PSC-Box, 단순교 | B17: 개소 | C17: 1 | D17: 16
A18: 14. PSC-Box, 단순교, 재하시험 구조해석 포함 | B18: 개소 | C18: 1 | D18: 25
A19: 15. PSC-Box, 연속교 | B19: 개소 | C19: 1 | D19: 20
A20: 16. PSC-Box, 연속교, 재하시험 구조해석 포함 | B20: 개소 | C20: 1 | D20: 31
... A26: 22. 하부구조, 재하시험 구조해석 포함 | B26: 개소 | C26: 1 | D26: 6

Sheet 내진성능평가
A1: □ 내 진 성 능 평 가 ('시설물의 안전 및 유지관리 실시 등에 관한 지침' - 국토교통부고시 제2025-470호(2025.09.01 개정))
A2: ※ 내진성 평가 및 내진보강 방안제시를 위한 필요비용
A3: - 각 시설물별로 간략한 내진해석을 실시하는 경우 소요인원수는 해당시설물의 안전성 평가 소요인원수의 2배로 산정한다.
A4: - 각 시설물별로 정밀한 내진해석을 실시하는 경우 소요인원수는 해당 시설물의 안전성 평가 소요 인원수의 2.5~3.0배로 산정한다.
A6: 구분 | B6: 간략 내진해석을 실시하는 경우 | E6: 정밀 내진해석을 실시하는 경우
A8: 해석의 종류 | B8: - 등가정적해성법 - 모드 스펙트럼해석법 | E8: - 시간이력해석법 - 비선형해석법 - P-∂ 효과를 고려한 해석법
A11: 해석범위 | B11: 해당구조.지반. 수리해석 + 간략내진해석 | E11: 해당구조.지반. 수리해석 + 간략내진해석 + 정밀내진해석
A13: 소요인원수 산정방법 | B13: 구조. 지반. 수리해석 소요인원수 × 2.0 | E13: 구조. 지반. 수리해석 소요인원수 × (2.5 ~3.0)
A17: 구분 | B17: 구조형식 | C17: 구조적 구성 | D17: 내진해석방법 | E17: 내진해석방법 | F17: 내진해석 요율 | G17: 내진성평가 기준인원
E18: 상부
A19: 청룡교 | B19: =산출서!F13 -> RC슬래브교 | C19: 연속교 | D19: 간략 내진해석 | E19: =구조해석!D8 -> 12 | F19: 2 | G19: =E19*F19 -> 24

Sheet 재하시험
A1: □ 재 하 시 험 ('시설물의 안전 및 유지관리 실시 등에 관한 지침' - 국토교통부고시 제2025-470호(2025.09.01 개정))
A3: ※ 기준시설물(2차선, 단순교) 재하시험 기준인원수 산정표
A4: 과업 수행 항목 | D4: 수량 | E4: 단위 | F4: 구분 | G4: 기술자 | K4: 환산 | L4: 합계
A5: 대분류 | C5: 세부내용 | G5: 특급 | H5: 고급 | I5: 중급 | J5: 초급 | K5: 합계 | L5: (고급기술자)
A6: 외업 | B6: 1.현장이동 | C6: 0.75 | D6: 1 | E6: 식 | F6: 인원 | G6: 1 | H6: 1 | I6: 2 | J6: 2 | L6: =ROUNDDOWN(G24*0.8,0) -> 11
F7: 일수 | G7: 0.75 | H7: 0.75 | I7: 0.75 | J7: 0.75 | K7: 3.8
B8: 2.게이지부착 및 점검 | C8: 1 | D8: 1 | E8: 식 | F8: 인원 | G8: 1 | H8: 1 | I8: 2 | J8: 2
F9: 일수 | G9: 1 | H9: 1 | I9: 1 | J9: 1 | K9: 5.06
B10: 3.측정 | C10: 0.5 | D10: 1 | E10: 식 | F10: 인원 | G10: 1 | H10: 1 | I10: 2 | J10: 2
F11: 일수 | G11: 0.5 | H11: 0.5 | I11: 0.5 | J11: 0.5 | K11: 2.53
B12: 4.해체 | C12: 0.5 | D12: 1 | E12: 식 | F12: 인원 | G12: 1 | H12: 1 | I12: 2 | J12: 2
F13: 일수 | G13: 0.5 | H13: 0.5 | I13: 0.5 | J13: 0.5 | K13: 2.53
A14: 내업 | B14: 1.재하시험 계획수립 | C14: 자료 분석 및 계획수립 등 | D14: 1 | E14: 식 | F14: 인원 | G14: 1 | H14: 1 | I14: 1 | L14: =ROUNDDOWN(H24*0.8,0) -> 5
F15: 일수 | G15: 0.5 | H15: 1 | I15: 1 | K15: 2.43
B16: 2.장비준비 | C16: 계측장비 준비 및 소모품 구입 | D16: 1 | E16: 식 | F16: 인원 | H16: 1 | I16: 1 | J16: 2
F17: 일수 | H17: 0.25 | I17: 1 | J17: 1 | K17: 2.29
B18: 3.재하시험 결과정리 | D18: 1 | E18: 식 | F18: 인원 | H18: 1 | I18: 1
F19: 일수 | H19: 1 | I19: 1 | K19: 1.84
A21: ※ 재하시험 조정비, 소요인원수, 게이지수
A22: 구분 | D22: 연속여부 | E22: 차선수 | F22: 전체조정비 | G22: 소요인원수 | J22: 게이지수 | L22: 비 고
G23: 외업 | H23: 내업 | I23: 전체
A24: 콘크리트교 강교 | B24: 단순 | C24: 2차선 | D24: 1 | E24: 1 | F24: 1 | G24: 14 | H24: 7 | I24: 21 | J24: 30 | L24: 80%적용
C25: 4차선 | D25: 1 | E25: 1.25 | F25: 1.25 | G25: 15 | H25: 8 | I25: 23 | J25: 38
C26: 6차선 | D26: 1 | E26: 1.5 | F26: 1.5 | G26: 16 | H26: 9 | I26: 25 | J26: 45
C27: 8차선 | D27: 1 | E27: 1.75 | F27: 1.75 | G27: 18 | H27: 10 | I27: 28 | J27: 53
B28: 연속 | C28: 2차선 | D28: 1.5 | E28: 1 | F28: 1.5 | G28: 16 | H28: 9 | I28: 25 | J28: 45
C29: 4차선 | D29: 1.5 | E29: 1.25 | F29: 1.875 | G29: 18 | H29: 10 | I29: 28 | J29: 56
C30: 6차선 | D30: 1.5 | E30: 1.5 | F30: 2.25 | G30: 20 | H30: 12 | I30: 32 | J30: 68
C31: 8차선 | D31: 1.5 | E31: 1.75 | F31: 2.625 | G31: 22 | H31: 14 | I31: 36 | J31: 79

Sheet 기초노임단가
A1: 기초노임단가
A3: 직종명 | B3: 2026년 하반기노임 및 엔지니어링 임금실태조사결과 | C3: 비고
A4: 보통인부 | B4: 172698
A5: 특별인부 | B5: 228717
A6: 건설기계조장 | B6: 210909
A7: 건설기계운전사 | B7: 283323
A8: 화물차운전사 | B8: 240042
A9: 일반기계운전사 | B9: 173995
A10: 기술사 | B10: 467217
A11: 특급기술자 | B11: 373353
A12: 고급기술자 | B12: 310884
A13: 중급기술자 | B13: 295138
A14: 초급기술자 | B14: 235459
A15: 고급숙련기술자 | B15: 281075
... A18: 잠수부 | B18: 379657
A19: 선원

Sheet 손해배상공제 공제료
A1: □ 손해배상공제 공제료 산출
A2: 1. 총공재료 = 1) 1단계 공재료 + 2) 2단계 공재료
B3: ※ 단, 특별약관 적용에 할증요율은 별도( 3)총공재료 * 특별약관별 할증요율)
B4: 1) 1단계 공재료 = 순계약금액*[기본요율*{가산요율*(표준담보기간초과일수/365)}]
B5: ※ 1단계기간이 기술분야별 표준담보기간을 초과하지 않는 경우에는 기본요율만 적용됨.
B6: 2) 2단계 공재료 = 순계약금액 * 0.16%
A7: 2. 산출내역
B8: ※ 순계약금액(교량) | C8: = | D8: =내역서!L10+내역서!L12+내역서!L15+내역서!L24+내역서!L32 -> 65344182
B9: 1) 1단계 공재료 | C9: = | D9: =INT((D8*C40/100)) -> 364620
B10: 2) 2단계 공재료 | C10: = | D10: =INT((D8*0.16/100)) -> 104550
B11: 3) 총공재료 | C11: = | D11: =INT(D9+D10) -> 469170 | F11: ≒ | G11: =D11 -> 469170 | I11: (적용)
B12: 분석(타당성조사, 평가, 시험) 공제요율
A13: 엔지니어링 손해배상보험 공제의무가입제도 안내서 -엔지니어링공제조합
B14: 산업별 | C14: 공제가입금액(보상한도액) | M14: 표준담보기간(년)
C15: 5억원이하 | E15: 5억원초과 | G15: 10억원초과 | I15: 20억원초과 | K15: 30억원초과
E16: 10억이하 | G16: 20억원이하 | I16: 30억원이하 | K16: 50억원이하
C17: 기본요율 | D17: 가산요율 | E17: 기본요율 | F17: 가산요율 | G17: 기본요율 | H17: 가산요율 | I17: 기본요율 | J17: 가산요율 | K17: 기본요율 | L17: 가산요율
B18: 교량공사 | C18: 0.722 | D18: 0.114 | E18: 0.7 | F18: 0.112 | G18: 0.678 | H18: 0.109 | I18: 0.657 | J18: 0.105 | K18: 0.635 | L18: 0.102 | M18: 3
B19: 공항건설공사 | C19: 0.817 | D19: 0.129 | E19: 0.792 | F19: 0.128 | G19: 0.769 | H19: 0.123 | I19: 0.743 | J19: 0.118 | K19: 0.718 | L19: 0.114 | M19: 5
B20: 댐축조공사 | C20: 0.903 | D20: 0.145 | E20: 0.875 | F20: 0.14 | G20: 0.848 | H20: 0.135 | I20: 0.82 | J20: 0.132 | K20: 0.794 | L20: 0.128 | M20: 5
B21: 도로공사 | C21: 0.649 | D21: 0.105 | E21: 0.629 | F21: 0.1 | G21: 0.609 | H21: 0.098 | I21: 0.591 | J21: 0.094 | K21: 0.571 | L21: 0.091 | M21: 3
B22: 에너지저장시설공사 | C22: 0.649 | D22: 0.105 | E22: 0.629 | F22: 0.1 | G22: 0.609 | H22: 0.098 | I22: 0.591 | J22: 0.094 | K22: 0.571 | L22: 0.091 | M22: 3
B23: 간척공사 | C23: 0.735 | D23: 0.117 | E23: 0.714 | F23: 0.114 | G23: 0.691 | H23: 0.111 | I23: 0.669 | J23: 0.108 | K23: 0.648 | L23: 0.103 | M23: 5
B24: 항만공사 | C24: 0.735 | D24: 0.117 | E24: 0.714 | F24: 0.114 | G24: 0.691 | H24: 0.111 | I24: 0.669 | J24: 0.108 | K24: 0.648 | L24: 0.103 | M24: 5
B25: 철도공사 | C25: 0.577 | D25: 0.091 | E25: 0.56 | F25: 0.089 | G25: 0.543 | H25: 0.086 | I25: 0.525 | J25: 0.085 | K25: 0.508 | L25: 0.082 | M25: 3
B26: 지하철공사 | C26: 0.903 | D26: 0.145 | E26: 0.875 | F26: 0.14 | G26: 0.848 | H26: 0.135 | I26: 0.82 | J26: 0.132 | K26: 0.794 | L26: 0.128 | M26: 4
B27: 터널공사 | C27: 0.903 | D27: 0.145 | E27: 0.875 | F27: 0.14 | G27: 0.848 | H27: 0.135 | I27: 0.82 | J27: 0.132 | K27: 0.794 | L27: 0.128 | M27: 4
B28: 발전소건설공사 | C28: 0.769 | D28: 0.123 | E28: 0.746 | F28: 0.118 | G28: 0.723 | H28: 0.115 | I28: 0.7 | J28: 0.112 | K28: 0.677 | L28: 0.109 | M28: 3
B29: 쓰레기소각로건설공사 | C29: 1 | D29: 0.16 | E29: 0.969 | F29: 0.155 | G29: 0.94 | H29: 0.151 | I29: 0.909 | J29: 0.146 | K29: 0.88 | L29: 0.142 | M29: 2
... B41: 건설부문_터널 | C41: 0.697 | D41: 0.112 | E41: 0.678 | F41: 0.107 | G41: 0.655 | H41: 0.106 | I41: 0.636 | J41: 0.101 | K41: 0.613 | L41: 0.099 | M41: 4

Sheet 점검차량
A2: 1일 노임단가 | B2: 운전사 : | D2: =기초노임단가!B8 -> 240042 | E2: 원/일 | G2: 운전사 : | I2: =(D2*(16/12)*(25/20))/8 -> 50008.75 | J2: 원/hr
B3: 건설기계조장 : | D3: =기초노임단가!B6 -> 210909 | E3: 원/일 | G3: 조장 : | I3: =(D3*(16/12)*(25/20))/8 -> 43939.375 | J3: 원/hr
B4: 건설기계운전사 : | D4: =기초노임단가!B7 -> 283323 | E4: 원/일 | G4: 건설기계운전사 : | I4: =(D4*(16/12)*(25/20))/8 -> 59025.625 | J4: 원/hr
B5: 일반기계운전사 : | D5: =기초노임단가!B9 -> 173995 | E5: 원/일 | G5: 일반기계운전사 : | I5: =(D5*(16/12)*(25/20))/8 -> 36248.958 | J5: 원/hr
A6: 경유/L : | B6: 1376 | C6: (2026년 시설공사 환율 및 유류단가)
A8: 2026 점검차량 운전경비 산출내역
A10: 1. 손료내역
A12: 장비명 | B12: 가격 (천원) | C12: 내용 시간 | D12: 연간표준 가동시간 | E12: 상각 비율 | F12: 정비 비율 | G12: 관리 비율 | H12: 시 간 당 | L12: 시간당 손료 (원) | M12: 비 고
H13: 삼각비 계수 | I13: 정비비 계수 | J13: 관리비 계수 | K13: 계
A14: 교량점검차 (굴절차 22m) | B14: 410007 | C14: 9800 | D14: 1200 | E14: 0.9 | F14: 0.7 | G14: 0.14 | H14: 918 | I14: 714 | J14: 707 | K14: =SUM(H14:J14) -> 2339 | L14: =INT(B14*K14/10^7*1000) -> 95900 | M14: 트럭크레인 (22m)
A15: 교량점검차 (굴절차 15m) | B15: 380000 | C15: 9800 | D15: 1200 | E15: 0.9 | F15: 0.7 | G15: 0.14 | H15: 918 | I15: 714 | J15: 707 | K15: =SUM(H15:J15) -> 2339 | L15: =INT(B15*K15/10^7*1000) -> 88882 | M15: 트럭크레인 (15m)
A16: 교량점검차 (다굴절차) | B16: 530000 | C16: 9800 | D16: 1200 | E16: 0.9 | F16: 0.7 | G16: 0.14 | H16: 918 | I16: 714 | J16: 707 | K16: =SUM(H16:J16) -> 2339 | L16: =INT(B16*K16/10^7*1000) -> 123967 | M16: 트럭크레인 (Basket형)
A17: 교량점검차 (고소차5톤) | B17: 92994 | C17: 9000 | D17: 1000 | E17: 0.9 | F17: 0.7 | G17: 0.14 | H17: 1000 | I17: 778 | J17: 840 | K17: =SUM(H17:J17) -> 2618 | L17: =INT(B17*K17/10^7*1000) -> 24345 | M17: 5톤
A18: 교량점검차 (고소차2.5톤) | B18: 44010 | C18: 9000 | D18: 1000 | E18: 0.9 | F18: 0.7 | G18: 0.14 | H18: 1000 | I18: 778 | J18: 840 | K18: =SUM(H18:J18) -> 2618 | L18: =INT(B18*K18/10^7*1000) -> 11521 | M18: 리프트트럭 (2.5톤)
A20: 2. 운전경비내역
A22: 장비명 | B22: 규격 | C22: 운 전 경 비 | H22: 인 건 비(시간당) | K22: 소계 | L22: 시간당 손료 | M22: 합계 (시간당) | N22: 비 고
C23: 주 연 료 (경유) | F23: 잡품 (주연료%) | G23: 계 | H23: 조종원(기사)
C24: 수량 | D24: 단가 | E24: 금액 | H24: 조종원 (기사) | I24: 조수 | J24: 조장
A25: 교량점검차 (굴절차) | B25: 22m | C25: 7.7 | D25: =$B$6 -> 1376 | E25: =ROUND(D25*C25,0) -> 10595 | F25: =ROUND(E25*0.38,0) -> 4026 | G25: =E25+F25 -> 14621 | H25: =$I$4 -> 59025.625 | I25: =$I$5 -> 36248.958 | J25: =$I$3*0.2 -> 8787.875 | K25: =SUM(H25:J25)+G25 -> 118683.46 | L25: =L14 -> 95900 | M25: =L25+K25 -> 214583.46
A26: 교량점검차 (굴절차) | B26: 15m | C26: 7.7 | D26: =$B$6 -> 1376 | E26: =ROUND(D26*C26,0) -> 10595 | F26: =ROUND(E26*0.38,0) -> 4026 | G26: =E26+F26 -> 14621 | H26: =$I$4 -> 59025.625 | I26: =$I$5 -> 36248.958 | J26: =$I$3*0.2 -> 8787.875 | K26: =SUM(H26:J26)+G26 -> 118683.46 | L26: =L15 -> 88882 | M26: =L26+K26 -> 207565.46
A27: =A16 -> 교량점검차 (다굴절차) | B27: Basket형 | C27: 7.7 | D27: =$B$6 -> 1376 | E27: =ROUND(D27*C27,0) -> 10595 | F27: =ROUND(E27*0.38,0) -> 4026 | G27: =E27+F27 -> 14621 | H27: =$I$4 -> 59025.625 | I27: =$I$5 -> 36248.958 | J27: =$I$3*0.2 -> 8787.875 | K27: =SUM(H27:J27)+G27 -> 118683.46 | L27: =L16 -> 123967 | M27: =L27+K27 -> 242650.46
A28: 교량점검차 (고소작업차) | B28: 5톤 | C28: 7.2 | D28: =$B$6 -> 1376 | E28: =ROUND(D28*C28,0) -> 9907 | F28: =ROUND(E28*0.35,0) -> 3467 | G28: =E28+F28 -> 13374 | H28: =$I$2 -> 50008.75 | K28: =SUM(H28:J28)+G28 -> 63382.75 | L28: =L17 -> 24345 | M28: =L28+K28 -> 87727.75
A29: 교량점검차 (고소작업차) | B29: 2.5톤 | C29: 5 | D29: =$B$6 -> 1376 | E29: =ROUND(D29*C29,0) -> 6880 | F29: =ROUND(E29*0.35,0) -> 2408 | G29: =E29+F29 -> 9288 | H29: =$I$2 -> 50008.75 | K29: =SUM(H29:J29)+G29 -> 59296.75 | L29: =L18 -> 11521 | M29: =L29+K29 -> 70817.75
