Workbook

Sheet 원가계산서
A1: 원 가 계 산 서
A2: 계약명: 대전노은 상록아파트 승강기 교체 건설 사업 관리 용역
A3: 비 목 | D3: 용역비 | E3: 구 성 비 | F3: 비 고
A4: 직 접 인 건 비 | B4: 상주 건설사업관리 기술자 | D4: =산출근거!I3 -> 29810880
B5: 기술지원 건설사업관리기술자 | D5: =산출근거!I4 -> 3726360
B6: [소 계] | D6: =SUM(D4:D5) -> 33537240
A7: 직 접 경 비 | B7: 기술지원기술인의 출장여비 | D7: =TRUNC(D5*10%,0) -> 372636 | E7: 기술지원 건설사업관리 기술자 직접인건비 * 10%
B8: 인쇄비 | D8: =총괄집계표!F6 -> 225000
B9: [소 계] | D9: =SUM(D7:D8) -> 597636
A10: 제경비 | D10: =TRUNC(D6*110%,0) -> 36890964 | E10: 직접인건비 * 110%
A11: 기술료 | D11: =TRUNC((D6+D10)*20%,0) -> 14085640 | E11: (직접인건비 + 제경비) * 20%
A12: 손해보험료 | D12: =총괄집계표!F7 -> 514924
A13: 공급가액 | D13: =TRUNC(D6+D9+D10+D11+D12,-6) -> 85000000
A14: 부가가치세 | D14: =TRUNC(D13*10%,0) -> 8500000 | E14: 공급가액 * 10%
A15: 총용역비 | D15: =D13+D14 -> 93500000 | E15: 십만원미만절사

Sheet 총괄집계표
A1: 총괄 집계표
G2: (단위:원)
A3: 품 명 | B3: 규 격 | C3: 단위 | D3: 수량 | E3: 단 가 | F3: 금 액 | G3: 비 고
A4: =산출근거!C3 -> 상주 건설사업관리 기술인 | B4: 고급 | C4: 인·일 | D4: =산출근거!E3 -> 3.6 | E4: =산출근거!G3 -> 8280800 | F4: =E4*D4 -> 29810880
A5: =산출근거!C4 -> 기술지원 건설사업관리기술인 | B5: 고급 | C5: 인·일 | D5: =산출근거!E4 -> 0.45 | E5: =산출근거!G4 -> 8280800 | F5: =E5*D5 -> 3726360
A6: =산출근거!B8 -> 인쇄비 | C6: 식 | D6: 1 | E6: =산출근거!I9 -> 225000 | F6: =E6*D6 -> 225000
A7: =산출근거!B12 -> 손해배상보험료 | C7: 식 | D7: 1 | E7: =산출근거!I12 -> 514924 | F7: =E7*D7 -> 514924
A16: 금 액 합 계 | F16: =SUM(F4:F15) -> 34277164

Sheet 산출근거
A2: 1. | B2: 직접인건비
C3: 상주 건설사업관리 기술인 | D3: : | E3: ='건설사업관리기술자수 산정'!D68 -> 3.6 | F3: × | G3: =376400*22 -> 8280800 | H3: = | I3: =TRUNC(G3*E3,0) -> 29810880 | J3: 원
C4: 기술지원 건설사업관리기술인 | D4: : | E4: ='건설사업관리기술자수 산정'!D69 -> 0.45 | F4: × | G4: =376400*22 -> 8280800 | H4: = | I4: =TRUNC(G4*E4,0) -> 3726360 | J4: 원
A6: 2. | B6: 직접경비
B7: 출장여비 | D7: : | E7: =I4 -> 3726360 | F7: × | G7: 0.1 | H7: = | I7: =TRUNC(G7*E7,0) -> 372636 | J7: 원 | K7: 기술지원 건설사업관리 기술자 직접인건비 * 10%
B8: 인쇄비 | E8: 1면 150원
C9: 최종 보고서 | D9: : | E9: 300면 × 5부 × 150원 | H9: = | I9: 225000 | J9: 원
A10: 3. | B10: 제경비 | D10: : | E10: =I3+I4 -> 33537240 | F10: × | G10: 1.1 | H10: = | I10: =TRUNC(G10*E10,0) -> 36890964 | J10: 원 | K10: 직접인건비 * 110%
A11: 4. | B11: 기술료 | D11: : | E11: =I3+I4+I10 -> 70428204 | F11: × | G11: 0.2 | H11: = | I11: =TRUNC(G11*E11,0) -> 14085640 | J11: 원 | K11: (직접인건비 + 제경비) * 20%
A12: 5. | B12: 손해배상보험료 | D12: : | E12: =I3+I4+I7+I9+I10+I11 -> 85111480 | F12: × | G12: =(0.508+0.097)% -> 0.00605 | H12: = | I12: =TRUNC(G12*E12,0) -> 514924 | J12: 원

Sheet 배치계획서
A1: 건선사업관리 기술인 투입계획서
A2: 구분 | B2: 등급 | C2: 인원 | D2: 사업기간 | J2: 비고
D3: 1 | E3: 2 | F3: 3 | G3: 4 | H3: 5 | I3: 6
A4: 상주기술인 (책임) | B4: 고급 (건축분야) | C4: 1 | J4: 3개월 현장 상주
F5: 용역기간
G7: 상주기간
A8: 기술지원인 | B8: 고급 (전기, 정보통신 분야) | C8: 2 | J8: 3개월 투입

Sheet 건설사업관리기술자수 산정
A1: 건설사업관리기술자 배치기준 [건설기술용역 대가 등에 관한 기준 별표 2]
A2: 업무분류체계 | E2: 적용 수량 단위 | G2: 기준인원수 (인･일) | H2: 보정계수 | K2: 난이도 | L2: 해당 용역 유무 | M2: 산출 인원수 (인･일)
A3: 단계 | B3: 기본업무 | G3: 고급 | H3: a | I3: b | J3: c
A4: 공 통 업 무 | B4: 과업착수준비 | E4: 식 | G4: 7 | L4: 1 | M4: =ROUND(PRODUCT(F4:K4,L4),1) -> 7
B5: 건설사업관리 업무수행계획서 작성ㆍ운영 | E5: 식 | G5: 20.5 | L5: 1 | M5: =ROUND(PRODUCT(F5:K5,L5),1) -> 20.5
B6: 건설사업관리 절차서 작성ㆍ운영 | E6: 식 | G6: 27.3 | L6: 0 | M6: =ROUND(PRODUCT(F6:K6,L6),1) -> 0
B7: 작업분류체계 및 사업번호체계 관리, 사업정보축적ㆍ관리 | E7: 식 | G7: 22.3 | K7: =$E$44 -> 0.029918447 | L7: 0 | M7: =ROUND(PRODUCT(F7:K7,L7),1) -> 0
B8: 사업정보관리시스템의 운영 | E8: 운영일수 | G8: 0.3 | K8: =$E$44 -> 0.029918447 | L8: 0 | M8: =ROUND(PRODUCT(F8:K8,L8),1) -> 0
B9: 클레임 사전분석 | E9: 식 | G9: 31 | L9: 0 | M9: =ROUND(PRODUCT(F9:K9,L9),1) -> 0
B10: 최종 건설사업관리 보고 | C10: 1)시공전 단계 | E10: 식 | G10: 27.3 | L10: 0 | M10: =ROUND(PRODUCT(F10:K10,L10),1) -> 0
C11: 2)시공이후 단계 | E11: 식 | G11: 54.6 | L11: 1 | M11: =ROUND(PRODUCT(F11:K11,L11),1) -> 54.6
A12: 시 공 단 계 | B12: 공사착수 | E12: 식 | G12: 72.7 | L12: 1 | M12: =ROUND(PRODUCT(F12:K12,L12),1) -> 72.7
B13: 시공성과확인 및 검측업무 | E13: 공사일수 | F13: 183 | G13: 2.9 | H13: 1 | I13: 1 | J13: 1 | K13: =$E$44 -> 0.029918447 | L13: 1 | M13: =ROUND(PRODUCT(F13:K13,L13),1) -> 15.9
B14: 사용자재의 적정성 검토 | E14: 공사개월 | F14: 6 | G14: 10 | H14: 1 | I14: 1 | K14: =$E$44 -> 0.029918447 | L14: 1 | M14: =ROUND(PRODUCT(F14:K14,L14),1) -> 1.8
B15: 품질시험 및 성과검토 | E15: 공사개월 | F15: 6 | G15: 12.6 | H15: 1 | K15: =$E$44 -> 0.029918447 | L15: 1 | M15: =ROUND(PRODUCT(F15:K15,L15),1) -> 2.3
B16: 시공계획검토 | E16: 공사개월 | F16: 6 | G16: 8.8 | H16: 1 | I16: 1 | J16: 1 | K16: =$E$44 -> 0.029918447 | L16: 1 | M16: =ROUND(PRODUCT(F16:K16,L16),1) -> 1.6
B17: 기술검토 및 교육 | E17: 공사개월 | F17: 6 | G17: 10.1 | H17: 1 | K17: =$E$44 -> 0.029918447 | L17: 1 | M17: =ROUND(PRODUCT(F17:K17,L17),1) -> 1.8
B18: 공정관리 | E18: 공사개월 | F18: 6 | G18: 9 | H18: 1 | I18: 1 | K18: =$E$44 -> 0.029918447 | L18: 1 | M18: =ROUND(PRODUCT(F18:K18,L18),1) -> 1.6
B19: 안전관리 | E19: 공사개월 | F19: 3 | G19: 7.9 | I19: 1 | K19: =$E$44 -> 0.029918447 | L19: 1 | M19: =ROUND(PRODUCT(F19:K19,L19),1) -> 0.7
B20: 환경관리 | E20: 공사개월 | F20: 6 | G20: 5.3 | I20: 1 | K20: =$E$44 -> 0.029918447 | L20: 1 | M20: =ROUND(PRODUCT(F20:K20,L20),1) -> 1
B21: 설계변경 관리 | E21: 공사개월 | F21: 6 | G21: 7.5 | J21: 1 | K21: =$E$44 -> 0.029918447 | L21: 1 | M21: =ROUND(PRODUCT(F21:K21,L21),1) -> 1.3
B22: 기성검사 | E22: 회 | F22: 1 | G22: 6.6 | L22: 1 | M22: =ROUND(PRODUCT(F22:K22,L22),1) -> 6.6
B23: 준공검사 | E23: 식 | G23: 3.8 | L23: 1 | M23: =ROUND(PRODUCT(F23:K23,L23),1) -> 3.8
B24: 계약자간 시공인터페이스 조정 | E24: 공사개월 | G24: 2.8 | H24: 1 | L24: 0 | M24: =ROUND(PRODUCT(F24:K24,L24),1) -> 0
B25: 하도급타당성검토 | E25: 공사년수 | G25: 23 | K25: =$E$44 -> 0.029918447 | L25: 0 | M25: =ROUND(PRODUCT(F25:K25,L25),1) -> 0
B26: 시공단계의 예산검증 및 지원 | E26: 회 | F26: 1 | G26: 36.4 | K26: =$E$44 -> 0.029918447 | L26: 1 | M26: =ROUND(PRODUCT(F26:K26,L26),1) -> 1.1
B27: 일반행정업무 | E27: 용역일수 | F27: 183 | G27: 1.6 | K27: =$E$44 -> 0.029918447 | L27: 1 | M27: =ROUND(PRODUCT(F27:K27,L27),1) -> 8.8
A28: 시 공 후 단 계 | B28: 종합시운전계획의 검토 및 시운전 확인 | E28: 식 | G28: 13.6 | H28: 1 | L28: 1 | M28: =ROUND(PRODUCT(F28:K28,L28),1) -> 13.6
B29: 시설물 유지관리지침서 검토 | E29: 식 | G29: 32.6 | L29: 1 | M29: =ROUND(PRODUCT(F29:K29,L29),1) -> 32.6
B30: 시설물유지관리 업체 선정 | E30: 식 | G30: 20.8 | L30: 0 | M30: =ROUND(PRODUCT(F30:K30,L30),1) -> 0
B31: 시설물의 인수ㆍ인계 계획 검토 및 관련업무 지원 | E31: 식 | G31: 27.2 | L31: 1 | M31: =ROUND(PRODUCT(F31:K31,L31),1) -> 27.2
A33: 건축분야 보정계수 | I33: 건축분야 공사난이도 산정기준
A42: 공사난이도 산정
A43: 구분 | E43: 난이도계수
A44: 시공단계 | B44: 총공사비 50억원이하 | E44: =0.011*B47/10*(1-0.0025*B47/10)+(B48+(0.5*B49)+0.2)*(B47/10*0.2) -> 0.029918447
A46: 적용값
A47: 총공사비 | B47: 4.68
A48: 보정계수 | B48: =(17-6)/17*0.1 -> 0.064705882
A49: 골조공사비중 | B49: 0
A51: 투입인원수
...

Sheet 입찰가격상세산출내역서
B1: 정부서울청사-승강기교체공사 세부 내역서
B3: 사양 | D3: 용도 | F3: 승객용 | I3: 승객용 | L3: 비상용 | O3: 비상용(인화물용) | R3: 승객용 | U3: 장애인용(4면전망,관통형)) | X3: 장애인용(4면전망,관통형))
D4: 호기 | F4: 1~3 | I4: 4~6 | L4: 7 | O4: 8 | R4: 9~10 | U4: 11 | X4: 24
D5: 인승 / 정격하중(kg) | F5: 24 / 1600 | I5: 24 / 1600 | L5: 20 / 1350 | O5: 24 / 1600 | R5: 17 / 1150 | U5: 11 / 750 | X5: 15 / 1000
D6: 속도(m/min) | F6: 180 | I6: 180 | L6: 150 | O6: 150 | R6: 60 | U6: 45 | X6: 30
D7: 층수 | F7: 19 | I7: 23 | L7: 25 | O7: 25 | R7: 6 | U7: 2 | X7: 2
D8: 대수 | F8: 3 | I8: 3 | L8: 1 | O8: 1 | R8: 2 | U8: 1 | X8: 1
B9: No | C9: 구분 | D9: 주요 부품 명 | E9: 적용 | F9: 단가 | G9: 수량 | H9: 금액 | I9: 단가 | J9: 수량 | K9: 금액 | L9: 단가 | M9: 수량 | N9: 금액 | O9: 단가 | P9: 수량 | Q9: 금액 | R9: 단가 | S9: 수량 | T9: 금액 | U9: 단가 | V9: 수량 | W9: 금액 | X9: 단가 | Y9: 수량 | Z9: 금액
B10: 1 | C10: 기계실 | D10: 제어반 | E10: 교체 | F10: 12000000 | G10: =IF($E10="재사용",0,1) -> 1 | H10: =F10*G10 -> 12000000 | I10: 12000000 | J10: =IF($E10="재사용",0,1) -> 1 | K10: =I10*J10 -> 12000000 | L10: 12500000 | M10: =IF($E10="재사용",0,1) -> 1 | N10: =L10*M10 -> 12500000 | O10: 12500000 | P10: =IF($E10="재사용",0,1) -> 1 | Q10: =O10*P10 -> 12500000 | R10: 5600000 | S10: =IF($E10="재사용",0,1) -> 1 | T10: =R10*S10 -> 5600000 | U10: 6200000 | V10: =IF($E10="재사용",0,1) -> 1 | W10: =U10*V10 -> 6200000 | X10: 6800000 | Y10: =IF($E10="재사용",0,1) -> 1 | Z10: =X10*Y10 -> 6800000
B11: 2 | D11: 권상기(GEARLESS) + PULLEY | E11: 교체 | F11: 10800000 | G11: =IF($E11="재사용",0,1) -> 1 | H11: =F11*G11 -> 10800000 | I11: 10800000 | J11: =IF($E11="재사용",0,1) -> 1 | K11: =I11*J11 -> 10800000 | L11: 11500000 | M11: =IF($E11="재사용",0,1) -> 1 | N11: =L11*M11 -> 11500000 | O11: 11500000 | P11: =IF($E11="재사용",0,1) -> 1 | Q11: =O11*P11 -> 11500000 | R11: 4900000 | S11: =IF($E11="재사용",0,1) -> 1 | T11: =R11*S11 -> 4900000 | U11: 5400000 | V11: =IF($E11="재사용",0,1) -> 1 | W11: =U11*V11 -> 5400000 | X11: 5800000 | Y11: =IF($E11="재사용",0,1) -> 1 | Z11: =X11*Y11 -> 5800000
B12: 3 | D12: 기계대 | E12: 교체 | F12: 450000 | G12: =IF($E12="재사용",0,1) -> 1 | H12: =F12*G12 -> 450000 | I12: 450000 | J12: =IF($E12="재사용",0,1) -> 1 | K12: =I12*J12 -> 450000 | L12: 450000 | M12: =IF($E12="재사용",0,1) -> 1 | N12: =L12*M12 -> 450000 | O12: 450000 | P12: =IF($E12="재사용",0,1) -> 1 | Q12: =O12*P12 -> 450000 | R12: 350000 | S12: =IF($E12="재사용",0,1) -> 1 | T12: =R12*S12 -> 350000 | U12: 300000 | V12: =IF($E12="재사용",0,1) -> 1 | W12: =U12*V12 -> 300000 | X12: 320000 | Y12: =IF($E12="재사용",0,1) -> 1 | Z12: =X12*Y12 -> 320000
B13: 4 | D13: 이중방진고무 | E13: 교체 | F13: 230000 | G13: =IF($E13="재사용",0,1) -> 1 | H13: =F13*G13 -> 230000 | I13: 230000 | J13: =IF($E13="재사용",0,1) -> 1 | K13: =I13*J13 -> 230000 | L13: 230000 | M13: =IF($E13="재사용",0,1) -> 1 | N13: =L13*M13 -> 230000 | O13: 230000 | P13: =IF($E13="재사용",0,1) -> 1 | Q13: =O13*P13 -> 230000 | R13: 200000 | S13: =IF($E13="재사용",0,1) -> 1 | T13: =R13*S13 -> 200000 | U13: 200000 | V13: =IF($E13="재사용",0,1) -> 1 | W13: =U13*V13 -> 200000 | X13: 200000 | Y13: =IF($E13="재사용",0,1) -> 1 | Z13: =X13*Y13 -> 200000
B14: 5 | D14: 조속기 + 웨이트풀리 + 스위치 | E14: 교체 | F14: 1250000 | G14: =IF($E14="재사용",0,1) -> 1 | H14: =F14*G14 -> 1250000 | I14: 1250000 | J14: =IF($E14="재사용",0,1) -> 1 | K14: =I14*J14 -> 1250000 | L14: 1250000 | M14: =IF($E14="재사용",0,1) -> 1 | N14: =L14*M14 -> 1250000 | O14: 1250000 | P14: =IF($E14="재사용",0,1) -> 1 | Q14: =O14*P14 -> 1250000 | R14: 750000 | S14: =IF($E14="재사용",0,1) -> 1 | T14: =R14*S14 -> 750000 | U14: 550000 | V14: =IF($E14="재사용",0,1) -> 1 | W14: =U14*V14 -> 550000 | X14: 550000 | Y14: =IF($E14="재사용",0,1) -> 1 | Z14: =X14*Y14 -> 550000
B15: 6 | D15: 기계실 CABLE + 배관재 | E15: 교체 | F15: 380000 | G15: =IF($E15="재사용",0,1) -> 1 | H15: =F15*G15 -> 380000 | I15: 380000 | J15: =IF($E15="재사용",0,1) -> 1 | K15: =I15*J15 -> 380000 | L15: 380000 | M15: =IF($E15="재사용",0,1) -> 1 | N15: =L15*M15 -> 380000 | O15: 380000 | P15: =IF($E15="재사용",0,1) -> 1 | Q15: =O15*P15 -> 380000 | R15: 280000 | S15: =IF($E15="재사용",0,1) -> 1 | T15: =R15*S15 -> 280000 | U15: 250000 | V15: =IF($E15="재사용",0,1) -> 1 | W15: =U15*V15 -> 250000 | X15: 260000 | Y15: =IF($E15="재사용",0,1) -> 1 | Z15: =X15*Y15 -> 260000
B16: 7 | D16: 기계실 환기시설+조명 교체공사(필요시) | E16: 교체 | G16: =IF($E16="재사용",0,1) -> 1 | H16: =F16*G16 -> 0 | J16: =IF($E16="재사용",0,1) -> 1 | K16: =I16*J16 -> 0 | M16: =IF($E16="재사용",0,1) -> 1 | N16: =L16*M16 -> 0 | P16: =IF($E16="재사용",0,1) -> 1 | Q16: =O16*P16 -> 0 | S16: =IF($E16="재사용",0,1) -> 1 | T16: =R16*S16 -> 0 | V16: =IF($E16="재사용",0,1) -> 1 | W16: =U16*V16 -> 0 | Y16: =IF($E16="재사용",0,1) -> 1 | Z16: =X16*Y16 -> 0
B17: 8 | C17: 카틀 | D17: 카체대 (PLATFORM) ASY | E17: 교체 | F17: 4800000 | G17: 1 | H17: =F17*G17 -> 4800000 | I17: 4800000 | J17: 1 | K17: =I17*J17 -> 4800000 | L17: 4500000 | M17: 1 | N17: =L17*M17 -> 4500000 | O17: 4800000 | P17: 1 | Q17: =O17*P17 -> 4800000 | R17: 3800000 | S17: 1 | T17: =R17*S17 -> 3800000 | U17: 3200000 | V17: 1 | W17: =U17*V17 -> 3200000 | X17: 3600000 | Y17: 1 | Z17: =X17*Y17 -> 3600000
B18: 9 | C18: GUIDE SHOE | D18: CAR GUIDE SHOE/ROLLER | E18: 교체 | F18: 1400000 | G18: =IF($E18="재사용",0,1) -> 1 | H18: =F18*G18 -> 1400000 | I18: 1400000 | J18: =IF($E18="재사용",0,1) -> 1 | K18: =I18*J18 -> 1400000 | L18: 1400000 | M18: =IF($E18="재사용",0,1) -> 1 | N18: =L18*M18 -> 1400000 | O18: 1400000 | P18: =IF($E18="재사용",0,1) -> 1 | Q18: =O18*P18 -> 1400000 | R18: 800000 | S18: =IF($E18="재사용",0,1) -> 1 | T18: =R18*S18 -> 800000 | U18: 800000 | V18: =IF($E18="재사용",0,1) -> 1 | W18: =U18*V18 -> 800000 | X18: 800000 | Y18: =IF($E18="재사용",0,1) -> 1 | Z18: =X18*Y18 -> 800000
B19: 10 | D19: CWT GUIDE SHOE/ROLLER | E19: 교체 | F19: 800000 | G19: =IF($E19="재사용",0,1) -> 1 | H19: =F19*G19 -> 800000 | I19: 800000 | J19: =IF($E19="재사용",0,1) -> 1 | K19: =I19*J19 -> 800000 | L19: 800000 | M19: =IF($E19="재사용",0,1) -> 1 | N19: =L19*M19 -> 800000 | O19: 800000 | P19: =IF($E19="재사용",0,1) -> 1 | Q19: =O19*P19 -> 800000 | R19: 600000 | S19: =IF($E19="재사용",0,1) -> 1 | T19: =R19*S19 -> 600000 | U19: 600000 | V19: =IF($E19="재사용",0,1) -> 1 | W19: =U19*V19 -> 600000 | X19: 600000 | Y19: =IF($E19="재사용",0,1) -> 1 | Z19: =X19*Y19 -> 600000
B20: 11 | C20: 카도어 | D20: 카 도어장치 | E20: 교체 | F20: 2200000 | G20: =IF($E20="재사용",0,1) -> 1 | H20: =F20*G20 -> 2200000 | I20: 2200000 | J20: =IF($E20="재사용",0,1) -> 1 | K20: =I20*J20 -> 2200000 | L20: 2000000 | M20: =IF($E20="재사용",0,1) -> 1 | N20: =L20*M20 -> 2000000 | O20: 2000000 | P20: =IF($E20="재사용",0,1) -> 1 | Q20: =O20*P20 -> 2000000 | R20: 1400000 | S20: =IF($E20="재사용",0,1) -> 1 | T20: =R20*S20 -> 1400000 | U20: 1200000 | V20: =IF($E20="재사용",0,1) -> 1 | W20: =U20*V20 -> 1200000 | X20: 1300000 | Y20: =IF($E20="재사용",0,1) -> 1 | Z20: =X20*Y20 -> 1300000
B21: 12 | D21: 카 도어 | E21: 교체 | F21: 680000 | G21: =IF($E21="재사용",0,1) -> 1 | H21: =F21*G21 -> 680000 | I21: 680000 | J21: =IF($E21="재사용",0,1) -> 1 | K21: =I21*J21 -> 680000 | L21: 780000 | M21: =IF($E21="재사용",0,1) -> 1 | N21: =L21*M21 -> 780000 | O21: 480000 | P21: =IF($E21="재사용",0,1) -> 1 | Q21: =O21*P21 -> 480000 | R21: 380000 | S21: =IF($E21="재사용",0,1) -> 1 | T21: =R21*S21 -> 380000 | U21: 540000 | V21: =IF($E21="재사용",0,1) -> 1 | W21: =U21*V21 -> 540000 | X21: 560000 | Y21: =IF($E21="재사용",0,1) -> 1 | Z21: =X21*Y21 -> 560000
B22: 13 | D22: DOOR 안전장치 | E22: 교체 | F22: 1400000 | G22: =IF($E22="재사용",0,1) -> 1 | H22: =F22*G22 -> 1400000 | I22: 1400000 | J22: =IF($E22="재사용",0,1) -> 1 | K22: =I22*J22 -> 1400000 | L22: 1400000 | M22: =IF($E22="재사용",0,1) -> 1 | N22: =L22*M22 -> 1400000 | O22: 1400000 | P22: =IF($E22="재사용",0,1) -> 1 | Q22: =O22*P22 -> 1400000 | R22: 1200000 | S22: =IF($E22="재사용",0,1) -> 1 | T22: =R22*S22 -> 1200000 | U22: 1200000 | V22: =IF($E22="재사용",0,1) -> 1 | W22: =U22*V22 -> 1200000 | X22: 1200000 | Y22: =IF($E22="재사용",0,1) -> 1 | Z22: =X22*Y22 -> 1200000
B23: 14 | C23: 카 | D23: 조작반 | E23: 교체 | F23: 2400000 | G23: =IF($E23="재사용",0,1) -> 1 | H23: =F23*G23 -> 2400000 | I23: 2400000 | J23: =IF($E23="재사용",0,1) -> 1 | K23: =I23*J23 -> 2400000 | L23: 2800000 | M23: =IF($E23="재사용",0,1) -> 1 | N23: =L23*M23 -> 2800000 | O23: 2000000 | P23: =IF($E23="재사용",0,1) -> 1 | Q23: =O23*P23 -> 2000000 | R23: 1200000 | S23: =IF($E23="재사용",0,1) -> 1 | T23: =R23*S23 -> 1200000 | U23: 2400000 | V23: =IF($E23="재사용",0,1) -> 1 | W23: =U23*V23 -> 2400000 | X23: 2600000 | Y23: =IF($E23="재사용",0,1) -> 1 | Z23: =X23*Y23 -> 2600000
B24: 15 | D24: 장애자 조작반 | E24: 교체 | G24: =IF($E24="재사용",0,1) -> 1 | H24: =F24*G24 -> 0 | I24: 450000 | J24: =IF($E24="재사용",0,1) -> 1 | K24: =I24*J24 -> 450000 | M24: =IF($E24="재사용",0,1) -> 1 | N24: =L24*M24 -> 0 | P24: =IF($E24="재사용",0,1) -> 1 | Q24: =O24*P24 -> 0 | R24: 450000 | S24: =IF($E24="재사용",0,1) -> 1 | T24: =R24*S24 -> 450000 | U24: 450000 | V24: =IF($E24="재사용",0,1) -> 1 | W24: =U24*V24 -> 450000 | X24: 450000 | Y24: =IF($E24="재사용",0,1) -> 1 | Z24: =X24*Y24 -> 450000
B25: 16 | D25: 카 측판(트림 포함) | E25: 교체 | F25: 5500000 | G25: =IF($E25="재사용",0,1) -> 1 | H25: =F25*G25 -> 5500000 | I25: 5500000 | J25: =IF($E25="재사용",0,1) -> 1 | K25: =I25*J25 -> 5500000 | L25: 7500000 | M25: =IF($E25="재사용",0,1) -> 1 | N25: =L25*M25 -> 7500000 | O25: 4500000 | P25: =IF($E25="재사용",0,1) -> 1 | Q25: =O25*P25 -> 4500000 | R25: 3500000 | S25: =IF($E25="재사용",0,1) -> 1 | T25: =R25*S25 -> 3500000 | U25: 4800000 | V25: =IF($E25="재사용",0,1) -> 1 | W25: =U25*V25 -> 4800000 | X25: 5200000 | Y25: =IF($E25="재사용",0,1) -> 1 | Z25: =X25*Y25 -> 5200000
B26: 17 | D26: 천장판 & 조명차폐판 | E26: 교체 | F26: 2500000 | G26: =IF($E26="재사용",0,1) -> 1 | H26: =F26*G26 -> 2500000 | I26: 2500000 | J26: =IF($E26="재사용",0,1) -> 1 | K26: =I26*J26 -> 2500000 | L26: 2800000 | M26: =IF($E26="재사용",0,1) -> 1 | N26: =L26*M26 -> 2800000 | O26: 1500000 | P26: =IF($E26="재사용",0,1) -> 1 | Q26: =O26*P26 -> 1500000 | R26: 800000 | S26: =IF($E26="재사용",0,1) -> 1 | T26: =R26*S26 -> 800000 | U26: 600000 | V26: =IF($E26="재사용",0,1) -> 1 | W26: =U26*V26 -> 600000 | X26: 700000 | Y26: =IF($E26="재사용",0,1) -> 1 | Z26: =X26*Y26 -> 700000
B27: 18 | D27: 핸드레일 | E27: 교체 | F27: 550000 | G27: =IF($E27="재사용",0,1) -> 1 | H27: =F27*G27 -> 550000 | I27: 550000 | J27: =IF($E27="재사용",0,1) -> 1 | K27: =I27*J27 -> 550000 | L27: 750000 | M27: =IF($E27="재사용",0,1) -> 1 | N27: =L27*M27 -> 750000 | O27: 350000 | P27: =IF($E27="재사용",0,1) -> 1 | Q27: =O27*P27 -> 350000 | R27: 250000 | S27: =IF($E27="재사용",0,1) -> 1 | T27: =R27*S27 -> 250000 | U27: 250000 | V27: =IF($E27="재사용",0,1) -> 1 | W27: =U27*V27 -> 250000 | X27: 250000 | Y27: =IF($E27="재사용",0,1) -> 1 | Z27: =X27*Y27 -> 250000
B28: 19 | D28: 자동안내방송장치 | E28: 교체 | F28: 800000 | G28: =IF($E28="재사용",0,1) -> 1 | H28: =F28*G28 -> 800000 | I28: 800000 | J28: =IF($E28="재사용",0,1) -> 1 | K28: =I28*J28 -> 800000 | L28: 800000 | M28: =IF($E28="재사용",0,1) -> 1 | N28: =L28*M28 -> 800000 | O28: 800000 | P28: =IF($E28="재사용",0,1) -> 1 | Q28: =O28*P28 -> 800000 | R28: 600000 | S28: =IF($E28="재사용",0,1) -> 1 | T28: =R28*S28 -> 600000 | U28: 600000 | V28: =IF($E28="재사용",0,1) -> 1 | W28: =U28*V28 -> 600000 | X28: 600000 | Y28: =IF($E28="재사용",0,1) -> 1 | Z28: =X28*Y28 -> 600000
B29: 20 | D29: 카 바닥재 | E29: 교체 | F29: 1000000 | G29: =IF($E29="재사용",0,1) -> 1 | H29: =F29*G29 -> 1000000 | I29: 1000000 | J29: =IF($E29="재사용",0,1) -> 1 | K29: =I29*J29 -> 1000000 | L29: 1000000 | M29: =IF($E29="재사용",0,1) -> 1 | N29: =L29*M29 -> 1000000 | O29: 800000 | P29: =IF($E29="재사용",0,1) -> 1 | Q29: =O29*P29 -> 800000 | R29: 500000 | S29: =IF($E29="재사용",0,1) -> 1 | T29: =R29*S29 -> 500000 | U29: 500000 | V29: =IF($E29="재사용",0,1) -> 1 | W29: =U29*V29 -> 500000 | X29: 500000 | Y29: =IF($E29="재사용",0,1) -> 1 | Z29: =X29*Y29 -> 500000
B30: 21 | D30: 카 주변 CABLE + SWITCH 류 | E30: 교체 | F30: 1800000 | G30: =IF($E30="재사용",0,1) -> 1 | H30: =F30*G30 -> 1800000 | I30: 2000000 | J30: =IF($E30="재사용",0,1) -> 1 | K30: =I30*J30 -> 2000000 | L30: 2400000 | M30: =IF($E30="재사용",0,1) -> 1 | N30: =L30*M30 -> 2400000 | O30: 2400000 | P30: =IF($E30="재사용",0,1) -> 1 | Q30: =O30*P30 -> 2400000 | R30: 1400000 | S30: =IF($E30="재사용",0,1) -> 1 | T30: =R30*S30 -> 1400000 | U30: 1400000 | V30: =IF($E30="재사용",0,1) -> 1 | W30: =U30*V30 -> 1400000 | X30: 1400000 | Y30: =IF($E30="재사용",0,1) -> 1 | Z30: =X30*Y30 -> 1400000
B31: 22 | C31: 로프 | D31: 카 로프 + 로프소켓 | E31: 교체 | F31: 3200000 | G31: =IF($E31="재사용",0,1) -> 1 | H31: =F31*G31 -> 3200000 | I31: 3600000 | J31: =IF($E31="재사용",0,1) -> 1 | K31: =I31*J31 -> 3600000 | L31: 3800000 | M31: =IF($E31="재사용",0,1) -> 1 | N31: =L31*M31 -> 3800000 | O31: 3800000 | P31: =IF($E31="재사용",0,1) -> 1 | Q31: =O31*P31 -> 3800000 | R31: 2800000 | S31: =IF($E31="재사용",0,1) -> 1 | T31: =R31*S31 -> 2800000 | U31: 2800000 | V31: =IF($E31="재사용",0,1) -> 1 | W31: =U31*V31 -> 2800000 | X31: 2800000 | Y31: =IF($E31="재사용",0,1) -> 1 | Z31: =X31*Y31 -> 2800000
B32: 23 | D32: 조속기 로프 | E32: 교체 | F32: 400000 | G32: =IF($E32="재사용",0,1) -> 1 | H32: =F32*G32 -> 400000 | I32: 440000 | J32: =IF($E32="재사용",0,1) -> 1 | K32: =I32*J32 -> 440000 | L32: 460000 | M32: =IF($E32="재사용",0,1) -> 1 | N32: =L32*M32 -> 460000 | O32: 460000 | P32: =IF($E32="재사용",0,1) -> 1 | Q32: =O32*P32 -> 460000 | R32: 260000 | S32: =IF($E32="재사용",0,1) -> 1 | T32: =R32*S32 -> 260000 | U32: 260000 | V32: =IF($E32="재사용",0,1) -> 1 | W32: =U32*V32 -> 260000 | X32: 260000 | Y32: =IF($E32="재사용",0,1) -> 1 | Z32: =X32*Y32 -> 260000
B33: 24 | D33: 무게보상장치 | E33: 교체 | F33: 380000 | G33: =IF($E33="재사용",0,1) -> 1 | H33: =F33*G33 -> 380000 | I33: 380000 | J33: =IF($E33="재사용",0,1) -> 1 | K33: =I33*J33 -> 380000 | L33: 380000 | M33: =IF($E33="재사용",0,1) -> 1 | N33: =L33*M33 -> 380000 | O33: 380000 | P33: =IF($E33="재사용",0,1) -> 1 | Q33: =O33*P33 -> 380000 | R33: 280000 | S33: =IF($E33="재사용",0,1) -> 1 | T33: =R33*S33 -> 280000 | U33: 280000 | V33: =IF($E33="재사용",0,1) -> 1 | W33: =U33*V33 -> 280000 | X33: 280000 | Y33: =IF($E33="재사용",0,1) -> 1 | Z33: =X33*Y33 -> 280000
B34: 25 | C34: 승강로 | D34: 착상 장치 (POSI+유도판+브래킷) | E34: 교체 | F34: 450000 | G34: =IF($E34="재사용",0,1) -> 1 | H34: =F34*G34 -> 450000 | I34: 490000 | J34: =IF($E34="재사용",0,1) -> 1 | K34: =I34*J34 -> 490000 | L34: 510000 | M34: =IF($E34="재사용",0,1) -> 1 | N34: =L34*M34 -> 510000 | O34: 510000 | P34: =IF($E34="재사용",0,1) -> 1 | Q34: =O34*P34 -> 510000 | R34: 410000 | S34: =IF($E34="재사용",0,1) -> 1 | T34: =R34*S34 -> 410000 | U34: 410000 | V34: =IF($E34="재사용",0,1) -> 1 | W34: =U34*V34 -> 410000 | X34: 410000 | Y34: =IF($E34="재사용",0,1) -> 1 | Z34: =X34*Y34 -> 410000
B35: 26 | D35: 리미트스위치(상하부)+피트스위치 | E35: 교체 | F35: 360000 | G35: =IF($E35="재사용",0,1) -> 1 | H35: =F35*G35 -> 360000 | I35: 360000 | J35: =IF($E35="재사용",0,1) -> 1 | K35: =I35*J35 -> 360000 | L35: 360000 | M35: =IF($E35="재사용",0,1) -> 1 | N35: =L35*M35 -> 360000 | O35: 360000 | P35: =IF($E35="재사용",0,1) -> 1 | Q35: =O35*P35 -> 360000 | R35: 260000 | S35: =IF($E35="재사용",0,1) -> 1 | T35: =R35*S35 -> 260000 | U35: 260000 | V35: =IF($E35="재사용",0,1) -> 1 | W35: =U35*V35 -> 260000 | X35: 260000 | Y35: =IF($E35="재사용",0,1) -> 1 | Z35: =X35*Y35 -> 260000
B36: 27 | D36: 주행 케이블 (TRAVELING CABLE) | E36: 교체 | F36: 2400000 | G36: =IF($E36="재사용",0,1) -> 1 | H36: =F36*G36 -> 2400000 | I36: 2440000 | J36: =IF($E36="재사용",0,1) -> 1 | K36: =I36*J36 -> 2440000 | L36: 2460000 | M36: =IF($E36="재사용",0,1) -> 1 | N36: =L36*M36 -> 2460000 | O36: 2460000 | P36: =IF($E36="재사용",0,1) -> 1 | Q36: =O36*P36 -> 2460000 | R36: 1400000 | S36: =IF($E36="재사용",0,1) -> 1 | T36: =R36*S36 -> 1400000 | U36: 1400000 | V36: =IF($E36="재사용",0,1) -> 1 | W36: =U36*V36 -> 1400000 | X36: 1400000 | Y36: =IF($E36="재사용",0,1) -> 1 | Z36: =X36*Y36 -> 1400000
B37: 28 | D37: 승강로 케이블 (IND/BUTTON + LIMIT) | E37: 교체 | F37: 1200000 | G37: =IF($E37="재사용",0,1) -> 1 | H37: =F37*G37 -> 1200000 | I37: 1240000 | J37: =IF($E37="재사용",0,1) -> 1 | K37: =I37*J37 -> 1240000 | L37: 1260000 | M37: =IF($E37="재사용",0,1) -> 1 | N37: =L37*M37 -> 1260000 | O37: 1260000 | P37: =IF($E37="재사용",0,1) -> 1 | Q37: =O37*P37 -> 1260000 | R37: 1000000 | S37: =IF($E37="재사용",0,1) -> 1 | T37: =R37*S37 -> 1000000 | U37: 1000000 | V37: =IF($E37="재사용",0,1) -> 1 | W37: =U37*V37 -> 1000000 | X37: 1000000 | Y37: =IF($E37="재사용",0,1) -> 1 | Z37: =X37*Y37 -> 1000000
B38: 29 | D38: 피트사다리 | E38: 교체 | F38: 350000 | G38: =IF($E38="재사용",0,1) -> 1 | H38: =F38*G38 -> 350000 | I38: 350000 | J38: =IF($E38="재사용",0,1) -> 1 | K38: =I38*J38 -> 350000 | L38: 350000 | M38: =IF($E38="재사용",0,1) -> 1 | N38: =L38*M38 -> 350000 | O38: 350000 | P38: =IF($E38="재사용",0,1) -> 1 | Q38: =O38*P38 -> 350000 | R38: 250000 | S38: =IF($E38="재사용",0,1) -> 1 | T38: =R38*S38 -> 250000 | U38: 250000 | V38: =IF($E38="재사용",0,1) -> 1 | W38: =U38*V38 -> 250000 | X38: 250000 | Y38: =IF($E38="재사용",0,1) -> 1 | Z38: =X38*Y38 -> 250000
B39: 30 | C39: 출입구 | D39: 승장문턱(교체 필요시) | E39: 교체 | F39: 200000 | G39: =F$7 -> 19 | H39: =F39*G39 -> 3800000 | I39: 200000 | J39: =I$7 -> 23 | K39: =I39*J39 -> 4600000 | L39: 200000 | M39: =L$7 -> 25 | N39: =L39*M39 -> 5000000 | O39: 200000 | P39: =O$7 -> 25 | Q39: =O39*P39 -> 5000000 | R39: 150000 | S39: =R$7 -> 6 | T39: =R39*S39 -> 900000 | U39: 150000 | V39: =U$7 -> 2 | W39: =U39*V39 -> 300000 | X39: 150000 | Y39: =X$7 -> 2 | Z39: =X39*Y39 -> 300000
B40: 31 | D40: 승장도어장치 | E40: 교체 | F40: 480000 | G40: =F$7 -> 19 | H40: =F40*G40 -> 9120000 | I40: 480000 | J40: =I$7 -> 23 | K40: =I40*J40 -> 11040000 | L40: 480000 | M40: =L$7 -> 25 | N40: =L40*M40 -> 12000000 | O40: 480000 | P40: =O$7 -> 25 | Q40: =O40*P40 -> 12000000 | R40: 380000 | S40: =R$7 -> 6 | T40: =R40*S40 -> 2280000 | U40: 380000 | V40: =U$7 -> 2 | W40: =U40*V40 -> 760000 | X40: 380000 | Y40: =X$7 -> 2 | Z40: =X40*Y40 -> 760000
B41: 32 | D41: 승장도어 (1층) | E41: 교체 | F41: 520000 | G41: =IF($E41="재사용",0,1) -> 1 | H41: =F41*G41 -> 520000 | I41: 520000 | J41: =IF($E41="재사용",0,1) -> 1 | K41: =I41*J41 -> 520000 | L41: 620000 | M41: =IF($E41="재사용",0,1) -> 1 | N41: =L41*M41 -> 620000 | O41: 420000 | P41: =IF($E41="재사용",0,1) -> 1 | Q41: =O41*P41 -> 420000 | R41: 320000 | S41: =IF($E41="재사용",0,1) -> 1 | T41: =R41*S41 -> 320000 | U41: 540000 | V41: =IF($E41="재사용",0,1) -> 1 | W41: =U41*V41 -> 540000 | X41: 560000 | Y41: =IF($E41="재사용",0,1) -> 1 | Z41: =X41*Y41 -> 560000
...
