Workbook

Sheet 설계내역서
A1: 설 계 내 역 서 | O1: STmate
A2: 공사명 : (행복마을 가꿈사업) 빈집 정비 및 쉼터 조성(안심통학길 폐가구간) | O2: =MID(CELL("filename",$A$1),FIND("]",CELL("filename",$A$1))+1,LEN(CELL("filename",$A$1))) -> 설계내역서
A3: 공 종 | B3: 명 칭 | C3: 규 격 | D3: 수 량 | E3: 단위 | F3: 합 계 | H3: 재 료 비 | J3: 노 무 비 | L3: 경 비 | N3: 비 고
F4: 단 가 | G4: 금 액 | H4: 단 가 | I4: 금 액 | J4: 단 가 | K4: 금 액 | L4: 단 가 | M4: 금 액
A5: 000 | B5: 순 공 사 비 | O5: ="_x0007_`COD|E4_x0005_`QTY1|1_x0005_`EXI|0_x0005_`ITT|0_x0005_`END|"&ROW(M125)&"_x0005_`" -> _x0007_`COD|E4_x0005_`QTY1|1_x0005_`EXI|0_x0005_`ITT|0_x0005_`END|125_x0005_`
A6: 1. | B6: 토 공 | O6: ="_x0007_`COD|E3_x0005_`QTY1|1_x0005_`EXI|0_x0005_`ITT|0_x0005_`END|"&ROW(M31)&"_x0005_`" -> _x0007_`COD|E3_x0005_`QTY1|1_x0005_`EXI|0_x0005_`ITT|0_x0005_`END|31_x0005_`
A7: 1.01 | B7: 기존구조물철거 | O7: ="_x0007_`COD|E2_x0005_`QTY1|1_x0005_`EXI|0_x0005_`ITT|0_x0005_`END|"&ROW(M17)&"_x0005_`" -> _x0007_`COD|E2_x0005_`QTY1|1_x0005_`EXI|0_x0005_`ITT|0_x0005_`END|17_x0005_`
A8: a | B8: 무근콘크리트깨기 | O8: ="_x0007_`COD|E1_x0005_`QTY1|1_x0005_`EXI|0_x0005_`ITT|0_x0005_`END|"&ROW(M10)&"_x0005_`" -> _x0007_`COD|E1_x0005_`QTY1|1_x0005_`EXI|0_x0005_`ITT|0_x0005_`END|10_x0005_`
A9: a-1 | B9: 무근콘크리트깨기 | C9: T=30Cm 미만 | D9: 14 | E9: M3 | O9: _x0007_`COD|D01687_x0005_`QTY1|1_x0005_`EXI|0_x0005_`IPR|0_x0005_`BLA|F_x0005_`
A10: b | B10: 철근콘크리트깨기 | O10: ="_x0007_`COD|E1_x0005_`QTY1|1_x0005_`EXI|0_x0005_`ITT|0_x0005_`END|"&ROW(M12)&"_x0005_`" -> _x0007_`COD|E1_x0005_`QTY1|1_x0005_`EXI|0_x0005_`ITT|0_x0005_`END|12_x0005_`
A11: b-1 | B11: 철근콘크리트깨기 | C11: T=30Cm 이상 | D11: 2 | E11: M3 | O11: _x0007_`COD|D01830_x0005_`QTY1|1_x0005_`EXI|0_x0005_`IPR|0_x0005_`BLA|F_x0005_`
A12: c | B12: 절삭후 아스팔트덧씌우기 | C12: t=70㎜, B-Type | D12: 4 | E12: ㎡ | O12: _x0007_`COD|D00475_x0005_`QTY1|1_x0005_`EXI|0_x0005_`IPR|0_x0005_`BLA|F_x0005_`
A13: d | B13: 아스팔트 포장절단 | C13: (기 계) | D13: 40 | E13: M | O13: _x0007_`COD|D00801_x0005_`QTY1|1_x0005_`EXI|0_x0005_`IPR|0_x0005_`BLA|F_x0005_`
A14: e | B14: 수목 제거 | O14: ="_x0007_`COD|E1_x0005_`QTY1|1_x0005_`EXI|0_x0005_`ITT|0_x0005_`END|"&ROW(M17)&"_x0005_`" -> _x0007_`COD|E1_x0005_`QTY1|1_x0005_`EXI|0_x0005_`ITT|0_x0005_`END|17_x0005_`
A15: e-1 | B15: 수목 제거 | C15: 흉고 31~41 | D15: 7 | E15: 주 | O15: _x0007_`COD|D04380_x0005_`QTY1|1_x0005_`EXI|1_x0005_`IPR|0_x0005_`BLA|F_x0005_`
A16: e-2 | B16: 수목제거 | C16: 흉고 41~51 | D16: 1 | E16: 주 | O16: _x0007_`COD|D04391_x0005_`QTY1|1_x0005_`EXI|0_x0005_`IPR|0_x0005_`BLA|F_x0005_`
A17: d | B17: 건물철거 | C17: (굴삭기+압쇄기,장애물 제거) | D17: 30 | E17: M3 | O17: _x0007_`COD|D01771_x0005_`QTY1|1_x0005_`EXI|0_x0005_`IPR|0_x0005_`BLA|F_x0005_`
A18: e | B18: 폐기물상차비 | D18: 130 | E18: M3 | O18: _x0007_`COD|D00833_x0005_`QTY1|1_x0005_`EXI|0_x0005_`IPR|0_x0005_`BLA|F_x0005_`
A19: 1.2 | B19: 흙깍기 | O19: ="_x0007_`COD|E2_x0005_`QTY1|1_x0005_`EXI|0_x0005_`ITT|0_x0005_`END|"&ROW(M21)&"_x0005_`" -> _x0007_`COD|E2_x0005_`QTY1|1_x0005_`EXI|0_x0005_`ITT|0_x0005_`END|21_x0005_`
A20: a | B20: 흙깍기(토사) | C20: 백호우0.7㎥ | D20: 32 | E20: M3 | O20: _x0007_`COD|D00978_x0005_`QTY1|1_x0005_`EXI|0_x0005_`IPR|0_x0005_`BLA|F_x0005_`
A21: 1.3 | B21: 순성토 | O21: ="_x0007_`COD|E2_x0005_`QTY1|1_x0005_`EXI|0_x0005_`ITT|0_x0005_`END|"&ROW(M23)&"_x0005_`" -> _x0007_`COD|E2_x0005_`QTY1|1_x0005_`EXI|0_x0005_`ITT|0_x0005_`END|23_x0005_`
A22: a | B22: 순성토(토사) | C22: L=8.8km, 24ton, 강화영상단지 | D22: 45 | E22: M3 | O22: _x0007_`COD|D01673_x0005_`QTY1|1_x0005_`EXI|0_x0005_`IPR|0_x0005_`BLA|F_x0005_`
A23: 1.4 | B23: 흙쌓기 | O23: ="_x0007_`COD|E2_x0005_`QTY1|1_x0005_`EXI|0_x0005_`ITT|0_x0005_`END|"&ROW(M25)&"_x0005_`" -> _x0007_`COD|E2_x0005_`QTY1|1_x0005_`EXI|0_x0005_`ITT|0_x0005_`END|25_x0005_`
A24: a | B24: 흙쌓기 | C24: (백호0.7+콤펙터) | D24: 88 | E24: M3 | O24: _x0007_`COD|D04064_x0005_`QTY1|1_x0005_`EXI|0_x0005_`IPR|0_x0005_`BLA|F_x0005_`
A25: 1.5 | B25: 벌개제근 | O25: ="_x0007_`COD|E2_x0005_`QTY1|1_x0005_`EXI|0_x0005_`ITT|0_x0005_`END|"&ROW(M27)&"_x0005_`" -> _x0007_`COD|E2_x0005_`QTY1|1_x0005_`EXI|0_x0005_`ITT|0_x0005_`END|27_x0005_`
A26: a | B26: 벌개제근 | C26: 벌목, 뿌리뽑기 | D26: 225 | E26: M2 | O26: _x0007_`COD|D01798_x0005_`QTY1|1_x0005_`EXI|0_x0005_`IPR|0_x0005_`BLA|F_x0005_`
A27: 1.6 | B27: 표토제거 | O27: ="_x0007_`COD|E2_x0005_`QTY1|1_x0005_`EXI|0_x0005_`ITT|0_x0005_`END|"&ROW(M29)&"_x0005_`" -> _x0007_`COD|E2_x0005_`QTY1|1_x0005_`EXI|0_x0005_`ITT|0_x0005_`END|29_x0005_`
A28: a | B28: 표토제거 | C28: 답구간 | D28: 225 | E28: ㎡ | O28: _x0007_`COD|D01805_x0005_`QTY1|1_x0005_`EXI|0_x0005_`IPR|0_x0005_`BLA|F_x0005_`
A29: 1.7 | B29: 구조물터파기(토사) | C29: 기계100% | D29: 44 | E29: M3 | O29: _x0007_`COD|D01589_x0005_`QTY1|1_x0005_`EXI|0_x0005_`IPR|0_x0005_`BLA|F_x0005_`
A30: 1.8 | B30: 되메우기및다짐 | C30: (백호0.7+콤펙터) | D30: 26 | E30: M3 | O30: _x0007_`COD|D00983_x0005_`QTY1|1_x0005_`EXI|0_x0005_`IPR|0_x0005_`BLA|F_x0005_`PSKP|1_x0005_`
A49: 2. | B49: 구조물공 | O49: ="_x0007_`COD|E3_x0005_`QTY1|1_x0005_`EXI|0_x0005_`ITT|0_x0005_`END|"&ROW(M55)&"_x0005_`" -> _x0007_`COD|E3_x0005_`QTY1|1_x0005_`EXI|0_x0005_`ITT|0_x0005_`END|55_x0005_`
A50: 2.01 | B50: 토 공 | O50: ="_x0007_`COD|E2_x0005_`QTY1|1_x0005_`EXI|0_x0005_`ITT|0_x0005_`END|"&ROW(M53)&"_x0005_`" -> _x0007_`COD|E2_x0005_`QTY1|1_x0005_`EXI|0_x0005_`ITT|0_x0005_`END|53_x0005_`
A51: a | B51: 구조물터파기(토사) | C51: 기계100% | D51: 41 | E51: M3 | O51: _x0007_`COD|D01589_x0005_`QTY1|1_x0005_`EXI|0_x0005_`IPR|0_x0005_`BLA|F_x0005_`
A52: b | B52: 되메우기및다짐 | C52: (백호0.7+콤펙터) | D52: 25 | E52: M3 | O52: _x0007_`COD|D00983_x0005_`QTY1|1_x0005_`EXI|0_x0005_`IPR|0_x0005_`BLA|F_x0005_`
A53: 2.02 | B53: 산석담장 | C53: W500xH1200 | D53: 23 | E53: M | O53: _x0007_`COD|D04419_x0005_`QTY1|1_x0005_`EXI|0_x0005_`IPR|0_x0005_`BLA|F_x0005_`
A54: 2.03 | B54: 난간기초 | C54: (H=0.9m) | D54: 27 | E54: M | O54: _x0007_`COD|D04470_x0005_`QTY1|1_x0005_`EXI|1_x0005_`IPR|0_x0005_`BLA|F_x0005_`
A55: 3. | B55: 포 장 공 | O55: ="_x0007_`COD|E3_x0005_`QTY1|1_x0005_`EXI|0_x0005_`ITT|0_x0005_`END|"&ROW(M69)&"_x0005_`" -> _x0007_`COD|E3_x0005_`QTY1|1_x0005_`EXI|0_x0005_`ITT|0_x0005_`END|69_x0005_`
A56: 3.01 | B56: 보조기층 | O56: ="_x0007_`COD|E2_x0005_`QTY1|1_x0005_`EXI|0_x0005_`ITT|0_x0005_`END|"&ROW(M58)&"_x0005_`" -> _x0007_`COD|E2_x0005_`QTY1|1_x0005_`EXI|0_x0005_`ITT|0_x0005_`END|58_x0005_`
A57: a | B57: 보조기층포설및다짐 | C57: 기계시공, T=20cm | D57: 23 | E57: ㎥ | O57: _x0007_`COD|D04386_x0005_`QTY1|1_x0005_`EXI|0_x0005_`IPR|0_x0005_`BLA|F_x0005_`
A58: 3.02 | B58: 택코팅 | C58: (RSC-4:30ℓ/a,인력식) | D58: 191 | E58: M2 | O58: _x0007_`COD|D04387_x0005_`QTY1|1_x0005_`EXI|0_x0005_`IPR|0_x0005_`BLA|F_x0005_`
...

Sheet 〓 INITIAL 〓
B2: ※※ 현재 Sheet를 수정 또는 삭제하지 마십시요[수정/삭제시 STmate 데이타로 변환할 수 없습니다] ※※
B4: [Sheet정보] | C4: =ISERROR(SUM(C6:X15,C18:X23)) -> TRUE | D4: =ROW(C24) -> 24
B5: 목차 | C5: Sheet | D5: FPos | E5: ITNAME | F5: NAME | G5: SIZE | H5: QTY | I5: UNIT | J5: SPOS | K5: EPOS | L5: TAMT | M5: TAMOUNT | N5: MAMT | O5: MAMOUNT | P5: LAMT | Q5: LAMOUNT | R5: SAMT | S5: SAMOUNT | T5: AAMT | U5: AAMOUNT | V5: NAMT | W5: NAMOUNT | X5: INFO
B6: 1. 재료비목록표 | C6: =IF(D6="","재료비목록표",MID(D6,FIND("]",D6)+1,LEN(D6))) -> #REF! | D6: =CELL("filename",#REF!) -> #REF! | F6: =HYPERLINK("#"&C6&"!"&ADDRESS(3,COLUMN(#REF!),1),COLUMN(#REF!)) -> #REF! | G6: =HYPERLINK("#"&C6&"!"&ADDRESS(3,COLUMN(#REF!),1),COLUMN(#REF!)) -> #REF! | I6: =HYPERLINK("#"&C6&"!"&ADDRESS(3,COLUMN(#REF!),1),COLUMN(#REF!)) -> #REF! | J6: =HYPERLINK("#"&C6&"!A"&ROW(#REF!),ROW(#REF!)) -> #REF! | K6: =HYPERLINK("#"&C6&"!A"&ROW(#REF!),ROW(#REF!)) -> #REF! | L6: =HYPERLINK("#"&C6&"!"&ADDRESS(3,COLUMN(#REF!),1),COLUMN(#REF!)) -> #REF! | X6: =HYPERLINK("#"&C6&"!"&ADDRESS(3,COLUMN(#REF!),1),COLUMN(#REF!)) -> #REF!
B7: 2. 노무비목록표 | C7: =IF(D7="","노무비목록표",MID(D7,FIND("]",D7)+1,LEN(D7))) -> #REF! | D7: =CELL("filename",#REF!) -> #REF! | F7: =HYPERLINK("#"&C7&"!"&ADDRESS(3,COLUMN(#REF!),1),COLUMN(#REF!)) -> #REF! | G7: =HYPERLINK("#"&C7&"!"&ADDRESS(3,COLUMN(#REF!),1),COLUMN(#REF!)) -> #REF! | I7: =HYPERLINK("#"&C7&"!"&ADDRESS(3,COLUMN(#REF!),1),COLUMN(#REF!)) -> #REF! | J7: =HYPERLINK("#"&C7&"!A"&ROW(#REF!),ROW(#REF!)) -> #REF! | K7: =HYPERLINK("#"&C7&"!A"&ROW(#REF!),ROW(#REF!)) -> #REF! | L7: =HYPERLINK("#"&C7&"!"&ADDRESS(3,COLUMN(#REF!),1),COLUMN(#REF!)) -> #REF! | X7: =HYPERLINK("#"&C7&"!"&ADDRESS(3,COLUMN(#REF!),1),COLUMN(#REF!)) -> #REF!
B8: 3. 경비목록표 | C8: =IF(D8="","경비목록표",MID(D8,FIND("]",D8)+1,LEN(D8))) -> #REF! | D8: =CELL("filename",#REF!) -> #REF! | F8: =HYPERLINK("#"&C8&"!"&ADDRESS(3,COLUMN(#REF!),1),COLUMN(#REF!)) -> #REF! | G8: =HYPERLINK("#"&C8&"!"&ADDRESS(3,COLUMN(#REF!),1),COLUMN(#REF!)) -> #REF! | I8: =HYPERLINK("#"&C8&"!"&ADDRESS(3,COLUMN(#REF!),1),COLUMN(#REF!)) -> #REF! | J8: =HYPERLINK("#"&C8&"!A"&ROW(#REF!),ROW(#REF!)) -> #REF! | K8: =HYPERLINK("#"&C8&"!A"&ROW(#REF!),ROW(#REF!)) -> #REF! | L8: =HYPERLINK("#"&C8&"!"&ADDRESS(3,COLUMN(#REF!),1),COLUMN(#REF!)) -> #REF! | X8: =HYPERLINK("#"&C8&"!"&ADDRESS(3,COLUMN(#REF!),1),COLUMN(#REF!)) -> #REF!
B9: 4. 일식목록표
B10: 5. 환율 및 기초자료 | C10: =IF(D10="","환율및기초자료",MID(D10,FIND("]",D10)+1,LEN(D10))) -> #REF! | D10: =CELL("filename",#REF!) -> #REF! | E10: =HYPERLINK("#"&C10&"!"&ADDRESS(5,COLUMN(#REF!),1),COLUMN(#REF!)) -> #REF! | F10: =HYPERLINK("#"&C10&"!"&ADDRESS(5,COLUMN(#REF!),1),COLUMN(#REF!)) -> #REF! | G10: =HYPERLINK("#"&C10&"!"&ADDRESS(5,COLUMN(#REF!),1),COLUMN(#REF!)) -> #REF! | I10: =HYPERLINK("#"&C10&"!"&ADDRESS(5,COLUMN(#REF!),1),COLUMN(#REF!)) -> #REF! | J10: =HYPERLINK("#"&C10&"!A"&ROW(#REF!),ROW(#REF!)) -> #REF! | K10: =HYPERLINK("#"&C10&"!A"&ROW(#REF!),ROW(#REF!)) -> #REF! | L10: =HYPERLINK("#"&C10&"!"&ADDRESS(5,COLUMN(#REF!),1),COLUMN(#REF!)) -> #REF! | X10: =HYPERLINK("#"&C10&"!"&ADDRESS(5,COLUMN(#REF!),1),COLUMN(#REF!)) -> #REF!
B11: 6. 중기목록표 | C11: =IF(D11="","중기목록표",MID(D11,FIND("]",D11)+1,LEN(D11))) -> #REF! | D11: =CELL("filename",#REF!) -> #REF! | F11: =HYPERLINK("#"&C11&"!"&ADDRESS(3,COLUMN(#REF!),1),COLUMN(#REF!)) -> #REF! | G11: =HYPERLINK("#"&C11&"!"&ADDRESS(3,COLUMN(#REF!),1),COLUMN(#REF!)) -> #REF! | I11: =HYPERLINK("#"&C11&"!"&ADDRESS(3,COLUMN(#REF!),1),COLUMN(#REF!)) -> #REF! | J11: =HYPERLINK("#"&C11&"!A"&ROW(#REF!),ROW(#REF!)) -> #REF! | K11: =HYPERLINK("#"&C11&"!A"&ROW(#REF!),ROW(#REF!)) -> #REF! | L11: =HYPERLINK("#"&C11&"!"&ADDRESS(3,COLUMN(#REF!),1),COLUMN(#REF!)) -> #REF! | N11: =HYPERLINK("#"&C11&"!"&ADDRESS(3,COLUMN(#REF!),1),COLUMN(#REF!)) -> #REF! | P11: =HYPERLINK("#"&C11&"!"&ADDRESS(3,COLUMN(#REF!),1),COLUMN(#REF!)) -> #REF! | R11: =HYPERLINK("#"&C11&"!"&ADDRESS(3,COLUMN(#REF!),1),COLUMN(#REF!)) -> #REF! | X11: =HYPERLINK("#"&C11&"!"&ADDRESS(3,COLUMN(#REF!),1),COLUMN(#REF!)) -> #REF!
B12: 7. 실적단가표
B13: 8. 일위대가목록표
B14: 9. 산출근거목록표 | C14: =IF(D14="","단가산출근거목록표",MID(D14,FIND("]",D14)+1,LEN(D14))) -> #REF! | D14: =CELL("filename",#REF!) -> #REF! | F14: =HYPERLINK("#"&C14&"!"&ADDRESS(3,COLUMN(#REF!),1),COLUMN(#REF!)) -> #REF! | G14: =HYPERLINK("#"&C14&"!"&ADDRESS(3,COLUMN(#REF!),1),COLUMN(#REF!)) -> #REF! | I14: =HYPERLINK("#"&C14&"!"&ADDRESS(3,COLUMN(#REF!),1),COLUMN(#REF!)) -> #REF! | J14: =HYPERLINK("#"&C14&"!A"&ROW(#REF!),ROW(#REF!)) -> #REF! | K14: =HYPERLINK("#"&C14&"!A"&ROW(#REF!),ROW(#REF!)) -> #REF! | L14: =HYPERLINK("#"&C14&"!"&ADDRESS(3,COLUMN(#REF!),1),COLUMN(#REF!)) -> #REF! | N14: =HYPERLINK("#"&C14&"!"&ADDRESS(3,COLUMN(#REF!),1),COLUMN(#REF!)) -> #REF! | P14: =HYPERLINK("#"&C14&"!"&ADDRESS(3,COLUMN(#REF!),1),COLUMN(#REF!)) -> #REF! | R14: =HYPERLINK("#"&C14&"!"&ADDRESS(3,COLUMN(#REF!),1),COLUMN(#REF!)) -> #REF! | X14: =HYPERLINK("#"&C14&"!"&ADDRESS(3,COLUMN(#REF!),1),COLUMN(#REF!)) -> #REF!
B15: 10. 자재단가대비표 | C15: =IF(D15="","자재단가대비표",MID(D15,FIND("]",D15)+1,LEN(D15))) -> #REF! | D15: =CELL("filename",#REF!) -> #REF! | F15: =HYPERLINK("#"&C15&"!"&ADDRESS(4,COLUMN(#REF!),1),COLUMN(#REF!)) -> #REF! | G15: =HYPERLINK("#"&C15&"!"&ADDRESS(4,COLUMN(#REF!),1),COLUMN(#REF!)) -> #REF! | I15: =HYPERLINK("#"&C15&"!"&ADDRESS(4,COLUMN(#REF!),1),COLUMN(#REF!)) -> #REF! | J15: =HYPERLINK("#"&C15&"!A"&ROW(#REF!),ROW(#REF!)) -> #REF! | K15: =HYPERLINK("#"&C15&"!A"&ROW(#REF!),ROW(#REF!)) -> #REF! | L15: =HYPERLINK("#"&C15&"!"&ADDRESS(4,COLUMN(#REF!),1),COLUMN(#REF!)) -> #REF! | M15: =HYPERLINK("#"&C15&"!"&ADDRESS(4,COLUMN(#REF!),1),COLUMN(#REF!)) -> #REF! | N15: =HYPERLINK("#"&C15&"!"&ADDRESS(4,COLUMN(#REF!),1),COLUMN(#REF!)) -> #REF! | O15: =HYPERLINK("#"&C15&"!"&ADDRESS(4,COLUMN(#REF!),1),COLUMN(#REF!)) -> #REF! | P15: =HYPERLINK("#"&C15&"!"&ADDRESS(4,COLUMN(#REF!),1),COLUMN(#REF!)) -> #REF! | Q15: =HYPERLINK("#"&C15&"!"&ADDRESS(4,COLUMN(#REF!),1),COLUMN(#REF!)) -> #REF! | R15: =HYPERLINK("#"&C15&"!"&ADDRESS(4,COLUMN(#REF!),1),COLUMN(#REF!)) -> #REF! | S15: =HYPERLINK("#"&C15&"!"&ADDRESS(4,COLUMN(#REF!),1),COLUMN(#REF!)) -> #REF! | T15: =HYPERLINK("#"&C15&"!"&ADDRESS(4,COLUMN(#REF!),1),COLUMN(#REF!)) -> #REF! | U15: =HYPERLINK("#"&C15&"!"&ADDRESS(4,COLUMN(#REF!),1),COLUMN(#REF!)) -> #REF! | V15: =HYPERLINK("#"&C15&"!"&ADDRESS(4,COLUMN(#REF!),1),COLUMN(#REF!)) -> #REF! | W15: =HYPERLINK("#"&C15&"!"&ADDRESS(4,COLUMN(#REF!),1),COLUMN(#REF!)) -> #REF! | X15: =HYPERLINK("#"&C15&"!"&ADDRESS(4,COLUMN(#REF!),1),COLUMN(#REF!)) -> #REF!
B16: 11. 내역서 | C16: =IF(D16="","설계내역서",MID(D16,FIND("]",D16)+1,LEN(D16))) -> 설계내역서 | D16: =CELL("filename",설계내역서!A1) -> D:\계약관련\입찰 추진\2026년\(행복마을 가꿈사업)빈집정비 및 쉼터조성(안심통학길 폐가구간) 공사\[물량내역서((행복마을 가꿈사업)빈집정비 및 쉼터조성(안심통학길 폐가구간) 공사).xlsx]설계내역서 | E16: =HYPERLINK("#"&C16&"!"&ADDRESS(4,COLUMN(설계내역서!A1),1),COLUMN(설계내역서!A1)) -> 1 | F16: =HYPERLINK("#"&C16&"!"&ADDRESS(4,COLUMN(설계내역서!B1),1),COLUMN(설계내역서!B1)) -> 2 | G16: =HYPERLINK("#"&C16&"!"&ADDRESS(4,COLUMN(설계내역서!C1),1),COLUMN(설계내역서!C1)) -> 3 | H16: =HYPERLINK("#"&C16&"!"&ADDRESS(4,COLUMN(설계내역서!D1),1),COLUMN(설계내역서!D1)) -> 4 | I16: =HYPERLINK("#"&C16&"!"&ADDRESS(4,COLUMN(설계내역서!E1),1),COLUMN(설계내역서!E1)) -> 5 | J16: =HYPERLINK("#"&C16&"!A"&ROW(설계내역서!A5),ROW(설계내역서!A5)) -> 5 | K16: =HYPERLINK("#"&C16&"!A"&ROW(설계내역서!A159),ROW(설계내역서!A159)) -> 159 | L16: =HYPERLINK("#"&C16&"!"&ADDRESS(4,COLUMN(설계내역서!F1),1),COLUMN(설계내역서!F1)) -> 6 | M16: =HYPERLINK("#"&C16&"!"&ADDRESS(4,COLUMN(설계내역서!G1),1),COLUMN(설계내역서!G1)) -> 7 | N16: =HYPERLINK("#"&C16&"!"&ADDRESS(4,COLUMN(설계내역서!H1),1),COLUMN(설계내역서!H1)) -> 8 | O16: =HYPERLINK("#"&C16&"!"&ADDRESS(4,COLUMN(설계내역서!I1),1),COLUMN(설계내역서!I1)) -> 9 | P16: =HYPERLINK("#"&C16&"!"&ADDRESS(4,COLUMN(설계내역서!J1),1),COLUMN(설계내역서!J1)) -> 10 | Q16: =HYPERLINK("#"&C16&"!"&ADDRESS(4,COLUMN(설계내역서!K1),1),COLUMN(설계내역서!K1)) -> 11 | R16: =HYPERLINK("#"&C16&"!"&ADDRESS(4,COLUMN(설계내역서!L1),1),COLUMN(설계내역서!L1)) -> 12 | S16: =HYPERLINK("#"&C16&"!"&ADDRESS(4,COLUMN(설계내역서!M1),1),COLUMN(설계내역서!M1)) -> 13 | X16: =HYPERLINK("#"&C16&"!"&ADDRESS(4,COLUMN(설계내역서!O1),1),COLUMN(설계내역서!O1)) -> 15
B17: 12. 총괄내역서 | C17: =IF(D17="","총괄내역서",MID(D17,FIND("]",D17)+1,LEN(D17))) -> #REF! | D17: =CELL("filename",#REF!) -> #REF! | E17: =HYPERLINK("#"&C17&"!"&ADDRESS(3,COLUMN(#REF!),1),COLUMN(#REF!)) -> #REF! | F17: =HYPERLINK("#"&C17&"!"&ADDRESS(3,COLUMN(#REF!),1),COLUMN(#REF!)) -> #REF! | G17: =HYPERLINK("#"&C17&"!"&ADDRESS(3,COLUMN(#REF!),1),COLUMN(#REF!)) -> #REF! | I17: =HYPERLINK("#"&C17&"!"&ADDRESS(3,COLUMN(#REF!),1),COLUMN(#REF!)) -> #REF! | J17: =HYPERLINK("#"&C17&"!A"&ROW(#REF!),ROW(#REF!)) -> #REF! | K17: =HYPERLINK("#"&C17&"!A"&ROW(#REF!),ROW(#REF!)) -> #REF! | L17: =HYPERLINK("#"&C17&"!"&ADDRESS(3,COLUMN(#REF!),1),COLUMN(#REF!)) -> #REF! | M17: =HYPERLINK("#"&C17&"!"&ADDRESS(3,COLUMN(#REF!),1),COLUMN(#REF!)) -> #REF! | N17: =HYPERLINK("#"&C17&"!"&ADDRESS(3,COLUMN(#REF!),1),COLUMN(#REF!)) -> #REF! | O17: =HYPERLINK("#"&C17&"!"&ADDRESS(3,COLUMN(#REF!),1),COLUMN(#REF!)) -> #REF! | P17: =HYPERLINK("#"&C17&"!"&ADDRESS(3,COLUMN(#REF!),1),COLUMN(#REF!)) -> #REF! | Q17: =HYPERLINK("#"&C17&"!"&ADDRESS(3,COLUMN(#REF!),1),COLUMN(#REF!)) -> #REF! | X17: =HYPERLINK("#"&C17&"!"&ADDRESS(3,COLUMN(#REF!),1),COLUMN(#REF!)) -> #REF!
B18: 13. 중기사용료 | C18: =IF(D18="","중기사용료",MID(D18,FIND("]",D18)+1,LEN(D18))) -> #REF! | D18: =CELL("filename",#REF!) -> #REF! | F18: =HYPERLINK("#"&C18&"!"&ADDRESS(4,COLUMN(#REF!),1),COLUMN(#REF!)) -> #REF! | G18: =HYPERLINK("#"&C18&"!"&ADDRESS(4,COLUMN(#REF!),1),COLUMN(#REF!)) -> #REF! | H18: =HYPERLINK("#"&C18&"!"&ADDRESS(4,COLUMN(#REF!),1),COLUMN(#REF!)) -> #REF! | I18: =HYPERLINK("#"&C18&"!"&ADDRESS(4,COLUMN(#REF!),1),COLUMN(#REF!)) -> #REF! | J18: =HYPERLINK("#"&C18&"!A"&ROW(#REF!),ROW(#REF!)) -> #REF! | K18: =HYPERLINK("#"&C18&"!A"&ROW(#REF!),ROW(#REF!)) -> #REF! | L18: =HYPERLINK("#"&C18&"!"&ADDRESS(4,COLUMN(#REF!),1),COLUMN(#REF!)) -> #REF! | M18: =HYPERLINK("#"&C18&"!"&ADDRESS(4,COLUMN(#REF!),1),COLUMN(#REF!)) -> #REF! | N18: =HYPERLINK("#"&C18&"!"&ADDRESS(4,COLUMN(#REF!),1),COLUMN(#REF!)) -> #REF! | O18: =HYPERLINK("#"&C18&"!"&ADDRESS(4,COLUMN(#REF!),1),COLUMN(#REF!)) -> #REF! | P18: =HYPERLINK("#"&C18&"!"&ADDRESS(4,COLUMN(#REF!),1),COLUMN(#REF!)) -> #REF! | Q18: =HYPERLINK("#"&C18&"!"&ADDRESS(4,COLUMN(#REF!),1),COLUMN(#REF!)) -> #REF! | R18: =HYPERLINK("#"&C18&"!"&ADDRESS(4,COLUMN(#REF!),1),COLUMN(#REF!)) -> #REF! | S18: =HYPERLINK("#"&C18&"!"&ADDRESS(4,COLUMN(#REF!),1),COLUMN(#REF!)) -> #REF! | X18: =HYPERLINK("#"&C18&"!"&ADDRESS(4,COLUMN(#REF!),1),COLUMN(#REF!)) -> #REF!
B19: 14. 일위대가표
B20: 15. 단가산출근거 | C20: =IF(D20="","단가산출근거",MID(D20,FIND("]",D20)+1,LEN(D20))) -> #REF! | D20: =CELL("filename",#REF!) -> #REF! | E20: =HYPERLINK("#"&C20&"!"&ADDRESS(4,COLUMN(#REF!),1),COLUMN(#REF!)) -> #REF! | F20: =HYPERLINK("#"&C20&"!"&ADDRESS(4,COLUMN(#REF!),1),COLUMN(#REF!)) -> #REF! | J20: =HYPERLINK("#"&C20&"!A"&ROW(#REF!),ROW(#REF!)) -> #REF! | K20: =HYPERLINK("#"&C20&"!A"&ROW(#REF!),ROW(#REF!)) -> #REF! | L20: =HYPERLINK("#"&C20&"!"&ADDRESS(4,COLUMN(#REF!),1),COLUMN(#REF!)) -> #REF! | N20: =HYPERLINK("#"&C20&"!"&ADDRESS(4,COLUMN(#REF!),1),COLUMN(#REF!)) -> #REF! | P20: =HYPERLINK("#"&C20&"!"&ADDRESS(4,COLUMN(#REF!),1),COLUMN(#REF!)) -> #REF! | R20: =HYPERLINK("#"&C20&"!"&ADDRESS(4,COLUMN(#REF!),1),COLUMN(#REF!)) -> #REF! | X20: =HYPERLINK("#"&C20&"!"&ADDRESS(4,COLUMN(#REF!),1),COLUMN(#REF!)) -> #REF!
B21: 16.
B22: 17.
B23: 18. 표준시장목록표
B24: [공사정보] | D24: =ROW(C33) -> 33
B25: M_DVER | C25: 26.03
B26: PNAME | C26: 행복마을 안심통학길 보행환경 개선 공사(폐가구간)
B27: PCLAS | C27: 0
B28: SCLAS | C28: 0
B29: K_ORD | C29: 0
B30: PRIPR | C30: True
B31: ACTYP | C31: 1
B32: ACTOP | C32: 2
B33: [초기값] | D33: =ROW(C52) -> 52
B34: P_ORD | C34: 1 | D34: 1 | E34: 0 | F34: 0 | G34: 0 | H34: 0
B35: EXNM_ | C35: =#REF! -> #REF! | D35: =#REF! -> #REF! | E35: =#REF! -> #REF! | F35: =#REF! -> #REF! | G35: =#REF! -> #REF! | H35: =#REF! -> #REF! | I35: =#REF! -> #REF! | J35: =#REF! -> #REF!
B36: EXRNM | C36: True
B37: RXNM_ | C37: 1/8 * 16/12 * 25/20 | D37: 25/20 * 16/12 * 1/8
B38: COND_ | C38: L00048L00049L00050
B39: KCDNM | C39: 1
B40: JCDNM | C40: 1
B41: ECDNM | C41: 0
B42: ACDNM | C42: 1
...
