Workbook
Name _??1????: '[1]일위대가(계측기설치)'!#REF!
Name _??2????: '[1]일위대가(계측기설치)'!#REF!
Name _??3????: '[1]일위대가(계측기설치)'!#REF!
Name _??4????: '[1]일위대가(계측기설치)'!#REF!
Name _??5????: '[1]일위대가(계측기설치)'!#REF!
Name _??6????: '[1]일위대가(계측기설치)'!#REF!
Name __: #REF!
Name ___: #REF!
Name ____: #REF!
Name _____: #REF!
Name ______: #REF!
Name _______: #REF!
Name __________: #REF!
Name _____________0: #REF!
Name _____________11: #REF!
Name _____________12: #REF!
Name __________0: #REF!
Name __________11: #REF!
Name __________12: #REF!
Name _________0: #REF!
Name _________10: #REF!
Name _________11: #REF!
Name _________12: #REF!
Name ________0: #REF!
Name ________10: #REF!
Name ________11: #REF!
Name ________12: #REF!
Name _______0: #REF!
Name _______DOG1: #REF!
Name _______DOG2: #REF!
Name _______DOG3: #REF!
Name _______DOG4: #REF!
Name _______PI48: #REF!
Name _______PI60: #REF!
Name _______RO110: #REF!
Name _______RO22: #REF!
Name _______RO35: #REF!
Name _______RO60: #REF!
Name _______RO80: #REF!
Name _______TON1: #REF!
Name _______TON2: #REF!
Name _______WW2: #REF!
Name _______WW6: #REF!
Name ______0: #REF!
Name ______11: #REF!
Name ______12: #REF!
Name ______DOG1: #REF!
Name ______DOG2: #REF!
Name ______DOG3: #REF!
Name ______DOG4: #REF!
Name ______PI48: #REF!
Name ______PI60: #REF!
Name ______RO110: #REF!
Name ______RO22: #REF!
Name ______RO35: #REF!
Name ______RO60: #REF!
Name ______RO80: #REF!
Name ______TON1: #REF!
Name ______TON2: #REF!
Name ______WW2: #REF!

Sheet 겉표지
A1: =표지!A1 -> 見 積 書 | Z1: 견적가로형식-1
C18: 件 名: | D18: =표지!C13 -> 순천남산초등학교 승압시설개선 전기공사
C20: 提 出 處: | D20: =표지!C4 -> 貴下
C22: 提 出 日: | D22: =표지!C6 -> 2025년 4월 16일
D36: =표지!I3 -> 대 한 민 국 주 식 회 사
D37: =표지!I4
D38: =표지!I5 -> ㅇ ㅇ 시 ㅇ ㅇ 구 ㅇ ㅇ 동
D39: =표지!I6
D40: =표지!I7 -> 대표이사 홍 길 동
D41: =표지!I8
D42: =표지!I9 -> 대표전화 (02) 0 0 0 - 0 0 0 0
D43: =표지!I10
D44: =표지!I11 -> 팩 스 (02) 0 0 0 - 0 0 0 0
D45: =표지!I12
D46: =표지!I13

Sheet 표지
A1: 見 積 書
I3: 대 한 민 국 주 식 회 사
B4: 제 출 처: | C4: 貴下
I5: ㅇ ㅇ 시 ㅇ ㅇ 구 ㅇ ㅇ 동
B6: 제 출 일: | C6: 2025년 4월 16일
I7: 대표이사 홍 길 동
B8: 아래와 같이 見積書를 제출합니다.
I9: 대표전화 (02) 0 0 0 - 0 0 0 0
I11: 팩 스 (02) 0 0 0 - 0 0 0 0
B13: 공 사 명: | C13: 순천남산초등학교 승압시설개선 전기공사
B15: 공사금액: | C15: ="一金"&NUMBERSTRING(F40,2)&"원整("&DOLLAR(F40,0)&")" -> #REF!
B17: 내 용 | D17: 단위 | E17: 수량 | F17: 금 액 | H17: 비 고 | M17: 요율 | N17: 금액 | O17: 이윤 | P17: 끝자리맞추기
B18: 재 료 비 | D18: 식 | E18: 1 | F18: =옵션!$B$2 -> #REF! | N18: =E18*F18 -> #REF!
B19: 노 무 비 | D19: 식 | E19: 1 | F19: =옵션!$C$2 -> #REF! | N19: =E19*F19 -> #REF!
B20: 간 접 노 무 비 | D20: 식 | E20: 1 | F20: =TRUNC((F19)*M20/100) -> #REF! | H20: (직접 노무비) * 7.9 % | M20: 7.9 | N20: =E20*F20 -> #REF!
B21: ( 소 계 ) | F21: =SUM(F18:F20) -> #REF! | N21: =E21*F21 -> #REF!
B22: 산 재 보 험 료 | D22: 식 | E22: 1 | F22: =TRUNC((F19+F20)*M22/100) -> #REF! | H22: (노무비) * 3.73 % | M22: 3.73 | N22: =E22*F22 -> #REF!
B23: 고 용 보 험 료 | D23: 식 | E23: 1 | F23: =TRUNC((F19+F20)*M23/100) -> #REF! | H23: (노무비) * 0.87 % | M23: 0.87 | N23: =E23*F23 -> #REF!
B24: 건 강 보 험 료 | D24: 식 | E24: 1 | F24: =TRUNC((F19)*M24/100) -> #REF! | H24: (직접 노무비) * 3.3335 % | M24: 3.3335 | N24: =E24*F24 -> #REF!
B25: 연 금 보 험 료 | D25: 식 | E25: 1 | F25: =TRUNC((F19)*M25/100) -> #REF! | H25: (직접 노무비) * 4.5 % | M25: 4.5 | N25: =E25*F25 -> #REF!
B26: 퇴 직 금 공 제 | D26: 식 | E26: 1 | F26: =TRUNC((F19)*M26/100) -> #REF! | H26: (직접 노무비) * 2.3 % | M26: 2.3 | N26: =E26*F26 -> #REF!
B27: 안 전 관 리 비 | D27: 식 | E27: 1 | F27: =TRUNC((F18+F19)*M27/100) -> #REF! | H27: (재료+직노) * 2.93 % | M27: 2.93 | N27: =E27*F27 -> #REF!
B28: 기 타 경 비 | D28: 식 | E28: 1 | F28: =TRUNC((F21)*M28/100) -> #REF! | H28: (재료+노무) * 5.8 % | M28: 5.8 | N28: =E28*F28 -> #REF!
B29: 노인장기요양보험 | D29: 식 | E29: 1 | F29: =TRUNC((F24)*M29/100) -> #REF! | H29: (건강 보험료) * 10.25 % | M29: 10.25 | N29: =E29*F29 -> #REF!
B30: ( 소 계 ) | F30: =SUM(F22:F29) -> #REF! | N30: =E30*F30 -> #REF!
B31: 일 반 관 리 비 | D31: 식 | E31: 1 | F31: =TRUNC((F21+F30)*M31/100) -> #REF! | H31: (재료+노무+경비) * 6 % | M31: 6 | N31: =E31*F31 -> #REF!
B32: 이 윤 | D32: 식 | E32: 1 | F32: =O32-((SUM(N18:N31)+O32-TRUNC((SUM(N18:N31)+O32)/P32)*P32)) -> #REF! | H32: (노무+경비+일반관리비) * 15 % | M32: 15 | N32: =E32*F32 -> #REF! | O32: =TRUNC((F19+F20+F30+F31)*M32/100) -> #REF! | P32: 100000
B33: ( 총 원 가 ) | F33: =SUM(N18:N32) -> #REF! | N33: =E33*F33 -> #REF!
B34: 부 가 가 치 세 | D34: 식 | E34: 1 | F34: =TRUNC((F33)*M34/100) -> #REF! | M34: 10 | N34: =E34*F34 -> #REF!
N35: =E35*F35 -> 0
N36: =E36*F36 -> 0
N37: =E37*F37 -> 0
N38: =E38*F38 -> 0
N39: =E39*F39 -> 0
B40: ( 총 계 ) | F40: =N40 -> #REF! | N40: =SUM(N18:N39) -> #REF!
B41: 1. 부가가치세 별도
B42: 2. 한전불입금 별도

Sheet 내역서
A1: 총줄수-> | B1: 367 | C1: 2.0 | D1: [ 신대초 통합배선반 교체 통신공사 ] | W1: 노임 계산 정보 | AA1: 부속재 및 손료
A2: 번호 | B2: 공종코드 | C2: 코드 | D2: 명 칭 | E2: 규 격 | F2: 단위 | G2: 수량 | Q2: 비고 | W2: 노임계 | X2: 전체(%) | Y2: 공종별(%) | Z2: 노임 소수 | AA2: CD배관재 | AB2: 일반배관재 | AC2: 소모재 | AD2: 자재계 | AE2: 노임계
AD3: 1 | AE3: 1
A4: E1450927204 | B4: 01 | C4: 2612152420683698 | D4: 01. 통신간선설비공사 | AC4: 0
A5: E1450927205 | B5: 01 | C5: 2612152420683699 | D5: 전선덕트 | E5: PVC 30x40x2000 mm | F5: 개 | G5: 4 | AC5: 0
A6: E1450927206 | B6: 01 | C6: 2612152420683700 | D6: 광케이블 | E6: 4C SM(싱글모드) | F6: M | G6: 217 | AC6: 0
A7: E1450927208 | B7: 01 | C7: 2612152420683701 | D7: 광케이블 | E7: 8C SM(싱글모드) | F7: M | G7: 129 | AC7: 0
A8: E1450927209 | B8: 01 | C8: 2612152420683702 | D8: 철거자재 | E8: FDF 8C | F8: 개 | G8: 2 | Q8: 철거자재 | AC8: 0
A9: E1450927212 | B9: 01 | C9: 2612152420683704 | D9: 철거자재 | E9: FDF 80C | F9: 개 | G9: 4 | Q9: 철거자재 | AC9: 0
A10: E1450287505 | B10: 01 | C10: 2612162920683886 | D10: 철거자재 | E10: OPTICAL S/W HUB 24PORT | F10: 개 | G10: 4 | Q10: 철거자재 | AC10: 0
A11: E1450287508 | B11: 01 | C11: 2612162920683888 | D11: 철거자재 | E11: RACK CABINET | F11: 대 | G11: 2 | Q11: 철거자재 | AC11: 0
A12: E1450287571 | B12: 01 | C12: 2612162920683951 | D12: 철거자재 | E12: 키폰주장치 | F12: 대 | G12: 1 | Q12: 철거자재 | AC12: 0
A13: E1450287572 | B13: 01 | C13: 2612162920683952 | D13: 철거재설치 | E13: POE S/W HUB 24PORT, 4SFP(AP) | F13: 개 | G13: 2 | Q13: 철거재설치 | AC13: 0
A14: E1450287515 | B14: 01 | C14: 2612162920683894 | D14: UTP LINK TEST | F14: PORT | G14: 328 | Q14: 제 02호 | AC14: 0
A15: E1450287565 | B15: 01 | C15: 2612162920683947 | D15: 기존 케이블 정리 및 불필요 케이블 철거(통신장비 포함) | F15: 식 | G15: 1 | Q15: 제 03호 | AC15: 0
A16: E1450287568 | B16: 01 | C16: 2612162920683949 | D16: [ 소모 잡자재 ] | E16: 전선, 전선관의 2 % | F16: 식 | G16: 1 | AC16: 0
A17: E1450358044 | B17: 01 | C17: 2612160320684228 | D17: 노 무 비 | E17: 통신내선공 | F17: 인 | G17: 3 | AC17: 0
A18: MM300005606 | B18: 01 | C18: 3912110121653910 | D18: 노 무 비 | E18: 광케이블설치사 | F18: 인 | G18: 2
A19: 59301237121 | B19: 01 | C19: 3912110520170388 | D19: 노 무 비 | E19: 특별인부 | F19: 인 | G19: 1
A20: MM300013712 | B20: 01 | C20: 3912157220172313 | D20: [ 공 구 손 료 ] | E20: 노무비의 3 % | F20: 식 | G20: 1
G28: 0
D29: 합 계
A30: E1450927204 | B30: 01 | C30: 2612152420683698 | D30: 02. 통신설비공사(TEL, LAN) | AC30: 0
D31: 1종금속제가요전선관 | E31: 16 mm 일반-비방수 | F31: M | G31: 65
D32: 1종금속제가요전선관 | E32: 22 mm 일반-비방수 | F32: M | G32: 1150
D33: 1종금속제가요전선관 | E33: 28 mm 일반-비방수 | F33: M | G33: 710
D34: 1종금속제가요전선관 | E34: 36 mm 일반-비방수 | F34: M | G34: 11
D35: 아우트렛박스 | E35: 8각 54㎜ | F35: 개 | G35: 61
D36: PVC BOX SW 1G | E36: SW 1구 | F36: 개 | G36: 1
D37: 아우트렛박스 커버 | E37: 커버, 8각, 평형 | F37: 개 | G37: 61
D38: 아우트렛박스 커버 | E38: 커버, 4각, 평형 | F38: 개 | G38: 79
D39: PVC MOLD 고강도 | E39: 04호 51MM x 19MM | F39: M | G39: 318
D40: UTP 케이블 | E40: Cat.6 0.5mm 4P | F40: M | G40: 15597
D41: 모듈라짹 | E41: 매입용, Cat.6 2구 | F41: 개 | G41: 1
D42: 철거재설치 | E42: 모듈러잭 2PORT | F42: 개 | G42: 227 | Q42: 철거재설치
D43: 배관용구멍뚫기(코어드릴기준) | E43: 벽면￠50 | F43: 개소 | G43: 86 | Q43: 제 01호
D44: [ 소모 잡자재 ] | E44: 전선, 전선관의 2 % | F44: 식 | G44: 1
D45: 노 무 비 | E45: 통신내선공 | F45: 인 | G45: 208
D46: [ 공 구 손 료 ] | E46: 노무비의 3 % | F46: 식 | G46: 1
D55: ( 합 계 )
A56: E1450927204 | B56: 01 | C56: 2612152420683698 | D56: 03. 통신전원설비공사 | AC56: 0
D57: 1종금속제가요전선관 | E57: 22 mm 고장력-방수 | F57: M | G57: 6
D58: PVC BOX SW 1G | E58: SW 1구 | F58: 개 | G58: 11
D59: 폴리에틸렌 난연케이블 | E59: 0.6/1kv F-CV 3C×4㎟ | F59: M | G59: 28
D60: 콘센트 | E60: 매입-접지형, 250V 2구 | F60: 개 | G60: 11
D61: [ 소모 잡자재 ] | E61: 전선, 전선관의 2 % | F61: 식 | G61: 1
D62: 노 무 비 | E62: 통신내선공 | F62: 인 | G62: 3
D63: [ 공 구 손 료 ] | E63: 노무비의 3 % | F63: 식 | G63: 1
D81: ( 합 계 )

Sheet 합산자재
B1: 81 | C1: [ 순천남산초등학교 승압시설개선 전기공사 ] - 합산자재목록
A2: 번호 | B2: … | C2: 코드 | D2: 명 칭 | E2: 규 격 | F2: 단위 | G2: 수량 | H2: 재료비 | I2: 노무비 | J2: 경비 | K2: 지급비 | L2: 계 | M2: 비고
B4: E1450927204 | C4: 2612152420683698 | D4: 접지용비닐절연전선(F-GV) | E4: 10㎟ | F4: M | G4: 22 | H4: =ROUNDDOWN(#REF!*옵션!$D$11, 0) -> #REF! | L4: =SUM(H4,I4,J4) -> #REF!
B5: E1450927205 | C5: 2612152420683699 | D5: 접지용비닐절연전선(F-GV) | E5: 16㎟ | F5: M | G5: 55 | H5: =ROUNDDOWN(#REF!*옵션!$D$11, 0) -> #REF! | L5: =SUM(H5,I5,J5) -> #REF!
B6: E1450927206 | C6: 2612152420683700 | D6: 접지용비닐절연전선(F-GV) | E6: 25㎟ | F6: M | G6: 44 | H6: =ROUNDDOWN(#REF!*옵션!$D$11, 0) -> #REF! | L6: =SUM(H6,I6,J6) -> #REF!
B7: E1450927208 | C7: 2612152420683701 | D7: 접지용비닐절연전선(F-GV) | E7: 35㎟ | F7: M | G7: 88 | H7: =ROUNDDOWN(#REF!*옵션!$D$11, 0) -> #REF! | L7: =SUM(H7,I7,J7) -> #REF!
B8: E1450927209 | C8: 2612152420683702 | D8: 접지용비닐절연전선(F-GV) | E8: 50㎟ | F8: M | G8: 44 | H8: =ROUNDDOWN(#REF!*옵션!$D$11, 0) -> #REF! | L8: =SUM(H8,I8,J8) -> #REF!
B9: E1450927211 | C9: 2612152420683703 | D9: 접지용비닐절연전선(F-GV) | E9: 70㎟ | F9: M | G9: 17 | H9: =ROUNDDOWN(#REF!*옵션!$D$11, 0) -> #REF! | L9: =SUM(H9,I9,J9) -> #REF!
B10: E1450927212 | C10: 2612152420683704 | D10: 접지용비닐절연전선(F-GV) | E10: 95㎟ | F10: M | G10: 33 | H10: =ROUNDDOWN(#REF!*옵션!$D$11, 0) -> #REF! | L10: =SUM(H10,I10,J10) -> #REF!
B11: E1450287505 | C11: 2612162920683886 | D11: 폴리에틸렌 난연케이블 | E11: 0.6/1kv F-CV 1C×16㎟ | F11: M | G11: 168 | H11: =ROUNDDOWN(#REF!*옵션!$D$11, 0) -> #REF! | L11: =SUM(H11,I11,J11) -> #REF!
B12: E1450287508 | C12: 2612162920683888 | D12: 폴리에틸렌 난연케이블 | E12: 0.6/1kv F-CV 1C×35㎟ | F12: M | G12: 84 | H12: =ROUNDDOWN(#REF!*옵션!$D$11, 0) -> #REF! | L12: =SUM(H12,I12,J12) -> #REF!
B13: E1450287515 | C13: 2612162920683894 | D13: 폴리에틸렌 난연케이블 | E13: 0.6/1kv F-CV 1C×185㎟ | F13: M | G13: 84 | H13: =ROUNDDOWN(#REF!*옵션!$D$11, 0) -> #REF! | L13: =SUM(H13,I13,J13) -> #REF!
B14: E1450287565 | C14: 2612162920683947 | D14: 폴리에틸렌 난연케이블 | E14: 0.6/1kv F-CV 4C×16㎟ | F14: M | G14: 22 | H14: =ROUNDDOWN(#REF!*옵션!$D$11, 0) -> #REF! | L14: =SUM(H14,I14,J14) -> #REF!
B15: E1450287568 | C15: 2612162920683949 | D15: 폴리에틸렌 난연케이블 | E15: 0.6/1kv F-CV 4C×35㎟ | F15: M | G15: 22 | H15: =ROUNDDOWN(#REF!*옵션!$D$11, 0) -> #REF! | L15: =SUM(H15,I15,J15) -> #REF!
... B44: MM024767394 | C44: 391115ZZ701Z0004 | D44: 수배전반 | E44: 700KVA | F44: 개 | G44: 1 | H44: =ROUNDDOWN(#REF!*옵션!$D$11, 0) -> #REF! | L44: =SUM(H44,I44,J44) -> #REF!
B45: MM000946941 | C45: 391115ZZ701Z0005 | D45: 준공표지판 | F45: 개 | G45: 1 | H45: =ROUNDDOWN(#REF!*옵션!$D$11, 0) -> #REF! | L45: =SUM(H45,I45,J45) -> #REF!
B46: MM024767397 | C46: 391115ZZ701Z0006 | D46: 철거자재 | E46: 기존분전반 | F46: 면 | G46: 2 | H46: =ROUNDDOWN(#REF!*옵션!$D$11, 0) -> #REF! | L46: =SUM(H46,I46,J46) -> #REF!
B47: MM024767398 | C47: 391115ZZ701Z0007 | D47: 철거재설치 | E47: 기존CABLE TRAY | F47: M | G47: 5 | H47: =ROUNDDOWN(#REF!*옵션!$D$11, 0) -> #REF! | L47: =SUM(H47,I47,J47) -> #REF!
B48: CA565826248 | C48: ECA565826248 | D48: 합판거푸집 3회 | F48: ㎡ | G48: 1 | H48: =#REF! -> #REF! | I48: =#REF! -> #REF! | J48: =#REF! -> #REF! | L48: =SUM(H48,I48,J48) -> #REF! | M48: 물정사이트
B49: 56900017016 | C49: L001010101000075 | D49: 노 무 비 | E49: 내선전공 | F49: 인 | G49: 2 | I49: =ROUNDDOWN(#REF!, 0) -> #REF! | L49: =SUM(H49,I49,J49) -> #REF!
B50: 56900017076 | C50: L001010101000078 | D50: 노 무 비 | E50: 저압케이블전공 | F50: 인 | G50: 110 | I50: =ROUNDDOWN(#REF!, 0) -> #REF! | L50: =SUM(H50,I50,J50) -> #REF!
B51: 56900017035 | C51: L001010501000116 | D51: 노 무 비 | E51: 변전전공 | F51: 인 | G51: 2 | I51: =ROUNDDOWN(#REF!, 0) -> #REF! | L51: =SUM(H51,I51,J51) -> #REF!
B52: 56900017041 | C52: L001010101000002 | D52: 노 무 비 | E52: 보통인부 | F52: 인 | G52: 2.389 | I52: =ROUNDDOWN(#REF!, 0) -> #REF! | L52: =SUM(H52,I52,J52) -> #REF!
B53: 56900017118 | C53: L001010101000003 | D53: 노 무 비 | E53: 특별인부 | F53: 인 | G53: 1 | I53: =ROUNDDOWN(#REF!, 0) -> #REF! | L53: =SUM(H53,I53,J53) -> #REF!
B54: 56900017021 | C54: L001010101000029 | D54: 노 무 비 | E54: 도장공 | F54: 인 | G54: 0.046 | I54: =ROUNDDOWN(#REF!, 0) -> #REF! | L54: =SUM(H54,I54,J54) -> #REF!
B55: 56900017108 | C55: L001010101000013 | D55: 노 무 비 | E55: 콘크리트공 | F55: 인 | G55: 0.12 | I55: =ROUNDDOWN(#REF!, 0) -> #REF! | L55: =SUM(H55,I55,J55) -> #REF!
B56: 56900017117 | C56: L001010101000076 | D56: 노 무 비 | E56: 특고압케이블전공 | F56: 인 | G56: 1 | I56: =ROUNDDOWN(#REF!, 0) -> #REF! | L56: =SUM(H56,I56,J56) -> #REF!
B57: 56900017031 | C57: L001010101000081 | D57: 노 무 비 | E57: 배전전공 | F57: 인 | G57: 1 | I57: =ROUNDDOWN(#REF!, 0) -> #REF! | L57: =SUM(H57,I57,J57) -> #REF!
B58: 56900017042 | C58: L001010101000006 | D58: 노 무 비 | E58: 비계공 | F58: 인 | G58: 1 | I58: =ROUNDDOWN(#REF!, 0) -> #REF! | L58: =SUM(H58,I58,J58) -> #REF!
B59: 56900017025 | C59: L001010101000045 | D59: 노 무 비 | E59: 인력운반공 | F59: 인 | G59: 1 | I59: =ROUNDDOWN(#REF!, 0) -> #REF! | L59: =SUM(H59,I59,J59) -> #REF!
B60: 56900017015 | C60: L001010101000051 | D60: 노 무 비 | E60: 기계설비공 | F60: 인 | G60: 1 | I60: =ROUNDDOWN(#REF!, 0) -> #REF! | L60: =SUM(H60,I60,J60) -> #REF!

Sheet 옵션
B1: 재료비 | C1: 노무비 | D1: 경비 | F1: 계
A2: 총 급 액 | B2: =#REF! -> #REF! | C2: =#REF! -> #REF! | D2: =#REF! -> #REF! | F2: =SUM(B2,C2,D2) -> #REF!
A3: 관급 자재비 | F3: =SUM(B3,C3,D3) -> 0 | H3: 금액조정이 안되나요?
H6: 이지테크에서 변환할 때 2번 옵션을 지정하여 다시 해보세요
H9: 시트를 삭제할 때 에러가 뜨면 1번 옵션으로 하면 됩니다.
B10: 적용율(%) | C10: 끝자리 | D10: 적용율(%)/100 | E10: 일위대가소수
A11: 전체자재 적용율(%)(공종/일위대가) | B11: 100 | C11: 1 | D11: =$B$11/100 -> 1
A12: 전체노임 적용율(%)(공종) | B12: 100 | C12: 1 | D12: =$B$12/100 -> 1 | E12: 2 | H12: 2번 옵션으로 변환했을 때에는 결과값이 다를 수 있습니다.
A13: 전체노임 적용율(%)(일위대가) | B13: 100 | C13: 1 | D13: =$B$13/100 -> 1 | E13: 5
A20: *(그룹별 자재 단가 추가 할증)* | B20: 적용율(%) | D20: 적용율(%)/100
A21: Cable(CAB) 할증(%) | B21: =B11 -> 100 | D21: =$B$21/100 -> 1
A22: Wire (WIR) 할증(%) | B22: =B11 -> 100 | D22: =$B$22/100 -> 1
A23: Pipe (PIP) 할증(%) | B23: =B11 -> 100 | D23: =$B$23/100 -> 1
A24: 제 4그룹 할증(%) | B24: =B11 -> 100 | D24: =$B$24/100 -> 1
A25: 제 5그룹 할증(%) | B25: =B11 -> 100 | D25: =$B$25/100 -> 1
A30: *(그룹별 노임 추가 할증)* | B30: 적용율(%) | C30: 자동부속재(전기) | D30: 자동부속재(통신)
A31: 배관부속재(%) | B31: 15 | C31: 15 | D31: 20
A32: CD관부속재(%) | B32: 40 | C32: 40 | D32: 40
A33: 소모잡자재(%) | B33: 2 | H33: 본 파일은 이지테크에서 2번 옵션으로 만들었습니다.
A34: 방폭할증(%)
A35: 고소할증(%) | B35: 2
A36: 공구손료(%) | B36: 3
A40: *(공종별 노임 적용율(%))* | B40: 적용율(%) | C40: 소수자릿수
A41: 1. 철거공사 | B41: 100 | C41: 0
A42: 2. 전기공사 | B42: 100 | C42: 0

Sheet 사용설명
B1: ** 반드시 다음 사항을 숙지하신 다음 수정 작업을 하십시오 **
A2: 1. | B2: 속성이 숫자인 셀을 삭제할 때는 반드시 'Delete' 키를 사용하십시오.
B3: **주의:'Space Bar' 로 지웠을 때는 '#Value' Error가 발생됩니다.
A4: 2. | B4: 일위대가(을지)는 소수점 처리 때문에 셀 속성을 '일반'으로 하였습니다.(소수점 능동 처리)
B5: **참고: (수량*단가)의 결과는 소수 한자리, 금액을 취합한 소계는 1원 이하 절사입니다.
A6: 3. | B6: 내역서에서는 수량에만 셀 속성을 '일반'으로 하였습니다.(소수점 능동 처리)
A7: 4. | B7: 단가수정은 '단가조사서'시트 에서 하십시오.
B8: a)표지와 원가 -> 총괄표 -> 내역서 ->일위대가와 합산자재 ->단가조사서 를 참조하고
B9: 있으므로 단가조사서의 결정단가를 수정하면 전체 금액이 갱신됩니다.
B10: **주의: 금액란은 공식이 걸려있으므로 조심하여 수정하십시오.
B11: b)전체 자재를 일정 요율(%)로 변경할 때는 옵션시트의 자재 적용율을 조정하면 됩니다.
A12: 5. | B12: 노임 단가는 '단가조사서'시트에서 품셈은 '노임근거'시트에서 수정하십시오.
B13: a)전체 노임을 일정 요율(%)로 변경할 때는 '옵션시트'의 전체노임 적용율을 조정하면 됩니다.
B14: b)공종별로 노임을 수정하려면 '옵션시트'의 공종별 노임 적용율을 조정하면 됩니다.
B15: c)케이블 및 전선 자재 단가를 추가로 조정하려면 그룹별 자재 적용율을 조정하면 됩니다.
B16: 그룹은 견적 프로그램에서 엑셀파일이 만들어질때 지정됩니다.
A17: 6. | B17: 겉표지의 모든 정보는 표지를 참조하였습니다.(정보 수정은 표지에서만 하시면 됩니다.)
A18: 7. | B18: 필수 :본 프로그램의 총 금액을 확인한 후 사용하십시오.
A19: 8. | B19: 본 파일의 내용을 인쇄할 경우, 미리보기를 통하여 페이지 절선을 확인 후 인쇄하십시오.
A20: 9. | B20: 관급자재 Sheet가 해당이 없을 경우엔 삭제하십시오.
A21: 10. | B21: 페이지 절선이 맞지 않으면 다음을 참고하십시오.
B33: a. 해당시트의 셀 전체를 선택합니다.
B34: b. 행높이를 적절히 가감하면 페이지 절선을 맞출 수 있습니다.
