Workbook

Sheet 원가계산서
B1: 공 사 원 가 계 산 서
B2: 공사명 : 해양수산인재개발원 본관 현관 앞 계단 및 캐노피 보수공사 | F2: 금액 : 일억삼천오백구십삼만팔천원(￦135,938,000)
B3: 비 목 | E3: 금 액 | F3: 구 성 비 | G3: 비 고
A4: A1 | B4: 순 공 사 원 가 | C4: 재 료 비 | D4: 직 접 재 료 비
A5: A2 | D5: 간 접 재 료 비
A6: A3 | D6: 작업설, 부산물(△)
A7: AS | D7: [ 소 계 ]
A8: B1 | C8: 노 무 비 | D8: 직 접 노 무 비
A9: B2 | D9: 간 접 노 무 비 | F9: 직접노무비 * 17.5% | G9: 공사기간6개월이하
A10: BS | D10: [ 소 계 ]
A11: C2 | C11: 경 비 | D11: 경 비
A12: C4 | D12: 산 재 보 험 료 | F12: 노무비 * 3.56%
A13: C5 | D13: 고 용 보 험 료 | F13: 노무비 * 1.01%
A14: C8 | D14: 퇴직 공제 부금비 | F14: 직접노무비 * 2.3% | G14: 추정금액1억이상
A15: CA | D15: 산업안전보건관리비 | F15: (재료비+직노+도급자관급자재비) * 3.11% | G15: 대상액5억미만
A16: CG | D16: 기 타 경 비 | F16: (재료비+노무비) * 5% | G16: 공사기간6개월이하
A17: CH | D17: 환 경 보 전 비 | F17: (재료비+직노+경비) * 0.3%
A18: CK | D18: 하도급지급보증수수료 | F18: (재료비+직노+경비) * 0.081% | G18: 최저가대상공사
A19: CL | D19: 건설기계대여금지급보증서발급수수료 | F19: (재료비+직노+경비) * 0.1%
A20: CM | D20: 석 면 분 담 금 | F20: 노무비 * 0.006%
A21: CN | D21: 임 금 채 권 부 담 금 | F21: 노무비 * 0.09%
A22: CS | D22: [ 소 계 ]
A23: S1 | B23: 계
A24: D1 | B24: 일 반 관 리 비 | F24: 계 * 8%
A25: D2 | B25: 이 윤 | F25: (노무비+경비+일반관리비) * 15%
A26: D3 | B26: 건설폐기물처리비
A27: D4 | B27: 고 재 처 리 비
A28: D9 | B28: 공 급 가 액
A29: DB | B29: 부 가 가 치 세 | F29: 공급가액 * 10%
A30: DH | B30: 도 급 액
A31: S2 | B31: 총 공 사 비

Sheet 공종별집계표
A1: 공 종 별 집 계 표
A2: [ 해양수산인재개발원 본관 현관 앞 계단 및 캐노피 보수공사]
A3: 품 명 | B3: 규 격 | C3: 단위 | D3: 수량 | E3: 재 료 비 | G3: 노 무 비 | I3: 경 비 | K3: 합 계 | M3: 비 고 | N3: 공종코드 | O3: 변수 | P3: 상위공종 | Q3: 공종구분 | R3: 공종레벨 | S3: 공종소계 | T3: 원가계산서 연결금액
E4: 단 가 | F4: 금 액 | G4: 단 가 | H4: 금 액 | I4: 단 가 | J4: 금 액 | K4: 단 가 | L4: 금 액
A5: 01 해양수산 인재개발원 본관주현관 계단 및 캐노피보수공사 | D5: 1 | N5: 01 | R5: 1
A6: 0101 ■건축공사■ | D6: 1 | N6: 0101 | P6: 01 | R6: 2
A7: 010101 가 설 공 사 | D7: 1 | N7: 010101 | P7: 0101 | R7: 3
A8: 010102 돌공사및타일공사 | D8: 1 | N8: 010102 | P8: 0101 | R8: 3
A9: 010103 수 장 공 사 | D9: 1 | N9: 010103 | P9: 0101 | R9: 3
A10: 010104 금 속 공 사 | D10: 1 | N10: 010104 | P10: 0101 | R10: 3
A11: 010105 칠 공 사 | D11: 1 | N11: 010105 | P11: 0101 | R11: 3
A12: 010106 골 재 비 | D12: 1 | N12: 010106 | P12: 0101 | R12: 3
A13: 010107 철 거 공 사 | D13: 1 | N13: 010107 | P13: 0101 | R13: 3
A14: 0102 철거공사로 인한 고재처리 | D14: 1 | N14: 0102 | Q14: 7 | R14: 2 | T14: =L14*1 -> 0
A15: 0103 건설폐기물처리 | D15: 1 | N15: 0103 | Q15: 6 | R15: 2 | T15: =L15*1 -> 0
A26: [ 합 계 ] | F26: =F5 -> 0 | H26: =H5 -> 0 | J26: =J5 -> 0 | L26: =L5 -> 0

Sheet 공종별내역서
A1: [ 해양수산인재개발원 본관 현관 앞 계단 및 캐노피 보수공사 ]
A2: 품 명 | B2: 규 격 | C2: 단위 | D2: 수량 | E2: 재 료 비 | G2: 노 무 비 | I2: 경 비 | K2: 합 계 | M2: 비 고 | N2: 품목코드 | O2: 변수 | P2: 설정 | Q2: 공종코드 | R2: 일위 | S2: 단산 | T2: 자재 | U2: 손료적용 | V2: 손료저장 | W2: 적용율 | X2: JUK1 | Y2: JUK2 | Z2: JUK3 | AA2: JUK4 | AB2: JUK5 | AC2: JUK6 | AD2: JUK7 | AE2: JUK8 | AF2: JUK9 | AG2: JUK10 | AH2: JUK11 | AI2: JUK12 | AJ2: JUK13 | AK2: JUK14 | AL2: JUK15 | AM2: JUK16 | AN2: JUK17 | AO2: JUK18 | AP2: JUK19 | AQ2: JUK20 | AR2: 자재구분 | AS2: 공종구분 | AT2: 공종레벨 | AU2: 공종+자재 | AV2: 고유번호
E3: 단 가 | F3: 금 액 | G3: 단 가 | H3: 금 액 | I3: 단 가 | J3: 금 액 | K3: 단 가 | L3: 금 액
A4: 010101 가 설 공 사 | Q4: 010101
A5: 콘테이너형 가설사무소 설치 및 해체 | B5: 3.0*6.0m, 3개월 | C5: 개소 | D5: 1 | M5: 호표 1 | N5: 50143165596D5AFEF765947571B37A | Q5: 010101 | R5: T | S5: F | T5: F | AU5: 01010150143165596D5AFEF765947571B37A | AV5: 4
A6: 건축물 현장정리 | B6: 개수 | C6: M2 | D6: 172 | M6: 호표 2 | N6: 501431653E6B547A871E4D9D78BFBA | Q6: 010101 | R6: T | S6: F | T6: F | AU6: 010101501431653E6B547A871E4D9D78BFBA | AV6: 5
A7: 건축물보양 | B7: 부직포 깔기 | C7: M2 | D7: 172 | M7: 호표 3 | N7: 501431653E5A5B5927FDF8F97FD000 | Q7: 010101 | R7: T | S7: F | T7: F | AU7: 010101501431653E5A5B5927FDF8F97FD000 | AV7: 6
A8: 준공청소 | C8: M2 | D8: 172 | M8: 호표 4 | N8: 501431653E3F5CD827BAD61775A016 | Q8: 010101 | R8: T | S8: F | T8: F | AU8: 010101501431653E3F5CD827BAD61775A016 | AV8: 7
A9: 이동식강관말비계 | B9: 1단(2m), 3개월 | C9: 대 | D9: 4 | M9: 호표 5 | N9: 505DC16480E2529AA7A0DEC67E0541 | Q9: 010101 | R9: T | S9: F | T9: F | AU9: 010101505DC16480E2529AA7A0DEC67E0541 | AV9: 8
A10: 고소작업차 | B10: 3ton | C10: 일 | D10: 1 | M10: 호표 6 | N10: 505DC164D8F1526747C1AD6F74B6B3 | Q10: 010101 | R10: T | S10: F | T10: F | AU10: 010101505DC164D8F1526747C1AD6F74B6B3 | AV10: 9
Q11: 010101
Q12: 010101
Q13: 010101
Q14: 010101
Q15: 010101
Q16: 010101
Q17: 010101
Q18: 010101
Q19: 010101
Q20: 010101
Q21: 010101
Q22: 010101
... Q25: 010101
A26: [ 합 계 ] | F26: =SUMIF(Q5:Q25,"010101",F5:F25) -> 0 | H26: =SUMIF(Q5:Q25,"010101",H5:H25) -> 0 | J26: =SUMIF(Q5:Q25,"010101",J5:J25) -> 0 | L26: =SUMIF(Q5:Q25,"010101",L5:L25) -> 0 | N26: TOTAL
A27: 010102 돌공사및타일공사 | Q27: 010102
A28: 화강석붙임(습식, 버너) | B28: 바닥, 거창석 30mm, 모르타르 30mm | C28: M2 | D28: 113 | E28: =TRUNC(일위대가목록!E10,0) -> 0 | F28: =TRUNC(E28*D28, 0) -> 0 | G28: =TRUNC(일위대가목록!F10,0) -> 0 | H28: =TRUNC(G28*D28, 0) -> 0 | I28: =TRUNC(일위대가목록!G10,0) -> 0 | J28: =TRUNC(I28*D28, 0) -> 0 | K28: =TRUNC(E28+G28+I28, 0) -> 0 | L28: =TRUNC(F28+H28+J28, 0) -> 0 | M28: 호표 7 | N28: 5014F16AA5375EABC73AC8A87DAA50 | Q28: 010102 | R28: T | S28: F | T28: F | AU28: 0101025014F16AA5375EABC73AC8A87DAA50 | AV28: 38
A29: 화강석붙임(건식/앵커, 물갈기) | B29: 벽, 거창석 30mm,철물,코킹포함 | C29: M2 | D29: 75 | E29: =TRUNC(일위대가목록!E11,0) -> 0 | F29: =TRUNC(E29*D29, 0) -> 0 | G29: =TRUNC(일위대가목록!F11,0) -> 0 | H29: =TRUNC(G29*D29, 0) -> 0 | I29: =TRUNC(일위대가목록!G11,0) -> 0 | J29: =TRUNC(I29*D29, 0) -> 0 | K29: =TRUNC(E29+G29+I29, 0) -> 0 | L29: =TRUNC(F29+H29+J29, 0) -> 0 | M29: 호표 8 | N29: 5014F16AA51B559947A0E97C7E238C | Q29: 010102 | R29: T | S29: F | T29: F | AU29: 0101025014F16AA51B559947A0E97C7E238C | AV29: 12
A30: 화강석붙임(습식, 잔다듬) | B30: 디딤판, 거창석 330*30mm, 모르타르 30mm | C30: M | D30: 183 | E30: =TRUNC(일위대가목록!E12,0) -> 0 | F30: =TRUNC(E30*D30, 0) -> 0 | G30: =TRUNC(일위대가목록!F12,0) -> 0 | H30: =TRUNC(G30*D30, 0) -> 0 | I30: =TRUNC(일위대가목록!G12,0) -> 0 | J30: =TRUNC(I30*D30, 0) -> 0 | K30: =TRUNC(E30+G30+I30, 0) -> 0 | L30: =TRUNC(F30+H30+J30, 0) -> 0 | M30: 호표 9 | N30: 5014F16AA5525E35E75FDFC77DD6C0 | Q30: 010102 | R30: T | S30: F | T30: F | AU30: 0101025014F16AA5525E35E75FDFC77DD6C0 | AV30: 13
A31: 화강석붙임(습식, 잔다듬) | B31: 챌판, 거창석 120*20mm, 모르타르 20mm | C31: M | D31: 183 | E31: =TRUNC(일위대가목록!E13,0) -> 0 | F31: =TRUNC(E31*D31, 0) -> 0 | G31: =TRUNC(일위대가목록!F13,0) -> 0 | H31: =TRUNC(G31*D31, 0) -> 0 | I31: =TRUNC(일위대가목록!G13,0) -> 0 | J31: =TRUNC(I31*D31, 0) -> 0 | K31: =TRUNC(E31+G31+I31, 0) -> 0 | L31: =TRUNC(F31+H31+J31, 0) -> 0 | M31: 호표 10 | N31: 5014F16AA5525E35E75FCD93767E65 | Q31: 010102 | R31: T | S31: F | T31: F | AU31: 0101025014F16AA5525E35E75FCD93767E65 | AV31: 14
A32: 화강석붙임(습식, 물갈기) | B32: 걸레받이, 마천석 100*20mm, 모르타르 20mm | C32: M | D32: 28 | E32: =TRUNC(일위대가목록!E14,0) -> 0 | F32: =TRUNC(E32*D32, 0) -> 0 | G32: =TRUNC(일위대가목록!F14,0) -> 0 | H32: =TRUNC(G32*D32, 0) -> 0 | I32: =TRUNC(일위대가목록!G14,0) -> 0 | J32: =TRUNC(I32*D32, 0) -> 0 | K32: =TRUNC(E32+G32+I32, 0) -> 0 | L32: =TRUNC(F32+H32+J32, 0) -> 0 | M32: 호표 11 | N32: 5014F16AA57D5E1DC7620EC07F3F43 | Q32: 010102 | R32: T | S32: F | T32: F | AU32: 0101025014F16AA57D5E1DC7620EC07F3F43 | AV32: 15
A33: 화강석붙임(건식, 물갈기) | B33: 걸레받이, 마천석 150*20mm | C33: M | D33: 12 | E33: =TRUNC(일위대가목록!E15,0) -> 0 | F33: =TRUNC(E33*D33, 0) -> 0 | G33: =TRUNC(일위대가목록!F15,0) -> 0 | H33: =TRUNC(G33*D33, 0) -> 0 | I33: =TRUNC(일위대가목록!G15,0) -> 0 | J33: =TRUNC(I33*D33, 0) -> 0 | K33: =TRUNC(E33+G33+I33, 0) -> 0 | L33: =TRUNC(F33+H33+J33, 0) -> 0 | M33: 호표 12 | N33: 5014F16AA57D5E1C37F9239B733007 | Q33: 010102 | R33: T | S33: F | T33: F | AU33: 0101025014F16AA57D5E1C37F9239B733007 | AV33: 16
A34: 화강석붙임(습식, 버너) | B34: 벽, 거창석 30mm, 모르타르 30mm | C34: M2 | D34: 12 | E34: =TRUNC(일위대가목록!E16,0) -> 0 | F34: =TRUNC(E34*D34, 0) -> 0 | G34: =TRUNC(일위대가목록!F16,0) -> 0 | H34: =TRUNC(G34*D34, 0) -> 0 | I34: =TRUNC(일위대가목록!G16,0) -> 0 | J34: =TRUNC(I34*D34, 0) -> 0 | K34: =TRUNC(E34+G34+I34, 0) -> 0 | L34: =TRUNC(F34+H34+J34, 0) -> 0 | M34: 호표 13 | N34: 5014F16AA51B5018578F77D1745815 | Q34: 010102 | R34: T | S34: F | T34: F | AU34: 0101025014F16AA51B5018578F77D1745815 | AV34: 54
A35: 화단두겁석 설치 | B35: W=90 거창석 30mm, 모르타르 30mm | C35: M | D35: 21 | E35: =TRUNC(일위대가목록!E17,0) -> 0 | F35: =TRUNC(E35*D35, 0) -> 0 | G35: =TRUNC(일위대가목록!F17,0) -> 0 | H35: =TRUNC(G35*D35, 0) -> 0 | I35: =TRUNC(일위대가목록!G17,0) -> 0 | J35: =TRUNC(I35*D35, 0) -> 0 | K35: =TRUNC(E35+G35+I35, 0) -> 0 | L35: =TRUNC(F35+H35+J35, 0) -> 0 | M35: 호표 14 | N35: 5014F16AA5375EABC73AC8A87DAA51 | Q35: 010102 | R35: T | S35: F | T35: F | AU35: 0101025014F16AA5375EABC73AC8A87DAA51 | AV35: 55
A36: 난간두겁석 설치 | B36: W=300거창석 60mm, 모르타르 30mm | C36: M2 | D36: 9 | E36: =TRUNC(일위대가목록!E18,0) -> 0 | F36: =TRUNC(E36*D36, 0) -> 0 | G36: =TRUNC(일위대가목록!F18,0) -> 0 | H36: =TRUNC(G36*D36, 0) -> 0 | I36: =TRUNC(일위대가목록!G18,0) -> 0 | J36: =TRUNC(I36*D36, 0) -> 0 | K36: =TRUNC(E36+G36+I36, 0) -> 0 | L36: =TRUNC(F36+H36+J36, 0) -> 0 | M36: 호표 15 | N36: 5014F16AA5375EABC73AC8A87DAA52 | Q36: 010102 | R36: T | S36: F | T36: F | AU36: 0101025014F16AA5375EABC73AC8A87DAA52 | AV36: 56
A37: 난간두겁석 설치 | B37: 400*400 거창석 70mm, 모르타르 30mm | C37: EA | D37: 4 | E37: =TRUNC(일위대가목록!E19,0) -> 0 | F37: =TRUNC(E37*D37, 0) -> 0 | G37: =TRUNC(일위대가목록!F19,0) -> 0 | H37: =TRUNC(G37*D37, 0) -> 0 | I37: =TRUNC(일위대가목록!G19,0) -> 0 | J37: =TRUNC(I37*D37, 0) -> 0 | K37: =TRUNC(E37+G37+I37, 0) -> 0 | L37: =TRUNC(F37+H37+J37, 0) -> 0 | M37: 호표 16 | N37: 5014F16AA5375EABC73AC8A87DAA53 | Q37: 010102 | R37: T | S37: F | T37: F | AU37: 0101025014F16AA5375EABC73AC8A87DAA53 | AV37: 57
Q38: 010102
Q39: 010102
Q40: 010102
Q41: 010102
Q42: 010102
...

Sheet 일위대가목록
B1: 일 위 대 가 목 록
B2: [ 해양수산인재개발원 본관 현관 앞 계단 및 캐노피 보수공사 ]
A3: 코 드 | B3: 품 명 | C3: 규 격 | D3: 단위 | E3: 재 료 비 | F3: 노 무 비 | G3: 경 비 | H3: 합 계 | I3: 번 호 | J3: 비 고 | K3: 노임계수 | L3: 할증 | M3: 품셈개요 | N3: 장비일위
A4: 50143165596D5AFEF765947571B37A | B4: 콘테이너형 가설사무소 설치 및 해체 | C4: 3.0*6.0m, 3개월 | D4: 개소 | I4: 호표 1
A5: 501431653E6B547A871E4D9D78BFBA | B5: 건축물 현장정리 | C5: 개수 | D5: M2 | I5: 호표 2
A6: 501431653E5A5B5927FDF8F97FD000 | B6: 건축물보양 | C6: 부직포 깔기 | D6: M2 | I6: 호표 3
A7: 501431653E3F5CD827BAD61775A016 | B7: 준공청소 | D7: M2 | I7: 호표 4
A8: 505DC16480E2529AA7A0DEC67E0541 | B8: 이동식강관말비계 | C8: 1단(2m), 3개월 | D8: 대 | I8: 호표 5
A9: 505DC164D8F1526747C1AD6F74B6B3 | B9: 고소작업차 | C9: 3ton | D9: 일 | I9: 호표 6
A10: 5014F16AA5375EABC73AC8A87DAA50 | B10: 화강석붙임(습식, 버너) | C10: 바닥, 거창석 30mm, 모르타르 30mm | D10: M2 | I10: 호표 7
A11: 5014F16AA51B559947A0E97C7E238C | B11: 화강석붙임(건식/앵커, 물갈기) | C11: 벽, 거창석 30mm,철물,코킹포함 | D11: M2 | I11: 호표 8
A12: 5014F16AA5525E35E75FDFC77DD6C0 | B12: 화강석붙임(습식, 잔다듬) | C12: 디딤판, 거창석 330*30mm, 모르타르 30mm | D12: M | I12: 호표 9
A13: 5014F16AA5525E35E75FCD93767E65 | B13: 화강석붙임(습식, 잔다듬) | C13: 챌판, 거창석 120*20mm, 모르타르 20mm | D13: M | I13: 호표 10
A14: 5014F16AA57D5E1DC7620EC07F3F43 | B14: 화강석붙임(습식, 물갈기) | C14: 걸레받이, 마천석 100*20mm, 모르타르 20mm | D14: M | I14: 호표 11
A15: 5014F16AA57D5E1C37F9239B733007 | B15: 화강석붙임(건식, 물갈기) | C15: 걸레받이, 마천석 150*20mm | D15: M | I15: 호표 12
A16: 5014F16AA51B5018578F77D1745815 | B16: 화강석붙임(습식, 버너) | C16: 벽, 거창석 30mm, 모르타르 30mm | D16: M2 | I16: 호표 13
A17: 5014F16AA5375EABC73AC8A87DAA51 | B17: 화단두겁석 설치 | C17: W=90 거창석 30mm, 모르타르 30mm | D17: M | I17: 호표 14
A18: 5014F16AA5375EABC73AC8A87DAA52 | B18: 난간두겁석 설치 | C18: W=300거창석 60mm, 모르타르 30mm | D18: M2 | I18: 호표 15
A19: 5014F16AA5375EABC73AC8A87DAA53 | B19: 난간두겁석 설치 | C19: 400*400 거창석 70mm, 모르타르 30mm | D19: EA | I19: 호표 16
... A27: 5014D1659E9D5D6287A7595A73AA19 | B27: 금속천장판 철거 | C27: 해체재 재사용 안 함 | D27: M2 | I27: 호표 24
A28: 5015316C23495B9B37BF757D7F206C | B28: 경량천장철골틀 해체 | D28: M2 | I28: 호표 25
A29: 5015316C23495B9B37AED973765F03 | B29: 마천석걸레받이철거 | C29: H=150 | D29: M2 | I29: 호표 26
A30: 5015316C23495B9B37AED973765CB5 | B30: 마천석걸레받이철거 | C30: H=100 | D30: M2 | I30: 호표 27
A31: 5015316C23495B9B37AED973765CB4 | B31: 화강석바닥철거 | C31: T30화강석+T30몰탈 | D31: M2 | I31: 호표 28
A32: 5015316C23495B9B37AED973765CB7 | B32: 화강석벽철거 | C32: T30화강석+T30몰탈 | D32: M2 | I32: 호표 29
A33: 5015316C23495B9B37AED973765CB6 | B33: 화강석두겁석철거(W=90) | C33: T30화강석+T20몰탈 | D33: M | I33: 호표 30
A34: 5015316C23495B9B37AED973765CB1 | B34: 화강석두겁석철거(W=300) | C34: T60화강석+T20몰탈 | D34: M | I34: 호표 31
A35: 5015316C23495B9B37AED973765CB0 | B35: 화강석두겁석철거(400*400) | C35: T70화강석+T20몰탈 | D35: EA | I35: 호표 32
A36: 505D2164895A55AFB75EE70C78129B | B36: 투수블록철거후재설치 | C36: T=80mm+석분40mm+무근25-18-15+W.M#8-150*150+원지반다짐 | D36: M2 | I36: 호표 33
A37: 505D2164895A55AFB75EE70C781FA5 | B37: 스텐사다리철거 | C37: H=4400,W500 | D37: EA | I37: 호표 34
A38: 505D2164895A55AFB75EE70C781FA6 | B38: 계단난간대철거 | D38: M | I38: 호표 35
A39: 505CC16DC4335731A798959771EFB3 | B39: AL몰딩 철거 | D39: M | I39: 호표 36
A40: 505CC16DC4335731A7988B39701CAB | B40: 폐기물소운반 | C40: 교내 30M | D40: M3 | I40: 호표 37
A41: 505CC16DC4335731A7988B3972C93F | B41: 폐기물상차비 | C41: 건설폐재류 | D41: 톤 | I41: 호표 38
A42: 505CC16DC4335731A7988B3972C816 | B42: 폐기물상차비 | C42: 혼합폐기물 | D42: 톤 | I42: 호표 39
A43: 505DC164D8F150B9E7DBC23B72ECBE | B43: 폐기물처리수수료 | C43: 건설폐재류 | D43: TON | I43: 호표 40
A44: 505DC164D8F150B9E7DBC23B72ECBF | B44: 폐기물처리수수료 | C44: 혼합건설폐기물(소각 10%이하) | D44: TON | I44: 호표 41
A45: 50143165596D5AFEF7EAE1887B96D8 | B45: 콘테이너형 가설건축물 설치 및 해체 | C45: 3.0*6.0m | D45: 개소 | I45: 호표 42
A46: 5703F16E2B9C51CF07C8620C7D75068E128E484F | B46: 크레인(타이어) | C46: 10ton | D46: HR | I46: 호표 43 | K46: A | N46: T
A47: 501431656B86524BA7CF769F75D840 | B47: 강관 조립말비계(이동식)설치 및 해체 | C47: 높이 2m, 노무비 | D47: 대 | I47: 호표 44
...

Sheet 일위대가
A1: [ 해양수산인재개발원 본관 현관 앞 계단 및 캐노피 보수공사 ]
A2: 품 명 | B2: 규 격 | C2: 단위 | D2: 수량 | E2: 재 료 비 | G2: 노 무 비 | I2: 경 비 | K2: 합 계 | M2: 비 고 | N2: 일위대가 | O2: 품목코드 | P2: 일위 | Q2: 단산 | R2: 자재 | S2: 손료적용 | T2: 손료저장 | U2: 적용율 | V2: JUK1 | W2: JUK2 | X2: JUK3 | Y2: JUK4 | Z2: JUK5 | AA2: JUK6 | AB2: JUK7 | AC2: JUK8 | AD2: JUK9 | AE2: JUK10 | AF2: JUK11 | AG2: JUK12 | AH2: JUK13 | AI2: JUK14 | AJ2: JUK15 | AK2: JUK16 | AL2: JUK17 | AM2: JUK18 | AN2: JUK19 | AO2: JUK20 | AP2: 할증적용 | AQ2: 할증저장 | AR2: 할증율 | AS2: HAL1 | AT2: HAL2 | AU2: HAL3 | AV2: 자재구분 | AW2: 일위대가+자재 | AX2: 장비일위 | AY2: 설정 | AZ2: 할증체크
E3: 단 가 | F3: 금 액 | G3: 단 가 | H3: 금 액 | I3: 단 가 | J3: 금 액 | K3: 단 가 | L3: 금 액
A4: 콘테이너형 가설사무소 설치 및 해체 3.0*6.0m, 3개월 개소 ( 호표 1 ) | N4: 50143165596D5AFEF765947571B37A
A5: 컨테이너하우스 | B5: 컨테이너하우스, 사무실용, 3.0*6.0*2.6m | C5: 개 | D5: 0.18 | M5: 금액제외 | O5: 573F3166A1CB5F2297C1C9697D4AD42C39C670 | P5: F | Q5: F | R5: T | V5: 1 | AW5: 50143165596D5AFEF765947571B37A573F3166A1CB5F2297C1C9697D4AD42C39C670 | AY5: -
A6: 콘테이너형 가설건축물 설치 및 해체 | B6: 3.0*6.0m | C6: 개소 | D6: 1 | M6: 금액제외 | O6: 50143165596D5AFEF7EAE1887B96D8 | P6: T | Q6: F | R6: F | V6: 1 | AW6: 50143165596D5AFEF765947571B37A50143165596D5AFEF7EAE1887B96D8 | AY6: -
A7: 경비로 적용 | B7: 합계의 100% | C7: 식 | D7: 1 | N7: 50143165596D5AFEF765947571B37A | O7: 510D716B06C05388679E1FA37897001 | P7: F | Q7: F | R7: F | S7: 3 | T7: 2 | U7: 1 | AW7: 50143165596D5AFEF765947571B37A510D716B06C05388679E1FA37897001
A8: [ 합 계 ] | N8: TOTAL | O8: TOTAL
A10: 건축물 현장정리 개수 M2 ( 호표 2 ) | N10: 501431653E6B547A871E4D9D78BFBA
A11: 보통인부 | B11: 일반공사 직종 | C11: 인 | D11: 0.025 | N11: 501431653E6B547A871E4D9D78BFBA | O11: 50CDC166BD7059AB57C436B071C2202CB7EEA5 | P11: F | Q11: F | R11: T | AW11: 501431653E6B547A871E4D9D78BFBA50CDC166BD7059AB57C436B071C2202CB7EEA5
A12: [ 합 계 ] | N12: TOTAL | O12: TOTAL
A14: 건축물보양 부직포 깔기 M2 ( 호표 3 ) | N14: 501431653E5A5B5927FDF8F97FD000
A15: 토목용부직포 | B15: 토목용부직포, 부직포, PE망 | C15: M2 | D15: 1.1 | N15: 501431653E5A5B5927FDF8F97FD000 | O15: 573F316697AB5772477909467EAA187246272A | P15: F | Q15: F | R15: T | AW15: 501431653E5A5B5927FDF8F97FD000573F316697AB5772477909467EAA187246272A
A16: 보통인부 | B16: 일반공사 직종 | C16: 인 | D16: 0.003 | N16: 501431653E5A5B5927FDF8F97FD000 | O16: 50CDC166BD7059AB57C436B071C2202CB7EEA5 | P16: F | Q16: F | R16: T | AW16: 501431653E5A5B5927FDF8F97FD00050CDC166BD7059AB57C436B071C2202CB7EEA5
A17: [ 합 계 ] | N17: TOTAL | O17: TOTAL
A19: 준공청소 M2 ( 호표 4 ) | N19: 501431653E3F5CD827BAD61775A016
A20: 보통인부 | B20: 일반공사 직종 | C20: 인 | D20: 0.02 | N20: 501431653E3F5CD827BAD61775A016 | O20: 50CDC166BD7059AB57C436B071C2202CB7EEA5 | P20: F | Q20: F | R20: T | AW20: 501431653E3F5CD827BAD61775A01650CDC166BD7059AB57C436B071C2202CB7EEA5
A21: [ 합 계 ] | N21: TOTAL | O21: TOTAL
A23: 이동식강관말비계 1단(2m), 3개월 대 ( 호표 5 ) | N23: 505DC16480E2529AA7A0DEC67E0541
A24: 비계안정장치 | B24: 비계안정장치, 비계기본틀, 기둥, 1.2*1.7m | C24: 개 | D24: 0.14 | N24: 505DC16480E2529AA7A0DEC67E0541 | O24: 573F3166971558F8D7B6A35577EC8A116E6F6E | P24: F | Q24: F | R24: T | AW24: 505DC16480E2529AA7A0DEC67E0541573F3166971558F8D7B6A35577EC8A116E6F6E
A25: 비계안정장치 | B25: 비계안정장치, 가새, 1.2*1.9m | C25: 개 | D25: 0.14 | N25: 505DC16480E2529AA7A0DEC67E0541 | O25: 573F3166971558F8D7B6A35577EC8A116E6F60 | P25: F | Q25: F | R25: T | AW25: 505DC16480E2529AA7A0DEC67E0541573F3166971558F8D7B6A35577EC8A116E6F60
A26: 비계안정장치 | B26: 비계안정장치, 수평띠장, 1829mm | C26: 개 | D26: 0.28 | N26: 505DC16480E2529AA7A0DEC67E0541 | O26: 573F3166971558F8D7B6A35577EC8A116E60E6 | P26: F | Q26: F | R26: T | AW26: 505DC16480E2529AA7A0DEC67E0541573F3166971558F8D7B6A35577EC8A116E60E6
A27: 비계안정장치 | B27: 비계안정장치, 손잡이기둥 | C27: 개 | D27: 0.28 | N27: 505DC16480E2529AA7A0DEC67E0541 | O27: 573F3166971558F8D7B6A35577EC8A116CCBF1 | P27: F | Q27: F | R27: T | AW27: 505DC16480E2529AA7A0DEC67E0541573F3166971558F8D7B6A35577EC8A116CCBF1
A28: 비계안정장치 | B28: 비계안정장치, 손잡이, 1229mm | C28: 개 | D28: 0.14 | N28: 505DC16480E2529AA7A0DEC67E0541 | O28: 573F3166971558F8D7B6A35577EC8A116CCBF0 | P28: F | Q28: F | R28: T | AW28: 505DC16480E2529AA7A0DEC67E0541573F3166971558F8D7B6A35577EC8A116CCBF0
A29: 비계안정장치 | B29: 비계안정장치, 손잡이, 1829mm | C29: 개 | D29: 0.28 | N29: 505DC16480E2529AA7A0DEC67E0541 | O29: 573F3166971558F8D7B6A35577EC8A116CCBF3 | P29: F | Q29: F | R29: T | AW29: 505DC16480E2529AA7A0DEC67E0541573F3166971558F8D7B6A35577EC8A116CCBF3
A30: 비계안정장치 | B30: 비계안정장치, 바퀴 | C30: 개 | D30: 0.36 | N30: 505DC16480E2529AA7A0DEC67E0541 | O30: 573F3166971558F8D7B6A35577EC8A116E60E2 | P30: F | Q30: F | R30: T | AW30: 505DC16480E2529AA7A0DEC67E0541573F3166971558F8D7B6A35577EC8A116E60E2
A31: 비계안정장치 | B31: 비계안정장치, 쟈키 | C31: 개 | D31: 0.36 | N31: 505DC16480E2529AA7A0DEC67E0541 | O31: 573F3166971558F8D7B6A35577EC8A116E60E3 | P31: F | Q31: F | R31: T | AW31: 505DC16480E2529AA7A0DEC67E0541573F3166971558F8D7B6A35577EC8A116E60E3
A32: 비계안정장치 | B32: 비계안정장치, 발판 | C32: 장 | D32: 0.315 | N32: 505DC16480E2529AA7A0DEC67E0541 | O32: 573F3166971558F8D7B6A35577EC8A116CCBF2 | P32: F | Q32: F | R32: T | AW32: 505DC16480E2529AA7A0DEC67E0541573F3166971558F8D7B6A35577EC8A116CCBF2
A33: 강관 조립말비계(이동식)설치 및 해체 | B33: 높이 2m, 노무비 | C33: 대 | D33: 1 | M33: 호표 44 | N33: 505DC16480E2529AA7A0DEC67E0541 | O33: 501431656B86524BA7CF769F75D840 | P33: T | Q33: F | R33: F | AW33: 505DC16480E2529AA7A0DEC67E0541501431656B86524BA7CF769F75D840
A34: [ 합 계 ] | N34: TOTAL | O34: TOTAL
A36: 고소작업차 3ton 일 ( 호표 6 ) | N36: 505DC164D8F1526747C1AD6F74B6B3
A37: 고소작업차 | B37: 3ton | C37: HR | D37: 8 | M37: 호표 45 | N37: 505DC164D8F1526747C1AD6F74B6B3 | O37: 5703F16E2B9C51CF07C8472571F478763C3D8CA2 | P37: T | Q37: F | R37: F | AW37: 505DC164D8F1526747C1AD6F74B6B35703F16E2B9C51CF07C8472571F478763C3D8CA2
A38: [ 합 계 ] | N38: TOTAL | O38: TOTAL
A40: 화강석붙임(습식, 버너) 바닥, 거창석 30mm, 모르타르 30mm M2 ( 호표 7 ) | N40: 5014F16AA5375EABC73AC8A87DAA50
A41: 자연석판석 | B41: 자연석판석, 버너마감, 30mm, 거창석판재 | C41: M2 | D41: 1.1 | N41: 5014F16AA5375EABC73AC8A87DAA50 | O41: 573F316697B55C3567CD4D7D70424FBDC229E5 | P41: F | Q41: F | R41: T | AW41: 5014F16AA5375EABC73AC8A87DAA50573F316697B55C3567CD4D7D70424FBDC229E5
A42: 모르타르비빔 - 돌붙임(바닥) | B42: 배합용적비 1:3, 시멘트 별도 | C42: M3 | D42: 0.03 | M42: 호표 46 | N42: 5014F16AA5375EABC73AC8A87DAA50 | O42: 5014F16AA50A5BD317480F08787A8F | P42: T | Q42: F | R42: F | AW42: 5014F16AA5375EABC73AC8A87DAA505014F16AA50A5BD317480F08787A8F
A43: 석재판 붙임 - 습식공법(화강석) | B43: 바닥부, 시공량 12m2/일당 | C43: M2 | D43: 1 | M43: 호표 47 | N43: 5014F16AA5375EABC73AC8A87DAA50 | O43: 5014F16AA5375D85C703225E772D75 | P43: T | Q43: F | R43: F | AW43: 5014F16AA5375EABC73AC8A87DAA505014F16AA5375D85C703225E772D75
A44: [ 합 계 ] | N44: TOTAL | O44: TOTAL
A46: 화강석붙임(건식/앵커, 물갈기) 벽, 거창석 30mm,철물,코킹포함 M2 ( 호표 8 ) | N46: 5014F16AA51B559947A0E97C7E238C
A47: 자연석판석 | B47: 자연석판석, 물갈기, 30mm, 거창석판재 | C47: M2 | D47: 1.1 | N47: 5014F16AA51B559947A0E97C7E238C | O47: 573F316697B55C3567CD4D7D704A86166EBB0E | P47: F | Q47: F | R47: T | AW47: 5014F16AA51B559947A0E97C7E238C573F316697B55C3567CD4D7D704A86166EBB0E
...

Sheet 단가대비표
A1: 단 가 대 비 표
A2: [ 해양수산인재개발원 본관 현관 앞 계단 및 캐노피 보수공사 ]
A3: 코 드 | B3: 품 명 | C3: 규격 | D3: 단위 | E3: 재 료 비 | P3: 노 무 비 | Q3: 경 비 | W3: 번 호 | X3: 비 고 | Y3: 품목구분 | Z3: 노임구분 | AA3: 소수점처리 | AB3: 자재구분
E4: 조달청가격 | F4: PAGE | G4: 거래가격 | H4: PAGE | I4: 유통물가 | J4: PAGE | K4: 물가자료 | L4: PAGE | M4: 조사가격2 | N4: PAGE | O4: 적용단가 | Q4: 조달청가격 | R4: 거래가격 | S4: 유통물가 | T4: 물가자료 | U4: 조사가격2 | V4: 적용단가
A5: 5703F16E2B9C53FE27E24D1A71151061D3DE80 | B5: 굴착기(무한궤도) | C5: 0.7㎥ | D5: 대 | W5: 자재 1 | X5: 천원
A6: 5703F16E2B9C53FAB73DEB4E7F77BAD982C776 | B6: 덤프트럭 | C6: 8ton | D6: 대 | W6: 자재 2 | X6: 천원
A7: 5703F16E2B9C52D677DD7E087C20238C5CE092 | B7: 진동롤러(핸드가이드식) | C7: 0.7ton | D7: 대 | W7: 자재 3 | X7: 천원
A8: 5703F16E2B9C52D2871435317FF93D69B1162E | B8: 플레이트 콤팩터 | C8: 1.5ton | D8: 대 | W8: 자재 4 | X8: 천원
A9: 5703F16E2B9C51CF07C8620C7D75068E128E48 | B9: 크레인(타이어) | C9: 10ton | D9: 대 | W9: 자재 5 | X9: 천원
A10: 5703F16E2B9C51CF07C8472571F478763C3D8C | B10: 고소작업차 | C10: 3ton | D10: 대 | W10: 자재 6 | X10: 천원
A11: 571C41647D55549867756C2C70BC842F046F85 | B11: 화강석마구리가공비 | C11: T=30 | D11: M | W11: 자재 7
A12: 571C41647D55549867756C2C70BC842F04601E | B12: 화강석마구리면가공비 | C12: T=50MM | D12: M | W12: 자재 8
A13: 571C41647D55549867756C2C70BC842F04601F | B13: 화강석마구리면가공비 | C13: T=80MM | D13: M | W13: 자재 9
A14: 571C41647D55549907D34DCE72C87365397D76 | B14: 모래 | C14: 모래, 부산, 도착도 | D14: M3 | W14: 자재 10
A15: 571C41647D55549907D34DCE73D840BCF7CFEE | B15: 모래 | C15: 모래, 부산, 도착도 | D15: M3 | W15: 자재 11
A16: 571C41647DDA5A70F72EF358716614ADC833A4 | B16: 철강설 | C16: 철강설, 고철, 작업설부산물 | D16: kg | W16: 자재 12 | X16: 수집상차도
A17: 571C41647DDA5A70F72EF358716614ADC8329E | B17: 철강설 | C17: 철강설, 스텐레스, 작업설부산물 | D17: kg | W17: 자재 13 | X17: 수집상차도
A18: 571C41647DDA5A70F72EF3587056C9AF738D77 | B18: 철강설 | C18: 철강설, 알루미늄, 작업설부산물 | D18: kg | W18: 자재 14 | X18: 수집상차도
A19: 571C7161BB7C583FB7A8787379A2423B0402F4 | B19: 산소가스 | C19: 산소가스, 6000L | D19: 병 | W19: 자재 15 | X19: 대기압상태기준
A20: 571C016EAF6D5A1CE76D4C6C757860E75A9CF7 | B20: 경유 | C20: 경유, 저유황 | D20: L | W20: 자재 16
A21: 571C016EAF6D5A1CE76D79AA7371FF3FFCB2E7 | B21: 공업용휘발유 | C21: 공업용휘발유, 무연 | D21: L | W21: 자재 17
A22: 571C016EAF7E533D47009044772044ACEB7059 | B22: 아세틸렌가스 | C22: 아세틸렌가스, kg | D22: kg | W22: 자재 18
A23: 573F31669788597C47E0DD757A1EA714B2A181 | B23: 동합금선(銅合金線) | C23: 황동, ∮4.9∼3.0mm | D23: kg | W23: 자재 19
A24: 573F316697885A03071DF421783BF41DC5535F | B24: 합금화용융아연도금강판 | C24: 합금화용융아연도금강판, 갈바륨, 1.60mm | D24: kg | W24: 자재 20
A25: 573F316697885A03071DEBB47658275355316A | B25: 스테인리스강판 | C25: 스테인리스강판, STS304, 1.2mm | D25: kg | W25: 자재 21
A26: 573F316697885A03071DEBB4776878AC0F2E5B | B26: 스테인리스강판 | C26: 스테인리스강판, STS304, 4.0mm | D26: kg | W26: 자재 22
A27: 573F31669788512D07602FD774CF7FE82C941E | B27: 쇄석자갈 | C27: 쇄석자갈, 부산, 도착도, 25mm | D27: M3 | W27: 자재 23
A28: 573F31669788512D07602FD774CF7FE82C9418 | B28: 석분 | D28: M3 | W28: 자재 24
A29: 573F3166979A5E50C777082E7286FAA8C49BF5 | B29: 시멘트 | C29: 시멘트(별도) | D29: kg | W29: 자재 25 | X29: 별도
A30: 573F3166979A5E50C777082E7286FAA8C49BF0 | B30: 시멘트 | C30: 대리점 | D30: 포 | W30: 자재 26
A31: 573F3166979A5E5EA750EF0879903F6E326F0F | B31: 용접철망 | C31: 용접철망, 와이어메시, #8-150*150 | D31: M2 | W31: 자재 27
A32: 573F316697AB5772477909467EAA187246272A | B32: 토목용부직포 | C32: 토목용부직포, 부직포, PE망 | D32: M2 | W32: 자재 28
A33: 573F316697B55C3567CD4D7D704A86166EBB0E | B33: 자연석판석 | C33: 자연석판석, 물갈기, 30mm, 거창석판재 | D33: M2 | W33: 자재 29
A34: 573F316697B55C3567CD4D7D704A86166EBB00 | B34: 자연석판석 | C34: 자연석판석, 버너마감, 20mm, 거창석판재 | D34: M2 | W34: 자재 30
A35: 573F316697B55C3567CD4D7D704A86166EBB01 | B35: 자연석판석 | C35: 자연석판석, 잔다듬, 30mm, 거창석판재 | D35: M2 | W35: 자재 31
A36: 573F316697B55C3567CD4D7D70424FBDC229E5 | B36: 자연석판석 | C36: 자연석판석, 버너마감, 30mm, 거창석판재 | D36: M2 | W36: 자재 32
A37: 573F316697B55C3567CD4D7D70424FBDC229E3 | B37: 자연석판석 | C37: 자연석판석, 물갈기, 20mm, 마천석판재 | D37: M2 | W37: 자재 33
A38: 573F316697B55C3567CD4D7D70424FBDC22997 | B38: 자연석판석 | C38: 자연석판석, 버너마감, 60mm, 거창석판재 | D38: M2 | W38: 자재 34
A39: 573F316697B55C3567CD4D7D70424FBDC22994 | B39: 자연석판석 | C39: 자연석판석, 버너마감, 70mm, 거창석판재 | D39: M2 | W39: 자재 35
A40: 573F316697E150FF87D19DF2736126B46384EC | B40: 알루미늄천장재 | C40: 알루미늄천장재, 칼라타일, 사각, 무공, 600*600mm | D40: M2 | W40: 자재 36
...
