Workbook

Sheet 원가계산서
B1: 공 사 원 가 계 산 서
B2: 공사명 : 청주성신학교 고교학점제 교육환경개선 구축 전기공사 | F2: 금액 :
B3: 비 목 | E3: 금 액 | F3: 구 성 비 | G3: 비 고
A4: A1 | B4: 순 공 사 원 가 | C4: 재 료 비 | D4: 직 접 재 료 비
A5: A2 | D5: 간 접 재 료 비
A6: A3 | D6: 작 업 부 산 물
A7: AS | D7: [ 소 계 ]
A8: B1 | C8: 노 무 비 | D8: 직 접 노 무 비
A9: B2 | D9: 간 접 노 무 비 | F9: 직접노무비 * 17.5%
A10: BS | D10: [ 소 계 ]
A11: C2 | C11: 경 비 | D11: 경 비
A12: C4 | D12: 산 재 보 험 료 | F12: 노무비 * 3.56%
A13: C5 | D13: 고 용 보 험 료 | F13: 노무비 * 1.01%
A14: C6 | D14: 국민 건강 보험료 | E14: 494516 | F14: 직접노무비 * 3.595%
A15: C7 | D15: 국민 연금 보험료 | E15: 653394 | F15: 직접노무비 * 4.75%
A16: CA | D16: 산업안전보건관리비 | E16: 515444 | F16: (재료비+직노+관급자재비) * 3.11%
A17: CB | D17: 노인장기요양보험료 | E17: 64979 | F17: 건강보험료 * 13.14%
A18: CG | D18: 기 타 경 비 | F18: (재료비+노무비) * 5%
A19: CM | D19: 석 면 분 담 금 | F19: 노무비 * 0.006%
A20: CN | D20: 임 금 채 권 부 담 금 | F20: 노무비 * 0.09%
A21: CS | D21: [ 소 계 ]
A22: S1 | B22: 계
A23: D1 | B23: 일 반 관 리 비 | F23: 계 * 8%
A24: D2 | B24: 이 윤 | F24: (노무비+경비+일반관리비) * 15%
A25: D7 | B25: 손해배상공제료 | F25: 총 원가 * 0.26477%
A26: D9 | B26: 공 급 가 액
A27: DB | B27: 부 가 가 치 세 | F27: 공급가액 * 10%
A28: DH | B28: 도 급 액
A29: S2 | B29: 총 공 사 비

Sheet 공종별집계표
A1: 공 종 별 집 계 표
A2: [ 청주성신학교 고교학점제 교육환경개선 구축 전기공사 ]
A3: 품 명 | B3: 규 격 | C3: 단위 | D3: 수량 | E3: 재 료 비 | G3: 노 무 비 | I3: 경 비 | K3: 합 계 | M3: 비 고 | N3: 공종코드 | O3: 변수 | P3: 상위공종 | Q3: 공종구분 | R3: 공종레벨 | S3: 공종소계 | T3: 원가계산서 연결금액
E4: 단 가 | F4: 금 액 | G4: 단 가 | H4: 금 액 | I4: 단 가 | J4: 금 액 | K4: 단 가 | L4: 금 액
A5: 01 청주성신학교 고교학점제 교육환경개선 구축 전기공사 | D5: 1 | E5: =F6+F11 -> 0 | F5: =E5*D5 -> 0 | G5: =H6+H11 -> 0 | H5: =G5*D5 -> 0 | I5: =J6+J11 -> 0 | J5: =I5*D5 -> 0 | K5: =E5+G5+I5 -> 0 | L5: =F5+H5+J5 -> 0 | N5: 01 | R5: 1
A6: 0101 본관 | D6: 1 | E6: =F7+F8+F9+F10 -> 0 | F6: =E6*D6 -> 0 | G6: =H7+H8+H9+H10 -> 0 | H6: =G6*D6 -> 0 | I6: =J7+J8+J9+J10 -> 0 | J6: =I6*D6 -> 0 | K6: =E6+G6+I6 -> 0 | L6: =F6+H6+J6 -> 0 | N6: 0101 | P6: 01 | R6: 2
A7: 010101 전기설비공사 | B7: 본관 | D7: 1 | E7: =공종별내역서!F51 -> 0 | F7: =E7*D7 -> 0 | G7: =공종별내역서!H51 -> 0 | H7: =G7*D7 -> 0 | I7: =공종별내역서!J51 -> 0 | J7: =I7*D7 -> 0 | K7: =E7+G7+I7 -> 0 | L7: =F7+H7+J7 -> 0 | N7: 010101 | P7: 0101 | R7: 3
A8: 010102 기타설비공사 | B8: 본관 | D8: 1 | E8: =공종별내역서!F75 -> 0 | F8: =E8*D8 -> 0 | G8: =공종별내역서!H75 -> 0 | H8: =G8*D8 -> 0 | I8: =공종별내역서!J75 -> 0 | J8: =I8*D8 -> 0 | K8: =E8+G8+I8 -> 0 | L8: =F8+H8+J8 -> 0 | N8: 010102 | P8: 0101 | R8: 3
A9: 010103 철거공사 | B9: 본관 | D9: 1 | E9: =공종별내역서!F99 -> 0 | F9: =E9*D9 -> 0 | G9: =공종별내역서!H99 -> 0 | H9: =G9*D9 -> 0 | I9: =공종별내역서!J99 -> 0 | J9: =I9*D9 -> 0 | K9: =E9+G9+I9 -> 0 | L9: =F9+H9+J9 -> 0 | N9: 010103 | P9: 0101 | R9: 3
A10: 010104 기타설비철거공사 | B10: 본관 | D10: 1 | E10: =공종별내역서!F123 -> 0 | F10: =E10*D10 -> 0 | G10: =공종별내역서!H123 -> 0 | H10: =G10*D10 -> 0 | I10: =공종별내역서!J123 -> 0 | J10: =I10*D10 -> 0 | K10: =E10+G10+I10 -> 0 | L10: =F10+H10+J10 -> 0 | N10: 010104 | P10: 0101 | R10: 3
A11: 0102 별관 | D11: 1 | E11: =F12+F13+F14+F15 -> 0 | F11: =E11*D11 -> 0 | G11: =H12+H13+H14+H15 -> 0 | H11: =G11*D11 -> 0 | I11: =J12+J13+J14+J15 -> 0 | J11: =I11*D11 -> 0 | K11: =E11+G11+I11 -> 0 | L11: =F11+H11+J11 -> 0 | N11: 0102 | P11: 01 | R11: 2
A12: 010201 전기설비공사 | B12: 별관 | D12: 1 | E12: =공종별내역서!F147 -> 0 | F12: =E12*D12 -> 0 | G12: =공종별내역서!H147 -> 0 | H12: =G12*D12 -> 0 | I12: =공종별내역서!J147 -> 0 | J12: =I12*D12 -> 0 | K12: =E12+G12+I12 -> 0 | L12: =F12+H12+J12 -> 0 | N12: 010201 | P12: 0102 | R12: 3
A13: 010202 기타설비공사 | B13: 별관 | D13: 1 | E13: =공종별내역서!F195 -> 0 | F13: =E13*D13 -> 0 | G13: =공종별내역서!H195 -> 0 | H13: =G13*D13 -> 0 | I13: =공종별내역서!J195 -> 0 | J13: =I13*D13 -> 0 | K13: =E13+G13+I13 -> 0 | L13: =F13+H13+J13 -> 0 | N13: 010202 | P13: 0102 | R13: 3
A14: 010203 철거공사 | B14: 별관 | D14: 1 | E14: =공종별내역서!F219 -> 0 | F14: =E14*D14 -> 0 | G14: =공종별내역서!H219 -> 0 | H14: =G14*D14 -> 0 | I14: =공종별내역서!J219 -> 0 | J14: =I14*D14 -> 0 | K14: =E14+G14+I14 -> 0 | L14: =F14+H14+J14 -> 0 | N14: 010203 | P14: 0102 | R14: 3
A15: 010204 기타설비철거공사 | B15: 별관 | D15: 1 | E15: =공종별내역서!F243 -> 0 | F15: =E15*D15 -> 0 | G15: =공종별내역서!H243 -> 0 | H15: =G15*D15 -> 0 | I15: =공종별내역서!J243 -> 0 | J15: =I15*D15 -> 0 | K15: =E15+G15+I15 -> 0 | L15: =F15+H15+J15 -> 0 | N15: 010204 | P15: 0102 | R15: 3
A16: 0103 부산물공제 | D16: 1 | E16: =공종별내역서!F267 -> 0 | F16: =E16*D16 -> 0 | G16: =공종별내역서!H267 -> 0 | H16: =G16*D16 -> 0 | I16: =공종별내역서!J267 -> 0 | J16: =I16*D16 -> 0 | K16: =E16+G16+I16 -> 0 | L16: =F16+H16+J16 -> 0 | N16: 0103 | Q16: 1 | R16: 2 | T16: =L16*1 -> 0
A27: [ 합 계 ] | F27: =F5 -> 0 | H27: =H5 -> 0 | J27: =J5 -> 0 | L27: =L5 -> 0

Sheet 공종별내역서
A1: [ 청주성신학교 고교학점제 교육환경개선 구축 전기공사 ]
A2: 품 명 | B2: 규 격 | C2: 단위 | D2: 수량 | E2: 재 료 비 | G2: 노 무 비 | I2: 경 비 | K2: 합 계 | M2: 비 고 | N2: 품목코드 | O2: 변수 | P2: 설정 | Q2: 공종코드 | R2: 일위 | S2: 단산 | T2: 자재 | U2: 손료적용 | V2: 손료저장 | W2: 적용율 | X2: JUK1 | Y2: JUK2 | Z2: JUK3 | AA2: JUK4 | AB2: JUK5 | AC2: JUK6 | AD2: JUK7 | AE2: JUK8 | AF2: JUK9 | AG2: JUK10 | AH2: JUK11 | AI2: JUK12 | AJ2: JUK13 | AK2: JUK14 | AL2: JUK15 | AM2: JUK16 | AN2: JUK17 | AO2: JUK18 | AP2: JUK19 | AQ2: JUK20 | AR2: 자재구분 | AS2: 공종구분 | AT2: 공종레벨 | AU2: 공종+자재 | AV2: 고유번호
E3: 단 가 | F3: 금 액 | G3: 단 가 | H3: 금 액 | I3: 단 가 | J3: 금 액 | K3: 단 가 | L3: 금 액
A4: 010101 전기설비공사 | B4: 본관 | Q4: 010101
A5: 450/750V 저독성난연가교폴리올레핀절연전선(2열) | B5: HFIX, 1.78 ㎜(2.5SQ) | C5: m | D5: 92 | K5: =TRUNC(E5+G5+I5, 0) -> 0 | L5: =TRUNC(F5+H5+J5, 0) -> 0 | M5: 호표 1 | N5: 45F75A9408AB6E8AD1713F3354D1C | Q5: 010101 | R5: T | S5: F | T5: F | AU5: 01010145F75A9408AB6E8AD1713F3354D1C | AV5: 5
A6: 450/750V 저독성난연가교폴리올레핀절연전선(2열) | B6: HFIX, 2.25 ㎜(4.0SQ) | C6: m | D6: 85 | K6: =TRUNC(E6+G6+I6, 0) -> 0 | L6: =TRUNC(F6+H6+J6, 0) -> 0 | M6: 호표 2 | N6: 45F75A9408AB6E8AD1713F3354C75 | Q6: 010101 | R6: T | S6: F | T6: F | AU6: 01010145F75A9408AB6E8AD1713F3354C75 | AV6: 6
A7: 나사 없는 전선관 | B7: E19 | C7: m | D7: 40 | K7: =TRUNC(E7+G7+I7, 0) -> 0 | L7: =TRUNC(F7+H7+J7, 0) -> 0 | M7: 호표 3 | N7: 45F75A9408AB6E8AD1713F337796A | Q7: 010101 | R7: T | S7: F | T7: F | AU7: 01010145F75A9408AB6E8AD1713F337796A | AV7: 8
A8: 1종금속제가요전선관 | B8: 16mm, 비방수 | C8: m | D8: 18 | K8: =TRUNC(E8+G8+I8, 0) -> 0 | L8: =TRUNC(F8+H8+J8, 0) -> 0 | M8: 호표 4 | N8: 45F75A9408AB6E8AD1713F3377843 | Q8: 010101 | R8: T | S8: F | T8: F | AU8: 01010145F75A9408AB6E8AD1713F3377843 | AV8: 140
A9: 박스커넥터 | B9: 16mm, 비방수 | C9: 개 | D9: 38 | K9: =TRUNC(E9+G9+I9, 0) -> 0 | L9: =TRUNC(F9+H9+J9, 0) -> 0 | M9: 자재 33 | N9: 425D507B18467EC721731E2144443BB90CF5B | Q9: 010101 | R9: F | S9: F | T9: T | AU9: 010101425D507B18467EC721731E2144443BB90CF5B | AV9: 141
A10: 볼트고정식이음쇠-커플링 | B10: E19 | C10: 개 | D10: 11 | K10: =TRUNC(E10+G10+I10, 0) -> 0 | L10: =TRUNC(F10+H10+J10, 0) -> 0 | M10: 자재 37 | N10: 425D507B18467EC72173F5DD6B0F0F5A25482 | Q10: 010101 | R10: F | S10: F | T10: T | AU10: 010101425D507B18467EC72173F5DD6B0F0F5A25482 | AV10: 11
A11: 볼트고정식이음쇠-커넥터 | B11: E19 | C11: 개 | D11: 116 | K11: =TRUNC(E11+G11+I11, 0) -> 0 | L11: =TRUNC(F11+H11+J11, 0) -> 0 | M11: 자재 38 | N11: 425D507B18467EC72173F5DD6B0F0F5A255AB | Q11: 010101 | R11: F | S11: F | T11: T | AU11: 010101425D507B18467EC72173F5DD6B0F0F5A255AB | AV11: 12
A12: 나사없는전선관지지행거(단독) | B12: E19 | C12: 개소 | D12: 23 | K12: =TRUNC(E12+G12+I12, 0) -> 0 | L12: =TRUNC(F12+H12+J12, 0) -> 0 | M12: 호표 5 | N12: 45315A7358D40B31917B3D24BDBAD | Q12: 010101 | R12: T | S12: F | T12: F | AU12: 01010145315A7358D40B31917B3D24BDBAD | AV12: 13
A13: 아웃렛박스 | B13: 중형4각, 54mm | C13: 개 | D13: 21 | K13: =TRUNC(E13+G13+I13, 0) -> 0 | L13: =TRUNC(F13+H13+J13, 0) -> 0 | M13: 호표 6 | N13: 45F75A9408AB6E8AD1713F334A85F | Q13: 010101 | R13: T | S13: F | T13: F | AU13: 01010145F75A9408AB6E8AD1713F334A85F | AV13: 14
A14: 아웃렛박스, 커버 | B14: 4각, 평 | C14: 개 | D14: 11 | K14: =TRUNC(E14+G14+I14, 0) -> 0 | L14: =TRUNC(F14+H14+J14, 0) -> 0 | M14: 자재 18 | N14: 425D507B1850CABBC17A3A3C650EE4C3AADD2 | Q14: 010101 | R14: F | S14: F | T14: T | AU14: 010101425D507B1850CABBC17A3A3C650EE4C3AADD2 | AV14: 142
A15: 아웃렛박스, 커버 | B15: 4각, 둥근구멍, 오목 | C15: 개 | D15: 9 | K15: =TRUNC(E15+G15+I15, 0) -> 0 | L15: =TRUNC(F15+H15+J15, 0) -> 0 | M15: 자재 19 | N15: 425D507B1850CABBC17A3A3C650EE4C3AADD5 | Q15: 010101 | R15: F | S15: F | T15: T | AU15: 010101425D507B1850CABBC17A3A3C650EE4C3AADD5 | AV15: 16
A16: 스위치박스 | B16: 1개용, 54mm | C16: 개 | D16: 33 | K16: =TRUNC(E16+G16+I16, 0) -> 0 | L16: =TRUNC(F16+H16+J16, 0) -> 0 | M16: 호표 7 | N16: 45F75A9408AB6E8AD1713F33547F4 | Q16: 010101 | R16: T | S16: F | T16: F | AU16: 01010145F75A9408AB6E8AD1713F33547F4 | AV16: 18
... A29: 배관용 구멍뚫기(코어드릴)Con,c | B29: 두께15cm이하 Ø100mm, 벽 | C29: 개소 | D29: 1 | K29: =TRUNC(E29+G29+I29, 0) -> 0 | L29: =TRUNC(F29+H29+J29, 0) -> 0 | M29: 호표 18 | N29: 45315A735850AF9281711FF030B92 | Q29: 010101 | R29: T | S29: F | T29: F | AU29: 01010145315A735850AF9281711FF030B92 | AV29: 152
Q30: 010101
Q31: 010101
Q32: 010101
Q33: 010101
Q34: 010101
Q35: 010101
Q36: 010101
Q37: 010101
Q38: 010101
Q39: 010101
Q40: 010101
Q41: 010101
... Q50: 010101
A51: [ 합 계 ] | L51: =SUMIF(Q5:Q50,"010101",L5:L50) -> 0 | N51: TOTAL
A52: 010102 기타설비공사 | B52: 본관 | Q52: 010102
A53: 450/750V 저독성난연가교폴리올레핀절연전선(2열) | B53: HFIX, 1.38 ㎜(1.5SQ) | C53: m | D53: 4 | K53: =TRUNC(E53+G53+I53, 0) -> 0 | L53: =TRUNC(F53+H53+J53, 0) -> 0 | M53: 호표 19 | N53: 45F75A9408AB6E8AD1713F3354E23 | Q53: 010102 | R53: T | S53: F | T53: F | AU53: 01010245F75A9408AB6E8AD1713F3354E23 | AV53: 33
A54: 동축케이블 | B54: 5C-HFBT | C54: m | D54: 5 | K54: =TRUNC(E54+G54+I54, 0) -> 0 | L54: =TRUNC(F54+H54+J54, 0) -> 0 | M54: 호표 20 | N54: 45F75A9408AB6E8AD1713F331D6AE | Q54: 010102 | R54: T | S54: F | T54: F | AU54: 01010245F75A9408AB6E8AD1713F331D6AE | AV54: 131
A55: 1종금속제가요전선관 | B55: 16mm, 비방수 | C55: m | D55: 7 | K55: =TRUNC(E55+G55+I55, 0) -> 0 | L55: =TRUNC(F55+H55+J55, 0) -> 0 | M55: 호표 4 | N55: 45F75A9408AB6E8AD1713F3377843 | Q55: 010102 | R55: T | S55: F | T55: F | AU55: 01010245F75A9408AB6E8AD1713F3377843 | AV55: 143
A56: 박스커넥터 | B56: 16mm, 비방수 | C56: 개 | D56: 16 | K56: =TRUNC(E56+G56+I56, 0) -> 0 | L56: =TRUNC(F56+H56+J56, 0) -> 0 | M56: 자재 33 | N56: 425D507B18467EC721731E2144443BB90CF5B | Q56: 010102 | R56: F | S56: F | T56: T | AU56: 010102425D507B18467EC721731E2144443BB90CF5B | AV56: 144
A57: 아웃렛박스, 커버 | B57: 4각, 둥근구멍, 오목 | C57: 개 | D57: 3 | K57: =TRUNC(E57+G57+I57, 0) -> 0 | L57: =TRUNC(F57+H57+J57, 0) -> 0 | M57: 자재 19 | N57: 425D507B1850CABBC17A3A3C650EE4C3AADD5 | Q57: 010102 | R57: F | S57: F | T57: T | AU57: 010102425D507B1850CABBC17A3A3C650EE4C3AADD5 | AV57: 41
A58: 스위치박스 | B58: 1개용, 54mm | C58: 개 | D58: 10 | K58: =TRUNC(E58+G58+I58, 0) -> 0 | L58: =TRUNC(F58+H58+J58, 0) -> 0 | M58: 호표 7 | N58: 45F75A9408AB6E8AD1713F33547F4 | Q58: 010102 | R58: T | S58: F | T58: F | AU58: 01010245F75A9408AB6E8AD1713F33547F4 | AV58: 42
A59: 리셉터클 | B59: 모듈러잭 4구 | C59: 개 | D59: 6 | K59: =TRUNC(E59+G59+I59, 0) -> 0 | L59: =TRUNC(F59+H59+J59, 0) -> 0 | M59: 호표 21 | N59: 45F75A9408AB6E8AD1713F334AEE8 | Q59: 010102 | R59: T | S59: F | T59: F | AU59: 01010245F75A9408AB6E8AD1713F334AEE8 | AV59: 48
A60: HDMI 모듈러잭 | B60: 1구 (ㄱ변환젠더) | C60: 개 | D60: 5 | K60: =TRUNC(E60+G60+I60, 0) -> 0 | L60: =TRUNC(F60+H60+J60, 0) -> 0 | M60: 호표 22 | N60: 45F75A9408AB6E8AD1713F334AB14 | Q60: 010102 | R60: T | S60: F | T60: F | AU60: 01010245F75A9408AB6E8AD1713F334AB14 | AV60: 147
A61: 스피커 | B61: PA용스피커, Wall형, 10W | C61: 개 | D61: 4 | K61: =TRUNC(E61+G61+I61, 0) -> 0 | L61: =TRUNC(F61+H61+J61, 0) -> 0 | M61: 호표 23 | N61: 45F75A9408AB6E8AD1713F336540E | Q61: 010102 | R61: T | S61: F | T61: F | AU61: 01010245F75A9408AB6E8AD1713F336540E | AV61: 50
A62: 스피커(기존재설치) | B62: 바닥상치 | C62: 개 | D62: 1 | K62: =TRUNC(E62+G62+I62, 0) -> 0 | L62: =TRUNC(F62+H62+J62, 0) -> 0 | M62: 호표 24 | N62: 45F75A9408AB6E8AD1713F33657C2 | Q62: 010102 | R62: T | S62: F | T62: F | AU62: 01010245F75A9408AB6E8AD1713F33657C2 | AV62: 51
A63: TV수구 | B63: TV 유니트, 단말용 | C63: 개 | D63: 4 | K63: =TRUNC(E63+G63+I63, 0) -> 0 | L63: =TRUNC(F63+H63+J63, 0) -> 0 | M63: 호표 25 | N63: 45F75A9408AB6E8AD1713F3354B6E | Q63: 010102 | R63: T | S63: F | T63: F | AU63: 01010245F75A9408AB6E8AD1713F3354B6E | AV63: 52
A64: 배관용 홈파기 | B64: Ø22mm 이하용 | C64: M | D64: 9 | K64: =TRUNC(E64+G64+I64, 0) -> 0 | L64: =TRUNC(F64+H64+J64, 0) -> 0 | M64: 호표 16 | N64: 45315A735850AF928171EB7038DAE | Q64: 010102 | R64: T | S64: F | T64: F | AU64: 01010245315A735850AF928171EB7038DAE | AV64: 145
Q65: 010102
Q66: 010102
Q67: 010102
Q68: 010102
Q69: 010102
Q70: 010102
Q71: 010102
Q72: 010102
Q73: 010102
Q74: 010102
A75: [ 합 계 ] | L75: =SUMIF(Q53:Q74,"010102",L53:L74) -> 0 | N75: TOTAL
A76: 010103 철거공사 | B76: 본관 | Q76: 010103
A77: 전선덕트(철거) | C77: m | D77: 30 | K77: =TRUNC(E77+G77+I77, 0) -> 0 | L77: =TRUNC(F77+H77+J77, 0) -> 0 | M77: 호표 26 | N77: 45F75A9408AB6E8AD1713F3365093 | Q77: 010103 | R77: T | S77: F | T77: F | AU77: 01010345F75A9408AB6E8AD1713F3365093 | AV77: 60
A78: 시스템 박스(커버철거) | C78: 개 | D78: 12 | K78: =TRUNC(E78+G78+I78, 0) -> 0 | L78: =TRUNC(F78+H78+J78, 0) -> 0 | M78: 호표 27 | N78: 45F75A9408AB6E8AD1713F33549A1 | Q78: 010103 | R78: T | S78: F | T78: F | AU78: 01010345F75A9408AB6E8AD1713F33549A1 | AV78: 55
A79: 배관및전선정리(내부) | C79: 식 | D79: 1 | K79: =TRUNC(E79+G79+I79, 0) -> 0 | L79: =TRUNC(F79+H79+J79, 0) -> 0 | M79: 호표 28 | N79: 45315A75082DFF6531720893C8BA5 | Q79: 010103 | R79: T | S79: F | T79: F | AU79: 01010345315A75082DFF6531720893C8BA5 | AV79: 128
A80: 콘센트(철거) | B80: 15A, 250V, 매입형, 접지 | C80: 개 | D80: 14 | K80: =TRUNC(E80+G80+I80, 0) -> 0 | L80: =TRUNC(F80+H80+J80, 0) -> 0 | M80: 호표 29 | N80: 45F75A9408AB6E8AD1713F334AA0D | Q80: 010103 | R80: T | S80: F | T80: F | AU80: 01010345F75A9408AB6E8AD1713F334AA0D | AV80: 57
A81: 텀블러스위치(철거) | B81: 와이드스위치, 1로스위치, 15A250V2구 | C81: 개 | D81: 11 | K81: =TRUNC(E81+G81+I81, 0) -> 0 | L81: =TRUNC(F81+H81+J81, 0) -> 0 | M81: 호표 30 | N81: 45F75A9408AB6E8AD1713F3377DC5 | Q81: 010103 | R81: T | S81: F | T81: F | AU81: 01010345F75A9408AB6E8AD1713F3377DC5 | AV81: 58
Q82: 010103
Q83: 010103
Q84: 010103
Q85: 010103
Q86: 010103
Q87: 010103
Q88: 010103
Q89: 010103
Q90: 010103
Q91: 010103
Q92: 010103
Q93: 010103
... Q98: 010103
A99: [ 합 계 ] | L99: =SUMIF(Q77:Q98,"010103",L77:L98) -> 0 | N99: TOTAL
A100: 010104 기타설비철거공사 | B100: 본관 | Q100: 010104
A101: 전선덕트(철거) | C101: m | D101: 10 | K101: =TRUNC(E101+G101+I101, 0) -> 0 | L101: =TRUNC(F101+H101+J101, 0) -> 0 | M101: 호표 26 | N101: 45F75A9408AB6E8AD1713F3365093 | Q101: 010104 | R101: T | S101: F | T101: F | AU101: 01010445F75A9408AB6E8AD1713F3365093 | AV101: 151
A102: 배관및전선정리(내부) | C102: 식 | D102: 1 | K102: =TRUNC(E102+G102+I102, 0) -> 0 | L102: =TRUNC(F102+H102+J102, 0) -> 0 | M102: 호표 28 | N102: 45315A75082DFF6531720893C8BA5 | Q102: 010104 | R102: T | S102: F | T102: F | AU102: 01010445315A75082DFF6531720893C8BA5 | AV102: 129
A103: 리셉터클(철거) | B103: 전화용, 모듈러잭 | C103: 개 | D103: 7 | K103: =TRUNC(E103+G103+I103, 0) -> 0 | L103: =TRUNC(F103+H103+J103, 0) -> 0 | M103: 호표 31 | N103: 45F75A9408AB6E8AD1713F334AC3A | Q103: 010104 | R103: T | S103: F | T103: F | AU103: 01010445F75A9408AB6E8AD1713F334AC3A | AV103: 62
A104: 리셉터클(철거) | B104: TV유닛 | C104: 개 | D104: 4 | K104: =TRUNC(E104+G104+I104, 0) -> 0 | L104: =TRUNC(F104+H104+J104, 0) -> 0 | M104: 호표 32 | N104: 45F75A9408AB6E8AD1713F334ADC1 | Q104: 010104 | R104: T | S104: F | T104: F | AU104: 01010445F75A9408AB6E8AD1713F334ADC1 | AV104: 63
A105: 스피커(철거) | C105: 개 | D105: 4 | K105: =TRUNC(E105+G105+I105, 0) -> 0 | L105: =TRUNC(F105+H105+J105, 0) -> 0 | M105: 호표 33 | N105: 45F75A9408AB6E8AD1713F336563B | Q105: 010104 | R105: T | S105: F | T105: F | AU105: 01010445F75A9408AB6E8AD1713F336563B | AV105: 65
Q106: 010104
Q107: 010104
Q108: 010104
Q109: 010104
Q110: 010104
Q111: 010104
Q112: 010104
Q113: 010104
Q114: 010104
Q115: 010104
Q116: 010104
Q117: 010104
... Q122: 010104
A123: [ 합 계 ] | L123: =SUMIF(Q101:Q122,"010104",L101:L122) -> 0 | N123: TOTAL
A124: 010201 전기설비공사 | B124: 별관 | Q124: 010201
A125: 450/750V 저독성난연가교폴리올레핀절연전선(2열) | B125: HFIX, 1.78 ㎜(2.5SQ) | C125: m | D125: 180 | K125: =TRUNC(E125+G125+I125, 0) -> 0 | L125: =TRUNC(F125+H125+J125, 0) -> 0 | M125: 호표 1 | N125: 45F75A9408AB6E8AD1713F3354D1C | Q125: 010201 | R125: T | S125: F | T125: F | AU125: 01020145F75A9408AB6E8AD1713F3354D1C | AV125: 68
A126: 450/750V 저독성난연가교폴리올레핀절연전선(2열) | B126: HFIX, 2.25 ㎜(4.0SQ) | C126: m | D126: 81 | K126: =TRUNC(E126+G126+I126, 0) -> 0 | L126: =TRUNC(F126+H126+J126, 0) -> 0 | M126: 호표 2 | N126: 45F75A9408AB6E8AD1713F3354C75 | Q126: 010201 | R126: T | S126: F | T126: F | AU126: 01020145F75A9408AB6E8AD1713F3354C75 | AV126: 69
A127: 나사 없는 전선관 | B127: E19 | C127: m | D127: 66 | K127: =TRUNC(E127+G127+I127, 0) -> 0 | L127: =TRUNC(F127+H127+J127, 0) -> 0 | M127: 호표 3 | N127: 45F75A9408AB6E8AD1713F337796A | Q127: 010201 | R127: T | S127: F | T127: F | AU127: 01020145F75A9408AB6E8AD1713F337796A | AV127: 70
A128: 1종금속제가요전선관 | B128: 16mm, 비방수 | C128: m | D128: 19 | K128: =TRUNC(E128+G128+I128, 0) -> 0 | L128: =TRUNC(F128+H128+J128, 0) -> 0 | M128: 호표 4 | N128: 45F75A9408AB6E8AD1713F3377843 | Q128: 010201 | R128: T | S128: F | T128: F | AU128: 01020145F75A9408AB6E8AD1713F3377843 | AV128: 71
...

Sheet 공량설정_일위대가
A1: 일위대가 | B1: 적용율(%) | C1: 소수점이하자릿수 | D1: 일위대가 코드
A2: 450/750V 저독성난연가교폴리올레핀절연전선(2열) HFIX, 1.78 ㎜(2.5SQ) (호표 1) | B2: 100 | D2: 45F75A9408AB6E8AD1713F3354D1C
A3: 내선전공 | C3: 3 | D3: 45F75A9408AB6E8AD1713F3354D1C45A95E4E48AF67BF81725CF08CA9B8AA9196C
A4: 450/750V 저독성난연가교폴리올레핀절연전선(2열) HFIX, 2.25 ㎜(4.0SQ) (호표 2) | B4: 100 | D4: 45F75A9408AB6E8AD1713F3354C75
A5: 내선전공 | C5: 3 | D5: 45F75A9408AB6E8AD1713F3354C7545A95E4E48AF67BF81725CF08CA9B8AA9196C
A6: 나사 없는 전선관 E19 (호표 3) | B6: 100 | D6: 45F75A9408AB6E8AD1713F337796A
A7: 내선전공 | C7: 3 | D7: 45F75A9408AB6E8AD1713F337796A45A95E4E48AF67BF81725CF08CA9B8AA9196C
A8: 1종금속제가요전선관 16mm, 비방수 (호표 4) | B8: 100 | D8: 45F75A9408AB6E8AD1713F3377843
A9: 내선전공 | C9: 4 | D9: 45F75A9408AB6E8AD1713F337784345A95E4E48AF67BF81725CF08CA9B8AA9196C
A10: 나사없는전선관지지행거(단독) E19 (호표 5) | B10: 100 | D10: 45315A7358D40B31917B3D24BDBAD
A11: 내선전공 | C11: 3 | D11: 45315A7358D40B31917B3D24BDBAD45A95E4E48AF67BF81725CF08CA9B8AA9196C
A12: 아웃렛박스 중형4각, 54mm (호표 6) | B12: 100 | D12: 45F75A9408AB6E8AD1713F334A85F
A13: 내선전공 | C13: 3 | D13: 45F75A9408AB6E8AD1713F334A85F45A95E4E48AF67BF81725CF08CA9B8AA9196C
A14: 스위치박스 1개용, 54mm (호표 7) | B14: 100 | D14: 45F75A9408AB6E8AD1713F33547F4
A15: 내선전공 | C15: 3 | D15: 45F75A9408AB6E8AD1713F33547F445A95E4E48AF67BF81725CF08CA9B8AA9196C
A16: 텍스철거후재시공 자재별도 (호표 8) | B16: 100 | D16: 45315A71A8C1071C9170E451554E9
A17: 건축목공 | C17: 3 | D17: 45315A71A8C1071C9170E451554E945A95E4E48AF67BF81725CF08CA9B8AA91C3D
A18: 보통인부 | C18: 2 | D18: 45315A71A8C1071C9170E451554E945A95E4E48AF67BF81725CF08CA9B8AA91EE9
A19: 시스템 박스 커버 신설(교체) (호표 9) | B19: 100 | D19: 45315A750886714AB177C84672903
A20: 내선전공 | C20: 4 | D20: 45315A750886714AB177C8467290345A95E4E48AF67BF81725CF08CA9B8AA9196C
A21: 멀티와이어덕트 W:70xH:43 (호표 10) | B21: 100 | D21: 45F75A9408AB6E8AD1713F3377A71
A22: 내선전공 | C22: 2 | D22: 45F75A9408AB6E8AD1713F3377A7145A95E4E48AF67BF81725CF08CA9B8AA9196C
A23: 콘센트 2구, 15A, 250V, 매입형, 접지 (호표 11) | B23: 100 | D23: 45F75A9408AB6E8AD1713F334A966
A24: 내선전공 | C24: 2 | D24: 45F75A9408AB6E8AD1713F334A96645A95E4E48AF67BF81725CF08CA9B8AA9196C
A25: 와이드스위치 15A250V1구 (호표 12) | B25: 100 | D25: 45F75A9408AB6E8AD1713F334A009
A26: 내선전공 | C26: 3 | D26: 45F75A9408AB6E8AD1713F334A00945A95E4E48AF67BF81725CF08CA9B8AA9196C
A27: 와이드스위치 15A250V2구 (호표 13) | B27: 100 | D27: 45F75A9408AB6E8AD1713F334A110
A28: 내선전공 | C28: 3 | D28: 45F75A9408AB6E8AD1713F334A11045A95E4E48AF67BF81725CF08CA9B8AA9196C
A29: 와이드스위치 15A250V3구 (호표 14) | B29: 100 | D29: 45F75A9408AB6E8AD1713F3377C3E
A30: 내선전공 | C30: 3 | D30: 45F75A9408AB6E8AD1713F3377C3E45A95E4E48AF67BF81725CF08CA9B8AA9196C
A31: A-TYPE LED, 18W (간접등) (호표 15) | B31: 100 | D31: 45F75A9408AB6E8AD1713F3354A48
A32: 내선전공 | C32: 4 | D32: 45F75A9408AB6E8AD1713F3354A4845A95E4E48AF67BF81725CF08CA9B8AA9196C
A33: 배관용 홈파기 Ø22mm 이하용 (호표 16) | B33: 100 | D33: 45315A735850AF928171EB7038DAE
A34: 보통인부 | C34: 2 | D34: 45315A735850AF928171EB7038DAE45A95E4E48AF67BF81725CF08CA9B8AA91EE9
A35: 내화채움구조(수평차열재포함) 22mm,차열2시간 (호표 17) | B35: 100 | D35: 42325DE338170B195171746E6795F
A36: 보통인부 | C36: 3 | D36: 42325DE338170B195171746E6795F45A95E4E48AF67BF81725CF08CA9B8AA91EE9
A37: 배관공 | C37: 3 | D37: 42325DE338170B195171746E6795F45A95E4E48AF67BF81725CF08CA9B8AA91DCD
A38: 배관용 구멍뚫기(코어드릴)Con,c 두께15cm이하 Ø100mm, 벽 (호표 18) | B38: 100 | D38: 45315A735850AF9281711FF030B92
A39: 보통인부 | C39: 3 | D39: 45315A735850AF9281711FF030B9245A95E4E48AF67BF81725CF08CA9B8AA91EE9
A40: 착암공 | C40: 3 | D40: 45315A735850AF9281711FF030B9245A95E4E48AF67BF81725CF08CA9B8AA91FF7
A41: 450/750V 저독성난연가교폴리올레핀절연전선(2열) HFIX, 1.38 ㎜(1.5SQ) (호표 19) | B41: 100 | D41: 45F75A9408AB6E8AD1713F3354E23
A42: 내선전공 | C42: 3 | D42: 45F75A9408AB6E8AD1713F3354E2345A95E4E48AF67BF81725CF08CA9B8AA9196C
A43: 동축케이블 5C-HFBT (호표 20) | B43: 100 | D43: 45F75A9408AB6E8AD1713F331D6AE
A44: 내선전공 | C44: 3 | D44: 45F75A9408AB6E8AD1713F331D6AE45A95E4E48AF67BF81725CF08CA9B8AA9196C
A45: 리셉터클 모듈러잭 4구 (호표 21) | B45: 100 | D45: 45F75A9408AB6E8AD1713F334AEE8
A46: 통신내선공 | C46: 4 | D46: 45F75A9408AB6E8AD1713F334AEE845A95E4E48AF67BF81725CF08CA9B8AA91693
A47: HDMI 모듈러잭 1구 (ㄱ변환젠더) (호표 22) | B47: 100 | D47: 45F75A9408AB6E8AD1713F334AB14
A48: 내선전공 | C48: 3 | D48: 45F75A9408AB6E8AD1713F334AB1445A95E4E48AF67BF81725CF08CA9B8AA9196C
A49: 스피커 PA용스피커, Wall형, 10W (호표 23) | B49: 100 | D49: 45F75A9408AB6E8AD1713F336540E
A50: 내선전공 | C50: 3 | D50: 45F75A9408AB6E8AD1713F336540E45A95E4E48AF67BF81725CF08CA9B8AA9196C
A51: 스피커(기존재설치) 바닥상치 (호표 24) | B51: 100 | D51: 45F75A9408AB6E8AD1713F33657C2
A52: 내선전공 | C52: 4 | D52: 45F75A9408AB6E8AD1713F33657C245A95E4E48AF67BF81725CF08CA9B8AA9196C
A53: TV수구 TV 유니트, 단말용 (호표 25) | B53: 100 | D53: 45F75A9408AB6E8AD1713F3354B6E
A54: 내선전공 | C54: 2 | D54: 45F75A9408AB6E8AD1713F3354B6E45A95E4E48AF67BF81725CF08CA9B8AA9196C
A55: 전선덕트(철거) (호표 26) | B55: 100 | D55: 45F75A9408AB6E8AD1713F3365093
A56: 내선전공 | C56: 2 | D56: 45F75A9408AB6E8AD1713F336509345A95E4E48AF67BF81725CF08CA9B8AA9196C
A57: 시스템 박스(커버철거) (호표 27) | B57: 100 | D57: 45F75A9408AB6E8AD1713F33549A1
A58: 내선전공 | C58: 3 | D58: 45F75A9408AB6E8AD1713F33549A145A95E4E48AF67BF81725CF08CA9B8AA9196C
A59: 배관및전선정리(내부) (호표 28) | B59: 100 | D59: 45315A75082DFF6531720893C8BA5
A60: 내선전공 | C60: 1 | D60: 45315A75082DFF6531720893C8BA545A95E4E48AF67BF81725CF08CA9B8AA9196C
A61: 콘센트(철거) 15A, 250V, 매입형, 접지 (호표 29) | B61: 100 | D61: 45F75A9408AB6E8AD1713F334AA0D
A62: 내선전공 | C62: 3 | D62: 45F75A9408AB6E8AD1713F334AA0D45A95E4E48AF67BF81725CF08CA9B8AA9196C
A63: 텀블러스위치(철거) 와이드스위치, 1로스위치, 15A250V2구 (호표 30) | B63: 100 | D63: 45F75A9408AB6E8AD1713F3377DC5
A64: 내선전공 | C64: 4 | D64: 45F75A9408AB6E8AD1713F3377DC545A95E4E48AF67BF81725CF08CA9B8AA9196C
A65: 리셉터클(철거) 전화용, 모듈러잭 (호표 31) | B65: 100 | D65: 45F75A9408AB6E8AD1713F334AC3A
A66: 내선전공 | C66: 4 | D66: 45F75A9408AB6E8AD1713F334AC3A45A95E4E48AF67BF81725CF08CA9B8AA9196C
A67: 리셉터클(철거) TV유닛 (호표 32) | B67: 100 | D67: 45F75A9408AB6E8AD1713F334ADC1
A68: 내선전공 | C68: 3 | D68: 45F75A9408AB6E8AD1713F334ADC145A95E4E48AF67BF81725CF08CA9B8AA9196C
A69: 스피커(철거) (호표 33) | B69: 100 | D69: 45F75A9408AB6E8AD1713F336563B
A70: 내선전공 | C70: 3 | D70: 45F75A9408AB6E8AD1713F336563B45A95E4E48AF67BF81725CF08CA9B8AA9196C
A71: 콘센트 2구, 16A, 250V, 방우형 (호표 34) | B71: 100 | D71: 45F75A9408AB6E8AD1713F334AF8F
A72: 내선전공 | C72: 2 | D72: 45F75A9408AB6E8AD1713F334AF8F45A95E4E48AF67BF81725CF08CA9B8AA9196C
A73: 와이드스위치 15A250V4구 (호표 35) | B73: 100 | D73: 45F75A9408AB6E8AD1713F3377EEC
A74: 내선전공 | C74: 3 | D74: 45F75A9408AB6E8AD1713F3377EEC45A95E4E48AF67BF81725CF08CA9B8AA9196C
A75: 모듈러잭 1구 (호표 36) | B75: 100 | D75: 45F75A9408AB6E8AD1713F1085A9B
A76: 내선전공 | C76: 3 | D76: 45F75A9408AB6E8AD1713F1085A9B45A95E4E48AF67BF81725CF08CA9B8AA9196C
A77: 스피커 PA용스피커, PVC/Ceiling형, 3W (호표 37) | B77: 100 | D77: 45F75A9408AB6E8AD1713F3365514
A78: 내선전공 | C78: 2 | D78: 45F75A9408AB6E8AD1713F336551445A95E4E48AF67BF81725CF08CA9B8AA9196C
A79: AP설비(기존) 유무선공유기 (호표 38) | B79: 100 | D79: 45F75A9408AB6E8AD1713F33774E8
A80: 내선전공 | C80: 3 | D80: 45F75A9408AB6E8AD1713F33774E845A95E4E48AF67BF81725CF08CA9B8AA9196C
A81: 화장실 비상벨 송신기(기존재설치) 무선 (호표 39) | B81: 100 | D81: 45F75A9408AB6E8AD1713F3377B17
A82: 내선전공 | C82: 3 | D82: 45F75A9408AB6E8AD1713F3377B1745A95E4E48AF67BF81725CF08CA9B8AA9196C
A83: 모르타르비빔 배합용적비 1:3, 시멘트 별도 (호표 40) | B83: 100 | D83: 457B57FD1899D663D17C3094FF7F0
A84: 보통인부 | C84: 2 | D84: 457B57FD1899D663D17C3094FF7F045A95E4E48AF67BF81725CF08CA9B8AA91EE9

Sheet  공사설정 
A1: 이 Sheet는 수정하지 마십시요
A2: 공사구분 | B2: D | C2: 타이틀
A3: 확정내역 | B3: 원내역
A4: 자재단가적용 | B4: 5
A5: 경비단가적용 | B5: 5
A6: 품목코드형식 | B6: XXXX-XXXX-XXXXXXXXX
A7: 내역금액소수점처리 | B7: C | C7: 1
A8: 일위대가내역소수점처리 | B8: C | C8: 2
A9: 단가명 | B9: 조달청가격 | C9: 거래가격 | D9: 유통물가 | E9: 조사가격1 | F9: 조사가격2 | G9: TTTTT
A10: 환율 | B10: 1466 | C10: 931 | D10: 0
A11: 시간당작업량 | B11: R | C11: 4
A12: 1회 사이클시간 | B12: R | C12: 4
A13: 시간당 작업사이클 | B13: R | C13: 3
A14: 일반변수 | B14: C | C14: 5
A15: 시간당 노임산출 계수 | B15: A | C15: 1/8*16/12*25/20 | D15: 1/8*16/12*25/20 | E15: 1/8*16/12*25/20 | F15: 1
A16: 재료비 할증 계수 | B16: 1.11 | C16: 1.12
A17: 노무비 할증 계수 | B17: 1 | C17: 1.5 | D17: 1.16 | E17: 1.6 | F17: 1.6 | G17: 1.6 | H17: 1.94 | I17: 1.94 | J17: 1.94 | K17: 1 | L17: 1 | M17: 1
A18: 경비 할증 계수 | B18: 1.25 | C18: 1.071
A19: 내역,일위대가 품명,규격,단위 따로적용
A20: 내역단가 소수점처리 | B20: C | C20: 1
A21: 코드 | B21: 공종구분명 | C21: 원가비목코드
A22: 1 | B22: 작 업 부 산 물 | C22: A3
A23: 2 | B23: 운 반 비 | C23: C1
A24: 3 | B24: 관 급 자 재 비 | C24: DJ
A25: 4 | B25: 사 급 자 재 비 | C25: D3
A26: 5 | B26: 외 자 재
A27: 6 | B27: 폐기물처리비 | C27: D4
A28: 7 | B28: 관급자관급 | C28: DK
A29: 8 | B29: 도급자관급 | C29: DL
A30: 9 | B30: 수수료 | C30: DM
A31: A | B31: 조달수수료 | C31: DN
A32: B | B32: 공사안전보건대장 | C32: D5
A33: C | B33: ....
A34: D | B34: ....
A35: E | B35: ....
A36: F | B36: ....
A37: G | B37: ....
A38: H | B38: ....
A39: I | B39: ....
A40: J | B40: ....
A43: 단가 순서 | B43: 1234

Sheet Sheet1
