Workbook
Name _: #N/A
Name __Key1: [2]BOX!#REF!
Name _1: #N/A
Name _10_3__Criteria: #REF!
Name _11_3__Criteria: #REF!
Name _12Á_1È_Ç: '[4]일위대가(계측기설치)'!#REF!
Name _13Á_2È_Ç: '[4]일위대가(계측기설치)'!#REF!
Name _14Á_3È_Ç: '[4]일위대가(계측기설치)'!#REF!
Name _15A: [5]금액내역서!$D$3:$D$10
Name _15Á_4È_Ç: '[4]일위대가(계측기설치)'!#REF!
Name _16Á_5È_Ç: '[4]일위대가(계측기설치)'!#REF!
Name _17Á_6È_Ç: '[4]일위대가(계측기설치)'!#REF!
Name _18A21000_: #REF!
Name _19B2_: '[6]단면 (2)'!$K$55
Name _1공장: #REF!
Name _1부: #REF!
Name _2: #N/A
Name _2_3_0Crite: #REF!
Name _20G_0Extr: #REF!
Name _21G_0Extract: #REF!
Name _22G__Extr: #REF!
Name _23G__Extr: #REF!
Name _24G__Extract: #REF!
Name _25G__Extract: #REF!
Name _2공장: #REF!
Name _2부: #REF!
Name _3: #N/A
Name _3_3_0Crite: #REF!
Name _3공장: #REF!
Name _3부: #REF!
Name _4: #N/A
Name _4_3_0Crite: #REF!
Name _4부: #REF!
Name _5_3_0Criteria: #REF!
Name _5부: #REF!
Name _6_3_0Criteria: #REF!
Name _7_3_0Criteria: #REF!
Name _8_3__Crite: #REF!
Name _9_3__Crite: #REF!
Name _A: #REF!
Name _aab42: #REF!
Name _BEM1: [2]BOX!#REF!
Name _BEM2: [2]BOX!#REF!
Name _BEP1: [2]BOX!#REF!
Name _BEP2: [2]BOX!#REF!
Name _BES1: [2]BOX!#REF!
Name _BES2: [2]BOX!#REF!
Name _BMM1: [2]BOX!#REF!
Name _BMM2: [2]BOX!#REF!
Name _BMP1: [2]BOX!#REF!
Name _BMP2: [2]BOX!#REF!
Name _BMS1: [2]BOX!#REF!
Name _BMS2: [2]BOX!#REF!
Name _boo2: [7]조건표!$A$2:$H$348
Name _CDT1: #REF!
Name _CDT2: #REF!
Name _CDT3: #REF!
Name _CEN1: [2]BOX!#REF!
Name _Dan4: [2]BOX!#REF!
Name _GHH1: #REF!

Sheet 표지 
G1: 설 | I1: 심 | K1: 팀 | M1: 과
B2: 2026년 월 일 설계 | G2: 계 | I2: 사
G3: 자 | I3: 자 | K3: 장 | M3: 장
B5: 2026년도
A7: =설계설명서!C3 -> 2026~27년 동절기 도로제설작업 장비임차(0.6㎥ 굴삭기) 용역 | P7: =설계설명서!C3 -> 2026~27년 동절기 도로제설작업 장비임차(0.6㎥ 굴삭기) 용역
F8: (1차분) | H8: 설계예산서
C10: □ | D10: 사업개요 | E10: : | F10: 제설작업(굴삭기 0.6㎥) 1식
F11: =설계설명서!C11 -> '26. 11. 15 ~ '26. 12. 31.(47일간)
C16: □ | D16: 금 액 | E16: : | F16: =총괄표!G20 -> 19043000 | I16: =F16 -> 19043000
D18: 내 역 | E18: : | F18: 도급예정액 | G18: =총괄표!G20 -> 19043000
G26: 241050 | H26: 38
H27: =G26*H26 -> 9159900
H28: =H27*121 -> 1108347900 | J28: 1102700340
H29: 240987
H30: =H29*H26 -> 9157506 | J30: =J28/H30 -> 120.41492
H31: 241050 | J31: =J28/H31 -> 4574.571
H32: =H31*H26 -> 9159900 | J32: =J28/H32 -> 120.38345
J33: =J28/38 -> 29018430

Sheet 설계설명서
A1: 설 계 설 명 서
A3: 1. 용 역 명 : | C3: 2026~27년 동절기 도로제설작업 장비임차(0.6㎥ 굴삭기) 용역
A4: 2. 위 치 : | C4: 횡성군 관내 군도 및 농어촌도로, 도시계획도로, 제설창고 및 전진기지
A5: 3. 목 적 : | C5: 본 사업은 동절기 관내 군도, 농어촌도로 및 도시계획도로의 급경사구간 및 상습 결빙지역의 안전한 도로 통행 행정
C6: 서비스 제공 목적으로 강설시 적기의 제설작업을 실시하여 차량통행 및 주민통행 불편을 최소화 하고자 함
A8: 4. 용 역 개 요 : | C8: 제설작업 - 121일(굴삭기 0.6㎥)
A11: 5. 용 역 기 간 : | C11: '26. 11. 15 ~ '26. 12. 31.(47일간)
A13: 6. 용역계약조건 :
A14: 가. | B14: 본 건의 설계는 2026년 건설적산,표준품셈에 의거 산출하였음.
A15: 나. | B15: 1일 작업시간은 제설작업 종료시간으로 하며, 제설작업비용은 계약금액을 12월 말일, 3월 15~20일 2회 각각 지급한다.
A16: 다. | B16: 임차기간중 작업일지를 비치하고 작업상황 등을 기록 유지하여야 하며, 담당공무원의 확인을 받아야 한다.
A17: 라. | B17: 임차기간중 발생한 제반사고에 따른 민․형사상 손해 및 건설기계 보관관리의 책임은 계약자가 진다.
A18: 마. | B18: 계약자는 주․야간 구분없이 비상연락 체계를 유지하고 강설 등의 사유로 담당공무원이 요구할 때 및 기상특보 발령후 3시간이내에
B19: 신속하게 장비를 투입하여 작업에 임하여야 한다.
A20: 바. | B20: 임차기간중 해당장비에 월동장구(스노우타이어, 체인 등)를 비치하여야 하며 담당공무원이 요구하는 정당한 작업지시에 대하여
B21: 성실하게 이행하여야 한다.
A22: 마. | B22: 임차기간중 장비 및 조종사는 발주처가 지정한 대기장소에 상주하여야 하며, 무단으로 대기장소를 이탈하거나 정당한 작업지시에
B23: 불응시 해당 일수를 감액처리하고, 2회이상 노선미숙지, 무단이탈 및 작업지시불응(지연투입 등 포함)시 발주처는 계약을 해지할 수 있다.

Sheet 총괄표
B1: =내역서!B1 -> 2026~27년 동절기 도로제설작업 장비임차(0.6㎥ 굴삭기) 용역
B2: 종 별 | C2: 재료또는 치수 | D2: 수 량 | E2: 단 위 | F2: 총 액 | H2: 노무비 | J2: 재료비 | L2: 경 비 | N2: 비 고
F3: 단 가 | G3: 금 액 | H3: 단 가 | I3: 금 액 | J3: 단 가 | K3: 금 액 | L3: 단 가 | M3: 금 액
F4: 총 | H4: 괄 | J4: 표
B5: =내역서!B5 -> 1. 굴삭기(0.6㎥) | G5: =SUM(I5:M5) -> 17312444 | I5: =내역서!I5 -> 14784233 | K5: =내역서!K5 -> 0 | M5: =내역서!M5 -> 2528211
B6: 소계 | G6: =SUM(G5:G5) -> 17312444 | I6: =SUM(I5:I5) -> 14784233 | K6: =SUM(K5:K5) -> 0 | M6: =SUM(M5:M5) -> 2528211
B7: 간접노무비 | E7: %
B8: 산재보험료 | E8: %
B9: 안전관리비 | E9: %
B10: 기타경비 | E10: %
B11: 순공사비 | G11: =SUM(G6:G10) -> 17312444
B12: 일반관리비 | E12: %
B13: 소계 | G13: =SUM(G11:G12) -> 17312444
B14: 이윤 | E14: %
B15: 사급자재대 | G15: 0 | I15: 0
B16: 계 | G16: =G13 -> 17312444 | I16: =SUM(G13+I14+I15) -> 17312444
B17: 부가가치세 | D17: 10 | E17: % | G17: =INT(G16/10) -> 1731244 | I17: =INT(I16*0.1) -> 1731244
B18: 도급예정액 | G18: =G17+G16 -> 19043688 | I18: =SUM(I16+I17) -> 19043688
F19: ≒ | G19: =ROUNDDOWN(G18,-3) -> 19043000 | I19: 0
B20: 총용역비 | G20: =G19 -> 19043000 | I20: =SUM(I18+I19) -> 19043688

Sheet 내역서
B1: =단가산출서!B1 -> 2026~27년 동절기 도로제설작업 장비임차(0.6㎥ 굴삭기) 용역
B2: 종 별 | C2: 재료또는 치수 | D2: 수 량 | E2: 단 위 | F2: 총 액 | H2: 노무비 | J2: 재료비 | L2: 경 비 | N2: 비 고
F3: 단 가 | G3: 금 액 | H3: 단 가 | I3: 금 액 | J3: 단 가 | K3: 금 액 | L3: 단 가 | M3: 금 액
F4: 내 | H4: 역 | J4: 서
B5: 1. 굴삭기(0.6㎥) | G5: =I5+K5+M5 -> 17312444 | I5: =SUM(I6:I8) -> 14784233 | K5: =SUM(K6:K8) -> 0 | M5: =SUM(M6:M8) -> 2528211
B6: 굴삭기 | C6: 타이어, 0.6㎥ | D6: 1 | E6: 식 | F6: =H6+J6+L6 -> 17312444 | G6: =I6+K6+M6 -> 17312444 | H6: =단가산출서!I5 -> 14784233 | I6: =INT(H6*$D6) -> 14784233 | J6: =단가산출서!K5 -> 0 | K6: =INT(J6*$D6) -> 0 | L6: =단가산출서!M5 -> 2528211 | M6: =INT(L6*$D6) -> 2528211
Q9: 42323
Q10: 42444
Q11: =Q10-Q9 -> 121

Sheet 단가산출서
B1: =설계설명서!C3 -> 2026~27년 동절기 도로제설작업 장비임차(0.6㎥ 굴삭기) 용역
B2: 종 별 | C2: 재료또는 치수 | D2: 수 량 | E2: 단 위 | F2: 총 액 | H2: 노무비 | J2: 재료비 | L2: 경 비 | N2: 비 고
F3: 단 가 | G3: 금 액 | H3: 단 가 | I3: 금 액 | J3: 단 가 | K3: 금 액 | L3: 단 가 | M3: 금 액
F4: 단 | G4: 가 | H4: 산 | I4: 출 | J4: 서
B5: 1. 굴삭기(0.6㎥) | C5: / 121일 | G5: =I5+K5+M5 -> 17312444 | I5: =SUM(I6:I8) -> 14784233 | K5: =SUM(K6:K8) -> 0 | M5: =SUM(M6:M8) -> 2528211
B6: 굴삭기 | C6: 0.6㎥(주간) | D6: ='작업시간 산출내역(최종)'!D27*47/121 -> 58.264463 | E6: hr | F6: =H6+J6+L6 -> 86130 | G6: =I6+K6+M6 -> 5018317 | H6: =일위대가표!H11 -> 59010 | I6: =INT(H6*$D6) -> 3438185 | J6: =일위대가표!J11 -> 0 | K6: =INT(J6*$D6) -> 0 | L6: =일위대가표!L11 -> 27120 | M6: =INT(L6*$D6) -> 1580132
B7: 굴삭기 | C7: 0.6㎥(야간) | D7: ='작업시간 산출내역(최종)'!D29*47/121 -> 34.958678 | E7: hr | F7: =H7+J7+L7 -> 115636 | G7: =I7+K7+M7 -> 4042481 | H7: =일위대가표!H19 -> 88516 | I7: =INT(H7*$D7) -> 3094402 | J7: =일위대가표!J19 -> 0 | K7: =INT(J7*$D7) -> 0 | L7: =일위대가표!L19 -> 27120 | M7: =INT(L7*$D7) -> 948079
B8: 굴삭기 | C8: 0.6㎥(대기) | D8: ='작업시간 산출내역(최종)'!D31*47/121 -> 279.66942 | E8: hr | F8: =H8+J8+L8 -> 29505 | G8: =I8+K8+M8 -> 8251646 | H8: =일위대가표!H23 -> 29505 | I8: =INT(H8*$D8) -> 8251646 | K8: =INT(J8*$D8) -> 0 | M8: =INT(L8*$D8) -> 0

Sheet 작업시간 산출내역(최종)
A3: 제설작업 작업시간 산출근거
A6: ○ 제설작업(대기)시간 산정
A7: ▶ 과거 강설 일수 (5年 평균 : 2021~2025)
A8: ① 설해기간 설정 : 4개월 (2026년 11월 15일 ~ 2027년 03월 15일)
A9: ② 강설일수 설정 : 20.0일 (과거 5年 강설 평균일수)
A11: ▶ 월평균 강설/제설작업 일수 산정
A12: 구분 | B12: 내 용 | C12: 단위 | D12: 수 량 | E12: 산출근거 | G12: 비 고
A13: 1 | B13: 월평균 | C13: 일 | D13: =20/4 -> 5 | E13: ․ 과거3년 강설 평균일수(②)÷설해기간(①)
B14: 강설일수 | E14: = 20.00 ÷ 4.0 ≒ 5일 - ③
A15: 2 | B15: 월평균 | C15: 일 | D15: =D13*1.5 -> 7.5 | E15: ․ 월평균 강설일수 (③) × 1.5 | G15: 강설일(1)+
B16: 제설작업일수 | E16: = 5 × 1.5 = 7.5일 - ④ | G16: 익일(0.5)
A17: 3 | B17: 월평균 | C17: 일 | D17: =30-D15 -> 22.5 | E17: ․ 30일 - 월평균 제설작업일수 (④)
B18: 평시대기일수 | E18: = 30 - 7.5 = 22.50일 - ⑤
A20: ▶ 작업(대기)시간 산정 | I20: 88
A21: ※ 제설작업시간 (1일 8시간 기준) | I21: 176
A22: - 작업시간(주간) : 5시간 - ⑥ | I22: 88
A23: - 작업시간(야간) : 3시간 - ⑦
A24: - 평시대기시간 : 8시간 - ⑧ | I24: 352
A26: 구분 | B26: 내 용 | C26: 단 위 | D26: 수량 hr/4개월 | E26: 산출근거 | G26: 비 고 | I26: =24*30 -> 720
A27: 1 | B27: 제설작업시간(주간) | C27: hr | D27: =D15*5*4 -> 150 | E27: ․ 월평균제설작업일수(④)×5시간×4개월
E28: = 7.5 × 5 × 4 = 150
A29: 2 | B29: 제설작업시간(야간) | C29: hr | D29: =D15*3*4 -> 90 | E29: ․ 월평균제설작업일수(④)×3시간×4개월
E30: = 7.5 × 3 × 4 ＝ 90
A31: 3 | B31: 중장비 대기 | C31: hr | D31: =D17*8*4 -> 720 | E31: ․ 월평균평시대기일수(⑤)×8시간×4개월
E32: = 22.5 × 8 × 4 = 720
A34: ▶ 강설 일수 산정 근거
A35: (5年 평균 : 2021~2025)
A36: 구분 | B36: '21~'22 | C36: '22~'23 | D36: '23~'24 | E36: '24~'25 | F36: '25~'26 | G36: 평균
A37: 11월15일~ 익년3월15일 | B37: 19 | C37: 16 | D37: 17 | E37: 22 | F37: 25 | G37: =(B37+C37+D37+E37+F37)/5 -> 19.8 | J37: =ROUND(L37,0) -> 0
A38: 강설일수 설정 :20.0일 (과거 5年 강설 평균일수)
A39: * 기상청날씨정보 참조

Sheet 작업시간 산출내역
A1: =일위대가표!A1 -> 2026~27년 동절기 도로제설작업 장비임차(0.6㎥ 굴삭기) 용역
A3: 제설작업 작업시간 산출근거
A5: ○ 장 비 명 : 굴삭기 (0.6㎥)
A6: ○ 제설작업(대기)시간 산정
A7: ▶ 과거 강설 일수 (3年 평균 : 2020~2022)
A8: ① 설해기간 설정 : 4개월 (2023년 11월 15일 ~ 2024년 03월 15일)
A9: ② 강설일수 설정 : 20.0일 (과거 3年 강설 평균일수)
A11: ▶ 월평균 강설/제설작업 일수 산정
A12: 구분 | B12: 내 용 | C12: 단위 | D12: 수 량 | E12: 산출근거 | G12: 비 고
A13: 1 | B13: 월평균 | C13: 일 | D13: 5 | E13: ․ 과거3년 강설 평균일수(②)÷설해기간(①)
B14: 강설일수 | E14: = 20.00 ÷ 4.0 ≒ 5일 - ③
A15: 2 | B15: 월평균 | C15: 일 | D15: 7.5 | E15: ․ 월평균 강설일수 (③) × 1.5 | G15: 강설일(1)+
B16: 제설작업일수 | E16: = 5.0 × 1.5 = 7.5일 - ④ | G16: 익일(0.5)
A17: 3 | B17: 월평균 | C17: 일 | D17: 22.5 | E17: ․ 30일 - 월평균 제설작업일수 (④)
B18: 평시대기일수 | E18: = 30 - 7.5 = 22.5일 - ⑤
A20: ▶ 작업(대기)시간 산정 | I20: 88
A21: ※ 제설작업시간 (1일 8시간 기준) | I21: 176
A22: - 작업시간(주간) : 5시간 - ⑥ | I22: 88
A23: - 작업시간(야간) : 3시간 - ⑦
A24: - 평시대기시간 : 8시간 - ⑧ | I24: 352
A26: 구분 | B26: 내 용 | C26: 단 위 | D26: 수량 hr/4개월 | E26: 산출근거 | G26: 비 고 | I26: =24*30 -> 720
A27: 1 | B27: 제설작업시간(주간) | C27: hr | D27: =7.5*5*4 -> 150 | E27: ․ 월평균제설작업일수(④)×5시간×4개월
E28: = 7.50 × 5 × 4 ＝ 150
A29: 2 | B29: 제설작업시간(야간) | C29: hr | D29: 90 | E29: ․ 월평균제설작업일수(④)×3시간×4개월
E30: = 7.50 × 3 × 4 ＝ 90
A31: 3 | B31: 중장비 대기 | C31: hr | D31: 720 | E31: ․ 월평균평시대기일수(⑤)×8시간×4개월
E32: = 22.5 × 8 × 4 = 720
A34: ▶ 강설 일수 산정 근거
A35: (3年 평균 : 2020~2022)
A36: 구분 | B36: 20.11~21.03 | C36: 21.11~22.03 | E36: 22.11~23.03 | F36: 평균일수
A37: 11월15일~ 익년3월15일 | B37: 16 | C37: 19 | E37: 24 | F37: =ROUND(SUM(B37:E37)/3,0) -> 20 | J37: =ROUND(L37,0) -> 0
A38: 강설일수 설정 :20.00일 (과거 3年 강설 평균일수)
A39: * 기상청날씨정보 참조

Sheet 일위대가표
A1: =설계설명서!C3 -> 2026~27년 동절기 도로제설작업 장비임차(0.6㎥ 굴삭기) 용역
A2: 종 별 | B2: 규 격 | C2: 수 량 | D2: 단위 | E2: 총 액 | G2: 노무비 | I2: 재료비 | K2: 경 비 | M2: 비고
E3: 단 가 | F3: 금 액 | G3: 단 가 | H3: 금 액 | I3: 단 가 | J3: 금 액 | K3: 단 가 | L3: 금 액
E4: < 일 | F4: 위 | G4: 대 | H4: 가 | I4: 표 >
A5: 제1호표:굴삭기 0.6㎥(주간) | C5: 할증율:1.0 | D5: 시간 | E5: [ 운 행 ]
A6: 굴삭기 | B6: 0.6㎥ | C6: ='일위대가 산출근거'!D20 -> 0.2279 | D6: 천원 | E6: =G6+I6+K6 -> 119000 | F6: =H6+J6+L6 -> 27120 | G6: 0 | H6: =INT(G6*$C6) -> 0 | I6: 0 | J6: =INT(I6*$C6) -> 0 | K6: ='일위대가 산출근거'!F20 -> 119000 | L6: =INT(K6*$C6) -> 27120 | N6: 덤프트럭 : 건설기계가격 * 시간당 손료계수(0.2279) | S6: 시간당 손료계수 = 상각비계수(900)+정비비계수(700)+관리비계수(679)
A7: 중기운전사 | B7: 시간당노임 | C7: 0.2083 | D7: 인 | E7: =G7+I7+K7 -> 283297 | F7: =H7+J7+L7 -> 59010 | G7: =N8 -> 283297 | H7: =INT(G7*$C7) -> 59010 | I7: 0 | J7: =INT(I7*$C7) -> 0 | K7: 0 | L7: =INT(K7*$C7) -> 0 | N7: 건설기계운전사 2021 강원도 단산 | R7: =1/8*25/20*16/12 -> 0.20833333
A8: 경유(트럭) | B8: 저유황 | C8: ='일위대가 산출근거'!D22 -> 11.6 | D8: L | E8: =G8+I8+K8 -> 1844 | F8: =H8+J8+L8 -> 0 | G8: 0 | H8: =INT(G8*$C8) -> 0 | I8: ='경유 단가'!C5 -> 1844 | K8: 0 | L8: =INT(K8*$C8) -> 0 | N8: ='일위대가 산출근거'!F26 -> 283297 | O8: 원/일 | P8: 주간
A9: 경유(살포기) | B9: 저유황 | C9: 3.8 | D9: L | E9: =G9+I9+K9 -> 1844 | F9: =H9+J9+L9 -> 0 | G9: 0 | H9: =INT(G9*$C9) -> 0 | I9: ='경유 단가'!C5 -> 1844 | K9: 0 | L9: =INT(K9*$C9) -> 0 | R9: =181074*0.2083 -> 37717.714
A10: 잡품 | B10: 0.24 | C10: 1 | D10: 식 | E10: =G10+I10+K10 -> 0 | F10: =H10+J10+L10 -> 0 | G10: 0 | H10: =INT(G10*$C10) -> 0 | J10: =INT(I10*C10) -> 0 | K10: 0 | L10: =INT(K10*$C10) -> 0 | R10: =181074*0.2083 -> 37717.714
A11: 계 | F11: =H11+J11+L11 -> 86130 | H11: =SUM(H6:H10) -> 59010 | J11: =SUM(J6:J10) -> 0 | L11: =SUM(L6:L9) -> 27120 | N11: =N8*1.5 -> 424945.5 | O11: 원/일 | P11: 야간
P12: 1.5
A13: 제2호표:굴삭기 0.6㎥(야간) | C13: 할증율:1.5 | D13: 시간 | E13: [ 운 행 ]
A14: 굴삭기 | B14: 0.6㎥ | C14: =C6 -> 0.2279 | D14: 천원 | E14: =G14+I14+K14 -> 119000 | F14: =H14+J14+L14 -> 27120 | G14: 0 | H14: =INT(G14*$C14) -> 0 | I14: 0 | J14: =INT(I14*$C14) -> 0 | K14: =K6 -> 119000 | L14: =INT(K14*$C14) -> 27120
A15: 중기운전사 | B15: 시간당노임 | C15: 0.2083 | D15: 인 | E15: =G15+I15+K15 -> 424945.5 | F15: =H15+J15+L15 -> 88516 | G15: =N11 -> 424945.5 | H15: =INT(G15*$C15) -> 88516 | I15: 0 | J15: =INT(I15*$C15) -> 0 | K15: 0 | L15: =INT(K15*$C15) -> 0
A16: 경유(트럭) | B16: 저유황 | C16: 15.9 | D16: L | E16: =G16+I16+K16 -> 1844 | F16: =H16+J16+L16 -> 0 | G16: 0 | H16: =INT(G16*$C16) -> 0 | I16: =I8 -> 1844 | K16: 0 | L16: =INT(K16*$C16) -> 0
A17: 경유(살포기) | B17: 저유황 | C17: 3.8 | D17: L | E17: =G17+I17+K17 -> 1844 | F17: =H17+J17+L17 -> 0 | G17: 0 | H17: =INT(G17*$C17) -> 0 | I17: =I9 -> 1844 | K17: 0 | L17: =INT(K17*$C17) -> 0
A18: =A10 -> 잡품 | B18: =B10 -> 0.24 | C18: =C10 -> 1 | D18: =D10 -> 식 | E18: =G18+I18+K18 -> 0 | F18: =H18+J18+L18 -> 0 | G18: 0 | H18: =INT(G18*$C18) -> 0 | I18: =I10 -> 0 | J18: =J10 -> 0 | K18: 0 | L18: =INT(K18*$C18) -> 0
A19: 계 | F19: =H19+J19+L19 -> 115636 | H19: =SUM(H14:H17) -> 88516 | J19: =SUM(J14:J18) -> 0 | L19: =SUM(L14:L17) -> 27120
A21: 제3호표:운영대기 | C21: 할증율:0.5 | D21: 시간
A22: 중기운전사 | B22: 시간당노임 | C22: 0.2083 | D22: 인 | E22: =G22+I22+K22 -> 141648.5 | F22: =H22+J22+L22 -> 29505 | G22: =G7*0.5 -> 141648.5 | H22: =INT(G22*$C22) -> 29505 | I22: 0 | J22: =INT(I22*$C22) -> 0 | L22: =INT(K22*$C22) -> 0
A23: 계 | F23: =INT(H23+J23+L23) -> 29505 | H23: =SUM(H22:H22) -> 29505 | J23: =SUM(J22:J22) -> 0 | L23: =SUM(L22:L22) -> 0
C28: =25/20*16/12*1/8 -> 0.20833333
H30: =1.2*1496 -> 1795.2 | J30: =1.3*1496*0.877 -> 1705.5896

Sheet 일위대가 산출근거
A1: 중기사용료 산출근거
A4: 중 기 명 | B4: 덤프트럭 2.5 톤
A5: 중기가격 | B5: 19,844천원
A6: 명 칭 | C6: 규 격 | D6: 수 량 | E6: 단 위 | F6: 단 가 | G6: 금 액 | H6: 비 고
A7: 경 비 | B7: 덤프트럭 | C7: 2.5 톤 | D7: 0.2967 | E7: 천원 | F7: 19844 | G7: =TRUNC(F7*D7, 0) -> 5887
B8: 소 계 | G8: =TRUNC(G7, 0) -> 5887
A9: 재 료 비 | B9: 경 유 | D9: 1.16 | E9: L | F9: ='경유 단가'!C16 -> 1844 | G9: =TRUNC(F9*D9, 0) -> 2139
B10: 잡 품 | D10: 38 | E10: % | F10: 0 | G10: =TRUNC((G9) * D10/100, 0) -> 812
B11: 휘 발 유 | D11: 1.25 | E11: L | F11: ='경유 단가'!B16 -> 1860 | G11: =TRUNC(F11*D11, 0) -> 2325
B12: 소 계 | G12: =TRUNC(G9+G10+G11, 0) -> 5276
A13: 노 무 비 | B13: 화물차운전사 | C13: 운전사(운반차) | D13: 0.2083 | E13: 인 | F13: 176975 | G13: =TRUNC(F13*D13, 0) -> 36863 | J13: 2020년 하반기 완료
B14: 소 계 | G14: =TRUNC(G13, 0) -> 36863
B15: 총 계 | G15: =TRUNC(G8+G12+G14, 0) -> 48026
K16: =1*203878*1/8*16/12 -> 33979.667
A17: 중 기 명 | B17: 굴삭기(타이어)
A18: 중기가격 | B18: =F20 -> 119000
A19: 명 칭 | C19: 규 격 | D19: 수 량 | E19: 단 위 | F19: 단 가 | G19: 금 액 | H19: 비 고
A20: 경 비 | B20: 굴삭기(타이어) | C20: 0.6㎥ | D20: 0.2279 | E20: 천원 | F20: 119000 | G20: =TRUNC(F20*D20, 0) -> 27120
B21: 소 계 | G21: =TRUNC(G20, 0) -> 27120
A22: 재 료 비 | B22: 경 유 | D22: 11.6 | E22: L | F22: ='경유 단가'!C16 -> 1844 | G22: =TRUNC(F22*D22, 0) -> 21390
B23: 잡 품 | D23: 24 | E23: % | F23: 0 | G23: =TRUNC((G22) * D23/100, 0) -> 5133
B24: 경 유(살포기) | D24: 3.8 | E24: L | F24: ='경유 단가'!C16 -> 1844 | G24: =TRUNC(F24*D24, 0) -> 7007
B25: 소 계 | G25: =TRUNC(G22+G23+G24, 0) -> 33530
A26: 노 무 비 | B26: 건설기계운전사 | C26: 건설기계운전사 | D26: 0.2083 | E26: 인 | F26: 283297 | G26: =INT(F26*D26) -> 59010
B27: 소 계 | G27: =TRUNC(G26, 0) -> 59010
B28: 총 계 | G28: =TRUNC(G21+G25+G27, 0) -> 119660
A31: 중 기 명 | B31: 물탱크(살수차) 5500 L
A32: 중기가격 | B32: 41,342 천원
A33: 명 칭 | C33: 규 격 | D33: 수 량 | E33: 단 위 | F33: 단 가 | G33: 금 액 | H33: 비 고
A34: 경 비 | B34: 물탱크(살수차) | C34: 5500 L | D34: 0.2113 | E34: 천원 | F34: 41748 | G34: =TRUNC(F34*D34, 0) -> 8821
B35: 소 계 | G35: =TRUNC(G34, 0) -> 8821
A36: 재 료 비 | B36: 경 유 | D36: 9.3 | E36: L | F36: ='경유 단가'!C16 -> 1844 | G36: =TRUNC(F36*D36, 0) -> 17149
B37: 잡 품 | D37: 30 | E37: % | F37: 0 | G37: =TRUNC((G36) * D37/100, 0) -> 5144
B38: 소 계 | G38: =TRUNC(G36+G37, 0) -> 22293
A39: 노 무 비 | B39: 화물차운전사 | C39: 운전사(운반차) | D39: 0.2083 | E39: 인 | F39: 176975 | G39: =TRUNC(F39*D39, 0) -> 36863 | J39: 2020년 하반기 완료
B40: 소 계 | G40: =TRUNC(G39, 0) -> 36863
B41: 총 계 | G41: =TRUNC(G35+G38+G40, 0) -> 67977

Sheet 경유 단가
A1: 경 유 단 가
A3: 구 분 | B3: 소요금액(천원) | D3: 비고
B4: 휘발유 | C4: 자동차경유
A5: 적용단가 | B5: =INT(B6) -> 1860 | C5: =INT(C6) -> 1844
A6: 한국석유공사 국내유가평균 | B6: =B16 -> 1860 | C6: =C16 -> 1844 | E6: 한국석유공사 홈페이지 접속후 국내유가평균 단가 적용
A9: 5주간 유가추이
A10: 2026년 08월 3주 | B10: 1862.45 | C10: 1845.67 | F10: 1518.5 | G10: 1311.5 | I10: 1908 | J10: 1712
A11: 2026년 08월 4주 | B11: 1861.32 | C11: 1845.23 | F11: 1527 | G11: 1319.5 | I11: 1918 | J11: 1720
A12: 2026년 09월 1주 | B12: 1860.2 | C12: 1844.48 | F12: 1533 | G12: 1322 | I12: 1929 | J12: 1730
A13: 2026년 09월 2주 | B13: 1859.14 | C13: 1844.03 | F13: 1540.5 | G13: 1333.5 | I13: 1934 | J13: 1734
A14: 2026년 09월 3주 | B14: 1858.62 | C14: 1843.86 | F14: 1543 | G14: 1336.5 | I14: 1939 | J14: 1737
B16: =INT(SUM(B10:B15)/5) -> 1860 | C16: =INT(SUM(C10:C15)/5) -> 1844 | F16: =INT(SUM(F10:F15)/5) -> 1532 | G16: =INT(SUM(G10:G15)/5) -> 1324

Sheet 과업지시서
B2: 【 과 업 지 시 서 】
B4: 갑 : 횡성군수
B5: 을 : 건설기계주(계약자)
B7: 1. 장비의 사용장소 : 횡성군 관내 제설창고 및 전진기지
B9: 2. 제설작업비용은 계약금액을 12월 말일, 3월 15~20일 2회 각각 지급한다.
B11: 3. 임차기간중 살포기 및 제설기는 ‘갑’이 부담하고, 건설기계 소모품 및 고장수리비는 “을”이 부담한다.
B13: 4. 제설삽 부착용 보조장치 설치 및 구조변경 검사는 ‘을’이 설치 부담하여야 하고, 설치 및 계약전에 횡성군 제공 제설기 및
B14: 제설유닛의 호환여부를 필히 확인하여야 한다.
B15: 임차기간중 장비의 호환성 부적합으로 인한 제설 작업 투입 불능시에는 ‘갑’은 계약을 해지할 수 있다.
B17: 5. 임차기간 종료후 ‘갑’이 제공한 제설기, 살포기, 제설유닛, 절개기, 제설부속장비는 ‘갑’에게 반납하여야 하며,
B18: ‘갑’이 제공한 제설용 장비(부속장비 포함)로 인한 차량 손괴에 대하여 ‘을’은 ‘갑’에게 손해배상을 요구할 수 없다.
B20: 6.‘을’은 주·야간 구분없이 비상연락 체계를 상시 유지하고, 강설 등의 사유로 ‘갑’이 요구할 때 및 기상특보 발령후
... B36: 12. 위에 기재하지 않은 사항은 ‘갑’과 ‘을’의 합의에 따른다.
