Workbook

Sheet 내역서(전기)
A1: 총줄수-> | B1: 185 | D1: [ 성환읍 복모리 경로당 신축공사(전기) ] | W1: 노임 계산 정보 | AA1: 부속재 및 손료
A2: 번호 | B2: 공종코드 | C2: 코드 | D2: 명 칭 | E2: 규 격 | F2: 단위 | G2: 수량 | H2: 재료비 | J2: 노무비 | M2: 경비 | P2: 계 | Q2: 비고 | W2: 노임계 | X2: 전체(%) | Y2: 공종별(%) | Z2: 노임 소수 | AA2: CD배관재 | AB2: 일반배관재 | AC2: 소모재 | AD2: 자재계 | AE2: 노임계
H3: 단가 | I3: 금액 | J3: 수량 | K3: 단가 | L3: 금액 | M3: 단가 | N3: 금액 | O3: 단가 | AD3: =IF(옵션!$C$11 =0, "1", 옵션!$C$11) -> 1 | AE3: =IF(옵션!$C$12 =0, "1", 옵션!$C$12) -> 1
B4: 공종줄 | D4: 1.전기공사::1-1.전기공사::1-1-1.전력간선설비공사
A5: 5975A337005 | B5: 0101 | C5: EKA164000010S | D5: 강제전선관 | E5: 아연도 42 mm | F5: M | G5: 16 | Q5: 제 23호 | AB5: =I5 -> 0 | AC5: =G5*H5 -> 0
A6: 5975B467016 | B6: 0101 | C6: EKA364000010S | D6: 경질비닐전선관 | E6: HI 42 mm | F6: M | G6: 4 | Q6: 제 24호 | AB6: =I6 -> 0 | AC6: =G6*H6 -> 0
A7: 5975D097004 | B7: 0101 | C7: E59753097004 | D7: 합성수지제 가요전선관 | E7: CD-난연성 28㎜ | F7: M | G7: 13 | Q7: 제 27호 | AA7: =I7 -> 0 | AC7: =G7*H7 -> 0
A8: 5975D077002 | B8: 0101 | C8: E59753077002 | D8: 파상형 폴리에틸렌 전선관 | E8: 40㎜(가로등,신호,구내) | F8: M | G8: 16 | Q8: 제 28호 | AB8: =I8 -> 0 | AC8: =G8*H8 -> 0
A9: 59759017063 | B9: 0101 | C9: 3913170820176477 | D9: 강재전선관용 부품 | E9: 노말밴드, 아연도 42 mm | F9: 개 | G9: 1
A10: 5975D857061 | B10: 0101 | C10: E59753857061 | D10: 풀박스 | E10: 200×200×100 | F10: 개 | G10: 1 | Q10: 제 35호
A11: 5975D857111 | B11: 0101 | C11: E59753857111 | D11: 풀박스 | E11: 300×300×100 | F11: 개 | G11: 1 | Q11: 제 36호
A12: 5975D857171 | B12: 0101 | C12: E59753857171 | D12: 풀박스 | E12: 400×400×200 | F12: 개 | G12: 1 | Q12: 제 37호
A13: 56959000084 | B13: 0101 | C13: E56959000084 | D13: 합성수지 전기함(ABS BOX) | E13: 300*400*160 | F13: 개 | G13: 1 | Q13: 제 38호
A14: E145A927201 | B14: 0101 | C14: EOC315000010S | D14: 접지용비닐절연전선(F-GV) | E14: 2.5㎟ | F14: M | G14: 15 | Q14: 제 40호 | AC14: =G14*H14 -> 0
A15: E145A927204 | B15: 0101 | C15: EOC345000040S | D15: 접지용비닐절연전선(F-GV) | E15: 10㎟ | F15: M | G15: 33 | Q15: 제 42호 | AC15: =G15*H15 -> 0
A16: E145A927206 | B16: 0101 | C16: EOC365000010S | D16: 접지용비닐절연전선(F-GV) | E16: 25㎟ | F16: M | G16: 20 | Q16: 제 43호 | AC16: =G16*H16 -> 0
A17: 56959000086 | B17: 0101 | C17: E56959000086 | D17: 전기용 연동연선(BC) | E17: 10㎟ | F17: M | G17: 6 | Q17: 제 44호 | AC17: =G17*H17 -> 0
A18: E145A287521 | B18: 0101 | C18: ELD621000020S | D18: 폴리에틸렌 난연케이블 | E18: 0.6/1kv F-CV 2C×2.5㎟ | F18: M | G18: 15 | Q18: 제 45호 | AC18: =G18*H18 -> 0
A19: E145A287564 | B19: 0101 | C19: ELD651000040S | D19: 폴리에틸렌 난연케이블 | E19: 0.6/1kv F-CV 4C×10㎟ | F19: M | G19: 25 | Q19: 제 47호 | AC19: =G19*H19 -> 0
A20: 5975A427105 | B20: 0101 | C20: EOA131000010S | D20: 접지봉 | E20: 18Φ×2400 mm | F20: 개 | G20: 1 | Q20: 제 60호
A21: 5975A440005 | B21: 0101 | C21: E59750440005 | D21: WARNING TAPE(저압용) | E21: 300 x 250 | F21: M | G21: 9 | Q21: 제 61호
A22: MM300041309 | B22: 0101 | C22: 3912218220173416 | D22: 필림밴드 | F22: 개 | G22: 6
A23: 56959000088 | B23: 0101 | C23: E56959000088 | D23: 전주용입상관 | E23: D130x2m | F23: 개 | G23: 3 | Q23: 제 62호
A24: 56950120042 | B24: 0101 | C24: EAA110150000 | D24: 파이프행가 | E24: 42 C | F24: 개소 | G24: 8 | Q24: 제 20호
A25: 56930220040 | B25: 0101 | C25: ABB103100000 | D25: 터파기(기계90%,인력10%) | E25: 보통토사 | F25: ㎥ | G25: 5.04 | Q25: 제 10호
A26: 56959000043 | B26: 0101 | C26: E56959000043 | D26: 맨 홀 | E26: 1000x1000x1000 | F26: 식 | G26: 1 | Q26: 제 15호
A27: 56959000081 | B27: 0101 | C27: E56959000081 | D27: 관로구방수(저압) | E27: Φ30 | F27: 개소 | G27: 2 | Q27: 제 16호
A28: MM021317936 | B28: 0101 | C28: EMM021317936 | D28: 관로구방수(저압) | E28: Φ40 | F28: 개소 | G28: 1 | Q28: 제 17호
A29: 56959000089 | B29: 0101 | C29: E56959000089 | D29: 난연케이블-옥외 | E29: 0.6/1kv F-CV 4C×10㎟ | F29: M | G29: 26 | Q29: 제 63호 | AC29: =G29*H29 -> 0
A30: MM031593135 | B30: 0101 | C30: EMM031593135 | D30: 접지봉 | E30: Φ18×2400mm×3EA | F30: 개소 | G30: 1 | Q30: 제 18호
A31: MM023926876 | B31: 0101 | C31: EMM023926876 | D31: 되메우기 및 다짐 | E31: 대형장비사용 | F31: ㎥_ | G31: 5.04 | Q31: 제 11호
A32: 56959000091 | B32: 0101 | C32: E56959000091 | D32: 분전반 | E32: LP-M | F32: 면 | G32: 1 | Q32: 제 65호
A33: MM059871843 | B33: 0101 | C33: 4501563315500003 | D33: 분전반 | E33: 하이박스 내 차단기 | F33: 면 | G33: 1
AE34: =TRUNC(SUM(AE4:AE33)) -> 0
B55: 합계줄 | D55: ( 합 계 ) | I55: =TRUNC(SUM(I4:I54)) -> 0 | L55: =TRUNC(SUM(L4:L54)) -> 0 | N55: =TRUNC(SUM(N4:N54)) -> 0 | O55: =IF((H55+K55+M55)=0, "", (H55+K55+M55)) | P55: =TRUNC(SUM(P4:P54)) -> 0
B56: 공종줄 | D56: 1.전기공사::1-1.전기공사::1-1-2.냉난방전원설비공사
A57: 5975A337003 | B57: 0102 | C57: EKA144000010S | D57: 강제전선관 | E57: 아연도 28 mm | F57: M | G57: 4 | H57: =#REF! -> #REF! | I57: =TRUNC(G57*H57) -> #REF! | J57: 4 | K57: =#REF! -> #REF! | L57: =TRUNC(G57*K57) -> #REF! | M57: =#REF! -> #REF! | N57: =TRUNC(G57*M57) -> #REF! | O57: =IF((H57+K57+M57)=0, "", (H57+K57+M57)) -> #REF! | P57: =SUM(I57,L57,N57) -> #REF! | Q57: 제 22호 | AB57: =I57 -> #REF! | AC57: =G57*H57 -> #REF!
A58: 5975D097002 | B58: 0102 | C58: E59753097002 | D58: 합성수지제 가요전선관 | E58: CD-난연성 16㎜ | F58: M | G58: 65 | H58: =#REF! -> #REF! | I58: =TRUNC(G58*H58) -> #REF! | J58: 65 | K58: =#REF! -> #REF! | L58: =TRUNC(G58*K58) -> #REF! | M58: =#REF! -> #REF! | N58: =TRUNC(G58*M58) -> #REF! | O58: =IF((H58+K58+M58)=0, "", (H58+K58+M58)) -> #REF! | P58: =SUM(I58,L58,N58) -> #REF! | Q58: 제 25호 | AA58: =I58 -> #REF! | AC58: =G58*H58 -> #REF!
A59: 5975D097004 | B59: 0102 | C59: E59753097004 | D59: 합성수지제 가요전선관 | E59: CD-난연성 28㎜ | F59: M | G59: 7 | H59: =#REF! -> #REF! | I59: =TRUNC(G59*H59) -> #REF! | J59: 7 | K59: =#REF! -> #REF! | L59: =TRUNC(G59*K59) -> #REF! | M59: =#REF! -> #REF! | N59: =TRUNC(G59*M59) -> #REF! | O59: =IF((H59+K59+M59)=0, "", (H59+K59+M59)) -> #REF! | P59: =SUM(I59,L59,N59) -> #REF! | Q59: 제 27호 | AA59: =I59 -> #REF! | AC59: =G59*H59 -> #REF!
A60: 59753017043 | B60: 0102 | C60: 3913170620174434 | D60: 1종금속제가요전선관 | E60: 커넥터, 16 mm 일반-비방수 | F60: 개 | G60: 6 | H60: =합산자재!H11 -> #REF! | I60: =TRUNC(G60*H60) -> #REF! | J60: 6 | K60: =합산자재!I11 -> 0 | L60: =TRUNC(G60*K60) -> 0 | M60: =합산자재!J11 -> 0 | N60: =TRUNC(G60*M60) -> 0 | O60: =IF((H60+K60+M60)=0, "", (H60+K60+M60)) -> #REF! | P60: =SUM(I60,L60,N60) -> #REF!
...

Sheet 합산자재
B1: 133 | C1: [ 성환읍 복모리 경로당 신축공사(전기) ] - 합산자재목록
A2: 번호 | B2: … | C2: 코드 | D2: 명 칭 | E2: 규 격 | F2: 단위 | G2: 수량 | H2: 재료비 | I2: 노무비 | J2: 경비 | K2: 지급비 | L2: 계 | M2: 비고
B4: 59750337003 | C4: 3913170610034834 | D4: 강제전선관 | E4: 아연도 28 mm | F4: M | G4: 4.4 | H4: =ROUNDDOWN(#REF!*옵션!$D$11, 0) -> #REF! | L4: =SUM(H4,I4,J4) -> #REF!
B5: 59750337005 | C5: 3913170610034836 | D5: 강제전선관 | E5: 아연도 42 mm | F5: M | G5: 17.6 | H5: =ROUNDDOWN(#REF!*옵션!$D$11, 0) -> #REF! | L5: =SUM(H5,I5,J5) -> #REF!
B6: 59751467016 | C6: 3913170610034969 | D6: 경질비닐전선관 | E6: HI 42 mm | F6: M | G6: 4.4 | H6: =ROUNDDOWN(#REF!*옵션!$D$11, 0) -> #REF! | L6: =SUM(H6,I6,J6) -> #REF!
B7: 59753097002 | C7: 3913170610035664 | D7: 합성수지제 가요전선관 | E7: CD-난연성 16㎜ | F7: M | G7: 256.3 | H7: =ROUNDDOWN(#REF!*옵션!$D$11, 0) -> #REF! | L7: =SUM(H7,I7,J7) -> #REF!
B8: 59753097003 | C8: 3913170610035665 | D8: 합성수지제 가요전선관 | E8: CD-난연성 22㎜ | F8: M | G8: 38.5 | H8: =ROUNDDOWN(#REF!*옵션!$D$11, 0) -> #REF! | L8: =SUM(H8,I8,J8) -> #REF!
B9: 59753097004 | C9: 3913170610035666 | D9: 합성수지제 가요전선관 | E9: CD-난연성 28㎜ | F9: M | G9: 28.6 | H9: =ROUNDDOWN(#REF!*옵션!$D$11, 0) -> #REF! | L9: =SUM(H9,I9,J9) -> #REF!
B10: 59753077002 | C10: 3913170610035632 | D10: 파상형 폴리에틸렌 전선관 | E10: 40㎜ | F10: M | G10: 16.48 | H10: =ROUNDDOWN(#REF!*옵션!$D$11, 0) -> #REF! | L10: =SUM(H10,I10,J10) -> #REF!
B11: 59753017043 | C11: 3913170620174434 | D11: 1종금속제가요전선관 | E11: 커넥터, 16 mm 일반-비방수 | F11: 개 | G11: 38 | H11: =ROUNDDOWN(#REF!*옵션!$D$11, 0) -> #REF! | L11: =SUM(H11,I11,J11) -> #REF!
B12: 59753017065 | C12: 3913170620174448 | D12: 1종금속제가요전선관 | E12: 커넥터, 28 mm 일반-방수 | F12: 개 | G12: 2 | H12: =ROUNDDOWN(#REF!*옵션!$D$11, 0) -> #REF! | L12: =SUM(H12,I12,J12) -> #REF!
B13: MM496797011 | C13: 3913170620174478 | D13: 1종금속제가요전선관 | E13: 16 mm 고장력-비방수 | F13: M | G13: 41.8 | H13: =ROUNDDOWN(#REF!*옵션!$D$11, 0) -> #REF! | L13: =SUM(H13,I13,J13) -> #REF!
B14: MM496797031 | C14: 3913170620174472 | D14: 1종금속제가요전선관 | E14: 28 mm 고장력-방수 | F14: M | G14: 1.1 | H14: =ROUNDDOWN(#REF!*옵션!$D$11, 0) -> #REF! | L14: =SUM(H14,I14,J14) -> #REF!
B15: 59754887002 | C15: 3912139920409528 | D15: 발포지수제 | E15: D100 이하 | F15: 개 | G15: 4 | H15: =ROUNDDOWN(#REF!*옵션!$D$11, 0) -> #REF! | L15: =SUM(H15,I15,J15) -> #REF!
B16: 59754887006 | C16: 3912139920935638 | D16: 수밀보호테이프 | F16: 개 | G16: 4 | H16: =ROUNDDOWN(#REF!*옵션!$D$11, 0) -> #REF! | L16: =SUM(H16,I16,J16) -> #REF!
B17: 59754877101 | C17: 3913170820174925 | D17: 관로구방수장치 | E17: D30 | F17: 개 | G17: 3 | H17: =ROUNDDOWN(#REF!*옵션!$D$11, 0) -> #REF! | L17: =SUM(H17,I17,J17) -> #REF!
B18: 59754877009 | C18: 3913170820174923 | D18: 관로구방수장치 | E18: D40 | F18: 개 | G18: 1 | H18: =ROUNDDOWN(#REF!*옵션!$D$11, 0) -> #REF! | L18: =SUM(H18,I18,J18) -> #REF!
B19: 59754877010 | C19: 3913170820174924 | D19: 관구밀폐기 | E19: 이종연결관Φ40mm | F19: 개 | G19: 1 | H19: =ROUNDDOWN(#REF!*옵션!$D$11, 0) -> #REF! | L19: =SUM(H19,I19,J19) -> #REF!
B20: 59754877021 | C20: 3913170820935649 | D20: 관구밀폐기 | E20: 이종연결관Φ30mm | F20: 개 | G20: 3 | H20: =ROUNDDOWN(#REF!*옵션!$D$11, 0) -> #REF! | L20: =SUM(H20,I20,J20) -> #REF!
B21: 59759017061 | C21: 3913170820176475 | D21: 강재전선관용 부품 | E21: 노말밴드, 아연도 28 mm | F21: 개 | G21: 1 | H21: =ROUNDDOWN(#REF!*옵션!$D$11, 0) -> #REF! | L21: =SUM(H21,I21,J21) -> #REF!
B22: 59759017063 | C22: 3913170820176477 | D22: 강재전선관용 부품 | E22: 노말밴드, 아연도 42 mm | F22: 개 | G22: 1 | H22: =ROUNDDOWN(#REF!*옵션!$D$11, 0) -> #REF! | L22: =SUM(H22,I22,J22) -> #REF!
B23: 59753767011 | C23: 3912130810035750 | D23: 아우트렛박스 | E23: 8각 54㎜ | F23: 개 | G23: 15 | H23: =ROUNDDOWN(#REF!*옵션!$D$11, 0) -> #REF! | L23: =SUM(H23,I23,J23) -> #REF!
B24: 59753767041 | C24: 3912130810035753 | D24: 아우트렛박스 | E24: 중형4각 54㎜ | F24: 개 | G24: 7 | H24: =ROUNDDOWN(#REF!*옵션!$D$11, 0) -> #REF! | L24: =SUM(H24,I24,J24) -> #REF!
B25: 59753777102 | C25: 3912130610035778 | D25: 스위치박스 | E25: 1 개용 54 mm | F25: 개 | G25: 31 | H25: =ROUNDDOWN(#REF!*옵션!$D$11, 0) -> #REF! | L25: =SUM(H25,I25,J25) -> #REF!
B26: 59753777111 | C26: 3912130610035781 | D26: 스위치박스 | E26: 2 개용 54 mm | F26: 개 | G26: 17 | H26: =ROUNDDOWN(#REF!*옵션!$D$11, 0) -> #REF! | L26: =SUM(H26,I26,J26) -> #REF!
B27: 59753767201 | C27: 3912130820174710 | D27: 아우트렛박스 커버 | E27: 커버, 8각, 평형 | F27: 개 | G27: 15 | H27: =ROUNDDOWN(#REF!*옵션!$D$11, 0) -> #REF! | L27: =SUM(H27,I27,J27) -> #REF!
B28: 59753767231 | C28: 3912130820174713 | D28: 아우트렛박스 커버 | E28: 커버, 4각, 평형 | F28: 개 | G28: 7 | H28: =ROUNDDOWN(#REF!*옵션!$D$11, 0) -> #REF! | L28: =SUM(H28,I28,J28) -> #REF!
... B62: 59750440005 | C62: 3120150220174066 | D62: WARNING TAPE(저압용) | E62: 300 x 250 | F62: M | G62: 9 | H62: =ROUNDDOWN(#REF!*옵션!$D$11, 0) -> #REF! | L62: =SUM(H62,I62,J62) -> #REF!
B63: MM300041309 | C63: 3912218220173416 | D63: 필림밴드 | F63: 개 | G63: 6 | H63: =ROUNDDOWN(#REF!*옵션!$D$11, 0) -> #REF! | L63: =SUM(H63,I63,J63) -> #REF!
B64: MM300041311 | C64: 3912218220173418 | D64: 전주용입상관 | E64: D130x2m | F64: 개 | G64: 3 | H64: =ROUNDDOWN(#REF!*옵션!$D$11, 0) -> #REF! | L64: =SUM(H64,I64,J64) -> #REF!
B65: 56300217297 | C65: 3012169821869019 | D65: 맨홀 | E65: 1000x1000x1000 | F65: 조 | G65: 1 | H65: =ROUNDDOWN(#REF!*옵션!$D$11, 0) -> #REF! | L65: =SUM(H65,I65,J65) -> #REF!
B66: 56800447191 | C66: 3012169520160593 | D66: 맨홀뚜껑(철개) | E66: 회주철, Φ648, KS | F66: 조 | G66: 1 | H66: =ROUNDDOWN(#REF!*옵션!$D$11, 0) -> #REF! | L66: =SUM(H66,I66,J66) -> #REF!
B67: 56100017110 | C67: 1111170120142524 | D67: 자연자갈 | E67: 잡석 | F67: ㎥ | G67: 0.3718 | H67: =ROUNDDOWN(#REF!*옵션!$D$11, 0) -> #REF! | L67: =SUM(H67,I67,J67) -> #REF!
B68: 91400167011 | C68: 1510150520282163 | D68: 경유 | E68: 저유황0.001% | F68: ℓ | G68: 34.5146 | H68: =ROUNDDOWN(#REF!*옵션!$D$11, 0) -> #REF! | L68: =SUM(H68,I68,J68) -> #REF!
B69: MM916855631 | C69: 4511562104212740 | D69: 난연케이블-옥외 | E69: 0.6/1kv F-CV 4C×10㎟ | F69: M | G69: 26.78 | H69: =ROUNDDOWN(#REF!*옵션!$D$11, 0) -> #REF! | L69: =SUM(H69,I69,J69) -> #REF!
B70: MM910888250 | C70: 4501562104220025 | D70: 450/750V 내열비닐절연전선 | E70: HFIX 1.78mm(2.5㎟)-바닥 | F70: M | G70: 487.3 | H70: =ROUNDDOWN(#REF!*옵션!$D$11, 0) -> #REF! | L70: =SUM(H70,I70,J70) -> #REF!
B71: MM059871842 | C71: 4501563315500002 | D71: 분전반 | E71: LP-M | F71: 면 | G71: 1 | H71: =ROUNDDOWN(#REF!*옵션!$D$11, 0) -> #REF! | L71: =SUM(H71,I71,J71) -> #REF!
B72: MM059871843 | C72: 4501563315500003 | D72: 분전반 | E72: 하이박스 내 차단기 | F72: 면 | G72: 1 | H72: =ROUNDDOWN(#REF!*옵션!$D$11, 0) -> #REF! | L72: =SUM(H72,I72,J72) -> #REF!
B73: MM059934264 | C73: 4501563315500005 | D73: 가정용전기레인지 | E73: 3구 3400W | F73: 대 | G73: 1 | H73: =ROUNDDOWN(#REF!*옵션!$D$11, 0) -> #REF! | L73: =SUM(H73,I73,J73) -> #REF!
B74: MM906782332 | C74: 391115ZZ701Z0001 | D74: 구멍따기 | E74: 석고판 | F74: 개 | G74: 9 | H74: =ROUNDDOWN(#REF!*옵션!$D$11, 0) -> #REF! | L74: =SUM(H74,I74,J74) -> #REF!
...

Sheet 옵션
B1: 재료비 | C1: 노무비 | D1: 경비 | F1: 계
A2: 총 급 액 | B2: =#REF! -> #REF! | C2: =#REF! -> #REF! | D2: =#REF! -> #REF! | F2: =SUM(B2,C2,D2) -> #REF!
A3: 도급자관급 | B3: =#REF! -> #REF! | C3: =#REF! -> #REF! | D3: =#REF! -> #REF! | F3: =SUM(B3,C3,D3) -> #REF! | H3: 금액조정이 안되나요?
F4: =SUM(B4,C4,D4) -> 0
F5: =SUM(B5,C5,D5) -> 0
F6: =SUM(B6,C6,D6) -> 0 | H6: 이지테크에서 변환할 때 2번 옵션을 지정하여 다시 해보세요
F7: =SUM(B7,C7,D7) -> 0
F8: =SUM(B8,C8,D8) -> 0
H9: 시트를 삭제할 때 에러가 뜨면 1번 옵션으로 하면 됩니다.
B10: 적용율(%) | C10: 끝자리 | D10: 적용율(%)/100 | E10: 일위대가소수
A11: 전체자재 적용율(%)(공종/일위대가) | B11: 100 | C11: 1 | D11: =$B$11/100 -> 1
A12: 전체노임 적용율(%)(공종) | B12: 100 | C12: 1 | D12: =$B$12/100 -> 1 | E12: 2 | H12: 2번 옵션으로 변환했을 때에는 결과값이 다를 수 있습니다.
A13: 전체노임 적용율(%)(일위대가) | B13: 100 | C13: 1 | D13: =$B$13/100 -> 1 | E13: 5
A20: *(그룹별 자재 단가 추가 할증)* | B20: 적용율(%) | D20: 적용율(%)/100
A21: Cable(CAB) 할증(%) | B21: =B11 -> 100 | D21: =$B$21/100 -> 1
A22: Wire (WIR) 할증(%) | B22: =B11 -> 100 | D22: =$B$22/100 -> 1
A23: Pipe (PIP) 할증(%) | B23: =B11 -> 100 | D23: =$B$23/100 -> 1
A24: 제 4그룹 할증(%) | B24: =B11 -> 100 | D24: =$B$24/100 -> 1
A25: 제 5그룹 할증(%) | B25: =B11 -> 100 | D25: =$B$25/100 -> 1
A30: *(그룹별 노임 추가 할증)* | B30: 적용율(%) | C30: 자동부속재(전기) | D30: 자동부속재(통신)
A31: 배관부속재(%) | B31: 15 | C31: 15 | D31: 20
A32: CD관부속재(%) | B32: 40 | C32: 40 | D32: 40
A33: 소모잡자재(%) | B33: 2 | H33: 본 파일은 이지테크에서 2번 옵션으로 만들었습니다.
A34: 방폭할증(%)
A35: 고소할증(%) | B35: 2
A36: 공구손료(%) | B36: 3
A40: *(공종별 노임 적용율(%))* | B40: 적용율(%) | C40: 소수자릿수
A41: 1-1.전력간선설비공사 | B41: 100 | C41: 5
A42: 1-2.냉난방전원설비공사 | B42: 100 | C42: 5
A43: 1-3.전열설비공사 | B43: 100 | C43: 5
A44: 1-4.전등설비공사 | B44: 100 | C44: 5
A45: 2-1.조명기구 | B45: 100 | C45: 5

Sheet 사용설명
B1: ** 반드시 다음 사항을 숙지하신 다음 수정 작업을 하십시오 **
A2: 1. | B2: 속성이 숫자인 셀을 삭제할 때는 반드시 'Delete' 키를 사용하십시오.
B3: **주의:'Space Bar' 로 지웠을 때는 '#Value' Error가 발생됩니다.
A4: 2. | B4: 일위대가(을지)는 소수점 처리 때문에 셀 속성을 '일반'으로 하였습니다.(소수점 능동 처리)
B5: **참고: (수량*단가)의 결과는 소수 한자리, 금액을 취합한 소계는 1원 이하 절사입니다.
A6: 3. | B6: 내역서에서는 수량에만 셀 속성을 '일반'으로 하였습니다.(소수점 능동 처리)
A7: 4. | B7: 단가수정은 '단가조사서'시트 에서 하십시오.
B8: a)표지와 원가 -> 총괄표 -> 내역서 ->일위대가와 합산자재 ->단가조사서 를 참조하고
B9: 있으므로 단가조사서의 결정단가를 수정하면 전체 금액이 갱신됩니다.
B10: **주의: 금액란은 공식이 걸려있으므로 조심하여 수정하십시오.
B11: b)전체 자재를 일정 요율(%)로 변경할 때는 옵션시트의 자재 적용율을 조정하면 됩니다.
A12: 5. | B12: 노임 단가는 '단가조사서'시트에서 품셈은 '노임근거'시트에서 수정하십시오.
B13: a)전체 노임을 일정 요율(%)로 변경할 때는 '옵션시트'의 전체노임 적용율을 조정하면 됩니다.
B14: b)공종별로 노임을 수정하려면 '옵션시트'의 공종별 노임 적용율을 조정하면 됩니다.
B15: c)케이블 및 전선 자재 단가를 추가로 조정하려면 그룹별 자재 적용율을 조정하면 됩니다.
B16: 그룹은 견적 프로그램에서 엑셀파일이 만들어질때 지정됩니다.
A17: 6. | B17: 겉표지의 모든 정보는 표지를 참조하였습니다.(정보 수정은 표지에서만 하시면 됩니다.)
A18: 7. | B18: 필수 :본 프로그램의 총 금액을 확인한 후 사용하십시오.
A19: 8. | B19: 본 파일의 내용을 인쇄할 경우, 미리보기를 통하여 페이지 절선을 확인 후 인쇄하십시오.
A20: 9. | B20: 관급자재 Sheet가 해당이 없을 경우엔 삭제하십시오.
A21: 10. | B21: 페이지 절선이 맞지 않으면 다음을 참고하십시오.
B33: a. 해당시트의 셀 전체를 선택합니다.
B34: b. 행높이를 적절히 가감하면 페이지 절선을 맞출 수 있습니다.
