Workbook

Sheet 내역서(전기)
A1: 총줄수-> | B1: 185 | D1: [ 성환읍 복모리 경로당 신축공사(전기) ] | W1: 노임 계산 정보 | AA1: 부속재 및 손료
A2: 번호 | B2: 공종코드 | C2: 코드 | D2: 명 칭 | E2: 규 격 | F2: 단위 | G2: 수량 | H2: 재료비 | J2: 노무비 | M2: 경비 | P2: 계 | Q2: 비고 | W2: 노임계 | X2: 전체(%) | Y2: 공종별(%) | Z2: 노임 소수 | AA2: CD배관재 | AB2: 일반배관재 | AC2: 소모재 | AD2: 자재계 | AE2: 노임계
H3: 단가 | I3: 금액 | J3: 수량 | K3: 단가 | L3: 금액 | M3: 단가 | N3: 금액 | O3: 단가 | AD3: =IF(옵션!$C$11 =0, "1", 옵션!$C$11) -> 1 | AE3: =IF(옵션!$C$12 =0, "1", 옵션!$C$12) -> 1
B4: 공종줄 | D4: 1.전기공사::1-1.전기공사::1-1-1.전력간선설비공사
A5: 5975A337005 | B5: 0101 | C5: EKA164000010S | D5: 강제전선관 | E5: 아연도 42 mm | F5: M | G5: 16 | Q5: 제 23호 | AB5: =I5 -> 0 | AC5: =G5*H5 -> 0
A6: 5975B467016 | B6: 0101 | C6: EKA364000010S | D6: 경질비닐전선관 | E6: HI 42 mm | F6: M | G6: 4 | Q6: 제 24호 | AB6: =I6 -> 0 | AC6: =G6*H6 -> 0
A7: 5975D097004 | B7: 0101 | C7: E59753097004 | D7: 합성수지제 가요전선관 | E7: CD-난연성 28㎜ | F7: M | G7: 13 | Q7: 제 27호 | AA7: =I7 -> 0 | AC7: =G7*H7 -> 0
A8: 5975D077002 | B8: 0101 | C8: E59753077002 | D8: 파상형 폴리에틸렌 전선관 | E8: 40㎜(가로등,신호,구내) | F8: M | G8: 16 | Q8: 제 28호 | AB8: =I8 -> 0 | AC8: =G8*H8 -> 0
A9: 59759017063 | B9: 0101 | C9: 3913170820176477 | D9: 강재전선관용 부품 | E9: 노말밴드, 아연도 42 mm | F9: 개 | G9: 1
A10: 5975D857061 | B10: 0101 | C10: E59753857061 | D10: 풀박스 | E10: 200×200×100 | F10: 개 | G10: 1 | Q10: 제 35호
A11: 5975D857111 | B11: 0101 | C11: E59753857111 | D11: 풀박스 | E11: 300×300×100 | F11: 개 | G11: 1 | Q11: 제 36호
A12: 5975D857171 | B12: 0101 | C12: E59753857171 | D12: 풀박스 | E12: 400×400×200 | F12: 개 | G12: 1 | Q12: 제 37호
A13: 56959000084 | B13: 0101 | C13: E56959000084 | D13: 합성수지 전기함(ABS BOX) | E13: 300*400*160 | F13: 개 | G13: 1 | Q13: 제 38호
A14: E145A927201 | B14: 0101 | C14: EOC315000010S | D14: 접지용비닐절연전선(F-GV) | E14: 2.5㎟ | F14: M | G14: 15 | Q14: 제 40호 | AC14: =G14*H14 -> 0
A15: E145A927204 | B15: 0101 | C15: EOC345000040S | D15: 접지용비닐절연전선(F-GV) | E15: 10㎟ | F15: M | G15: 33 | Q15: 제 42호 | AC15: =G15*H15 -> 0
A16: E145A927206 | B16: 0101 | C16: EOC365000010S | D16: 접지용비닐절연전선(F-GV) | E16: 25㎟ | F16: M | G16: 20 | Q16: 제 43호 | AC16: =G16*H16 -> 0
A17: 56959000086 | B17: 0101 | C17: E56959000086 | D17: 전기용 연동연선(BC) | E17: 10㎟ | F17: M | G17: 6 | Q17: 제 44호 | AC17: =G17*H17 -> 0
A18: E145A287521 | B18: 0101 | C18: ELD621000020S | D18: 폴리에틸렌 난연케이블 | E18: 0.6/1kv F-CV 2C×2.5㎟ | F18: M | G18: 15 | Q18: 제 45호 | AC18: =G18*H18 -> 0
A19: E145A287564 | B19: 0101 | C19: ELD651000040S | D19: 폴리에틸렌 난연케이블 | E19: 0.6/1kv F-CV 4C×10㎟ | F19: M | G19: 25 | Q19: 제 47호 | AC19: =G19*H19 -> 0
A20: 5975A427105 | B20: 0101 | C20: EOA131000010S | D20: 접지봉 | E20: 18Φ×2400 mm | F20: 개 | G20: 1 | Q20: 제 60호
A21: 5975A440005 | B21: 0101 | C21: E59750440005 | D21: WARNING TAPE(저압용) | E21: 300 x 250 | F21: M | G21: 9 | Q21: 제 61호
A22: MM300041309 | B22: 0101 | C22: 3912218220173416 | D22: 필림밴드 | F22: 개 | G22: 6
A23: 56959000088 | B23: 0101 | C23: E56959000088 | D23: 전주용입상관 | E23: D130x2m | F23: 개 | G23: 3 | Q23: 제 62호
A24: 56950120042 | B24: 0101 | C24: EAA110150000 | D24: 파이프행가 | E24: 42 C | F24: 개소 | G24: 8 | Q24: 제 20호
A25: 56930220040 | B25: 0101 | C25: ABB103100000 | D25: 터파기(기계90%,인력10%) | E25: 보통토사 | F25: ㎥ | G25: 5.04 | Q25: 제 10호
A26: 56959000043 | B26: 0101 | C26: E56959000043 | D26: 맨 홀 | E26: 1000x1000x1000 | F26: 식 | G26: 1 | Q26: 제 15호
A27: 56959000081 | B27: 0101 | C27: E56959000081 | D27: 관로구방수(저압) | E27: Φ30 | F27: 개소 | G27: 2 | Q27: 제 16호
A28: MM021317936 | B28: 0101 | C28: EMM021317936 | D28: 관로구방수(저압) | E28: Φ40 | F28: 개소 | G28: 1 | Q28: 제 17호
A29: 56959000089 | B29: 0101 | C29: E56959000089 | D29: 난연케이블-옥외 | E29: 0.6/1kv F-CV 4C×10㎟ | F29: M | G29: 26 | Q29: 제 63호 | AC29: =G29*H29 -> 0
A30: MM031593135 | B30: 0101 | C30: EMM031593135 | D30: 접지봉 | E30: Φ18×2400mm×3EA | F30: 개소 | G30: 1 | Q30: 제 18호
A31: MM023926876 | B31: 0101 | C31: EMM023926876 | D31: 되메우기 및 다짐 | E31: 대형장비사용 | F31: ㎥_ | G31: 5.04 | Q31: 제 11호
A32: 56959000091 | B32: 0101 | C32: E56959000091 | D32: 분전반 | E32: LP-M | F32: 면 | G32: 1 | Q32: 제 65호
A33: MM059871843 | B33: 0101 | C33: 4501563315500003 | D33: 분전반 | E33: 하이박스 내 차단기 | F33: 면 | G33: 1
AE34: =TRUNC(SUM(AE4:AE33)) -> 0
B55: 합계줄 | D55: ( 합 계 ) | I55: =TRUNC(SUM(I4:I54)) -> 0 | L55: =TRUNC(SUM(L4:L54)) -> 0 | N55: =TRUNC(SUM(N4:N54)) -> 0 | O55: =IF((H55+K55+M55)=0, "", (H55+K55+M55)) | P55: =TRUNC(SUM(P4:P54)) -> 0
B56: 공종줄 | D56: 1.전기공사::1-1.전기공사::1-1-2.냉난방전원설비공사
A57: 5975A337003 | B57: 0102 | C57: EKA144000010S | D57: 강제전선관 | E57: 아연도 28 mm | F57: M | G57: 4 | H57: =#REF! -> #REF! | I57: =TRUNC(G57*H57) -> #REF! | J57: 4 | K57: =#REF! -> #REF! | L57: =TRUNC(G57*K57) -> #REF! | M57: =#REF! -> #REF! | N57: =TRUNC(G57*M57) -> #REF! | O57: =IF((H57+K57+M57)=0, "", (H57+K57+M57)) -> #REF! | P57: =SUM(I57,L57,N57) -> #REF! | Q57: 제 22호 | AB57: =I57 -> #REF! | AC57: =G57*H57 -> #REF!
A58: 5975D097002 | B58: 0102 | C58: E59753097002 | D58: 합성수지제 가요전선관 | E58: CD-난연성 16㎜ | F58: M | G58: 65 | H58: =#REF! -> #REF! | I58: =TRUNC(G58*H58) -> #REF! | J58: 65 | K58: =#REF! -> #REF! | L58: =TRUNC(G58*K58) -> #REF! | M58: =#REF! -> #REF! | N58: =TRUNC(G58*M58) -> #REF! | O58: =IF((H58+K58+M58)=0, "", (H58+K58+M58)) -> #REF! | P58: =SUM(I58,L58,N58) -> #REF! | Q58: 제 25호 | AA58: =I58 -> #REF! | AC58: =G58*H58 -> #REF!
A59: 5975D097004 | B59: 0102 | C59: E59753097004 | D59: 합성수지제 가요전선관 | E59: CD-난연성 28㎜ | F59: M | G59: 7 | H59: =#REF! -> #REF! | I59: =TRUNC(G59*H59) -> #REF! | J59: 7 | K59: =#REF! -> #REF! | L59: =TRUNC(G59*K59) -> #REF! | M59: =#REF! -> #REF! | N59: =TRUNC(G59*M59) -> #REF! | O59: =IF((H59+K59+M59)=0, "", (H59+K59+M59)) -> #REF! | P59: =SUM(I59,L59,N59) -> #REF! | Q59: 제 27호 | AA59: =I59 -> #REF! | AC59: =G59*H59 -> #REF!
A60: 59753017043 | B60: 0102 | C60: 3913170620174434 | D60: 1종금속제가요전선관 | E60: 커넥터, 16 mm 일반-비방수 | F60: 개 | G60: 6 | H60: =합산자재!H11 -> #REF! | I60: =TRUNC(G60*H60) -> #REF! | J60: 6 | K60: =합산자재!I11 -> 0 | L60: =TRUNC(G60*K60) -> 0 | M60: =합산자재!J11 -> 0 | N60: =TRUNC(G60*M60) -> 0 | O60: =IF((H60+K60+M60)=0, "", (H60+K60+M60)) -> #REF! | P60: =SUM(I60,L60,N60) -> #REF!
A61: 59753017065 | B61: 0102 | C61: 3913170620174448 | D61: 1종금속제가요전선관 | E61: 커넥터, 28 mm 일반-방수 | F61: 개 | G61: 2 | H61: =합산자재!H12 -> #REF! | I61: =TRUNC(G61*H61) -> #REF! | J61: 2 | K61: =합산자재!I12 -> 0 | L61: =TRUNC(G61*K61) -> 0 | M61: =합산자재!J12 -> 0 | N61: =TRUNC(G61*M61) -> 0 | O61: =IF((H61+K61+M61)=0, "", (H61+K61+M61)) -> #REF! | P61: =SUM(I61,L61,N61) -> #REF!
A62: 56959000082 | B62: 0102 | C62: E56959000082 | D62: 1종금속제가요전선관 | E62: 16 mm 고장력-비방수 | F62: M | G62: 6 | H62: =#REF! -> #REF! | I62: =TRUNC(G62*H62) -> #REF! | J62: 6 | K62: =#REF! -> #REF! | L62: =TRUNC(G62*K62) -> #REF! | M62: =#REF! -> #REF! | N62: =TRUNC(G62*M62) -> #REF! | O62: =IF((H62+K62+M62)=0, "", (H62+K62+M62)) -> #REF! | P62: =SUM(I62,L62,N62) -> #REF! | Q62: 제 29호 | AC62: =G62*H62 -> #REF!
A63: 56959000083 | B63: 0102 | C63: E56959000083 | D63: 1종금속제가요전선관 | E63: 28 mm 고장력-방수 | F63: M | G63: 1 | H63: =#REF! -> #REF! | I63: =TRUNC(G63*H63) -> #REF! | J63: 1 | K63: =#REF! -> #REF! | L63: =TRUNC(G63*K63) -> #REF! | M63: =#REF! -> #REF! | N63: =TRUNC(G63*M63) -> #REF! | O63: =IF((H63+K63+M63)=0, "", (H63+K63+M63)) -> #REF! | P63: =SUM(I63,L63,N63) -> #REF! | Q63: 제 30호 | AC63: =G63*H63 -> #REF!
A64: 59759017061 | B64: 0102 | C64: 3913170820176475 | D64: 강재전선관용 부품 | E64: 노말밴드, 아연도 28 mm | F64: 개 | G64: 1 | H64: =합산자재!H21 -> #REF! | I64: =TRUNC(G64*H64) -> #REF! | J64: 1 | K64: =합산자재!I21 -> 0 | L64: =TRUNC(G64*K64) -> 0 | M64: =합산자재!J21 -> 0 | N64: =TRUNC(G64*M64) -> 0 | O64: =IF((H64+K64+M64)=0, "", (H64+K64+M64)) -> #REF! | P64: =SUM(I64,L64,N64) -> #REF!
A65: 5975D767041 | B65: 0102 | C65: EKK221000010S | D65: 아우트렛박스 | E65: 중형4각 54㎜ | F65: 개 | G65: 3 | H65: =#REF! -> #REF! | I65: =TRUNC(G65*H65) -> #REF! | J65: 3 | K65: =#REF! -> #REF! | L65: =TRUNC(G65*K65) -> #REF! | M65: =#REF! -> #REF! | N65: =TRUNC(G65*M65) -> #REF! | O65: =IF((H65+K65+M65)=0, "", (H65+K65+M65)) -> #REF! | P65: =SUM(I65,L65,N65) -> #REF! | Q65: 제 32호
A66: 5975D777102 | B66: 0102 | C66: EKK231000011S | D66: 스위치박스 | E66: 1 개용 54 mm | F66: 개 | G66: 7 | H66: =#REF! -> #REF! | I66: =TRUNC(G66*H66) -> #REF! | J66: 7 | K66: =#REF! -> #REF! | L66: =TRUNC(G66*K66) -> #REF! | M66: =#REF! -> #REF! | N66: =TRUNC(G66*M66) -> #REF! | O66: =IF((H66+K66+M66)=0, "", (H66+K66+M66)) -> #REF! | P66: =SUM(I66,L66,N66) -> #REF! | Q66: 제 33호
A67: 5975D777111 | B67: 0102 | C67: EKK231000020S | D67: 스위치박스 | E67: 2 개용 54 mm | F67: 개 | G67: 1 | H67: =#REF! -> #REF! | I67: =TRUNC(G67*H67) -> #REF! | J67: 1 | K67: =#REF! -> #REF! | L67: =TRUNC(G67*K67) -> #REF! | M67: =#REF! -> #REF! | N67: =TRUNC(G67*M67) -> #REF! | O67: =IF((H67+K67+M67)=0, "", (H67+K67+M67)) -> #REF! | P67: =SUM(I67,L67,N67) -> #REF! | Q67: 제 34호
A68: 59753767231 | B68: 0102 | C68: 3912130820174713 | D68: 아우트렛박스 커버 | E68: 커버, 4각, 평형 | F68: 개 | G68: 3 | H68: =합산자재!H28 -> #REF! | I68: =TRUNC(G68*H68) -> #REF! | J68: 3 | K68: =합산자재!I28 -> 0 | L68: =TRUNC(G68*K68) -> 0 | M68: =합산자재!J28 -> 0 | N68: =TRUNC(G68*M68) -> 0 | O68: =IF((H68+K68+M68)=0, "", (H68+K68+M68)) -> #REF! | P68: =SUM(I68,L68,N68) -> #REF!
A69: 5975D857061 | B69: 0102 | C69: E59753857061 | D69: 풀박스 | E69: 200×200×100 | F69: 개 | G69: 2 | H69: =#REF! -> #REF! | I69: =TRUNC(G69*H69) -> #REF! | J69: 2 | K69: =#REF! -> #REF! | L69: =TRUNC(G69*K69) -> #REF! | M69: =#REF! -> #REF! | N69: =TRUNC(G69*M69) -> #REF! | O69: =IF((H69+K69+M69)=0, "", (H69+K69+M69)) -> #REF! | P69: =SUM(I69,L69,N69) -> #REF! | Q69: 제 35호
A70: 56959000085 | B70: 0102 | C70: E56959000085 | D70: 450/750V 내열비닐절연전선 | E70: HFIX 1.78mm(2.5㎟) | F70: M | G70: 79 | H70: =#REF! -> #REF! | I70: =TRUNC(G70*H70) -> #REF! | J70: 79 | K70: =#REF! -> #REF! | L70: =TRUNC(G70*K70) -> #REF! | M70: =#REF! -> #REF! | N70: =TRUNC(G70*M70) -> #REF! | O70: =IF((H70+K70+M70)=0, "", (H70+K70+M70)) -> #REF! | P70: =SUM(I70,L70,N70) -> #REF! | Q70: 제 39호 | AC70: =G70*H70 -> #REF!
A71: E145A927202 | B71: 0102 | C71: EOC325000020S | D71: 접지용비닐절연전선(F-GV) | E71: 4㎟ | F71: M | G71: 14 | H71: =#REF! -> #REF! | I71: =TRUNC(G71*H71) -> #REF! | J71: 14 | K71: =#REF! -> #REF! | L71: =TRUNC(G71*K71) -> #REF! | M71: =#REF! -> #REF! | N71: =TRUNC(G71*M71) -> #REF! | O71: =IF((H71+K71+M71)=0, "", (H71+K71+M71)) -> #REF! | P71: =SUM(I71,L71,N71) -> #REF! | Q71: 제 41호 | AC71: =G71*H71 -> #REF!
A72: E145A287522 | B72: 0102 | C72: ELD631000020S | D72: 폴리에틸렌 난연케이블 | E72: 0.6/1kv F-CV 2C×4㎟ | F72: M | G72: 14 | H72: =#REF! -> #REF! | I72: =TRUNC(G72*H72) -> #REF! | J72: 14 | K72: =#REF! -> #REF! | L72: =TRUNC(G72*K72) -> #REF! | M72: =#REF! -> #REF! | N72: =TRUNC(G72*M72) -> #REF! | O72: =IF((H72+K72+M72)=0, "", (H72+K72+M72)) -> #REF! | P72: =SUM(I72,L72,N72) -> #REF! | Q72: 제 46호 | AC72: =G72*H72 -> #REF!
A73: 56950120028 | B73: 0102 | C73: EAA110130000 | D73: 파이프행가 | E73: 28 C | F73: 개소 | G73: 2 | H73: =#REF! -> #REF! | I73: =TRUNC(G73*H73) -> #REF! | J73: 2 | K73: =#REF! -> #REF! | L73: =TRUNC(G73*K73) -> #REF! | M73: =#REF! -> #REF! | N73: =TRUNC(G73*M73) -> #REF! | O73: =IF((H73+K73+M73)=0, "", (H73+K73+M73)) -> #REF! | P73: =SUM(I73,L73,N73) -> #REF! | Q73: 제 19호
A74: 56959000081 | B74: 0102 | C74: E56959000081 | D74: 관로구방수(저압) | E74: Φ30 | F74: 개소 | G74: 1 | H74: =#REF! -> #REF! | I74: =TRUNC(G74*H74) -> #REF! | J74: 1 | K74: =#REF! -> #REF! | L74: =TRUNC(G74*K74) -> #REF! | M74: =#REF! -> #REF! | N74: =TRUNC(G74*M74) -> #REF! | O74: =IF((H74+K74+M74)=0, "", (H74+K74+M74)) -> #REF! | P74: =SUM(I74,L74,N74) -> #REF! | Q74: 제 16호
AE75: =TRUNC(SUM(AE56:AE74)) -> 0
B81: 합계줄 | D81: ( 합 계 ) | I81: =TRUNC(SUM(I56:I80)) -> #REF! | L81: =TRUNC(SUM(L56:L80)) -> #REF! | N81: =TRUNC(SUM(N56:N80)) -> #REF! | O81: =IF((H81+K81+M81)=0, "", (H81+K81+M81)) | P81: =TRUNC(SUM(P56:P80)) -> #REF!
B82: 공종줄 | D82: 1.전기공사::1-1.전기공사::1-1-3.전열설비공사
A83: 5975D097002 | B83: 0103 | C83: E59753097002 | D83: 합성수지제 가요전선관 | E83: CD-난연성 16㎜ | F83: M | G83: 81 | H83: =#REF! -> #REF! | I83: =TRUNC(G83*H83) -> #REF! | J83: 81 | K83: =#REF! -> #REF! | L83: =TRUNC(G83*K83) -> #REF! | M83: =#REF! -> #REF! | N83: =TRUNC(G83*M83) -> #REF! | O83: =IF((H83+K83+M83)=0, "", (H83+K83+M83)) -> #REF! | P83: =SUM(I83,L83,N83) -> #REF! | Q83: 제 25호 | AA83: =I83 -> #REF! | AC83: =G83*H83 -> #REF!
A84: 5975D097003 | B84: 0103 | C84: E59753097003 | D84: 합성수지제 가요전선관 | E84: CD-난연성 22㎜ | F84: M | G84: 33 | H84: =#REF! -> #REF! | I84: =TRUNC(G84*H84) -> #REF! | J84: 33 | K84: =#REF! -> #REF! | L84: =TRUNC(G84*K84) -> #REF! | M84: =#REF! -> #REF! | N84: =TRUNC(G84*M84) -> #REF! | O84: =IF((H84+K84+M84)=0, "", (H84+K84+M84)) -> #REF! | P84: =SUM(I84,L84,N84) -> #REF! | Q84: 제 26호 | AA84: =I84 -> #REF! | AC84: =G84*H84 -> #REF!
A85: 5975D777102 | B85: 0103 | C85: EKK231000011S | D85: 스위치박스 | E85: 1 개용 54 mm | F85: 개 | G85: 13 | H85: =#REF! -> #REF! | I85: =TRUNC(G85*H85) -> #REF! | J85: 13 | K85: =#REF! -> #REF! | L85: =TRUNC(G85*K85) -> #REF! | M85: =#REF! -> #REF! | N85: =TRUNC(G85*M85) -> #REF! | O85: =IF((H85+K85+M85)=0, "", (H85+K85+M85)) -> #REF! | P85: =SUM(I85,L85,N85) -> #REF! | Q85: 제 33호
A86: 5975D777111 | B86: 0103 | C86: EKK231000020S | D86: 스위치박스 | E86: 2 개용 54 mm | F86: 개 | G86: 16 | H86: =#REF! -> #REF! | I86: =TRUNC(G86*H86) -> #REF! | J86: 16 | K86: =#REF! -> #REF! | L86: =TRUNC(G86*K86) -> #REF! | M86: =#REF! -> #REF! | N86: =TRUNC(G86*M86) -> #REF! | O86: =IF((H86+K86+M86)=0, "", (H86+K86+M86)) -> #REF! | P86: =SUM(I86,L86,N86) -> #REF! | Q86: 제 34호
A87: 59753767281 | B87: 0103 | C87: 3912130820174718 | D87: 아우트렛박스 커버 | E87: 커버, 4각,2개용S/W (오목) | F87: 개 | G87: 16 | H87: =합산자재!H29 -> #REF! | I87: =TRUNC(G87*H87) -> #REF! | J87: 16 | K87: =합산자재!I29 -> 0 | L87: =TRUNC(G87*K87) -> 0 | M87: =합산자재!J29 -> 0 | N87: =TRUNC(G87*M87) -> 0 | O87: =IF((H87+K87+M87)=0, "", (H87+K87+M87)) -> #REF! | P87: =SUM(I87,L87,N87) -> #REF!
A88: 5935A317205 | B88: 0103 | C88: E59350317205 | D88: 콘센트 | E88: 매입-접지형, 250V 1구 | F88: 개 | G88: 2 | H88: =#REF! -> #REF! | I88: =TRUNC(G88*H88) -> #REF! | J88: 2 | K88: =#REF! -> #REF! | L88: =TRUNC(G88*K88) -> #REF! | M88: =#REF! -> #REF! | N88: =TRUNC(G88*M88) -> #REF! | O88: =IF((H88+K88+M88)=0, "", (H88+K88+M88)) -> #REF! | P88: =SUM(I88,L88,N88) -> #REF! | Q88: 제 54호
A89: 5935A317206 | B89: 0103 | C89: E59350317206 | D89: 콘센트 | E89: 매입-접지형, 250V 2구 | F89: 개 | G89: 17 | H89: =#REF! -> #REF! | I89: =TRUNC(G89*H89) -> #REF! | J89: 17 | K89: =#REF! -> #REF! | L89: =TRUNC(G89*K89) -> #REF! | M89: =#REF! -> #REF! | N89: =TRUNC(G89*M89) -> #REF! | O89: =IF((H89+K89+M89)=0, "", (H89+K89+M89)) -> #REF! | P89: =SUM(I89,L89,N89) -> #REF! | Q89: 제 55호
A90: 5935A317122 | B90: 0103 | C90: E59350317122 | D90: 콘센트 | E90: 노출-접지형, 250V 2구 | F90: 개 | G90: 2 | H90: =#REF! -> #REF! | I90: =TRUNC(G90*H90) -> #REF! | J90: 2 | K90: =#REF! -> #REF! | L90: =TRUNC(G90*K90) -> #REF! | M90: =#REF! -> #REF! | N90: =TRUNC(G90*M90) -> #REF! | O90: =IF((H90+K90+M90)=0, "", (H90+K90+M90)) -> #REF! | P90: =SUM(I90,L90,N90) -> #REF! | Q90: 제 57호
A91: 5935A317207 | B91: 0103 | C91: E59350317207 | D91: 방우콘센트 | E91: 매입-접지형, 250V 1구 | F91: 개 | G91: 5 | H91: =#REF! -> #REF! | I91: =TRUNC(G91*H91) -> #REF! | J91: 5 | K91: =#REF! -> #REF! | L91: =TRUNC(G91*K91) -> #REF! | M91: =#REF! -> #REF! | N91: =TRUNC(G91*M91) -> #REF! | O91: =IF((H91+K91+M91)=0, "", (H91+K91+M91)) -> #REF! | P91: =SUM(I91,L91,N91) -> #REF! | Q91: 제 58호
A92: 5935A317208 | B92: 0103 | C92: E59350317208 | D92: 방우콘센트 | E92: 매입-접지형, 250V 2구 | F92: 개 | G92: 2 | H92: =#REF! -> #REF! | I92: =TRUNC(G92*H92) -> #REF! | J92: 2 | K92: =#REF! -> #REF! | L92: =TRUNC(G92*K92) -> #REF! | M92: =#REF! -> #REF! | N92: =TRUNC(G92*M92) -> #REF! | O92: =IF((H92+K92+M92)=0, "", (H92+K92+M92)) -> #REF! | P92: =SUM(I92,L92,N92) -> #REF! | Q92: 제 59호
A93: 56959000090 | B93: 0103 | C93: E56959000090 | D93: 450/750V 내열비닐절연전선 | E93: HFIX 1.78mm(2.5㎟)-바닥 | F93: M | G93: 443 | H93: =#REF! -> #REF! | I93: =TRUNC(G93*H93) -> #REF! | J93: 443 | K93: =#REF! -> #REF! | L93: =TRUNC(G93*K93) -> #REF! | M93: =#REF! -> #REF! | N93: =TRUNC(G93*M93) -> #REF! | O93: =IF((H93+K93+M93)=0, "", (H93+K93+M93)) -> #REF! | P93: =SUM(I93,L93,N93) -> #REF! | Q93: 제 64호 | AC93: =G93*H93 -> #REF!
A94: MM059934264 | B94: 0103 | C94: 4501563315500005 | D94: 가정용전기레인지 | E94: 3구 3400W | F94: 대 | G94: 1 | H94: =합산자재!H73 -> #REF! | I94: =TRUNC(G94*H94) -> #REF! | J94: 1 | K94: =합산자재!I73 -> 0 | L94: =TRUNC(G94*K94) -> 0 | M94: =합산자재!J73 -> 0 | N94: =TRUNC(G94*M94) -> 0 | O94: =IF((H94+K94+M94)=0, "", (H94+K94+M94)) -> #REF! | P94: =SUM(I94,L94,N94) -> #REF!
AE95: =TRUNC(SUM(AE82:AE94)) -> 0
B107: 합계줄 | D107: ( 합 계 ) | I107: =TRUNC(SUM(I82:I106)) -> #REF! | L107: =TRUNC(SUM(L82:L106)) -> #REF! | N107: =TRUNC(SUM(N82:N106)) -> #REF! | O107: =IF((H107+K107+M107)=0, "", (H107+K107+M107)) | P107: =TRUNC(SUM(P82:P106)) -> #REF!
B108: 공종줄 | D108: 1.전기공사::1-1.전기공사::1-1-4.전등설비공사
A109: 5975D097002 | B109: 0104 | C109: E59753097002 | D109: 합성수지제 가요전선관 | E109: CD-난연성 16㎜ | F109: M | G109: 87 | H109: =#REF! -> #REF! | I109: =TRUNC(G109*H109) -> #REF! | J109: 87 | K109: =#REF! -> #REF! | L109: =TRUNC(G109*K109) -> #REF! | M109: =#REF! -> #REF! | N109: =TRUNC(G109*M109) -> #REF! | O109: =IF((H109+K109+M109)=0, "", (H109+K109+M109)) -> #REF! | P109: =SUM(I109,L109,N109) -> #REF! | Q109: 제 25호 | AA109: =I109 -> #REF! | AC109: =G109*H109 -> #REF!
A110: 5975D097003 | B110: 0104 | C110: E59753097003 | D110: 합성수지제 가요전선관 | E110: CD-난연성 22㎜ | F110: M | G110: 2 | H110: =#REF! -> #REF! | I110: =TRUNC(G110*H110) -> #REF! | J110: 2 | K110: =#REF! -> #REF! | L110: =TRUNC(G110*K110) -> #REF! | M110: =#REF! -> #REF! | N110: =TRUNC(G110*M110) -> #REF! | O110: =IF((H110+K110+M110)=0, "", (H110+K110+M110)) -> #REF! | P110: =SUM(I110,L110,N110) -> #REF! | Q110: 제 26호 | AA110: =I110 -> #REF! | AC110: =G110*H110 -> #REF!
A111: 5975D097004 | B111: 0104 | C111: E59753097004 | D111: 합성수지제 가요전선관 | E111: CD-난연성 28㎜ | F111: M | G111: 6 | H111: =#REF! -> #REF! | I111: =TRUNC(G111*H111) -> #REF! | J111: 6 | K111: =#REF! -> #REF! | L111: =TRUNC(G111*K111) -> #REF! | M111: =#REF! -> #REF! | N111: =TRUNC(G111*M111) -> #REF! | O111: =IF((H111+K111+M111)=0, "", (H111+K111+M111)) -> #REF! | P111: =SUM(I111,L111,N111) -> #REF! | Q111: 제 27호 | AA111: =I111 -> #REF! | AC111: =G111*H111 -> #REF!
A112: 59753017043 | B112: 0104 | C112: 3913170620174434 | D112: 1종금속제가요전선관 | E112: 커넥터, 16 mm 일반-비방수 | F112: 개 | G112: 32 | H112: =합산자재!H11 -> #REF! | I112: =TRUNC(G112*H112) -> #REF! | J112: 32 | K112: =합산자재!I11 -> 0 | L112: =TRUNC(G112*K112) -> 0 | M112: =합산자재!J11 -> 0 | N112: =TRUNC(G112*M112) -> 0 | O112: =IF((H112+K112+M112)=0, "", (H112+K112+M112)) -> #REF! | P112: =SUM(I112,L112,N112) -> #REF!
A113: 56959000082 | B113: 0104 | C113: E56959000082 | D113: 1종금속제가요전선관 | E113: 16 mm 고장력-비방수 | F113: M | G113: 32 | H113: =#REF! -> #REF! | I113: =TRUNC(G113*H113) -> #REF! | J113: 32 | K113: =#REF! -> #REF! | L113: =TRUNC(G113*K113) -> #REF! | M113: =#REF! -> #REF! | N113: =TRUNC(G113*M113) -> #REF! | O113: =IF((H113+K113+M113)=0, "", (H113+K113+M113)) -> #REF! | P113: =SUM(I113,L113,N113) -> #REF! | Q113: 제 29호 | AC113: =G113*H113 -> #REF!
A114: 5975D767011 | B114: 0104 | C114: EKK211000010S | D114: 아우트렛박스 | E114: 8각 54㎜ | F114: 개 | G114: 15 | H114: =#REF! -> #REF! | I114: =TRUNC(G114*H114) -> #REF! | J114: 15 | K114: =#REF! -> #REF! | L114: =TRUNC(G114*K114) -> #REF! | M114: =#REF! -> #REF! | N114: =TRUNC(G114*M114) -> #REF! | O114: =IF((H114+K114+M114)=0, "", (H114+K114+M114)) -> #REF! | P114: =SUM(I114,L114,N114) -> #REF! | Q114: 제 31호
A115: 5975D767041 | B115: 0104 | C115: EKK221000010S | D115: 아우트렛박스 | E115: 중형4각 54㎜ | F115: 개 | G115: 4 | H115: =#REF! -> #REF! | I115: =TRUNC(G115*H115) -> #REF! | J115: 4 | K115: =#REF! -> #REF! | L115: =TRUNC(G115*K115) -> #REF! | M115: =#REF! -> #REF! | N115: =TRUNC(G115*M115) -> #REF! | O115: =IF((H115+K115+M115)=0, "", (H115+K115+M115)) -> #REF! | P115: =SUM(I115,L115,N115) -> #REF! | Q115: 제 32호
A116: 5975D777102 | B116: 0104 | C116: EKK231000011S | D116: 스위치박스 | E116: 1 개용 54 mm | F116: 개 | G116: 11 | H116: =#REF! -> #REF! | I116: =TRUNC(G116*H116) -> #REF! | J116: 11 | K116: =#REF! -> #REF! | L116: =TRUNC(G116*K116) -> #REF! | M116: =#REF! -> #REF! | N116: =TRUNC(G116*M116) -> #REF! | O116: =IF((H116+K116+M116)=0, "", (H116+K116+M116)) -> #REF! | P116: =SUM(I116,L116,N116) -> #REF! | Q116: 제 33호
A117: 59753767201 | B117: 0104 | C117: 3912130820174710 | D117: 아우트렛박스 커버 | E117: 커버, 8각, 평형 | F117: 개 | G117: 15 | H117: =합산자재!H27 -> #REF! | I117: =TRUNC(G117*H117) -> #REF! | J117: 15 | K117: =합산자재!I27 -> 0 | L117: =TRUNC(G117*K117) -> 0 | M117: =합산자재!J27 -> 0 | N117: =TRUNC(G117*M117) -> 0 | O117: =IF((H117+K117+M117)=0, "", (H117+K117+M117)) -> #REF! | P117: =SUM(I117,L117,N117) -> #REF!
A118: 59753767231 | B118: 0104 | C118: 3912130820174713 | D118: 아우트렛박스 커버 | E118: 커버, 4각, 평형 | F118: 개 | G118: 4 | H118: =합산자재!H28 -> #REF! | I118: =TRUNC(G118*H118) -> #REF! | J118: 4 | K118: =합산자재!I28 -> 0 | L118: =TRUNC(G118*K118) -> 0 | M118: =합산자재!J28 -> 0 | N118: =TRUNC(G118*M118) -> 0 | O118: =IF((H118+K118+M118)=0, "", (H118+K118+M118)) -> #REF! | P118: =SUM(I118,L118,N118) -> #REF!
A119: 56959000085 | B119: 0104 | C119: E56959000085 | D119: 450/750V 내열비닐절연전선 | E119: HFIX 1.78mm(2.5㎟) | F119: M | G119: 374 | H119: =#REF! -> #REF! | I119: =TRUNC(G119*H119) -> #REF! | J119: 374 | K119: =#REF! -> #REF! | L119: =TRUNC(G119*K119) -> #REF! | M119: =#REF! -> #REF! | N119: =TRUNC(G119*M119) -> #REF! | O119: =IF((H119+K119+M119)=0, "", (H119+K119+M119)) -> #REF! | P119: =SUM(I119,L119,N119) -> #REF! | Q119: 제 39호 | AC119: =G119*H119 -> #REF!
A120: E145A358406 | B120: 0104 | C120: ELKB22000010S | D120: 난연제어케이블 | E120: F-CVV-S, 3Cx1.5㎟ | F120: M | G120: 2 | H120: =#REF! -> #REF! | I120: =TRUNC(G120*H120) -> #REF! | J120: 2 | K120: =#REF! -> #REF! | L120: =TRUNC(G120*K120) -> #REF! | M120: =#REF! -> #REF! | N120: =TRUNC(G120*M120) -> #REF! | O120: =IF((H120+K120+M120)=0, "", (H120+K120+M120)) -> #REF! | P120: =SUM(I120,L120,N120) -> #REF! | Q120: 제 48호 | AC120: =G120*H120 -> #REF!
A121: E145A358417 | B121: 0104 | C121: ELKB34000010S | D121: 난연제어케이블 | E121: F-CVV-S, 5Cx2.5㎟ | F121: M | G121: 7 | H121: =#REF! -> #REF! | I121: =TRUNC(G121*H121) -> #REF! | J121: 7 | K121: =#REF! -> #REF! | L121: =TRUNC(G121*K121) -> #REF! | M121: =#REF! -> #REF! | N121: =TRUNC(G121*M121) -> #REF! | O121: =IF((H121+K121+M121)=0, "", (H121+K121+M121)) -> #REF! | P121: =SUM(I121,L121,N121) -> #REF! | Q121: 제 49호 | AC121: =G121*H121 -> #REF!
A122: 5930B517001 | B122: 0104 | C122: EMK111000010S | D122: 매입스위치 | E122: 250V 1로1구 | F122: 개 | G122: 5 | H122: =#REF! -> #REF! | I122: =TRUNC(G122*H122) -> #REF! | J122: 5 | K122: =#REF! -> #REF! | L122: =TRUNC(G122*K122) -> #REF! | M122: =#REF! -> #REF! | N122: =TRUNC(G122*M122) -> #REF! | O122: =IF((H122+K122+M122)=0, "", (H122+K122+M122)) -> #REF! | P122: =SUM(I122,L122,N122) -> #REF! | Q122: 제 50호
A123: 5930B517002 | B123: 0104 | C123: E59301517002 | D123: 매입스위치 | E123: 250V 1로2구 | F123: 개 | G123: 3 | H123: =#REF! -> #REF! | I123: =TRUNC(G123*H123) -> #REF! | J123: 3 | K123: =#REF! -> #REF! | L123: =TRUNC(G123*K123) -> #REF! | M123: =#REF! -> #REF! | N123: =TRUNC(G123*M123) -> #REF! | O123: =IF((H123+K123+M123)=0, "", (H123+K123+M123)) -> #REF! | P123: =SUM(I123,L123,N123) -> #REF! | Q123: 제 51호
A124: 5930B517003 | B124: 0104 | C124: E59301517003 | D124: 매입스위치 | E124: 250V 1로3구 | F124: 개 | G124: 1 | H124: =#REF! -> #REF! | I124: =TRUNC(G124*H124) -> #REF! | J124: 1 | K124: =#REF! -> #REF! | L124: =TRUNC(G124*K124) -> #REF! | M124: =#REF! -> #REF! | N124: =TRUNC(G124*M124) -> #REF! | O124: =IF((H124+K124+M124)=0, "", (H124+K124+M124)) -> #REF! | P124: =SUM(I124,L124,N124) -> #REF! | Q124: 제 52호
A125: 56959000087 | B125: 0104 | C125: E56959000087 | D125: 일괄소등 스위치 | E125: 250V 16A | F125: 개 | G125: 1 | H125: =#REF! -> #REF! | I125: =TRUNC(G125*H125) -> #REF! | J125: 1 | K125: =#REF! -> #REF! | L125: =TRUNC(G125*K125) -> #REF! | M125: =#REF! -> #REF! | N125: =TRUNC(G125*M125) -> #REF! | O125: =IF((H125+K125+M125)=0, "", (H125+K125+M125)) -> #REF! | P125: =SUM(I125,L125,N125) -> #REF! | Q125: 제 53호
A126: 5935A317205 | B126: 0104 | C126: E59350317205 | D126: 콘센트 | E126: 매입-접지형, 250V 1구 | F126: 개 | G126: 1 | H126: =#REF! -> #REF! | I126: =TRUNC(G126*H126) -> #REF! | J126: 1 | K126: =#REF! -> #REF! | L126: =TRUNC(G126*K126) -> #REF! | M126: =#REF! -> #REF! | N126: =TRUNC(G126*M126) -> #REF! | O126: =IF((H126+K126+M126)=0, "", (H126+K126+M126)) -> #REF! | P126: =SUM(I126,L126,N126) -> #REF! | Q126: 제 54호
A127: 5935A317121 | B127: 0104 | C127: E59350317121 | D127: 콘센트 | E127: 노출-접지형, 250V 원형 | F127: 개 | G127: 2 | H127: =#REF! -> #REF! | I127: =TRUNC(G127*H127) -> #REF! | J127: 2 | K127: =#REF! -> #REF! | L127: =TRUNC(G127*K127) -> #REF! | M127: =#REF! -> #REF! | N127: =TRUNC(G127*M127) -> #REF! | O127: =IF((H127+K127+M127)=0, "", (H127+K127+M127)) -> #REF! | P127: =SUM(I127,L127,N127) -> #REF! | Q127: 제 56호
A128: 56959000046 | B128: 0104 | C128: E56959000046 | D128: 천장 타공 | E128: 등기구(다운라이트) | F128: 개소 | G128: 9 | H128: =#REF! -> #REF! | I128: =TRUNC(G128*H128) -> #REF! | J128: 9 | K128: =#REF! -> #REF! | L128: =TRUNC(G128*K128) -> #REF! | M128: =#REF! -> #REF! | N128: =TRUNC(G128*M128) -> #REF! | O128: =IF((H128+K128+M128)=0, "", (H128+K128+M128)) -> #REF! | P128: =SUM(I128,L128,N128) -> #REF! | Q128: 제 21호
A129: 56959000092 | B129: 0104 | C129: E56959000092 | D129: 조명기구(TYPE_AA) | E129: LED 거실등100W | F129: 개 | G129: 1 | H129: =#REF! -> #REF! | I129: =TRUNC(G129*H129) -> #REF! | J129: 1 | K129: =#REF! -> #REF! | L129: =TRUNC(G129*K129) -> #REF! | M129: =#REF! -> #REF! | N129: =TRUNC(G129*M129) -> #REF! | O129: =IF((H129+K129+M129)=0, "", (H129+K129+M129)) -> #REF! | P129: =SUM(I129,L129,N129) -> #REF! | Q129: 제 66호
A130: 56959000093 | B130: 0104 | C130: E56959000093 | D130: 조명기구(TYPE_AB) | E130: LED 볼방등50W | F130: 개 | G130: 2 | H130: =#REF! -> #REF! | I130: =TRUNC(G130*H130) -> #REF! | J130: 2 | K130: =#REF! -> #REF! | L130: =TRUNC(G130*K130) -> #REF! | M130: =#REF! -> #REF! | N130: =TRUNC(G130*M130) -> #REF! | O130: =IF((H130+K130+M130)=0, "", (H130+K130+M130)) -> #REF! | P130: =SUM(I130,L130,N130) -> #REF! | Q130: 제 67호
A131: 56959000094 | B131: 0104 | C131: E56959000094 | D131: 조명기구(TYPE_AC) | E131: LED 주방등40W | F131: 개 | G131: 2 | H131: =#REF! -> #REF! | I131: =TRUNC(G131*H131) -> #REF! | J131: 2 | K131: =#REF! -> #REF! | L131: =TRUNC(G131*K131) -> #REF! | M131: =#REF! -> #REF! | N131: =TRUNC(G131*M131) -> #REF! | O131: =IF((H131+K131+M131)=0, "", (H131+K131+M131)) -> #REF! | P131: =SUM(I131,L131,N131) -> #REF! | Q131: 제 68호
A132: 56959000095 | B132: 0104 | C132: E56959000095 | D132: 조명기구(TYPE_AD) | E132: LED 매입평판40W | F132: 개 | G132: 1 | H132: =#REF! -> #REF! | I132: =TRUNC(G132*H132) -> #REF! | J132: 1 | K132: =#REF! -> #REF! | L132: =TRUNC(G132*K132) -> #REF! | M132: =#REF! -> #REF! | N132: =TRUNC(G132*M132) -> #REF! | O132: =IF((H132+K132+M132)=0, "", (H132+K132+M132)) -> #REF! | P132: =SUM(I132,L132,N132) -> #REF! | Q132: 제 69호
A133: 56959000096 | B133: 0104 | C133: E56959000096 | D133: 조명기구(TYPE_BA) | E133: LED 다운라이트12W | F133: 개 | G133: 9 | H133: =#REF! -> #REF! | I133: =TRUNC(G133*H133) -> #REF! | J133: 9 | K133: =#REF! -> #REF! | L133: =TRUNC(G133*K133) -> #REF! | M133: =#REF! -> #REF! | N133: =TRUNC(G133*M133) -> #REF! | O133: =IF((H133+K133+M133)=0, "", (H133+K133+M133)) -> #REF! | P133: =SUM(I133,L133,N133) -> #REF! | Q133: 제 70호
... A135: 56959000098 | B135: 0104 | C135: E56959000098 | D135: 조명기구(TYPE_DA) | E135: LED 원형직부센서12W | F135: 개 | G135: 1 | H135: =#REF! -> #REF! | I135: =TRUNC(G135*H135) -> #REF! | J135: 1 | K135: =#REF! -> #REF! | L135: =TRUNC(G135*K135) -> #REF! | M135: =#REF! -> #REF! | N135: =TRUNC(G135*M135) -> #REF! | O135: =IF((H135+K135+M135)=0, "", (H135+K135+M135)) -> #REF! | P135: =SUM(I135,L135,N135) -> #REF! | Q135: 제 72호
AE136: =TRUNC(SUM(AE108:AE135)) -> 0
B159: 합계줄 | D159: ( 합 계 ) | I159: =TRUNC(SUM(I108:I158)) -> #REF! | L159: =TRUNC(SUM(L108:L158)) -> #REF! | N159: =TRUNC(SUM(N108:N158)) -> #REF! | O159: =IF((H159+K159+M159)=0, "", (H159+K159+M159)) | P159: =TRUNC(SUM(P108:P158)) -> #REF!
...

Sheet 합산자재
B1: 133 | C1: [ 성환읍 복모리 경로당 신축공사(전기) ] - 합산자재목록
A2: 번호 | B2: … | C2: 코드 | D2: 명 칭 | E2: 규 격 | F2: 단위 | G2: 수량 | H2: 재료비 | I2: 노무비 | J2: 경비 | K2: 지급비 | L2: 계 | M2: 비고
B4: 59750337003 | C4: 3913170610034834 | D4: 강제전선관 | E4: 아연도 28 mm | F4: M | G4: 4.4 | H4: =ROUNDDOWN(#REF!*옵션!$D$11, 0) -> #REF! | L4: =SUM(H4,I4,J4) -> #REF!
B5: 59750337005 | C5: 3913170610034836 | D5: 강제전선관 | E5: 아연도 42 mm | F5: M | G5: 17.6 | H5: =ROUNDDOWN(#REF!*옵션!$D$11, 0) -> #REF! | L5: =SUM(H5,I5,J5) -> #REF!
B6: 59751467016 | C6: 3913170610034969 | D6: 경질비닐전선관 | E6: HI 42 mm | F6: M | G6: 4.4 | H6: =ROUNDDOWN(#REF!*옵션!$D$11, 0) -> #REF! | L6: =SUM(H6,I6,J6) -> #REF!
B7: 59753097002 | C7: 3913170610035664 | D7: 합성수지제 가요전선관 | E7: CD-난연성 16㎜ | F7: M | G7: 256.3 | H7: =ROUNDDOWN(#REF!*옵션!$D$11, 0) -> #REF! | L7: =SUM(H7,I7,J7) -> #REF!
B8: 59753097003 | C8: 3913170610035665 | D8: 합성수지제 가요전선관 | E8: CD-난연성 22㎜ | F8: M | G8: 38.5 | H8: =ROUNDDOWN(#REF!*옵션!$D$11, 0) -> #REF! | L8: =SUM(H8,I8,J8) -> #REF!
B9: 59753097004 | C9: 3913170610035666 | D9: 합성수지제 가요전선관 | E9: CD-난연성 28㎜ | F9: M | G9: 28.6 | H9: =ROUNDDOWN(#REF!*옵션!$D$11, 0) -> #REF! | L9: =SUM(H9,I9,J9) -> #REF!
B10: 59753077002 | C10: 3913170610035632 | D10: 파상형 폴리에틸렌 전선관 | E10: 40㎜ | F10: M | G10: 16.48 | H10: =ROUNDDOWN(#REF!*옵션!$D$11, 0) -> #REF! | L10: =SUM(H10,I10,J10) -> #REF!
B11: 59753017043 | C11: 3913170620174434 | D11: 1종금속제가요전선관 | E11: 커넥터, 16 mm 일반-비방수 | F11: 개 | G11: 38 | H11: =ROUNDDOWN(#REF!*옵션!$D$11, 0) -> #REF! | L11: =SUM(H11,I11,J11) -> #REF!
B12: 59753017065 | C12: 3913170620174448 | D12: 1종금속제가요전선관 | E12: 커넥터, 28 mm 일반-방수 | F12: 개 | G12: 2 | H12: =ROUNDDOWN(#REF!*옵션!$D$11, 0) -> #REF! | L12: =SUM(H12,I12,J12) -> #REF!
B13: MM496797011 | C13: 3913170620174478 | D13: 1종금속제가요전선관 | E13: 16 mm 고장력-비방수 | F13: M | G13: 41.8 | H13: =ROUNDDOWN(#REF!*옵션!$D$11, 0) -> #REF! | L13: =SUM(H13,I13,J13) -> #REF!
B14: MM496797031 | C14: 3913170620174472 | D14: 1종금속제가요전선관 | E14: 28 mm 고장력-방수 | F14: M | G14: 1.1 | H14: =ROUNDDOWN(#REF!*옵션!$D$11, 0) -> #REF! | L14: =SUM(H14,I14,J14) -> #REF!
B15: 59754887002 | C15: 3912139920409528 | D15: 발포지수제 | E15: D100 이하 | F15: 개 | G15: 4 | H15: =ROUNDDOWN(#REF!*옵션!$D$11, 0) -> #REF! | L15: =SUM(H15,I15,J15) -> #REF!
B16: 59754887006 | C16: 3912139920935638 | D16: 수밀보호테이프 | F16: 개 | G16: 4 | H16: =ROUNDDOWN(#REF!*옵션!$D$11, 0) -> #REF! | L16: =SUM(H16,I16,J16) -> #REF!
B17: 59754877101 | C17: 3913170820174925 | D17: 관로구방수장치 | E17: D30 | F17: 개 | G17: 3 | H17: =ROUNDDOWN(#REF!*옵션!$D$11, 0) -> #REF! | L17: =SUM(H17,I17,J17) -> #REF!
B18: 59754877009 | C18: 3913170820174923 | D18: 관로구방수장치 | E18: D40 | F18: 개 | G18: 1 | H18: =ROUNDDOWN(#REF!*옵션!$D$11, 0) -> #REF! | L18: =SUM(H18,I18,J18) -> #REF!
B19: 59754877010 | C19: 3913170820174924 | D19: 관구밀폐기 | E19: 이종연결관Φ40mm | F19: 개 | G19: 1 | H19: =ROUNDDOWN(#REF!*옵션!$D$11, 0) -> #REF! | L19: =SUM(H19,I19,J19) -> #REF!
B20: 59754877021 | C20: 3913170820935649 | D20: 관구밀폐기 | E20: 이종연결관Φ30mm | F20: 개 | G20: 3 | H20: =ROUNDDOWN(#REF!*옵션!$D$11, 0) -> #REF! | L20: =SUM(H20,I20,J20) -> #REF!
B21: 59759017061 | C21: 3913170820176475 | D21: 강재전선관용 부품 | E21: 노말밴드, 아연도 28 mm | F21: 개 | G21: 1 | H21: =ROUNDDOWN(#REF!*옵션!$D$11, 0) -> #REF! | L21: =SUM(H21,I21,J21) -> #REF!
B22: 59759017063 | C22: 3913170820176477 | D22: 강재전선관용 부품 | E22: 노말밴드, 아연도 42 mm | F22: 개 | G22: 1 | H22: =ROUNDDOWN(#REF!*옵션!$D$11, 0) -> #REF! | L22: =SUM(H22,I22,J22) -> #REF!
B23: 59753767011 | C23: 3912130810035750 | D23: 아우트렛박스 | E23: 8각 54㎜ | F23: 개 | G23: 15 | H23: =ROUNDDOWN(#REF!*옵션!$D$11, 0) -> #REF! | L23: =SUM(H23,I23,J23) -> #REF!
B24: 59753767041 | C24: 3912130810035753 | D24: 아우트렛박스 | E24: 중형4각 54㎜ | F24: 개 | G24: 7 | H24: =ROUNDDOWN(#REF!*옵션!$D$11, 0) -> #REF! | L24: =SUM(H24,I24,J24) -> #REF!
B25: 59753777102 | C25: 3912130610035778 | D25: 스위치박스 | E25: 1 개용 54 mm | F25: 개 | G25: 31 | H25: =ROUNDDOWN(#REF!*옵션!$D$11, 0) -> #REF! | L25: =SUM(H25,I25,J25) -> #REF!
B26: 59753777111 | C26: 3912130610035781 | D26: 스위치박스 | E26: 2 개용 54 mm | F26: 개 | G26: 17 | H26: =ROUNDDOWN(#REF!*옵션!$D$11, 0) -> #REF! | L26: =SUM(H26,I26,J26) -> #REF!
B27: 59753767201 | C27: 3912130820174710 | D27: 아우트렛박스 커버 | E27: 커버, 8각, 평형 | F27: 개 | G27: 15 | H27: =ROUNDDOWN(#REF!*옵션!$D$11, 0) -> #REF! | L27: =SUM(H27,I27,J27) -> #REF!
B28: 59753767231 | C28: 3912130820174713 | D28: 아우트렛박스 커버 | E28: 커버, 4각, 평형 | F28: 개 | G28: 7 | H28: =ROUNDDOWN(#REF!*옵션!$D$11, 0) -> #REF! | L28: =SUM(H28,I28,J28) -> #REF!
... B62: 59750440005 | C62: 3120150220174066 | D62: WARNING TAPE(저압용) | E62: 300 x 250 | F62: M | G62: 9 | H62: =ROUNDDOWN(#REF!*옵션!$D$11, 0) -> #REF! | L62: =SUM(H62,I62,J62) -> #REF!
B63: MM300041309 | C63: 3912218220173416 | D63: 필림밴드 | F63: 개 | G63: 6 | H63: =ROUNDDOWN(#REF!*옵션!$D$11, 0) -> #REF! | L63: =SUM(H63,I63,J63) -> #REF!
B64: MM300041311 | C64: 3912218220173418 | D64: 전주용입상관 | E64: D130x2m | F64: 개 | G64: 3 | H64: =ROUNDDOWN(#REF!*옵션!$D$11, 0) -> #REF! | L64: =SUM(H64,I64,J64) -> #REF!
B65: 56300217297 | C65: 3012169821869019 | D65: 맨홀 | E65: 1000x1000x1000 | F65: 조 | G65: 1 | H65: =ROUNDDOWN(#REF!*옵션!$D$11, 0) -> #REF! | L65: =SUM(H65,I65,J65) -> #REF!
B66: 56800447191 | C66: 3012169520160593 | D66: 맨홀뚜껑(철개) | E66: 회주철, Φ648, KS | F66: 조 | G66: 1 | H66: =ROUNDDOWN(#REF!*옵션!$D$11, 0) -> #REF! | L66: =SUM(H66,I66,J66) -> #REF!
B67: 56100017110 | C67: 1111170120142524 | D67: 자연자갈 | E67: 잡석 | F67: ㎥ | G67: 0.3718 | H67: =ROUNDDOWN(#REF!*옵션!$D$11, 0) -> #REF! | L67: =SUM(H67,I67,J67) -> #REF!
B68: 91400167011 | C68: 1510150520282163 | D68: 경유 | E68: 저유황0.001% | F68: ℓ | G68: 34.5146 | H68: =ROUNDDOWN(#REF!*옵션!$D$11, 0) -> #REF! | L68: =SUM(H68,I68,J68) -> #REF!
B69: MM916855631 | C69: 4511562104212740 | D69: 난연케이블-옥외 | E69: 0.6/1kv F-CV 4C×10㎟ | F69: M | G69: 26.78 | H69: =ROUNDDOWN(#REF!*옵션!$D$11, 0) -> #REF! | L69: =SUM(H69,I69,J69) -> #REF!
B70: MM910888250 | C70: 4501562104220025 | D70: 450/750V 내열비닐절연전선 | E70: HFIX 1.78mm(2.5㎟)-바닥 | F70: M | G70: 487.3 | H70: =ROUNDDOWN(#REF!*옵션!$D$11, 0) -> #REF! | L70: =SUM(H70,I70,J70) -> #REF!
B71: MM059871842 | C71: 4501563315500002 | D71: 분전반 | E71: LP-M | F71: 면 | G71: 1 | H71: =ROUNDDOWN(#REF!*옵션!$D$11, 0) -> #REF! | L71: =SUM(H71,I71,J71) -> #REF!
B72: MM059871843 | C72: 4501563315500003 | D72: 분전반 | E72: 하이박스 내 차단기 | F72: 면 | G72: 1 | H72: =ROUNDDOWN(#REF!*옵션!$D$11, 0) -> #REF! | L72: =SUM(H72,I72,J72) -> #REF!
B73: MM059934264 | C73: 4501563315500005 | D73: 가정용전기레인지 | E73: 3구 3400W | F73: 대 | G73: 1 | H73: =ROUNDDOWN(#REF!*옵션!$D$11, 0) -> #REF! | L73: =SUM(H73,I73,J73) -> #REF!
B74: MM906782332 | C74: 391115ZZ701Z0001 | D74: 구멍따기 | E74: 석고판 | F74: 개 | G74: 9 | H74: =ROUNDDOWN(#REF!*옵션!$D$11, 0) -> #REF! | L74: =SUM(H74,I74,J74) -> #REF!
B75: MM023926908 | C75: 391115ZZ701Z0002 | D75: 굴착(인력/토사) | E75: 보통토사, H=1m 이하 | F75: ㎥ | G75: 1.2711 | H75: =ROUNDDOWN(#REF!*옵션!$D$11, 0) -> #REF! | L75: =SUM(H75,I75,J75) -> #REF!
B76: MM023926919 | C76: 391115ZZ701Z0003 | D76: 기계경비(1),조정원제외 | E76: 재료비,경비의 100% | F76: 식 | G76: 5.727 | H76: =ROUNDDOWN(#REF!*옵션!$D$11, 0) -> #REF! | J76: 138.2 | L76: =SUM(H76,I76,J76) -> #REF!
B77: MM023926925 | C77: 391115ZZ701Z0004 | D77: 기계경비(6),조정원제외 | E77: 재료비,경비의 100% | F77: 식 | G77: 5.04 | H77: =ROUNDDOWN(#REF!*옵션!$D$11, 0) -> #REF! | J77: 52.4 | L77: =SUM(H77,I77,J77) -> #REF!
B78: MM024013709 | C78: 391115ZZ701Z0005 | D78: 기계경비(잡석) | E78: 경비의 100% | F78: 식 | G78: 0.338 | H78: =ROUNDDOWN(#REF!*옵션!$D$11, 0) -> #REF! | J78: 175 | L78: =SUM(H78,I78,J78) -> #REF!
B79: MM057014204 | C79: 391115ZZ701Z0006 | D79: 기계경비(잡석) | E79: 재료비의 100% | F79: 식 | G79: 0.338 | H79: =ROUNDDOWN(#REF!*옵션!$D$11, 0) -> #REF! | L79: =SUM(H79,I79,J79) -> #REF!
B80: MM024013708 | C80: 391115ZZ701Z0007 | D80: 기초지정 | E80: 잡석지정 | F80: ㎥ | H80: =ROUNDDOWN(#REF!*옵션!$D$11, 0) -> #REF! | L80: =SUM(H80,I80,J80) -> #REF!
B81: MM023926924 | C81: 391115ZZ701Z0008 | D81: 되메우기 및 다짐 | E81: 대형장비사용 | F81: ㎥ | G81: 5.04 | H81: =ROUNDDOWN(#REF!*옵션!$D$11, 0) -> #REF! | L81: =SUM(H81,I81,J81) -> #REF!
B82: MM023926917 | C82: 391115ZZ701Z0009 | D82: 뒤채움 및 다짐 | E82: 소형장비사용 | F82: ㎥ | G82: 5.727 | H82: =ROUNDDOWN(#REF!*옵션!$D$11, 0) -> #REF! | L82: =SUM(H82,I82,J82) -> #REF!
B83: MM023926913 | C83: 391115ZZ701Z0010 | D83: 유압식 리퍼의 경비(굴착기1.0) | E83: 합계의 2% | F83: 식 | G83: 0.2287 | H83: =ROUNDDOWN(#REF!*옵션!$D$11, 0) -> #REF! | J83: 1607.6 | L83: =SUM(H83,I83,J83) -> #REF!
B84: MM023926916 | C84: 391115ZZ701Z0011 | D84: 잔토처리 | E84: 인력 | F84: ㎥ | G84: 1.944 | H84: =ROUNDDOWN(#REF!*옵션!$D$11, 0) -> #REF! | L84: =SUM(H84,I84,J84) -> #REF!
B85: MM023906503 | C85: 391115ZZ701Z0012 | D85: 잡품(굴착기0.2㎥) | E85: 주연료의21% | F85: 식 | G85: 0.0937 | H85: =ROUNDDOWN(#REF!*옵션!$D$11, 0) -> #REF! | L85: =SUM(H85,I85,J85) -> #REF!
B86: MM023906505 | C86: 391115ZZ701Z0013 | D86: 잡품(굴착기0.6㎥) | E86: 주연료의22% | F86: 식 | G86: 0.0306 | H86: =ROUNDDOWN(#REF!*옵션!$D$11, 0) -> #REF! | L86: =SUM(H86,I86,J86) -> #REF!
B87: MM026677271 | C87: 391115ZZ701Z0014 | D87: 잡품(굴착기1.0㎥) | E87: 주연료의22% | F87: 식 | G87: 0.0359 | H87: =ROUNDDOWN(#REF!*옵션!$D$11, 0) -> #REF! | L87: =SUM(H87,I87,J87) -> #REF!
B88: MM023906537 | C88: 391115ZZ701Z0015 | D88: 잡품(물탱크5500) | E88: 주연료의30% | F88: 식 | G88: 0.0833 | H88: =ROUNDDOWN(#REF!*옵션!$D$11, 0) -> #REF! | L88: =SUM(H88,I88,J88) -> #REF!
B89: MM023906516 | C89: 391115ZZ701Z0016 | D89: 잡품(진동롤러0.7) | E89: 주연료의13% | F89: 식 | G89: 0.076 | H89: =ROUNDDOWN(#REF!*옵션!$D$11, 0) -> #REF! | L89: =SUM(H89,I89,J89) -> #REF!
B90: MM023906518 | C90: 391115ZZ701Z0017 | D90: 잡품(진동롤러10T) | E90: 주연료의13% | F90: 식 | G90: 0.018 | H90: =ROUNDDOWN(#REF!*옵션!$D$11, 0) -> #REF! | L90: =SUM(H90,I90,J90) -> #REF!
B91: MM023906530 | C91: 391115ZZ701Z0018 | D91: 잡품(트럭크레인10T) | E91: 주연료의20% | F91: 식 | G91: 0.456 | H91: =ROUNDDOWN(#REF!*옵션!$D$11, 0) -> #REF! | L91: =SUM(H91,I91,J91) -> #REF!
B92: MM031593134 | C92: 391115ZZ701Z0019 | D92: 접지봉 1~2m | E92: 3본 연결 | F92: 개소 | G92: 1 | H92: =ROUNDDOWN(#REF!*옵션!$D$11, 0) -> #REF! | L92: =SUM(H92,I92,J92) -> #REF!
B93: MM059936454 | C93: 391115ZZ701Z0020 | D93: 조명기구(TYPE_AA)-@관급자재 | E93: LED 거실등100W | F93: 개 | G93: 1 | H93: =ROUNDDOWN(#REF!*옵션!$D$11, 0) -> #REF! | L93: =SUM(H93,I93,J93) -> #REF!
B94: MM059936455 | C94: 391115ZZ701Z0021 | D94: 조명기구(TYPE_AB)-@관급자재 | E94: LED 볼방등50W | F94: 개 | G94: 2 | H94: =ROUNDDOWN(#REF!*옵션!$D$11, 0) -> #REF! | L94: =SUM(H94,I94,J94) -> #REF!
B95: MM059936456 | C95: 391115ZZ701Z0022 | D95: 조명기구(TYPE_AC)-@관급자재 | E95: LED 주방등40W | F95: 개 | G95: 2 | H95: =ROUNDDOWN(#REF!*옵션!$D$11, 0) -> #REF! | L95: =SUM(H95,I95,J95) -> #REF!
... B100: MM023926912 | C100: 391115ZZ701Z0027 | D100: 터파기(기계) | E100: 보통토사 / Type-I | F100: ㎡ | G100: 11.4399 | H100: =ROUNDDOWN(#REF!*옵션!$D$11, 0) -> #REF! | L100: =SUM(H100,I100,J100) -> #REF!
B101: CA900000101 | C101: ECA920000001 | D101: 굴착기(무한궤도) | E101: 0.2㎥ | F101: 대 | G101: 0.0929 | H101: =#REF! -> #REF! | I101: =#REF! -> #REF! | J101: =#REF! -> #REF! | L101: =SUM(H101,I101,J101) -> #REF!
B102: CA900000103 | C102: ECA920000003 | D102: 굴착기(무한궤도) | E102: 0.6㎥ | F102: 대 | G102: 0.029 | H102: =#REF! -> #REF! | I102: =#REF! -> #REF! | J102: =#REF! -> #REF! | L102: =SUM(H102,I102,J102) -> #REF!
B103: CA900000105 | C103: ECA920000005 | D103: 굴착기(무한궤도) | E103: 1.0㎥ | F103: 대 | G103: 0.034 | H103: =#REF! -> #REF! | I103: =#REF! -> #REF! | J103: =#REF! -> #REF! | L103: =SUM(H103,I103,J103) -> #REF!
B104: CA900000115 | C104: ECA920000015 | D104: 진동롤러(핸드가이드식) | E104: 0.7 TON | F104: 대 | G104: 0.1652 | H104: =#REF! -> #REF! | I104: =#REF! -> #REF! | J104: =#REF! -> #REF! | L104: =SUM(H104,I104,J104) -> #REF!
B105: CA900000117 | C105: ECA920000017 | D105: 진동롤러(자주식) | E105: 10 TON | F105: 대 | G105: 0.0392 | H105: =#REF! -> #REF! | I105: =#REF! -> #REF! | J105: =#REF! -> #REF! | L105: =SUM(H105,I105,J105) -> #REF!
B106: CA900000130 | C106: ECA920000030 | D106: 트럭탑재형 크레인 | E106: 10 TON | F106: 대 | G106: 0.5923 | H106: =#REF! -> #REF! | I106: =#REF! -> #REF! | J106: =#REF! -> #REF! | L106: =SUM(H106,I106,J106) -> #REF!
B107: CA900000146 | C107: ECA920000046 | D107: 물탱크(살수차) | E107: 5500ℓ | F107: 대 | G107: 0.0586 | H107: =#REF! -> #REF! | I107: =#REF! -> #REF! | J107: =#REF! -> #REF! | L107: =SUM(H107,I107,J107) -> #REF!
B108: 56900017016 | C108: L001010101000075 | D108: 노 무 비 | E108: 내선전공 | F108: 인 | G108: 51.8375 | I108: =ROUNDDOWN(#REF!, 0) -> #REF! | L108: =SUM(H108,I108,J108) -> #REF!
B109: 56900017076 | C109: L001010101000078 | D109: 노 무 비 | E109: 저압케이블전공 | F109: 인 | G109: 3.1369 | I109: =ROUNDDOWN(#REF!, 0) -> #REF! | L109: =SUM(H109,I109,J109) -> #REF!
B110: 56900017031 | C110: L001010101000081 | D110: 노 무 비 | E110: 배전전공 | F110: 인 | G110: 0.828 | I110: =ROUNDDOWN(#REF!, 0) -> #REF! | L110: =SUM(H110,I110,J110) -> #REF!
B111: 56900017041 | C111: L001010101000002 | D111: 노 무 비 | E111: 보통인부 | F111: 인 | G111: 2.7515 | I111: =ROUNDDOWN(#REF!, 0) -> #REF! | L111: =SUM(H111,I111,J111) -> #REF!
B112: 56900017118 | C112: L001010101000003 | D112: 노 무 비 | E112: 특별인부 | F112: 인 | G112: 1.7587 | I112: =ROUNDDOWN(#REF!, 0) -> #REF! | L112: =SUM(H112,I112,J112) -> #REF!
B113: 56900017091 | C113: L001010101000034 | D113: 노 무 비 | E113: 줄눈공 | F113: 인 | G113: 0.03 | I113: =ROUNDDOWN(#REF!, 0) -> #REF! | L113: =SUM(H113,I113,J113) -> #REF!
B114: 56900017058 | C114: L001010101000050 | D114: 노 무 비 | E114: 일반기계운전사 | F114: 인 | G114: 0.1507 | I114: =ROUNDDOWN(#REF!, 0) -> #REF! | L114: =SUM(H114,I114,J114) -> #REF!
B115: 56900017059 | C115: L001010101000049 | D115: 노 무 비 | E115: 화물차운전사 | F115: 인 | G115: 0.4749 | I115: =ROUNDDOWN(#REF!, 0) -> #REF! | L115: =SUM(H115,I115,J115) -> #REF!
B116: 56900017002 | C116: L001010101000048 | D116: 노 무 비 | E116: 건설기계운전사 | F116: 인 | G116: 0.2135 | I116: =ROUNDDOWN(#REF!, 0) -> #REF! | L116: =SUM(H116,I116,J116) -> #REF!
B117: 56900017074 | C117: L001010101000001 | D117: 노 무 비 | E117: 작업반장 | F117: 인 | G117: 0.28 | I117: =ROUNDDOWN(#REF!, 0) -> #REF! | L117: =SUM(H117,I117,J117) -> #REF!

Sheet 옵션
B1: 재료비 | C1: 노무비 | D1: 경비 | F1: 계
A2: 총 급 액 | B2: =#REF! -> #REF! | C2: =#REF! -> #REF! | D2: =#REF! -> #REF! | F2: =SUM(B2,C2,D2) -> #REF!
A3: 도급자관급 | B3: =#REF! -> #REF! | C3: =#REF! -> #REF! | D3: =#REF! -> #REF! | F3: =SUM(B3,C3,D3) -> #REF! | H3: 금액조정이 안되나요?
F4: =SUM(B4,C4,D4) -> 0
F5: =SUM(B5,C5,D5) -> 0
F6: =SUM(B6,C6,D6) -> 0 | H6: 이지테크에서 변환할 때 2번 옵션을 지정하여 다시 해보세요
F7: =SUM(B7,C7,D7) -> 0
F8: =SUM(B8,C8,D8) -> 0
H9: 시트를 삭제할 때 에러가 뜨면 1번 옵션으로 하면 됩니다.
B10: 적용율(%) | C10: 끝자리 | D10: 적용율(%)/100 | E10: 일위대가소수
A11: 전체자재 적용율(%)(공종/일위대가) | B11: 100 | C11: 1 | D11: =$B$11/100 -> 1
A12: 전체노임 적용율(%)(공종) | B12: 100 | C12: 1 | D12: =$B$12/100 -> 1 | E12: 2 | H12: 2번 옵션으로 변환했을 때에는 결과값이 다를 수 있습니다.
A13: 전체노임 적용율(%)(일위대가) | B13: 100 | C13: 1 | D13: =$B$13/100 -> 1 | E13: 5
A20: *(그룹별 자재 단가 추가 할증)* | B20: 적용율(%) | D20: 적용율(%)/100
A21: Cable(CAB) 할증(%) | B21: =B11 -> 100 | D21: =$B$21/100 -> 1
A22: Wire (WIR) 할증(%) | B22: =B11 -> 100 | D22: =$B$22/100 -> 1
A23: Pipe (PIP) 할증(%) | B23: =B11 -> 100 | D23: =$B$23/100 -> 1
A24: 제 4그룹 할증(%) | B24: =B11 -> 100 | D24: =$B$24/100 -> 1
A25: 제 5그룹 할증(%) | B25: =B11 -> 100 | D25: =$B$25/100 -> 1
A30: *(그룹별 노임 추가 할증)* | B30: 적용율(%) | C30: 자동부속재(전기) | D30: 자동부속재(통신)
A31: 배관부속재(%) | B31: 15 | C31: 15 | D31: 20
A32: CD관부속재(%) | B32: 40 | C32: 40 | D32: 40
A33: 소모잡자재(%) | B33: 2 | H33: 본 파일은 이지테크에서 2번 옵션으로 만들었습니다.
A34: 방폭할증(%)
A35: 고소할증(%) | B35: 2
A36: 공구손료(%) | B36: 3
A40: *(공종별 노임 적용율(%))* | B40: 적용율(%) | C40: 소수자릿수
A41: 1-1.전력간선설비공사 | B41: 100 | C41: 5
A42: 1-2.냉난방전원설비공사 | B42: 100 | C42: 5
A43: 1-3.전열설비공사 | B43: 100 | C43: 5
A44: 1-4.전등설비공사 | B44: 100 | C44: 5
A45: 2-1.조명기구 | B45: 100 | C45: 5

Sheet 사용설명
B1: ** 반드시 다음 사항을 숙지하신 다음 수정 작업을 하십시오 **
A2: 1. | B2: 속성이 숫자인 셀을 삭제할 때는 반드시 'Delete' 키를 사용하십시오.
B3: **주의:'Space Bar' 로 지웠을 때는 '#Value' Error가 발생됩니다.
A4: 2. | B4: 일위대가(을지)는 소수점 처리 때문에 셀 속성을 '일반'으로 하였습니다.(소수점 능동 처리)
B5: **참고: (수량*단가)의 결과는 소수 한자리, 금액을 취합한 소계는 1원 이하 절사입니다.
A6: 3. | B6: 내역서에서는 수량에만 셀 속성을 '일반'으로 하였습니다.(소수점 능동 처리)
A7: 4. | B7: 단가수정은 '단가조사서'시트 에서 하십시오.
B8: a)표지와 원가 -> 총괄표 -> 내역서 ->일위대가와 합산자재 ->단가조사서 를 참조하고
B9: 있으므로 단가조사서의 결정단가를 수정하면 전체 금액이 갱신됩니다.
B10: **주의: 금액란은 공식이 걸려있으므로 조심하여 수정하십시오.
B11: b)전체 자재를 일정 요율(%)로 변경할 때는 옵션시트의 자재 적용율을 조정하면 됩니다.
A12: 5. | B12: 노임 단가는 '단가조사서'시트에서 품셈은 '노임근거'시트에서 수정하십시오.
B13: a)전체 노임을 일정 요율(%)로 변경할 때는 '옵션시트'의 전체노임 적용율을 조정하면 됩니다.
B14: b)공종별로 노임을 수정하려면 '옵션시트'의 공종별 노임 적용율을 조정하면 됩니다.
B15: c)케이블 및 전선 자재 단가를 추가로 조정하려면 그룹별 자재 적용율을 조정하면 됩니다.
B16: 그룹은 견적 프로그램에서 엑셀파일이 만들어질때 지정됩니다.
A17: 6. | B17: 겉표지의 모든 정보는 표지를 참조하였습니다.(정보 수정은 표지에서만 하시면 됩니다.)
A18: 7. | B18: 필수 :본 프로그램의 총 금액을 확인한 후 사용하십시오.
A19: 8. | B19: 본 파일의 내용을 인쇄할 경우, 미리보기를 통하여 페이지 절선을 확인 후 인쇄하십시오.
A20: 9. | B20: 관급자재 Sheet가 해당이 없을 경우엔 삭제하십시오.
A21: 10. | B21: 페이지 절선이 맞지 않으면 다음을 참고하십시오.
B33: a. 해당시트의 셀 전체를 선택합니다.
B34: b. 행높이를 적절히 가감하면 페이지 절선을 맞출 수 있습니다.
