Workbook

Sheet Data
A1: 공사명 | B1: 2026년 한라산 종다양성 회복을 위한 조릿대 제어사업(명승선작지왓-다년차)
A2: 공사기간 | B2: ="착공일로부터 "&C2&"일간" -> 착공일로부터 60일간 | C2: 60
A3: 설계년월 | B3: 2026 | C3: =B3 -> 2026
A4: 사업대상지 | B4: =C8 -> 제주특별자치도 서귀포시 서호동 산1-1 외 1필지
A5: 공종 | B5: =총괄표!A3 -> 1. 생물종 다양성 회복
B6: 문화재명칭
B7: 지정별 및 번호
B8: 소 재 지 | C8: ='설계용지(갑)지_'!G8 -> 제주특별자치도 서귀포시 서호동 산1-1 외 1필지
A11: 공사금액 | B11: =원가계산서!D38 -> 346129000 | C11: ="일금" & TEXT(B11,"[dbnum4] g/표준") & "원정" -> 일금 삼억사천육백일십이만구천원정
A12: 발주자 | B12: 제주특별자치도 세계유산본부
A13: 설계사 | B13: 제주특별자치도 세계유산본부

Sheet 제목
A6: 2026년 한라산 종다양성 회복을 위한 조릿대 제어사업(명승선작지왓-다년차)
A8: 설 계 서
A14: 2026. 09
A19: 제주특별자치도 세계유산본부

Sheet 목차
A1: 목 차
A3: ◎ | B3: 설계설명서 | F3: ◎ | G3: 단가대비표
A4: ◎ | B4: 시방서 | F4: ◎ | G4: 수량산출서
A5: ◎ | B5: 예정공정표 | G5: - | H5: 총 괄 표
A6: ◎ | B6: 설계예산서 | F6: ◎ | G6: 설계도
B7: - | C7: 설 계 서 | F7: ◎ | G7: 참고자료
B8: - | C8: 원 가 계 산 서 | G8: - | H8: 문화재수리 원가계산 제비율 적용기준
A9: ◎ | B9: 설계내역서 | G9: - | H9: 노임자료
B10: - | C10: 내 역 서
A11: ◎ | B11: 일위대가표
B12: - | C12: 일 위 대 가 총 괄
B13: - | C13: 일 위 대 가 표

Sheet 예정공정표
A1: 예 정 공 정 표
A2: ="사 업 명 : "&제목!A6 -> 사 업 명 : 2026년 한라산 종다양성 회복을 위한 조릿대 제어사업(명승선작지왓-다년차)
A3: ="기 간 : "&Data!B2 -> 기 간 : 착공일로부터 60일간
A4: 공 종 | C4: 착수 12일 | E4: 착수 24일 | G4: 착수 36일 | I4: 착수 48일 | K4: 착수 60일
A5: =총괄표!A3 -> 1. 생물종 다양성 회복
B6: 작업준비
B9: 제주조릿대 벌채
B12: 부산물 정리
B15: 작업마무리
B18: =총괄표!E12 -> 공사 현수막 설치
B21: =총괄표!F12 -> 수리보고서 작성
A24: * 공사기간(적정 공사기간 확보를 위한 가이드라인, 2026, 국토교통부) = 준비기간(5) + 비작업일수(22) + 작업일수(28) + 정리기간(5) = 약 60일간(특별시방서 참고)

Sheet 설계용지(갑)지_
A1: 설 계 서 용 지 (갑)
A2: =Data!B3&"년" -> 2026년
B4: 설계자 | D4: 담당자 | F4: 팀 장 | H4: 과 장 | J4: 소 장 | L4: 본부장 | N4: 2026년도 09월 일
B6: =제목!A6 -> 2026년 한라산 종다양성 회복을 위한 조릿대 제어사업(명승선작지왓-다년차)
D8: ○ 위 치 | F8: : | G8: 제주특별자치도 서귀포시 서호동 산1-1 외 1필지
D9: ○ 사 업 량 | F9: : | G9: 제주 조릿대 벌채 | J9: : | K9: =내역서!D6 -> 5.71 | L9: ha
G10: ※ 명승선작지왓(다년차) 대상지면적 5.82ha
D14: ○ 사업기간 | F14: : | G14: =" "&Data!B2 -> 착공일로부터 60일간
D15: ○ 공사금액 | F15: : | G15: ="금"&TEXT(Q15,"0,000")&"원(금"& NUMBERSTRING(Q15,1)&"원"&")" -> 금346,129,000원(금삼억사천육백일십이만구천원) | Q15: =원가계산서!D38 -> 346129000

Sheet 원가계산서
A1: 원 가 계 산 서 | K1: 2026년 국가유산수리 원가계산 간접공사비(제비율) 적용기준
A2: ='필지별 내역서(한라산 조릿대)'!A2 -> 사업명 : 2026년 한라산 종다양성 회복을 위한 조릿대 제어사업(명승선작지왓-다년차)
A3: ="공사기간 : 착공일로부터 "&Data!$C$2&"일간" -> 공사기간 : 착공일로부터 60일간 | K3: ※ 적용시기 : 2026. 04. 13. 입찰공고분부터
A4: 구 분 비 목 | D4: 금 액 | E4: 구성비 (%) | F4: 비 고 | K4: 직접공사비 | L4: =D6+D10+D13 -> 192223417
K5: 제비율 요율 적용 | L5: 공사규모 | M5: 공사기간
A6: 문 화 재 수 리 원 가 | B6: 재료비 | C6: 직접재료비 | D6: =내역서!F16 -> 0 | E6: =TRUNC((D6/D$38)*100,3) -> 0
C7: 간접재료비
C8: 작업설×부산물 등(△)
C9: 소 계 | D9: =D6+D7+D8 -> 0 | E9: =E6+E7 -> 0
B10: 노무비 | C10: 직접노무비 | D10: =내역서!H16 -> 175888550 | E10: =TRUNC((D10/D$38)*100,3) -> 50.815
C11: 간접노무비 | D11: =TRUNC(D10*K11%) -> 20403071 | E11: =TRUNC((D11/D$38)*100,3) -> 5.894 | F11: ="직접노무비x"&K11&"%" -> 직접노무비x11.6% | K11: 11.6 | L11: 1억 이상 - 5억 미만(직접공사비) | M11: 6개월 이하 (183일)
C12: 소 계 | D12: =D10+D11 -> 196291621 | E12: =E10+E11 -> 56.709
B13: 경 비 | C13: 기 계 경 비 | D13: =내역서!J16 -> 16334867 | E13: =TRUNC((D13/D$38)*100,3) -> 4.719
C14: 특허권사용료 | E14: =TRUNC((D14/D$38)*100,3) -> 0
C15: 기술료 | E15: =TRUNC((D15/D$38)*100,3) -> 0
C16: 산 재 보 험 료 | D16: =TRUNC(D12*K16%) -> 6987981 | E16: =TRUNC((D16/D$38)*100,3) -> 2.018 | F16: ="노무비 x"&K16&"%" -> 노무비 x3.56% | K16: 3.56
C17: 고 용 보 험 료 | D17: =TRUNC(D12*K17%) -> 1982545 | E17: =TRUNC((D17/D$38)*100,3) -> 0.572 | F17: ="노무비 x"&K17&"%" -> 노무비 x1.01% | K17: 1.01 | L17: 7등급 미만
C18: 건 강 보 험 료 | D18: =TRUNC(D10*K18%) -> 6323193 | E18: =TRUNC((D18/D$38)*100,3) -> 1.826 | F18: ="직접노무비x"&K18&"%" -> 직접노무비x3.595% | K18: 3.595 | L18: * 공사기간 1개월(30일) 이상인 모든 건설공사
C19: 연 금 보 험 료 | D19: =TRUNC(D10*K19%) -> 8354706 | E19: =TRUNC((D19/D$38)*100,3) -> 2.413 | F19: ="직접노무비x"&K19&"%" -> 직접노무비x4.75% | K19: 4.75 | L19: * 공사기간 1개월(30일) 이상인 모든 건설공사
C20: 노인장기요양보험료 | D20: =TRUNC(D18*K20%) -> 830867 | E20: =TRUNC((D20/D$38)*100,3) -> 0.24 | F20: ="건강보험료 x "&K20&"%" -> 건강보험료 x 13.14% | K20: 13.14 | L20: * 공사기간 1개월(30일) 이상인 모든 건설공사
C21: 퇴직공제부금비 | D21: =TRUNC(D10*K21%) -> 4045436 | E21: =TRUNC((D21/D$38)*100,3) -> 1.168 | F21: ="직접노무비x"&K21&"%" -> 직접노무비x2.3% | K21: 2.3 | L21: 추정금액이 1억 이상인 건설공사
C22: 보관비 | E22: =TRUNC((D22/D$38)*100,3) -> 0
C23: 외주가공비 | E23: =TRUNC((D23/D$38)*100,3) -> 0
C24: 산업안전보건관리비 | D24: =TRUNC((D9+D10)*K24%) -> 3640892 | E24: =TRUNC((D24/D$38)*100,3) -> 1.051 | F24: ="(재+직.노) x "&K24&"%" -> (재+직.노) x 2.07% | K24: 2.07 | L24: 5억 미만 | M24: 특수건설공사
C25: 폐기물처리비
C26: 지급수수료
C27: 보상비
C28: 관급자재관리비
C29: 기 타 경 비 | D29: =TRUNC((D9+D12)*K29%) -> 13151538 | E29: =TRUNC((D29/D$38)*100,3) -> 3.799 | F29: ="(재료비+노무비)x"&K29&"%" -> (재료비+노무비)x6.7% | K29: 6.7 | L29: 1억 이상 - 5억 미만(직접공사비) | M29: 6개월 이하 (183일)
C30: 그 밖의 법정경비 | E30: =TRUNC((D30/D$38)*100,3) -> 0
C31: 석면분담금 | D31: =TRUNC((D12)*K31%) -> 11777 | E31: =TRUNC((D31/D$38)*100,3) -> 0.003 | F31: ="(노무비)x"&K31&"%" -> (노무비)x0.006% | K31: 0.006 | L31: 환경부 고시 제2025-25호(2025. 12. 22.), 2026년도 석면피해구제분담금률
C32: 임금채권부담금 | D32: =TRUNC((D12)*K32%) -> 176662 | E32: =TRUNC((D32/D$38)*100,3) -> 0.051 | F32: ="(노무비)x"&K32&"%" -> (노무비)x0.09% | K32: 0.09 | L32: 노동부 고시 제2025-100호(2025.12.31.), 임금채권보장법 사업주 부담금비율 고시
C33: 소 계 | D33: =D13+D14+D15+D16+D17+D18+D19+D20++D21+D22+D23+D24+D25+D26+D27+D28+D29+D30+D31+D32 -> 61840464 | E33: =SUM(E13,E14,E15,E16,E17,E18,E19,E20,E21,E22,E23,E24,E25,E26,E27,E28,E29,E30,E31,E32) -> 17.86
A34: 일반관리비 | D34: =TRUNC((D9+D12+D33)*K34%) -> 15487925 | E34: =TRUNC((D34/D$38)*100,3) -> 4.474 | F34: ="(재료비+노무비+경비)x"&K34&"%" -> (재료비+노무비+경비)x6% | K34: 6
A35: 이윤 | D35: =TRUNC((D12+D33+D34)*K35%) -> 41043001 | E35: =TRUNC((D35/D$38)*100,3) -> 11.857 | F35: ="(노무비+경비+일반관리비)x"&K35&"%" -> (노무비+경비+일반관리비)x15% | K35: 15 | L35: 50억 미만
A36: 총 원 가 | D36: =D35+D34+D33+D9+D12 -> 314663011 | E36: =TRUNC((D36/D$38)*100,3) -> 90.909 | F36: (재료비+노무비+경비+일반관리비+이윤)
A37: 부가가치세 | D37: =TRUNC((D36)*K37%) -> 31466301 | E37: =TRUNC((D37/D$38)*100,2) -> 9.09 | F37: ="(총원가)x"&K37&"%" -> (총원가)x10% | K37: 10
A38: 총공사비 | D38: =TRUNC(D36+D37,-3) -> 346129000 | E38: =E36+E37 -> 99.999 | F38: 천원미만 절사
C40: 당초 총공사비
C41: 금액차액
F55: 18000000
F56: =F55/1.1 -> 16363636
F57: =F56-D36 -> -2.9829937e+08

Sheet 내역서
A1: 내 역 서
A2: =원가계산서!A2 -> 사업명 : 2026년 한라산 종다양성 회복을 위한 조릿대 제어사업(명승선작지왓-다년차)
A3: 공 종 | B3: 규 격 | C3: 단위 | D3: 수 량 | E3: 재 료 비 | G3: 노 무 비 | I3: 경 비 | K3: 총 액 | M3: 비 고
E4: 단 가 | F4: 금 액 | G4: 단 가 | H4: 금 액 | I4: 단 가 | J4: 금 액 | K4: 단 가 | L4: 금 액
A5: =N5&". "&총괄표!A6&"("&총괄표!C6&")" -> 1. 명승선작지왓(다년차) | F5: =SUM(F6:F8) -> 0 | H5: =SUM(H6:H8) -> 175888550 | J5: =SUM(J6:J8) -> 16334867 | L5: =SUM(F5,H5,J5) -> 192223417 | N5: 1
A6: =일위대가총괄!A6 -> 제주조릿대 전면 벌채-다년차 (ha당) | B6: =일위대가총괄!B6 -> 10 | C6: =일위대가총괄!C6 -> ha | D6: =총괄표!E9 -> 5.71 | E6: =일위대가총괄!F6 -> 0 | F6: =TRUNC($D6*E6) -> 0 | G6: =일위대가총괄!H6 -> 30803599 | H6: =TRUNC($D6*G6) -> 175888550 | I6: =일위대가총괄!J6 -> 2800327 | J6: =TRUNC($D6*I6) -> 15989867 | K6: =E6+G6+I6 -> 33603926 | L6: =F6+H6+J6 -> 191878417 | M6: =일위대가총괄!M6 -> 제 2 호표
A7: =일위대가총괄!$A$7 -> 공사 현수막 설치 (개소당) | B7: =일위대가총괄!$B$7 -> 5000*900 | C7: 개소 | D7: 1 | E7: =일위대가총괄!$F$7 -> 0 | F7: =TRUNC($D7*E7) -> 0 | G7: =일위대가총괄!$H$7 -> 0 | H7: =TRUNC($D7*G7) -> 0 | I7: =일위대가총괄!$J$7 -> 70000 | J7: =TRUNC($D7*I7) -> 70000 | K7: =E7+G7+I7 -> 70000 | L7: =F7+H7+J7 -> 70000 | M7: =일위대가총괄!$M$7 -> 제 3 호표
A8: =일위대가총괄!$A$8 -> 수리보고서 작성 (1식) | B8: =일위대가총괄!$B$8 -> 50P/권 | C8: 식 | D8: 1 | E8: =일위대가총괄!$F$8 -> 0 | F8: =TRUNC($D8*E8) -> 0 | G8: =일위대가총괄!$H$8 -> 0 | H8: =TRUNC($D8*G8) -> 0 | I8: =일위대가총괄!$J$8 -> 275000 | J8: =TRUNC($D8*I8) -> 275000 | K8: =E8+G8+I8 -> 275000 | L8: =F8+H8+J8 -> 275000 | M8: =일위대가총괄!$M$8 -> 제 4 호표
A10: ※대상지 면적 5.82ha 중 관목류가 점유하고 있는 0.11ha는 제외하여 벌채면적 산정
A16: 합 계 | F16: =F5 -> 0 | H16: =H5 -> 175888550 | J16: =J5 -> 16334867 | L16: =SUM(F16,H16,J16) -> 192223417

Sheet 일위대가총괄
A1: 일 위 대 가 총 괄
A2: =내역서!A2 -> 사업명 : 2026년 한라산 종다양성 회복을 위한 조릿대 제어사업(명승선작지왓-다년차)
A3: 공 종 | B3: 규 격 | C3: 단위 | D3: 수 량 | E3: 재 료 비 | G3: 노 무 비 | I3: 경 비 | K3: 총 액 | M3: 비 고
E4: 단 가 | F4: 금 액 | G4: 단 가 | H4: 금 액 | I4: 단 가 | J4: 금 액 | K4: 단 가 | L4: 금 액
A5: =일위대가!B5 -> 제주조릿대 전면 벌채-1년차 (ha당) | B5: =일위대가!D8 -> 10 | C5: ha | D5: 1 | F5: =일위대가!H10 -> 0 | H5: =일위대가!J10 -> 46013778 | J5: =일위대가!L10 -> 4183070 | L5: =F5+H5+J5 -> 50196848 | M5: =일위대가!A5 -> 제 1 호표
A6: =일위대가!B15 -> 제주조릿대 전면 벌채-다년차 (ha당) | B6: =일위대가!D18 -> 10 | C6: ha | D6: 1 | F6: =일위대가!H20 -> 0 | H6: =일위대가!J20 -> 30803599 | J6: =일위대가!L20 -> 2800327 | L6: =F6+H6+J6 -> 33603926 | M6: =일위대가!A15 -> 제 2 호표
A7: =일위대가!B26 -> 공사 현수막 설치 (개소당) | B7: =일위대가!B27 -> 5000*900 | C7: 개소 | D7: 1 | F7: =일위대가!H28 -> 0 | H7: =일위대가!J28 -> 0 | J7: =일위대가!L28 -> 70000 | L7: =F7+H7+J7 -> 70000 | M7: =일위대가!A26 -> 제 3 호표
A8: =일위대가!B30 -> 수리보고서 작성 (1식) | B8: =일위대가!B31 -> 50P/권 | C8: 식 | D8: 1 | F8: =일위대가!H33 -> 0 | H8: =일위대가!J33 -> 0 | J8: =일위대가!L33 -> 275000 | L8: =F8+H8+J8 -> 275000 | M8: =일위대가!A30 -> 제 4 호표

Sheet 일위대가
A1: 일 위 대 가 표
A2: ='필지별 내역서(한라산 조릿대)'!A2 -> 사업명 : 2026년 한라산 종다양성 회복을 위한 조릿대 제어사업(명승선작지왓-다년차)
A3: 공 종 | B3: 규 격 | C3: 단위 | D3: 소요인력 | E3: 적용요율 | F3: 적용 소요인력 | G3: 재 료 비 | I3: 노 무 비 | K3: 경 비 | M3: 총 액 | O3: 비 고
G4: 단 가 | H4: 금 액 | I4: 단 가 | J4: 금 액 | K4: 단 가 | L4: 금 액 | M4: 단 가 | N4: 금 액
A5: ="제 "&P5&" 호표" -> 제 1 호표 | B5: 제주조릿대 전면 벌채-1년차 (ha당) | P5: 1 | Q5: 소요인력 입력↓
A6: 특별인부 | B6: 벌채 후 뒷정리 | C6: 인 | D6: =Q6 -> 99 | E6: 0.8 | F6: =INT(D6*E6) -> 79 | I6: =단가대비표!D$6 -> 263024 | J6: =TRUNC(F6*I6) -> 20778896 | M6: =G6+I6+K6 -> 263024 | N6: =SUM(H6+J6+L6) -> 20778896 | Q6: 99
A7: 보통인부 | B7: 벌채 후 뒷정리 | C7: 인 | D7: =Q7 -> 133 | E7: 0.8 | F7: =INT(D7*E7) -> 106 | I7: =단가대비표!D$7 -> 198602 | J7: =TRUNC(F7*I7) -> 21051812 | M7: =G7+I7+K7 -> 198602 | N7: =SUM(H7+J7+L7) -> 21051812 | Q7: 133
A8: 할증적용 | C8: % | D8: =총괄표!G6 -> 10 | I8: =SUM(J6:J7) -> 41830708 | J8: =TRUNC(D8%*I8) -> 4183070 | N8: =H8+J8+L8 -> 4183070
A9: 부대비용(재료비등) | B9: 인건비의10% | C9: % | D9: 10 | J9: =TRUNC(D9*I9) -> 0 | K9: =SUM(J6:J7) -> 41830708 | L9: =TRUNC(D9%*K9) -> 4183070 | M9: =G9+I9+K9 -> 41830708 | N9: =SUM(H9+J9+L9) -> 4183070
A10: 소계 | H10: =SUM(H6:H9) -> 0 | J10: =SUM(J6:J9) -> 46013778 | L10: =SUM(L6:L9) -> 4183070 | N10: =H10+J10+L10 -> 50196848
A11: 『제주조릿대 관리방안 연구용역』(2020.12, ㈜동북아생물다양성연구소)의 p145 표 Ⅳ-6. 평균 벌채 가능 면적(1인 1일, 5시간) 소요인력에 80% 적용
A12: 지세/지형 등을 고려하여 할증 10% 적용.
A13: 『2024 문화재수리표준품셈』 37p, 원거리작업 시 집합 장소로 부터 작업장소 까지 도달하기 위하여 상당한 왕복시간이 요하여 실작업시간이 현저하게 감소될 경우 50% 까지 가산할 수 있다.
A15: ="제 "&P15&" 호표" -> 제 2 호표 | B15: 제주조릿대 전면 벌채-다년차 (ha당) | P15: =P5+1 -> 2 | Q15: 소요인력 입력↓
A16: 특별인부 | B16: 벌채 후 뒷정리 | C16: 인 | D16: =Q16 -> 47 | E16: 0.8 | F16: =INT(D16*E16) -> 37 | I16: =단가대비표!D$6 -> 263024 | J16: =TRUNC(F16*I16) -> 9731888 | M16: =G16+I16+K16 -> 263024 | N16: =SUM(H16+J16+L16) -> 9731888 | Q16: 47
A17: 보통인부 | B17: 벌채 후 뒷정리 | C17: 인 | D17: =Q17 -> 115 | E17: 0.8 | F17: =INT(D17*E17) -> 92 | I17: =단가대비표!D$7 -> 198602 | J17: =TRUNC(F17*I17) -> 18271384 | M17: =G17+I17+K17 -> 198602 | N17: =SUM(H17+J17+L17) -> 18271384 | Q17: 115
A18: 할증적용 | C18: % | D18: =총괄표!G6 -> 10 | I18: =SUM(J16:J17) -> 28003272 | J18: =TRUNC(D18%*I18) -> 2800327 | N18: =H18+J18+L18 -> 2800327
A19: 부대비용(재료비등) | B19: 인건비의10% | C19: % | D19: 10 | J19: =TRUNC(D19*I19) -> 0 | K19: =SUM(J16:J17) -> 28003272 | L19: =TRUNC(D19%*K19) -> 2800327 | M19: =G19+I19+K19 -> 28003272 | N19: =SUM(H19+J19+L19) -> 2800327
A20: 소계 | H20: =SUM(H16:H19) -> 0 | J20: =SUM(J16:J19) -> 30803599 | L20: =SUM(L16:L19) -> 2800327 | N20: =H20+J20+L20 -> 33603926
A21: 『제주조릿대 관리방안 연구용역』(2020.12, ㈜동북아생물다양성연구소)의 p145 표 Ⅳ-6. 평균 벌채 가능 면적(1인 1일, 5시간) 소요인력에 80% 적용
A22: 지세/지형 등을 고려하여 할증 10% 적용.
A23: 『2024 문화재수리표준품셈』 37p, 원거리작업 시 집합 장소로 부터 작업장소 까지 도달하기 위하여 상당한 왕복시간이 요하여 실작업시간이 현저하게 감소될 경우 50% 까지 가산할 수 있다.
A26: ="제 "&P26&" 호표" -> 제 3 호표 | B26: 공사 현수막 설치 (개소당) | P26: =P15+1 -> 3
A27: =단가대비표!A10 -> 공사현수막 | B27: =단가대비표!B10 -> 5000*900 | C27: 개소 | D27: 1 | K27: =VLOOKUP($A27,단가대비표!$A$7:$J$185,4,FALSE) -> 70000 | L27: =TRUNC(D27*K27) -> 70000 | M27: =SUM(G27,I27,K27) -> 70000 | N27: =SUM(H27+J27+L27) -> 70000
A28: 소 계 | J28: =SUM(J27:J27) -> 0 | L28: =SUM(L27:L27) -> 70000 | N28: =SUM(N27:N27) -> 70000
A30: ="제 "&P30&" 호표" -> 제 4 호표 | B30: 수리보고서 작성 (1식) | P30: =P26+1 -> 4
A31: 칼라인쇄 | B31: 50P/권 | C31: 장 | D31: 250 | K31: =VLOOKUP($A31,단가대비표!$A$7:$J$185,4,FALSE) -> 900 | L31: =TRUNC(D31*K31) -> 225000 | M31: =SUM(G31,I31,K31) -> 900 | N31: =SUM(H31+J31+L31) -> 225000
A32: 제본 | C32: 권 | D32: 5 | K32: =VLOOKUP($A32,단가대비표!$A$7:$J$185,4,FALSE) -> 10000 | L32: =TRUNC(D32*K32) -> 50000 | M32: =SUM(G32,I32,K32) -> 10000 | N32: =SUM(H32+J32+L32) -> 50000
A33: 소 계 | J33: =SUM(J31:J32) -> 0 | L33: =SUM(L31:L32) -> 275000 | N33: =SUM(N31:N32) -> 275000

Sheet 단가대비표
A1: 단 가 대 비 표
A2: ='필지별 내역서(한라산 조릿대)'!A2 -> 사업명 : 2026년 한라산 종다양성 회복을 위한 조릿대 제어사업(명승선작지왓-다년차)
A3: 품 명 | B3: 규 격 | C3: 단위 | D3: 적 용 단 가 | E3: 물가자료 (2026. 09) | G3: 물가정보 (2026. 09) | I3: 거래가격 (2026. 09) | K3: 비 고
E4: 쪽수 | F4: 금액 | G4: 쪽수 | H4: 금액 | I4: 쪽수 | J4: 금액 | L4: 2026
A5: <노임단가> | L5: 도서할증 15% | M5: 2026 하반기
A6: 특별인부 | C6: 원 | D6: =L6 -> 263024 | K6: 2026. 09. 01 노임단가(제주) | L6: =TRUNC(M6*115%, 0) -> 263024 | M6: 228717
A7: 보통인부 | C7: 원 | D7: =L7 -> 198602 | K7: 2026. 09. 01 노임단가(제주) | L7: =TRUNC(M7*115%, 0) -> 198602 | M7: 172698
A9: <재료단가>
A10: 공사현수막 | B10: 5000*900 | C10: 개소 | D10: 70000 | K10: 시중도매가,견적서별첨
A11: 칼라인쇄 | C11: 장 | D11: 900 | K11: 시중도매가,견적서별첨
A12: 제본 | C12: 권 | D12: 10000 | K12: 시중도매가,견적서별첨

Sheet 총괄표
A1: 수 량 총 괄 표
A2: ='필지별 내역서(한라산 조릿대)'!A2 -> 사업명 : 2026년 한라산 종다양성 회복을 위한 조릿대 제어사업(명승선작지왓-다년차)
A3: 1. 생물종 다양성 회복
A4: 공정 구분 | C4: 작업종 (작업년차 구분) | D4: 구역명 | E4: 제주조릿대 제거 면적(ha) | G4: 할증적용 | H4: 비 고
G5: (%)
A6: ='필지별 내역서(한라산 조릿대)'!K4 -> 명승선작지왓 | C6: ='필지별 내역서(한라산 조릿대)'!L4 -> 다년차 | D6: B구역 | E6: 2.12 | G6: 10 | H6: CAD구적 산출
A7: ='필지별 내역서(한라산 조릿대)'!K5 -> 명승선작지왓 | C7: ='필지별 내역서(한라산 조릿대)'!L5 -> 다년차 | D7: C구역 | E7: 3.3 | G7: 10 | H7: CAD구적 산출
A8: ='필지별 내역서(한라산 조릿대)'!K5 -> 명승선작지왓 | C8: ='필지별 내역서(한라산 조릿대)'!L5 -> 다년차 | D8: D구역 | E8: 0.29 | G8: 10 | H8: CAD구적 산출
C9: 합계 | E9: =SUM(E6:F8) -> 5.71
A11: 2. 기타
A12: 공정 구분 | E12: 공사 현수막 설치 | F12: 수리보고서 작성 | G12: 비 고
E13: (개소) | F13: (식)
A14: =A6 -> 명승선작지왓 | E14: 1 | F14: 1

Sheet 필지별 내역서(한라산 조릿대)
A1: 필 지 별 내 역 서
A2: ="사업명 : "&제목!A6 -> 사업명 : 2026년 한라산 종다양성 회복을 위한 조릿대 제어사업(명승선작지왓-다년차)
A3: NO. | B3: 시 구분 | C3: 읍면동 | D3: 리 | E3: 지번 | F3: 지목 | G3: 지적면적(㎡) | H3: 대상지면적(㎡) | I3: 제외면적(㎡) [입목 및 관목지] | J3: 사업면적(ha) [제주조릿대 벌채] | K3: 사업지 구분 | L3: 사업종구분 | M3: 비 고
A4: 1 | B4: 서귀포시 | C4: 서호동 | E4: 산1-1 | F4: 임 | G4: 993896 | H4: 43131 | I4: 699 | J4: =ROUND((H4-I4)/10000,2) -> 4.24 | K4: 명승선작지왓 | L4: 다년차 | N4: =3400-1240 -> 2160 | O4: 699
A5: 2 | B5: 서귀포시 | C5: 영남동 | E5: 산1-1 | F5: 임 | G5: 3636852 | H5: 15166 | I5: 401 | J5: =TRUNC((H5-I5)/10000,2) -> 1.47 | K5: 명승선작지왓 | L5: 다년차 | N5: =967+273 -> 1240 | O5: 401
A6: 소 계 | D6: =COUNTA(E4:E5) -> 2 | E6: 필지 | G6: =SUM(G4:G5) -> 4630748 | H6: =SUM(H4:H5) -> 58297 | I6: =SUM(I4:I5) -> 1100 | J6: =TRUNC(SUM(J4:J5),2) -> 5.71
A7: 합 계 | D7: =D6 -> 2 | E7: 필지 | G7: =G6 -> 4630748 | H7: =H6 -> 58297 | I7: =I6 -> 1100 | J7: =J6 -> 5.71
J12: =N4/0.34 -> 6352.9412 | K12: =J12*0.11 -> 698.82353
J13: =N5/0.34 -> 3647.0588 | K13: =J13*0.11 -> 401.17647

Sheet 국가유산수리 원가계산 제비율
B2: ※ 적용시기 : 2026. 04. 13. 입찰공고분부터 | AL2: 2026년 국가유산수리 원가계산 간접공사비(제비율) 적용기준
AC3: [간접노무비] | AL3: [기타경비] | AU3: 공사규모 (추정가격) | BL3: [이윤] | BY3: [일반관리비] | DJ3: [산업안전보건관리비]
B7: 공사규모 | M7: 공사기간 | DJ7: □ 도급자관급 미포함 | EA7: (재+직노) x 율
B9: (직접공사비)
BL11: (노+경+일) x 율 | BY11: (재+노+경) x 율 | DJ11: □ 도급자관급 포함 | EA11: (재+직노+도급자관급) x 요율주2) + 기초액과
AC12: (직노) x 율 | AL12: (재+노) x 율
EA13: [(재+직노) x 요율주3) + 기초액] x 1.2 중에 작은 금액
B15: 5천만원 미만 | M15: 6개월 이하 (183일) | AC15: 13.1 | AL15: 8 | AU15: 50억 미만 | BL15: 15 | BY15: 6 | DJ15: 산업안전보건관리비 대상액주1) | EA15: 구분 | ER15: 요율 | EZ15: 기초액(천원)
M17: 7~12개월 (365일) | AC17: 12.6
M19: 13~36개월 (1095일) | AC19: 11.6 | DJ19: 5억 미만 | EA19: 건축공사 | ER19: 3.11
M21: 36개월 초과 (1096일) | AC21: 10.8 | EA21: 토목공사 | ER21: 3.15
B23: 5천만원 이상 - 1억 미만 | M23: 6개월 이하 (183일) | AC23: 11.9 | AL23: 7.4 | EA23: 중건설공사 | ER23: 3.64
M25: 7~12개월 (365일) | AC25: 11.4 | EA25: 특수건설공사 | ER25: 2.07
M27: 13~36개월 (1095일) | AC27: 10.4 | DJ27: 5억 ~ 50억 미만 | EA27: 건축공사 | ER27: 2.28 | EZ27: 4325
M29: 36개월 초과 (1096일) | AC29: 9.6 | EA29: 토목공사 | ER29: 2.53 | EZ29: 3300
B31: 1억 이상 - 5억 미만 | M31: 6개월 이하 (183일) | AC31: 11.6 | AL31: 6.7 | AU31: 50억 - 300억 미만 | BL31: 12 | BY31: [건설기계대여대금 지급보증액 발급금액] | EA31: 중건설공사 | ER31: 3.05 | EZ31: 2975
M33: 7~12개월 (365일) | AC33: 11.1 | EA33: 특수건설공사 | ER33: 1.59 | EZ33: 2450
M35: 13~36개월 (1095일) | AC35: 10.1 | BY35: 적용제외 | DJ35: 50억 이상 | DQ35: 추정금액 800억 미만 건설공사 | EA35: 건축공사 | ER35: 2.37
M37: 36개월 초과 (1096일) | AC37: 9.3 | EA37: 토목공사 | ER37: 2.6
B39: 5억 이상 | M39: 6개월 이하 (183일) | AC39: 11.4 | AL39: 6.2 | AU39: 300억 - 1000억 미만 | BL39: 10 | EA39: 중건설공사 | ER39: 3.11
M41: 7~12개월 (365일) | AC41: 10.9 | EA41: 특수건설공사 | ER41: 1.64
M43: 13~36개월 (1095일) | AC43: 9.9 | DQ43: 추정금액 800억 이상 건설공사 | EA43: 건축공사 | ER43: 2.64
M45: 36개월 초과 (1096일) | AC45: 9.1 | AU45: 1000억 이상 | BL45: 9 | EA45: 토목공사 | ER45: 2.73
B47: * 기타경비항목: 수도광열비, 복리후생비, 소모품비 및 사무용품비, | EA47: 중건설공사 | ER47: 3.39
B49: 여비∙교통∙통신비, 세금과공과, 도서인쇄비 | EA49: 특수건설공사 | ER49: 1.78
B51: [산재보험료] | AU51: [건강보험료] | BY51: [건설하도급대금지급보증서발급수수료] | DJ51: * 총 공사금액(도급금액+도급자설치 관급금액) 2천만원 이상 건설공사
DJ53: 주1) 산업안전보건관리비 대상액
B55: (노) x 3.56 | AU55: (직노) x 3.595 | BY55: 적용제외
DJ56: - 재료비+직접노무비+도급자설치 관급금액
B59: * 모든 건설공사 적용, 노동부 고시 제2024-77호(2024. 12. 30.), 산업재해보상보험법시행령 ※ 사회보험의 보험료 적용기준 (국토부 고시 제2021-905호, 2021.7.1.) | AU59: * 공사기간 1개월(30일) 이상인 모든 건설공사 ※ 사회보험의 보험료 적용기준 (국토부 고시 제2021-905호, 2021.7.1.) | DJ59: 주2) 대상액이 재료비, 직접노무비, 도급자관급의 합계금액인 요율
DJ62: 주3) 대상액이 재료비, 직접노무비의 합계금액인 요율
DJ66: * 산업안전보건관리비 산출 건설공사의 종류
B69: [고용보험료] | AU69: [노인장기요양보험료] | BY69: [공사이행보증수수료] | DJ69: - [건축공사] 「건설산업기본법 시행령」 (별표 1) 제1호 '나'목 / 제2호의 전문공사로서 건축물과
DJ72: 관련하여 분리하여 발주되었고 시간적·장소적으로도 독립하여 행하는 공사
B73: (노) x 율 | AU73: (건강보험료) x 13.14 | BY73: 공사규모(직접공사비) | CJ73: 수수료
B75: 공사배정규모(추정금액) | AH75: 요율 | DJ75: - [토목공사] 「건설산업기본법 시행령」 (별표 1) 제1호 '가'목, '라'목 / 제2호의 전문공사로서
BY76: 70억 미만 | CJ76: [직공비x0.0108%]x공기(년)
B77: [1등급] 1200억 이상 | AH77: 1.57 | AU77: * 공사기간 1개월(30일) 이상인 모든 건설공사 ※ 사회보험의 보험료 적용기준 (국토부 고시 제2021-905호, 2021.7.1.)
DJ78: 건축공사 외의 시설물과 관련하여 분리하여 발주되었고 시간적·장소적으로도 독립하여 행하는 공사
B79: [2등급] 800억 ~ 1200억 미만 | AH79: 1.30 | BY79: 70억이상~120억미만 | CJ79: [79만원+(직공비-75억원)x0.0070%]x공기(년)
B81: [3등급] 520억 ~ 800억 미만 | AH81: 1.13 | DJ81: - [중건설공사] 「건설산업기본법 시행령」 (별표 1) 제1호 '가'목, '라'목 해당공사 중
BY82: 120억이상~250억미만 | CJ82: [116만원+(직공비-130억원)x0.0059%]x공기(년)
B83: [4등급] 340억 ~ 520억 미만 | AH83: 1.06
DJ84: 다음과 같은 공사 및 이와 함께 부대하여 현장 내에서 행하는 공사
B85: [5등급] 210억 ~ 340억 미만 | AH85: 1.03 | BY85: 250억이상~500억미만 | CJ85: [186만원+(직공비-250억원)x0.0048%]x공기(년)
AU86: [연금보험료]
B87: [6등급] 130억 ~ 210억 미만 | AH87: 1.02 | DJ87: · 고제방 댐 공사 등 - 댐 신설공사, 제방신설공사와 관련한 제반시설공사
BY88: 500억 이상 | CJ88: [306만원+(직공비-500억원)x0.0040%]x공기(년)
B89: [7등급] 고시금액 ~ 130억원 미만 | AH89: 1.01 | DJ89: · 화력, 수력, 원자력, 열병합 발전시설 등 설치공사 - 화력, 수력, 원자력, 열병합 발전시설과 관련된 신설공사 및 제반시설공사
AU90: (직노) x 4.75
B91: 7등급 미만 | AH91: #REF! | BY91: * 「지방계약법 시행령」 제51조제1항에 따른 적용 의무 대상 | DJ91: · 터널신설공사 등 - 도로, 철도, 지하철 공사로서 터널, 교량, 토공사 등이 포함된 복합시설물로 구성된 공사에 있어
B93: * 모든 건설공사에 적용, 국토부 고시 제2021-905호(2021.7.1.), 고용보험법 시행령 | BY93: - (시행령 제42조 제1항) 추정가격 300억 이상인 공사의 계약 | DJ93: 터널공사비 비중이 가장 큰 비중을 차지하는 건설공사
AU94: * 공사기간 1개월(30일) 이상인 모든 건설공사 ※ 사회보험의 보험료 적용기준 (국토부 고시 제2021-905호, 2021.7.1.)
B95: (주택건설업자,건설업자,전기공사업자,정보통신공사업자,소방시설업자,국가유산수리업자) | BY95: - (시행령 제6장) 대형공사계약(대안입찰, 일괄입찰), 특정공사의 계약 | DJ95: - [특수건설] 「건설산업기본법 시행령」(별표1) 제1호 '마'목로서 시행규칙(별표3)에서 구분한 조경공사 /
B97: * 총공사금액[(도급금액+관급금액)에서 부가세 제외] 2천만원 미만의 건설공사를 건설업자가 아닌 자가 시공 시 미적용 | BY97: - (시행령 제9장) 기술제안 입찰에 의한 계약
DJ98: 아래 각목에 따른 건설공사 중 다른 공사와 분리하여 발주되었고 시간적·장소적으로도 독립하여 행하는 공사
B99: ※ 등급기준: 조달청 등급별 유자격자 명부 등록 및 운용기준(조달청 공고 제2023-235호, 2023.7.6.) | BY99: [법정부담금]
B101: ※ 사회보험의 보험료 적용기준 (국토부 고시 제2021-905호, 2021.7.1.) | DJ101: · 「전기공사업법」, 「정보통신공사업법」, 「소방공사업법」, 「문화재수리공사업법」에 의한 공사
B103: [퇴직공제부금비] | AU103: [환경보전비] | BY103: [석면분담금] | CR103: [임금채권부담금] | DJ103: 비고 1 건축물과 관련하여 공사가 수행된다 하더라도 독립하여 행하는 공사가 토목공사, 중건설공사가 명백한 경우 해당 공사 종류로 분류
DJ105: 2 건축공사, 토목공사 및 중건설공사와 함께 부대하여 현장 내에서 이루어지는 공사는 개별 법령에 따라 수행되는 공사를 포함
B107: (직노) x 2.3 | AU107: 적용제외 ※ 단 국가유산수리 표준품셈 제1장 적용기준 1-27에 의거 계상가능 | BY107: (노) x 0.006 | CR107: (노) x 0.09 | DJ107: ※ 건설업 산업안전보건관리비 계상 및 사용기준 (고용노동부 고시 제2025-11호, 2025.2.12.)
B109: * 추정금액이 1억 이상인 건설공사
B111: ※ 국토부 고시 제2015-610호(2015.8.20.) 요율 적용 | BY111: * 모든 건설공사 적용.
BY113: 환경부 고시 제2025-25호(2025. 12. 22.), 2026년도 석면피해구제분담금률
B114: □ 전기∙통신∙소방∙전문 및 기타공사의 경우 일반관리비요율을 제외한 각종 요율은 건축, 토목 등 관련 공사업종에 따라 적용
BY115: 노동부 고시 제2025-100호(2025.12.31.), 임금채권보장법 사업주 부담금비율 고시
B116: (단. 공사규모 및 기간은 해당공종<전기∙통신∙소방∙전문 및 기타공사>을 기준으로 함)
B128: 위 적용기준은 조달청 발주공사에 적용하는 기준이므로 참고자료로 활용하시기 바랍니다.

Sheet 노임자료
