Workbook

Sheet 원가계산서
B1: 원가계산서
B3: 비 목 | E3: 구분 | F3: 금 액 | G3: 요율 | H3: 산 출 근 거
C4: 재 | D4: 직 접 재 료 비 | E4: 1 | F4: =내역서!L30 -> 0
C5: 료 | D5: 간 접 재 료 비 | E5: 2
C6: 비 | D6: 작업설.부산물등(△) | E6: 3
D7: 소 계 | E7: A | F7: =TRUNC((F4+F5+F6),0) -> 0 | H7: (1 + 2 + 3 )
C8: 노 | D8: 직 접 노 무 비 | E8: 4 | F8: =내역서!J30 -> 0
B9: 순 | C9: 무 | D9: 간 접 노 무 비 | E9: 5 | F9: =TRUNC(F8*0.184,0) -> 0 | G9: 18.4% | H9: 4 × 0.184
C10: 비 | D10: 소 계 | E10: B | F10: =TRUNC((F8+F9),0) -> 0 | H10: ( 4 + 5 )
B11: 공 | D11: 산 출 경 비 | E11: 6 | F11: =내역서!N30 -> 0
D12: 산 재 보 험 료 | E12: 7 | F12: =TRUNC(F10*0.0356,0) -> 0 | G12: 3.56% | H12: B × 0.0356
B13: 사 | D13: 고 용 보 험 료 | E13: 8 | F13: =TRUNC(F10*0.0101,0) -> 0 | G13: 1.01% | H13: B × 0.0101
C14: 경 | D14: 건 강 보 험 료 | E14: 9
B15: 원 | D15: 연 금 보 험 료 | E15: 10
D16: 노인장기요양 보 험 료 | E16: 11
B17: 가 | D17: 퇴 직 공 제 부 금 비 | E17: 12
D18: 건설기계대여금지급보증서발급액 | E18: 13 | F18: =TRUNC((F7+F8+F11)*0.0016,0) -> 0 | G18: 0.16% | H18: (A + 4 + 6) × 0.0016
D19: 산 업 안 전 보건관리비 | E19: 14 | F19: =TRUNC((F7+F8+F34/1.1)*0.0207,0) -> 0 | G19: 2.07% | H19: (A + 4 + K/1.1) × 0.0207
D20: 환 경 보 전 비 | E20: 15 | F20: =TRUNC((F7+F8+F11)*0.003,0) -> 0 | G20: 0.3% | H20: (A + 4 + 6) ×0.003
D21: 공 사 이 행 보증수수료 | E21: 16
C22: 비 | D22: 하도급대금지급보증수수료 | E22: 17 | G22: %
D23: 석 면 분 담 금 | E23: 18 | F23: =TRUNC(F10*0.00006,0) -> 0 | G23: 0.006% | H23: B × 0.00006
D24: 임 금 채 권 부 담 금 | E24: 19 | F24: =TRUNC(F10*0.0009,0) -> 0 | G24: 0.09% | H24: B × 0.0009
D25: 기 타 경 비 | E25: 20 | F25: =TRUNC((F7+F10)*0.049,0) -> 0 | G25: 4.9% | H25: (A + B) × 0.049
D26: 소 계 | E26: C | F26: =TRUNC((F11+F12+F13+F14+F15+F16+F17+F18+F19+F20+F21+F22+F23+F24+F25),0) -> 0 | H26: (6:20)
D27: 순 공 사 원 가 | E27: D | F27: =TRUNC((F7+F10+F26),0) -> 0 | H27: (A + B + C)
D28: 일 반 관 리 비 | E28: E | F28: =TRUNC(F27*0.08,0) -> 0 | G28: 8% | H28: D × 0.08
D29: 이 윤 | E29: F | F29: =TRUNC((F10+F26+F28)*0.1494,0) -> 0 | G29: 14.94% | H29: (B + C + E) ×0.1494
D30: 임 목 폐 기 물 처리비 | E30: G | F30: =내역서!H32 -> 0 | L30: =내역서!H32 -> 0
D31: 총 원 가 | E31: H | F31: =TRUNC((F27+F28+F29+F30),0) -> 0 | H31: (D + E + F + G)
D32: 부 가 가 치 세 | E32: I | F32: =IF(L52<> "0.9",TRUNC(F31*0.1,0),TRUNC(F31*0.1,0)+1) -> 0 | G32: 10% | H32: H × 0.1
D33: 도 급 액 | E33: J | F33: =TRUNC((F31+F32),5) -> 0 | H33: (H + I)
D34: 관 급 자 재 대 | E34: K
D35: 총 공 사 비 | E35: L | F35: =TRUNC((F33+F34),0) -> 0 | H35: (J + K)
L52: =RIGHT(F31*0.1,3) -> 0

Sheet 내역서총괄표
B1: 내역서총괄표
B3: 공종 | C3: 품 명 | D3: 규 격 | E3: 수 량 | F3: 단위 | G3: 합 계 | H3: 노무비 | I3: 재료비 | J3: 경 비 | K3: 비 고
B4: ◎ | C4: 명륜로 | G4: =H4+I4+J4 -> 0 | H4: =내역서!J5 -> 0 | I4: =내역서!L5 -> 0 | J4: =내역서!N5 -> 0
B5: 1. | C5: 수목전정공 | G5: =H5+I5+J5 -> 0 | H5: =내역서!J6 -> 0 | I5: =내역서!L6 -> 0 | J5: =내역서!N6 -> 0
B6: 2. | C6: 시설물공 | G6: =H6+I6+J6 -> 0 | H6: =내역서!J10 -> 0 | I6: =내역서!L10 -> 0 | J6: =내역서!N10 -> 0
B7: ◎ | C7: 이천로 | G7: =H7+I7+J7 -> 0 | H7: =내역서!J14 -> 0 | I7: =내역서!L14 -> 0 | J7: =내역서!N14 -> 0
B8: 2. | C8: 시설물공 | G8: =H8+I8+J8 -> 0 | H8: =내역서!J15 -> 0 | I8: =내역서!L15 -> 0 | J8: =내역서!N15 -> 0
B9: ◎ | C9: 달성로 | G9: =H9+I9+J9 -> 0 | H9: =내역서!J25 -> 0 | I9: =내역서!L25 -> 0 | J9: =내역서!N25 -> 0
B10: 2. | C10: 시설물공 | G10: =H10+I10+J10 -> 0 | H10: =내역서!J26 -> 0 | I10: =내역서!L26 -> 0 | J10: =내역서!N26 -> 0
C11: 순 공 사 비 | G11: =H11+I11+J11 -> 0 | H11: =내역서!J30 -> 0 | I11: =내역서!L30 -> 0 | J11: =내역서!N30 -> 0
C12: 간접노무비 | E12: 18.4 | F12: % | G12: =원가계산서!F9 -> 0
C13: 산재보험료 | E13: 3.56 | F13: % | G13: =원가계산서!F12 -> 0
C14: 고용보험료 | E14: 1.01 | F14: % | G14: =원가계산서!F13 -> 0
C15: 건설기계대여금지급보증서발급액 | E15: 0.16 | F15: % | G15: =원가계산서!F18 -> 0
C16: 산업안전보건관리비 | E16: 2.07 | F16: % | G16: =원가계산서!F19 -> 0
C17: 환경보전비 | E17: 0.3 | F17: % | G17: =원가계산서!F20 -> 0
C18: 석면분담금 | E18: 0.006 | F18: % | G18: =원가계산서!F23 -> 0
C19: 임금채권부담금 | E19: 0.09 | F19: % | G19: =원가계산서!F24 -> 0
C20: 기타경비 | E20: 4.9 | F20: % | G20: =원가계산서!F25 -> 0
C21: 순공사원가 | G21: =원가계산서!F27 -> 0
C22: 일반관리비 | E22: 8 | F22: % | G22: =원가계산서!F28 -> 0
C23: 이윤 | E23: 14.94 | F23: % | G23: =원가계산서!F29 -> 0
C24: 임목폐기물처리비 | G24: =원가계산서!F30 -> 0
C25: 총원가 | G25: =원가계산서!F31 -> 0
C26: 부가가치세 | E26: 10 | F26: % | G26: =원가계산서!F32 -> 0
C27: 도급액 | G27: =원가계산서!F33 -> 0
C28: 총공사비 | G28: =원가계산서!F35 -> 0

Sheet 내역서
B1: 내역서
B3: 공종 | C3: 품 명 | D3: 규 격 | E3: 수 량 | F3: 단위 | G3: 합 계 | I3: 노무비 | K3: 재료비 | M3: 경 비 | O3: 비 고
G4: 단 가 | H4: 금 액 | I4: 단 가 | J4: 금 액 | K4: 단 가 | L4: 금 액 | M4: 단 가 | N4: 금 액
B5: ◎ | C5: 명륜로 | G5: =I5+K5+M5 -> 0 | H5: =J5+L5+N5 -> 0 | J5: =TEXT(J6+J10,"#,##0") -> 0 | L5: =TEXT(L6+L10,"#,##0") -> 0 | N5: =TEXT(N6+N10,"#,##0") -> 0
B6: 1. | C6: 수목전정공 | G6: =I6+K6+M6 -> 0 | H6: =J6+L6+N6 -> 0 | J6: =TEXT(SUM(J7:J9),"#,##0") -> 0 | L6: =TEXT(SUM(L7:L9),"#,##0") -> 0 | N6: =TEXT(SUM(N7:N9),"#,##0") -> 0
C7: 이팝나무 전정 | D7: B11~20 | E7: 120 | F7: 주 | G7: =I7+K7+M7 -> 0 | H7: =J7+L7+N7 -> 0 | I7: =일위대가총괄표!G4 -> 0 | J7: =TRUNC(E7*I7,0) -> 0 | K7: =일위대가총괄표!H4 -> 0 | L7: =TRUNC(E7*K7,0) -> 0 | M7: =일위대가총괄표!I4 -> 0 | N7: =TRUNC(E7*M7,0) -> 0 | O7: 일위1참조
C8: 이팝나무 전정 | D8: B21~30 | E8: 21 | F8: 주 | G8: =I8+K8+M8 -> 0 | H8: =J8+L8+N8 -> 0 | I8: =일위대가총괄표!G5 -> 0 | J8: =TRUNC(E8*I8,0) -> 0 | K8: =일위대가총괄표!H5 -> 0 | L8: =TRUNC(E8*K8,0) -> 0 | M8: =일위대가총괄표!I5 -> 0 | N8: =TRUNC(E8*M8,0) -> 0 | O8: 일위2참조
G9: =I9+K9+M9 -> 0 | H9: =J9+L9+N9 -> 0
B10: 2. | C10: 시설물공 | G10: =I10+K10+M10 -> 0 | H10: =J10+L10+N10 -> 0 | J10: =TEXT(SUM(J11:J13),"#,##0") -> 0 | L10: =TEXT(SUM(L11:L13),"#,##0") -> 0 | N10: =TEXT(SUM(N11:N13),"#,##0") -> 0
C11: 인조잔디보호대(A) | D11: 1,060x1,300 | E11: 16 | F11: ea | G11: =I11+K11+M11 -> 0 | H11: =J11+L11+N11 -> 0 | I11: =일위대가총괄표!G6 -> 0 | J11: =TRUNC(E11*I11,0) -> 0 | K11: =일위대가총괄표!H6 -> 0 | L11: =TRUNC(E11*K11,0) -> 0 | M11: =일위대가총괄표!I6 -> 0 | N11: =TRUNC(E11*M11,0) -> 0 | O11: 일위3참조
C12: 인조잔디보호대(3) | D12: 1.300x1,000 | E12: 1 | F12: ea | G12: =I12+K12+M12 -> 0 | H12: =J12+L12+N12 -> 0 | I12: =일위대가총괄표!G8 -> 0 | J12: =TRUNC(E12*I12,0) -> 0 | K12: =일위대가총괄표!H8 -> 0 | L12: =TRUNC(E12*K12,0) -> 0 | M12: =일위대가총괄표!I8 -> 0 | N12: =TRUNC(E12*M12,0) -> 0 | O12: 일위5참조
G13: =I13+K13+M13 -> 0 | H13: =J13+L13+N13 -> 0
B14: ◎ | C14: 이천로 | G14: =I14+K14+M14 -> 0 | H14: =J14+L14+N14 -> 0 | J14: =TEXT(J15,"#,##0") -> 0 | L14: =TEXT(L15,"#,##0") -> 0 | N14: =TEXT(N15,"#,##0") -> 0
B15: 2. | C15: 시설물공 | G15: =I15+K15+M15 -> 0 | H15: =J15+L15+N15 -> 0 | J15: =TEXT(SUM(J16:J24),"#,##0") -> 0 | L15: =TEXT(SUM(L16:L24),"#,##0") -> 0 | N15: =TEXT(SUM(N16:N24),"#,##0") -> 0
C16: 인조잔디보호대(B) | D16: 900x900 | E16: 1 | F16: ea | G16: =I16+K16+M16 -> 0 | H16: =J16+L16+N16 -> 0 | I16: =일위대가총괄표!G9 -> 0 | J16: =TRUNC(E16*I16,0) -> 0 | K16: =일위대가총괄표!H9 -> 0 | L16: =TRUNC(E16*K16,0) -> 0 | M16: =일위대가총괄표!I9 -> 0 | N16: =TRUNC(E16*M16,0) -> 0 | O16: 일위6참조
C17: 인조잔디보호대(C) | D17: 1,000x900 | E17: 1 | F17: ea | G17: =I17+K17+M17 -> 0 | H17: =J17+L17+N17 -> 0 | I17: =일위대가총괄표!G10 -> 0 | J17: =TRUNC(E17*I17,0) -> 0 | K17: =일위대가총괄표!H10 -> 0 | L17: =TRUNC(E17*K17,0) -> 0 | M17: =일위대가총괄표!I10 -> 0 | N17: =TRUNC(E17*M17,0) -> 0 | O17: 일위7참조
C18: 인조잔디보호대(D) | D18: 1,300x1,100 | E18: 14 | F18: ea | G18: =I18+K18+M18 -> 0 | H18: =J18+L18+N18 -> 0 | I18: =일위대가총괄표!G11 -> 0 | J18: =TRUNC(E18*I18,0) -> 0 | K18: =일위대가총괄표!H11 -> 0 | L18: =TRUNC(E18*K18,0) -> 0 | M18: =일위대가총괄표!I11 -> 0 | N18: =TRUNC(E18*M18,0) -> 0 | O18: 일위8참조
C19: 인조잔디보호대(E) | D19: 1,300x1,000 | E19: 25 | F19: ea | G19: =I19+K19+M19 -> 0 | H19: =J19+L19+N19 -> 0 | I19: =일위대가총괄표!G12 -> 0 | J19: =TRUNC(E19*I19,0) -> 0 | K19: =일위대가총괄표!H12 -> 0 | L19: =TRUNC(E19*K19,0) -> 0 | M19: =일위대가총괄표!I12 -> 0 | N19: =TRUNC(E19*M19,0) -> 0 | O19: 일위9참조
C20: 인조잔디보호대(F) | D20: 1,200x1,200 | E20: 2 | F20: ea | G20: =I20+K20+M20 -> 0 | H20: =J20+L20+N20 -> 0 | I20: =일위대가총괄표!G13 -> 0 | J20: =TRUNC(E20*I20,0) -> 0 | K20: =일위대가총괄표!H13 -> 0 | L20: =TRUNC(E20*K20,0) -> 0 | M20: =일위대가총괄표!I13 -> 0 | N20: =TRUNC(E20*M20,0) -> 0 | O20: 일위10참조
C21: 인조잔디보호대(1) | D21: 1,500x1,400 | E21: 114 | F21: ea | G21: =I21+K21+M21 -> 0 | H21: =J21+L21+N21 -> 0 | I21: =일위대가총괄표!G14 -> 0 | J21: =TRUNC(E21*I21,0) -> 0 | K21: =일위대가총괄표!H14 -> 0 | L21: =TRUNC(E21*K21,0) -> 0 | M21: =일위대가총괄표!I14 -> 0 | N21: =TRUNC(E21*M21,0) -> 0 | O21: 일위11참조
C22: 인조잔디보호대(4) | D22: 1,300x1,000 | E22: 3 | F22: ea | G22: =I22+K22+M22 -> 0 | H22: =J22+L22+N22 -> 0 | I22: =일위대가총괄표!G15 -> 0 | J22: =TRUNC(E22*I22,0) -> 0 | K22: =일위대가총괄표!H15 -> 0 | L22: =TRUNC(E22*K22,0) -> 0 | M22: =일위대가총괄표!I15 -> 0 | N22: =TRUNC(E22*M22,0) -> 0 | O22: 일위12참조
C23: 인조잔디보호대(5) | D23: 900x900 | E23: 1 | F23: ea | G23: =I23+K23+M23 -> 0 | H23: =J23+L23+N23 -> 0 | I23: =일위대가총괄표!G16 -> 0 | J23: =TRUNC(E23*I23,0) -> 0 | K23: =일위대가총괄표!H16 -> 0 | L23: =TRUNC(E23*K23,0) -> 0 | M23: =일위대가총괄표!I16 -> 0 | N23: =TRUNC(E23*M23,0) -> 0 | O23: 일위13참조
G24: =I24+K24+M24 -> 0 | H24: =J24+L24+N24 -> 0
B25: ◎ | C25: 달성로 | G25: =I25+K25+M25 -> 0 | H25: =J25+L25+N25 -> 0 | J25: =TEXT(J26,"#,##0") -> 0 | L25: =TEXT(L26,"#,##0") -> 0 | N25: =TEXT(N26,"#,##0") -> 0
B26: 2. | C26: 시설물공 | G26: =I26+K26+M26 -> 0 | H26: =J26+L26+N26 -> 0 | J26: =TEXT(SUM(J27:J29),"#,##0") -> 0 | L26: =TEXT(SUM(L27:L29),"#,##0") -> 0 | N26: =TEXT(SUM(N27:N29),"#,##0") -> 0
C27: 인조잔디보호대(1) | D27: 1,500x1,400 | E27: 51 | F27: ea | G27: =I27+K27+M27 -> 0 | H27: =J27+L27+N27 -> 0 | I27: =일위대가총괄표!G14 -> 0 | J27: =TRUNC(E27*I27,0) -> 0 | K27: =일위대가총괄표!H14 -> 0 | L27: =TRUNC(E27*K27,0) -> 0 | M27: =일위대가총괄표!I14 -> 0 | N27: =TRUNC(E27*M27,0) -> 0 | O27: 일위11참조
C28: 인조잔디보호대(2) | D28: 1,500x1,100 | E28: 49 | F28: ea | G28: =I28+K28+M28 -> 0 | H28: =J28+L28+N28 -> 0 | I28: =일위대가총괄표!G17 -> 0 | J28: =TRUNC(E28*I28,0) -> 0 | K28: =일위대가총괄표!H17 -> 0 | L28: =TRUNC(E28*K28,0) -> 0 | M28: =일위대가총괄표!I17 -> 0 | N28: =TRUNC(E28*M28,0) -> 0 | O28: 일위14참조
G29: =I29+K29+M29 -> 0 | H29: =J29+L29+N29 -> 0
C30: 순 공 사 비 | G30: =I30+K30+M30 -> 0 | H30: =J30+L30+N30 -> 0 | J30: =TEXT(J5+J14+J25,"#,##0") -> 0 | L30: =TEXT(L5+L14+L25,"#,##0") -> 0 | N30: =TEXT(N5+N14+N25,"#,##0") -> 0
G31: =I31+K31+M31 -> 0 | H31: =J31+L31+N31 -> 0
B32: ◎ | C32: 임목폐기물 처리비 | G32: =I32+K32+M32 -> 0 | H32: =J32+L32+N32 -> 0 | J32: =TEXT(SUM(J33:J34),"#,##0") -> 0 | L32: =TEXT(SUM(L33:L34),"#,##0") -> 0 | N32: =TEXT(SUM(N33:N34),"#,##0") -> 0
C33: 임목폐기물 운반비 | D33: 상차포함 | E33: 8.5 | F33: ton | G33: =I33+K33+M33 -> 0 | H33: =J33+L33+N33 -> 0 | J33: =TRUNC(E33*I33,0) -> 0 | L33: =TRUNC(E33*K33,0) -> 0 | M33: 0 | N33: =TRUNC(E33*M33,0) -> 0
C34: 임목폐기물 처리비 | E34: 8.5 | F34: ton | G34: =I34+K34+M34 -> 0 | H34: =J34+L34+N34 -> 0 | J34: =TRUNC(E34*I34,0) -> 0 | L34: =TRUNC(E34*K34,0) -> 0 | M34: 0 | N34: =TRUNC(E34*M34,0) -> 0

Sheet 일위대가총괄표
B1: 일위대가총괄표
B3: 호 표 | C3: 품 명 | D3: 규 격 | E3: 단위 | F3: 합 계 | G3: 노무비 | H3: 재료비 | I3: 경 비 | J3: 비 고 | Z3: 당초합계 | AA3: 당초노무비 | AB3: 당초재료비 | AC3: 당초경비
B4: 제1호표 | C4: 이팝나무 전정 | D4: B11~20 | E4: 주 | F4: =G4+H4+I4 -> 0 | G4: =일위대가!J5 -> 0 | H4: =일위대가!L5 -> 0 | I4: =일위대가!N5 -> 0 | Z4: 68094 | AA4: 57923 | AB4: 3557 | AC4: 6614
B5: 제2호표 | C5: 이팝나무 전정 | D5: B21~30 | E5: 주 | F5: =G5+H5+I5 -> 0 | G5: =일위대가!J8 -> 0 | H5: =일위대가!L8 -> 0 | I5: =일위대가!N8 -> 0 | Z5: 89444 | AA5: 76071 | AB5: 4675 | AC5: 8698
B6: 제3호표 | C6: 인조잔디보호대(A) | D6: 1,060x1,300 | E6: ea | F6: =G6+H6+I6 -> 0 | G6: =일위대가!J11 -> 0 | H6: =일위대가!L11 -> 0 | I6: =일위대가!N11 -> 0 | Z6: 163721 | AA6: 6202 | AB6: 157519
B7: 제4호표 | C7: 인조잔디깔기 | D7: PVC바닥재,시트부분접합방식 | E7: ㎡ | F7: =G7+H7+I7 -> 0 | G7: =일위대가!J17 -> 0 | H7: =일위대가!L17 -> 0 | I7: =일위대가!N17 -> 0 | J7: 건축5-1-1 | Z7: 4501 | AA7: 4501
B8: 제5호표 | C8: 인조잔디보호대(3) | D8: 1.300x1,000 | E8: ea | F8: =G8+H8+I8 -> 0 | G8: =일위대가!J21 -> 0 | H8: =일위대가!L21 -> 0 | I8: =일위대가!N21 -> 0 | Z8: 154639 | AA8: 5851 | AB8: 148788
B9: 제6호표 | C9: 인조잔디보호대(B) | D9: 900x900 | E9: ea | F9: =G9+H9+I9 -> 0 | G9: =일위대가!J27 -> 0 | H9: =일위대가!L27 -> 0 | I9: =일위대가!N27 -> 0 | Z9: 96899 | AA9: 3645 | AB9: 93254
B10: 제7호표 | C10: 인조잔디보호대(C) | D10: 1,000x900 | E10: ea | F10: =G10+H10+I10 -> 0 | G10: =일위대가!J33 -> 0 | H10: =일위대가!L33 -> 0 | I10: =일위대가!N33 -> 0 | Z10: 107549 | AA10: 4050 | AB10: 103499
B11: 제8호표 | C11: 인조잔디보호대(D) | D11: 1,300x1,100 | E11: ea | F11: =G11+H11+I11 -> 0 | G11: =일위대가!J39 -> 0 | H11: =일위대가!L39 -> 0 | I11: =일위대가!N39 -> 0 | Z11: 169887 | AA11: 6436 | AB11: 163451
B12: 제9호표 | C12: 인조잔디보호대(E) | D12: 1,300x1,000 | E12: ea | F12: =G12+H12+I12 -> 0 | G12: =일위대가!J45 -> 0 | H12: =일위대가!L45 -> 0 | I12: =일위대가!N45 -> 0 | Z12: 154639 | AA12: 5851 | AB12: 148788
B13: 제10호표 | C13: 인조잔디보호대(F) | D13: 1,200x1,200 | E13: ea | F13: =G13+H13+I13 -> 0 | G13: =일위대가!J51 -> 0 | H13: =일위대가!L51 -> 0 | I13: =일위대가!N51 -> 0 | Z13: 171120 | AA13: 6481 | AB13: 164639
B14: 제11호표 | C14: 인조잔디보호대(1) | D14: 1,500x1,400 | E14: ea | F14: =G14+H14+I14 -> 0 | G14: =일위대가!J57 -> 0 | H14: =일위대가!L57 -> 0 | I14: =일위대가!N57 -> 0 | Z14: 248818 | AA14: 9452 | AB14: 239366
B15: 제12호표 | C15: 인조잔디보호대(4) | D15: 1,300x1,000 | E15: ea | F15: =G15+H15+I15 -> 0 | G15: =일위대가!J63 -> 0 | H15: =일위대가!L63 -> 0 | I15: =일위대가!N63 -> 0 | Z15: 154639 | AA15: 5851 | AB15: 148788
B16: 제13호표 | C16: 인조잔디보호대(5) | D16: 900x900 | E16: ea | F16: =G16+H16+I16 -> 0 | G16: =일위대가!J69 -> 0 | H16: =일위대가!L69 -> 0 | I16: =일위대가!N69 -> 0 | Z16: 96899 | AA16: 3645 | AB16: 93254
B17: 제14호표 | C17: 인조잔디보호대(2) | D17: 1,500x1,100 | E17: ea | F17: =G17+H17+I17 -> 0 | G17: =일위대가!J75 -> 0 | H17: =일위대가!L75 -> 0 | I17: =일위대가!N75 -> 0 | Z17: 195786 | AA17: 7426 | AB17: 188360

Sheet 일위대가
B1: 일위대가
B3: 호 표 | C3: 품 명 | D3: 규 격 | E3: 수 량 | F3: 단위 | G3: 합 계 | I3: 노무비 | K3: 재료비 | M3: 경 비 | O3: 비 고
G4: 단 가 | H4: 금 액 | I4: 단 가 | J4: 금 액 | K4: 단 가 | L4: 금 액 | M4: 단 가 | N4: 금 액
B5: 제1호표 | C5: 이팝나무 전정 | D5: B11~20 | F5: 주 | J5: =TRUNC(J6) -> 0 | L5: =TRUNC(L6) -> 0 | N5: =TRUNC(N6) -> 0
C6: 가로수약전정 | D6: B11~21미만,R13~25미만 | E6: 1 | F6: 주 | J6: =TRUNC(E6*I6,1) -> 0 | L6: =TRUNC(E6*K6,1) -> 0 | N6: =TRUNC(E6*M6,1) -> 0 | O6: 단산1참조
J7: =TRUNC(E7*I7,1) -> 0 | L7: =TRUNC(E7*K7,1) -> 0 | N7: =TRUNC(E7*M7,1) -> 0
B8: 제2호표 | C8: 이팝나무 전정 | D8: B21~30 | F8: 주 | J8: =TRUNC(J9) -> 0 | L8: =TRUNC(L9) -> 0 | N8: =TRUNC(N9) -> 0
C9: 가로수약전정 | D9: B21~31미만,R25~37미만 | E9: 1 | F9: 주 | J9: =TRUNC(E9*I9,1) -> 0 | L9: =TRUNC(E9*K9,1) -> 0 | N9: =TRUNC(E9*M9,1) -> 0 | O9: 단산2참조
J10: =TRUNC(E10*I10,1) -> 0 | L10: =TRUNC(E10*K10,1) -> 0 | N10: =TRUNC(E10*M10,1) -> 0
B11: 제3호표 | C11: 인조잔디보호대(A) | D11: 1,060x1,300 | F11: ea | J11: =TRUNC(J12+J13+J14+J15) -> 0 | L11: =TRUNC(L12+L13+L14+L15) -> 0 | N11: =TRUNC(N12+N13+N14+N15) -> 0
C12: 인조잔디깔기 | D12: PVC바닥재,시트부분접합방식 | E12: 1.378 | F12: ㎡ | J12: =TRUNC(E12*I12,1) -> 0 | L12: =TRUNC(E12*K12,1) -> 0 | N12: =TRUNC(E12*M12,1) -> 0 | O12: 일위4참조
C13: 인조잔디 | D13: T35 | E13: 1.446 | F13: ㎡ | J13: =TRUNC(E13*I13,1) -> 0 | L13: =TRUNC(E13*K13,1) -> 0 | N13: =TRUNC(E13*M13,1) -> 0
C14: 접착제(에폭시씰링재) | D14: 석재,타일,금속 접착고정용 | E14: 0.068 | F14: kg | J14: =TRUNC(E14*I14,1) -> 0 | L14: =TRUNC(E14*K14,1) -> 0 | N14: =TRUNC(E14*M14,1) -> 0
C15: 고정핀 | D15: L=200-400 | E15: 8 | F15: EA | J15: =TRUNC(E15*I15,1) -> 0 | L15: =TRUNC(E15*K15,1) -> 0 | N15: =TRUNC(E15*M15,1) -> 0
J16: =TRUNC(E16*I16,1) -> 0 | L16: =TRUNC(E16*K16,1) -> 0 | N16: =TRUNC(E16*M16,1) -> 0
B17: 제4호표 | C17: 인조잔디깔기 | D17: PVC바닥재,시트부분접합방식 | F17: ㎡ | J17: =TRUNC(J18+J19) -> 0 | L17: =TRUNC(L18+L19) -> 0 | N17: =TRUNC(N18+N19) -> 0 | O17: 건축5-1-1
C18: 특별인부 | D18: 2인/140㎡ | E18: 0.01429 | F18: 인 | J18: =TRUNC(E18*I18,1) -> 0 | L18: =TRUNC(E18*K18,1) -> 0 | N18: =TRUNC(E18*M18,1) -> 0
C19: 보통인부 | D19: 1인/140㎡ | E19: 0.00714 | F19: 인 | J19: =TRUNC(E19*I19,1) -> 0 | L19: =TRUNC(E19*K19,1) -> 0 | N19: =TRUNC(E19*M19,1) -> 0
J20: =TRUNC(E20*I20,1) -> 0 | L20: =TRUNC(E20*K20,1) -> 0 | N20: =TRUNC(E20*M20,1) -> 0
B21: 제5호표 | C21: 인조잔디보호대(3) | D21: 1.300x1,000 | F21: ea | J21: =TRUNC(J22+J23+J24+J25) -> 0 | L21: =TRUNC(L22+L23+L24+L25) -> 0 | N21: =TRUNC(N22+N23+N24+N25) -> 0
C22: 인조잔디깔기 | D22: PVC바닥재,시트부분접합방식 | E22: 1.3 | F22: ㎡ | J22: =TRUNC(E22*I22,1) -> 0 | L22: =TRUNC(E22*K22,1) -> 0 | N22: =TRUNC(E22*M22,1) -> 0 | O22: 일위4참조
C23: 인조잔디 | D23: T35 | E23: 1.365 | F23: ㎡ | J23: =TRUNC(E23*I23,1) -> 0 | L23: =TRUNC(E23*K23,1) -> 0 | N23: =TRUNC(E23*M23,1) -> 0
C24: 접착제(에폭시씰링재) | D24: 석재,타일,금속 접착고정용 | E24: 0.065 | F24: kg | J24: =TRUNC(E24*I24,1) -> 0 | L24: =TRUNC(E24*K24,1) -> 0 | N24: =TRUNC(E24*M24,1) -> 0
C25: 고정핀 | D25: L=200-400 | E25: 8 | F25: EA | J25: =TRUNC(E25*I25,1) -> 0 | L25: =TRUNC(E25*K25,1) -> 0 | N25: =TRUNC(E25*M25,1) -> 0
J26: =TRUNC(E26*I26,1) -> 0 | L26: =TRUNC(E26*K26,1) -> 0 | N26: =TRUNC(E26*M26,1) -> 0
B27: 제6호표 | C27: 인조잔디보호대(B) | D27: 900x900 | F27: ea | J27: =TRUNC(J28+J29+J30+J31) -> 0 | L27: =TRUNC(L28+L29+L30+L31) -> 0 | N27: =TRUNC(N28+N29+N30+N31) -> 0
C28: 인조잔디깔기 | D28: PVC바닥재,시트부분접합방식 | E28: 0.81 | F28: ㎡ | J28: =TRUNC(E28*I28,1) -> 0 | L28: =TRUNC(E28*K28,1) -> 0 | N28: =TRUNC(E28*M28,1) -> 0 | O28: 일위4참조
C29: 인조잔디 | D29: T35 | E29: 0.85 | F29: ㎡ | J29: =TRUNC(E29*I29,1) -> 0 | L29: =TRUNC(E29*K29,1) -> 0 | N29: =TRUNC(E29*M29,1) -> 0
C30: 접착제(에폭시씰링재) | D30: 석재,타일,금속 접착고정용 | E30: 0.04 | F30: kg | J30: =TRUNC(E30*I30,1) -> 0 | L30: =TRUNC(E30*K30,1) -> 0 | N30: =TRUNC(E30*M30,1) -> 0
C31: 고정핀 | D31: L=200-400 | E31: 8 | F31: EA | J31: =TRUNC(E31*I31,1) -> 0 | L31: =TRUNC(E31*K31,1) -> 0 | N31: =TRUNC(E31*M31,1) -> 0
J32: =TRUNC(E32*I32,1) -> 0 | L32: =TRUNC(E32*K32,1) -> 0 | N32: =TRUNC(E32*M32,1) -> 0
B33: 제7호표 | C33: 인조잔디보호대(C) | D33: 1,000x900 | F33: ea | J33: =TRUNC(J34+J35+J36+J37) -> 0 | L33: =TRUNC(L34+L35+L36+L37) -> 0 | N33: =TRUNC(N34+N35+N36+N37) -> 0
C34: 인조잔디깔기 | D34: PVC바닥재,시트부분접합방식 | E34: 0.9 | F34: ㎡ | J34: =TRUNC(E34*I34,1) -> 0 | L34: =TRUNC(E34*K34,1) -> 0 | N34: =TRUNC(E34*M34,1) -> 0 | O34: 일위4참조
C35: 인조잔디 | D35: T35 | E35: 0.945 | F35: ㎡ | J35: =TRUNC(E35*I35,1) -> 0 | L35: =TRUNC(E35*K35,1) -> 0 | N35: =TRUNC(E35*M35,1) -> 0
C36: 접착제(에폭시씰링재) | D36: 석재,타일,금속 접착고정용 | E36: 0.045 | F36: kg | J36: =TRUNC(E36*I36,1) -> 0 | L36: =TRUNC(E36*K36,1) -> 0 | N36: =TRUNC(E36*M36,1) -> 0
C37: 고정핀 | D37: L=200-400 | E37: 8 | F37: EA | J37: =TRUNC(E37*I37,1) -> 0 | L37: =TRUNC(E37*K37,1) -> 0 | N37: =TRUNC(E37*M37,1) -> 0
J38: =TRUNC(E38*I38,1) -> 0 | L38: =TRUNC(E38*K38,1) -> 0 | N38: =TRUNC(E38*M38,1) -> 0
B39: 제8호표 | C39: 인조잔디보호대(D) | D39: 1,300x1,100 | F39: ea | J39: =TRUNC(J40+J41+J42+J43) -> 0 | L39: =TRUNC(L40+L41+L42+L43) -> 0 | N39: =TRUNC(N40+N41+N42+N43) -> 0
C40: 인조잔디깔기 | D40: PVC바닥재,시트부분접합방식 | E40: 1.43 | F40: ㎡ | J40: =TRUNC(E40*I40,1) -> 0 | L40: =TRUNC(E40*K40,1) -> 0 | N40: =TRUNC(E40*M40,1) -> 0 | O40: 일위4참조
C41: 인조잔디 | D41: T35 | E41: 1.501 | F41: ㎡ | J41: =TRUNC(E41*I41,1) -> 0 | L41: =TRUNC(E41*K41,1) -> 0 | N41: =TRUNC(E41*M41,1) -> 0
C42: 접착제(에폭시씰링재) | D42: 석재,타일,금속 접착고정용 | E42: 0.071 | F42: kg | J42: =TRUNC(E42*I42,1) -> 0 | L42: =TRUNC(E42*K42,1) -> 0 | N42: =TRUNC(E42*M42,1) -> 0
C43: 고정핀 | D43: L=200-400 | E43: 8 | F43: EA | J43: =TRUNC(E43*I43,1) -> 0 | L43: =TRUNC(E43*K43,1) -> 0 | N43: =TRUNC(E43*M43,1) -> 0
J44: =TRUNC(E44*I44,1) -> 0 | L44: =TRUNC(E44*K44,1) -> 0 | N44: =TRUNC(E44*M44,1) -> 0
B45: 제9호표 | C45: 인조잔디보호대(E) | D45: 1,300x1,000 | F45: ea | J45: =TRUNC(J46+J47+J48+J49) -> 0 | L45: =TRUNC(L46+L47+L48+L49) -> 0 | N45: =TRUNC(N46+N47+N48+N49) -> 0
C46: 인조잔디깔기 | D46: PVC바닥재,시트부분접합방식 | E46: 1.3 | F46: ㎡ | J46: =TRUNC(E46*I46,1) -> 0 | L46: =TRUNC(E46*K46,1) -> 0 | N46: =TRUNC(E46*M46,1) -> 0 | O46: 일위4참조
C47: 인조잔디 | D47: T35 | E47: 1.365 | F47: ㎡ | J47: =TRUNC(E47*I47,1) -> 0 | L47: =TRUNC(E47*K47,1) -> 0 | N47: =TRUNC(E47*M47,1) -> 0
C48: 접착제(에폭시씰링재) | D48: 석재,타일,금속 접착고정용 | E48: 0.065 | F48: kg | J48: =TRUNC(E48*I48,1) -> 0 | L48: =TRUNC(E48*K48,1) -> 0 | N48: =TRUNC(E48*M48,1) -> 0
C49: 고정핀 | D49: L=200-400 | E49: 8 | F49: EA | J49: =TRUNC(E49*I49,1) -> 0 | L49: =TRUNC(E49*K49,1) -> 0 | N49: =TRUNC(E49*M49,1) -> 0
J50: =TRUNC(E50*I50,1) -> 0 | L50: =TRUNC(E50*K50,1) -> 0 | N50: =TRUNC(E50*M50,1) -> 0
B51: 제10호표 | C51: 인조잔디보호대(F) | D51: 1,200x1,200 | F51: ea | J51: =TRUNC(J52+J53+J54+J55) -> 0 | L51: =TRUNC(L52+L53+L54+L55) -> 0 | N51: =TRUNC(N52+N53+N54+N55) -> 0
C52: 인조잔디깔기 | D52: PVC바닥재,시트부분접합방식 | E52: 1.44 | F52: ㎡ | J52: =TRUNC(E52*I52,1) -> 0 | L52: =TRUNC(E52*K52,1) -> 0 | N52: =TRUNC(E52*M52,1) -> 0 | O52: 일위4참조
C53: 인조잔디 | D53: T35 | E53: 1.512 | F53: ㎡ | J53: =TRUNC(E53*I53,1) -> 0 | L53: =TRUNC(E53*K53,1) -> 0 | N53: =TRUNC(E53*M53,1) -> 0
C54: 접착제(에폭시씰링재) | D54: 석재,타일,금속 접착고정용 | E54: 0.072 | F54: kg | J54: =TRUNC(E54*I54,1) -> 0 | L54: =TRUNC(E54*K54,1) -> 0 | N54: =TRUNC(E54*M54,1) -> 0
C55: 고정핀 | D55: L=200-400 | E55: 8 | F55: EA | J55: =TRUNC(E55*I55,1) -> 0 | L55: =TRUNC(E55*K55,1) -> 0 | N55: =TRUNC(E55*M55,1) -> 0
J56: =TRUNC(E56*I56,1) -> 0 | L56: =TRUNC(E56*K56,1) -> 0 | N56: =TRUNC(E56*M56,1) -> 0
B57: 제11호표 | C57: 인조잔디보호대(1) | D57: 1,500x1,400 | F57: ea | J57: =TRUNC(J58+J59+J60+J61) -> 0 | L57: =TRUNC(L58+L59+L60+L61) -> 0 | N57: =TRUNC(N58+N59+N60+N61) -> 0
C58: 인조잔디깔기 | D58: PVC바닥재,시트부분접합방식 | E58: 2.1 | F58: ㎡ | J58: =TRUNC(E58*I58,1) -> 0 | L58: =TRUNC(E58*K58,1) -> 0 | N58: =TRUNC(E58*M58,1) -> 0 | O58: 일위4참조
C59: 인조잔디 | D59: T35 | E59: 2.205 | F59: ㎡ | J59: =TRUNC(E59*I59,1) -> 0 | L59: =TRUNC(E59*K59,1) -> 0 | N59: =TRUNC(E59*M59,1) -> 0
C60: 접착제(에폭시씰링재) | D60: 석재,타일,금속 접착고정용 | E60: 0.105 | F60: kg | J60: =TRUNC(E60*I60,1) -> 0 | L60: =TRUNC(E60*K60,1) -> 0 | N60: =TRUNC(E60*M60,1) -> 0
C61: 고정핀 | D61: L=200-400 | E61: 8 | F61: EA | J61: =TRUNC(E61*I61,1) -> 0 | L61: =TRUNC(E61*K61,1) -> 0 | N61: =TRUNC(E61*M61,1) -> 0
J62: =TRUNC(E62*I62,1) -> 0 | L62: =TRUNC(E62*K62,1) -> 0 | N62: =TRUNC(E62*M62,1) -> 0
B63: 제12호표 | C63: 인조잔디보호대(4) | D63: 1,300x1,000 | F63: ea | J63: =TRUNC(J64+J65+J66+J67) -> 0 | L63: =TRUNC(L64+L65+L66+L67) -> 0 | N63: =TRUNC(N64+N65+N66+N67) -> 0
C64: 인조잔디깔기 | D64: PVC바닥재,시트부분접합방식 | E64: 1.3 | F64: ㎡ | J64: =TRUNC(E64*I64,1) -> 0 | L64: =TRUNC(E64*K64,1) -> 0 | N64: =TRUNC(E64*M64,1) -> 0 | O64: 일위4참조
C65: 인조잔디 | D65: T35 | E65: 1.365 | F65: ㎡ | J65: =TRUNC(E65*I65,1) -> 0 | L65: =TRUNC(E65*K65,1) -> 0 | N65: =TRUNC(E65*M65,1) -> 0
C66: 접착제(에폭시씰링재) | D66: 석재,타일,금속 접착고정용 | E66: 0.065 | F66: kg | J66: =TRUNC(E66*I66,1) -> 0 | L66: =TRUNC(E66*K66,1) -> 0 | N66: =TRUNC(E66*M66,1) -> 0
C67: 고정핀 | D67: L=200-400 | E67: 8 | F67: EA | J67: =TRUNC(E67*I67,1) -> 0 | L67: =TRUNC(E67*K67,1) -> 0 | N67: =TRUNC(E67*M67,1) -> 0
J68: =TRUNC(E68*I68,1) -> 0 | L68: =TRUNC(E68*K68,1) -> 0 | N68: =TRUNC(E68*M68,1) -> 0
B69: 제13호표 | C69: 인조잔디보호대(5) | D69: 900x900 | F69: ea | J69: =TRUNC(J70+J71+J72+J73) -> 0 | L69: =TRUNC(L70+L71+L72+L73) -> 0 | N69: =TRUNC(N70+N71+N72+N73) -> 0
C70: 인조잔디깔기 | D70: PVC바닥재,시트부분접합방식 | E70: 0.81 | F70: ㎡ | J70: =TRUNC(E70*I70,1) -> 0 | L70: =TRUNC(E70*K70,1) -> 0 | N70: =TRUNC(E70*M70,1) -> 0 | O70: 일위4참조
C71: 인조잔디 | D71: T35 | E71: 0.85 | F71: ㎡ | J71: =TRUNC(E71*I71,1) -> 0 | L71: =TRUNC(E71*K71,1) -> 0 | N71: =TRUNC(E71*M71,1) -> 0
C72: 접착제(에폭시씰링재) | D72: 석재,타일,금속 접착고정용 | E72: 0.04 | F72: kg | J72: =TRUNC(E72*I72,1) -> 0 | L72: =TRUNC(E72*K72,1) -> 0 | N72: =TRUNC(E72*M72,1) -> 0
C73: 고정핀 | D73: L=200-400 | E73: 8 | F73: EA | J73: =TRUNC(E73*I73,1) -> 0 | L73: =TRUNC(E73*K73,1) -> 0 | N73: =TRUNC(E73*M73,1) -> 0
J74: =TRUNC(E74*I74,1) -> 0 | L74: =TRUNC(E74*K74,1) -> 0 | N74: =TRUNC(E74*M74,1) -> 0
B75: 제14호표 | C75: 인조잔디보호대(2) | D75: 1,500x1,100 | F75: ea | J75: =TRUNC(J76+J77+J78+J79) -> 0 | L75: =TRUNC(L76+L77+L78+L79) -> 0 | N75: =TRUNC(N76+N77+N78+N79) -> 0
C76: 인조잔디깔기 | D76: PVC바닥재,시트부분접합방식 | E76: 1.65 | F76: ㎡ | J76: =TRUNC(E76*I76,1) -> 0 | L76: =TRUNC(E76*K76,1) -> 0 | N76: =TRUNC(E76*M76,1) -> 0 | O76: 일위4참조
C77: 인조잔디 | D77: T35 | E77: 1.732 | F77: ㎡ | J77: =TRUNC(E77*I77,1) -> 0 | L77: =TRUNC(E77*K77,1) -> 0 | N77: =TRUNC(E77*M77,1) -> 0
C78: 접착제(에폭시씰링재) | D78: 석재,타일,금속 접착고정용 | E78: 0.082 | F78: kg | J78: =TRUNC(E78*I78,1) -> 0 | L78: =TRUNC(E78*K78,1) -> 0 | N78: =TRUNC(E78*M78,1) -> 0
C79: 고정핀 | D79: L=200-400 | E79: 8 | F79: EA | J79: =TRUNC(E79*I79,1) -> 0 | L79: =TRUNC(E79*K79,1) -> 0 | N79: =TRUNC(E79*M79,1) -> 0
J80: =TRUNC(E80*I80,1) -> 0 | L80: =TRUNC(E80*K80,1) -> 0 | N80: =TRUNC(E80*M80,1) -> 0

Sheet 기계경비적용기준
B1: 기계경비적용기준
C4: 환 율 (/￦) | G4: 기본재료비
C6: 화 폐 | D6: 환 율 | E6: 비 고 | G6: No | H6: 품 명 | I6: 규 격 | J6: 단위 | K6: 단 가
C7: 달러($) | D7: 1359 | E7: 2026.9.4 대구시
C8: 엔(100￥)
C9: 유로(E)
C10: 마르크(M)
C11: 파운드(L)
C18: 노임계수 | G18: 계산결과값 자리수
C20: No | D20: 노임계수 | E20: 계산값
C21: 1 | D21: 1/8*16/12*25/20 | E21: =1/8*16/12*25/20 -> 0.20833333
C22: 2 | D22: 1/8*16/12*25/20*24/15 | E22: =1/8*16/12*25/20*24/15 -> 0.33333333 | G22: 경 비 소수 1 미만 절하
C23: 3 | D23: 1/8*16/12*25/20*12/10 | E23: =1/8*16/12*25/20*12/10 -> 0.25
C24: 4 | D24: 1/8*16/12*25/20*14/12 | E24: =1/8*16/12*25/20*14/12 -> 0.24305556 | G24: 재료비 소수 1 미만 절하
C25: 5 | D25: 1/8*16/12*25/20*24/5 | E25: =1/8*16/12*25/20*24/5 -> 1
G26: 노무비 소수 1 미만 절하
