Workbook
Name _: [1]예가표!#REF!
Name _??1????: '[2]일위대가(계측기설치)'!#REF!
Name _??2????: '[2]일위대가(계측기설치)'!#REF!
Name _??3????: '[2]일위대가(계측기설치)'!#REF!
Name _??4????: '[2]일위대가(계측기설치)'!#REF!
Name _??5????: '[2]일위대가(계측기설치)'!#REF!
Name _??6????: '[2]일위대가(계측기설치)'!#REF!
Name __: [1]예가표!#REF!
Name ____: [1]예가표!#REF!
Name ___________PRN2: #REF!
Name ___________PRN3: #REF!
Name ___________PRN4: #REF!
Name ___________PRN6: #REF!
Name ___________PRN7: #REF!
Name _________PRN2: #REF!
Name _________PRN3: #REF!
Name _________PRN4: #REF!
Name _________PRN6: #REF!
Name _________PRN7: #REF!
Name _______A67000: #REF!
Name _______NMB96: #REF!
Name _______PRN2: #REF!
Name _______PRN3: #REF!
Name _______PRN4: #REF!
Name _______PRN6: #REF!
Name _______PRN7: #REF!
Name ______A67000: #REF!
Name ______DOG1: #REF!
Name ______DOG2: #REF!
Name ______DOG22: #REF!
Name ______DOG3: #REF!
Name ______DOG33: #REF!
Name ______DOG4: #REF!
Name ______NMB96: #REF!
Name ______PI48: #REF!
Name ______PI60: #REF!
Name ______RO110: #REF!
Name ______RO22: #REF!
Name ______RO35: #REF!
Name ______RO45: #REF!
Name ______RO60: #REF!
Name ______RO80: #REF!
Name ______SUB1: #REF!
Name ______SUB2: #REF!
Name ______SUB3: #REF!
Name ______sub4: #REF!
Name ______sub5: #REF!
Name ______TON1: #REF!
Name ______TON2: #REF!
Name ______WW2: #REF!
Name ______WW3: #REF!
Name ______WW6: #REF!
Name ______WW7: #REF!
Name ______WW8: #REF!
Name _____A67000: #REF!
Name _____CLP1: #REF!
Name _____DOG1: #REF!
Name _____DOG2: #REF!
Name _____DOG22: #REF!
Name _____DOG3: #REF!

Sheet 원가계산서
B1: 공 사 원 가 계 산 서
B2: 공사명 : 세계유산주변 한식담장 경관조명 설치사업
B3: 비 목 | E3: 금 액 | F3: 구 성 비 | G3: 비 고
A4: A1 | B4: 순 공 사 원 가 | C4: 재 료 비 | D4: 직 접 재 료 비 | E4: =TRUNC(공종별집계표!F5, 0) -> 0
A5: A2 | D5: 간 접 재 료 비 | E5: 0
A6: A3 | D6: 작업설, 부산물(△) | E6: 0
A7: AS | D7: [ 소 계 ] | E7: =TRUNC(E4+E5-E6, 0) -> 0
A8: B1 | C8: 노 무 비 | D8: 직 접 노 무 비 | E8: =TRUNC(공종별집계표!H5, 0) -> 0
A9: B2 | D9: 간 접 노 무 비 | E9: =TRUNC(E8*0.191, 0) -> 0 | F9: 직접노무비 * 19.1%
A10: BS | D10: [ 소 계 ] | E10: =TRUNC(E8+E9, 0) -> 0
A11: C2 | C11: 경 비 | D11: 기 계 경 비 | E11: =TRUNC(공종별집계표!J5, 0) -> 0
A12: C4 | D12: 산 재 보 험 료 | E12: =TRUNC(E10*0.0356, 0) -> 0 | F12: 노무비 * 3.56%
A13: C5 | D13: 고 용 보 험 료 | E13: =TRUNC(E10*0.0101, 0) -> 0 | F13: 노무비 * 1.01%
A14: C6 | D14: 국민 건강 보험료 | E14: =TRUNC(E8*0.03595, 0) -> 0 | F14: 직접노무비 * 3.595%
A15: C7 | D15: 국민 연금 보험료 | E15: =TRUNC(E8*0.0475, 0) -> 0 | F15: 직접노무비 * 4.75%
A16: CB | D16: 노인장기요양보험료 | E16: =TRUNC(E14*0.1314, 0) -> 0 | F16: 건강보험료 * 13.14%
A17: C8 | D17: 퇴직 공제 부금비 | E17: =TRUNC(E8*0.023, 0) -> 0 | F17: 직접노무비 * 2.3%
A18: CA | D18: 산업안전보건관리비 | E18: =MIN(E19:E20) -> 0 | F18: (재료비+직노)*3.15%*1.2 | G18: A와 B중 작은금액 적용
E19: =(E7+E8+J20)*0.0315 -> 0 | F19: (재료비+직노+도급자관급/1.1)*3.15% | G19: A | J19: 도급자관급
E20: =(E7+E8)*0.0315*1.2 -> 0 | F20: (재료비+직노)*3.15%*1.2 | G20: B | I20: =공종별내역서!L143+공종별내역서!L166 -> 0 | J20: =I20/1.1 -> 0
A21: CC | D21: 석면부담금 | E21: =TRUNC(E10*0.00006, 0) -> 0 | F21: 노무비 * 0.006%
A22: CD | D22: 임금채권부담금 | E22: =TRUNC(E10*0.0009, 0) -> 0 | F22: 노무비 * 0.09%
A23: CG | D23: 기 타 경 비 | E23: =TRUNC((E7+E10)*0.05, 0) -> 0 | F23: (재료비+노무비) * 5%
A24: CS | D24: [ 소 계 ] | E24: =TRUNC(E11+E12+E13+E14+E15+E17+E18+E16+E21+E22+E23, 0) -> 0
A25: S1 | B25: 계 | E25: =TRUNC(E7+E10+E24, 0) -> 0
A26: D1 | B26: 일 반 관 리 비 | E26: =TRUNC(E25*0.08, 0) -> 0 | F26: 계 * 8%
A27: D2 | B27: 이 윤 | E27: =TRUNC((E10+E24+E26)*0.15, 0) -> 0 | F27: (노무비+경비+일반관리비) * 15%
B28: 폐 기 물 처 리 비 | E28: =공종별집계표!L10 -> 0
A29: D9 | B29: 공 급 가 액 | E29: =TRUNC(E25+E26+E27+E28, 0) -> 0
B30: 전기공사 손해배상공제 수수료 | E30: =TRUNC((E29+J20)*0.0026477, -2) -> 0 | F30: 순계약금액 * 0.26477% | G30: 백원단위미만절사
A31: DB | B31: 부 가 가 치 세 | E31: =TRUNC((E29+E30)*0.1, 0) -> 0 | F31: 공급가액 * 10%
A32: DH | B32: 도 급 액 | E32: =TRUNC(E29+E30+E31, -3) -> 0 | G32: 천원단위미만절사
B33: 관 급 자 재 비 [도급자설치 관급자재] | E33: =공종별집계표!L11+공종별집계표!L12 -> 0
B34: 한전 시설 부담금
A35: S2 | B35: 총 공 사 비 | E35: =TRUNC(E32+E33+E34, 0) -> 0

Sheet 공종별집계표
A1: 공 종 별 집 계 표
A2: [ 세계유산주변 한식담장 경관조명 설치사업 ]
A3: 품 명 | B3: 규 격 | C3: 단위 | D3: 수량 | E3: 재 료 비 | G3: 노 무 비 | I3: 경 비 | K3: 합 계 | M3: 비 고 | N3: 공종코드 | O3: 변수 | P3: 상위공종 | Q3: 공종구분 | R3: 공종레벨 | S3: 공종소계 | T3: 원가계산서 연결금액
E4: 단 가 | F4: 금 액 | G4: 단 가 | H4: 금 액 | I4: 단 가 | J4: 금 액 | K4: 단 가 | L4: 금 액
A5: 01 세계유산주변 한식담장 경관조명 설치사업 | D5: 1 | E5: =F6+F8+F9 -> 0 | F5: =E5*D5 -> 0 | G5: =H6+H8+H9 -> 0 | H5: =G5*D5 -> 0 | I5: =J6+J8+J9 -> 0 | J5: =I5*D5 -> 0 | K5: =E5+G5+I5 -> 0 | L5: =F5+H5+J5 -> 0 | N5: 01 | R5: 1
A6: 0101 경관조명 설비 공사 | D6: 1 | E6: =F7 -> 0 | F6: =E6*D6 -> 0 | G6: =H7 -> 0 | H6: =G6*D6 -> 0 | I6: =J7 -> 0 | J6: =I6*D6 -> 0 | K6: =E6+G6+I6 -> 0 | L6: =F6+H6+J6 -> 0 | N6: 0101 | P6: 01 | R6: 2
A7: 010101 경관조명[LP-01] | D7: 1 | E7: =공종별내역서!F51 -> 0 | F7: =E7*D7 -> 0 | G7: =공종별내역서!H51 -> 0 | H7: =G7*D7 -> 0 | I7: =공종별내역서!J51 -> 0 | J7: =I7*D7 -> 0 | K7: =E7+G7+I7 -> 0 | L7: =F7+H7+J7 -> 0 | N7: 010101 | P7: 0101 | R7: 3
A8: 0102 교통통제 및 안전처리비 | D8: 1 | F8: =E8*D8 -> 0 | G8: =공종별내역서!L75 -> 0 | H8: =G8*D8 -> 0 | J8: =I8*D8 -> 0 | K8: =E8+G8+I8 -> 0 | L8: =F8+H8+J8 -> 0 | N8: 010114 | P8: 0101 | R8: 3
A9: 0103 폐기물상차비 | D9: 1 | F9: =E9*D9 -> 0 | G9: =공종별내역서!L76 -> 0 | H9: =G9*D9 -> 0 | I9: =공종별내역서!L99 -> 0 | J9: =I9*D9 -> 0 | K9: =E9+G9+I9 -> 0 | L9: =F9+H9+J9 -> 0 | N9: 010114 | P9: 0101 | R9: 3
A10: 0104 폐기물처리공사 | D10: 1 | F10: =E10*D10 -> 0 | G10: =H13 -> 0 | H10: =G10*D10 -> 0 | I10: =공종별내역서!L123 -> 0 | J10: =I10*D10 -> 0 | K10: =E10+G10+I10 -> 0 | L10: =F10+H10+J10 -> 0 | N10: 0102 | P10: 01 | R10: 2
A11: 0105 관급자재(경관조명 분전반) | D11: 1 | E11: =공종별내역서!L147 -> 0 | F11: =E11*D11 -> 0 | G11: =H12 -> 0 | H11: =G11*D11 -> 0 | I11: =J12 -> 0 | J11: =I11*D11 -> 0 | K11: =E11+G11+I11 -> 0 | L11: =F11+H11+J11 -> 0 | N11: 0102 | P11: 01 | R11: 2
A12: 0106 관급자재(경관조명기구) | D12: 1 | E12: =공종별내역서!L170 -> 0 | F12: =E12*D12 -> 0 | G12: =H13 -> 0 | H12: =G12*D12 -> 0 | I12: =J13 -> 0 | J12: =I12*D12 -> 0 | K12: =E12+G12+I12 -> 0 | L12: =F12+H12+J12 -> 0 | N12: 0102 | P12: 01 | R12: 2
A27: [ 합 계 ] | F27: =F5 -> 0 | H27: =H5 -> 0 | J27: =J5 -> 0 | L27: =L5 -> 0

Sheet 공종별내역서
A1: [ 세계유산주변 한식담장 경관조명 설치사업 ]
A2: 품 명 | B2: 규 격 | C2: 단위 | D2: 수량 | E2: 재 료 비 | G2: 노 무 비 | I2: 경 비 | K2: 합 계 | M2: 비 고 | N2: 품목코드 | O2: 변수 | P2: 설정 | Q2: 공종코드 | R2: 일위 | S2: 단산 | T2: 자재 | U2: 손료적용 | V2: 손료저장 | W2: 적용율 | X2: JUK1 | Y2: JUK2 | Z2: JUK3 | AA2: JUK4 | AB2: JUK5 | AC2: JUK6 | AD2: JUK7 | AE2: JUK8 | AF2: JUK9 | AG2: JUK10 | AH2: JUK11 | AI2: JUK12 | AJ2: JUK13 | AK2: JUK14 | AL2: JUK15 | AM2: JUK16 | AN2: JUK17 | AO2: JUK18 | AP2: JUK19 | AQ2: JUK20 | AR2: 자재구분 | AS2: 공종구분 | AT2: 공종레벨 | AU2: 공종+자재 | AV2: 고유번호
E3: 단 가 | F3: 금 액 | G3: 단 가 | H3: 금 액 | I3: 단 가 | J3: 금 액 | K3: 단 가 | L3: 금 액
A4: 010101 경관조명[LP-01 | Q4: 010101
A5: 조명기구(LINE BAR) | B5: LED 10W | C5: 개 | D5: 498 | E5: =TRUNC(단가대비표!O22,0) -> 0 | F5: =TRUNC(E5*D5, 0) -> 0 | G5: =TRUNC(단가대비표!P22,0) -> 0 | H5: =TRUNC(G5*D5, 0) -> 0 | I5: =TRUNC(단가대비표!V22,0) -> 0 | J5: =TRUNC(I5*D5, 0) -> 0 | K5: =TRUNC(E5+G5+I5, 0) -> 0 | L5: =TRUNC(F5+H5+J5, 0) -> 0 | M5: 관급자재 | N5: 54160289A8B21AFF19D5F0702D1A65A2B302BD | Q5: 010101 | R5: F | S5: F | T5: T | AU5: 01010154160289A8B21AFF19D5F0702D1A65A2B302BD | AV5: 14144
A6: 경관조명 분전반 | B6: 무선원격양방향, 8회로 | C6: 대 | D6: 1 | E6: =TRUNC(단가대비표!O37,0) -> 0 | F6: =TRUNC(E6*D6, 0) -> 0 | G6: =TRUNC(단가대비표!P37,0) -> 0 | H6: =TRUNC(G6*D6, 0) -> 0 | I6: =TRUNC(단가대비표!V37,0) -> 0 | J6: =TRUNC(I6*D6, 0) -> 0 | K6: =TRUNC(E6+G6+I6, 0) -> 0 | L6: =TRUNC(F6+H6+J6, 0) -> 0 | M6: 관급자재 | N6: 54160289A886DE24198CF61A65168F6F7C2FE6 | Q6: 010101 | R6: F | S6: F | T6: T | AU6: 01010154160289A886DE24198CF61A65168F6F7C2FE6 | AV6: 14109
A7: 원격점검장치 | B7: 안테나, 통신모듈, zct내장 | C7: EA | D7: 1 | E7: =TRUNC(단가대비표!O38,0) -> 0 | F7: =TRUNC(E7*D7, 0) -> 0 | G7: =TRUNC(단가대비표!P38,0) -> 0 | H7: =TRUNC(G7*D7, 0) -> 0 | I7: =TRUNC(단가대비표!V38,0) -> 0 | J7: =TRUNC(I7*D7, 0) -> 0 | K7: =TRUNC(E7+G7+I7, 0) -> 0 | L7: =TRUNC(F7+H7+J7, 0) -> 0 | M7: 관급자재 | N7: 54160289A886DE24198CF61A65168F6F7DCEDF | Q7: 010101 | R7: F | S7: F | T7: T | AU7: 01010154160289A886DE24198CF61A65168F6F7DCEDF | AV7: 14143
A8: 조명기구(LINE BAR) 설치 | B8: LED 10W | C8: EA | D8: 498 | E8: =TRUNC(일위대가목록!E4,0) -> 0 | F8: =TRUNC(E8*D8, 0) -> 0 | G8: =TRUNC(일위대가목록!F4,0) -> 0 | H8: =TRUNC(G8*D8, 0) -> 0 | I8: =TRUNC(일위대가목록!G4,0) -> 0 | J8: =TRUNC(I8*D8, 0) -> 0 | K8: =TRUNC(E8+G8+I8, 0) -> 0 | L8: =TRUNC(F8+H8+J8, 0) -> 0 | M8: 호표 1 | N8: 5371024975D9C34019CCFCC76818FE | Q8: 010101 | R8: T | S8: F | T8: F | AU8: 0101015371024975D9C34019CCFCC76818FE | AV8: 14150
A9: 경관조명 분전반 설치 | B9: 무선원격양방향, 8회로 | C9: 개소 | D9: 1 | E9: =TRUNC(일위대가목록!E5,0) -> 0 | F9: =TRUNC(E9*D9, 0) -> 0 | G9: =TRUNC(일위대가목록!F5,0) -> 0 | H9: =TRUNC(G9*D9, 0) -> 0 | I9: =TRUNC(일위대가목록!G5,0) -> 0 | J9: =TRUNC(I9*D9, 0) -> 0 | K9: =TRUNC(E9+G9+I9, 0) -> 0 | L9: =TRUNC(F9+H9+J9, 0) -> 0 | M9: 호표 2 | N9: 53710249751EB2BC19277323091525 | Q9: 010101 | R9: T | S9: F | T9: F | AU9: 01010153710249751EB2BC19277323091525 | AV9: 14188
A10: 경관조명 분전반기초 | B10: 500X675X850X700 | C10: 개소 | D10: 1 | E10: =TRUNC(일위대가목록!E6,0) -> 0 | F10: =TRUNC(E10*D10, 0) -> 0 | G10: =TRUNC(일위대가목록!F6,0) -> 0 | H10: =TRUNC(G10*D10, 0) -> 0 | I10: =TRUNC(일위대가목록!G6,0) -> 0 | J10: =TRUNC(I10*D10, 0) -> 0 | K10: =TRUNC(E10+G10+I10, 0) -> 0 | L10: =TRUNC(F10+H10+J10, 0) -> 0 | M10: 호표 3 | N10: 53710249751EB2BC19277323091522 | Q10: 010101 | R10: T | S10: F | T10: F | AU10: 01010153710249751EB2BC19277323091522 | AV10: 14189
A11: 차단기 | B11: MCCB 2P 50AF | C11: EA | D11: 7 | E11: =TRUNC(일위대가목록!E7,0) -> 0 | F11: =TRUNC(E11*D11, 0) -> 0 | G11: =TRUNC(일위대가목록!F7,0) -> 0 | H11: =TRUNC(G11*D11, 0) -> 0 | I11: =TRUNC(일위대가목록!G7,0) -> 0 | J11: =TRUNC(I11*D11, 0) -> 0 | K11: =TRUNC(E11+G11+I11, 0) -> 0 | L11: =TRUNC(F11+H11+J11, 0) -> 0 | M11: 호표 4 | N11: 5371024975D9C351192132B1E4138B | Q11: 010101 | R11: T | S11: F | T11: F | AU11: 0101015371024975D9C351192132B1E4138B | AV11: 14164
A12: 차단기 | B12: ELB 2P 30AF | C12: EA | D12: 28 | E12: =TRUNC(일위대가목록!E8,0) -> 0 | F12: =TRUNC(E12*D12, 0) -> 0 | G12: =TRUNC(일위대가목록!F8,0) -> 0 | H12: =TRUNC(G12*D12, 0) -> 0 | I12: =TRUNC(일위대가목록!G8,0) -> 0 | J12: =TRUNC(I12*D12, 0) -> 0 | K12: =TRUNC(E12+G12+I12, 0) -> 0 | L12: =TRUNC(F12+H12+J12, 0) -> 0 | M12: 호표 5 | N12: 5371024975D9C351192132B1E4138A | Q12: 010101 | R12: T | S12: F | T12: F | AU12: 0101015371024975D9C351192132B1E4138A | AV12: 14163
A13: SMPS BOX(옥외노출) | B13: STS, 500X600X150 | C13: 면 | D13: 7 | E13: =TRUNC(일위대가목록!E9,0) -> 0 | F13: =TRUNC(E13*D13, 0) -> 0 | G13: =TRUNC(일위대가목록!F9,0) -> 0 | H13: =TRUNC(G13*D13, 0) -> 0 | I13: =TRUNC(일위대가목록!G9,0) -> 0 | J13: =TRUNC(I13*D13, 0) -> 0 | K13: =TRUNC(E13+G13+I13, 0) -> 0 | L13: =TRUNC(F13+H13+J13, 0) -> 0 | M13: 호표 6 | N13: 53710249751EB2BC19277323091524 | Q13: 010101 | R13: T | S13: F | T13: F | AU13: 01010153710249751EB2BC19277323091524 | AV13: 14177
A14: SMPS BOX 기초 | B14: 400X600X600 | C14: 개소 | D14: 7 | E14: =TRUNC(일위대가목록!E10,0) -> 0 | F14: =TRUNC(E14*D14, 0) -> 0 | G14: =TRUNC(일위대가목록!F10,0) -> 0 | H14: =TRUNC(G14*D14, 0) -> 0 | I14: =TRUNC(일위대가목록!G10,0) -> 0 | J14: =TRUNC(I14*D14, 0) -> 0 | K14: =TRUNC(E14+G14+I14, 0) -> 0 | L14: =TRUNC(F14+H14+J14, 0) -> 0 | M14: 호표 7 | N14: 53710249751EB2BC192773230916CB | Q14: 010101 | R14: T | S14: F | T14: F | AU14: 01010153710249751EB2BC192773230916CB | AV14: 14178
A15: SMPS(방수형) | B15: 300W | C15: 개 | D15: 20 | E15: =TRUNC(단가대비표!O49,0) -> 0 | F15: =TRUNC(E15*D15, 0) -> 0 | G15: =TRUNC(단가대비표!P49,0) -> 0 | H15: =TRUNC(G15*D15, 0) -> 0 | I15: =TRUNC(단가대비표!V49,0) -> 0 | J15: =TRUNC(I15*D15, 0) -> 0 | K15: =TRUNC(E15+G15+I15, 0) -> 0 | L15: =TRUNC(F15+H15+J15, 0) -> 0 | N15: 54160289A886DE5119D49DE3A61DB5B0A0451B | Q15: 010101 | R15: F | S15: F | T15: T | AU15: 01010154160289A886DE5119D49DE3A61DB5B0A0451B | AV15: 14179
A16: SMPS(방수형) | B16: 350W | C16: 개 | D16: 8 | E16: =TRUNC(단가대비표!O50,0) -> 0 | F16: =TRUNC(E16*D16, 0) -> 0 | G16: =TRUNC(단가대비표!P50,0) -> 0 | H16: =TRUNC(G16*D16, 0) -> 0 | I16: =TRUNC(단가대비표!V50,0) -> 0 | J16: =TRUNC(I16*D16, 0) -> 0 | K16: =TRUNC(E16+G16+I16, 0) -> 0 | L16: =TRUNC(F16+H16+J16, 0) -> 0 | N16: 54160289A886DE5119D49DE3A61DB5B0A04514 | Q16: 010101 | R16: F | S16: F | T16: T | AU16: 01010154160289A886DE5119D49DE3A61DB5B0A04514 | AV16: 14180
A17: 전기맨홀 | B17: 800*800*800 | C17: 조 | D17: 1 | E17: =TRUNC(일위대가목록!E11,0) -> 0 | F17: =TRUNC(E17*D17, 0) -> 0 | G17: =TRUNC(일위대가목록!F11,0) -> 0 | H17: =TRUNC(G17*D17, 0) -> 0 | I17: =TRUNC(일위대가목록!G11,0) -> 0 | J17: =TRUNC(I17*D17, 0) -> 0 | K17: =TRUNC(E17+G17+I17, 0) -> 0 | L17: =TRUNC(F17+H17+J17, 0) -> 0 | M17: 호표 8 | N17: 53710249751EB2CE19877D71101304 | Q17: 010101 | R17: T | S17: F | T17: F | AU17: 01010153710249751EB2CE19877D71101304 | AV17: 14112
A18: 접지공사(분전반) | B18: 16Φ*1000 mm | C18: 개 | D18: 1 | E18: =TRUNC(일위대가목록!E12,0) -> 0 | F18: =TRUNC(E18*D18, 0) -> 0 | G18: =TRUNC(일위대가목록!F12,0) -> 0 | H18: =TRUNC(G18*D18, 0) -> 0 | I18: =TRUNC(일위대가목록!G12,0) -> 0 | J18: =TRUNC(I18*D18, 0) -> 0 | K18: =TRUNC(E18+G18+I18, 0) -> 0 | L18: =TRUNC(F18+H18+J18, 0) -> 0 | M18: 호표 9 | N18: 53710249751EB2FB19DFA6A32E18ED | Q18: 010101 | R18: T | S18: F | T18: F | AU18: 01010153710249751EB2FB19DFA6A32E18ED | AV18: 14088
A19: 풀박스 | B19: 150X150X100 | C19: 개 | D19: 12 | E19: =TRUNC(일위대가목록!E13,0) -> 0 | F19: =TRUNC(E19*D19, 0) -> 0 | G19: =TRUNC(일위대가목록!F13,0) -> 0 | H19: =TRUNC(G19*D19, 0) -> 0 | I19: =TRUNC(일위대가목록!G13,0) -> 0 | J19: =TRUNC(I19*D19, 0) -> 0 | K19: =TRUNC(E19+G19+I19, 0) -> 0 | L19: =TRUNC(F19+H19+J19, 0) -> 0 | M19: 호표 10 | N19: 5371024975D9C3631993C85EFE142A | Q19: 010101 | R19: T | S19: F | T19: F | AU19: 0101015371024975D9C3631993C85EFE142A | AV19: 14113
A20: 벽관통 구멍뚫기 | B20: 두께40cm이하 Ø50mm | C20: 개소 | D20: 12 | E20: =TRUNC(일위대가목록!E14,0) -> 0 | F20: =TRUNC(E20*D20, 0) -> 0 | G20: =TRUNC(일위대가목록!F14,0) -> 0 | H20: =TRUNC(G20*D20, 0) -> 0 | I20: =TRUNC(일위대가목록!G14,0) -> 0 | J20: =TRUNC(I20*D20, 0) -> 0 | K20: =TRUNC(E20+G20+I20, 0) -> 0 | L20: =TRUNC(F20+H20+J20, 0) -> 0 | M20: 호표 11 | N20: 5371024975D9C34019CC2742011DBF | Q20: 010101 | R20: T | S20: F | T20: F | AU20: 0101015371024975D9C34019CC2742011DBF | AV20: 14181
A21: 터파기 | B21: 토사,백호80%+인력20% | C21: ㎥ | D21: 122 | E21: =TRUNC(중기단가목록!E4,0) -> 0 | F21: =TRUNC(E21*D21, 0) -> 0 | G21: =TRUNC(중기단가목록!F4,0) -> 0 | H21: =TRUNC(G21*D21, 0) -> 0 | I21: =TRUNC(중기단가목록!G4,0) -> 0 | J21: =TRUNC(I21*D21, 0) -> 0 | K21: =TRUNC(E21+G21+I21, 0) -> 0 | L21: =TRUNC(F21+H21+J21, 0) -> 0 | M21: 산근 1 | N21: 533F82598DBDEBAF19DD0F6CF219B2 | Q21: 010101 | R21: F | S21: T | T21: F | AU21: 010101533F82598DBDEBAF19DD0F6CF219B2 | AV21: 14190
A22: 되메우고다지기 | B22: 백호0.2M3*래머80kg | C22: ㎥ | D22: 122 | E22: =TRUNC(중기단가목록!E5,0) -> 0 | F22: =TRUNC(E22*D22, 0) -> 0 | G22: =TRUNC(중기단가목록!F5,0) -> 0 | H22: =TRUNC(G22*D22, 0) -> 0 | I22: =TRUNC(중기단가목록!G5,0) -> 0 | J22: =TRUNC(I22*D22, 0) -> 0 | K22: =TRUNC(E22+G22+I22, 0) -> 0 | L22: =TRUNC(F22+H22+J22, 0) -> 0 | M22: 산근 2 | N22: 533F8259E625D5C919A724A06D1ADE | Q22: 010101 | R22: F | S22: T | T22: F | AU22: 010101533F8259E625D5C919A724A06D1ADE | AV22: 14191
A23: 케이블표지시트 | B23: 케이블표지시트, 0.23*400mm | C23: M | D23: 563 | E23: =TRUNC(일위대가목록!E15,0) -> 0 | F23: =TRUNC(E23*D23, 0) -> 0 | G23: =TRUNC(일위대가목록!F15,0) -> 0 | H23: =TRUNC(G23*D23, 0) -> 0 | I23: =TRUNC(일위대가목록!G15,0) -> 0 | J23: =TRUNC(I23*D23, 0) -> 0 | K23: =TRUNC(E23+G23+I23, 0) -> 0 | L23: =TRUNC(F23+H23+J23, 0) -> 0 | M23: 호표 12 | N23: 53710249755465FB1944F8B0C51521 | Q23: 010101 | R23: T | S23: F | T23: F | AU23: 01010153710249755465FB1944F8B0C51521 | AV23: 14095
A24: 폴리에틸렌 전선관(지중) | B24: CD-P 22㎜ | C24: M | D24: 94 | E24: =TRUNC(일위대가목록!E16,0) -> 0 | F24: =TRUNC(E24*D24, 0) -> 0 | G24: =TRUNC(일위대가목록!F16,0) -> 0 | H24: =TRUNC(G24*D24, 0) -> 0 | I24: =TRUNC(일위대가목록!G16,0) -> 0 | J24: =TRUNC(I24*D24, 0) -> 0 | K24: =TRUNC(E24+G24+I24, 0) -> 0 | L24: =TRUNC(F24+H24+J24, 0) -> 0 | M24: 호표 13 | N24: 53710249755465D819758AF0CB13A2 | Q24: 010101 | R24: T | S24: F | T24: F | AU24: 01010153710249755465D819758AF0CB13A2 | AV24: 14182
A25: 폴리에틸렌 전선관(지중) | B25: CD-P 28㎜ | C25: M | D25: 401 | E25: =TRUNC(일위대가목록!E17,0) -> 0 | F25: =TRUNC(E25*D25, 0) -> 0 | G25: =TRUNC(일위대가목록!F17,0) -> 0 | H25: =TRUNC(G25*D25, 0) -> 0 | I25: =TRUNC(일위대가목록!G17,0) -> 0 | J25: =TRUNC(I25*D25, 0) -> 0 | K25: =TRUNC(E25+G25+I25, 0) -> 0 | L25: =TRUNC(F25+H25+J25, 0) -> 0 | M25: 호표 14 | N25: 53710249755465D819758AF0CB144B | Q25: 010101 | R25: T | S25: F | T25: F | AU25: 01010153710249755465D819758AF0CB144B | AV25: 14125
A26: 폴리에틸렌 전선관(지중) | B26: CD-P 36㎜ | C26: M | D26: 337 | E26: =TRUNC(일위대가목록!E18,0) -> 0 | F26: =TRUNC(E26*D26, 0) -> 0 | G26: =TRUNC(일위대가목록!F18,0) -> 0 | H26: =TRUNC(G26*D26, 0) -> 0 | I26: =TRUNC(일위대가목록!G18,0) -> 0 | J26: =TRUNC(I26*D26, 0) -> 0 | K26: =TRUNC(E26+G26+I26, 0) -> 0 | L26: =TRUNC(F26+H26+J26, 0) -> 0 | M26: 호표 15 | N26: 53710249755465D819758AF0CB1551 | Q26: 010101 | R26: T | S26: F | T26: F | AU26: 01010153710249755465D819758AF0CB1551 | AV26: 14126
A27: 라인바덕트(매립형) | B27: 알루미늄, 50*35mm | C27: M | D27: 509 | E27: =TRUNC(일위대가목록!E19,0) -> 0 | F27: =TRUNC(E27*D27, 0) -> 0 | G27: =TRUNC(일위대가목록!F19,0) -> 0 | H27: =TRUNC(G27*D27, 0) -> 0 | I27: =TRUNC(일위대가목록!G19,0) -> 0 | J27: =TRUNC(I27*D27, 0) -> 0 | K27: =TRUNC(E27+G27+I27, 0) -> 0 | L27: =TRUNC(F27+H27+J27, 0) -> 0 | M27: 호표 16 | N27: 537102495A7EB59719B97435411568 | Q27: 010101 | R27: T | S27: F | T27: F | AU27: 010101537102495A7EB59719B97435411568 | AV27: 14183
A28: 0.6/1kV 난연 전력 케이블 | B28: F-CV, 1C*6㎟ | C28: m | D28: 858 | E28: =TRUNC(단가대비표!O11,0) -> 0 | F28: =TRUNC(E28*D28, 0) -> 0 | G28: =TRUNC(단가대비표!P11,0) -> 0 | H28: =TRUNC(G28*D28, 0) -> 0 | I28: =TRUNC(단가대비표!V11,0) -> 0 | J28: =TRUNC(I28*D28, 0) -> 0 | K28: =TRUNC(E28+G28+I28, 0) -> 0 | L28: =TRUNC(F28+H28+J28, 0) -> 0 | N28: 54044289D16978611955CE075016C376655924 | Q28: 010101 | R28: F | S28: F | T28: T | AU28: 01010154044289D16978611955CE075016C376655924 | AV28: 14123
A29: 0.6/1kV 난연 전력 케이블(지중)-2열설치 | B29: F-CV, 1C*6㎟ | C29: m | D29: 858 | E29: =TRUNC(일위대가목록!E20,0) -> 0 | F29: =TRUNC(E29*D29, 0) -> 0 | G29: =TRUNC(일위대가목록!F20,0) -> 0 | H29: =TRUNC(G29*D29, 0) -> 0 | I29: =TRUNC(일위대가목록!G20,0) -> 0 | J29: =TRUNC(I29*D29, 0) -> 0 | K29: =TRUNC(E29+G29+I29, 0) -> 0 | L29: =TRUNC(F29+H29+J29, 0) -> 0 | M29: 호표 17 | N29: 5371024975774592197144C7A0192F | Q29: 010101 | R29: T | S29: F | T29: F | AU29: 0101015371024975774592197144C7A0192F | AV29: 14172
A30: 0.6/1kV 난연 전력 케이블 | B30: F-CV, 1C*10㎟ | C30: m | D30: 652 | E30: =TRUNC(단가대비표!O12,0) -> 0 | F30: =TRUNC(E30*D30, 0) -> 0 | G30: =TRUNC(단가대비표!P12,0) -> 0 | H30: =TRUNC(G30*D30, 0) -> 0 | I30: =TRUNC(단가대비표!V12,0) -> 0 | J30: =TRUNC(I30*D30, 0) -> 0 | K30: =TRUNC(E30+G30+I30, 0) -> 0 | L30: =TRUNC(F30+H30+J30, 0) -> 0 | N30: 54044289D16978611955CE075016C376655925 | Q30: 010101 | R30: F | S30: F | T30: T | AU30: 01010154044289D16978611955CE075016C376655925 | AV30: 14184
A31: 0.6/1kV 난연 전력 케이블(지중)-2열설치 | B31: F-CV, 1C*10㎟ | C31: m | D31: 652 | E31: =TRUNC(일위대가목록!E21,0) -> 0 | F31: =TRUNC(E31*D31, 0) -> 0 | G31: =TRUNC(일위대가목록!F21,0) -> 0 | H31: =TRUNC(G31*D31, 0) -> 0 | I31: =TRUNC(일위대가목록!G21,0) -> 0 | J31: =TRUNC(I31*D31, 0) -> 0 | K31: =TRUNC(E31+G31+I31, 0) -> 0 | L31: =TRUNC(F31+H31+J31, 0) -> 0 | M31: 호표 18 | N31: 5371024975774592197144C7A01809 | Q31: 010101 | R31: T | S31: F | T31: F | AU31: 0101015371024975774592197144C7A01809 | AV31: 14185
A32: 0.6/1kV 난연 전력 케이블 | B32: F-CV, 1C*16㎟ | C32: m | D32: 46 | E32: =TRUNC(단가대비표!O13,0) -> 0 | F32: =TRUNC(E32*D32, 0) -> 0 | G32: =TRUNC(단가대비표!P13,0) -> 0 | H32: =TRUNC(G32*D32, 0) -> 0 | I32: =TRUNC(단가대비표!V13,0) -> 0 | J32: =TRUNC(I32*D32, 0) -> 0 | K32: =TRUNC(E32+G32+I32, 0) -> 0 | L32: =TRUNC(F32+H32+J32, 0) -> 0 | N32: 54044289D16978611955CE075016C376655926 | Q32: 010101 | R32: F | S32: F | T32: T | AU32: 01010154044289D16978611955CE075016C376655926 | AV32: 14119
A33: 0.6/1kV 난연 전력 케이블(지중)-2열설치 | B33: F-CV, 1C*16㎟ | C33: m | D33: 46 | E33: =TRUNC(일위대가목록!E22,0) -> 0 | F33: =TRUNC(E33*D33, 0) -> 0 | G33: =TRUNC(일위대가목록!F22,0) -> 0 | H33: =TRUNC(G33*D33, 0) -> 0 | I33: =TRUNC(일위대가목록!G22,0) -> 0 | J33: =TRUNC(I33*D33, 0) -> 0 | K33: =TRUNC(E33+G33+I33, 0) -> 0 | L33: =TRUNC(F33+H33+J33, 0) -> 0 | M33: 호표 19 | N33: 5371024975774592197144C7A01BDD | Q33: 010101 | R33: T | S33: F | T33: F | AU33: 0101015371024975774592197144C7A01BDD | AV33: 14120
A34: 0.6/1kV 난연 전력 케이블 | B34: F-CV, 3C*4㎟ | C34: m | D34: 544 | E34: =TRUNC(일위대가목록!E23,0) -> 0 | F34: =TRUNC(E34*D34, 0) -> 0 | G34: =TRUNC(일위대가목록!F23,0) -> 0 | H34: =TRUNC(G34*D34, 0) -> 0 | I34: =TRUNC(일위대가목록!G23,0) -> 0 | J34: =TRUNC(I34*D34, 0) -> 0 | K34: =TRUNC(E34+G34+I34, 0) -> 0 | L34: =TRUNC(F34+H34+J34, 0) -> 0 | M34: 호표 20 | N34: 5371024975774592197167A758144D | Q34: 010101 | R34: T | S34: F | T34: F | AU34: 0101015371024975774592197167A758144D | AV34: 14186
A35: 난연 비닐 절연 접지용전선(F-GV) | B35: 0.6/1kV 6㎟ | C35: m | D35: 429 | E35: =TRUNC(일위대가목록!E24,0) -> 0 | F35: =TRUNC(E35*D35, 0) -> 0 | G35: =TRUNC(일위대가목록!F24,0) -> 0 | H35: =TRUNC(G35*D35, 0) -> 0 | I35: =TRUNC(일위대가목록!G24,0) -> 0 | J35: =TRUNC(I35*D35, 0) -> 0 | K35: =TRUNC(E35+G35+I35, 0) -> 0 | L35: =TRUNC(F35+H35+J35, 0) -> 0 | M35: 호표 21 | N35: 537102497566D6BC19BF05B6581FAF | Q35: 010101 | R35: T | S35: F | T35: F | AU35: 010101537102497566D6BC19BF05B6581FAF | AV35: 14118
A36: 난연 비닐 절연 접지용전선(F-GV) | B36: 0.6/1kV 10㎟ | C36: m | D36: 326 | E36: =TRUNC(일위대가목록!E25,0) -> 0 | F36: =TRUNC(E36*D36, 0) -> 0 | G36: =TRUNC(일위대가목록!F25,0) -> 0 | H36: =TRUNC(G36*D36, 0) -> 0 | I36: =TRUNC(일위대가목록!G25,0) -> 0 | J36: =TRUNC(I36*D36, 0) -> 0 | K36: =TRUNC(E36+G36+I36, 0) -> 0 | L36: =TRUNC(F36+H36+J36, 0) -> 0 | M36: 호표 22 | N36: 537102497566D6BC19BF05B6581860 | Q36: 010101 | R36: T | S36: F | T36: F | AU36: 010101537102497566D6BC19BF05B6581860 | AV36: 14187
A37: 러그단자 | B37: 러그단자, 동관단자, 1홀, 16 ㎟ | C37: 개 | D37: 4 | E37: =TRUNC(일위대가목록!E26,0) -> 0 | F37: =TRUNC(E37*D37, 0) -> 0 | G37: =TRUNC(일위대가목록!F26,0) -> 0 | H37: =TRUNC(G37*D37, 0) -> 0 | I37: =TRUNC(일위대가목록!G26,0) -> 0 | J37: =TRUNC(I37*D37, 0) -> 0 | K37: =TRUNC(E37+G37+I37, 0) -> 0 | L37: =TRUNC(F37+H37+J37, 0) -> 0 | M37: 호표 23 | N37: 53710249751EB2BC192773231B1856 | Q37: 010101 | R37: T | S37: F | T37: F | AU37: 01010153710249751EB2BC192773231B1856 | AV37: 14117
A38: 아스콘포장절단 | B38: 1차 | C38: M | D38: 50 | E38: =TRUNC(일위대가목록!E27,0) -> 0 | F38: =TRUNC(E38*D38, 0) -> 0 | G38: =TRUNC(일위대가목록!F27,0) -> 0 | H38: =TRUNC(G38*D38, 0) -> 0 | I38: =TRUNC(일위대가목록!G27,0) -> 0 | J38: =TRUNC(I38*D38, 0) -> 0 | K38: =TRUNC(E38+G38+I38, 0) -> 0 | L38: =TRUNC(F38+H38+J38, 0) -> 0 | M38: 호표 24 | N38: 533EB2293777D0F319E2FEF8F6107E | Q38: 010101 | R38: T | S38: F | T38: F | AU38: 010101533EB2293777D0F319E2FEF8F6107E | AV38: 14114
A39: 아스콘포장깨기 | B39: T=30cm미만 | C39: ㎡ | D39: 1.58 | E39: =TRUNC(일위대가목록!E28,0) -> 0 | F39: =TRUNC(E39*D39, 0) -> 0 | G39: =TRUNC(일위대가목록!F28,0) -> 0 | H39: =TRUNC(G39*D39, 0) -> 0 | I39: =TRUNC(일위대가목록!G28,0) -> 0 | J39: =TRUNC(I39*D39, 0) -> 0 | K39: =TRUNC(E39+G39+I39, 0) -> 0 | L39: =TRUNC(F39+H39+J39, 0) -> 0 | M39: 호표 25 | N39: 533EB2293777D0F319E2FEF8F6107F | Q39: 010101 | R39: T | S39: F | T39: F | AU39: 010101533EB2293777D0F319E2FEF8F6107F | AV39: 14115
A40: 아스콘포장복구 | C40: ㎥ | D40: 1.58 | E40: =TRUNC(일위대가목록!E29,0) -> 0 | F40: =TRUNC(E40*D40, 0) -> 0 | G40: =TRUNC(일위대가목록!F29,0) -> 0 | H40: =TRUNC(G40*D40, 0) -> 0 | I40: =TRUNC(일위대가목록!G29,0) -> 0 | J40: =TRUNC(I40*D40, 0) -> 0 | K40: =TRUNC(E40+G40+I40, 0) -> 0 | L40: =TRUNC(F40+H40+J40, 0) -> 0 | M40: 호표 26 | N40: 533EB2293777D0F319E2FEF8F6107C | Q40: 010101 | R40: T | S40: F | T40: F | AU40: 010101533EB2293777D0F319E2FEF8F6107C | AV40: 14175
A51: [ 합 계 ] | F51: =SUM(F5:F50) -> 0 | H51: =SUM(H5:H50) -> 0 | J51: =SUM(J5:J50) -> 0 | L51: =SUM(L5:L50) -> 0 | N51: TOTAL
A52: 0102 교통통제 및 안전처리비 | Q52: 010114
A53: 교통통제 및 안전처리비 | C53: 식 | D53: 1 | F53: =TRUNC(E53*D53, 0) -> 0 | G53: =교통통제!CH4 -> 0 | H53: =TRUNC(G53*D53, 0) -> 0 | J53: =TRUNC(I53*D53, 0) -> 0 | K53: =TRUNC(E53+G53+I53, 0) -> 0 | L53: =TRUNC(F53+H53+J53, 0) -> 0 | N53: 5FD86441073D77FD35C5147D70EDE2 | Q53: 010114 | R53: T | S53: F | T53: F | AU53: 0101145FD86441073D77FD35C5147D70EDE2 | AV53: 12662
A75: [ 합 계 ] | F75: =SUM(F53:F74) -> 0 | H75: =SUM(H53:H74) -> 0 | J75: =SUM(J53:J74) -> 0 | L75: =SUM(L53:L74) -> 0 | N75: TOTAL
A76: 0103 폐기물상차비
A78: 건설폐기물-상차비 | B78: 15톤 덤프트럭(30km) | C78: Ton | D78: 3.63 | G78: 0 | H78: =TRUNC(G78*D78, 0) -> 0 | I78: =단가대비표!V57 -> 0 | J78: =TRUNC(I78*D78, 0) -> 0 | K78: =TRUNC(E78+G78+I78, 0) -> 0 | L78: =TRUNC(F78+H78+J78, 0) -> 0
A99: [ 합 계 ] | F99: =SUM(F77:F98) -> 0 | J99: =SUM(J77:J98) -> 0 | L99: =SUM(L77:L98) -> 0
A100: 0104 폐기물처리공사
A101: 건설폐기물-중간처리 | B101: 폐아스콘 | C101: Ton | D101: 3.63 | G101: 0 | H101: =TRUNC(G101*D101, 0) -> 0 | I101: =단가대비표!V56 -> 0 | J101: =TRUNC(I101*D101, 0) -> 0 | K101: =TRUNC(E101+G101+I101, 0) -> 0 | L101: =TRUNC(F101+H101+J101, 0) -> 0
A103: 건설폐기물-운반비 | B103: 15톤 덤프트럭(30km) | C103: Ton | D103: =D101 -> 3.63 | G103: 0 | H103: =TRUNC(G103*D103, 0) -> 0 | I103: =단가대비표!V58 -> 0 | J103: =TRUNC(I103*D103, 0) -> 0 | K103: =TRUNC(E103+G103+I103, 0) -> 0 | L103: =TRUNC(F103+H103+J103, 0) -> 0
A123: [ 합 계 ] | F123: =SUM(F101:F122) -> 0 | J123: =SUM(J101:J122) -> 0 | L123: =SUM(L101:L122) -> 0
A124: 0105 관급자재(경관조명 분전반)
A125: 경관조명 분전반 | B125: 무선원격양방향, 8회로 | C125: 대 | D125: 1 | F125: =TRUNC(E125*D125, 0) -> 0 | G125: 0 | H125: =TRUNC(G125*D125, 0) -> 0 | I125: 0 | J125: =TRUNC(I125*D125, 0) -> 0 | K125: =TRUNC(E125+G125+I125, 0) -> 0 | L125: =TRUNC(F125+H125+J125, 0) -> 0
A126: 원격점검장치 | B126: 안테나, 통신모듈, zct내장 | C126: EA | D126: 1 | F126: =TRUNC(E126*D126, 0) -> 0 | H126: =TRUNC(G126*D126, 0) -> 0 | J126: =TRUNC(I126*D126, 0) -> 0 | K126: =TRUNC(E126+G126+I126, 0) -> 0 | L126: =TRUNC(F126+H126+J126, 0) -> 0
A127: 원격점검장치 | B127: 설치비 | C127: 식 | D127: 1 | F127: =TRUNC(E127*D127, 0) -> 0 | H127: =TRUNC(G127*D127, 0) -> 0 | J127: =TRUNC(I127*D127, 0) -> 0 | K127: =TRUNC(E127+G127+I127, 0) -> 0 | L127: =TRUNC(F127+H127+J127, 0) -> 0
A143: [ 소 계 ] | H143: =SUM(H126:H142) -> 0 | J143: =SUM(J126:J142) -> 0 | L143: =SUM(L125:L142) -> 0 | Q143: 010102
A145: 조달수수료 | B145: 자재비의 0.54% | C145: 식 | D145: 1 | E145: =SUM(F125:F142)*0.54% -> 0 | F145: =SUM(E145*D145, 0) -> 0 | H145: =TRUNC(G145*D145, 0) -> 0 | J145: =TRUNC(I145*D145, 0) -> 0 | K145: =SUM(E145+G145+I145, 0) -> 0 | L145: =ROUNDUP(SUM(K145), 0) -> 0
A147: [ 합 계 ] | H147: =SUM(H127:H145) -> 0 | J147: =SUM(J127:J145) -> 0 | L147: =ROUNDUP(SUM(L143:L145),-3) -> 0 | M147: 천단위미만절상 | Q147: 010102
A148: 0106 관급자재(경관조명기구)
A149: 조명기구(LINE BAR) | B149: LED 10W | C149: 개 | D149: 498 | F149: =TRUNC(E149*D149, 0) -> 0 | G149: 0 | H149: =TRUNC(G149*D149, 0) -> 0 | I149: 0 | J149: =TRUNC(I149*D149, 0) -> 0 | K149: =TRUNC(E149+G149+I149, 0) -> 0 | L149: =TRUNC(F149+H149+J149, 0) -> 0
A166: [ 소 계 ] | C166: 식 | D166: 1 | L166: =SUM(L149:L165) -> 0
A167: [ 부 가 가 치 세 ] | C167: % | D167: 10 | L167: =TRUNC(L166*10%) -> 0 | Q167: 010102
A170: [ 합 계 ] | H170: =H153 -> 0 | J170: =J153 -> 0 | L170: =ROUNDUP(SUM(L166:L167),-3) -> 0 | M170: 천단위미만절상

Sheet 일위대가목록
A1: 일 위 대 가 목 록
A2: [ 세계유산주변 한식담장 경관조명 설치사업 ]
A3: 코 드 | B3: 품 명 | C3: 규 격 | D3: 단위 | E3: 재 료 비 | F3: 노 무 비 | G3: 경 비 | H3: 합 계 | I3: 번 호 | J3: 비 고 | K3: 노임계수 | L3: 할증 | M3: 품셈개요 | N3: 장비일위
A4: 5371024975D9C34019CCFCC76818FE | B4: 조명기구(LINE BAR) 설치 | C4: LED 10W | D4: EA | E4: =일위대가!F8 -> 0 | F4: =일위대가!H8 -> 0 | G4: =일위대가!J8 -> 0 | H4: =E4+F4+G4 -> 0 | I4: 호표 1 | M4: 전기 5-25-2
A5: 53710249751EB2BC19277323091525 | B5: 경관조명 분전반 설치 | C5: 무선원격양방향, 8회로 | D5: 개소 | E5: =일위대가!F14 -> 0 | F5: =일위대가!H14 -> 0 | G5: =일위대가!J14 -> 0 | H5: =E5+F5+G5 -> 0 | I5: 호표 2 | M5: 전기 5-18-2
A6: 53710249751EB2BC19277323091522 | B6: 경관조명 분전반기초 | C6: 500X675X850X700 | D6: 개소 | E6: =일위대가!F24 -> 0 | F6: =일위대가!H24 -> 0 | G6: =일위대가!J24 -> 0 | H6: =E6+F6+G6 -> 0 | I6: 호표 3 | M6: 전기 5-27-1
A7: 5371024975D9C351192132B1E4138B | B7: 차단기 | C7: MCCB 2P 50AF | D7: EA | E7: =일위대가!F30 -> 0 | F7: =일위대가!H30 -> 0 | G7: =일위대가!J30 -> 0 | H7: =E7+F7+G7 -> 0 | I7: 호표 4 | M7: 전기 5-19
A8: 5371024975D9C351192132B1E4138A | B8: 차단기 | C8: ELB 2P 30AF | D8: EA | E8: =일위대가!F36 -> 0 | F8: =일위대가!H36 -> 0 | G8: =일위대가!J36 -> 0 | H8: =E8+F8+G8 -> 0 | I8: 호표 5 | M8: 전기 5-19
A9: 53710249751EB2BC19277323091524 | B9: SMPS BOX(옥외노출) | C9: STS, 500X600X150 | D9: 면 | E9: =일위대가!F42 -> 0 | F9: =일위대가!H42 -> 0 | G9: =일위대가!J42 -> 0 | H9: =E9+F9+G9 -> 0 | I9: 호표 6 | M9: 전기 5-18
A10: 53710249751EB2BC192773230916CB | B10: SMPS BOX 기초 | C10: 400X600X600 | D10: 개소 | E10: =일위대가!F49 -> 0 | F10: =일위대가!H49 -> 0 | G10: =일위대가!J49 -> 0 | H10: =E10+F10+G10 -> 0 | I10: 호표 7 | M10: 전기 5-27-1
A11: 53710249751EB2CE19877D71101304 | B11: 전기맨홀 | C11: 800*800*800 | D11: 조 | E11: =일위대가!F68 -> 0 | F11: =일위대가!H68 -> 0 | G11: =일위대가!J68 -> 0 | H11: =E11+F11+G11 -> 0 | I11: 호표 8 | M11: 전기 4-43-3
A12: 53710249751EB2FB19DFA6A32E18ED | B12: 접지공사(분전반) | C12: 16Φ*1000 mm | D12: 개 | E12: =일위대가!F79 -> 0 | F12: =일위대가!H79 -> 0 | G12: =일위대가!J79 -> 0 | H12: =E12+F12+G12 -> 0 | I12: 호표 9 | M12: 전기 3-38
A13: 5371024975D9C3631993C85EFE142A | B13: 풀박스 | C13: 150X150X100 | D13: 개 | E13: =일위대가!F85 -> 0 | F13: =일위대가!H85 -> 0 | G13: =일위대가!J85 -> 0 | H13: =E13+F13+G13 -> 0 | I13: 호표 10 | M13: 전기 5-4
A14: 5371024975D9C34019CC2742011DBF | B14: 벽관통 구멍뚫기 | C14: 두께40cm이하 Ø50mm | D14: 개소 | E14: =일위대가!F91 -> 0 | F14: =일위대가!H91 -> 0 | G14: =일위대가!J91 -> 0 | H14: =E14+F14+G14 -> 0 | I14: 호표 11 | M14: 전기 5-29-1.1
A15: 53710249755465FB1944F8B0C51521 | B15: 케이블표지시트 | C15: 케이블표지시트, 0.23*400mm | D15: M | E15: =일위대가!F98 -> 0 | F15: =일위대가!H98 -> 0 | G15: =일위대가!J98 -> 0 | H15: =E15+F15+G15 -> 0 | I15: 호표 12 | M15: 전기 4-45
A16: 53710249755465D819758AF0CB13A2 | B16: 폴리에틸렌 전선관(지중) | C16: CD-P 22㎜ | D16: M | E16: =일위대가!F107 -> 0 | F16: =일위대가!H107 -> 0 | G16: =일위대가!J107 -> 0 | H16: =E16+F16+G16 -> 0 | I16: 호표 13 | M16: 전기 5-1
A17: 53710249755465D819758AF0CB144B | B17: 폴리에틸렌 전선관(지중) | C17: CD-P 28㎜ | D17: M | E17: =일위대가!F116 -> 0 | F17: =일위대가!H116 -> 0 | G17: =일위대가!J116 -> 0 | H17: =E17+F17+G17 -> 0 | I17: 호표 14 | M17: 전기 4-31
A18: 53710249755465D819758AF0CB1551 | B18: 폴리에틸렌 전선관(지중) | C18: CD-P 36㎜ | D18: M | E18: =일위대가!F125 -> 0 | F18: =일위대가!H125 -> 0 | G18: =일위대가!J125 -> 0 | H18: =E18+F18+G18 -> 0 | I18: 호표 15 | M18: 전기 4-31
A19: 537102495A7EB59719B97435411568 | B19: 라인바덕트(매립형) | C19: 알루미늄, 50*35mm | D19: M | E19: =일위대가!F131 -> 0 | F19: =일위대가!H131 -> 0 | G19: =일위대가!J131 -> 0 | H19: =E19+F19+G19 -> 0 | I19: 호표 16 | M19: 통신 3-3-1,2
A20: 5371024975774592197144C7A0192F | B20: 0.6/1kV 난연 전력 케이블(지중)-2열설치 | C20: F-CV, 1C*6㎟ | D20: m | E20: =일위대가!F139 -> 0 | F20: =일위대가!H139 -> 0 | G20: =일위대가!J139 -> 0 | H20: =E20+F20+G20 -> 0 | I20: 호표 17 | M20: 전기 4-34
A21: 5371024975774592197144C7A01809 | B21: 0.6/1kV 난연 전력 케이블(지중)-2열설치 | C21: F-CV, 1C*10㎟ | D21: m | E21: =일위대가!F147 -> 0 | F21: =일위대가!H147 -> 0 | G21: =일위대가!J147 -> 0 | H21: =E21+F21+G21 -> 0 | I21: 호표 18 | M21: 전기 4-34
A22: 5371024975774592197144C7A01BDD | B22: 0.6/1kV 난연 전력 케이블(지중)-2열설치 | C22: F-CV, 1C*16㎟ | D22: m | E22: =일위대가!F155 -> 0 | F22: =일위대가!H155 -> 0 | G22: =일위대가!J155 -> 0 | H22: =E22+F22+G22 -> 0 | I22: 호표 19 | M22: 전기 4-34
A23: 5371024975774592197167A758144D | B23: 0.6/1kV 난연 전력 케이블 | C23: F-CV, 3C*4㎟ | D23: m | E23: =일위대가!F163 -> 0 | F23: =일위대가!H163 -> 0 | G23: =일위대가!J163 -> 0 | H23: =E23+F23+G23 -> 0 | I23: 호표 20 | M23: 전기 5-13
A24: 537102497566D6BC19BF05B6581FAF | B24: 난연 비닐 절연 접지용전선(F-GV) | C24: 0.6/1kV 6㎟ | D24: m | E24: =일위대가!F170 -> 0 | F24: =일위대가!H170 -> 0 | G24: =일위대가!J170 -> 0 | H24: =E24+F24+G24 -> 0 | I24: 호표 21 | M24: 전기 3-38
A25: 537102497566D6BC19BF05B6581860 | B25: 난연 비닐 절연 접지용전선(F-GV) | C25: 0.6/1kV 10㎟ | D25: m | E25: =일위대가!F177 -> 0 | F25: =일위대가!H177 -> 0 | G25: =일위대가!J177 -> 0 | H25: =E25+F25+G25 -> 0 | I25: 호표 22 | M25: 전기 3-38
A26: 53710249751EB2BC192773231B1856 | B26: 러그단자 | C26: 러그단자, 동관단자, 1홀, 16 ㎟ | D26: 개 | E26: =일위대가!F183 -> 0 | F26: =일위대가!H183 -> 0 | G26: =일위대가!J183 -> 0 | H26: =E26+F26+G26 -> 0 | I26: 호표 23 | M26: 전기 4-37
A27: 533EB2293777D0F319E2FEF8F6107E | B27: 아스콘포장절단 | C27: 1차 | D27: M | E27: =일위대가!F187 -> 0 | F27: =일위대가!H187 -> 0 | G27: =일위대가!J187 -> 0 | H27: =E27+F27+G27 -> 0 | I27: 호표 24
A28: 533EB2293777D0F319E2FEF8F6107F | B28: 아스콘포장깨기 | C28: T=30cm미만 | D28: ㎡ | E28: =일위대가!F191 -> 0 | F28: =일위대가!H191 -> 0 | G28: =일위대가!J191 -> 0 | H28: =E28+F28+G28 -> 0 | I28: 호표 25
A29: 533EB2293777D0F319E2FEF8F6107C | B29: 아스콘포장복구 | D29: ㎥ | E29: =일위대가!F204 -> 0 | F29: =일위대가!H204 -> 0 | G29: =일위대가!J204 -> 0 | H29: =E29+F29+G29 -> 0 | I29: 호표 26
A30: 542702D9A329998419AADE56A21EC2070537465A | B30: 굴삭기(무한궤도) | C30: 0.2㎥ | D30: HR | E30: =일위대가!F211 -> 0 | F30: =일위대가!H211 -> 0 | G30: =일위대가!J211 -> 0 | H30: =E30+F30+G30 -> 0 | I30: 호표 27 | K30: A | N30: T
A31: 542702D9A3298F2E1959EFDB9D1F1F21C362539C | B31: 래머 | C31: 80 kg | D31: HR | E31: =일위대가!F218 -> 0 | F31: =일위대가!H218 -> 0 | G31: =일위대가!J218 -> 0 | H31: =E31+F31+G31 -> 0 | I31: 호표 28 | K31: A | M31: 기계화 11-11 경비 | N31: T
A32: 533F8259E625D5BF195B5CDDF71C34 | B32: 현장내잔토처리 | C32: 소운반.고르기 | D32: ㎥ | E32: =일위대가!F222 -> 0 | F32: =일위대가!H222 -> 0 | G32: =일위대가!J222 -> 0 | H32: =E32+F32+G32 -> 0 | I32: 호표 29 | M32: 품셈 3-1-3.1(주7)

Sheet 일위대가
A1: [ 세계유산주변 한식담장 경관조명 설치사업 ]
A2: 품 명 | B2: 규 격 | C2: 단위 | D2: 수량 | E2: 재 료 비 | G2: 노 무 비 | I2: 경 비 | K2: 합 계 | M2: 비 고 | N2: 일위대가 | O2: 품목코드 | P2: 일위 | Q2: 단산 | R2: 자재 | S2: 손료적용 | T2: 손료저장 | U2: 적용율 | V2: JUK1 | W2: JUK2 | X2: JUK3 | Y2: JUK4 | Z2: JUK5 | AA2: JUK6 | AB2: JUK7 | AC2: JUK8 | AD2: 할증적용 | AE2: 할증저장 | AF2: 할증율 | AG2: HAL1 | AH2: HAL2 | AI2: HAL3 | AJ2: 자재구분 | AK2: 일위대가+자재 | AL2: 장비일위 | AM2: 설정
E3: 단 가 | F3: 금 액 | G3: 단 가 | H3: 금 액 | I3: 단 가 | J3: 금 액 | K3: 단 가 | L3: 금 액
A4: 조명기구(LINE BAR) 설치 LED 10W EA 전기 5-25-2 ( 호표 1 ) | N4: 5371024975D9C34019CCFCC76818FE
A5: 조명기구(LINE BAR) 설치 | B5: LED 10W | C5: EA | D5: 1 | E5: =단가대비표!O23 -> 0 | F5: =TRUNC(E5*D5,1) -> 0 | G5: =단가대비표!P23 -> 0 | H5: =TRUNC(G5*D5,1) -> 0 | I5: =단가대비표!V23 -> 0 | J5: =TRUNC(I5*D5,1) -> 0 | K5: =TRUNC(E5+G5+I5,1) -> 0 | L5: =TRUNC(F5+H5+J5,1) -> 0 | M5: 품적용 | N5: 5371024975D9C34019CCFCC76818FE | O5: 54160289A8B21AFF19D5F0702D1A65A2B302B2 | P5: F | Q5: F | R5: T | AK5: 5371024975D9C34019CCFCC76818FE54160289A8B21AFF19D5F0702D1A65A2B302B2
A6: 내선전공 | B6: 일반공사 직종 | C6: 인 | D6: =공량산출근거서_일위대가!K6 -> 0.023 | E6: =단가대비표!O66 -> 0 | F6: =TRUNC(E6*D6,1) -> 0 | G6: =단가대비표!P66 -> 0 | H6: =TRUNC(G6*D6,1) -> 0 | I6: =단가대비표!V66 -> 0 | J6: =TRUNC(I6*D6,1) -> 0 | K6: =TRUNC(E6+G6+I6,1) -> 0 | L6: =TRUNC(F6+H6+J6,1) -> 0 | N6: 5371024975D9C34019CCFCC76818FE | O6: 53E9520999DE9BC11986A23F121C766B9D72D5 | P6: F | Q6: F | R6: T | V6: 1 | AK6: 5371024975D9C34019CCFCC76818FE53E9520999DE9BC11986A23F121C766B9D72D5
A7: 공구손료 | B7: 인력품의 3% | C7: 식 | D7: 1 | E7: =TRUNC(SUMIF(V5:V7, RIGHTB(O7, 1), H5:H7)*U7, 2) -> 0 | F7: =TRUNC(E7*D7,1) -> 0 | G7: 0 | H7: =TRUNC(G7*D7,1) -> 0 | I7: 0 | J7: =TRUNC(I7*D7,1) -> 0 | K7: =TRUNC(E7+G7+I7,1) -> 0 | L7: =TRUNC(F7+H7+J7,1) -> 0 | N7: 5371024975D9C34019CCFCC76818FE | O7: 52238279327DF52F19D263DD17191 | P7: F | Q7: F | R7: F | S7: 1 | T7: 0 | U7: 0.03 | AK7: 5371024975D9C34019CCFCC76818FE52238279327DF52F19D263DD17191
A8: [ 합 계 ] | F8: =TRUNC(SUMIF(N5:N7, N4, F5:F7),0) -> 0 | H8: =TRUNC(SUMIF(N5:N7, N4, H5:H7),0) -> 0 | J8: =TRUNC(SUMIF(N5:N7, N4, J5:J7),0) -> 0 | L8: =F8+H8+J8 -> 0 | N8: TOTAL | O8: TOTAL
A10: 경관조명 분전반 설치 무선원격양방향, 8회로 개소 전기 5-18-2 ( 호표 2 ) | N10: 53710249751EB2BC19277323091525
A11: 경관조명 분전반 설치 | B11: 무선원격양방향, 8회로 | C11: 대 | D11: 1 | E11: =단가대비표!O39 -> 0 | F11: =TRUNC(E11*D11,1) -> 0 | G11: =단가대비표!P39 -> 0 | H11: =TRUNC(G11*D11,1) -> 0 | I11: =단가대비표!V39 -> 0 | J11: =TRUNC(I11*D11,1) -> 0 | K11: =TRUNC(E11+G11+I11,1) -> 0 | L11: =TRUNC(F11+H11+J11,1) -> 0 | M11: 품적용 | N11: 53710249751EB2BC19277323091525 | O11: 54160289A886DE24198CF61A65168F6F7DCFE1 | P11: F | Q11: F | R11: T | AK11: 53710249751EB2BC1927732309152554160289A886DE24198CF61A65168F6F7DCFE1
A12: 내선전공 | B12: 일반공사 직종 | C12: 인 | D12: =공량산출근거서_일위대가!K9 -> 1.23 | E12: =단가대비표!O66 -> 0 | F12: =TRUNC(E12*D12,1) -> 0 | G12: =단가대비표!P66 -> 0 | H12: =TRUNC(G12*D12,1) -> 0 | I12: =단가대비표!V66 -> 0 | J12: =TRUNC(I12*D12,1) -> 0 | K12: =TRUNC(E12+G12+I12,1) -> 0 | L12: =TRUNC(F12+H12+J12,1) -> 0 | N12: 53710249751EB2BC19277323091525 | O12: 53E9520999DE9BC11986A23F121C766B9D72D5 | P12: F | Q12: F | R12: T | V12: 1 | AK12: 53710249751EB2BC1927732309152553E9520999DE9BC11986A23F121C766B9D72D5
A13: 공구손료 | B13: 인력품의 3% | C13: 식 | D13: 1 | E13: =TRUNC(SUMIF(V11:V13, RIGHTB(O13, 1), H11:H13)*U13, 2) -> 0 | F13: =TRUNC(E13*D13,1) -> 0 | G13: 0 | H13: =TRUNC(G13*D13,1) -> 0 | I13: 0 | J13: =TRUNC(I13*D13,1) -> 0 | K13: =TRUNC(E13+G13+I13,1) -> 0 | L13: =TRUNC(F13+H13+J13,1) -> 0 | N13: 53710249751EB2BC19277323091525 | O13: 52238279327DF52F19D263DD17191 | P13: F | Q13: F | R13: F | S13: 1 | T13: 0 | U13: 0.03 | AK13: 53710249751EB2BC1927732309152552238279327DF52F19D263DD17191
A14: [ 합 계 ] | F14: =TRUNC(SUMIF(N11:N13, N10, F11:F13),0) -> 0 | H14: =TRUNC(SUMIF(N11:N13, N10, H11:H13),0) -> 0 | J14: =TRUNC(SUMIF(N11:N13, N10, J11:J13),0) -> 0 | L14: =F14+H14+J14 -> 0 | N14: TOTAL | O14: TOTAL
A16: 경관조명 분전반기초 500X675X850X700 개소 전기 5-27-1 ( 호표 3 ) | N16: 53710249751EB2BC19277323091522
A17: 경관조명 분전반기초 | B17: 500X675X850X700 | C17: 개소 | D17: 1 | E17: =단가대비표!O21 -> 0 | F17: =TRUNC(E17*D17,1) -> 0 | G17: =단가대비표!P21 -> 0 | H17: =TRUNC(G17*D17,1) -> 0 | I17: =단가대비표!V21 -> 0 | J17: =TRUNC(I17*D17,1) -> 0 | K17: =TRUNC(E17+G17+I17,1) -> 0 | L17: =TRUNC(F17+H17+J17,1) -> 0 | N17: 53710249751EB2BC19277323091522 | O17: 541682C904D66889199DFC35911AB1A845E18D | P17: F | Q17: F | R17: T | AK17: 53710249751EB2BC19277323091522541682C904D66889199DFC35911AB1A845E18D
A18: 경관조명 분전반기초 기계설치 | B18: 높이 10M 이하 | C18: 개소 | D18: 1 | E18: =중기단가목록!E6 -> 0 | F18: =TRUNC(E18*D18,1) -> 0 | G18: =중기단가목록!F6 -> 0 | H18: =TRUNC(G18*D18,1) -> 0 | I18: =중기단가목록!G6 -> 0 | J18: =TRUNC(I18*D18,1) -> 0 | K18: =TRUNC(E18+G18+I18,1) -> 0 | L18: =TRUNC(F18+H18+J18,1) -> 0 | M18: 산근 3 | N18: 53710249751EB2BC19277323091522 | O18: 537102597E1FFE0C19C3C75E4D1857 | P18: F | Q18: T | R18: F | AK18: 53710249751EB2BC19277323091522537102597E1FFE0C19C3C75E4D1857
A19: 터파기 | B19: 토사,백호80%+인력20% | C19: ㎥ | D19: 1.54 | E19: =중기단가목록!E4 -> 0 | F19: =TRUNC(E19*D19,1) -> 0 | G19: =중기단가목록!F4 -> 0 | H19: =TRUNC(G19*D19,1) -> 0 | I19: =중기단가목록!G4 -> 0 | J19: =TRUNC(I19*D19,1) -> 0 | K19: =TRUNC(E19+G19+I19,1) -> 0 | L19: =TRUNC(F19+H19+J19,1) -> 0 | M19: 산근 1 | N19: 53710249751EB2BC19277323091522 | O19: 533F82598DBDEBAF19DD0F6CF219B2 | P19: F | Q19: T | R19: F | V19: 1 | AK19: 53710249751EB2BC19277323091522533F82598DBDEBAF19DD0F6CF219B2
A20: 되메우고다지기 | B20: 백호0.2M3*래머80kg | C20: ㎥ | D20: 1.231 | E20: =중기단가목록!E5 -> 0 | F20: =TRUNC(E20*D20,1) -> 0 | G20: =중기단가목록!F5 -> 0 | H20: =TRUNC(G20*D20,1) -> 0 | I20: =중기단가목록!G5 -> 0 | J20: =TRUNC(I20*D20,1) -> 0 | K20: =TRUNC(E20+G20+I20,1) -> 0 | L20: =TRUNC(F20+H20+J20,1) -> 0 | M20: 산근 2 | N20: 53710249751EB2BC19277323091522 | O20: 533F8259E625D5C919A724A06D1ADE | P20: F | Q20: T | R20: F | V20: 1 | AK20: 53710249751EB2BC19277323091522533F8259E625D5C919A724A06D1ADE
A21: 보통인부 | B21: 일반공사 직종 | C21: 인 | D21: =공량산출근거서_일위대가!K13 -> 0.19 | E21: =단가대비표!O60 -> 0 | F21: =TRUNC(E21*D21,1) -> 0 | G21: =단가대비표!P60 -> 0 | H21: =TRUNC(G21*D21,1) -> 0 | I21: =단가대비표!V60 -> 0 | J21: =TRUNC(I21*D21,1) -> 0 | K21: =TRUNC(E21+G21+I21,1) -> 0 | L21: =TRUNC(F21+H21+J21,1) -> 0 | N21: 53710249751EB2BC19277323091522 | O21: 53E9520999DE9BC11986A23F121C766B9D75A7 | P21: F | Q21: F | R21: T | AK21: 53710249751EB2BC1927732309152253E9520999DE9BC11986A23F121C766B9D75A7
A22: 내선전공 | B22: 일반공사 직종 | C22: 인 | D22: =공량산출근거서_일위대가!K14 -> 0.08 | E22: =단가대비표!O66 -> 0 | F22: =TRUNC(E22*D22,1) -> 0 | G22: =단가대비표!P66 -> 0 | H22: =TRUNC(G22*D22,1) -> 0 | I22: =단가대비표!V66 -> 0 | J22: =TRUNC(I22*D22,1) -> 0 | K22: =TRUNC(E22+G22+I22,1) -> 0 | L22: =TRUNC(F22+H22+J22,1) -> 0 | N22: 53710249751EB2BC19277323091522 | O22: 53E9520999DE9BC11986A23F121C766B9D72D5 | P22: F | Q22: F | R22: T | AK22: 53710249751EB2BC1927732309152253E9520999DE9BC11986A23F121C766B9D72D5
A23: 공구손료 | B23: 인력품의 3% | C23: 식 | D23: 1 | E23: =TRUNC(SUMIF(V17:V23, RIGHTB(O23, 1), H17:H23)*U23, 2) -> 0 | F23: =TRUNC(E23*D23,1) -> 0 | G23: 0 | H23: =TRUNC(G23*D23,1) -> 0 | I23: 0 | J23: =TRUNC(I23*D23,1) -> 0 | K23: =TRUNC(E23+G23+I23,1) -> 0 | L23: =TRUNC(F23+H23+J23,1) -> 0 | N23: 53710249751EB2BC19277323091522 | O23: 52238279327DF52F19D263DD17191 | P23: F | Q23: F | R23: F | S23: 1 | T23: 0 | U23: 0.03 | AK23: 53710249751EB2BC1927732309152252238279327DF52F19D263DD17191
A24: [ 합 계 ] | F24: =TRUNC(SUMIF(N17:N23, N16, F17:F23),0) -> 0 | H24: =TRUNC(SUMIF(N17:N23, N16, H17:H23),0) -> 0 | J24: =TRUNC(SUMIF(N17:N23, N16, J17:J23),0) -> 0 | L24: =F24+H24+J24 -> 0 | N24: TOTAL | O24: TOTAL
A26: 차단기 MCCB 2P 50AF EA 전기 5-19 ( 호표 4 ) | N26: 5371024975D9C351192132B1E4138B
A27: 차단기 | B27: MCCB 2P 50AF | C27: 개 | D27: 1 | E27: =단가대비표!O47 -> 0 | F27: =TRUNC(E27*D27,1) -> 0 | G27: =단가대비표!P47 -> 0 | H27: =TRUNC(G27*D27,1) -> 0 | I27: =단가대비표!V47 -> 0 | J27: =TRUNC(I27*D27,1) -> 0 | K27: =TRUNC(E27+G27+I27,1) -> 0 | L27: =TRUNC(F27+H27+J27,1) -> 0 | N27: 5371024975D9C351192132B1E4138B | O27: 54160289A886DE5119D49DE3A61DB5B0A04473 | P27: F | Q27: F | R27: T | AK27: 5371024975D9C351192132B1E4138B54160289A886DE5119D49DE3A61DB5B0A04473
A28: 내선전공 | B28: 일반공사 직종 | C28: 인 | D28: =공량산출근거서_일위대가!K17 -> 0.182 | E28: =단가대비표!O66 -> 0 | F28: =TRUNC(E28*D28,1) -> 0 | G28: =단가대비표!P66 -> 0 | H28: =TRUNC(G28*D28,1) -> 0 | I28: =단가대비표!V66 -> 0 | J28: =TRUNC(I28*D28,1) -> 0 | K28: =TRUNC(E28+G28+I28,1) -> 0 | L28: =TRUNC(F28+H28+J28,1) -> 0 | N28: 5371024975D9C351192132B1E4138B | O28: 53E9520999DE9BC11986A23F121C766B9D72D5 | P28: F | Q28: F | R28: T | V28: 1 | AK28: 5371024975D9C351192132B1E4138B53E9520999DE9BC11986A23F121C766B9D72D5
A29: 공구손료 | B29: 인력품의 3% | C29: 식 | D29: 1 | E29: =TRUNC(SUMIF(V27:V29, RIGHTB(O29, 1), H27:H29)*U29, 2) -> 0 | F29: =TRUNC(E29*D29,1) -> 0 | G29: 0 | H29: =TRUNC(G29*D29,1) -> 0 | I29: 0 | J29: =TRUNC(I29*D29,1) -> 0 | K29: =TRUNC(E29+G29+I29,1) -> 0 | L29: =TRUNC(F29+H29+J29,1) -> 0 | N29: 5371024975D9C351192132B1E4138B | O29: 52238279327DF52F19D263DD17191 | P29: F | Q29: F | R29: F | S29: 1 | T29: 0 | U29: 0.03 | AK29: 5371024975D9C351192132B1E4138B52238279327DF52F19D263DD17191
A30: [ 합 계 ] | F30: =TRUNC(SUMIF(N27:N29, N26, F27:F29),0) -> 0 | H30: =TRUNC(SUMIF(N27:N29, N26, H27:H29),0) -> 0 | J30: =TRUNC(SUMIF(N27:N29, N26, J27:J29),0) -> 0 | L30: =F30+H30+J30 -> 0 | N30: TOTAL | O30: TOTAL
A32: 차단기 ELB 2P 30AF EA 전기 5-19 ( 호표 5 ) | N32: 5371024975D9C351192132B1E4138A
A33: 차단기 | B33: ELB 2P 30AF | C33: 개 | D33: 1 | E33: =단가대비표!O48 -> 0 | F33: =TRUNC(E33*D33,1) -> 0 | G33: =단가대비표!P48 -> 0 | H33: =TRUNC(G33*D33,1) -> 0 | I33: =단가대비표!V48 -> 0 | J33: =TRUNC(I33*D33,1) -> 0 | K33: =TRUNC(E33+G33+I33,1) -> 0 | L33: =TRUNC(F33+H33+J33,1) -> 0 | N33: 5371024975D9C351192132B1E4138A | O33: 54160289A886DE5119D49DE3A61DB5B0A04472 | P33: F | Q33: F | R33: T | AK33: 5371024975D9C351192132B1E4138A54160289A886DE5119D49DE3A61DB5B0A04472
A34: 내선전공 | B34: 일반공사 직종 | C34: 인 | D34: =공량산출근거서_일위대가!K20 -> 0.133 | E34: =단가대비표!O66 -> 0 | F34: =TRUNC(E34*D34,1) -> 0 | G34: =단가대비표!P66 -> 0 | H34: =TRUNC(G34*D34,1) -> 0 | I34: =단가대비표!V66 -> 0 | J34: =TRUNC(I34*D34,1) -> 0 | K34: =TRUNC(E34+G34+I34,1) -> 0 | L34: =TRUNC(F34+H34+J34,1) -> 0 | N34: 5371024975D9C351192132B1E4138A | O34: 53E9520999DE9BC11986A23F121C766B9D72D5 | P34: F | Q34: F | R34: T | V34: 1 | AK34: 5371024975D9C351192132B1E4138A53E9520999DE9BC11986A23F121C766B9D72D5
A35: 공구손료 | B35: 인력품의 3% | C35: 식 | D35: 1 | E35: =TRUNC(SUMIF(V33:V35, RIGHTB(O35, 1), H33:H35)*U35, 2) -> 0 | F35: =TRUNC(E35*D35,1) -> 0 | G35: 0 | H35: =TRUNC(G35*D35,1) -> 0 | I35: 0 | J35: =TRUNC(I35*D35,1) -> 0 | K35: =TRUNC(E35+G35+I35,1) -> 0 | L35: =TRUNC(F35+H35+J35,1) -> 0 | N35: 5371024975D9C351192132B1E4138A | O35: 52238279327DF52F19D263DD17191 | P35: F | Q35: F | R35: F | S35: 1 | T35: 0 | U35: 0.03 | AK35: 5371024975D9C351192132B1E4138A52238279327DF52F19D263DD17191
A36: [ 합 계 ] | F36: =TRUNC(SUMIF(N33:N35, N32, F33:F35),0) -> 0 | H36: =TRUNC(SUMIF(N33:N35, N32, H33:H35),0) -> 0 | J36: =TRUNC(SUMIF(N33:N35, N32, J33:J35),0) -> 0 | L36: =F36+H36+J36 -> 0 | N36: TOTAL | O36: TOTAL
A38: SMPS BOX(옥외노출) STS, 500X600X150 면 전기 5-18 ( 호표 6 ) | N38: 53710249751EB2BC19277323091524
A39: SMPS BOX(옥외노출) | B39: STS, 500X600X150 | C39: 대 | D39: 1 | E39: =단가대비표!O40 -> 0 | F39: =TRUNC(E39*D39,1) -> 0 | G39: =단가대비표!P40 -> 0 | H39: =TRUNC(G39*D39,1) -> 0 | I39: =단가대비표!V40 -> 0 | J39: =TRUNC(I39*D39,1) -> 0 | K39: =TRUNC(E39+G39+I39,1) -> 0 | L39: =TRUNC(F39+H39+J39,1) -> 0 | N39: 53710249751EB2BC19277323091524 | O39: 54160289A886DE24198CF61A65168F6F7DCFE0 | P39: F | Q39: F | R39: T | AK39: 53710249751EB2BC1927732309152454160289A886DE24198CF61A65168F6F7DCFE0
A40: 내선전공 | B40: 일반공사 직종 | C40: 인 | D40: =공량산출근거서_일위대가!K23 -> 0.1827 | E40: =단가대비표!O66 -> 0 | F40: =TRUNC(E40*D40,1) -> 0 | G40: =단가대비표!P66 -> 0 | H40: =TRUNC(G40*D40,1) -> 0 | I40: =단가대비표!V66 -> 0 | J40: =TRUNC(I40*D40,1) -> 0 | K40: =TRUNC(E40+G40+I40,1) -> 0 | L40: =TRUNC(F40+H40+J40,1) -> 0 | N40: 53710249751EB2BC19277323091524 | O40: 53E9520999DE9BC11986A23F121C766B9D72D5 | P40: F | Q40: F | R40: T | V40: 1 | AK40: 53710249751EB2BC1927732309152453E9520999DE9BC11986A23F121C766B9D72D5
A41: 공구손료 | B41: 인력품의 3% | C41: 식 | D41: 1 | E41: =TRUNC(SUMIF(V39:V41, RIGHTB(O41, 1), H39:H41)*U41, 2) -> 0 | F41: =TRUNC(E41*D41,1) -> 0 | G41: 0 | H41: =TRUNC(G41*D41,1) -> 0 | I41: 0 | J41: =TRUNC(I41*D41,1) -> 0 | K41: =TRUNC(E41+G41+I41,1) -> 0 | L41: =TRUNC(F41+H41+J41,1) -> 0 | N41: 53710249751EB2BC19277323091524 | O41: 52238279327DF52F19D263DD17191 | P41: F | Q41: F | R41: F | S41: 1 | T41: 0 | U41: 0.03 | AK41: 53710249751EB2BC1927732309152452238279327DF52F19D263DD17191
A42: [ 합 계 ] | F42: =TRUNC(SUMIF(N39:N41, N38, F39:F41),0) -> 0 | H42: =TRUNC(SUMIF(N39:N41, N38, H39:H41),0) -> 0 | J42: =TRUNC(SUMIF(N39:N41, N38, J39:J41),0) -> 0 | L42: =F42+H42+J42 -> 0 | N42: TOTAL | O42: TOTAL
A44: SMPS BOX 기초 400X600X600 개소 전기 5-27-1 ( 호표 7 ) | N44: 53710249751EB2BC192773230916CB
A45: SMPS BOX 기초(기성품) | B45: 400X600X600 | C45: 개소 | D45: 1 | E45: =단가대비표!O20 -> 0 | F45: =TRUNC(E45*D45,1) -> 0 | G45: =단가대비표!P20 -> 0 | H45: =TRUNC(G45*D45,1) -> 0 | I45: =단가대비표!V20 -> 0 | J45: =TRUNC(I45*D45,1) -> 0 | K45: =TRUNC(E45+G45+I45,1) -> 0 | L45: =TRUNC(F45+H45+J45,1) -> 0 | N45: 53710249751EB2BC192773230916CB | O45: 541682C904D66889199DFC35911AB1A845E3BF | P45: F | Q45: F | R45: T | AK45: 53710249751EB2BC192773230916CB541682C904D66889199DFC35911AB1A845E3BF
A46: 보통인부 | B46: 일반공사 직종 | C46: 인 | D46: =공량산출근거서_일위대가!K27 -> 0.19 | E46: =단가대비표!O60 -> 0 | F46: =TRUNC(E46*D46,1) -> 0 | G46: =단가대비표!P60 -> 0 | H46: =TRUNC(G46*D46,1) -> 0 | I46: =단가대비표!V60 -> 0 | J46: =TRUNC(I46*D46,1) -> 0 | K46: =TRUNC(E46+G46+I46,1) -> 0 | L46: =TRUNC(F46+H46+J46,1) -> 0 | N46: 53710249751EB2BC192773230916CB | O46: 53E9520999DE9BC11986A23F121C766B9D75A7 | P46: F | Q46: F | R46: T | V46: 1 | AK46: 53710249751EB2BC192773230916CB53E9520999DE9BC11986A23F121C766B9D75A7
A47: 내선전공 | B47: 일반공사 직종 | C47: 인 | D47: =공량산출근거서_일위대가!K28 -> 0.08 | E47: =단가대비표!O66 -> 0 | F47: =TRUNC(E47*D47,1) -> 0 | G47: =단가대비표!P66 -> 0 | H47: =TRUNC(G47*D47,1) -> 0 | I47: =단가대비표!V66 -> 0 | J47: =TRUNC(I47*D47,1) -> 0 | K47: =TRUNC(E47+G47+I47,1) -> 0 | L47: =TRUNC(F47+H47+J47,1) -> 0 | N47: 53710249751EB2BC192773230916CB | O47: 53E9520999DE9BC11986A23F121C766B9D72D5 | P47: F | Q47: F | R47: T | V47: 1 | AK47: 53710249751EB2BC192773230916CB53E9520999DE9BC11986A23F121C766B9D72D5
A48: 공구손료 | B48: 인력품의 3% | C48: 식 | D48: 1 | E48: =TRUNC(SUMIF(V45:V48, RIGHTB(O48, 1), H45:H48)*U48, 2) -> 0 | F48: =TRUNC(E48*D48,1) -> 0 | G48: 0 | H48: =TRUNC(G48*D48,1) -> 0 | I48: 0 | J48: =TRUNC(I48*D48,1) -> 0 | K48: =TRUNC(E48+G48+I48,1) -> 0 | L48: =TRUNC(F48+H48+J48,1) -> 0 | N48: 53710249751EB2BC192773230916CB | O48: 52238279327DF52F19D263DD17191 | P48: F | Q48: F | R48: F | S48: 1 | T48: 0 | U48: 0.03 | AK48: 53710249751EB2BC192773230916CB52238279327DF52F19D263DD17191
A49: [ 합 계 ] | F49: =TRUNC(SUMIF(N45:N48, N44, F45:F48),0) -> 0 | H49: =TRUNC(SUMIF(N45:N48, N44, H45:H48),0) -> 0 | J49: =TRUNC(SUMIF(N45:N48, N44, J45:J48),0) -> 0 | L49: =F49+H49+J49 -> 0 | N49: TOTAL | O49: TOTAL
A51: 전기맨홀 800*800*800 조 전기 4-43-3 ( 호표 8 ) | N51: 53710249751EB2CE19877D71101304
A52: 맨홀 | B52: 800x800x800 | C52: 조 | D52: 1 | E52: =단가대비표!O19 -> 0 | F52: =TRUNC(E52*D52,1) -> 0 | G52: =단가대비표!P19 -> 0 | H52: =TRUNC(G52*D52,1) -> 0 | I52: =단가대비표!V19 -> 0 | J52: =TRUNC(I52*D52,1) -> 0 | K52: =TRUNC(E52+G52+I52,1) -> 0 | L52: =TRUNC(F52+H52+J52,1) -> 0 | N52: 53710249751EB2CE19877D71101304 | O52: 541692E99002AADA19C2319D2112DA6064613A | P52: F | Q52: F | R52: T | AK52: 53710249751EB2CE19877D71101304541692E99002AADA19C2319D2112DA6064613A
A53: 접지용비닐절연전선 | B53: 접지용비닐절연전선, F-GV, 6㎟ | C53: m | D53: 5.5 | E53: =단가대비표!O9 -> 0 | F53: =TRUNC(E53*D53,1) -> 0 | G53: =단가대비표!P9 -> 0 | H53: =TRUNC(G53*D53,1) -> 0 | I53: =단가대비표!V9 -> 0 | J53: =TRUNC(I53*D53,1) -> 0 | K53: =TRUNC(E53+G53+I53,1) -> 0 | L53: =TRUNC(F53+H53+J53,1) -> 0 | N53: 53710249751EB2CE19877D71101304 | O53: 54044289D169785719369C3FCB14FD566C8C04 | P53: F | Q53: F | R53: T | V53: 1 | AK53: 53710249751EB2CE19877D7110130454044289D169785719369C3FCB14FD566C8C04
A54: 맨홀뚜껑 | B54: 맨홀뚜껑, 회주철, Φ800mm, | C54: 조 | D54: 1 | E54: =단가대비표!O18 -> 0 | F54: =TRUNC(E54*D54,1) -> 0 | G54: =단가대비표!P18 -> 0 | H54: =TRUNC(G54*D54,1) -> 0 | I54: =단가대비표!V18 -> 0 | J54: =TRUNC(I54*D54,1) -> 0 | K54: =TRUNC(E54+G54+I54,1) -> 0 | L54: =TRUNC(F54+H54+J54,1) -> 0 | N54: 53710249751EB2CE19877D71101304 | O54: 541692E99002AADA19C2FC99411A1A6317AC93 | P54: F | Q54: F | R54: T | AK54: 53710249751EB2CE19877D71101304541692E99002AADA19C2FC99411A1A6317AC93
A55: 잡재료비 | B55: 배관배선의 2% | C55: 식 | D55: 1 | E55: =TRUNC(SUMIF(V52:V67, RIGHTB(O55, 1), F52:F67)*U55, 2) -> 0 | F55: =TRUNC(E55*D55,1) -> 0 | G55: 0 | H55: =TRUNC(G55*D55,1) -> 0 | I55: 0 | J55: =TRUNC(I55*D55,1) -> 0 | K55: =TRUNC(E55+G55+I55,1) -> 0 | L55: =TRUNC(F55+H55+J55,1) -> 0 | N55: 53710249751EB2CE19877D71101304 | O55: 52238279327DF52F19D263DD17191 | P55: F | Q55: F | R55: F | S55: 0 | T55: 0 | U55: 0.02 | AK55: 53710249751EB2CE19877D7110130452238279327DF52F19D263DD17191
A56: 접지봉 | B56: 접지봉, 14Φ*1000mm | C56: 개 | D56: 1 | E56: =단가대비표!O44 -> 0 | F56: =TRUNC(E56*D56,1) -> 0 | G56: =단가대비표!P44 -> 0 | H56: =TRUNC(G56*D56,1) -> 0 | I56: =단가대비표!V44 -> 0 | J56: =TRUNC(I56*D56,1) -> 0 | K56: =TRUNC(E56+G56+I56,1) -> 0 | L56: =TRUNC(F56+H56+J56,1) -> 0 | N56: 53710249751EB2CE19877D71101304 | O56: 54160289A886DE5119D4E5F6EE120AE2EEACF3 | P56: F | Q56: F | R56: T | AK56: 53710249751EB2CE19877D7110130454160289A886DE5119D4E5F6EE120AE2EEACF3
A57: 회로커넥터 | B57: 볼트형커넥터, 일반형, Φ16mm | C57: 개 | D57: 1 | E57: =단가대비표!O42 -> 0 | F57: =TRUNC(E57*D57,1) -> 0 | G57: =단가대비표!P42 -> 0 | H57: =TRUNC(G57*D57,1) -> 0 | I57: =단가대비표!V42 -> 0 | J57: =TRUNC(I57*D57,1) -> 0 | K57: =TRUNC(E57+G57+I57,1) -> 0 | L57: =TRUNC(F57+H57+J57,1) -> 0 | N57: 53710249751EB2CE19877D71101304 | O57: 54160289A886DE7C19BEB1F54316879F737FE6 | P57: F | Q57: F | R57: T | AK57: 53710249751EB2CE19877D7110130454160289A886DE7C19BEB1F54316879F737FE6
A58: 터파기 | B58: 토사,백호80%+인력20% | C58: ㎥ | D58: 0.608 | E58: =중기단가목록!E4 -> 0 | F58: =TRUNC(E58*D58,1) -> 0 | G58: =중기단가목록!F4 -> 0 | H58: =TRUNC(G58*D58,1) -> 0 | I58: =중기단가목록!G4 -> 0 | J58: =TRUNC(I58*D58,1) -> 0 | K58: =TRUNC(E58+G58+I58,1) -> 0 | L58: =TRUNC(F58+H58+J58,1) -> 0 | M58: 산근 1 | N58: 53710249751EB2CE19877D71101304 | O58: 533F82598DBDEBAF19DD0F6CF219B2 | P58: F | Q58: T | R58: F | AK58: 53710249751EB2CE19877D71101304533F82598DBDEBAF19DD0F6CF219B2
A59: 되메우고다지기 | B59: 백호0.2M3*래머80kg | C59: ㎥ | D59: 0.392 | E59: =중기단가목록!E5 -> 0 | F59: =TRUNC(E59*D59,1) -> 0 | G59: =중기단가목록!F5 -> 0 | H59: =TRUNC(G59*D59,1) -> 0 | I59: =중기단가목록!G5 -> 0 | J59: =TRUNC(I59*D59,1) -> 0 | K59: =TRUNC(E59+G59+I59,1) -> 0 | L59: =TRUNC(F59+H59+J59,1) -> 0 | M59: 산근 2 | N59: 53710249751EB2CE19877D71101304 | O59: 533F8259E625D5C919A724A06D1ADE | P59: F | Q59: T | R59: F | AK59: 53710249751EB2CE19877D71101304533F8259E625D5C919A724A06D1ADE
A60: 현장내잔토처리 | B60: 소운반.고르기 | C60: ㎥ | D60: 0.216 | E60: =일위대가목록!E32 -> 0 | F60: =TRUNC(E60*D60,1) -> 0 | G60: =일위대가목록!F32 -> 0 | H60: =TRUNC(G60*D60,1) -> 0 | I60: =일위대가목록!G32 -> 0 | J60: =TRUNC(I60*D60,1) -> 0 | K60: =TRUNC(E60+G60+I60,1) -> 0 | L60: =TRUNC(F60+H60+J60,1) -> 0 | M60: 호표 29 | N60: 53710249751EB2CE19877D71101304 | O60: 533F8259E625D5BF195B5CDDF71C34 | P60: T | Q60: F | R60: F | W60: 2 | AK60: 53710249751EB2CE19877D71101304533F8259E625D5BF195B5CDDF71C34
A61: 작업반장 | B61: 일반공사 직종 | C61: 인 | D61: =공량산출근거서_일위대가!K37 -> 0.28 | E61: =단가대비표!O59 -> 0 | F61: =TRUNC(E61*D61,1) -> 0 | G61: =단가대비표!P59 -> 0 | H61: =TRUNC(G61*D61,1) -> 0 | I61: =단가대비표!V59 -> 0 | J61: =TRUNC(I61*D61,1) -> 0 | K61: =TRUNC(E61+G61+I61,1) -> 0 | L61: =TRUNC(F61+H61+J61,1) -> 0 | N61: 53710249751EB2CE19877D71101304 | O61: 53E9520999DE9BC11986A23F121C766B9D75A4 | P61: F | Q61: F | R61: T | W61: 2 | AK61: 53710249751EB2CE19877D7110130453E9520999DE9BC11986A23F121C766B9D75A4
A62: 보통인부 | B62: 일반공사 직종 | C62: 인 | D62: =공량산출근거서_일위대가!K38 -> 0.08 | E62: =단가대비표!O60 -> 0 | F62: =TRUNC(E62*D62,1) -> 0 | G62: =단가대비표!P60 -> 0 | H62: =TRUNC(G62*D62,1) -> 0 | I62: =단가대비표!V60 -> 0 | J62: =TRUNC(I62*D62,1) -> 0 | K62: =TRUNC(E62+G62+I62,1) -> 0 | L62: =TRUNC(F62+H62+J62,1) -> 0 | N62: 53710249751EB2CE19877D71101304 | O62: 53E9520999DE9BC11986A23F121C766B9D75A7 | P62: F | Q62: F | R62: T | W62: 2 | AK62: 53710249751EB2CE19877D7110130453E9520999DE9BC11986A23F121C766B9D75A7
A63: 특별인부 | B63: 일반공사 직종 | C63: 인 | D63: =공량산출근거서_일위대가!K39 -> 0.8 | E63: =단가대비표!O61 -> 0 | F63: =TRUNC(E63*D63,1) -> 0 | G63: =단가대비표!P61 -> 0 | H63: =TRUNC(G63*D63,1) -> 0 | I63: =단가대비표!V61 -> 0 | J63: =TRUNC(I63*D63,1) -> 0 | K63: =TRUNC(E63+G63+I63,1) -> 0 | L63: =TRUNC(F63+H63+J63,1) -> 0 | N63: 53710249751EB2CE19877D71101304 | O63: 53E9520999DE9BC11986A23F121C766B9D75A6 | P63: F | Q63: F | R63: T | AK63: 53710249751EB2CE19877D7110130453E9520999DE9BC11986A23F121C766B9D75A6
A64: 비계공 | B64: 일반공사 직종 | C64: 인 | D64: =공량산출근거서_일위대가!K40 -> 0.53 | E64: =단가대비표!O62 -> 0 | F64: =TRUNC(E64*D64,1) -> 0 | G64: =단가대비표!P62 -> 0 | H64: =TRUNC(G64*D64,1) -> 0 | I64: =단가대비표!V62 -> 0 | J64: =TRUNC(I64*D64,1) -> 0 | K64: =TRUNC(E64+G64+I64,1) -> 0 | L64: =TRUNC(F64+H64+J64,1) -> 0 | N64: 53710249751EB2CE19877D71101304 | O64: 53E9520999DE9BC11986A23F121C766B9D75A3 | P64: F | Q64: F | R64: T | AK64: 53710249751EB2CE19877D7110130453E9520999DE9BC11986A23F121C766B9D75A3
A65: 줄눈공 | B65: 일반공사 직종 | C65: 인 | D65: =공량산출근거서_일위대가!K41 -> 0.03 | E65: =단가대비표!O63 -> 0 | F65: =TRUNC(E65*D65,1) -> 0 | G65: =단가대비표!P63 -> 0 | H65: =TRUNC(G65*D65,1) -> 0 | I65: =단가대비표!V63 -> 0 | J65: =TRUNC(I65*D65,1) -> 0 | K65: =TRUNC(E65+G65+I65,1) -> 0 | L65: =TRUNC(F65+H65+J65,1) -> 0 | N65: 53710249751EB2CE19877D71101304 | O65: 53E9520999DE9BC11986A23F121C766B9D764F | P65: F | Q65: F | R65: T | AK65: 53710249751EB2CE19877D7110130453E9520999DE9BC11986A23F121C766B9D764F
A66: 내선전공 | B66: 일반공사 직종 | C66: 인 | D66: =공량산출근거서_일위대가!K42 -> 0.14 | E66: =단가대비표!O66 -> 0 | F66: =TRUNC(E66*D66,1) -> 0 | G66: =단가대비표!P66 -> 0 | H66: =TRUNC(G66*D66,1) -> 0 | I66: =단가대비표!V66 -> 0 | J66: =TRUNC(I66*D66,1) -> 0 | K66: =TRUNC(E66+G66+I66,1) -> 0 | L66: =TRUNC(F66+H66+J66,1) -> 0 | N66: 53710249751EB2CE19877D71101304 | O66: 53E9520999DE9BC11986A23F121C766B9D72D5 | P66: F | Q66: F | R66: T | AK66: 53710249751EB2CE19877D7110130453E9520999DE9BC11986A23F121C766B9D72D5
A67: 공구손료 | B67: 인력품의 3% | C67: 식 | D67: 1 | E67: =TRUNC(SUMIF(W52:W67, RIGHTB(O67, 1), H52:H67)*U67, 2) -> 0 | F67: =TRUNC(E67*D67,1) -> 0 | G67: 0 | H67: =TRUNC(G67*D67,1) -> 0 | I67: 0 | J67: =TRUNC(I67*D67,1) -> 0 | K67: =TRUNC(E67+G67+I67,1) -> 0 | L67: =TRUNC(F67+H67+J67,1) -> 0 | N67: 53710249751EB2CE19877D71101304 | O67: 52238279327DF52F19D263DD171A2 | P67: F | Q67: F | R67: F | S67: 1 | T67: 0 | U67: 0.03 | AK67: 53710249751EB2CE19877D7110130452238279327DF52F19D263DD171A2
A68: [ 합 계 ] | F68: =TRUNC(SUMIF(N52:N67, N51, F52:F67),0) -> 0 | H68: =TRUNC(SUMIF(N52:N67, N51, H52:H67),0) -> 0 | J68: =TRUNC(SUMIF(N52:N67, N51, J52:J67),0) -> 0 | L68: =F68+H68+J68 -> 0 | N68: TOTAL | O68: TOTAL
A70: 접지공사(분전반) 16Φ*1000 mm 개 전기 3-38 ( 호표 9 ) | N70: 53710249751EB2FB19DFA6A32E18ED
A71: 접지봉 | B71: 접지봉, 16Φ*1800mm | C71: 개 | D71: 3 | E71: =단가대비표!O45 -> 0 | F71: =TRUNC(E71*D71,1) -> 0 | G71: =단가대비표!P45 -> 0 | H71: =TRUNC(G71*D71,1) -> 0 | I71: =단가대비표!V45 -> 0 | J71: =TRUNC(I71*D71,1) -> 0 | K71: =TRUNC(E71+G71+I71,1) -> 0 | L71: =TRUNC(F71+H71+J71,1) -> 0 | N71: 53710249751EB2FB19DFA6A32E18ED | O71: 54160289A886DE5119D4E5F6EE120AE2EEACF1 | P71: F | Q71: F | R71: T | AK71: 53710249751EB2FB19DFA6A32E18ED54160289A886DE5119D4E5F6EE120AE2EEACF1
A72: 회로커넥터 | B72: 볼트형커넥터, 일반형, Φ16mm | C72: 개 | D72: 3 | E72: =단가대비표!O42 -> 0 | F72: =TRUNC(E72*D72,1) -> 0 | G72: =단가대비표!P42 -> 0 | H72: =TRUNC(G72*D72,1) -> 0 | I72: =단가대비표!V42 -> 0 | J72: =TRUNC(I72*D72,1) -> 0 | K72: =TRUNC(E72+G72+I72,1) -> 0 | L72: =TRUNC(F72+H72+J72,1) -> 0 | N72: 53710249751EB2FB19DFA6A32E18ED | O72: 54160289A886DE7C19BEB1F54316879F737FE6 | P72: F | Q72: F | R72: T | AK72: 53710249751EB2FB19DFA6A32E18ED54160289A886DE7C19BEB1F54316879F737FE6
A73: 접지 저항 저감제 | B73: 아스론 10KG | C73: 포 | D73: 1 | E73: =단가대비표!O46 -> 0 | F73: =TRUNC(E73*D73,1) -> 0 | G73: =단가대비표!P46 -> 0 | H73: =TRUNC(G73*D73,1) -> 0 | I73: =단가대비표!V46 -> 0 | J73: =TRUNC(I73*D73,1) -> 0 | K73: =TRUNC(E73+G73+I73,1) -> 0 | L73: =TRUNC(F73+H73+J73,1) -> 0 | N73: 53710249751EB2FB19DFA6A32E18ED | O73: 54160289A886DE5119D4E5DA061EAB2CD8DD7B | P73: F | Q73: F | R73: T | AK73: 53710249751EB2FB19DFA6A32E18ED54160289A886DE5119D4E5DA061EAB2CD8DD7B
A74: 터파기 | B74: 토사,백호80%+인력20% | C74: ㎥ | D74: 2 | E74: =중기단가목록!E4 -> 0 | F74: =TRUNC(E74*D74,1) -> 0 | G74: =중기단가목록!F4 -> 0 | H74: =TRUNC(G74*D74,1) -> 0 | I74: =중기단가목록!G4 -> 0 | J74: =TRUNC(I74*D74,1) -> 0 | K74: =TRUNC(E74+G74+I74,1) -> 0 | L74: =TRUNC(F74+H74+J74,1) -> 0 | M74: 산근 1 | N74: 53710249751EB2FB19DFA6A32E18ED | O74: 533F82598DBDEBAF19DD0F6CF219B2 | P74: F | Q74: T | R74: F | AK74: 53710249751EB2FB19DFA6A32E18ED533F82598DBDEBAF19DD0F6CF219B2
A75: 되메우고다지기 | B75: 백호0.2M3*래머80kg | C75: ㎥ | D75: 2 | E75: =중기단가목록!E5 -> 0 | F75: =TRUNC(E75*D75,1) -> 0 | G75: =중기단가목록!F5 -> 0 | H75: =TRUNC(G75*D75,1) -> 0 | I75: =중기단가목록!G5 -> 0 | J75: =TRUNC(I75*D75,1) -> 0 | K75: =TRUNC(E75+G75+I75,1) -> 0 | L75: =TRUNC(F75+H75+J75,1) -> 0 | M75: 산근 2 | N75: 53710249751EB2FB19DFA6A32E18ED | O75: 533F8259E625D5C919A724A06D1ADE | P75: F | Q75: T | R75: F | AK75: 53710249751EB2FB19DFA6A32E18ED533F8259E625D5C919A724A06D1ADE
A76: 보통인부 | B76: 일반공사 직종 | C76: 인 | D76: 0.2 | E76: =단가대비표!O60 -> 0 | F76: =TRUNC(E76*D76,1) -> 0 | G76: =단가대비표!P60 -> 0 | H76: =TRUNC(G76*D76,1) -> 0 | I76: =단가대비표!V60 -> 0 | J76: =TRUNC(I76*D76,1) -> 0 | K76: =TRUNC(E76+G76+I76,1) -> 0 | L76: =TRUNC(F76+H76+J76,1) -> 0 | N76: 53710249751EB2FB19DFA6A32E18ED | O76: 53E9520999DE9BC11986A23F121C766B9D75A7 | P76: F | Q76: F | R76: T | AK76: 53710249751EB2FB19DFA6A32E18ED53E9520999DE9BC11986A23F121C766B9D75A7
A77: 내선전공 | B77: 일반공사 직종 | C77: 인 | D77: 0.24 | E77: =단가대비표!O66 -> 0 | F77: =TRUNC(E77*D77,1) -> 0 | G77: =단가대비표!P66 -> 0 | H77: =TRUNC(G77*D77,1) -> 0 | I77: =단가대비표!V66 -> 0 | J77: =TRUNC(I77*D77,1) -> 0 | K77: =TRUNC(E77+G77+I77,1) -> 0 | L77: =TRUNC(F77+H77+J77,1) -> 0 | N77: 53710249751EB2FB19DFA6A32E18ED | O77: 53E9520999DE9BC11986A23F121C766B9D72D5 | P77: F | Q77: F | R77: T | AK77: 53710249751EB2FB19DFA6A32E18ED53E9520999DE9BC11986A23F121C766B9D72D5
A78: 공구손료 | B78: 인력품의 3% | C78: 식 | D78: 1 | E78: =TRUNC(SUMIF(V71:V78, RIGHTB(O78, 1), H71:H78)*U78, 2) -> 0 | F78: =TRUNC(E78*D78,1) -> 0 | G78: 0 | H78: =TRUNC(G78*D78,1) -> 0 | I78: 0 | J78: =TRUNC(I78*D78,1) -> 0 | K78: =TRUNC(E78+G78+I78,1) -> 0 | L78: =TRUNC(F78+H78+J78,1) -> 0 | N78: 53710249751EB2FB19DFA6A32E18ED | O78: 52238279327DF52F19D263DD17191 | P78: F | Q78: F | R78: F | S78: 1 | T78: 0 | U78: 0.03 | AK78: 53710249751EB2FB19DFA6A32E18ED52238279327DF52F19D263DD17191
A79: [ 합 계 ] | F79: =TRUNC(SUMIF(N71:N78, N70, F71:F78),0) -> 0 | H79: =TRUNC(SUMIF(N71:N78, N70, H71:H78),0) -> 0 | J79: =TRUNC(SUMIF(N71:N78, N70, J71:J78),0) -> 0 | L79: =F79+H79+J79 -> 0 | N79: TOTAL | O79: TOTAL
A81: 풀박스 150X150X100 개 전기 5-4 ( 호표 10 ) | N81: 5371024975D9C3631993C85EFE142A
A82: 풀박스 | B82: 풀박스, 150*150*100mm | C82: 개 | D82: 1 | E82: =단가대비표!O41 -> 0 | F82: =TRUNC(E82*D82,1) -> 0 | G82: =단가대비표!P41 -> 0 | H82: =TRUNC(G82*D82,1) -> 0 | I82: =단가대비표!V41 -> 0 | J82: =TRUNC(I82*D82,1) -> 0 | K82: =TRUNC(E82+G82+I82,1) -> 0 | L82: =TRUNC(F82+H82+J82,1) -> 0 | N82: 5371024975D9C3631993C85EFE142A | O82: 54160289A886DE0919B708B2A2141B8C4A6EF5 | P82: F | Q82: F | R82: T | AK82: 5371024975D9C3631993C85EFE142A54160289A886DE0919B708B2A2141B8C4A6EF5
A83: 내선전공 | B83: 일반공사 직종 | C83: 인 | D83: =공량산출근거서_일위대가!K45 -> 0.04 | E83: =단가대비표!O66 -> 0 | F83: =TRUNC(E83*D83,1) -> 0 | G83: =단가대비표!P66 -> 0 | H83: =TRUNC(G83*D83,1) -> 0 | I83: =단가대비표!V66 -> 0 | J83: =TRUNC(I83*D83,1) -> 0 | K83: =TRUNC(E83+G83+I83,1) -> 0 | L83: =TRUNC(F83+H83+J83,1) -> 0 | N83: 5371024975D9C3631993C85EFE142A | O83: 53E9520999DE9BC11986A23F121C766B9D72D5 | P83: F | Q83: F | R83: T | V83: 1 | AK83: 5371024975D9C3631993C85EFE142A53E9520999DE9BC11986A23F121C766B9D72D5
A84: 공구손료 | B84: 인력품의 3% | C84: 식 | D84: 1 | E84: =TRUNC(SUMIF(V82:V84, RIGHTB(O84, 1), H82:H84)*U84, 2) -> 0 | F84: =TRUNC(E84*D84,1) -> 0 | G84: 0 | H84: =TRUNC(G84*D84,1) -> 0 | I84: 0 | J84: =TRUNC(I84*D84,1) -> 0 | K84: =TRUNC(E84+G84+I84,1) -> 0 | L84: =TRUNC(F84+H84+J84,1) -> 0 | N84: 5371024975D9C3631993C85EFE142A | O84: 52238279327DF52F19D263DD17191 | P84: F | Q84: F | R84: F | S84: 1 | T84: 0 | U84: 0.03 | AK84: 5371024975D9C3631993C85EFE142A52238279327DF52F19D263DD17191
A85: [ 합 계 ] | F85: =TRUNC(SUMIF(N82:N84, N81, F82:F84),0) -> 0 | H85: =TRUNC(SUMIF(N82:N84, N81, H82:H84),0) -> 0 | J85: =TRUNC(SUMIF(N82:N84, N81, J82:J84),0) -> 0 | L85: =F85+H85+J85 -> 0 | N85: TOTAL | O85: TOTAL
A87: 벽관통 구멍뚫기 두께40cm이하 Ø50mm 개소 전기 5-29-1.1 ( 호표 11 ) | N87: 5371024975D9C34019CC2742011DBF
A88: 벽관통 구멍뚫기 | B88: 두께40cm이하 Ø50mm | C88: 개소 | D88: 1 | E88: =단가대비표!O24 -> 0 | F88: =TRUNC(E88*D88,1) -> 0 | G88: =단가대비표!P24 -> 0 | H88: =TRUNC(G88*D88,1) -> 0 | I88: =단가대비표!V24 -> 0 | J88: =TRUNC(I88*D88,1) -> 0 | K88: =TRUNC(E88+G88+I88,1) -> 0 | L88: =TRUNC(F88+H88+J88,1) -> 0 | M88: 품적용 | N88: 5371024975D9C34019CC2742011DBF | O88: 54160289A8B21AFF19D5F0702D1A65A2B302B3 | P88: F | Q88: F | R88: T | AK88: 5371024975D9C34019CC2742011DBF54160289A8B21AFF19D5F0702D1A65A2B302B3
A89: 특별인부 | B89: 일반공사 직종 | C89: 인 | D89: =공량산출근거서_일위대가!K48 -> 0.26 | E89: =단가대비표!O61 -> 0 | F89: =TRUNC(E89*D89,1) -> 0 | G89: =단가대비표!P61 -> 0 | H89: =TRUNC(G89*D89,1) -> 0 | I89: =단가대비표!V61 -> 0 | J89: =TRUNC(I89*D89,1) -> 0 | K89: =TRUNC(E89+G89+I89,1) -> 0 | L89: =TRUNC(F89+H89+J89,1) -> 0 | N89: 5371024975D9C34019CC2742011DBF | O89: 53E9520999DE9BC11986A23F121C766B9D75A6 | P89: F | Q89: F | R89: T | V89: 1 | AK89: 5371024975D9C34019CC2742011DBF53E9520999DE9BC11986A23F121C766B9D75A6
A90: 공구손료 | B90: 인력품의 3% | C90: 식 | D90: 1 | E90: =TRUNC(SUMIF(V88:V90, RIGHTB(O90, 1), H88:H90)*U90, 2) -> 0 | F90: =TRUNC(E90*D90,1) -> 0 | G90: 0 | H90: =TRUNC(G90*D90,1) -> 0 | I90: 0 | J90: =TRUNC(I90*D90,1) -> 0 | K90: =TRUNC(E90+G90+I90,1) -> 0 | L90: =TRUNC(F90+H90+J90,1) -> 0 | N90: 5371024975D9C34019CC2742011DBF | O90: 52238279327DF52F19D263DD17191 | P90: F | Q90: F | R90: F | S90: 1 | T90: 0 | U90: 0.03 | AK90: 5371024975D9C34019CC2742011DBF52238279327DF52F19D263DD17191
A91: [ 합 계 ] | F91: =TRUNC(SUMIF(N88:N90, N87, F88:F90),0) -> 0 | H91: =TRUNC(SUMIF(N88:N90, N87, H88:H90),0) -> 0 | J91: =TRUNC(SUMIF(N88:N90, N87, J88:J90),0) -> 0 | L91: =F91+H91+J91 -> 0 | N91: TOTAL | O91: TOTAL
A93: 케이블표지시트 케이블표지시트, 0.23*400mm M 전기 4-45 ( 호표 12 ) | N93: 53710249755465FB1944F8B0C51521
A94: 지중선용가선철물 | B94: 케이블표지시트, 0.23*400mm | C94: 개 | D94: 1 | E94: =단가대비표!O51 -> 0 | F94: =TRUNC(E94*D94,1) -> 0 | G94: =단가대비표!P51 -> 0 | H94: =TRUNC(G94*D94,1) -> 0 | I94: =단가대비표!V51 -> 0 | J94: =TRUNC(I94*D94,1) -> 0 | K94: =TRUNC(E94+G94+I94,1) -> 0 | L94: =TRUNC(F94+H94+J94,1) -> 0 | N94: 53710249755465FB1944F8B0C51521 | O94: 54160289A886E8BE199351979F1B4140F33C69 | P94: F | Q94: F | R94: T | AK94: 53710249755465FB1944F8B0C5152154160289A886E8BE199351979F1B4140F33C69
A95: 보통인부 | B95: 일반공사 직종 | C95: 인 | D95: =공량산출근거서_일위대가!K52 -> 0.001 | E95: =단가대비표!O60 -> 0 | F95: =TRUNC(E95*D95,1) -> 0 | G95: =단가대비표!P60 -> 0 | H95: =TRUNC(G95*D95,1) -> 0 | I95: =단가대비표!V60 -> 0 | J95: =TRUNC(I95*D95,1) -> 0 | K95: =TRUNC(E95+G95+I95,1) -> 0 | L95: =TRUNC(F95+H95+J95,1) -> 0 | N95: 53710249755465FB1944F8B0C51521 | O95: 53E9520999DE9BC11986A23F121C766B9D75A7 | P95: F | Q95: F | R95: T | V95: 1 | AK95: 53710249755465FB1944F8B0C5152153E9520999DE9BC11986A23F121C766B9D75A7
A96: 저압케이블전공 | B96: 일반공사 직종 | C96: 인 | D96: =공량산출근거서_일위대가!K53 -> 0.0005 | E96: =단가대비표!O67 -> 0 | F96: =TRUNC(E96*D96,1) -> 0 | G96: =단가대비표!P67 -> 0 | H96: =TRUNC(G96*D96,1) -> 0 | I96: =단가대비표!V67 -> 0 | J96: =TRUNC(I96*D96,1) -> 0 | K96: =TRUNC(E96+G96+I96,1) -> 0 | L96: =TRUNC(F96+H96+J96,1) -> 0 | N96: 53710249755465FB1944F8B0C51521 | O96: 53E9520999DE9BC11986A23F121C766B9D72D8 | P96: F | Q96: F | R96: T | V96: 1 | AK96: 53710249755465FB1944F8B0C5152153E9520999DE9BC11986A23F121C766B9D72D8
A97: 공구손료 | B97: 인력품의 3% | C97: 식 | D97: 1 | E97: =TRUNC(SUMIF(V94:V97, RIGHTB(O97, 1), H94:H97)*U97, 2) -> 0 | F97: =TRUNC(E97*D97,1) -> 0 | G97: 0 | H97: =TRUNC(G97*D97,1) -> 0 | I97: 0 | J97: =TRUNC(I97*D97,1) -> 0 | K97: =TRUNC(E97+G97+I97,1) -> 0 | L97: =TRUNC(F97+H97+J97,1) -> 0 | N97: 53710249755465FB1944F8B0C51521 | O97: 52238279327DF52F19D263DD17191 | P97: F | Q97: F | R97: F | S97: 1 | T97: 0 | U97: 0.03 | AK97: 53710249755465FB1944F8B0C5152152238279327DF52F19D263DD17191
A98: [ 합 계 ] | F98: =TRUNC(SUMIF(N94:N97, N93, F94:F97),0) -> 0 | H98: =TRUNC(SUMIF(N94:N97, N93, H94:H97),0) -> 0 | J98: =TRUNC(SUMIF(N94:N97, N93, J94:J97),0) -> 0 | L98: =F98+H98+J98 -> 0 | N98: TOTAL | O98: TOTAL
A100: 폴리에틸렌 전선관(지중) CD-P 22㎜ M 전기 5-1 ( 호표 13 ) | N100: 53710249755465D819758AF0CB13A2
A101: 폴리에틸렌 전선관(지중) | B101: CD-P 22㎜ | C101: m | D101: 1.05 | E101: =단가대비표!O52 -> 0 | F101: =TRUNC(E101*D101,1) -> 0 | G101: =단가대비표!P52 -> 0 | H101: =TRUNC(G101*D101,1) -> 0 | I101: =단가대비표!V52 -> 0 | J101: =TRUNC(I101*D101,1) -> 0 | K101: =TRUNC(E101+G101+I101,1) -> 0 | L101: =TRUNC(F101+H101+J101,1) -> 0 | N101: 53710249755465D819758AF0CB13A2 | O101: 54160289A89722FC191D4B5FC81D6ECAE227F3 | P101: F | Q101: F | R101: T | V101: 1 | W101: 2 | AK101: 53710249755465D819758AF0CB13A254160289A89722FC191D4B5FC81D6ECAE227F3
A102: 전선관부속품비 | B102: 전선관의 15% | C102: 식 | D102: 1 | E102: =TRUNC(SUMIF(V101:V106, RIGHTB(O102, 1), F101:F106)*U102, 2) -> 0 | F102: =TRUNC(E102*D102,1) -> 0 | G102: 0 | H102: =TRUNC(G102*D102,1) -> 0 | I102: 0 | J102: =TRUNC(I102*D102,1) -> 0 | K102: =TRUNC(E102+G102+I102,1) -> 0 | L102: =TRUNC(F102+H102+J102,1) -> 0 | N102: 53710249755465D819758AF0CB13A2 | O102: 52238279327DF52F19D263DD17191 | P102: F | Q102: F | R102: F | S102: 0 | T102: 0 | U102: 0.15 | AK102: 53710249755465D819758AF0CB13A252238279327DF52F19D263DD171B3
A103: 잡재료비 | B103: 배관배선의 2% | C103: 식 | D103: 1 | E103: =TRUNC(SUMIF(W101:W106, RIGHTB(O103, 1), F101:F106)*U103, 2) -> 0 | F103: =TRUNC(E103*D103,1) -> 0 | G103: 0 | H103: =TRUNC(G103*D103,1) -> 0 | I103: 0 | J103: =TRUNC(I103*D103,1) -> 0 | K103: =TRUNC(E103+G103+I103,1) -> 0 | L103: =TRUNC(F103+H103+J103,1) -> 0 | N103: 53710249755465D819758AF0CB13A2 | O103: 52238279327DF52F19D263DD171A2 | P103: F | Q103: F | R103: F | S103: 0 | T103: 0 | U103: 0.02 | AK103: 53710249755465D819758AF0CB13A252238279327DF52F19D263DD17191
A104: 보통인부 | B104: 일반공사 직종 | C104: 인 | D104: =공량산출근거서_일위대가!K57 -> 0.0126 | E104: =단가대비표!O60 -> 0 | F104: =TRUNC(E104*D104,1) -> 0 | G104: =단가대비표!P60 -> 0 | H104: =TRUNC(G104*D104,1) -> 0 | I104: =단가대비표!V60 -> 0 | J104: =TRUNC(I104*D104,1) -> 0 | K104: =TRUNC(E104+G104+I104,1) -> 0 | L104: =TRUNC(F104+H104+J104,1) -> 0 | N104: 53710249755465D819758AF0CB13A2 | O104: 53E9520999DE9BC11986A23F121C766B9D75A7 | P104: F | Q104: F | R104: T | X104: 3 | AK104: 53710249755465D819758AF0CB13A253E9520999DE9BC11986A23F121C766B9D75A7
A105: 배전전공 | B105: 일반공사 직종 | C105: 인 | D105: =공량산출근거서_일위대가!K58 -> 0.0054 | E105: =단가대비표!O68 -> 0 | F105: =TRUNC(E105*D105,1) -> 0 | G105: =단가대비표!P68 -> 0 | H105: =TRUNC(G105*D105,1) -> 0 | I105: =단가대비표!V68 -> 0 | J105: =TRUNC(I105*D105,1) -> 0 | K105: =TRUNC(E105+G105+I105,1) -> 0 | L105: =TRUNC(F105+H105+J105,1) -> 0 | N105: 53710249755465D819758AF0CB13A2 | O105: 53E9520999DE9BC11986A23F121C766B9D7DFA | P105: F | Q105: F | R105: T | X105: 3 | AK105: 53710249755465D819758AF0CB13A253E9520999DE9BC11986A23F121C766B9D7DFA
A106: 공구손료 | B106: 인력품의 3% | C106: 식 | D106: 1 | E106: =TRUNC(SUMIF(X101:X106, RIGHTB(O106, 1), H101:H106)*U106, 2) -> 0 | F106: =TRUNC(E106*D106,1) -> 0 | G106: 0 | H106: =TRUNC(G106*D106,1) -> 0 | I106: 0 | J106: =TRUNC(I106*D106,1) -> 0 | K106: =TRUNC(E106+G106+I106,1) -> 0 | L106: =TRUNC(F106+H106+J106,1) -> 0 | N106: 53710249755465D819758AF0CB13A2 | O106: 52238279327DF52F19D263DD171B3 | P106: F | Q106: F | R106: F | S106: 1 | T106: 0 | U106: 0.03 | AK106: 53710249755465D819758AF0CB13A252238279327DF52F19D263DD171A2
A107: [ 합 계 ] | F107: =TRUNC(SUMIF(N101:N106, N100, F101:F106),0) -> 0 | H107: =TRUNC(SUMIF(N101:N106, N100, H101:H106),0) -> 0 | J107: =TRUNC(SUMIF(N101:N106, N100, J101:J106),0) -> 0 | L107: =F107+H107+J107 -> 0 | N107: TOTAL | O107: TOTAL
A109: 폴리에틸렌 전선관(지중) CD-P 28㎜ M 전기 4-31 ( 호표 14 ) | N109: 53710249755465D819758AF0CB144B
A110: 폴리에틸렌 전선관(지중) | B110: CD-P 28㎜ | C110: m | D110: 1.05 | E110: =단가대비표!O53 -> 0 | F110: =TRUNC(E110*D110,1) -> 0 | G110: =단가대비표!P53 -> 0 | H110: =TRUNC(G110*D110,1) -> 0 | I110: =단가대비표!V53 -> 0 | J110: =TRUNC(I110*D110,1) -> 0 | K110: =TRUNC(E110+G110+I110,1) -> 0 | L110: =TRUNC(F110+H110+J110,1) -> 0 | N110: 53710249755465D819758AF0CB144B | O110: 54160289A89722FC191D4B5FC81D6ECAE227F4 | P110: F | Q110: F | R110: T | V110: 1 | W110: 2 | AK110: 53710249755465D819758AF0CB144B54160289A89722FC191D4B5FC81D6ECAE227F4
A111: 전선관부속품비 | B111: 전선관의 15% | C111: 식 | D111: 1 | E111: =TRUNC(SUMIF(V110:V115, RIGHTB(O111, 1), F110:F115)*U111, 2) -> 0 | F111: =TRUNC(E111*D111,1) -> 0 | G111: 0 | H111: =TRUNC(G111*D111,1) -> 0 | I111: 0 | J111: =TRUNC(I111*D111,1) -> 0 | K111: =TRUNC(E111+G111+I111,1) -> 0 | L111: =TRUNC(F111+H111+J111,1) -> 0 | N111: 53710249755465D819758AF0CB144B | O111: 52238279327DF52F19D263DD17191 | P111: F | Q111: F | R111: F | S111: 0 | T111: 0 | U111: 0.15 | AK111: 53710249755465D819758AF0CB144B52238279327DF52F19D263DD171B3
A112: 잡재료비 | B112: 배관배선의 2% | C112: 식 | D112: 1 | E112: =TRUNC(SUMIF(W110:W115, RIGHTB(O112, 1), F110:F115)*U112, 2) -> 0 | F112: =TRUNC(E112*D112,1) -> 0 | G112: 0 | H112: =TRUNC(G112*D112,1) -> 0 | I112: 0 | J112: =TRUNC(I112*D112,1) -> 0 | K112: =TRUNC(E112+G112+I112,1) -> 0 | L112: =TRUNC(F112+H112+J112,1) -> 0 | N112: 53710249755465D819758AF0CB144B | O112: 52238279327DF52F19D263DD171A2 | P112: F | Q112: F | R112: F | S112: 0 | T112: 0 | U112: 0.02 | AK112: 53710249755465D819758AF0CB144B52238279327DF52F19D263DD17191
A113: 보통인부 | B113: 일반공사 직종 | C113: 인 | D113: =공량산출근거서_일위대가!K62 -> 0.0126 | E113: =단가대비표!O60 -> 0 | F113: =TRUNC(E113*D113,1) -> 0 | G113: =단가대비표!P60 -> 0 | H113: =TRUNC(G113*D113,1) -> 0 | I113: =단가대비표!V60 -> 0 | J113: =TRUNC(I113*D113,1) -> 0 | K113: =TRUNC(E113+G113+I113,1) -> 0 | L113: =TRUNC(F113+H113+J113,1) -> 0 | N113: 53710249755465D819758AF0CB144B | O113: 53E9520999DE9BC11986A23F121C766B9D75A7 | P113: F | Q113: F | R113: T | X113: 3 | AK113: 53710249755465D819758AF0CB144B53E9520999DE9BC11986A23F121C766B9D75A7
...

Sheet 중기단가목록
A1: 중 기 단 가 목 록
A2: [ 세계유산주변 한식담장 경관조명 설치사업 ]
A3: 코 드 | B3: 품 명 | C3: 규 격 | D3: 단위 | E3: 재 료 비 | F3: 노 무 비 | G3: 경 비 | H3: 합 계 | I3: 번 호 | J3: 비 고 | K3: START
A4: 533F82598DBDEBAF19DD0F6CF219B2 | B4: 터파기 | C4: 토사,백호80%+인력20% | D4: ㎥ | I4: 산근 1 | K4: 533F82598DBDEBAF19DD0F6CF219B2
A5: 533F8259E625D5C919A724A06D1ADE | B5: 되메우고다지기 | C5: 백호0.2M3*래머80kg | D5: ㎥ | I5: 산근 2 | K5: 533F8259E625D5C919A724A06D1ADE
A6: 537102597E1FFE0C19C3C75E4D1857 | B6: 경관조명 분전반기초 기계설치 | C6: 높이 10M 이하 | D6: 개소 | I6: 산근 3 | K6: 537102597E1FFE0C19C3C75E4D1857

Sheet 중기단가산출서
A1: 중 기 단 가 산 출 서
A2: [ 세계유산주변 한식담장 경관조명 설치사업 ]
A3: 산 출 내 역 | B3: 재 료 비 | C3: 노 무 비 | D3: 경 비 | E3: 합 계 | F3: 비 고 | G3: START | H3: 코드 | I3: 품명 | J3: 규격 | K3: 단위 | L3: 수량
A4: 터파기 토사,백호80%+인력20% ㎥ ( 산근 1 ) | G4: 533F82598DBDEBAF19DD0F6CF219B2 | I4: 터파기 | J4: 토사,백호80%+인력20% | K4: ㎥
G5: 533F82598DBDEBAF19DD0F6CF219B2 | H5: C | L5: 1
A6: 굴삭기 (무한궤도),유압식백호,0.2㎥ M3 | B6: 0 | C6: 0 | D6: 0 | E6: 0 | G6: 533F82598DBDEBAF19DD0F6CF219B2 | H6: C! | I6: '굴삭기 (무한궤도),유압식백호,0.2㎥ M3'
A7: Q 바켓용량(M3) =0.20 | B7: 0 | C7: 0 | D7: 0 | E7: 0 | G7: 533F82598DBDEBAF19DD0F6CF219B2 | H7: C! | I7: q '바켓용량(M3)' =0.20
A8: K 바켓계수(양호1.1,보통0.90,불량0.70,파쇄암0.55) = 0.90 | B8: 0 | C8: 0 | D8: 0 | E8: 0 | G8: 533F82598DBDEBAF19DD0F6CF219B2 | H8: C! | I8: k '바켓계수(양호1.1,보통0.90,불량0.70,파쇄암0.55)'= 0.90
A9: F 토량환산계수(1/L) = 1/1.25= 0.8 | B9: 0 | C9: 0 | D9: 0 | E9: 0 | G9: 533F82598DBDEBAF19DD0F6CF219B2 | H9: C! | I9: f '토량환산계수(1/L)'= 1/1.25=?
A10: E1 터파기에 대하여 -0.05 =0.05 | B10: 0 | C10: 0 | D10: 0 | E10: 0 | G10: 533F82598DBDEBAF19DD0F6CF219B2 | H10: C! | I10: E1 '터파기에 대하여 -0.05'=0.05
A11: E 작업효율사질토(양호0.85,보통0.70,불량0.55) = 0.70-E1= 0.65 | B11: 0 | C11: 0 | D11: 0 | E11: 0 | G11: 533F82598DBDEBAF19DD0F6CF219B2 | H11: C! | I11: E '작업효율사질토(양호0.85,보통0.70,불량0.55)'= 0.70-E1=?
A12: CM 1회 싸이클시간(135˚SEC) =20 | B12: 0 | C12: 0 | D12: 0 | E12: 0 | G12: 533F82598DBDEBAF19DD0F6CF219B2 | H12: C! | I12: Cm '1회 싸이클시간(135˚SEC)'=20
A13: Q 시간당 작업량 (M3/HR) = 3600*Q*K*F*E/CM= 16.848 | B13: 0 | C13: 0 | D13: 0 | E13: 0 | G13: 533F82598DBDEBAF19DD0F6CF219B2 | H13: C! | I13: Q '시간당 작업량 (M3/Hr)'= 3600*q*k*f*E/Cm=?
A14: 재료비: 25973 / 16.848*0.8= 1233.2 | B14: 1233.2 | C14: 0 | D14: 0 | E14: 1233.2 | G14: 533F82598DBDEBAF19DD0F6CF219B2 | H14: C! | I14: '재료비:' ~00000201007000001.M~ / {Q}*0.8=?MA
A15: 노무비: 59025 / 16.848*0.8= 2802.7 | B15: 0 | C15: 2802.7 | D15: 0 | E15: 2802.7 | G15: 533F82598DBDEBAF19DD0F6CF219B2 | H15: C! | I15: '노무비:' ~00000201007000001.L~ / {Q}*0.8=?LA
A16: 경 비: 13560 / 16.848*0.8= 643.8 | B16: 0 | C16: 0 | D16: 643.8 | E16: 643.8 | G16: 533F82598DBDEBAF19DD0F6CF219B2 | H16: C! | I16: '경 비:' ~00000201007000001.E~ / {Q}*0.8=?EQ
A17: 소 계 | B17: 1233.2 | C17: 2802.7 | D17: 643.8 | E17: 4679.7 | G17: 533F82598DBDEBAF19DD0F6CF219B2 | H17: C! | I17: >'소 계'
B18: 0 | C18: 0 | D18: 0 | E18: 0 | G18: 533F82598DBDEBAF19DD0F6CF219B2 | H18: C!
A19: 0-1m,보통인부0.2인*20% | B19: 0 | C19: 0 | D19: 0 | E19: 0 | G19: 533F82598DBDEBAF19DD0F6CF219B2 | H19: C! | I19: '0-1m,보통인부0.2인*20%'
A20: 172698*0.2*0.2 = 6907.9 | B20: 0 | C20: 6907.9 | D20: 0 | E20: 6907.9 | G20: 533F82598DBDEBAF19DD0F6CF219B2 | H20: C! | I20: ~L001010101000002.L~*0.2*0.2 =?LA+
B21: 0 | C21: 0 | D21: 0 | E21: 0 | G21: 533F82598DBDEBAF19DD0F6CF219B2 | H21: C!
A22: 합 계 | B22: 1233.2 | C22: 9710.6 | D22: 643.8 | E22: 11587.6 | G22: 533F82598DBDEBAF19DD0F6CF219B2 | H22: C! | I22: >>'합 계'
B23: 0 | C23: 0 | D23: 0 | E23: 0 | G23: 533F82598DBDEBAF19DD0F6CF219B2 | H23: C!
B24: 0 | C24: 0 | D24: 0 | E24: 0 | G24: 533F82598DBDEBAF19DD0F6CF219B2 | H24: C!
A25: 총 계 | B25: 1233 | C25: 9710 | D25: 643 | E25: 11586
A27: 되메우고다지기 백호0.2M3*래머80kg ㎥ ( 산근 2 ) | G27: 533F8259E625D5C919A724A06D1ADE | I27: 되메우고다지기 | J27: 백호0.2M3*래머80kg | K27: ㎥
G28: 533F8259E625D5C919A724A06D1ADE | H28: C | L28: 1
A29: 1.굴삭기 (무한궤도)0.2㎥M3 | B29: 0 | C29: 0 | D29: 0 | E29: 0 | G29: 533F8259E625D5C919A724A06D1ADE | H29: C! | I29: '1.굴삭기 (무한궤도)0.2㎥M3 '
A30: Q1 바켓용량(M3) = 0.2 | B30: 0 | C30: 0 | D30: 0 | E30: 0 | G30: 533F8259E625D5C919A724A06D1ADE | H30: C! | I30: q1 '바켓용량(M3)'= 0.2
A31: k 바켓계수 = 1.1 | B31: 0 | C31: 0 | D31: 0 | E31: 0 | G31: 533F8259E625D5C919A724A06D1ADE | H31: C! | I31: k '바켓계수'= 1.1
A32: L1 흐트러진상태 =1.25 | B32: 0 | C32: 0 | D32: 0 | E32: 0 | G32: 533F8259E625D5C919A724A06D1ADE | H32: C! | I32: L1 '흐트러진상태' =1.25
A33: C 다져진상태 =0.9 | B33: 0 | C33: 0 | D33: 0 | E33: 0 | G33: 533F8259E625D5C919A724A06D1ADE | H33: C! | I33: C '다져진상태'=0.9
A34: F 토량환산계(C/L) =C/L1= 0.72 | B34: 0 | C34: 0 | D34: 0 | E34: 0 | G34: 533F8259E625D5C919A724A06D1ADE | H34: C! | I34: f '토량환산계(C/L)'=C/L1=?
A35: E 작업효율(양호0.9,보통0.75,불량0.6) = 0.75 | B35: 0 | C35: 0 | D35: 0 | E35: 0 | G35: 533F8259E625D5C919A724A06D1ADE | H35: C! | I35: E '작업효율(양호0.9,보통0.75,불량0.6)'= 0.75
A36: CM 1회 싸이클시간(90˚SEC) =18 | B36: 0 | C36: 0 | D36: 0 | E36: 0 | G36: 533F8259E625D5C919A724A06D1ADE | H36: C! | I36: Cm '1회 싸이클시간(90˚sec)'=18
A37: Q 시간당 작업량 (M3/HR) = 3600*Q1*K*F*E/CM= 23.76 | B37: 0 | C37: 0 | D37: 0 | E37: 0 | G37: 533F8259E625D5C919A724A06D1ADE | H37: C! | I37: Q '시간당 작업량 (M3/Hr)'= 3600*q1*k*f*E/Cm=?
A38: 재료비: 25973 / 23.76 = 1093.1 | B38: 1093.1 | C38: 0 | D38: 0 | E38: 1093.1 | G38: 533F8259E625D5C919A724A06D1ADE | H38: C! | I38: '재료비:' ~00000201007000001.M~ / {Q} =?MA+
A39: 노무비: 59025 / 23.76 = 2484.2 | B39: 0 | C39: 2484.2 | D39: 0 | E39: 2484.2 | G39: 533F8259E625D5C919A724A06D1ADE | H39: C! | I39: '노무비:' ~00000201007000001.L~ / {Q} =?LA+
A40: 경 비: 13560 / 23.76 = 570.7 | B40: 0 | C40: 0 | D40: 570.7 | E40: 570.7 | G40: 533F8259E625D5C919A724A06D1ADE | H40: C! | I40: '경 비:' ~00000201007000001.E~ / {Q} =?EQ+
... A55: 합 계 | B55: 1257.1 | C55: 6624.9 | D55: 629.6 | E55: 8511.6 | G55: 533F8259E625D5C919A724A06D1ADE | H55: C! | I55: >>'합 계'
A56: 총 계 | B56: 1257 | C56: 6624 | D56: 629 | E56: 8510
A58: 경관조명 분전반기초 기계설치 높이 10M 이하 개소 전기 1-34, 5-27-2 ( 산근 3 ) | G58: 537102597E1FFE0C19C3C75E4D1857 | I58: 경관조명 분전반기초 기계설치 | J58: 높이 10M 이하 | K58: 개소
G59: 537102597E1FFE0C19C3C75E4D1857 | H59: C | L59: 1
A60: 00000201007000001 - 굴삭기-전기(0.2㎥) | B60: 0 | C60: 0 | D60: 0 | E60: 0 | G60: 537102597E1FFE0C19C3C75E4D1857 | H60: C! | I60: '00000201007000001 - 굴삭기-전기(0.2㎥)'
B61: 0 | C61: 0 | D61: 0 | E61: 0 | G61: 537102597E1FFE0C19C3C75E4D1857 | H61: C!
A62: TC MIN(분) =25.8 | B62: 0 | C62: 0 | D62: 0 | E62: 0 | G62: 537102597E1FFE0C19C3C75E4D1857 | H62: C! | I62: Tc 'min(분)'=25.8
A63: F 작업계수(양호:0.9,보통:0.7,불량:0.6) =0.7 | B63: 0 | C63: 0 | D63: 0 | E63: 0 | G63: 537102597E1FFE0C19C3C75E4D1857 | H63: C! | I63: F '작업계수(양호:0.9,보통:0.7,불량:0.6)'=0.7
A64: T 작업소요시간(HR) =TC/(60*F)= 0.6142 | B64: 0 | C64: 0 | D64: 0 | E64: 0 | G64: 537102597E1FFE0C19C3C75E4D1857 | H64: C! | I64: T '작업소요시간(Hr)' =Tc/(60*F)=?
A65: Q 시간당작업량 =(1/T)= 1.628 | B65: 0 | C65: 0 | D65: 0 | E65: 0 | G65: 537102597E1FFE0C19C3C75E4D1857 | H65: C! | I65: Q '시간당작업량' =(1/T)=?
B66: 0 | C66: 0 | D66: 0 | E66: 0 | G66: 537102597E1FFE0C19C3C75E4D1857 | H66: C!
A67: 재료비: 25973 / 1.628 = 15953.9 | B67: 15953.9 | C67: 0 | D67: 0 | E67: 15953.9 | G67: 537102597E1FFE0C19C3C75E4D1857 | H67: C! | I67: '재료비:' ~00000201007000001.M~ / {Q} =?MA
A68: 노무비: 59025 / 1.628 = 36256.1 | B68: 0 | C68: 36256.1 | D68: 0 | E68: 36256.1 | G68: 537102597E1FFE0C19C3C75E4D1857 | H68: C! | I68: '노무비:' ~00000201007000001.L~ / {Q} =?LA
A69: 경 비: 13560 / 1.628 = 8329.2 | B69: 0 | C69: 0 | D69: 8329.2 | E69: 8329.2 | G69: 537102597E1FFE0C19C3C75E4D1857 | H69: C! | I69: '경 비:' ~00000201007000001.E~ / {Q} =?EQ
B70: 0 | C70: 0 | D70: 0 | E70: 0 | G70: 537102597E1FFE0C19C3C75E4D1857 | H70: C!
A71: 소 계 | B71: 15953.9 | C71: 36256.1 | D71: 8329.2 | E71: 60539.2 | G71: 537102597E1FFE0C19C3C75E4D1857 | H71: C! | I71: >'소 계'
A72: 총 계 | B72: 15953 | C72: 36256 | D72: 8329 | E72: 60538

Sheet 교통통제
B1: 단가산출
B3: 산 출 근 거 | C3: 합 계 | D3: 노무비 | E3: 재료비 | F3: 경 비 | CG3: 합 계 | CH3: 노무비 | CI3: 재료비 | CJ3: 경 비
B4: 교통통제 및 안전처리[식] 토목 1-1-1 | CG4: =CG18 -> 0 | CH4: =CH18 -> 0 | CI4: =CI18 -> 0 | CJ4: =CJ18 -> 0
D7: 1. | G7: 교통통제 및 안전처리비: | AB7: 2 | AC7: 인 | AF7: 1 | AG7: 조 | AJ7: 운영
G11: 보통인부 | R11: : | T11: =TEXT(단가대비표!P60,"#,##0") -> 0 | AD11: × | AF11: =TEXT(2,"#,##0.#######") -> 2. | AG11: 인 | AJ11: × | AL11: =TEXT(3,"#,##0.#######") -> 3. | AN11: 일 | AX11: = | AZ11: =TEXT(TRUNC(T11*AF11*AL11,1),"#,##0.#") -> 0. | CG11: =CH11+CI11+CJ11 -> 0 | CH11: =AZ11 -> 0.
D13: 2. | G13: 합 | K13: 계
H15: 노무비 | O15: : | Q15: =TEXT(CH11,"#,###.##") -> . | Y15: =TEXT(#REF!,"#,###.##") -> #REF! | AR15: = | AU15: =TEXT(TRUNC(CH11,0),"#,##0") -> 0
H16: 재료비 | O16: :
H17: 경 | L17: 비 | O17: :
J18: 계 | O18: : | R18: =TEXT(AU15+AM16,"#,##0") -> 0 | CG18: =CH18+CI18+CJ18 -> 0 | CH18: =TEXT(AU15,"#,##0") -> 0 | CI18: =TEXT(AM16,"#,##0") -> 0

Sheet 공량산출근거서_일위대가
A1: 공 량 산 출 근 거 서
A2: [ 세계유산주변 한식담장 경관조명 설치사업 ]
A3: 코 드 | B3: 품 명 | C3: 규 격 | D3: 단위 | E3: 품 셈 목 록 | F3: 수 량 | G3: 할증 | H3: 노임할증-1 | I3: 노임할증-2 | J3: 노임할증-3 | K3: 내역수량 | L3: 직 종 명 | M3: 공 량 | N3: 계 | O3: 번 호 | P3: 비 고 | T3: 일위대가목록+자재 | V3: 내선전공 | W3: 일반공사 직종 | X3: 보통인부 | Y3: 작업반장 | Z3: 특별인부 | AA3: 비계공 | AB3: 줄눈공 | AC3: 저압케이블전공 | AD3: 배전전공
A4: 조명기구(LINE BAR) 설치 LED 10W EA (호표 1)
A5: 54160289A8B21AFF19D5F0702D1A65A2B302B2 | B5: 조명기구(LINE BAR) 설치 | C5: LED 10W | D5: EA | E5: 전기 5-25-2 | F5: 1 | G5: 0 | K5: 1 | L5: 내선전공 | M5: =0.023*(H5+100)/100*(I5+100)/100*(J5+100)/100 -> 0.023 | N5: =F5*M5 -> 0.023 | O5: 노임 8 | P5: 0.023*1 | Q5: 5371024975D9C34019CCFCC76818FE | R5: 53E9520999DE9BC11986A23F121C766B9D72D5 | S5: 0.023 | T5: 5371024975D9C34019CCFCC76818FE54160289A8B21AFF19D5F0702D1A65A2B302B2 | V5: =N5 -> 0.023
A6: 53E9520999DE9BC11986A23F121C766B9D72D5 | B6: 내선전공 | C6: 일반공사 직종 | D6: 인 | F6: =SUM(V5:V5) -> 0.023 | K6: =TRUNC(F6*공량설정_일위대가!B2/100, 공량설정_일위대가!C3) -> 0.023 | O6: 노임 8 | Q6: 5371024975D9C34019CCFCC76818FE | T6: 5371024975D9C34019CCFCC76818FE53E9520999DE9BC11986A23F121C766B9D72D5
A7: 경관조명 분전반 설치 무선원격양방향, 8회로 개소 (호표 2)
A8: 54160289A886DE24198CF61A65168F6F7DCFE1 | B8: 경관조명 분전반 설치 | C8: 무선원격양방향, 8회로 | D8: 대 | E8: 전기 5-18-2 | F8: 1 | G8: 0 | K8: 1 | L8: 내선전공 | M8: =1.23*(H8+100)/100*(I8+100)/100*(J8+100)/100 -> 1.23 | N8: =F8*M8 -> 1.23 | O8: 노임 8 | P8: 1.23*1 | Q8: 53710249751EB2BC19277323091525 | R8: 53E9520999DE9BC11986A23F121C766B9D72D5 | S8: 1.23 | T8: 53710249751EB2BC1927732309152554160289A886DE24198CF61A65168F6F7DCFE1 | V8: =N8 -> 1.23
A9: 53E9520999DE9BC11986A23F121C766B9D72D5 | B9: 내선전공 | C9: 일반공사 직종 | D9: 인 | F9: =SUM(V8:V8) -> 1.23 | K9: =TRUNC(F9*공량설정_일위대가!B4/100, 공량설정_일위대가!C5) -> 1.23 | O9: 노임 8 | Q9: 53710249751EB2BC19277323091525 | T9: 53710249751EB2BC1927732309152553E9520999DE9BC11986A23F121C766B9D72D5
A10: 경관조명 분전반기초 500X675X850X700 개소 (호표 3)
A11: 541682C904D66889199DFC35911AB1A845E18D | B11: 경관조명 분전반기초 | C11: 500X675X850X700 | D11: 개소 | E11: 전기 5-27-1 | F11: 1 | G11: 0 | K11: 1 | L11: 보통인부 | M11: =0.19*(H11+100)/100*(I11+100)/100*(J11+100)/100 -> 0.19 | N11: =F11*M11 -> 0.19 | O11: 노임 2 | P11: 0.19*1 | Q11: 53710249751EB2BC19277323091522 | R11: 53E9520999DE9BC11986A23F121C766B9D75A7 | S11: 0.19 | T11: 53710249751EB2BC19277323091522541682C904D66889199DFC35911AB1A845E18D | X11: =N11 -> 0.19
L12: 내선전공 | M12: =0.08*(H11+100)/100*(I11+100)/100*(J11+100)/100 -> 0.08 | N12: =F11*M12 -> 0.08 | O12: 노임 8 | P12: 0.08*1 | Q12: 53710249751EB2BC19277323091522 | R12: 53E9520999DE9BC11986A23F121C766B9D72D5 | S12: 0.08 | T12: 53710249751EB2BC19277323091522541682C904D66889199DFC35911AB1A845E18D | V12: =N12 -> 0.08
A13: 53E9520999DE9BC11986A23F121C766B9D75A7 | B13: 보통인부 | C13: 일반공사 직종 | D13: 인 | F13: =SUM(X11:X12) -> 0.19 | K13: =TRUNC(F13*공량설정_일위대가!B6/100, 공량설정_일위대가!C7) -> 0.19 | O13: 노임 2 | Q13: 53710249751EB2BC19277323091522 | T13: 53710249751EB2BC1927732309152253E9520999DE9BC11986A23F121C766B9D75A7
A14: 53E9520999DE9BC11986A23F121C766B9D72D5 | B14: 내선전공 | C14: 일반공사 직종 | D14: 인 | F14: =SUM(V11:V12) -> 0.08 | K14: =TRUNC(F14*공량설정_일위대가!B6/100, 공량설정_일위대가!C8) -> 0.08 | O14: 노임 8 | Q14: 53710249751EB2BC19277323091522 | T14: 53710249751EB2BC1927732309152253E9520999DE9BC11986A23F121C766B9D72D5
A15: 차단기 MCCB 2P 50AF EA (호표 4)
A16: 54160289A886DE5119D49DE3A61DB5B0A04473 | B16: 차단기 | C16: MCCB 2P 50AF | D16: 개 | E16: 전기 5-19 | F16: 1 | G16: 0 | H16: -30 | K16: 1 | L16: 내선전공 | M16: =0.26*(H16+100)/100*(I16+100)/100*(J16+100)/100 -> 0.182 | N16: =F16*M16 -> 0.182 | O16: 노임 8 | P16: 0.26*1 * 70% | Q16: 5371024975D9C351192132B1E4138B | R16: 53E9520999DE9BC11986A23F121C766B9D72D5 | S16: 0.26 | T16: 5371024975D9C351192132B1E4138B54160289A886DE5119D49DE3A61DB5B0A04473 | V16: =N16 -> 0.182
A17: 53E9520999DE9BC11986A23F121C766B9D72D5 | B17: 내선전공 | C17: 일반공사 직종 | D17: 인 | F17: =SUM(V16:V16) -> 0.182 | K17: =TRUNC(F17*공량설정_일위대가!B9/100, 공량설정_일위대가!C10) -> 0.182 | O17: 노임 8 | Q17: 5371024975D9C351192132B1E4138B | T17: 5371024975D9C351192132B1E4138B53E9520999DE9BC11986A23F121C766B9D72D5
A18: 차단기 ELB 2P 30AF EA (호표 5)
A19: 54160289A886DE5119D49DE3A61DB5B0A04472 | B19: 차단기 | C19: ELB 2P 30AF | D19: 개 | E19: 전기 5-19 | F19: 1 | G19: 0 | H19: -30 | K19: 1 | L19: 내선전공 | M19: =0.19*(H19+100)/100*(I19+100)/100*(J19+100)/100 -> 0.133 | N19: =F19*M19 -> 0.133 | O19: 노임 8 | P19: 0.19*1 * 70% | Q19: 5371024975D9C351192132B1E4138A | R19: 53E9520999DE9BC11986A23F121C766B9D72D5 | S19: 0.19 | T19: 5371024975D9C351192132B1E4138A54160289A886DE5119D49DE3A61DB5B0A04472 | V19: =N19 -> 0.133
A20: 53E9520999DE9BC11986A23F121C766B9D72D5 | B20: 내선전공 | C20: 일반공사 직종 | D20: 인 | F20: =SUM(V19:V19) -> 0.133 | K20: =TRUNC(F20*공량설정_일위대가!B11/100, 공량설정_일위대가!C12) -> 0.133 | O20: 노임 8 | Q20: 5371024975D9C351192132B1E4138A | T20: 5371024975D9C351192132B1E4138A53E9520999DE9BC11986A23F121C766B9D72D5
A21: SMPS BOX(옥외노출) STS, 500X600X150 면 (호표 6)
A22: 54160289A886DE24198CF61A65168F6F7DCFE0 | B22: SMPS BOX(옥외노출) | C22: STS, 500X600X150 | D22: 대 | E22: 전기 5-18 | F22: 1 | G22: 0 | H22: -65 | I22: -10 | K22: 1 | L22: 내선전공 | M22: =0.58*(H22+100)/100*(I22+100)/100*(J22+100)/100 -> 0.1827 | N22: =F22*M22 -> 0.1827 | O22: 노임 8 | P22: 0.58*1 * 35% * 90% | Q22: 53710249751EB2BC19277323091524 | R22: 53E9520999DE9BC11986A23F121C766B9D72D5 | S22: 0.58 | T22: 53710249751EB2BC1927732309152454160289A886DE24198CF61A65168F6F7DCFE0 | V22: =N22 -> 0.1827
A23: 53E9520999DE9BC11986A23F121C766B9D72D5 | B23: 내선전공 | C23: 일반공사 직종 | D23: 인 | F23: =SUM(V22:V22) -> 0.1827 | K23: =TRUNC(F23*공량설정_일위대가!B13/100, 공량설정_일위대가!C14) -> 0.1827 | O23: 노임 8 | Q23: 53710249751EB2BC19277323091524 | T23: 53710249751EB2BC1927732309152453E9520999DE9BC11986A23F121C766B9D72D5
A24: SMPS BOX 기초 400X600X600 개소 (호표 7)
A25: 541682C904D66889199DFC35911AB1A845E3BF | B25: SMPS BOX 기초(기성품) | C25: 400X600X600 | D25: 개소 | E25: 전기 5-27-1 | F25: 1 | G25: 0 | K25: 1 | L25: 보통인부 | M25: =0.19*(H25+100)/100*(I25+100)/100*(J25+100)/100 -> 0.19 | N25: =F25*M25 -> 0.19 | O25: 노임 2 | P25: 0.19*1 | Q25: 53710249751EB2BC192773230916CB | R25: 53E9520999DE9BC11986A23F121C766B9D75A7 | S25: 0.19 | T25: 53710249751EB2BC192773230916CB541682C904D66889199DFC35911AB1A845E3BF | X25: =N25 -> 0.19
L26: 내선전공 | M26: =0.08*(H25+100)/100*(I25+100)/100*(J25+100)/100 -> 0.08 | N26: =F25*M26 -> 0.08 | O26: 노임 8 | P26: 0.08*1 | Q26: 53710249751EB2BC192773230916CB | R26: 53E9520999DE9BC11986A23F121C766B9D72D5 | S26: 0.08 | T26: 53710249751EB2BC192773230916CB541682C904D66889199DFC35911AB1A845E3BF | V26: =N26 -> 0.08
A27: 53E9520999DE9BC11986A23F121C766B9D75A7 | B27: 보통인부 | C27: 일반공사 직종 | D27: 인 | F27: =SUM(X25:X26) -> 0.19 | K27: =TRUNC(F27*공량설정_일위대가!B15/100, 공량설정_일위대가!C16) -> 0.19 | O27: 노임 2 | Q27: 53710249751EB2BC192773230916CB | T27: 53710249751EB2BC192773230916CB53E9520999DE9BC11986A23F121C766B9D75A7
A28: 53E9520999DE9BC11986A23F121C766B9D72D5 | B28: 내선전공 | C28: 일반공사 직종 | D28: 인 | F28: =SUM(V25:V26) -> 0.08 | K28: =TRUNC(F28*공량설정_일위대가!B15/100, 공량설정_일위대가!C17) -> 0.08 | O28: 노임 8 | Q28: 53710249751EB2BC192773230916CB | T28: 53710249751EB2BC192773230916CB53E9520999DE9BC11986A23F121C766B9D72D5
A29: 전기맨홀 800*800*800 조 (호표 8)
A30: 541692E99002AADA19C2319D2112DA6064613A | B30: 맨홀 | C30: 800x800x800 | D30: 조 | E30: 전기 4-43-3 | F30: 1 | G30: 0 | K30: 1 | L30: 작업반장 | M30: =0.28*(H30+100)/100*(I30+100)/100*(J30+100)/100 -> 0.28 | N30: =F30*M30 -> 0.28 | O30: 노임 1 | P30: 0.28*1 | Q30: 53710249751EB2CE19877D71101304 | R30: 53E9520999DE9BC11986A23F121C766B9D75A4 | S30: 0.28 | T30: 53710249751EB2CE19877D71101304541692E99002AADA19C2319D2112DA6064613A | Y30: =N30 -> 0.28
L31: 특별인부 | M31: =0.8*(H30+100)/100*(I30+100)/100*(J30+100)/100 -> 0.8 | N31: =F30*M31 -> 0.8 | O31: 노임 3 | P31: 0.8*1 | Q31: 53710249751EB2CE19877D71101304 | R31: 53E9520999DE9BC11986A23F121C766B9D75A6 | S31: 0.8 | T31: 53710249751EB2CE19877D71101304541692E99002AADA19C2319D2112DA6064613A | Z31: =N31 -> 0.8
L32: 비계공 | M32: =0.53*(H30+100)/100*(I30+100)/100*(J30+100)/100 -> 0.53 | N32: =F30*M32 -> 0.53 | O32: 노임 4 | P32: 0.53*1 | Q32: 53710249751EB2CE19877D71101304 | R32: 53E9520999DE9BC11986A23F121C766B9D75A3 | S32: 0.53 | T32: 53710249751EB2CE19877D71101304541692E99002AADA19C2319D2112DA6064613A | AA32: =N32 -> 0.53
L33: 줄눈공 | M33: =0.03*(H30+100)/100*(I30+100)/100*(J30+100)/100 -> 0.03 | N33: =F30*M33 -> 0.03 | O33: 노임 5 | P33: 0.03*1 | Q33: 53710249751EB2CE19877D71101304 | R33: 53E9520999DE9BC11986A23F121C766B9D764F | S33: 0.03 | T33: 53710249751EB2CE19877D71101304541692E99002AADA19C2319D2112DA6064613A | AB33: =N33 -> 0.03
A34: 54044289D169785719369C3FCB14FD566C8C04 | B34: 접지용비닐절연전선 | C34: 접지용비닐절연전선, F-GV, 6㎟ | D34: m | E34: 전기 3-38 | F34: 5 | G34: 10 | K34: 5.5 | L34: 내선전공 | M34: =0.006*(H34+100)/100*(I34+100)/100*(J34+100)/100 -> 0.006 | N34: =F34*M34 -> 0.03 | O34: 노임 8 | P34: 0.006*1 | Q34: 53710249751EB2CE19877D71101304 | R34: 53E9520999DE9BC11986A23F121C766B9D72D5 | S34: 0.006 | T34: 53710249751EB2CE19877D7110130454044289D169785719369C3FCB14FD566C8C04 | V34: =N34 -> 0.03
A35: 54160289A886DE5119D4E5F6EE120AE2EEACF3 | B35: 접지봉 | C35: 접지봉, 14Φ*1000mm | D35: 개 | E35: 전기 3-38 | F35: 1 | G35: 0 | K35: 1 | L35: 보통인부 | M35: =0.08*(H35+100)/100*(I35+100)/100*(J35+100)/100 -> 0.08 | N35: =F35*M35 -> 0.08 | O35: 노임 2 | P35: 0.08*1 | Q35: 53710249751EB2CE19877D71101304 | R35: 53E9520999DE9BC11986A23F121C766B9D75A7 | S35: 0.08 | T35: 53710249751EB2CE19877D7110130454160289A886DE5119D4E5F6EE120AE2EEACF3 | X35: =N35 -> 0.08
L36: 내선전공 | M36: =0.11*(H35+100)/100*(I35+100)/100*(J35+100)/100 -> 0.11 | N36: =F35*M36 -> 0.11 | O36: 노임 8 | P36: 0.11*1 | Q36: 53710249751EB2CE19877D71101304 | R36: 53E9520999DE9BC11986A23F121C766B9D72D5 | S36: 0.11 | T36: 53710249751EB2CE19877D7110130454160289A886DE5119D4E5F6EE120AE2EEACF3 | V36: =N36 -> 0.11
A37: 53E9520999DE9BC11986A23F121C766B9D75A4 | B37: 작업반장 | C37: 일반공사 직종 | D37: 인 | F37: =SUM(Y30:Y36) -> 0.28 | K37: =TRUNC(F37*공량설정_일위대가!B18/100, 공량설정_일위대가!C19) -> 0.28 | O37: 노임 1 | Q37: 53710249751EB2CE19877D71101304 | T37: 53710249751EB2CE19877D7110130453E9520999DE9BC11986A23F121C766B9D75A4
A38: 53E9520999DE9BC11986A23F121C766B9D75A7 | B38: 보통인부 | C38: 일반공사 직종 | D38: 인 | F38: =SUM(X30:X36) -> 0.08 | K38: =TRUNC(F38*공량설정_일위대가!B18/100, 공량설정_일위대가!C20) -> 0.08 | O38: 노임 2 | Q38: 53710249751EB2CE19877D71101304 | T38: 53710249751EB2CE19877D7110130453E9520999DE9BC11986A23F121C766B9D75A7
A39: 53E9520999DE9BC11986A23F121C766B9D75A6 | B39: 특별인부 | C39: 일반공사 직종 | D39: 인 | F39: =SUM(Z30:Z36) -> 0.8 | K39: =TRUNC(F39*공량설정_일위대가!B18/100, 공량설정_일위대가!C21) -> 0.8 | O39: 노임 3 | Q39: 53710249751EB2CE19877D71101304 | T39: 53710249751EB2CE19877D7110130453E9520999DE9BC11986A23F121C766B9D75A6
A40: 53E9520999DE9BC11986A23F121C766B9D75A3 | B40: 비계공 | C40: 일반공사 직종 | D40: 인 | F40: =SUM(AA30:AA36) -> 0.53 | K40: =TRUNC(F40*공량설정_일위대가!B18/100, 공량설정_일위대가!C22) -> 0.53 | O40: 노임 4 | Q40: 53710249751EB2CE19877D71101304 | T40: 53710249751EB2CE19877D7110130453E9520999DE9BC11986A23F121C766B9D75A3
A41: 53E9520999DE9BC11986A23F121C766B9D764F | B41: 줄눈공 | C41: 일반공사 직종 | D41: 인 | F41: =SUM(AB30:AB36) -> 0.03 | K41: =TRUNC(F41*공량설정_일위대가!B18/100, 공량설정_일위대가!C23) -> 0.03 | O41: 노임 5 | Q41: 53710249751EB2CE19877D71101304 | T41: 53710249751EB2CE19877D7110130453E9520999DE9BC11986A23F121C766B9D764F
A42: 53E9520999DE9BC11986A23F121C766B9D72D5 | B42: 내선전공 | C42: 일반공사 직종 | D42: 인 | F42: =SUM(V30:V36) -> 0.14 | K42: =TRUNC(F42*공량설정_일위대가!B18/100, 공량설정_일위대가!C24) -> 0.14 | O42: 노임 8 | Q42: 53710249751EB2CE19877D71101304 | T42: 53710249751EB2CE19877D7110130453E9520999DE9BC11986A23F121C766B9D72D5
A43: 풀박스 150X150X100 개 (호표 10)
A44: 54160289A886DE0919B708B2A2141B8C4A6EF5 | B44: 풀박스 | C44: 풀박스, 150*150*100mm | D44: 개 | E44: 전기 5-4 | F44: 1 | G44: 0 | K44: 1 | L44: 내선전공 | M44: =0.04*(H44+100)/100*(I44+100)/100*(J44+100)/100 -> 0.04 | N44: =F44*M44 -> 0.04 | O44: 노임 8 | P44: 0.04*1 | Q44: 5371024975D9C3631993C85EFE142A | R44: 53E9520999DE9BC11986A23F121C766B9D72D5 | S44: 0.04 | T44: 5371024975D9C3631993C85EFE142A54160289A886DE0919B708B2A2141B8C4A6EF5 | V44: =N44 -> 0.04
A45: 53E9520999DE9BC11986A23F121C766B9D72D5 | B45: 내선전공 | C45: 일반공사 직종 | D45: 인 | F45: =SUM(V44:V44) -> 0.04 | K45: =TRUNC(F45*공량설정_일위대가!B28/100, 공량설정_일위대가!C29) -> 0.04 | O45: 노임 8 | Q45: 5371024975D9C3631993C85EFE142A | T45: 5371024975D9C3631993C85EFE142A53E9520999DE9BC11986A23F121C766B9D72D5
A46: 벽관통 구멍뚫기 두께40cm이하 Ø50mm 개소 (호표 11)
A47: 54160289A8B21AFF19D5F0702D1A65A2B302B3 | B47: 벽관통 구멍뚫기 | C47: 두께40cm이하 Ø50mm | D47: 개소 | E47: 전기 5-29-2-가 | F47: 1 | G47: 0 | H47: -50 | K47: 1 | L47: 특별인부 | M47: =0.52*(H47+100)/100*(I47+100)/100*(J47+100)/100 -> 0.26 | N47: =F47*M47 -> 0.26 | O47: 노임 3 | P47: 0.52*1 * 50% | Q47: 5371024975D9C34019CC2742011DBF | R47: 53E9520999DE9BC11986A23F121C766B9D75A6 | S47: 0.52 | T47: 5371024975D9C34019CC2742011DBF54160289A8B21AFF19D5F0702D1A65A2B302B3 | Z47: =N47 -> 0.26
A48: 53E9520999DE9BC11986A23F121C766B9D75A6 | B48: 특별인부 | C48: 일반공사 직종 | D48: 인 | F48: =SUM(Z47:Z47) -> 0.26 | K48: =TRUNC(F48*공량설정_일위대가!B30/100, 공량설정_일위대가!C31) -> 0.26 | O48: 노임 3 | Q48: 5371024975D9C34019CC2742011DBF | T48: 5371024975D9C34019CC2742011DBF53E9520999DE9BC11986A23F121C766B9D75A6
A49: 케이블표지시트 케이블표지시트, 0.23*400mm M (호표 12)
A50: 54160289A886E8BE199351979F1B4140F33C69 | B50: 지중선용가선철물 | C50: 케이블표지시트, 0.23*400mm | D50: 개 | E50: 전기 4-45 | F50: 1 | G50: 0 | K50: 1 | L50: 보통인부 | M50: =0.001*(H50+100)/100*(I50+100)/100*(J50+100)/100 -> 0.001 | N50: =F50*M50 -> 0.001 | O50: 노임 2 | P50: 0.001*1 | Q50: 53710249755465FB1944F8B0C51521 | R50: 53E9520999DE9BC11986A23F121C766B9D75A7 | S50: 0.001 | T50: 53710249755465FB1944F8B0C5152154160289A886E8BE199351979F1B4140F33C69 | X50: =N50 -> 0.001
L51: 저압케이블전공 | M51: =0.0005*(H50+100)/100*(I50+100)/100*(J50+100)/100 -> 0.0005 | N51: =F50*M51 -> 0.0005 | O51: 노임 9 | P51: 0.0005*1 | Q51: 53710249755465FB1944F8B0C51521 | R51: 53E9520999DE9BC11986A23F121C766B9D72D8 | S51: 0.0005 | T51: 53710249755465FB1944F8B0C5152154160289A886E8BE199351979F1B4140F33C69 | AC51: =N51 -> 0.0005
A52: 53E9520999DE9BC11986A23F121C766B9D75A7 | B52: 보통인부 | C52: 일반공사 직종 | D52: 인 | F52: =SUM(X50:X51) -> 0.001 | K52: =TRUNC(F52*공량설정_일위대가!B32/100, 공량설정_일위대가!C33) -> 0.001 | O52: 노임 2 | Q52: 53710249755465FB1944F8B0C51521 | T52: 53710249755465FB1944F8B0C5152153E9520999DE9BC11986A23F121C766B9D75A7
A53: 53E9520999DE9BC11986A23F121C766B9D72D8 | B53: 저압케이블전공 | C53: 일반공사 직종 | D53: 인 | F53: =SUM(AC50:AC51) -> 0.0005 | K53: =TRUNC(F53*공량설정_일위대가!B32/100, 공량설정_일위대가!C34) -> 0.0005 | O53: 노임 9 | Q53: 53710249755465FB1944F8B0C51521 | T53: 53710249755465FB1944F8B0C5152153E9520999DE9BC11986A23F121C766B9D72D8
A54: 폴리에틸렌 전선관(지중) CD-P 22㎜ M (호표 13)
A55: 54160289A89722FC191D4B5FC81D6ECAE227F3 | B55: 폴리에틸렌 전선관(지중) | C55: CD-P 22㎜ | D55: m | E55: 전기 4-31 | F55: 1 | G55: 5 | H55: -10 | K55: 1.05 | L55: 보통인부 | M55: =0.014*(H55+100)/100*(I55+100)/100*(J55+100)/100 -> 0.0126 | N55: =F55*M55 -> 0.0126 | O55: 노임 2 | P55: 0.014*1 * 90% | Q55: 53710249755465D819758AF0CB13A2 | R55: 53E9520999DE9BC11986A23F121C766B9D75A7 | S55: 0.014 | T55: 53710249755465D819758AF0CB13A254160289A89722FC191D4B5FC81D6ECAE227F3 | X55: =N55 -> 0.0126
L56: 배전전공 | M56: =0.006*(H55+100)/100*(I55+100)/100*(J55+100)/100 -> 0.0054 | N56: =F55*M56 -> 0.0054 | O56: 노임 10 | P56: 0.006*1 * 90% | Q56: 53710249755465D819758AF0CB13A2 | R56: 53E9520999DE9BC11986A23F121C766B9D7DFA | S56: 0.006 | T56: 53710249755465D819758AF0CB13A254160289A89722FC191D4B5FC81D6ECAE227F3 | AD56: =N56 -> 0.0054
A57: 53E9520999DE9BC11986A23F121C766B9D75A7 | B57: 보통인부 | C57: 일반공사 직종 | D57: 인 | F57: =SUM(X55:X56) -> 0.0126 | K57: =TRUNC(F57*공량설정_일위대가!B35/100, 공량설정_일위대가!C36) -> 0.0126 | O57: 노임 2 | Q57: 53710249755465D819758AF0CB13A2 | T57: 53710249755465D819758AF0CB13A253E9520999DE9BC11986A23F121C766B9D75A7
A58: 53E9520999DE9BC11986A23F121C766B9D7DFA | B58: 배전전공 | C58: 일반공사 직종 | D58: 인 | F58: =SUM(AD55:AD56) -> 0.0054 | K58: =TRUNC(F58*공량설정_일위대가!B35/100, 공량설정_일위대가!C37) -> 0.0054 | O58: 노임 10 | Q58: 53710249755465D819758AF0CB13A2 | T58: 53710249755465D819758AF0CB13A253E9520999DE9BC11986A23F121C766B9D7DFA
A59: 폴리에틸렌 전선관(지중) CD-P 28㎜ M (호표 14)
A60: 54160289A89722FC191D4B5FC81D6ECAE227F4 | B60: 폴리에틸렌 전선관(지중) | C60: CD-P 28㎜ | D60: m | E60: 전기 4-31 | F60: 1 | G60: 5 | H60: -10 | K60: 1.05 | L60: 보통인부 | M60: =0.014*(H60+100)/100*(I60+100)/100*(J60+100)/100 -> 0.0126 | N60: =F60*M60 -> 0.0126 | O60: 노임 2 | P60: 0.014*1 * 90% | Q60: 53710249755465D819758AF0CB144B | R60: 53E9520999DE9BC11986A23F121C766B9D75A7 | S60: 0.014 | T60: 53710249755465D819758AF0CB144B54160289A89722FC191D4B5FC81D6ECAE227F4 | X60: =N60 -> 0.0126
L61: 배전전공 | M61: =0.006*(H60+100)/100*(I60+100)/100*(J60+100)/100 -> 0.0054 | N61: =F60*M61 -> 0.0054 | O61: 노임 10 | P61: 0.006*1 * 90% | Q61: 53710249755465D819758AF0CB144B | R61: 53E9520999DE9BC11986A23F121C766B9D7DFA | S61: 0.006 | T61: 53710249755465D819758AF0CB144B54160289A89722FC191D4B5FC81D6ECAE227F4 | AD61: =N61 -> 0.0054
A62: 53E9520999DE9BC11986A23F121C766B9D75A7 | B62: 보통인부 | C62: 일반공사 직종 | D62: 인 | F62: =SUM(X60:X61) -> 0.0126 | K62: =TRUNC(F62*공량설정_일위대가!B38/100, 공량설정_일위대가!C39) -> 0.0126 | O62: 노임 2 | Q62: 53710249755465D819758AF0CB144B | T62: 53710249755465D819758AF0CB144B53E9520999DE9BC11986A23F121C766B9D75A7
A63: 53E9520999DE9BC11986A23F121C766B9D7DFA | B63: 배전전공 | C63: 일반공사 직종 | D63: 인 | F63: =SUM(AD60:AD61) -> 0.0054 | K63: =TRUNC(F63*공량설정_일위대가!B38/100, 공량설정_일위대가!C40) -> 0.0054 | O63: 노임 10 | Q63: 53710249755465D819758AF0CB144B | T63: 53710249755465D819758AF0CB144B53E9520999DE9BC11986A23F121C766B9D7DFA
A64: 폴리에틸렌 전선관(지중) CD-P 36㎜ M (호표 15)
A65: 54160289A89722FC191D4B5FC81D6ECAE227F5 | B65: 폴리에틸렌 전선관(지중) | C65: CD-P 36㎜ | D65: m | E65: 전기 4-31 | F65: 1 | G65: 5 | H65: -10 | K65: 1.05 | L65: 보통인부 | M65: =0.018*(H65+100)/100*(I65+100)/100*(J65+100)/100 -> 0.0162 | N65: =F65*M65 -> 0.0162 | O65: 노임 2 | P65: 0.018*1 * 90% | Q65: 53710249755465D819758AF0CB1551 | R65: 53E9520999DE9BC11986A23F121C766B9D75A7 | S65: 0.018 | T65: 53710249755465D819758AF0CB155154160289A89722FC191D4B5FC81D6ECAE227F5 | X65: =N65 -> 0.0162
L66: 배전전공 | M66: =0.007*(H65+100)/100*(I65+100)/100*(J65+100)/100 -> 0.0063 | N66: =F65*M66 -> 0.0063 | O66: 노임 10 | P66: 0.007*1 * 90% | Q66: 53710249755465D819758AF0CB1551 | R66: 53E9520999DE9BC11986A23F121C766B9D7DFA | S66: 0.007 | T66: 53710249755465D819758AF0CB155154160289A89722FC191D4B5FC81D6ECAE227F5 | AD66: =N66 -> 0.0063
A67: 53E9520999DE9BC11986A23F121C766B9D75A7 | B67: 보통인부 | C67: 일반공사 직종 | D67: 인 | F67: =SUM(X65:X66) -> 0.0162 | K67: =TRUNC(F67*공량설정_일위대가!B41/100, 공량설정_일위대가!C42) -> 0.0162 | O67: 노임 2 | Q67: 53710249755465D819758AF0CB1551 | T67: 53710249755465D819758AF0CB155153E9520999DE9BC11986A23F121C766B9D75A7
A68: 53E9520999DE9BC11986A23F121C766B9D7DFA | B68: 배전전공 | C68: 일반공사 직종 | D68: 인 | F68: =SUM(AD65:AD66) -> 0.0063 | K68: =TRUNC(F68*공량설정_일위대가!B41/100, 공량설정_일위대가!C43) -> 0.0063 | O68: 노임 10 | Q68: 53710249755465D819758AF0CB1551 | T68: 53710249755465D819758AF0CB155153E9520999DE9BC11986A23F121C766B9D7DFA
A69: 라인바덕트(매립형) 알루미늄, 50*35mm M (호표 16)
A70: 54160289A89722FC190C9E85421ACFC34AB7DA | B70: 라인바덕트(매립형) | C70: 알루미늄, 50*35mm | D70: m | E70: 전기 5-7 | F70: 1 | G70: 0 | H70: -50 | K70: 1 | L70: 내선전공 | M70: =0.15*(H70+100)/100*(I70+100)/100*(J70+100)/100 -> 0.075 | N70: =F70*M70 -> 0.075 | O70: 노임 8 | P70: 0.15*1 * 50% | Q70: 537102495A7EB59719B97435411568 | R70: 53E9520999DE9BC11986A23F121C766B9D72D5 | S70: 0.15 | T70: 537102495A7EB59719B9743541156854160289A89722FC190C9E85421ACFC34AB7DA | V70: =N70 -> 0.075
A71: 53E9520999DE9BC11986A23F121C766B9D72D5 | B71: 내선전공 | C71: 일반공사 직종 | D71: 인 | F71: =SUM(V70:V70) -> 0.075 | K71: =TRUNC(F71*공량설정_일위대가!B44/100, 공량설정_일위대가!C45) -> 0.075 | O71: 노임 8 | Q71: 537102495A7EB59719B97435411568 | T71: 537102495A7EB59719B9743541156853E9520999DE9BC11986A23F121C766B9D72D5
A72: 0.6/1kV 난연 전력 케이블(지중)-2열설치 F-CV, 1C*6㎟ m (호표 17)
A73: 54044289D16978611955CE075016C376644AF8 | B73: 0.6/1kV 난연 전력 케이블(지중)-2열설치 | C73: F-CV, 1C*6㎟ | D73: m | E73: 전기 4-34 | F73: 1 | G73: 3 | H73: -10 | K73: 1.03 | L73: 보통인부 | M73: =0.00462*(H73+100)/100*(I73+100)/100*(J73+100)/100 -> 0.004158 | N73: =F73*M73 -> 0.004158 | O73: 노임 2 | P73: 0.00462*1 * 90% | Q73: 5371024975774592197144C7A0192F | R73: 53E9520999DE9BC11986A23F121C766B9D75A7 | S73: 0.00462 | T73: 5371024975774592197144C7A0192F54044289D16978611955CE075016C376644AF8 | X73: =N73 -> 0.004158
L74: 저압케이블전공 | M74: =0.00462*(H73+100)/100*(I73+100)/100*(J73+100)/100 -> 0.004158 | N74: =F73*M74 -> 0.004158 | O74: 노임 9 | P74: 0.00462*1 * 90% | Q74: 5371024975774592197144C7A0192F | R74: 53E9520999DE9BC11986A23F121C766B9D72D8 | S74: 0.00462 | T74: 5371024975774592197144C7A0192F54044289D16978611955CE075016C376644AF8 | AC74: =N74 -> 0.004158
A75: 53E9520999DE9BC11986A23F121C766B9D75A7 | B75: 보통인부 | C75: 일반공사 직종 | D75: 인 | F75: =SUM(X73:X74) -> 0.004158 | K75: =TRUNC(F75*공량설정_일위대가!B46/100, 공량설정_일위대가!C47) -> 0.00415 | O75: 노임 2 | Q75: 5371024975774592197144C7A0192F | T75: 5371024975774592197144C7A0192F53E9520999DE9BC11986A23F121C766B9D75A7
A76: 53E9520999DE9BC11986A23F121C766B9D72D8 | B76: 저압케이블전공 | C76: 일반공사 직종 | D76: 인 | F76: =SUM(AC73:AC74) -> 0.004158 | K76: =TRUNC(F76*공량설정_일위대가!B46/100, 공량설정_일위대가!C48) -> 0.00415 | O76: 노임 9 | Q76: 5371024975774592197144C7A0192F | T76: 5371024975774592197144C7A0192F53E9520999DE9BC11986A23F121C766B9D72D8
A77: 0.6/1kV 난연 전력 케이블(지중)-2열설치 F-CV, 1C*10㎟ m (호표 18)
A78: 54044289D16978611955CE075016C3766448C2 | B78: 0.6/1kV 난연 전력 케이블(지중)-2열설치 | C78: F-CV, 1C*10㎟ | D78: m | E78: 전기 4-34 | F78: 1 | G78: 3 | H78: -10 | K78: 1.03 | L78: 보통인부 | M78: =0.00484*(H78+100)/100*(I78+100)/100*(J78+100)/100 -> 0.004356 | N78: =F78*M78 -> 0.004356 | O78: 노임 2 | P78: 0.00484*1 * 90% | Q78: 5371024975774592197144C7A01809 | R78: 53E9520999DE9BC11986A23F121C766B9D75A7 | S78: 0.00484 | T78: 5371024975774592197144C7A0180954044289D16978611955CE075016C3766448C2 | X78: =N78 -> 0.004356
L79: 저압케이블전공 | M79: =0.00484*(H78+100)/100*(I78+100)/100*(J78+100)/100 -> 0.004356 | N79: =F78*M79 -> 0.004356 | O79: 노임 9 | P79: 0.00484*1 * 90% | Q79: 5371024975774592197144C7A01809 | R79: 53E9520999DE9BC11986A23F121C766B9D72D8 | S79: 0.00484 | T79: 5371024975774592197144C7A0180954044289D16978611955CE075016C3766448C2 | AC79: =N79 -> 0.004356
A80: 53E9520999DE9BC11986A23F121C766B9D75A7 | B80: 보통인부 | C80: 일반공사 직종 | D80: 인 | F80: =SUM(X78:X79) -> 0.004356 | K80: =TRUNC(F80*공량설정_일위대가!B49/100, 공량설정_일위대가!C50) -> 0.00435 | O80: 노임 2 | Q80: 5371024975774592197144C7A01809 | T80: 5371024975774592197144C7A0180953E9520999DE9BC11986A23F121C766B9D75A7
A81: 53E9520999DE9BC11986A23F121C766B9D72D8 | B81: 저압케이블전공 | C81: 일반공사 직종 | D81: 인 | F81: =SUM(AC78:AC79) -> 0.004356 | K81: =TRUNC(F81*공량설정_일위대가!B49/100, 공량설정_일위대가!C51) -> 0.00435 | O81: 노임 9 | Q81: 5371024975774592197144C7A01809 | T81: 5371024975774592197144C7A0180953E9520999DE9BC11986A23F121C766B9D72D8
A82: 0.6/1kV 난연 전력 케이블(지중)-2열설치 F-CV, 1C*16㎟ m (호표 19)
A83: 54044289D16978611955CE075016C376644B96 | B83: 0.6/1kV 난연 전력 케이블(지중)-2열설치 | C83: F-CV, 1C*16㎟ | D83: m | E83: 전기 4-34 | F83: 1 | G83: 3 | H83: -10 | K83: 1.03 | L83: 보통인부 | M83: =0.00528*(H83+100)/100*(I83+100)/100*(J83+100)/100 -> 0.004752 | N83: =F83*M83 -> 0.004752 | O83: 노임 2 | P83: 0.00528*1 * 90% | Q83: 5371024975774592197144C7A01BDD | R83: 53E9520999DE9BC11986A23F121C766B9D75A7 | S83: 0.00528 | T83: 5371024975774592197144C7A01BDD54044289D16978611955CE075016C376644B96 | X83: =N83 -> 0.004752
L84: 저압케이블전공 | M84: =0.00528*(H83+100)/100*(I83+100)/100*(J83+100)/100 -> 0.004752 | N84: =F83*M84 -> 0.004752 | O84: 노임 9 | P84: 0.00528*1 * 90% | Q84: 5371024975774592197144C7A01BDD | R84: 53E9520999DE9BC11986A23F121C766B9D72D8 | S84: 0.00528 | T84: 5371024975774592197144C7A01BDD54044289D16978611955CE075016C376644B96 | AC84: =N84 -> 0.004752
A85: 53E9520999DE9BC11986A23F121C766B9D75A7 | B85: 보통인부 | C85: 일반공사 직종 | D85: 인 | F85: =SUM(X83:X84) -> 0.004752 | K85: =TRUNC(F85*공량설정_일위대가!B52/100, 공량설정_일위대가!C53) -> 0.00475 | O85: 노임 2 | Q85: 5371024975774592197144C7A01BDD | T85: 5371024975774592197144C7A01BDD53E9520999DE9BC11986A23F121C766B9D75A7
A86: 53E9520999DE9BC11986A23F121C766B9D72D8 | B86: 저압케이블전공 | C86: 일반공사 직종 | D86: 인 | F86: =SUM(AC83:AC84) -> 0.004752 | K86: =TRUNC(F86*공량설정_일위대가!B52/100, 공량설정_일위대가!C54) -> 0.00475 | O86: 노임 9 | Q86: 5371024975774592197144C7A01BDD | T86: 5371024975774592197144C7A01BDD53E9520999DE9BC11986A23F121C766B9D72D8
A87: 0.6/1kV 난연 전력 케이블 F-CV, 3C*4㎟ m (호표 20)
A88: 54044289D16978611955CE075016C3766448C9 | B88: 0.6/1kV 난연 전력 케이블 | C88: F-CV, 3C*4㎟ | D88: m | E88: 전기 4-34 | F88: 1 | G88: 3 | K88: 1.03 | L88: 보통인부 | M88: =0.00462*(H88+100)/100*(I88+100)/100*(J88+100)/100 -> 0.00462 | N88: =F88*M88 -> 0.00462 | O88: 노임 2 | P88: 0.00462*1 | Q88: 5371024975774592197167A758144D | R88: 53E9520999DE9BC11986A23F121C766B9D75A7 | S88: 0.00462 | T88: 5371024975774592197167A758144D54044289D16978611955CE075016C3766448C9 | X88: =N88 -> 0.00462
L89: 저압케이블전공 | M89: =0.00462*(H88+100)/100*(I88+100)/100*(J88+100)/100 -> 0.00462 | N89: =F88*M89 -> 0.00462 | O89: 노임 9 | P89: 0.00462*1 | Q89: 5371024975774592197167A758144D | R89: 53E9520999DE9BC11986A23F121C766B9D72D8 | S89: 0.00462 | T89: 5371024975774592197167A758144D54044289D16978611955CE075016C3766448C9 | AC89: =N89 -> 0.00462
A90: 53E9520999DE9BC11986A23F121C766B9D75A7 | B90: 보통인부 | C90: 일반공사 직종 | D90: 인 | F90: =SUM(X88:X89) -> 0.00462 | K90: =TRUNC(F90*공량설정_일위대가!B55/100, 공량설정_일위대가!C56) -> 0.00462 | O90: 노임 2 | Q90: 5371024975774592197167A758144D | T90: 5371024975774592197167A758144D53E9520999DE9BC11986A23F121C766B9D75A7
A91: 53E9520999DE9BC11986A23F121C766B9D72D8 | B91: 저압케이블전공 | C91: 일반공사 직종 | D91: 인 | F91: =SUM(AC88:AC89) -> 0.00462 | K91: =TRUNC(F91*공량설정_일위대가!B55/100, 공량설정_일위대가!C57) -> 0.00462 | O91: 노임 9 | Q91: 5371024975774592197167A758144D | T91: 5371024975774592197167A758144D53E9520999DE9BC11986A23F121C766B9D72D8
A92: 난연 비닐 절연 접지용전선(F-GV) 0.6/1kV 6㎟ m (호표 21)
A93: 54044289D169785719369C3FCB14FD566C8C04 | B93: 접지용비닐절연전선 | C93: 접지용비닐절연전선, F-GV, 6㎟ | D93: m | E93: 전기 3-38 | F93: 1 | G93: 5 | K93: 1.05 | L93: 내선전공 | M93: =0.006*(H93+100)/100*(I93+100)/100*(J93+100)/100 -> 0.006 | N93: =F93*M93 -> 0.006 | O93: 노임 8 | P93: 0.006*1 | Q93: 537102497566D6BC19BF05B6581FAF | R93: 53E9520999DE9BC11986A23F121C766B9D72D5 | S93: 0.006 | T93: 537102497566D6BC19BF05B6581FAF54044289D169785719369C3FCB14FD566C8C04 | V93: =N93 -> 0.006
A94: 53E9520999DE9BC11986A23F121C766B9D72D5 | B94: 내선전공 | C94: 일반공사 직종 | D94: 인 | F94: =SUM(V93:V93) -> 0.006 | K94: =TRUNC(F94*공량설정_일위대가!B58/100, 공량설정_일위대가!C59) -> 0.006 | O94: 노임 8 | Q94: 537102497566D6BC19BF05B6581FAF | T94: 537102497566D6BC19BF05B6581FAF53E9520999DE9BC11986A23F121C766B9D72D5
A95: 난연 비닐 절연 접지용전선(F-GV) 0.6/1kV 10㎟ m (호표 22)
A96: 54044289D169785719369C3FCB14FD566C8C0B | B96: 접지용비닐절연전선 | C96: 접지용비닐절연전선, F-GV, 10㎟ | D96: m | E96: 전기 3-38 | F96: 1 | G96: 5 | K96: 1.05 | L96: 내선전공 | M96: =0.006*(H96+100)/100*(I96+100)/100*(J96+100)/100 -> 0.006 | N96: =F96*M96 -> 0.006 | O96: 노임 8 | P96: 0.006*1 | Q96: 537102497566D6BC19BF05B6581860 | R96: 53E9520999DE9BC11986A23F121C766B9D72D5 | S96: 0.006 | T96: 537102497566D6BC19BF05B658186054044289D169785719369C3FCB14FD566C8C0B | V96: =N96 -> 0.006
A97: 53E9520999DE9BC11986A23F121C766B9D72D5 | B97: 내선전공 | C97: 일반공사 직종 | D97: 인 | F97: =SUM(V96:V96) -> 0.006 | K97: =TRUNC(F97*공량설정_일위대가!B60/100, 공량설정_일위대가!C61) -> 0.006 | O97: 노임 8 | Q97: 537102497566D6BC19BF05B6581860 | T97: 537102497566D6BC19BF05B658186053E9520999DE9BC11986A23F121C766B9D72D5
A98: 러그단자 러그단자, 동관단자, 1홀, 16 ㎟ 개 (호표 23)
A99: 54160289A886DE7C199390B26D104991EF0533 | B99: 러그단자 | C99: 러그단자, 동관단자, 1홀, 16 ㎟ | D99: 개 | E99: 전기 4-37 | F99: 1 | G99: 0 | H99: -70 | K99: 1 | L99: 저압케이블전공 | M99: =0.27*(H99+100)/100*(I99+100)/100*(J99+100)/100 -> 0.081 | N99: =F99*M99 -> 0.081 | O99: 노임 9 | P99: 0.27*1 * 30% | Q99: 53710249751EB2BC192773231B1856 | R99: 53E9520999DE9BC11986A23F121C766B9D72D8 | S99: 0.27 | T99: 53710249751EB2BC192773231B185654160289A886DE7C199390B26D104991EF0533 | AC99: =N99 -> 0.081
A100: 53E9520999DE9BC11986A23F121C766B9D72D8 | B100: 저압케이블전공 | C100: 일반공사 직종 | D100: 인 | F100: =SUM(AC99:AC99) -> 0.081 | K100: =TRUNC(F100*공량설정_일위대가!B62/100, 공량설정_일위대가!C63) -> 0.081 | O100: 노임 9 | Q100: 53710249751EB2BC192773231B1856 | T100: 53710249751EB2BC192773231B185653E9520999DE9BC11986A23F121C766B9D72D8

Sheet 단가대비표
A1: 단 가 대 비 표
A2: [ 세계유산주변 한식담장 경관조명 설치사업 ]
A3: 코 드 | B3: 품 명 | C3: 규격 | D3: 단위 | E3: 재 료 비 | P3: 노 무 비 | Q3: 경 비 | W3: 번 호 | X3: 비 고 | Y3: 품목구분 | Z3: 노임구분 | AA3: 소수점처리 | AB3: 자재구분
E4: 가격정보 | F4: PAGE | G4: 물가자료 | H4: PAGE | I4: 물가정보 | J4: PAGE | K4: 조사가격1 | L4: PAGE | M4: 조사가격2 | N4: PAGE | O4: 적용단가 | Q4: 가격정보 | R4: 물가자료 | S4: 물가정보 | T4: 조사가격1 | U4: 조사가격2 | V4: 적용단가
A5: 542702D9A329998419AADE56A21B0E816D1B2A | B5: 굴삭기(무한궤도) | C5: 0.2㎥ | D5: 대 | W5: 자재 1 | X5: 천원
A6: 542702D9A3298F2E1959EFDB9D1F1F21C36252 | B6: 래머 | C6: 80kg | D6: 대 | W6: 자재 2 | X6: 천원
A7: 543132E98CC6447B19CA489AC41EA90FB1023F | B7: 경유 | C7: 경유, 저유황 | D7: L | W7: 자재 3
A8: 543132E98CC6447B19CA75D0BC1E0956406F57 | B8: 공업용휘발유 | C8: 공업용휘발유, 무연 | D8: L | W8: 자재 4
A9: 54044289D169785719369C3FCB14FD566C8C04 | B9: 접지용비닐절연전선 | C9: 접지용비닐절연전선, F-GV, 6㎟ | D9: m | W9: 자재 5
A10: 54044289D169785719369C3FCB14FD566C8C0B | B10: 접지용비닐절연전선 | C10: 접지용비닐절연전선, F-GV, 10㎟ | D10: m | W10: 자재 6
A11: 54044289D16978611955CE075016C376655924 | B11: 0.6/1kV 난연 전력 케이블 | C11: F-CV, 1C*6㎟ | D11: m | W11: 자재 7
A12: 54044289D16978611955CE075016C376655925 | B12: 0.6/1kV 난연 전력 케이블 | C12: F-CV, 1C*10㎟ | D12: m | W12: 자재 8
A13: 54044289D16978611955CE075016C376655926 | B13: 0.6/1kV 난연 전력 케이블 | C13: F-CV, 1C*16㎟ | D13: m | W13: 자재 9
A14: 54044289D16978611955CE075016C376644AF8 | B14: 0.6/1kV 난연 전력 케이블(지중)-2열설치 | C14: F-CV, 1C*6㎟ | D14: m | W14: 자재 10 | X14: 품적용
A15: 54044289D16978611955CE075016C376644B96 | B15: 0.6/1kV 난연 전력 케이블(지중)-2열설치 | C15: F-CV, 1C*16㎟ | D15: m | W15: 자재 11 | X15: 품적용
A16: 54044289D16978611955CE075016C3766448C9 | B16: 0.6/1kV 난연 전력 케이블 | C16: F-CV, 3C*4㎟ | D16: m | W16: 자재 12
A17: 54044289D16978611955CE075016C3766448C2 | B17: 0.6/1kV 난연 전력 케이블(지중)-2열설치 | C17: F-CV, 1C*10㎟ | D17: m | W17: 자재 13 | X17: 품적용
A18: 541692E99002AADA19C2FC99411A1A6317AC93 | B18: 맨홀뚜껑 | C18: 맨홀뚜껑, 회주철, Φ800mm, | D18: 조 | W18: 자재 14
A19: 541692E99002AADA19C2319D2112DA6064613A | B19: 맨홀 | C19: 800x800x800 | D19: 조 | W19: 자재 15
A20: 541682C904D66889199DFC35911AB1A845E3BF | B20: SMPS BOX 기초(기성품) | C20: 400X600X600 | D20: 개소 | W20: 자재 16
A21: 541682C904D66889199DFC35911AB1A845E18D | B21: 경관조명 분전반기초 | C21: 500X675X850X700 | D21: 개소 | W21: 자재 17
A22: 54160289A8B21AFF19D5F0702D1A65A2B302BD | B22: 조명기구(LINE BAR) | C22: LED 10W | D22: 개 | W22: 자재 18 | X22: 관급자재
A23: 54160289A8B21AFF19D5F0702D1A65A2B302B2 | B23: 조명기구(LINE BAR) 설치 | C23: LED 10W | D23: EA | W23: 자재 19 | X23: 품적용
A24: 54160289A8B21AFF19D5F0702D1A65A2B302B3 | B24: 벽관통 구멍뚫기 | C24: 두께40cm이하 Ø50mm | D24: 개소 | W24: 자재 20 | X24: 품적용
A25: 54160289A8B21A22197941FBA81EF9F9242A8C | B25: 포장깨기 | C25: 아스팔트(T=30cm미만) | D25: M | W25: 자재 21 | X25: 2026년건설공사표준시장단가
A26: 54160289A8B21A22197941FBA81EF9F9242A8D | B26: 포장절단 | C26: 아스팔트 | D26: M | W26: 자재 22 | X26: 2026년건설공사표준시장단가
A27: 54160289A8B21A22197941FBA81EF9F9242A8A | B27: 아스콘표층포설 | C27: 아스팔트 소포장 | D27: M2 | W27: 자재 23 | X27: 2026년건설공사표준시장단가
A28: 54160289A8B21A22197941FBA81EF9F9242A8B | B28: 아스콘기층포설 | C28: 아스팔트 소포장 | D28: M2 | W28: 자재 24 | X28: 2026년건설공사표준시장단가
A29: 54160289A8B21A22197941FBA81EF9F9242A88 | B29: 아스콘중간층포설 | C29: 아스팔트 소포장 | D29: M2 | W29: 자재 25 | X29: 2026년건설공사표준시장단가
A30: 54160289A8B21A22197941FBA81EF9F9242A89 | B30: 프라임코팅 | C30: RSC-3 | D30: M2 | W30: 자재 26 | X30: 2026년건설공사표준시장단가
A31: 54160289A8B21A22197941FBA81EF9F9242A86 | B31: 택코팅 | D31: M2 | W31: 자재 27 | X31: 2026년건설공사표준시장단가
A32: 54160289A8B21A22197941FBA81EF9F9242A87 | B32: 아스콘표층용 | C32: 2.34Ton/M3 | D32: Ton | W32: 자재 28
A33: 54160289A8B21A22197941FBA81EF9F9242B95 | B33: 아스콘기층용 | C33: 2.34Ton/M3 | D33: Ton | W33: 자재 29
A34: 54160289A8B21A22197941FBA81EF9F9242B94 | B34: 모래 | D34: M3 | W34: 자재 30
A35: 54160289A8B21A22197941FBA81EF9F9242B96 | B35: 아스콘중간층용 | C35: 2.34Ton/M3 | D35: Ton | W35: 자재 31
A36: 54160289A8B21A22197941FBA81EF9F925CF09 | B36: 자갈 | D36: M3 | W36: 자재 32
A37: 54160289A886DE24198CF61A65168F6F7C2FE6 | B37: 경관조명 분전반 | C37: 무선원격양방향, 8회로 | D37: 대 | W37: 자재 33 | X37: 관급자재
A38: 54160289A886DE24198CF61A65168F6F7DCEDF | B38: 원격점검장치 | C38: 안테나, 통신모듈, zct내장 | D38: EA | W38: 자재 34 | X38: 관급자재
A39: 54160289A886DE24198CF61A65168F6F7DCFE1 | B39: 경관조명 분전반 설치 | C39: 무선원격양방향, 8회로 | D39: 대 | W39: 자재 35 | X39: 품적용
A40: 54160289A886DE24198CF61A65168F6F7DCFE0 | B40: SMPS BOX(옥외노출) | C40: STS, 500X600X150 | D40: 대 | W40: 자재 36
A41: 54160289A886DE0919B708B2A2141B8C4A6EF5 | B41: 풀박스 | C41: 풀박스, 150*150*100mm | D41: 개 | W41: 자재 37
A42: 54160289A886DE7C19BEB1F54316879F737FE6 | B42: 회로커넥터 | C42: 볼트형커넥터, 일반형, Φ16mm | D42: 개 | W42: 자재 38
A43: 54160289A886DE7C199390B26D104991EF0533 | B43: 러그단자 | C43: 러그단자, 동관단자, 1홀, 16 ㎟ | D43: 개 | W43: 자재 39
A44: 54160289A886DE5119D4E5F6EE120AE2EEACF3 | B44: 접지봉 | C44: 접지봉, 14Φ*1000mm | D44: 개 | W44: 자재 40
A45: 54160289A886DE5119D4E5F6EE120AE2EEACF1 | B45: 접지봉 | C45: 접지봉, 16Φ*1800mm | D45: 개 | W45: 자재 41
A46: 54160289A886DE5119D4E5DA061EAB2CD8DD7B | B46: 접지 저항 저감제 | C46: 아스론 10KG | D46: 포 | W46: 자재 42
A47: 54160289A886DE5119D49DE3A61DB5B0A04473 | B47: 차단기 | C47: MCCB 2P 50AF | D47: 개 | W47: 자재 43
A48: 54160289A886DE5119D49DE3A61DB5B0A04472 | B48: 차단기 | C48: ELB 2P 30AF | D48: 개 | W48: 자재 44
A49: 54160289A886DE5119D49DE3A61DB5B0A0451B | B49: SMPS(방수형) | C49: 300W | D49: 개 | W49: 자재 45
A50: 54160289A886DE5119D49DE3A61DB5B0A04514 | B50: SMPS(방수형) | C50: 350W | D50: 개 | W50: 자재 46
A51: 54160289A886E8BE199351979F1B4140F33C69 | B51: 지중선용가선철물 | C51: 케이블표지시트, 0.23*400mm | D51: 개 | W51: 자재 47
... A55: 54160289A89722FC190C9E85421ACFC34AB7DA | B55: 라인바덕트(매립형) | C55: 알루미늄, 50*35mm | D55: m | W55: 자재 51
B56: 건설폐기물-중간처리 | C56: 폐아스콘 | D56: Ton | W56: 자재 52
B57: 건설폐기물-상차비 | C57: 15톤 덤프트럭(30km) | D57: Ton | W57: 자재 53
B58: 건설폐기물-운반비 | C58: 15톤 덤프트럭(30km) | D58: Ton | W58: 자재 54
A59: 53E9520999DE9BC11986A23F121C766B9D75A4 | B59: 작업반장 | C59: 일반공사 직종 | D59: 인 | W59: 노임 1 | Y59: B
A60: 53E9520999DE9BC11986A23F121C766B9D75A7 | B60: 보통인부 | C60: 일반공사 직종 | D60: 인 | W60: 노임 2 | Y60: B
A61: 53E9520999DE9BC11986A23F121C766B9D75A6 | B61: 특별인부 | C61: 일반공사 직종 | D61: 인 | W61: 노임 3 | Y61: B
A62: 53E9520999DE9BC11986A23F121C766B9D75A3 | B62: 비계공 | C62: 일반공사 직종 | D62: 인 | W62: 노임 4 | Y62: B
A63: 53E9520999DE9BC11986A23F121C766B9D764F | B63: 줄눈공 | C63: 일반공사 직종 | D63: 인 | W63: 노임 5 | Y63: B
A64: 53E9520999DE9BC11986A23F121C766B9D71C2 | B64: 건설기계운전사 | C64: 일반공사 직종 | D64: 인 | W64: 노임 6 | Y64: B
A65: 53E9520999DE9BC11986A23F121C766B9D7023 | B65: 일반기계운전사 | C65: 일반공사 직종 | D65: 인 | W65: 노임 7 | Y65: B
A66: 53E9520999DE9BC11986A23F121C766B9D72D5 | B66: 내선전공 | C66: 일반공사 직종 | D66: 인 | W66: 노임 8 | Y66: B
A67: 53E9520999DE9BC11986A23F121C766B9D72D8 | B67: 저압케이블전공 | C67: 일반공사 직종 | D67: 인 | W67: 노임 9 | Y67: B
A68: 53E9520999DE9BC11986A23F121C766B9D7DFA | B68: 배전전공 | C68: 일반공사 직종 | D68: 인 | W68: 노임 10 | Y68: B

Sheet 공량설정_일위대가
A1: 일위대가 | B1: 적용율(%) | C1: 소수점이하자릿수 | D1: 일위대가 코드
A2: 조명기구(LINE BAR) 설치 LED 10W (호표 1) | B2: 100 | D2: 5371024975D9C34019CCFCC76818FE
A3: 일반공사 직종 | C3: 3 | D3: 5371024975D9C34019CCFCC76818FE53E9520999DE9BC11986A23F121C766B9D72D5
A4: 경관조명 분전반 설치 무선원격양방향, 8회로 (호표 2) | B4: 100 | D4: 53710249751EB2BC19277323091525
A5: 일반공사 직종 | C5: 2 | D5: 53710249751EB2BC1927732309152553E9520999DE9BC11986A23F121C766B9D72D5
A6: 경관조명 분전반기초 500X675X850X700 (호표 3) | B6: 100 | D6: 53710249751EB2BC19277323091522
A7: 일반공사 직종 | C7: 2 | D7: 53710249751EB2BC1927732309152253E9520999DE9BC11986A23F121C766B9D75A7
A8: 일반공사 직종 | C8: 2 | D8: 53710249751EB2BC1927732309152253E9520999DE9BC11986A23F121C766B9D72D5
A9: 차단기 MCCB 2P 50AF (호표 4) | B9: 100 | D9: 5371024975D9C351192132B1E4138B
A10: 일반공사 직종 | C10: 3 | D10: 5371024975D9C351192132B1E4138B53E9520999DE9BC11986A23F121C766B9D72D5
A11: 차단기 ELB 2P 30AF (호표 5) | B11: 100 | D11: 5371024975D9C351192132B1E4138A
A12: 일반공사 직종 | C12: 3 | D12: 5371024975D9C351192132B1E4138A53E9520999DE9BC11986A23F121C766B9D72D5
A13: SMPS BOX(옥외노출) STS, 500X600X150 (호표 6) | B13: 100 | D13: 53710249751EB2BC19277323091524
A14: 일반공사 직종 | C14: 4 | D14: 53710249751EB2BC1927732309152453E9520999DE9BC11986A23F121C766B9D72D5
A15: SMPS BOX 기초 400X600X600 (호표 7) | B15: 100 | D15: 53710249751EB2BC192773230916CB
A16: 일반공사 직종 | C16: 2 | D16: 53710249751EB2BC192773230916CB53E9520999DE9BC11986A23F121C766B9D75A7
A17: 일반공사 직종 | C17: 2 | D17: 53710249751EB2BC192773230916CB53E9520999DE9BC11986A23F121C766B9D72D5
A18: 전기맨홀 800*800*800 (호표 8) | B18: 100 | D18: 53710249751EB2CE19877D71101304
A19: 일반공사 직종 | C19: 2 | D19: 53710249751EB2CE19877D7110130453E9520999DE9BC11986A23F121C766B9D75A4
A20: 일반공사 직종 | C20: 2 | D20: 53710249751EB2CE19877D7110130453E9520999DE9BC11986A23F121C766B9D75A7
A21: 일반공사 직종 | C21: 1 | D21: 53710249751EB2CE19877D7110130453E9520999DE9BC11986A23F121C766B9D75A6
A22: 일반공사 직종 | C22: 2 | D22: 53710249751EB2CE19877D7110130453E9520999DE9BC11986A23F121C766B9D75A3
A23: 일반공사 직종 | C23: 2 | D23: 53710249751EB2CE19877D7110130453E9520999DE9BC11986A23F121C766B9D764F
A24: 일반공사 직종 | C24: 2 | D24: 53710249751EB2CE19877D7110130453E9520999DE9BC11986A23F121C766B9D72D5
A25: 접지공사(분전반) 16Φ*1000 mm (호표 9) | B25: 100 | D25: 53710249751EB2FB19DFA6A32E18ED
A26: 일반공사 직종 | C26: 1 | D26: 53710249751EB2FB19DFA6A32E18ED53E9520999DE9BC11986A23F121C766B9D75A7
A27: 일반공사 직종 | C27: 2 | D27: 53710249751EB2FB19DFA6A32E18ED53E9520999DE9BC11986A23F121C766B9D72D5
A28: 풀박스 150X150X100 (호표 10) | B28: 100 | D28: 5371024975D9C3631993C85EFE142A
A29: 일반공사 직종 | C29: 2 | D29: 5371024975D9C3631993C85EFE142A53E9520999DE9BC11986A23F121C766B9D72D5
A30: 벽관통 구멍뚫기 두께40cm이하 Ø50mm (호표 11) | B30: 100 | D30: 5371024975D9C34019CC2742011DBF
A31: 일반공사 직종 | C31: 2 | D31: 5371024975D9C34019CC2742011DBF53E9520999DE9BC11986A23F121C766B9D75A6
A32: 케이블표지시트 케이블표지시트, 0.23*400mm (호표 12) | B32: 100 | D32: 53710249755465FB1944F8B0C51521
A33: 일반공사 직종 | C33: 3 | D33: 53710249755465FB1944F8B0C5152153E9520999DE9BC11986A23F121C766B9D75A7
A34: 일반공사 직종 | C34: 4 | D34: 53710249755465FB1944F8B0C5152153E9520999DE9BC11986A23F121C766B9D72D8
A35: 폴리에틸렌 전선관(지중) CD-P 22㎜ (호표 13) | B35: 100 | D35: 53710249755465D819758AF0CB13A2
A36: 일반공사 직종 | C36: 4 | D36: 53710249755465D819758AF0CB13A253E9520999DE9BC11986A23F121C766B9D75A7
A37: 일반공사 직종 | C37: 4 | D37: 53710249755465D819758AF0CB13A253E9520999DE9BC11986A23F121C766B9D7DFA
A38: 폴리에틸렌 전선관(지중) CD-P 28㎜ (호표 14) | B38: 100 | D38: 53710249755465D819758AF0CB144B
A39: 일반공사 직종 | C39: 4 | D39: 53710249755465D819758AF0CB144B53E9520999DE9BC11986A23F121C766B9D75A7
A40: 일반공사 직종 | C40: 4 | D40: 53710249755465D819758AF0CB144B53E9520999DE9BC11986A23F121C766B9D7DFA
A41: 폴리에틸렌 전선관(지중) CD-P 36㎜ (호표 15) | B41: 100 | D41: 53710249755465D819758AF0CB1551
A42: 일반공사 직종 | C42: 4 | D42: 53710249755465D819758AF0CB155153E9520999DE9BC11986A23F121C766B9D75A7
A43: 일반공사 직종 | C43: 4 | D43: 53710249755465D819758AF0CB155153E9520999DE9BC11986A23F121C766B9D7DFA
A44: 라인바덕트(매립형) 알루미늄, 50*35mm (호표 16) | B44: 100 | D44: 537102495A7EB59719B97435411568
A45: 일반공사 직종 | C45: 3 | D45: 537102495A7EB59719B9743541156853E9520999DE9BC11986A23F121C766B9D72D5
A46: 0.6/1kV 난연 전력 케이블(지중)-2열설치 F-CV, 1C*6㎟ (호표 17) | B46: 100 | D46: 5371024975774592197144C7A0192F
A47: 일반공사 직종 | C47: 5 | D47: 5371024975774592197144C7A0192F53E9520999DE9BC11986A23F121C766B9D75A7
A48: 일반공사 직종 | C48: 5 | D48: 5371024975774592197144C7A0192F53E9520999DE9BC11986A23F121C766B9D72D8
A49: 0.6/1kV 난연 전력 케이블(지중)-2열설치 F-CV, 1C*10㎟ (호표 18) | B49: 100 | D49: 5371024975774592197144C7A01809
A50: 일반공사 직종 | C50: 5 | D50: 5371024975774592197144C7A0180953E9520999DE9BC11986A23F121C766B9D75A7
A51: 일반공사 직종 | C51: 5 | D51: 5371024975774592197144C7A0180953E9520999DE9BC11986A23F121C766B9D72D8
A52: 0.6/1kV 난연 전력 케이블(지중)-2열설치 F-CV, 1C*16㎟ (호표 19) | B52: 100 | D52: 5371024975774592197144C7A01BDD
A53: 일반공사 직종 | C53: 5 | D53: 5371024975774592197144C7A01BDD53E9520999DE9BC11986A23F121C766B9D75A7
A54: 일반공사 직종 | C54: 5 | D54: 5371024975774592197144C7A01BDD53E9520999DE9BC11986A23F121C766B9D72D8
A55: 0.6/1kV 난연 전력 케이블 F-CV, 3C*4㎟ (호표 20) | B55: 100 | D55: 5371024975774592197167A758144D
A56: 일반공사 직종 | C56: 5 | D56: 5371024975774592197167A758144D53E9520999DE9BC11986A23F121C766B9D75A7
A57: 일반공사 직종 | C57: 5 | D57: 5371024975774592197167A758144D53E9520999DE9BC11986A23F121C766B9D72D8
A58: 난연 비닐 절연 접지용전선(F-GV) 0.6/1kV 6㎟ (호표 21) | B58: 100 | D58: 537102497566D6BC19BF05B6581FAF
A59: 일반공사 직종 | C59: 3 | D59: 537102497566D6BC19BF05B6581FAF53E9520999DE9BC11986A23F121C766B9D72D5
A60: 난연 비닐 절연 접지용전선(F-GV) 0.6/1kV 10㎟ (호표 22) | B60: 100 | D60: 537102497566D6BC19BF05B6581860
A61: 일반공사 직종 | C61: 3 | D61: 537102497566D6BC19BF05B658186053E9520999DE9BC11986A23F121C766B9D72D5
A62: 러그단자 러그단자, 동관단자, 1홀, 16 ㎟ (호표 23) | B62: 100 | D62: 53710249751EB2BC192773231B1856
A63: 일반공사 직종 | C63: 3 | D63: 53710249751EB2BC192773231B185653E9520999DE9BC11986A23F121C766B9D72D8
A64: 아스콘포장절단 1차 (호표 24) | B64: 100 | D64: 533EB2293777D0F319E2FEF8F6107E
A65: 아스콘포장깨기 T=30cm미만 (호표 25) | B65: 100 | D65: 533EB2293777D0F319E2FEF8F6107F
A66: 아스콘포장복구 (호표 26) | B66: 100 | D66: 533EB2293777D0F319E2FEF8F6107C
A67: 굴삭기(무한궤도) 0.2㎥ (호표 27) | B67: 100 | D67: 542702D9A329998419AADE56A21EC2070537465A
A68: 일반공사 직종 | C68: 0 | D68: 542702D9A329998419AADE56A21EC2070537465A53E9520999DE9BC11986A23F121C766B9D71C2
A69: 래머 80 kg (호표 28) | B69: 100 | D69: 542702D9A3298F2E1959EFDB9D1F1F21C362539C
A70: 일반공사 직종 | C70: 0 | D70: 542702D9A3298F2E1959EFDB9D1F1F21C362539C53E9520999DE9BC11986A23F121C766B9D7023
A71: 현장내잔토처리 소운반.고르기 (호표 29) | B71: 100 | D71: 533F8259E625D5BF195B5CDDF71C34
A72: 일반공사 직종 | C72: 1 | D72: 533F8259E625D5BF195B5CDDF71C3453E9520999DE9BC11986A23F121C766B9D75A7

Sheet  공사설정 
A1: 이 Sheet는 수정하지 마십시요
A2: 공사구분 | B2: D
A3: 확정내역 | B3: 원내역
A4: 자재단가적용 | B4: 5
A5: 경비단가적용 | B5: 5
A6: 품목코드형식 | B6: XXXX-XXXX-XXXXXXXXX
A7: 내역금액소수점처리 | B7: C | C7: 1
A8: 일위대가내역소수점처리 | B8: C | C8: 2
A9: 단가명 | B9: 가격정보 | C9: 물가자료 | D9: 물가정보 | E9: 조사가격1 | F9: 조사가격2 | G9: TTTTT
A10: 환율 | B10: 1099 | C10: 0 | D10: 0
A11: 시간당작업량 | B11: R | C11: 4
A12: 1회 사이클시간 | B12: R | C12: 4
A13: 시간당 작업사이클 | B13: R | C13: 3
A14: 일반변수 | B14: C | C14: 5
A15: 시간당 노임산출 계수 | B15: A | C15: 1/8*16/12*25/20 | D15: 1/8*16/12*25/20 | E15: 1/8*16/12*25/20 | F15: 1
A16: 재료비 할증 계수 | B16: 1.11 | C16: 1.12
A17: 노무비 할증 계수 | B17: 1 | C17: 1.5 | D17: 1.16 | E17: 1.6 | F17: 1.6 | G17: 1.6 | H17: 1.94 | I17: 1.94 | J17: 1.94 | K17: 1 | L17: 1 | M17: 1
A18: 경비 할증 계수 | B18: 1.25 | C18: 1.071
A19: 내역,일위대가 품명,규격,단위 따로적용
A21: 코드 | B21: 공종구분명 | C21: 원가비목코드
A22: 1 | B22: 작 업 부 산 물 | C22: A3
A23: 2 | B23: 운 반 비 | C23: C1
A24: 3 | B24: 관 급 자 재 비 | C24: DJ
A25: 4 | B25: 사 급 자 재 비 | C25: D3
A26: 5 | B26: ...
A27: 6 | B27: ...
A28: 7 | B28: ...
A29: 8 | B29: ...
A30: 9 | B30: ...
