Workbook
Name _: [1]예가표!#REF!
Name _??1????: '[2]일위대가(계측기설치)'!#REF!
Name _??2????: '[2]일위대가(계측기설치)'!#REF!
Name _??3????: '[2]일위대가(계측기설치)'!#REF!
Name _??4????: '[2]일위대가(계측기설치)'!#REF!
Name _??5????: '[2]일위대가(계측기설치)'!#REF!
Name _??6????: '[2]일위대가(계측기설치)'!#REF!
Name __: [1]예가표!#REF!
Name ____: [1]예가표!#REF!
Name ___________PRN2: #REF!
Name ___________PRN3: #REF!
Name ___________PRN4: #REF!
Name ___________PRN6: #REF!
Name ___________PRN7: #REF!
Name _________PRN2: #REF!
Name _________PRN3: #REF!
Name _________PRN4: #REF!
Name _________PRN6: #REF!
Name _________PRN7: #REF!
Name _______A67000: #REF!
Name _______NMB96: #REF!
Name _______PRN2: #REF!
Name _______PRN3: #REF!
Name _______PRN4: #REF!
Name _______PRN6: #REF!
Name _______PRN7: #REF!
Name ______A67000: #REF!
Name ______DOG1: #REF!
Name ______DOG2: #REF!
Name ______DOG22: #REF!
Name ______DOG3: #REF!
Name ______DOG33: #REF!
Name ______DOG4: #REF!
Name ______NMB96: #REF!
Name ______PI48: #REF!
Name ______PI60: #REF!
Name ______RO110: #REF!
Name ______RO22: #REF!
Name ______RO35: #REF!
Name ______RO45: #REF!
Name ______RO60: #REF!
Name ______RO80: #REF!
Name ______SUB1: #REF!
Name ______SUB2: #REF!
Name ______SUB3: #REF!
Name ______sub4: #REF!
Name ______sub5: #REF!
Name ______TON1: #REF!
Name ______TON2: #REF!
Name ______WW2: #REF!
Name ______WW3: #REF!
Name ______WW6: #REF!
Name ______WW7: #REF!
Name ______WW8: #REF!
Name _____A67000: #REF!
Name _____CLP1: #REF!
Name _____DOG1: #REF!
Name _____DOG2: #REF!
Name _____DOG22: #REF!
Name _____DOG3: #REF!

Sheet 원가계산서
B1: 공 사 원 가 계 산 서
B2: 공사명 : 세계유산주변 한식담장 경관조명 설치사업
B3: 비 목 | E3: 금 액 | F3: 구 성 비 | G3: 비 고
A4: A1 | B4: 순 공 사 원 가 | C4: 재 료 비 | D4: 직 접 재 료 비 | E4: =TRUNC(공종별집계표!F5, 0) -> 0
A5: A2 | D5: 간 접 재 료 비 | E5: 0
A6: A3 | D6: 작업설, 부산물(△) | E6: 0
A7: AS | D7: [ 소 계 ] | E7: =TRUNC(E4+E5-E6, 0) -> 0
A8: B1 | C8: 노 무 비 | D8: 직 접 노 무 비 | E8: =TRUNC(공종별집계표!H5, 0) -> 0
A9: B2 | D9: 간 접 노 무 비 | E9: =TRUNC(E8*0.191, 0) -> 0 | F9: 직접노무비 * 19.1%
A10: BS | D10: [ 소 계 ] | E10: =TRUNC(E8+E9, 0) -> 0
A11: C2 | C11: 경 비 | D11: 기 계 경 비 | E11: =TRUNC(공종별집계표!J5, 0) -> 0
A12: C4 | D12: 산 재 보 험 료 | E12: =TRUNC(E10*0.0356, 0) -> 0 | F12: 노무비 * 3.56%
A13: C5 | D13: 고 용 보 험 료 | E13: =TRUNC(E10*0.0101, 0) -> 0 | F13: 노무비 * 1.01%
A14: C6 | D14: 국민 건강 보험료 | E14: =TRUNC(E8*0.03595, 0) -> 0 | F14: 직접노무비 * 3.595%
A15: C7 | D15: 국민 연금 보험료 | E15: =TRUNC(E8*0.0475, 0) -> 0 | F15: 직접노무비 * 4.75%
A16: CB | D16: 노인장기요양보험료 | E16: =TRUNC(E14*0.1314, 0) -> 0 | F16: 건강보험료 * 13.14%
A17: C8 | D17: 퇴직 공제 부금비 | E17: =TRUNC(E8*0.023, 0) -> 0 | F17: 직접노무비 * 2.3%
A18: CA | D18: 산업안전보건관리비 | E18: =MIN(E19:E20) -> 0 | F18: (재료비+직노)*3.15%*1.2 | G18: A와 B중 작은금액 적용
E19: =(E7+E8+J20)*0.0315 -> 0 | F19: (재료비+직노+도급자관급/1.1)*3.15% | G19: A | J19: 도급자관급
E20: =(E7+E8)*0.0315*1.2 -> 0 | F20: (재료비+직노)*3.15%*1.2 | G20: B | I20: =공종별내역서!L143+공종별내역서!L166 -> 0 | J20: =I20/1.1 -> 0
A21: CC | D21: 석면부담금 | E21: =TRUNC(E10*0.00006, 0) -> 0 | F21: 노무비 * 0.006%
A22: CD | D22: 임금채권부담금 | E22: =TRUNC(E10*0.0009, 0) -> 0 | F22: 노무비 * 0.09%
A23: CG | D23: 기 타 경 비 | E23: =TRUNC((E7+E10)*0.05, 0) -> 0 | F23: (재료비+노무비) * 5%
A24: CS | D24: [ 소 계 ] | E24: =TRUNC(E11+E12+E13+E14+E15+E17+E18+E16+E21+E22+E23, 0) -> 0
A25: S1 | B25: 계 | E25: =TRUNC(E7+E10+E24, 0) -> 0
A26: D1 | B26: 일 반 관 리 비 | E26: =TRUNC(E25*0.08, 0) -> 0 | F26: 계 * 8%
A27: D2 | B27: 이 윤 | E27: =TRUNC((E10+E24+E26)*0.15, 0) -> 0 | F27: (노무비+경비+일반관리비) * 15%
B28: 폐 기 물 처 리 비 | E28: =공종별집계표!L10 -> 0
A29: D9 | B29: 공 급 가 액 | E29: =TRUNC(E25+E26+E27+E28, 0) -> 0
B30: 전기공사 손해배상공제 수수료 | E30: =TRUNC((E29+J20)*0.0026477, -2) -> 0 | F30: 순계약금액 * 0.26477% | G30: 백원단위미만절사
A31: DB | B31: 부 가 가 치 세 | E31: =TRUNC((E29+E30)*0.1, 0) -> 0 | F31: 공급가액 * 10%
A32: DH | B32: 도 급 액 | E32: =TRUNC(E29+E30+E31, -3) -> 0 | G32: 천원단위미만절사
B33: 관 급 자 재 비 [도급자설치 관급자재] | E33: =공종별집계표!L11+공종별집계표!L12 -> 0
B34: 한전 시설 부담금
A35: S2 | B35: 총 공 사 비 | E35: =TRUNC(E32+E33+E34, 0) -> 0

Sheet 공종별집계표
A1: 공 종 별 집 계 표
A2: [ 세계유산주변 한식담장 경관조명 설치사업 ]
A3: 품 명 | B3: 규 격 | C3: 단위 | D3: 수량 | E3: 재 료 비 | G3: 노 무 비 | I3: 경 비 | K3: 합 계 | M3: 비 고 | N3: 공종코드 | O3: 변수 | P3: 상위공종 | Q3: 공종구분 | R3: 공종레벨 | S3: 공종소계 | T3: 원가계산서 연결금액
E4: 단 가 | F4: 금 액 | G4: 단 가 | H4: 금 액 | I4: 단 가 | J4: 금 액 | K4: 단 가 | L4: 금 액
A5: 01 세계유산주변 한식담장 경관조명 설치사업 | D5: 1 | E5: =F6+F8+F9 -> 0 | F5: =E5*D5 -> 0 | G5: =H6+H8+H9 -> 0 | H5: =G5*D5 -> 0 | I5: =J6+J8+J9 -> 0 | J5: =I5*D5 -> 0 | K5: =E5+G5+I5 -> 0 | L5: =F5+H5+J5 -> 0 | N5: 01 | R5: 1
A6: 0101 경관조명 설비 공사 | D6: 1 | E6: =F7 -> 0 | F6: =E6*D6 -> 0 | G6: =H7 -> 0 | H6: =G6*D6 -> 0 | I6: =J7 -> 0 | J6: =I6*D6 -> 0 | K6: =E6+G6+I6 -> 0 | L6: =F6+H6+J6 -> 0 | N6: 0101 | P6: 01 | R6: 2
A7: 010101 경관조명[LP-01] | D7: 1 | E7: =공종별내역서!F51 -> 0 | F7: =E7*D7 -> 0 | G7: =공종별내역서!H51 -> 0 | H7: =G7*D7 -> 0 | I7: =공종별내역서!J51 -> 0 | J7: =I7*D7 -> 0 | K7: =E7+G7+I7 -> 0 | L7: =F7+H7+J7 -> 0 | N7: 010101 | P7: 0101 | R7: 3
A8: 0102 교통통제 및 안전처리비 | D8: 1 | F8: =E8*D8 -> 0 | G8: =공종별내역서!L75 -> 0 | H8: =G8*D8 -> 0 | J8: =I8*D8 -> 0 | K8: =E8+G8+I8 -> 0 | L8: =F8+H8+J8 -> 0 | N8: 010114 | P8: 0101 | R8: 3
A9: 0103 폐기물상차비 | D9: 1 | F9: =E9*D9 -> 0 | G9: =공종별내역서!L76 -> 0 | H9: =G9*D9 -> 0 | I9: =공종별내역서!L99 -> 0 | J9: =I9*D9 -> 0 | K9: =E9+G9+I9 -> 0 | L9: =F9+H9+J9 -> 0 | N9: 010114 | P9: 0101 | R9: 3
A10: 0104 폐기물처리공사 | D10: 1 | F10: =E10*D10 -> 0 | G10: =H13 -> 0 | H10: =G10*D10 -> 0 | I10: =공종별내역서!L123 -> 0 | J10: =I10*D10 -> 0 | K10: =E10+G10+I10 -> 0 | L10: =F10+H10+J10 -> 0 | N10: 0102 | P10: 01 | R10: 2
A11: 0105 관급자재(경관조명 분전반) | D11: 1 | E11: =공종별내역서!L147 -> 0 | F11: =E11*D11 -> 0 | G11: =H12 -> 0 | H11: =G11*D11 -> 0 | I11: =J12 -> 0 | J11: =I11*D11 -> 0 | K11: =E11+G11+I11 -> 0 | L11: =F11+H11+J11 -> 0 | N11: 0102 | P11: 01 | R11: 2
A12: 0106 관급자재(경관조명기구) | D12: 1 | E12: =공종별내역서!L170 -> 0 | F12: =E12*D12 -> 0 | G12: =H13 -> 0 | H12: =G12*D12 -> 0 | I12: =J13 -> 0 | J12: =I12*D12 -> 0 | K12: =E12+G12+I12 -> 0 | L12: =F12+H12+J12 -> 0 | N12: 0102 | P12: 01 | R12: 2
A27: [ 합 계 ] | F27: =F5 -> 0 | H27: =H5 -> 0 | J27: =J5 -> 0 | L27: =L5 -> 0

Sheet 공종별내역서
A1: [ 세계유산주변 한식담장 경관조명 설치사업 ]
A2: 품 명 | B2: 규 격 | C2: 단위 | D2: 수량 | E2: 재 료 비 | G2: 노 무 비 | I2: 경 비 | K2: 합 계 | M2: 비 고 | N2: 품목코드 | O2: 변수 | P2: 설정 | Q2: 공종코드 | R2: 일위 | S2: 단산 | T2: 자재 | U2: 손료적용 | V2: 손료저장 | W2: 적용율 | X2: JUK1 | Y2: JUK2 | Z2: JUK3 | AA2: JUK4 | AB2: JUK5 | AC2: JUK6 | AD2: JUK7 | AE2: JUK8 | AF2: JUK9 | AG2: JUK10 | AH2: JUK11 | AI2: JUK12 | AJ2: JUK13 | AK2: JUK14 | AL2: JUK15 | AM2: JUK16 | AN2: JUK17 | AO2: JUK18 | AP2: JUK19 | AQ2: JUK20 | AR2: 자재구분 | AS2: 공종구분 | AT2: 공종레벨 | AU2: 공종+자재 | AV2: 고유번호
E3: 단 가 | F3: 금 액 | G3: 단 가 | H3: 금 액 | I3: 단 가 | J3: 금 액 | K3: 단 가 | L3: 금 액
A4: 010101 경관조명[LP-01 | Q4: 010101
A5: 조명기구(LINE BAR) | B5: LED 10W | C5: 개 | D5: 498 | E5: =TRUNC(단가대비표!O22,0) -> 0 | F5: =TRUNC(E5*D5, 0) -> 0 | G5: =TRUNC(단가대비표!P22,0) -> 0 | H5: =TRUNC(G5*D5, 0) -> 0 | I5: =TRUNC(단가대비표!V22,0) -> 0 | J5: =TRUNC(I5*D5, 0) -> 0 | K5: =TRUNC(E5+G5+I5, 0) -> 0 | L5: =TRUNC(F5+H5+J5, 0) -> 0 | M5: 관급자재 | N5: 54160289A8B21AFF19D5F0702D1A65A2B302BD | Q5: 010101 | R5: F | S5: F | T5: T | AU5: 01010154160289A8B21AFF19D5F0702D1A65A2B302BD | AV5: 14144
A6: 경관조명 분전반 | B6: 무선원격양방향, 8회로 | C6: 대 | D6: 1 | E6: =TRUNC(단가대비표!O37,0) -> 0 | F6: =TRUNC(E6*D6, 0) -> 0 | G6: =TRUNC(단가대비표!P37,0) -> 0 | H6: =TRUNC(G6*D6, 0) -> 0 | I6: =TRUNC(단가대비표!V37,0) -> 0 | J6: =TRUNC(I6*D6, 0) -> 0 | K6: =TRUNC(E6+G6+I6, 0) -> 0 | L6: =TRUNC(F6+H6+J6, 0) -> 0 | M6: 관급자재 | N6: 54160289A886DE24198CF61A65168F6F7C2FE6 | Q6: 010101 | R6: F | S6: F | T6: T | AU6: 01010154160289A886DE24198CF61A65168F6F7C2FE6 | AV6: 14109
A7: 원격점검장치 | B7: 안테나, 통신모듈, zct내장 | C7: EA | D7: 1 | E7: =TRUNC(단가대비표!O38,0) -> 0 | F7: =TRUNC(E7*D7, 0) -> 0 | G7: =TRUNC(단가대비표!P38,0) -> 0 | H7: =TRUNC(G7*D7, 0) -> 0 | I7: =TRUNC(단가대비표!V38,0) -> 0 | J7: =TRUNC(I7*D7, 0) -> 0 | K7: =TRUNC(E7+G7+I7, 0) -> 0 | L7: =TRUNC(F7+H7+J7, 0) -> 0 | M7: 관급자재 | N7: 54160289A886DE24198CF61A65168F6F7DCEDF | Q7: 010101 | R7: F | S7: F | T7: T | AU7: 01010154160289A886DE24198CF61A65168F6F7DCEDF | AV7: 14143
A8: 조명기구(LINE BAR) 설치 | B8: LED 10W | C8: EA | D8: 498 | E8: =TRUNC(일위대가목록!E4,0) -> 0 | F8: =TRUNC(E8*D8, 0) -> 0 | G8: =TRUNC(일위대가목록!F4,0) -> 0 | H8: =TRUNC(G8*D8, 0) -> 0 | I8: =TRUNC(일위대가목록!G4,0) -> 0 | J8: =TRUNC(I8*D8, 0) -> 0 | K8: =TRUNC(E8+G8+I8, 0) -> 0 | L8: =TRUNC(F8+H8+J8, 0) -> 0 | M8: 호표 1 | N8: 5371024975D9C34019CCFCC76818FE | Q8: 010101 | R8: T | S8: F | T8: F | AU8: 0101015371024975D9C34019CCFCC76818FE | AV8: 14150
A9: 경관조명 분전반 설치 | B9: 무선원격양방향, 8회로 | C9: 개소 | D9: 1 | E9: =TRUNC(일위대가목록!E5,0) -> 0 | F9: =TRUNC(E9*D9, 0) -> 0 | G9: =TRUNC(일위대가목록!F5,0) -> 0 | H9: =TRUNC(G9*D9, 0) -> 0 | I9: =TRUNC(일위대가목록!G5,0) -> 0 | J9: =TRUNC(I9*D9, 0) -> 0 | K9: =TRUNC(E9+G9+I9, 0) -> 0 | L9: =TRUNC(F9+H9+J9, 0) -> 0 | M9: 호표 2 | N9: 53710249751EB2BC19277323091525 | Q9: 010101 | R9: T | S9: F | T9: F | AU9: 01010153710249751EB2BC19277323091525 | AV9: 14188
A10: 경관조명 분전반기초 | B10: 500X675X850X700 | C10: 개소 | D10: 1 | E10: =TRUNC(일위대가목록!E6,0) -> 0 | F10: =TRUNC(E10*D10, 0) -> 0 | G10: =TRUNC(일위대가목록!F6,0) -> 0 | H10: =TRUNC(G10*D10, 0) -> 0 | I10: =TRUNC(일위대가목록!G6,0) -> 0 | J10: =TRUNC(I10*D10, 0) -> 0 | K10: =TRUNC(E10+G10+I10, 0) -> 0 | L10: =TRUNC(F10+H10+J10, 0) -> 0 | M10: 호표 3 | N10: 53710249751EB2BC19277323091522 | Q10: 010101 | R10: T | S10: F | T10: F | AU10: 01010153710249751EB2BC19277323091522 | AV10: 14189
A11: 차단기 | B11: MCCB 2P 50AF | C11: EA | D11: 7 | E11: =TRUNC(일위대가목록!E7,0) -> 0 | F11: =TRUNC(E11*D11, 0) -> 0 | G11: =TRUNC(일위대가목록!F7,0) -> 0 | H11: =TRUNC(G11*D11, 0) -> 0 | I11: =TRUNC(일위대가목록!G7,0) -> 0 | J11: =TRUNC(I11*D11, 0) -> 0 | K11: =TRUNC(E11+G11+I11, 0) -> 0 | L11: =TRUNC(F11+H11+J11, 0) -> 0 | M11: 호표 4 | N11: 5371024975D9C351192132B1E4138B | Q11: 010101 | R11: T | S11: F | T11: F | AU11: 0101015371024975D9C351192132B1E4138B | AV11: 14164
A12: 차단기 | B12: ELB 2P 30AF | C12: EA | D12: 28 | E12: =TRUNC(일위대가목록!E8,0) -> 0 | F12: =TRUNC(E12*D12, 0) -> 0 | G12: =TRUNC(일위대가목록!F8,0) -> 0 | H12: =TRUNC(G12*D12, 0) -> 0 | I12: =TRUNC(일위대가목록!G8,0) -> 0 | J12: =TRUNC(I12*D12, 0) -> 0 | K12: =TRUNC(E12+G12+I12, 0) -> 0 | L12: =TRUNC(F12+H12+J12, 0) -> 0 | M12: 호표 5 | N12: 5371024975D9C351192132B1E4138A | Q12: 010101 | R12: T | S12: F | T12: F | AU12: 0101015371024975D9C351192132B1E4138A | AV12: 14163
A13: SMPS BOX(옥외노출) | B13: STS, 500X600X150 | C13: 면 | D13: 7 | E13: =TRUNC(일위대가목록!E9,0) -> 0 | F13: =TRUNC(E13*D13, 0) -> 0 | G13: =TRUNC(일위대가목록!F9,0) -> 0 | H13: =TRUNC(G13*D13, 0) -> 0 | I13: =TRUNC(일위대가목록!G9,0) -> 0 | J13: =TRUNC(I13*D13, 0) -> 0 | K13: =TRUNC(E13+G13+I13, 0) -> 0 | L13: =TRUNC(F13+H13+J13, 0) -> 0 | M13: 호표 6 | N13: 53710249751EB2BC19277323091524 | Q13: 010101 | R13: T | S13: F | T13: F | AU13: 01010153710249751EB2BC19277323091524 | AV13: 14177
A14: SMPS BOX 기초 | B14: 400X600X600 | C14: 개소 | D14: 7 | E14: =TRUNC(일위대가목록!E10,0) -> 0 | F14: =TRUNC(E14*D14, 0) -> 0 | G14: =TRUNC(일위대가목록!F10,0) -> 0 | H14: =TRUNC(G14*D14, 0) -> 0 | I14: =TRUNC(일위대가목록!G10,0) -> 0 | J14: =TRUNC(I14*D14, 0) -> 0 | K14: =TRUNC(E14+G14+I14, 0) -> 0 | L14: =TRUNC(F14+H14+J14, 0) -> 0 | M14: 호표 7 | N14: 53710249751EB2BC192773230916CB | Q14: 010101 | R14: T | S14: F | T14: F | AU14: 01010153710249751EB2BC192773230916CB | AV14: 14178
A15: SMPS(방수형) | B15: 300W | C15: 개 | D15: 20 | E15: =TRUNC(단가대비표!O49,0) -> 0 | F15: =TRUNC(E15*D15, 0) -> 0 | G15: =TRUNC(단가대비표!P49,0) -> 0 | H15: =TRUNC(G15*D15, 0) -> 0 | I15: =TRUNC(단가대비표!V49,0) -> 0 | J15: =TRUNC(I15*D15, 0) -> 0 | K15: =TRUNC(E15+G15+I15, 0) -> 0 | L15: =TRUNC(F15+H15+J15, 0) -> 0 | N15: 54160289A886DE5119D49DE3A61DB5B0A0451B | Q15: 010101 | R15: F | S15: F | T15: T | AU15: 01010154160289A886DE5119D49DE3A61DB5B0A0451B | AV15: 14179
A16: SMPS(방수형) | B16: 350W | C16: 개 | D16: 8 | E16: =TRUNC(단가대비표!O50,0) -> 0 | F16: =TRUNC(E16*D16, 0) -> 0 | G16: =TRUNC(단가대비표!P50,0) -> 0 | H16: =TRUNC(G16*D16, 0) -> 0 | I16: =TRUNC(단가대비표!V50,0) -> 0 | J16: =TRUNC(I16*D16, 0) -> 0 | K16: =TRUNC(E16+G16+I16, 0) -> 0 | L16: =TRUNC(F16+H16+J16, 0) -> 0 | N16: 54160289A886DE5119D49DE3A61DB5B0A04514 | Q16: 010101 | R16: F | S16: F | T16: T | AU16: 01010154160289A886DE5119D49DE3A61DB5B0A04514 | AV16: 14180
A17: 전기맨홀 | B17: 800*800*800 | C17: 조 | D17: 1 | E17: =TRUNC(일위대가목록!E11,0) -> 0 | F17: =TRUNC(E17*D17, 0) -> 0 | G17: =TRUNC(일위대가목록!F11,0) -> 0 | H17: =TRUNC(G17*D17, 0) -> 0 | I17: =TRUNC(일위대가목록!G11,0) -> 0 | J17: =TRUNC(I17*D17, 0) -> 0 | K17: =TRUNC(E17+G17+I17, 0) -> 0 | L17: =TRUNC(F17+H17+J17, 0) -> 0 | M17: 호표 8 | N17: 53710249751EB2CE19877D71101304 | Q17: 010101 | R17: T | S17: F | T17: F | AU17: 01010153710249751EB2CE19877D71101304 | AV17: 14112
A18: 접지공사(분전반) | B18: 16Φ*1000 mm | C18: 개 | D18: 1 | E18: =TRUNC(일위대가목록!E12,0) -> 0 | F18: =TRUNC(E18*D18, 0) -> 0 | G18: =TRUNC(일위대가목록!F12,0) -> 0 | H18: =TRUNC(G18*D18, 0) -> 0 | I18: =TRUNC(일위대가목록!G12,0) -> 0 | J18: =TRUNC(I18*D18, 0) -> 0 | K18: =TRUNC(E18+G18+I18, 0) -> 0 | L18: =TRUNC(F18+H18+J18, 0) -> 0 | M18: 호표 9 | N18: 53710249751EB2FB19DFA6A32E18ED | Q18: 010101 | R18: T | S18: F | T18: F | AU18: 01010153710249751EB2FB19DFA6A32E18ED | AV18: 14088
A19: 풀박스 | B19: 150X150X100 | C19: 개 | D19: 12 | E19: =TRUNC(일위대가목록!E13,0) -> 0 | F19: =TRUNC(E19*D19, 0) -> 0 | G19: =TRUNC(일위대가목록!F13,0) -> 0 | H19: =TRUNC(G19*D19, 0) -> 0 | I19: =TRUNC(일위대가목록!G13,0) -> 0 | J19: =TRUNC(I19*D19, 0) -> 0 | K19: =TRUNC(E19+G19+I19, 0) -> 0 | L19: =TRUNC(F19+H19+J19, 0) -> 0 | M19: 호표 10 | N19: 5371024975D9C3631993C85EFE142A | Q19: 010101 | R19: T | S19: F | T19: F | AU19: 0101015371024975D9C3631993C85EFE142A | AV19: 14113
A20: 벽관통 구멍뚫기 | B20: 두께40cm이하 Ø50mm | C20: 개소 | D20: 12 | E20: =TRUNC(일위대가목록!E14,0) -> 0 | F20: =TRUNC(E20*D20, 0) -> 0 | G20: =TRUNC(일위대가목록!F14,0) -> 0 | H20: =TRUNC(G20*D20, 0) -> 0 | I20: =TRUNC(일위대가목록!G14,0) -> 0 | J20: =TRUNC(I20*D20, 0) -> 0 | K20: =TRUNC(E20+G20+I20, 0) -> 0 | L20: =TRUNC(F20+H20+J20, 0) -> 0 | M20: 호표 11 | N20: 5371024975D9C34019CC2742011DBF | Q20: 010101 | R20: T | S20: F | T20: F | AU20: 0101015371024975D9C34019CC2742011DBF | AV20: 14181
A21: 터파기 | B21: 토사,백호80%+인력20% | C21: ㎥ | D21: 122 | E21: =TRUNC(중기단가목록!E4,0) -> 0 | F21: =TRUNC(E21*D21, 0) -> 0 | G21: =TRUNC(중기단가목록!F4,0) -> 0 | H21: =TRUNC(G21*D21, 0) -> 0 | I21: =TRUNC(중기단가목록!G4,0) -> 0 | J21: =TRUNC(I21*D21, 0) -> 0 | K21: =TRUNC(E21+G21+I21, 0) -> 0 | L21: =TRUNC(F21+H21+J21, 0) -> 0 | M21: 산근 1 | N21: 533F82598DBDEBAF19DD0F6CF219B2 | Q21: 010101 | R21: F | S21: T | T21: F | AU21: 010101533F82598DBDEBAF19DD0F6CF219B2 | AV21: 14190
A22: 되메우고다지기 | B22: 백호0.2M3*래머80kg | C22: ㎥ | D22: 122 | E22: =TRUNC(중기단가목록!E5,0) -> 0 | F22: =TRUNC(E22*D22, 0) -> 0 | G22: =TRUNC(중기단가목록!F5,0) -> 0 | H22: =TRUNC(G22*D22, 0) -> 0 | I22: =TRUNC(중기단가목록!G5,0) -> 0 | J22: =TRUNC(I22*D22, 0) -> 0 | K22: =TRUNC(E22+G22+I22, 0) -> 0 | L22: =TRUNC(F22+H22+J22, 0) -> 0 | M22: 산근 2 | N22: 533F8259E625D5C919A724A06D1ADE | Q22: 010101 | R22: F | S22: T | T22: F | AU22: 010101533F8259E625D5C919A724A06D1ADE | AV22: 14191
A23: 케이블표지시트 | B23: 케이블표지시트, 0.23*400mm | C23: M | D23: 563 | E23: =TRUNC(일위대가목록!E15,0) -> 0 | F23: =TRUNC(E23*D23, 0) -> 0 | G23: =TRUNC(일위대가목록!F15,0) -> 0 | H23: =TRUNC(G23*D23, 0) -> 0 | I23: =TRUNC(일위대가목록!G15,0) -> 0 | J23: =TRUNC(I23*D23, 0) -> 0 | K23: =TRUNC(E23+G23+I23, 0) -> 0 | L23: =TRUNC(F23+H23+J23, 0) -> 0 | M23: 호표 12 | N23: 53710249755465FB1944F8B0C51521 | Q23: 010101 | R23: T | S23: F | T23: F | AU23: 01010153710249755465FB1944F8B0C51521 | AV23: 14095
A24: 폴리에틸렌 전선관(지중) | B24: CD-P 22㎜ | C24: M | D24: 94 | E24: =TRUNC(일위대가목록!E16,0) -> 0 | F24: =TRUNC(E24*D24, 0) -> 0 | G24: =TRUNC(일위대가목록!F16,0) -> 0 | H24: =TRUNC(G24*D24, 0) -> 0 | I24: =TRUNC(일위대가목록!G16,0) -> 0 | J24: =TRUNC(I24*D24, 0) -> 0 | K24: =TRUNC(E24+G24+I24, 0) -> 0 | L24: =TRUNC(F24+H24+J24, 0) -> 0 | M24: 호표 13 | N24: 53710249755465D819758AF0CB13A2 | Q24: 010101 | R24: T | S24: F | T24: F | AU24: 01010153710249755465D819758AF0CB13A2 | AV24: 14182
A25: 폴리에틸렌 전선관(지중) | B25: CD-P 28㎜ | C25: M | D25: 401 | E25: =TRUNC(일위대가목록!E17,0) -> 0 | F25: =TRUNC(E25*D25, 0) -> 0 | G25: =TRUNC(일위대가목록!F17,0) -> 0 | H25: =TRUNC(G25*D25, 0) -> 0 | I25: =TRUNC(일위대가목록!G17,0) -> 0 | J25: =TRUNC(I25*D25, 0) -> 0 | K25: =TRUNC(E25+G25+I25, 0) -> 0 | L25: =TRUNC(F25+H25+J25, 0) -> 0 | M25: 호표 14 | N25: 53710249755465D819758AF0CB144B | Q25: 010101 | R25: T | S25: F | T25: F | AU25: 01010153710249755465D819758AF0CB144B | AV25: 14125
A26: 폴리에틸렌 전선관(지중) | B26: CD-P 36㎜ | C26: M | D26: 337 | E26: =TRUNC(일위대가목록!E18,0) -> 0 | F26: =TRUNC(E26*D26, 0) -> 0 | G26: =TRUNC(일위대가목록!F18,0) -> 0 | H26: =TRUNC(G26*D26, 0) -> 0 | I26: =TRUNC(일위대가목록!G18,0) -> 0 | J26: =TRUNC(I26*D26, 0) -> 0 | K26: =TRUNC(E26+G26+I26, 0) -> 0 | L26: =TRUNC(F26+H26+J26, 0) -> 0 | M26: 호표 15 | N26: 53710249755465D819758AF0CB1551 | Q26: 010101 | R26: T | S26: F | T26: F | AU26: 01010153710249755465D819758AF0CB1551 | AV26: 14126
A27: 라인바덕트(매립형) | B27: 알루미늄, 50*35mm | C27: M | D27: 509 | E27: =TRUNC(일위대가목록!E19,0) -> 0 | F27: =TRUNC(E27*D27, 0) -> 0 | G27: =TRUNC(일위대가목록!F19,0) -> 0 | H27: =TRUNC(G27*D27, 0) -> 0 | I27: =TRUNC(일위대가목록!G19,0) -> 0 | J27: =TRUNC(I27*D27, 0) -> 0 | K27: =TRUNC(E27+G27+I27, 0) -> 0 | L27: =TRUNC(F27+H27+J27, 0) -> 0 | M27: 호표 16 | N27: 537102495A7EB59719B97435411568 | Q27: 010101 | R27: T | S27: F | T27: F | AU27: 010101537102495A7EB59719B97435411568 | AV27: 14183
A28: 0.6/1kV 난연 전력 케이블 | B28: F-CV, 1C*6㎟ | C28: m | D28: 858 | E28: =TRUNC(단가대비표!O11,0) -> 0 | F28: =TRUNC(E28*D28, 0) -> 0 | G28: =TRUNC(단가대비표!P11,0) -> 0 | H28: =TRUNC(G28*D28, 0) -> 0 | I28: =TRUNC(단가대비표!V11,0) -> 0 | J28: =TRUNC(I28*D28, 0) -> 0 | K28: =TRUNC(E28+G28+I28, 0) -> 0 | L28: =TRUNC(F28+H28+J28, 0) -> 0 | N28: 54044289D16978611955CE075016C376655924 | Q28: 010101 | R28: F | S28: F | T28: T | AU28: 01010154044289D16978611955CE075016C376655924 | AV28: 14123
A29: 0.6/1kV 난연 전력 케이블(지중)-2열설치 | B29: F-CV, 1C*6㎟ | C29: m | D29: 858 | E29: =TRUNC(일위대가목록!E20,0) -> 0 | F29: =TRUNC(E29*D29, 0) -> 0 | G29: =TRUNC(일위대가목록!F20,0) -> 0 | H29: =TRUNC(G29*D29, 0) -> 0 | I29: =TRUNC(일위대가목록!G20,0) -> 0 | J29: =TRUNC(I29*D29, 0) -> 0 | K29: =TRUNC(E29+G29+I29, 0) -> 0 | L29: =TRUNC(F29+H29+J29, 0) -> 0 | M29: 호표 17 | N29: 5371024975774592197144C7A0192F | Q29: 010101 | R29: T | S29: F | T29: F | AU29: 0101015371024975774592197144C7A0192F | AV29: 14172
A30: 0.6/1kV 난연 전력 케이블 | B30: F-CV, 1C*10㎟ | C30: m | D30: 652 | E30: =TRUNC(단가대비표!O12,0) -> 0 | F30: =TRUNC(E30*D30, 0) -> 0 | G30: =TRUNC(단가대비표!P12,0) -> 0 | H30: =TRUNC(G30*D30, 0) -> 0 | I30: =TRUNC(단가대비표!V12,0) -> 0 | J30: =TRUNC(I30*D30, 0) -> 0 | K30: =TRUNC(E30+G30+I30, 0) -> 0 | L30: =TRUNC(F30+H30+J30, 0) -> 0 | N30: 54044289D16978611955CE075016C376655925 | Q30: 010101 | R30: F | S30: F | T30: T | AU30: 01010154044289D16978611955CE075016C376655925 | AV30: 14184
A31: 0.6/1kV 난연 전력 케이블(지중)-2열설치 | B31: F-CV, 1C*10㎟ | C31: m | D31: 652 | E31: =TRUNC(일위대가목록!E21,0) -> 0 | F31: =TRUNC(E31*D31, 0) -> 0 | G31: =TRUNC(일위대가목록!F21,0) -> 0 | H31: =TRUNC(G31*D31, 0) -> 0 | I31: =TRUNC(일위대가목록!G21,0) -> 0 | J31: =TRUNC(I31*D31, 0) -> 0 | K31: =TRUNC(E31+G31+I31, 0) -> 0 | L31: =TRUNC(F31+H31+J31, 0) -> 0 | M31: 호표 18 | N31: 5371024975774592197144C7A01809 | Q31: 010101 | R31: T | S31: F | T31: F | AU31: 0101015371024975774592197144C7A01809 | AV31: 14185
A32: 0.6/1kV 난연 전력 케이블 | B32: F-CV, 1C*16㎟ | C32: m | D32: 46 | E32: =TRUNC(단가대비표!O13,0) -> 0 | F32: =TRUNC(E32*D32, 0) -> 0 | G32: =TRUNC(단가대비표!P13,0) -> 0 | H32: =TRUNC(G32*D32, 0) -> 0 | I32: =TRUNC(단가대비표!V13,0) -> 0 | J32: =TRUNC(I32*D32, 0) -> 0 | K32: =TRUNC(E32+G32+I32, 0) -> 0 | L32: =TRUNC(F32+H32+J32, 0) -> 0 | N32: 54044289D16978611955CE075016C376655926 | Q32: 010101 | R32: F | S32: F | T32: T | AU32: 01010154044289D16978611955CE075016C376655926 | AV32: 14119
A33: 0.6/1kV 난연 전력 케이블(지중)-2열설치 | B33: F-CV, 1C*16㎟ | C33: m | D33: 46 | E33: =TRUNC(일위대가목록!E22,0) -> 0 | F33: =TRUNC(E33*D33, 0) -> 0 | G33: =TRUNC(일위대가목록!F22,0) -> 0 | H33: =TRUNC(G33*D33, 0) -> 0 | I33: =TRUNC(일위대가목록!G22,0) -> 0 | J33: =TRUNC(I33*D33, 0) -> 0 | K33: =TRUNC(E33+G33+I33, 0) -> 0 | L33: =TRUNC(F33+H33+J33, 0) -> 0 | M33: 호표 19 | N33: 5371024975774592197144C7A01BDD | Q33: 010101 | R33: T | S33: F | T33: F | AU33: 0101015371024975774592197144C7A01BDD | AV33: 14120
A34: 0.6/1kV 난연 전력 케이블 | B34: F-CV, 3C*4㎟ | C34: m | D34: 544 | E34: =TRUNC(일위대가목록!E23,0) -> 0 | F34: =TRUNC(E34*D34, 0) -> 0 | G34: =TRUNC(일위대가목록!F23,0) -> 0 | H34: =TRUNC(G34*D34, 0) -> 0 | I34: =TRUNC(일위대가목록!G23,0) -> 0 | J34: =TRUNC(I34*D34, 0) -> 0 | K34: =TRUNC(E34+G34+I34, 0) -> 0 | L34: =TRUNC(F34+H34+J34, 0) -> 0 | M34: 호표 20 | N34: 5371024975774592197167A758144D | Q34: 010101 | R34: T | S34: F | T34: F | AU34: 0101015371024975774592197167A758144D | AV34: 14186
A35: 난연 비닐 절연 접지용전선(F-GV) | B35: 0.6/1kV 6㎟ | C35: m | D35: 429 | E35: =TRUNC(일위대가목록!E24,0) -> 0 | F35: =TRUNC(E35*D35, 0) -> 0 | G35: =TRUNC(일위대가목록!F24,0) -> 0 | H35: =TRUNC(G35*D35, 0) -> 0 | I35: =TRUNC(일위대가목록!G24,0) -> 0 | J35: =TRUNC(I35*D35, 0) -> 0 | K35: =TRUNC(E35+G35+I35, 0) -> 0 | L35: =TRUNC(F35+H35+J35, 0) -> 0 | M35: 호표 21 | N35: 537102497566D6BC19BF05B6581FAF | Q35: 010101 | R35: T | S35: F | T35: F | AU35: 010101537102497566D6BC19BF05B6581FAF | AV35: 14118
A36: 난연 비닐 절연 접지용전선(F-GV) | B36: 0.6/1kV 10㎟ | C36: m | D36: 326 | E36: =TRUNC(일위대가목록!E25,0) -> 0 | F36: =TRUNC(E36*D36, 0) -> 0 | G36: =TRUNC(일위대가목록!F25,0) -> 0 | H36: =TRUNC(G36*D36, 0) -> 0 | I36: =TRUNC(일위대가목록!G25,0) -> 0 | J36: =TRUNC(I36*D36, 0) -> 0 | K36: =TRUNC(E36+G36+I36, 0) -> 0 | L36: =TRUNC(F36+H36+J36, 0) -> 0 | M36: 호표 22 | N36: 537102497566D6BC19BF05B6581860 | Q36: 010101 | R36: T | S36: F | T36: F | AU36: 010101537102497566D6BC19BF05B6581860 | AV36: 14187
A37: 러그단자 | B37: 러그단자, 동관단자, 1홀, 16 ㎟ | C37: 개 | D37: 4 | E37: =TRUNC(일위대가목록!E26,0) -> 0 | F37: =TRUNC(E37*D37, 0) -> 0 | G37: =TRUNC(일위대가목록!F26,0) -> 0 | H37: =TRUNC(G37*D37, 0) -> 0 | I37: =TRUNC(일위대가목록!G26,0) -> 0 | J37: =TRUNC(I37*D37, 0) -> 0 | K37: =TRUNC(E37+G37+I37, 0) -> 0 | L37: =TRUNC(F37+H37+J37, 0) -> 0 | M37: 호표 23 | N37: 53710249751EB2BC192773231B1856 | Q37: 010101 | R37: T | S37: F | T37: F | AU37: 01010153710249751EB2BC192773231B1856 | AV37: 14117
A38: 아스콘포장절단 | B38: 1차 | C38: M | D38: 50 | E38: =TRUNC(일위대가목록!E27,0) -> 0 | F38: =TRUNC(E38*D38, 0) -> 0 | G38: =TRUNC(일위대가목록!F27,0) -> 0 | H38: =TRUNC(G38*D38, 0) -> 0 | I38: =TRUNC(일위대가목록!G27,0) -> 0 | J38: =TRUNC(I38*D38, 0) -> 0 | K38: =TRUNC(E38+G38+I38, 0) -> 0 | L38: =TRUNC(F38+H38+J38, 0) -> 0 | M38: 호표 24 | N38: 533EB2293777D0F319E2FEF8F6107E | Q38: 010101 | R38: T | S38: F | T38: F | AU38: 010101533EB2293777D0F319E2FEF8F6107E | AV38: 14114
A39: 아스콘포장깨기 | B39: T=30cm미만 | C39: ㎡ | D39: 1.58 | E39: =TRUNC(일위대가목록!E28,0) -> 0 | F39: =TRUNC(E39*D39, 0) -> 0 | G39: =TRUNC(일위대가목록!F28,0) -> 0 | H39: =TRUNC(G39*D39, 0) -> 0 | I39: =TRUNC(일위대가목록!G28,0) -> 0 | J39: =TRUNC(I39*D39, 0) -> 0 | K39: =TRUNC(E39+G39+I39, 0) -> 0 | L39: =TRUNC(F39+H39+J39, 0) -> 0 | M39: 호표 25 | N39: 533EB2293777D0F319E2FEF8F6107F | Q39: 010101 | R39: T | S39: F | T39: F | AU39: 010101533EB2293777D0F319E2FEF8F6107F | AV39: 14115
A40: 아스콘포장복구 | C40: ㎥ | D40: 1.58 | E40: =TRUNC(일위대가목록!E29,0) -> 0 | F40: =TRUNC(E40*D40, 0) -> 0 | G40: =TRUNC(일위대가목록!F29,0) -> 0 | H40: =TRUNC(G40*D40, 0) -> 0 | I40: =TRUNC(일위대가목록!G29,0) -> 0 | J40: =TRUNC(I40*D40, 0) -> 0 | K40: =TRUNC(E40+G40+I40, 0) -> 0 | L40: =TRUNC(F40+H40+J40, 0) -> 0 | M40: 호표 26 | N40: 533EB2293777D0F319E2FEF8F6107C | Q40: 010101 | R40: T | S40: F | T40: F | AU40: 010101533EB2293777D0F319E2FEF8F6107C | AV40: 14175
...

Sheet 일위대가목록
A1: 일 위 대 가 목 록
A2: [ 세계유산주변 한식담장 경관조명 설치사업 ]
A3: 코 드 | B3: 품 명 | C3: 규 격 | D3: 단위 | E3: 재 료 비 | F3: 노 무 비 | G3: 경 비 | H3: 합 계 | I3: 번 호 | J3: 비 고 | K3: 노임계수 | L3: 할증 | M3: 품셈개요 | N3: 장비일위
A4: 5371024975D9C34019CCFCC76818FE | B4: 조명기구(LINE BAR) 설치 | C4: LED 10W | D4: EA | E4: =일위대가!F8 -> 0 | F4: =일위대가!H8 -> 0 | G4: =일위대가!J8 -> 0 | H4: =E4+F4+G4 -> 0 | I4: 호표 1 | M4: 전기 5-25-2
A5: 53710249751EB2BC19277323091525 | B5: 경관조명 분전반 설치 | C5: 무선원격양방향, 8회로 | D5: 개소 | E5: =일위대가!F14 -> 0 | F5: =일위대가!H14 -> 0 | G5: =일위대가!J14 -> 0 | H5: =E5+F5+G5 -> 0 | I5: 호표 2 | M5: 전기 5-18-2
A6: 53710249751EB2BC19277323091522 | B6: 경관조명 분전반기초 | C6: 500X675X850X700 | D6: 개소 | E6: =일위대가!F24 -> 0 | F6: =일위대가!H24 -> 0 | G6: =일위대가!J24 -> 0 | H6: =E6+F6+G6 -> 0 | I6: 호표 3 | M6: 전기 5-27-1
A7: 5371024975D9C351192132B1E4138B | B7: 차단기 | C7: MCCB 2P 50AF | D7: EA | E7: =일위대가!F30 -> 0 | F7: =일위대가!H30 -> 0 | G7: =일위대가!J30 -> 0 | H7: =E7+F7+G7 -> 0 | I7: 호표 4 | M7: 전기 5-19
A8: 5371024975D9C351192132B1E4138A | B8: 차단기 | C8: ELB 2P 30AF | D8: EA | E8: =일위대가!F36 -> 0 | F8: =일위대가!H36 -> 0 | G8: =일위대가!J36 -> 0 | H8: =E8+F8+G8 -> 0 | I8: 호표 5 | M8: 전기 5-19
A9: 53710249751EB2BC19277323091524 | B9: SMPS BOX(옥외노출) | C9: STS, 500X600X150 | D9: 면 | E9: =일위대가!F42 -> 0 | F9: =일위대가!H42 -> 0 | G9: =일위대가!J42 -> 0 | H9: =E9+F9+G9 -> 0 | I9: 호표 6 | M9: 전기 5-18
A10: 53710249751EB2BC192773230916CB | B10: SMPS BOX 기초 | C10: 400X600X600 | D10: 개소 | E10: =일위대가!F49 -> 0 | F10: =일위대가!H49 -> 0 | G10: =일위대가!J49 -> 0 | H10: =E10+F10+G10 -> 0 | I10: 호표 7 | M10: 전기 5-27-1
A11: 53710249751EB2CE19877D71101304 | B11: 전기맨홀 | C11: 800*800*800 | D11: 조 | E11: =일위대가!F68 -> 0 | F11: =일위대가!H68 -> 0 | G11: =일위대가!J68 -> 0 | H11: =E11+F11+G11 -> 0 | I11: 호표 8 | M11: 전기 4-43-3
A12: 53710249751EB2FB19DFA6A32E18ED | B12: 접지공사(분전반) | C12: 16Φ*1000 mm | D12: 개 | E12: =일위대가!F79 -> 0 | F12: =일위대가!H79 -> 0 | G12: =일위대가!J79 -> 0 | H12: =E12+F12+G12 -> 0 | I12: 호표 9 | M12: 전기 3-38
A13: 5371024975D9C3631993C85EFE142A | B13: 풀박스 | C13: 150X150X100 | D13: 개 | E13: =일위대가!F85 -> 0 | F13: =일위대가!H85 -> 0 | G13: =일위대가!J85 -> 0 | H13: =E13+F13+G13 -> 0 | I13: 호표 10 | M13: 전기 5-4
A14: 5371024975D9C34019CC2742011DBF | B14: 벽관통 구멍뚫기 | C14: 두께40cm이하 Ø50mm | D14: 개소 | E14: =일위대가!F91 -> 0 | F14: =일위대가!H91 -> 0 | G14: =일위대가!J91 -> 0 | H14: =E14+F14+G14 -> 0 | I14: 호표 11 | M14: 전기 5-29-1.1
A15: 53710249755465FB1944F8B0C51521 | B15: 케이블표지시트 | C15: 케이블표지시트, 0.23*400mm | D15: M | E15: =일위대가!F98 -> 0 | F15: =일위대가!H98 -> 0 | G15: =일위대가!J98 -> 0 | H15: =E15+F15+G15 -> 0 | I15: 호표 12 | M15: 전기 4-45
A16: 53710249755465D819758AF0CB13A2 | B16: 폴리에틸렌 전선관(지중) | C16: CD-P 22㎜ | D16: M | E16: =일위대가!F107 -> 0 | F16: =일위대가!H107 -> 0 | G16: =일위대가!J107 -> 0 | H16: =E16+F16+G16 -> 0 | I16: 호표 13 | M16: 전기 5-1
A17: 53710249755465D819758AF0CB144B | B17: 폴리에틸렌 전선관(지중) | C17: CD-P 28㎜ | D17: M | E17: =일위대가!F116 -> 0 | F17: =일위대가!H116 -> 0 | G17: =일위대가!J116 -> 0 | H17: =E17+F17+G17 -> 0 | I17: 호표 14 | M17: 전기 4-31
A18: 53710249755465D819758AF0CB1551 | B18: 폴리에틸렌 전선관(지중) | C18: CD-P 36㎜ | D18: M | E18: =일위대가!F125 -> 0 | F18: =일위대가!H125 -> 0 | G18: =일위대가!J125 -> 0 | H18: =E18+F18+G18 -> 0 | I18: 호표 15 | M18: 전기 4-31
A19: 537102495A7EB59719B97435411568 | B19: 라인바덕트(매립형) | C19: 알루미늄, 50*35mm | D19: M | E19: =일위대가!F131 -> 0 | F19: =일위대가!H131 -> 0 | G19: =일위대가!J131 -> 0 | H19: =E19+F19+G19 -> 0 | I19: 호표 16 | M19: 통신 3-3-1,2
A20: 5371024975774592197144C7A0192F | B20: 0.6/1kV 난연 전력 케이블(지중)-2열설치 | C20: F-CV, 1C*6㎟ | D20: m | E20: =일위대가!F139 -> 0 | F20: =일위대가!H139 -> 0 | G20: =일위대가!J139 -> 0 | H20: =E20+F20+G20 -> 0 | I20: 호표 17 | M20: 전기 4-34
A21: 5371024975774592197144C7A01809 | B21: 0.6/1kV 난연 전력 케이블(지중)-2열설치 | C21: F-CV, 1C*10㎟ | D21: m | E21: =일위대가!F147 -> 0 | F21: =일위대가!H147 -> 0 | G21: =일위대가!J147 -> 0 | H21: =E21+F21+G21 -> 0 | I21: 호표 18 | M21: 전기 4-34
A22: 5371024975774592197144C7A01BDD | B22: 0.6/1kV 난연 전력 케이블(지중)-2열설치 | C22: F-CV, 1C*16㎟ | D22: m | E22: =일위대가!F155 -> 0 | F22: =일위대가!H155 -> 0 | G22: =일위대가!J155 -> 0 | H22: =E22+F22+G22 -> 0 | I22: 호표 19 | M22: 전기 4-34
A23: 5371024975774592197167A758144D | B23: 0.6/1kV 난연 전력 케이블 | C23: F-CV, 3C*4㎟ | D23: m | E23: =일위대가!F163 -> 0 | F23: =일위대가!H163 -> 0 | G23: =일위대가!J163 -> 0 | H23: =E23+F23+G23 -> 0 | I23: 호표 20 | M23: 전기 5-13
A24: 537102497566D6BC19BF05B6581FAF | B24: 난연 비닐 절연 접지용전선(F-GV) | C24: 0.6/1kV 6㎟ | D24: m | E24: =일위대가!F170 -> 0 | F24: =일위대가!H170 -> 0 | G24: =일위대가!J170 -> 0 | H24: =E24+F24+G24 -> 0 | I24: 호표 21 | M24: 전기 3-38
A25: 537102497566D6BC19BF05B6581860 | B25: 난연 비닐 절연 접지용전선(F-GV) | C25: 0.6/1kV 10㎟ | D25: m | E25: =일위대가!F177 -> 0 | F25: =일위대가!H177 -> 0 | G25: =일위대가!J177 -> 0 | H25: =E25+F25+G25 -> 0 | I25: 호표 22 | M25: 전기 3-38
A26: 53710249751EB2BC192773231B1856 | B26: 러그단자 | C26: 러그단자, 동관단자, 1홀, 16 ㎟ | D26: 개 | E26: =일위대가!F183 -> 0 | F26: =일위대가!H183 -> 0 | G26: =일위대가!J183 -> 0 | H26: =E26+F26+G26 -> 0 | I26: 호표 23 | M26: 전기 4-37
A27: 533EB2293777D0F319E2FEF8F6107E | B27: 아스콘포장절단 | C27: 1차 | D27: M | E27: =일위대가!F187 -> 0 | F27: =일위대가!H187 -> 0 | G27: =일위대가!J187 -> 0 | H27: =E27+F27+G27 -> 0 | I27: 호표 24
A28: 533EB2293777D0F319E2FEF8F6107F | B28: 아스콘포장깨기 | C28: T=30cm미만 | D28: ㎡ | E28: =일위대가!F191 -> 0 | F28: =일위대가!H191 -> 0 | G28: =일위대가!J191 -> 0 | H28: =E28+F28+G28 -> 0 | I28: 호표 25
A29: 533EB2293777D0F319E2FEF8F6107C | B29: 아스콘포장복구 | D29: ㎥ | E29: =일위대가!F204 -> 0 | F29: =일위대가!H204 -> 0 | G29: =일위대가!J204 -> 0 | H29: =E29+F29+G29 -> 0 | I29: 호표 26
A30: 542702D9A329998419AADE56A21EC2070537465A | B30: 굴삭기(무한궤도) | C30: 0.2㎥ | D30: HR | E30: =일위대가!F211 -> 0 | F30: =일위대가!H211 -> 0 | G30: =일위대가!J211 -> 0 | H30: =E30+F30+G30 -> 0 | I30: 호표 27 | K30: A | N30: T
A31: 542702D9A3298F2E1959EFDB9D1F1F21C362539C | B31: 래머 | C31: 80 kg | D31: HR | E31: =일위대가!F218 -> 0 | F31: =일위대가!H218 -> 0 | G31: =일위대가!J218 -> 0 | H31: =E31+F31+G31 -> 0 | I31: 호표 28 | K31: A | M31: 기계화 11-11 경비 | N31: T
A32: 533F8259E625D5BF195B5CDDF71C34 | B32: 현장내잔토처리 | C32: 소운반.고르기 | D32: ㎥ | E32: =일위대가!F222 -> 0 | F32: =일위대가!H222 -> 0 | G32: =일위대가!J222 -> 0 | H32: =E32+F32+G32 -> 0 | I32: 호표 29 | M32: 품셈 3-1-3.1(주7)

Sheet 일위대가
A1: [ 세계유산주변 한식담장 경관조명 설치사업 ]
A2: 품 명 | B2: 규 격 | C2: 단위 | D2: 수량 | E2: 재 료 비 | G2: 노 무 비 | I2: 경 비 | K2: 합 계 | M2: 비 고 | N2: 일위대가 | O2: 품목코드 | P2: 일위 | Q2: 단산 | R2: 자재 | S2: 손료적용 | T2: 손료저장 | U2: 적용율 | V2: JUK1 | W2: JUK2 | X2: JUK3 | Y2: JUK4 | Z2: JUK5 | AA2: JUK6 | AB2: JUK7 | AC2: JUK8 | AD2: 할증적용 | AE2: 할증저장 | AF2: 할증율 | AG2: HAL1 | AH2: HAL2 | AI2: HAL3 | AJ2: 자재구분 | AK2: 일위대가+자재 | AL2: 장비일위 | AM2: 설정
E3: 단 가 | F3: 금 액 | G3: 단 가 | H3: 금 액 | I3: 단 가 | J3: 금 액 | K3: 단 가 | L3: 금 액
A4: 조명기구(LINE BAR) 설치 LED 10W EA 전기 5-25-2 ( 호표 1 ) | N4: 5371024975D9C34019CCFCC76818FE
A5: 조명기구(LINE BAR) 설치 | B5: LED 10W | C5: EA | D5: 1 | E5: =단가대비표!O23 -> 0 | F5: =TRUNC(E5*D5,1) -> 0 | G5: =단가대비표!P23 -> 0 | H5: =TRUNC(G5*D5,1) -> 0 | I5: =단가대비표!V23 -> 0 | J5: =TRUNC(I5*D5,1) -> 0 | K5: =TRUNC(E5+G5+I5,1) -> 0 | L5: =TRUNC(F5+H5+J5,1) -> 0 | M5: 품적용 | N5: 5371024975D9C34019CCFCC76818FE | O5: 54160289A8B21AFF19D5F0702D1A65A2B302B2 | P5: F | Q5: F | R5: T | AK5: 5371024975D9C34019CCFCC76818FE54160289A8B21AFF19D5F0702D1A65A2B302B2
A6: 내선전공 | B6: 일반공사 직종 | C6: 인 | D6: =공량산출근거서_일위대가!K6 -> 0.023 | E6: =단가대비표!O66 -> 0 | F6: =TRUNC(E6*D6,1) -> 0 | G6: =단가대비표!P66 -> 0 | H6: =TRUNC(G6*D6,1) -> 0 | I6: =단가대비표!V66 -> 0 | J6: =TRUNC(I6*D6,1) -> 0 | K6: =TRUNC(E6+G6+I6,1) -> 0 | L6: =TRUNC(F6+H6+J6,1) -> 0 | N6: 5371024975D9C34019CCFCC76818FE | O6: 53E9520999DE9BC11986A23F121C766B9D72D5 | P6: F | Q6: F | R6: T | V6: 1 | AK6: 5371024975D9C34019CCFCC76818FE53E9520999DE9BC11986A23F121C766B9D72D5
A7: 공구손료 | B7: 인력품의 3% | C7: 식 | D7: 1 | E7: =TRUNC(SUMIF(V5:V7, RIGHTB(O7, 1), H5:H7)*U7, 2) -> 0 | F7: =TRUNC(E7*D7,1) -> 0 | G7: 0 | H7: =TRUNC(G7*D7,1) -> 0 | I7: 0 | J7: =TRUNC(I7*D7,1) -> 0 | K7: =TRUNC(E7+G7+I7,1) -> 0 | L7: =TRUNC(F7+H7+J7,1) -> 0 | N7: 5371024975D9C34019CCFCC76818FE | O7: 52238279327DF52F19D263DD17191 | P7: F | Q7: F | R7: F | S7: 1 | T7: 0 | U7: 0.03 | AK7: 5371024975D9C34019CCFCC76818FE52238279327DF52F19D263DD17191
A8: [ 합 계 ] | F8: =TRUNC(SUMIF(N5:N7, N4, F5:F7),0) -> 0 | H8: =TRUNC(SUMIF(N5:N7, N4, H5:H7),0) -> 0 | J8: =TRUNC(SUMIF(N5:N7, N4, J5:J7),0) -> 0 | L8: =F8+H8+J8 -> 0 | N8: TOTAL | O8: TOTAL
A10: 경관조명 분전반 설치 무선원격양방향, 8회로 개소 전기 5-18-2 ( 호표 2 ) | N10: 53710249751EB2BC19277323091525
A11: 경관조명 분전반 설치 | B11: 무선원격양방향, 8회로 | C11: 대 | D11: 1 | E11: =단가대비표!O39 -> 0 | F11: =TRUNC(E11*D11,1) -> 0 | G11: =단가대비표!P39 -> 0 | H11: =TRUNC(G11*D11,1) -> 0 | I11: =단가대비표!V39 -> 0 | J11: =TRUNC(I11*D11,1) -> 0 | K11: =TRUNC(E11+G11+I11,1) -> 0 | L11: =TRUNC(F11+H11+J11,1) -> 0 | M11: 품적용 | N11: 53710249751EB2BC19277323091525 | O11: 54160289A886DE24198CF61A65168F6F7DCFE1 | P11: F | Q11: F | R11: T | AK11: 53710249751EB2BC1927732309152554160289A886DE24198CF61A65168F6F7DCFE1
A12: 내선전공 | B12: 일반공사 직종 | C12: 인 | D12: =공량산출근거서_일위대가!K9 -> 1.23 | E12: =단가대비표!O66 -> 0 | F12: =TRUNC(E12*D12,1) -> 0 | G12: =단가대비표!P66 -> 0 | H12: =TRUNC(G12*D12,1) -> 0 | I12: =단가대비표!V66 -> 0 | J12: =TRUNC(I12*D12,1) -> 0 | K12: =TRUNC(E12+G12+I12,1) -> 0 | L12: =TRUNC(F12+H12+J12,1) -> 0 | N12: 53710249751EB2BC19277323091525 | O12: 53E9520999DE9BC11986A23F121C766B9D72D5 | P12: F | Q12: F | R12: T | V12: 1 | AK12: 53710249751EB2BC1927732309152553E9520999DE9BC11986A23F121C766B9D72D5
A13: 공구손료 | B13: 인력품의 3% | C13: 식 | D13: 1 | E13: =TRUNC(SUMIF(V11:V13, RIGHTB(O13, 1), H11:H13)*U13, 2) -> 0 | F13: =TRUNC(E13*D13,1) -> 0 | G13: 0 | H13: =TRUNC(G13*D13,1) -> 0 | I13: 0 | J13: =TRUNC(I13*D13,1) -> 0 | K13: =TRUNC(E13+G13+I13,1) -> 0 | L13: =TRUNC(F13+H13+J13,1) -> 0 | N13: 53710249751EB2BC19277323091525 | O13: 52238279327DF52F19D263DD17191 | P13: F | Q13: F | R13: F | S13: 1 | T13: 0 | U13: 0.03 | AK13: 53710249751EB2BC1927732309152552238279327DF52F19D263DD17191
A14: [ 합 계 ] | F14: =TRUNC(SUMIF(N11:N13, N10, F11:F13),0) -> 0 | H14: =TRUNC(SUMIF(N11:N13, N10, H11:H13),0) -> 0 | J14: =TRUNC(SUMIF(N11:N13, N10, J11:J13),0) -> 0 | L14: =F14+H14+J14 -> 0 | N14: TOTAL | O14: TOTAL
A16: 경관조명 분전반기초 500X675X850X700 개소 전기 5-27-1 ( 호표 3 ) | N16: 53710249751EB2BC19277323091522
A17: 경관조명 분전반기초 | B17: 500X675X850X700 | C17: 개소 | D17: 1 | E17: =단가대비표!O21 -> 0 | F17: =TRUNC(E17*D17,1) -> 0 | G17: =단가대비표!P21 -> 0 | H17: =TRUNC(G17*D17,1) -> 0 | I17: =단가대비표!V21 -> 0 | J17: =TRUNC(I17*D17,1) -> 0 | K17: =TRUNC(E17+G17+I17,1) -> 0 | L17: =TRUNC(F17+H17+J17,1) -> 0 | N17: 53710249751EB2BC19277323091522 | O17: 541682C904D66889199DFC35911AB1A845E18D | P17: F | Q17: F | R17: T | AK17: 53710249751EB2BC19277323091522541682C904D66889199DFC35911AB1A845E18D
A18: 경관조명 분전반기초 기계설치 | B18: 높이 10M 이하 | C18: 개소 | D18: 1 | E18: =중기단가목록!E6 -> 0 | F18: =TRUNC(E18*D18,1) -> 0 | G18: =중기단가목록!F6 -> 0 | H18: =TRUNC(G18*D18,1) -> 0 | I18: =중기단가목록!G6 -> 0 | J18: =TRUNC(I18*D18,1) -> 0 | K18: =TRUNC(E18+G18+I18,1) -> 0 | L18: =TRUNC(F18+H18+J18,1) -> 0 | M18: 산근 3 | N18: 53710249751EB2BC19277323091522 | O18: 537102597E1FFE0C19C3C75E4D1857 | P18: F | Q18: T | R18: F | AK18: 53710249751EB2BC19277323091522537102597E1FFE0C19C3C75E4D1857
A19: 터파기 | B19: 토사,백호80%+인력20% | C19: ㎥ | D19: 1.54 | E19: =중기단가목록!E4 -> 0 | F19: =TRUNC(E19*D19,1) -> 0 | G19: =중기단가목록!F4 -> 0 | H19: =TRUNC(G19*D19,1) -> 0 | I19: =중기단가목록!G4 -> 0 | J19: =TRUNC(I19*D19,1) -> 0 | K19: =TRUNC(E19+G19+I19,1) -> 0 | L19: =TRUNC(F19+H19+J19,1) -> 0 | M19: 산근 1 | N19: 53710249751EB2BC19277323091522 | O19: 533F82598DBDEBAF19DD0F6CF219B2 | P19: F | Q19: T | R19: F | V19: 1 | AK19: 53710249751EB2BC19277323091522533F82598DBDEBAF19DD0F6CF219B2
A20: 되메우고다지기 | B20: 백호0.2M3*래머80kg | C20: ㎥ | D20: 1.231 | E20: =중기단가목록!E5 -> 0 | F20: =TRUNC(E20*D20,1) -> 0 | G20: =중기단가목록!F5 -> 0 | H20: =TRUNC(G20*D20,1) -> 0 | I20: =중기단가목록!G5 -> 0 | J20: =TRUNC(I20*D20,1) -> 0 | K20: =TRUNC(E20+G20+I20,1) -> 0 | L20: =TRUNC(F20+H20+J20,1) -> 0 | M20: 산근 2 | N20: 53710249751EB2BC19277323091522 | O20: 533F8259E625D5C919A724A06D1ADE | P20: F | Q20: T | R20: F | V20: 1 | AK20: 53710249751EB2BC19277323091522533F8259E625D5C919A724A06D1ADE
A21: 보통인부 | B21: 일반공사 직종 | C21: 인 | D21: =공량산출근거서_일위대가!K13 -> 0.19 | E21: =단가대비표!O60 -> 0 | F21: =TRUNC(E21*D21,1) -> 0 | G21: =단가대비표!P60 -> 0 | H21: =TRUNC(G21*D21,1) -> 0 | I21: =단가대비표!V60 -> 0 | J21: =TRUNC(I21*D21,1) -> 0 | K21: =TRUNC(E21+G21+I21,1) -> 0 | L21: =TRUNC(F21+H21+J21,1) -> 0 | N21: 53710249751EB2BC19277323091522 | O21: 53E9520999DE9BC11986A23F121C766B9D75A7 | P21: F | Q21: F | R21: T | AK21: 53710249751EB2BC1927732309152253E9520999DE9BC11986A23F121C766B9D75A7
A22: 내선전공 | B22: 일반공사 직종 | C22: 인 | D22: =공량산출근거서_일위대가!K14 -> 0.08 | E22: =단가대비표!O66 -> 0 | F22: =TRUNC(E22*D22,1) -> 0 | G22: =단가대비표!P66 -> 0 | H22: =TRUNC(G22*D22,1) -> 0 | I22: =단가대비표!V66 -> 0 | J22: =TRUNC(I22*D22,1) -> 0 | K22: =TRUNC(E22+G22+I22,1) -> 0 | L22: =TRUNC(F22+H22+J22,1) -> 0 | N22: 53710249751EB2BC19277323091522 | O22: 53E9520999DE9BC11986A23F121C766B9D72D5 | P22: F | Q22: F | R22: T | AK22: 53710249751EB2BC1927732309152253E9520999DE9BC11986A23F121C766B9D72D5
A23: 공구손료 | B23: 인력품의 3% | C23: 식 | D23: 1 | E23: =TRUNC(SUMIF(V17:V23, RIGHTB(O23, 1), H17:H23)*U23, 2) -> 0 | F23: =TRUNC(E23*D23,1) -> 0 | G23: 0 | H23: =TRUNC(G23*D23,1) -> 0 | I23: 0 | J23: =TRUNC(I23*D23,1) -> 0 | K23: =TRUNC(E23+G23+I23,1) -> 0 | L23: =TRUNC(F23+H23+J23,1) -> 0 | N23: 53710249751EB2BC19277323091522 | O23: 52238279327DF52F19D263DD17191 | P23: F | Q23: F | R23: F | S23: 1 | T23: 0 | U23: 0.03 | AK23: 53710249751EB2BC1927732309152252238279327DF52F19D263DD17191
A24: [ 합 계 ] | F24: =TRUNC(SUMIF(N17:N23, N16, F17:F23),0) -> 0 | H24: =TRUNC(SUMIF(N17:N23, N16, H17:H23),0) -> 0 | J24: =TRUNC(SUMIF(N17:N23, N16, J17:J23),0) -> 0 | L24: =F24+H24+J24 -> 0 | N24: TOTAL | O24: TOTAL
A26: 차단기 MCCB 2P 50AF EA 전기 5-19 ( 호표 4 ) | N26: 5371024975D9C351192132B1E4138B
A27: 차단기 | B27: MCCB 2P 50AF | C27: 개 | D27: 1 | E27: =단가대비표!O47 -> 0 | F27: =TRUNC(E27*D27,1) -> 0 | G27: =단가대비표!P47 -> 0 | H27: =TRUNC(G27*D27,1) -> 0 | I27: =단가대비표!V47 -> 0 | J27: =TRUNC(I27*D27,1) -> 0 | K27: =TRUNC(E27+G27+I27,1) -> 0 | L27: =TRUNC(F27+H27+J27,1) -> 0 | N27: 5371024975D9C351192132B1E4138B | O27: 54160289A886DE5119D49DE3A61DB5B0A04473 | P27: F | Q27: F | R27: T | AK27: 5371024975D9C351192132B1E4138B54160289A886DE5119D49DE3A61DB5B0A04473
A28: 내선전공 | B28: 일반공사 직종 | C28: 인 | D28: =공량산출근거서_일위대가!K17 -> 0.182 | E28: =단가대비표!O66 -> 0 | F28: =TRUNC(E28*D28,1) -> 0 | G28: =단가대비표!P66 -> 0 | H28: =TRUNC(G28*D28,1) -> 0 | I28: =단가대비표!V66 -> 0 | J28: =TRUNC(I28*D28,1) -> 0 | K28: =TRUNC(E28+G28+I28,1) -> 0 | L28: =TRUNC(F28+H28+J28,1) -> 0 | N28: 5371024975D9C351192132B1E4138B | O28: 53E9520999DE9BC11986A23F121C766B9D72D5 | P28: F | Q28: F | R28: T | V28: 1 | AK28: 5371024975D9C351192132B1E4138B53E9520999DE9BC11986A23F121C766B9D72D5
A29: 공구손료 | B29: 인력품의 3% | C29: 식 | D29: 1 | E29: =TRUNC(SUMIF(V27:V29, RIGHTB(O29, 1), H27:H29)*U29, 2) -> 0 | F29: =TRUNC(E29*D29,1) -> 0 | G29: 0 | H29: =TRUNC(G29*D29,1) -> 0 | I29: 0 | J29: =TRUNC(I29*D29,1) -> 0 | K29: =TRUNC(E29+G29+I29,1) -> 0 | L29: =TRUNC(F29+H29+J29,1) -> 0 | N29: 5371024975D9C351192132B1E4138B | O29: 52238279327DF52F19D263DD17191 | P29: F | Q29: F | R29: F | S29: 1 | T29: 0 | U29: 0.03 | AK29: 5371024975D9C351192132B1E4138B52238279327DF52F19D263DD17191
A30: [ 합 계 ] | F30: =TRUNC(SUMIF(N27:N29, N26, F27:F29),0) -> 0 | H30: =TRUNC(SUMIF(N27:N29, N26, H27:H29),0) -> 0 | J30: =TRUNC(SUMIF(N27:N29, N26, J27:J29),0) -> 0 | L30: =F30+H30+J30 -> 0 | N30: TOTAL | O30: TOTAL
A32: 차단기 ELB 2P 30AF EA 전기 5-19 ( 호표 5 ) | N32: 5371024975D9C351192132B1E4138A
A33: 차단기 | B33: ELB 2P 30AF | C33: 개 | D33: 1 | E33: =단가대비표!O48 -> 0 | F33: =TRUNC(E33*D33,1) -> 0 | G33: =단가대비표!P48 -> 0 | H33: =TRUNC(G33*D33,1) -> 0 | I33: =단가대비표!V48 -> 0 | J33: =TRUNC(I33*D33,1) -> 0 | K33: =TRUNC(E33+G33+I33,1) -> 0 | L33: =TRUNC(F33+H33+J33,1) -> 0 | N33: 5371024975D9C351192132B1E4138A | O33: 54160289A886DE5119D49DE3A61DB5B0A04472 | P33: F | Q33: F | R33: T | AK33: 5371024975D9C351192132B1E4138A54160289A886DE5119D49DE3A61DB5B0A04472
A34: 내선전공 | B34: 일반공사 직종 | C34: 인 | D34: =공량산출근거서_일위대가!K20 -> 0.133 | E34: =단가대비표!O66 -> 0 | F34: =TRUNC(E34*D34,1) -> 0 | G34: =단가대비표!P66 -> 0 | H34: =TRUNC(G34*D34,1) -> 0 | I34: =단가대비표!V66 -> 0 | J34: =TRUNC(I34*D34,1) -> 0 | K34: =TRUNC(E34+G34+I34,1) -> 0 | L34: =TRUNC(F34+H34+J34,1) -> 0 | N34: 5371024975D9C351192132B1E4138A | O34: 53E9520999DE9BC11986A23F121C766B9D72D5 | P34: F | Q34: F | R34: T | V34: 1 | AK34: 5371024975D9C351192132B1E4138A53E9520999DE9BC11986A23F121C766B9D72D5
A35: 공구손료 | B35: 인력품의 3% | C35: 식 | D35: 1 | E35: =TRUNC(SUMIF(V33:V35, RIGHTB(O35, 1), H33:H35)*U35, 2) -> 0 | F35: =TRUNC(E35*D35,1) -> 0 | G35: 0 | H35: =TRUNC(G35*D35,1) -> 0 | I35: 0 | J35: =TRUNC(I35*D35,1) -> 0 | K35: =TRUNC(E35+G35+I35,1) -> 0 | L35: =TRUNC(F35+H35+J35,1) -> 0 | N35: 5371024975D9C351192132B1E4138A | O35: 52238279327DF52F19D263DD17191 | P35: F | Q35: F | R35: F | S35: 1 | T35: 0 | U35: 0.03 | AK35: 5371024975D9C351192132B1E4138A52238279327DF52F19D263DD17191
A36: [ 합 계 ] | F36: =TRUNC(SUMIF(N33:N35, N32, F33:F35),0) -> 0 | H36: =TRUNC(SUMIF(N33:N35, N32, H33:H35),0) -> 0 | J36: =TRUNC(SUMIF(N33:N35, N32, J33:J35),0) -> 0 | L36: =F36+H36+J36 -> 0 | N36: TOTAL | O36: TOTAL
A38: SMPS BOX(옥외노출) STS, 500X600X150 면 전기 5-18 ( 호표 6 ) | N38: 53710249751EB2BC19277323091524
A39: SMPS BOX(옥외노출) | B39: STS, 500X600X150 | C39: 대 | D39: 1 | E39: =단가대비표!O40 -> 0 | F39: =TRUNC(E39*D39,1) -> 0 | G39: =단가대비표!P40 -> 0 | H39: =TRUNC(G39*D39,1) -> 0 | I39: =단가대비표!V40 -> 0 | J39: =TRUNC(I39*D39,1) -> 0 | K39: =TRUNC(E39+G39+I39,1) -> 0 | L39: =TRUNC(F39+H39+J39,1) -> 0 | N39: 53710249751EB2BC19277323091524 | O39: 54160289A886DE24198CF61A65168F6F7DCFE0 | P39: F | Q39: F | R39: T | AK39: 53710249751EB2BC1927732309152454160289A886DE24198CF61A65168F6F7DCFE0
A40: 내선전공 | B40: 일반공사 직종 | C40: 인 | D40: =공량산출근거서_일위대가!K23 -> 0.1827 | E40: =단가대비표!O66 -> 0 | F40: =TRUNC(E40*D40,1) -> 0 | G40: =단가대비표!P66 -> 0 | H40: =TRUNC(G40*D40,1) -> 0 | I40: =단가대비표!V66 -> 0 | J40: =TRUNC(I40*D40,1) -> 0 | K40: =TRUNC(E40+G40+I40,1) -> 0 | L40: =TRUNC(F40+H40+J40,1) -> 0 | N40: 53710249751EB2BC19277323091524 | O40: 53E9520999DE9BC11986A23F121C766B9D72D5 | P40: F | Q40: F | R40: T | V40: 1 | AK40: 53710249751EB2BC1927732309152453E9520999DE9BC11986A23F121C766B9D72D5
A41: 공구손료 | B41: 인력품의 3% | C41: 식 | D41: 1 | E41: =TRUNC(SUMIF(V39:V41, RIGHTB(O41, 1), H39:H41)*U41, 2) -> 0 | F41: =TRUNC(E41*D41,1) -> 0 | G41: 0 | H41: =TRUNC(G41*D41,1) -> 0 | I41: 0 | J41: =TRUNC(I41*D41,1) -> 0 | K41: =TRUNC(E41+G41+I41,1) -> 0 | L41: =TRUNC(F41+H41+J41,1) -> 0 | N41: 53710249751EB2BC19277323091524 | O41: 52238279327DF52F19D263DD17191 | P41: F | Q41: F | R41: F | S41: 1 | T41: 0 | U41: 0.03 | AK41: 53710249751EB2BC1927732309152452238279327DF52F19D263DD17191
A42: [ 합 계 ] | F42: =TRUNC(SUMIF(N39:N41, N38, F39:F41),0) -> 0 | H42: =TRUNC(SUMIF(N39:N41, N38, H39:H41),0) -> 0 | J42: =TRUNC(SUMIF(N39:N41, N38, J39:J41),0) -> 0 | L42: =F42+H42+J42 -> 0 | N42: TOTAL | O42: TOTAL
A44: SMPS BOX 기초 400X600X600 개소 전기 5-27-1 ( 호표 7 ) | N44: 53710249751EB2BC192773230916CB
A45: SMPS BOX 기초(기성품) | B45: 400X600X600 | C45: 개소 | D45: 1 | E45: =단가대비표!O20 -> 0 | F45: =TRUNC(E45*D45,1) -> 0 | G45: =단가대비표!P20 -> 0 | H45: =TRUNC(G45*D45,1) -> 0 | I45: =단가대비표!V20 -> 0 | J45: =TRUNC(I45*D45,1) -> 0 | K45: =TRUNC(E45+G45+I45,1) -> 0 | L45: =TRUNC(F45+H45+J45,1) -> 0 | N45: 53710249751EB2BC192773230916CB | O45: 541682C904D66889199DFC35911AB1A845E3BF | P45: F | Q45: F | R45: T | AK45: 53710249751EB2BC192773230916CB541682C904D66889199DFC35911AB1A845E3BF
A46: 보통인부 | B46: 일반공사 직종 | C46: 인 | D46: =공량산출근거서_일위대가!K27 -> 0.19 | E46: =단가대비표!O60 -> 0 | F46: =TRUNC(E46*D46,1) -> 0 | G46: =단가대비표!P60 -> 0 | H46: =TRUNC(G46*D46,1) -> 0 | I46: =단가대비표!V60 -> 0 | J46: =TRUNC(I46*D46,1) -> 0 | K46: =TRUNC(E46+G46+I46,1) -> 0 | L46: =TRUNC(F46+H46+J46,1) -> 0 | N46: 53710249751EB2BC192773230916CB | O46: 53E9520999DE9BC11986A23F121C766B9D75A7 | P46: F | Q46: F | R46: T | V46: 1 | AK46: 53710249751EB2BC192773230916CB53E9520999DE9BC11986A23F121C766B9D75A7
...

Sheet 중기단가목록
A1: 중 기 단 가 목 록
A2: [ 세계유산주변 한식담장 경관조명 설치사업 ]
A3: 코 드 | B3: 품 명 | C3: 규 격 | D3: 단위 | E3: 재 료 비 | F3: 노 무 비 | G3: 경 비 | H3: 합 계 | I3: 번 호 | J3: 비 고 | K3: START
A4: 533F82598DBDEBAF19DD0F6CF219B2 | B4: 터파기 | C4: 토사,백호80%+인력20% | D4: ㎥ | I4: 산근 1 | K4: 533F82598DBDEBAF19DD0F6CF219B2
A5: 533F8259E625D5C919A724A06D1ADE | B5: 되메우고다지기 | C5: 백호0.2M3*래머80kg | D5: ㎥ | I5: 산근 2 | K5: 533F8259E625D5C919A724A06D1ADE
A6: 537102597E1FFE0C19C3C75E4D1857 | B6: 경관조명 분전반기초 기계설치 | C6: 높이 10M 이하 | D6: 개소 | I6: 산근 3 | K6: 537102597E1FFE0C19C3C75E4D1857

Sheet 중기단가산출서
A1: 중 기 단 가 산 출 서
A2: [ 세계유산주변 한식담장 경관조명 설치사업 ]
A3: 산 출 내 역 | B3: 재 료 비 | C3: 노 무 비 | D3: 경 비 | E3: 합 계 | F3: 비 고 | G3: START | H3: 코드 | I3: 품명 | J3: 규격 | K3: 단위 | L3: 수량
A4: 터파기 토사,백호80%+인력20% ㎥ ( 산근 1 ) | G4: 533F82598DBDEBAF19DD0F6CF219B2 | I4: 터파기 | J4: 토사,백호80%+인력20% | K4: ㎥
G5: 533F82598DBDEBAF19DD0F6CF219B2 | H5: C | L5: 1
A6: 굴삭기 (무한궤도),유압식백호,0.2㎥ M3 | B6: 0 | C6: 0 | D6: 0 | E6: 0 | G6: 533F82598DBDEBAF19DD0F6CF219B2 | H6: C! | I6: '굴삭기 (무한궤도),유압식백호,0.2㎥ M3'
A7: Q 바켓용량(M3) =0.20 | B7: 0 | C7: 0 | D7: 0 | E7: 0 | G7: 533F82598DBDEBAF19DD0F6CF219B2 | H7: C! | I7: q '바켓용량(M3)' =0.20
A8: K 바켓계수(양호1.1,보통0.90,불량0.70,파쇄암0.55) = 0.90 | B8: 0 | C8: 0 | D8: 0 | E8: 0 | G8: 533F82598DBDEBAF19DD0F6CF219B2 | H8: C! | I8: k '바켓계수(양호1.1,보통0.90,불량0.70,파쇄암0.55)'= 0.90
A9: F 토량환산계수(1/L) = 1/1.25= 0.8 | B9: 0 | C9: 0 | D9: 0 | E9: 0 | G9: 533F82598DBDEBAF19DD0F6CF219B2 | H9: C! | I9: f '토량환산계수(1/L)'= 1/1.25=?
A10: E1 터파기에 대하여 -0.05 =0.05 | B10: 0 | C10: 0 | D10: 0 | E10: 0 | G10: 533F82598DBDEBAF19DD0F6CF219B2 | H10: C! | I10: E1 '터파기에 대하여 -0.05'=0.05
A11: E 작업효율사질토(양호0.85,보통0.70,불량0.55) = 0.70-E1= 0.65 | B11: 0 | C11: 0 | D11: 0 | E11: 0 | G11: 533F82598DBDEBAF19DD0F6CF219B2 | H11: C! | I11: E '작업효율사질토(양호0.85,보통0.70,불량0.55)'= 0.70-E1=?
A12: CM 1회 싸이클시간(135˚SEC) =20 | B12: 0 | C12: 0 | D12: 0 | E12: 0 | G12: 533F82598DBDEBAF19DD0F6CF219B2 | H12: C! | I12: Cm '1회 싸이클시간(135˚SEC)'=20
A13: Q 시간당 작업량 (M3/HR) = 3600*Q*K*F*E/CM= 16.848 | B13: 0 | C13: 0 | D13: 0 | E13: 0 | G13: 533F82598DBDEBAF19DD0F6CF219B2 | H13: C! | I13: Q '시간당 작업량 (M3/Hr)'= 3600*q*k*f*E/Cm=?
A14: 재료비: 25973 / 16.848*0.8= 1233.2 | B14: 1233.2 | C14: 0 | D14: 0 | E14: 1233.2 | G14: 533F82598DBDEBAF19DD0F6CF219B2 | H14: C! | I14: '재료비:' ~00000201007000001.M~ / {Q}*0.8=?MA
A15: 노무비: 59025 / 16.848*0.8= 2802.7 | B15: 0 | C15: 2802.7 | D15: 0 | E15: 2802.7 | G15: 533F82598DBDEBAF19DD0F6CF219B2 | H15: C! | I15: '노무비:' ~00000201007000001.L~ / {Q}*0.8=?LA
A16: 경 비: 13560 / 16.848*0.8= 643.8 | B16: 0 | C16: 0 | D16: 643.8 | E16: 643.8 | G16: 533F82598DBDEBAF19DD0F6CF219B2 | H16: C! | I16: '경 비:' ~00000201007000001.E~ / {Q}*0.8=?EQ
A17: 소 계 | B17: 1233.2 | C17: 2802.7 | D17: 643.8 | E17: 4679.7 | G17: 533F82598DBDEBAF19DD0F6CF219B2 | H17: C! | I17: >'소 계'
B18: 0 | C18: 0 | D18: 0 | E18: 0 | G18: 533F82598DBDEBAF19DD0F6CF219B2 | H18: C!
A19: 0-1m,보통인부0.2인*20% | B19: 0 | C19: 0 | D19: 0 | E19: 0 | G19: 533F82598DBDEBAF19DD0F6CF219B2 | H19: C! | I19: '0-1m,보통인부0.2인*20%'
A20: 172698*0.2*0.2 = 6907.9 | B20: 0 | C20: 6907.9 | D20: 0 | E20: 6907.9 | G20: 533F82598DBDEBAF19DD0F6CF219B2 | H20: C! | I20: ~L001010101000002.L~*0.2*0.2 =?LA+
B21: 0 | C21: 0 | D21: 0 | E21: 0 | G21: 533F82598DBDEBAF19DD0F6CF219B2 | H21: C!
A22: 합 계 | B22: 1233.2 | C22: 9710.6 | D22: 643.8 | E22: 11587.6 | G22: 533F82598DBDEBAF19DD0F6CF219B2 | H22: C! | I22: >>'합 계'
B23: 0 | C23: 0 | D23: 0 | E23: 0 | G23: 533F82598DBDEBAF19DD0F6CF219B2 | H23: C!
B24: 0 | C24: 0 | D24: 0 | E24: 0 | G24: 533F82598DBDEBAF19DD0F6CF219B2 | H24: C!
A25: 총 계 | B25: 1233 | C25: 9710 | D25: 643 | E25: 11586
A27: 되메우고다지기 백호0.2M3*래머80kg ㎥ ( 산근 2 ) | G27: 533F8259E625D5C919A724A06D1ADE | I27: 되메우고다지기 | J27: 백호0.2M3*래머80kg | K27: ㎥
G28: 533F8259E625D5C919A724A06D1ADE | H28: C | L28: 1
A29: 1.굴삭기 (무한궤도)0.2㎥M3 | B29: 0 | C29: 0 | D29: 0 | E29: 0 | G29: 533F8259E625D5C919A724A06D1ADE | H29: C! | I29: '1.굴삭기 (무한궤도)0.2㎥M3 '
A30: Q1 바켓용량(M3) = 0.2 | B30: 0 | C30: 0 | D30: 0 | E30: 0 | G30: 533F8259E625D5C919A724A06D1ADE | H30: C! | I30: q1 '바켓용량(M3)'= 0.2
A31: k 바켓계수 = 1.1 | B31: 0 | C31: 0 | D31: 0 | E31: 0 | G31: 533F8259E625D5C919A724A06D1ADE | H31: C! | I31: k '바켓계수'= 1.1
A32: L1 흐트러진상태 =1.25 | B32: 0 | C32: 0 | D32: 0 | E32: 0 | G32: 533F8259E625D5C919A724A06D1ADE | H32: C! | I32: L1 '흐트러진상태' =1.25
A33: C 다져진상태 =0.9 | B33: 0 | C33: 0 | D33: 0 | E33: 0 | G33: 533F8259E625D5C919A724A06D1ADE | H33: C! | I33: C '다져진상태'=0.9
A34: F 토량환산계(C/L) =C/L1= 0.72 | B34: 0 | C34: 0 | D34: 0 | E34: 0 | G34: 533F8259E625D5C919A724A06D1ADE | H34: C! | I34: f '토량환산계(C/L)'=C/L1=?
A35: E 작업효율(양호0.9,보통0.75,불량0.6) = 0.75 | B35: 0 | C35: 0 | D35: 0 | E35: 0 | G35: 533F8259E625D5C919A724A06D1ADE | H35: C! | I35: E '작업효율(양호0.9,보통0.75,불량0.6)'= 0.75
A36: CM 1회 싸이클시간(90˚SEC) =18 | B36: 0 | C36: 0 | D36: 0 | E36: 0 | G36: 533F8259E625D5C919A724A06D1ADE | H36: C! | I36: Cm '1회 싸이클시간(90˚sec)'=18
A37: Q 시간당 작업량 (M3/HR) = 3600*Q1*K*F*E/CM= 23.76 | B37: 0 | C37: 0 | D37: 0 | E37: 0 | G37: 533F8259E625D5C919A724A06D1ADE | H37: C! | I37: Q '시간당 작업량 (M3/Hr)'= 3600*q1*k*f*E/Cm=?
A38: 재료비: 25973 / 23.76 = 1093.1 | B38: 1093.1 | C38: 0 | D38: 0 | E38: 1093.1 | G38: 533F8259E625D5C919A724A06D1ADE | H38: C! | I38: '재료비:' ~00000201007000001.M~ / {Q} =?MA+
A39: 노무비: 59025 / 23.76 = 2484.2 | B39: 0 | C39: 2484.2 | D39: 0 | E39: 2484.2 | G39: 533F8259E625D5C919A724A06D1ADE | H39: C! | I39: '노무비:' ~00000201007000001.L~ / {Q} =?LA+
A40: 경 비: 13560 / 23.76 = 570.7 | B40: 0 | C40: 0 | D40: 570.7 | E40: 570.7 | G40: 533F8259E625D5C919A724A06D1ADE | H40: C! | I40: '경 비:' ~00000201007000001.E~ / {Q} =?EQ+
... A55: 합 계 | B55: 1257.1 | C55: 6624.9 | D55: 629.6 | E55: 8511.6 | G55: 533F8259E625D5C919A724A06D1ADE | H55: C! | I55: >>'합 계'
...

Sheet 교통통제
B1: 단가산출
B3: 산 출 근 거 | C3: 합 계 | D3: 노무비 | E3: 재료비 | F3: 경 비 | CG3: 합 계 | CH3: 노무비 | CI3: 재료비 | CJ3: 경 비
B4: 교통통제 및 안전처리[식] 토목 1-1-1 | CG4: =CG18 -> 0 | CH4: =CH18 -> 0 | CI4: =CI18 -> 0 | CJ4: =CJ18 -> 0
D7: 1. | G7: 교통통제 및 안전처리비: | AB7: 2 | AC7: 인 | AF7: 1 | AG7: 조 | AJ7: 운영
G11: 보통인부 | R11: : | T11: =TEXT(단가대비표!P60,"#,##0") -> 0 | AD11: × | AF11: =TEXT(2,"#,##0.#######") -> 2. | AG11: 인 | AJ11: × | AL11: =TEXT(3,"#,##0.#######") -> 3. | AN11: 일 | AX11: = | AZ11: =TEXT(TRUNC(T11*AF11*AL11,1),"#,##0.#") -> 0. | CG11: =CH11+CI11+CJ11 -> 0 | CH11: =AZ11 -> 0.
D13: 2. | G13: 합 | K13: 계
H15: 노무비 | O15: : | Q15: =TEXT(CH11,"#,###.##") -> . | Y15: =TEXT(#REF!,"#,###.##") -> #REF! | AR15: = | AU15: =TEXT(TRUNC(CH11,0),"#,##0") -> 0
H16: 재료비 | O16: :
H17: 경 | L17: 비 | O17: :
J18: 계 | O18: : | R18: =TEXT(AU15+AM16,"#,##0") -> 0 | CG18: =CH18+CI18+CJ18 -> 0 | CH18: =TEXT(AU15,"#,##0") -> 0 | CI18: =TEXT(AM16,"#,##0") -> 0

Sheet 공량산출근거서_일위대가
A1: 공 량 산 출 근 거 서
A2: [ 세계유산주변 한식담장 경관조명 설치사업 ]
A3: 코 드 | B3: 품 명 | C3: 규 격 | D3: 단위 | E3: 품 셈 목 록 | F3: 수 량 | G3: 할증 | H3: 노임할증-1 | I3: 노임할증-2 | J3: 노임할증-3 | K3: 내역수량 | L3: 직 종 명 | M3: 공 량 | N3: 계 | O3: 번 호 | P3: 비 고 | T3: 일위대가목록+자재 | V3: 내선전공 | W3: 일반공사 직종 | X3: 보통인부 | Y3: 작업반장 | Z3: 특별인부 | AA3: 비계공 | AB3: 줄눈공 | AC3: 저압케이블전공 | AD3: 배전전공
A4: 조명기구(LINE BAR) 설치 LED 10W EA (호표 1)
A5: 54160289A8B21AFF19D5F0702D1A65A2B302B2 | B5: 조명기구(LINE BAR) 설치 | C5: LED 10W | D5: EA | E5: 전기 5-25-2 | F5: 1 | G5: 0 | K5: 1 | L5: 내선전공 | M5: =0.023*(H5+100)/100*(I5+100)/100*(J5+100)/100 -> 0.023 | N5: =F5*M5 -> 0.023 | O5: 노임 8 | P5: 0.023*1 | Q5: 5371024975D9C34019CCFCC76818FE | R5: 53E9520999DE9BC11986A23F121C766B9D72D5 | S5: 0.023 | T5: 5371024975D9C34019CCFCC76818FE54160289A8B21AFF19D5F0702D1A65A2B302B2 | V5: =N5 -> 0.023
A6: 53E9520999DE9BC11986A23F121C766B9D72D5 | B6: 내선전공 | C6: 일반공사 직종 | D6: 인 | F6: =SUM(V5:V5) -> 0.023 | K6: =TRUNC(F6*공량설정_일위대가!B2/100, 공량설정_일위대가!C3) -> 0.023 | O6: 노임 8 | Q6: 5371024975D9C34019CCFCC76818FE | T6: 5371024975D9C34019CCFCC76818FE53E9520999DE9BC11986A23F121C766B9D72D5
A7: 경관조명 분전반 설치 무선원격양방향, 8회로 개소 (호표 2)
A8: 54160289A886DE24198CF61A65168F6F7DCFE1 | B8: 경관조명 분전반 설치 | C8: 무선원격양방향, 8회로 | D8: 대 | E8: 전기 5-18-2 | F8: 1 | G8: 0 | K8: 1 | L8: 내선전공 | M8: =1.23*(H8+100)/100*(I8+100)/100*(J8+100)/100 -> 1.23 | N8: =F8*M8 -> 1.23 | O8: 노임 8 | P8: 1.23*1 | Q8: 53710249751EB2BC19277323091525 | R8: 53E9520999DE9BC11986A23F121C766B9D72D5 | S8: 1.23 | T8: 53710249751EB2BC1927732309152554160289A886DE24198CF61A65168F6F7DCFE1 | V8: =N8 -> 1.23
A9: 53E9520999DE9BC11986A23F121C766B9D72D5 | B9: 내선전공 | C9: 일반공사 직종 | D9: 인 | F9: =SUM(V8:V8) -> 1.23 | K9: =TRUNC(F9*공량설정_일위대가!B4/100, 공량설정_일위대가!C5) -> 1.23 | O9: 노임 8 | Q9: 53710249751EB2BC19277323091525 | T9: 53710249751EB2BC1927732309152553E9520999DE9BC11986A23F121C766B9D72D5
A10: 경관조명 분전반기초 500X675X850X700 개소 (호표 3)
A11: 541682C904D66889199DFC35911AB1A845E18D | B11: 경관조명 분전반기초 | C11: 500X675X850X700 | D11: 개소 | E11: 전기 5-27-1 | F11: 1 | G11: 0 | K11: 1 | L11: 보통인부 | M11: =0.19*(H11+100)/100*(I11+100)/100*(J11+100)/100 -> 0.19 | N11: =F11*M11 -> 0.19 | O11: 노임 2 | P11: 0.19*1 | Q11: 53710249751EB2BC19277323091522 | R11: 53E9520999DE9BC11986A23F121C766B9D75A7 | S11: 0.19 | T11: 53710249751EB2BC19277323091522541682C904D66889199DFC35911AB1A845E18D | X11: =N11 -> 0.19
L12: 내선전공 | M12: =0.08*(H11+100)/100*(I11+100)/100*(J11+100)/100 -> 0.08 | N12: =F11*M12 -> 0.08 | O12: 노임 8 | P12: 0.08*1 | Q12: 53710249751EB2BC19277323091522 | R12: 53E9520999DE9BC11986A23F121C766B9D72D5 | S12: 0.08 | T12: 53710249751EB2BC19277323091522541682C904D66889199DFC35911AB1A845E18D | V12: =N12 -> 0.08
A13: 53E9520999DE9BC11986A23F121C766B9D75A7 | B13: 보통인부 | C13: 일반공사 직종 | D13: 인 | F13: =SUM(X11:X12) -> 0.19 | K13: =TRUNC(F13*공량설정_일위대가!B6/100, 공량설정_일위대가!C7) -> 0.19 | O13: 노임 2 | Q13: 53710249751EB2BC19277323091522 | T13: 53710249751EB2BC1927732309152253E9520999DE9BC11986A23F121C766B9D75A7
A14: 53E9520999DE9BC11986A23F121C766B9D72D5 | B14: 내선전공 | C14: 일반공사 직종 | D14: 인 | F14: =SUM(V11:V12) -> 0.08 | K14: =TRUNC(F14*공량설정_일위대가!B6/100, 공량설정_일위대가!C8) -> 0.08 | O14: 노임 8 | Q14: 53710249751EB2BC19277323091522 | T14: 53710249751EB2BC1927732309152253E9520999DE9BC11986A23F121C766B9D72D5
A15: 차단기 MCCB 2P 50AF EA (호표 4)
A16: 54160289A886DE5119D49DE3A61DB5B0A04473 | B16: 차단기 | C16: MCCB 2P 50AF | D16: 개 | E16: 전기 5-19 | F16: 1 | G16: 0 | H16: -30 | K16: 1 | L16: 내선전공 | M16: =0.26*(H16+100)/100*(I16+100)/100*(J16+100)/100 -> 0.182 | N16: =F16*M16 -> 0.182 | O16: 노임 8 | P16: 0.26*1 * 70% | Q16: 5371024975D9C351192132B1E4138B | R16: 53E9520999DE9BC11986A23F121C766B9D72D5 | S16: 0.26 | T16: 5371024975D9C351192132B1E4138B54160289A886DE5119D49DE3A61DB5B0A04473 | V16: =N16 -> 0.182
A17: 53E9520999DE9BC11986A23F121C766B9D72D5 | B17: 내선전공 | C17: 일반공사 직종 | D17: 인 | F17: =SUM(V16:V16) -> 0.182 | K17: =TRUNC(F17*공량설정_일위대가!B9/100, 공량설정_일위대가!C10) -> 0.182 | O17: 노임 8 | Q17: 5371024975D9C351192132B1E4138B | T17: 5371024975D9C351192132B1E4138B53E9520999DE9BC11986A23F121C766B9D72D5
A18: 차단기 ELB 2P 30AF EA (호표 5)
A19: 54160289A886DE5119D49DE3A61DB5B0A04472 | B19: 차단기 | C19: ELB 2P 30AF | D19: 개 | E19: 전기 5-19 | F19: 1 | G19: 0 | H19: -30 | K19: 1 | L19: 내선전공 | M19: =0.19*(H19+100)/100*(I19+100)/100*(J19+100)/100 -> 0.133 | N19: =F19*M19 -> 0.133 | O19: 노임 8 | P19: 0.19*1 * 70% | Q19: 5371024975D9C351192132B1E4138A | R19: 53E9520999DE9BC11986A23F121C766B9D72D5 | S19: 0.19 | T19: 5371024975D9C351192132B1E4138A54160289A886DE5119D49DE3A61DB5B0A04472 | V19: =N19 -> 0.133
A20: 53E9520999DE9BC11986A23F121C766B9D72D5 | B20: 내선전공 | C20: 일반공사 직종 | D20: 인 | F20: =SUM(V19:V19) -> 0.133 | K20: =TRUNC(F20*공량설정_일위대가!B11/100, 공량설정_일위대가!C12) -> 0.133 | O20: 노임 8 | Q20: 5371024975D9C351192132B1E4138A | T20: 5371024975D9C351192132B1E4138A53E9520999DE9BC11986A23F121C766B9D72D5
A21: SMPS BOX(옥외노출) STS, 500X600X150 면 (호표 6)
A22: 54160289A886DE24198CF61A65168F6F7DCFE0 | B22: SMPS BOX(옥외노출) | C22: STS, 500X600X150 | D22: 대 | E22: 전기 5-18 | F22: 1 | G22: 0 | H22: -65 | I22: -10 | K22: 1 | L22: 내선전공 | M22: =0.58*(H22+100)/100*(I22+100)/100*(J22+100)/100 -> 0.1827 | N22: =F22*M22 -> 0.1827 | O22: 노임 8 | P22: 0.58*1 * 35% * 90% | Q22: 53710249751EB2BC19277323091524 | R22: 53E9520999DE9BC11986A23F121C766B9D72D5 | S22: 0.58 | T22: 53710249751EB2BC1927732309152454160289A886DE24198CF61A65168F6F7DCFE0 | V22: =N22 -> 0.1827
A23: 53E9520999DE9BC11986A23F121C766B9D72D5 | B23: 내선전공 | C23: 일반공사 직종 | D23: 인 | F23: =SUM(V22:V22) -> 0.1827 | K23: =TRUNC(F23*공량설정_일위대가!B13/100, 공량설정_일위대가!C14) -> 0.1827 | O23: 노임 8 | Q23: 53710249751EB2BC19277323091524 | T23: 53710249751EB2BC1927732309152453E9520999DE9BC11986A23F121C766B9D72D5
A24: SMPS BOX 기초 400X600X600 개소 (호표 7)
A25: 541682C904D66889199DFC35911AB1A845E3BF | B25: SMPS BOX 기초(기성품) | C25: 400X600X600 | D25: 개소 | E25: 전기 5-27-1 | F25: 1 | G25: 0 | K25: 1 | L25: 보통인부 | M25: =0.19*(H25+100)/100*(I25+100)/100*(J25+100)/100 -> 0.19 | N25: =F25*M25 -> 0.19 | O25: 노임 2 | P25: 0.19*1 | Q25: 53710249751EB2BC192773230916CB | R25: 53E9520999DE9BC11986A23F121C766B9D75A7 | S25: 0.19 | T25: 53710249751EB2BC192773230916CB541682C904D66889199DFC35911AB1A845E3BF | X25: =N25 -> 0.19
L26: 내선전공 | M26: =0.08*(H25+100)/100*(I25+100)/100*(J25+100)/100 -> 0.08 | N26: =F25*M26 -> 0.08 | O26: 노임 8 | P26: 0.08*1 | Q26: 53710249751EB2BC192773230916CB | R26: 53E9520999DE9BC11986A23F121C766B9D72D5 | S26: 0.08 | T26: 53710249751EB2BC192773230916CB541682C904D66889199DFC35911AB1A845E3BF | V26: =N26 -> 0.08
A27: 53E9520999DE9BC11986A23F121C766B9D75A7 | B27: 보통인부 | C27: 일반공사 직종 | D27: 인 | F27: =SUM(X25:X26) -> 0.19 | K27: =TRUNC(F27*공량설정_일위대가!B15/100, 공량설정_일위대가!C16) -> 0.19 | O27: 노임 2 | Q27: 53710249751EB2BC192773230916CB | T27: 53710249751EB2BC192773230916CB53E9520999DE9BC11986A23F121C766B9D75A7
A28: 53E9520999DE9BC11986A23F121C766B9D72D5 | B28: 내선전공 | C28: 일반공사 직종 | D28: 인 | F28: =SUM(V25:V26) -> 0.08 | K28: =TRUNC(F28*공량설정_일위대가!B15/100, 공량설정_일위대가!C17) -> 0.08 | O28: 노임 8 | Q28: 53710249751EB2BC192773230916CB | T28: 53710249751EB2BC192773230916CB53E9520999DE9BC11986A23F121C766B9D72D5
A29: 전기맨홀 800*800*800 조 (호표 8)
A30: 541692E99002AADA19C2319D2112DA6064613A | B30: 맨홀 | C30: 800x800x800 | D30: 조 | E30: 전기 4-43-3 | F30: 1 | G30: 0 | K30: 1 | L30: 작업반장 | M30: =0.28*(H30+100)/100*(I30+100)/100*(J30+100)/100 -> 0.28 | N30: =F30*M30 -> 0.28 | O30: 노임 1 | P30: 0.28*1 | Q30: 53710249751EB2CE19877D71101304 | R30: 53E9520999DE9BC11986A23F121C766B9D75A4 | S30: 0.28 | T30: 53710249751EB2CE19877D71101304541692E99002AADA19C2319D2112DA6064613A | Y30: =N30 -> 0.28
L31: 특별인부 | M31: =0.8*(H30+100)/100*(I30+100)/100*(J30+100)/100 -> 0.8 | N31: =F30*M31 -> 0.8 | O31: 노임 3 | P31: 0.8*1 | Q31: 53710249751EB2CE19877D71101304 | R31: 53E9520999DE9BC11986A23F121C766B9D75A6 | S31: 0.8 | T31: 53710249751EB2CE19877D71101304541692E99002AADA19C2319D2112DA6064613A | Z31: =N31 -> 0.8
L32: 비계공 | M32: =0.53*(H30+100)/100*(I30+100)/100*(J30+100)/100 -> 0.53 | N32: =F30*M32 -> 0.53 | O32: 노임 4 | P32: 0.53*1 | Q32: 53710249751EB2CE19877D71101304 | R32: 53E9520999DE9BC11986A23F121C766B9D75A3 | S32: 0.53 | T32: 53710249751EB2CE19877D71101304541692E99002AADA19C2319D2112DA6064613A | AA32: =N32 -> 0.53
L33: 줄눈공 | M33: =0.03*(H30+100)/100*(I30+100)/100*(J30+100)/100 -> 0.03 | N33: =F30*M33 -> 0.03 | O33: 노임 5 | P33: 0.03*1 | Q33: 53710249751EB2CE19877D71101304 | R33: 53E9520999DE9BC11986A23F121C766B9D764F | S33: 0.03 | T33: 53710249751EB2CE19877D71101304541692E99002AADA19C2319D2112DA6064613A | AB33: =N33 -> 0.03
A34: 54044289D169785719369C3FCB14FD566C8C04 | B34: 접지용비닐절연전선 | C34: 접지용비닐절연전선, F-GV, 6㎟ | D34: m | E34: 전기 3-38 | F34: 5 | G34: 10 | K34: 5.5 | L34: 내선전공 | M34: =0.006*(H34+100)/100*(I34+100)/100*(J34+100)/100 -> 0.006 | N34: =F34*M34 -> 0.03 | O34: 노임 8 | P34: 0.006*1 | Q34: 53710249751EB2CE19877D71101304 | R34: 53E9520999DE9BC11986A23F121C766B9D72D5 | S34: 0.006 | T34: 53710249751EB2CE19877D7110130454044289D169785719369C3FCB14FD566C8C04 | V34: =N34 -> 0.03
A35: 54160289A886DE5119D4E5F6EE120AE2EEACF3 | B35: 접지봉 | C35: 접지봉, 14Φ*1000mm | D35: 개 | E35: 전기 3-38 | F35: 1 | G35: 0 | K35: 1 | L35: 보통인부 | M35: =0.08*(H35+100)/100*(I35+100)/100*(J35+100)/100 -> 0.08 | N35: =F35*M35 -> 0.08 | O35: 노임 2 | P35: 0.08*1 | Q35: 53710249751EB2CE19877D71101304 | R35: 53E9520999DE9BC11986A23F121C766B9D75A7 | S35: 0.08 | T35: 53710249751EB2CE19877D7110130454160289A886DE5119D4E5F6EE120AE2EEACF3 | X35: =N35 -> 0.08
L36: 내선전공 | M36: =0.11*(H35+100)/100*(I35+100)/100*(J35+100)/100 -> 0.11 | N36: =F35*M36 -> 0.11 | O36: 노임 8 | P36: 0.11*1 | Q36: 53710249751EB2CE19877D71101304 | R36: 53E9520999DE9BC11986A23F121C766B9D72D5 | S36: 0.11 | T36: 53710249751EB2CE19877D7110130454160289A886DE5119D4E5F6EE120AE2EEACF3 | V36: =N36 -> 0.11
A37: 53E9520999DE9BC11986A23F121C766B9D75A4 | B37: 작업반장 | C37: 일반공사 직종 | D37: 인 | F37: =SUM(Y30:Y36) -> 0.28 | K37: =TRUNC(F37*공량설정_일위대가!B18/100, 공량설정_일위대가!C19) -> 0.28 | O37: 노임 1 | Q37: 53710249751EB2CE19877D71101304 | T37: 53710249751EB2CE19877D7110130453E9520999DE9BC11986A23F121C766B9D75A4
