Workbook

Sheet 원가
AI1: 공사기간: | AM1: =IF(AW14=1,AV14,IF(AW15=1,AV15,IF(AW16=1,AV16,IF(AW17=1,AV17)))) -> 6개월이하 | AS1: 공사규모: | AT1: 50억미만 | AU1: 공사유형/기간: | AV1: 기타/6개월이하
A2: [공사명] 심학초 노후 냉난방기 개선 전기공사 | V2: ="금액: "&NUMBERSTRING(L38,1)&" 원정" -> 금액: 사천구백삼십만사천 원정 | AI2: ="("&"￦"&TEXT(L38,"0,0")&")" -> (￦49,304,000) | AS2: 요율적용표
A3: 비 목 | C3: 구 분 | L3: 금 액 | S3: 구 성 비 | AC3: 비 고 | AS3: 간접노무비 | AT3: =IF($AW$14=1,AV18,IF($AW$15=1,AV19,IF($AW$16=1,AV20,IF($AW$17=1,AV24)))) -> 0.175 | AU3: 직접재료비 | AV3: =공종별집계표!F6 -> 11060275
A4: 순 공 사 비 원 가 | C4: 재료비 | E4: 직 접 재 료 비 | L4: =AV3 -> 11060275 | AU4: 직접노무비 | AV4: =공종별집계표!H6 -> 18089648
E5: 간 접 재 료 비 | AS5: 산재보험료 | AT5: 0.0356 | AU5: 작업부산물
E6: 작 업 부 산 물 | L6: =AV5 -> 0 | AS6: 고용보험료 | AT6: 0.0101 | AU6: 산출경비
E7: 소 계 | L7: =SUM(L4:R6) -> 11060275 | AS7: 건강보험료 | AT7: 0.03595 | AU7: 사급자재비
C8: 노무비 | E8: 직접노무비(가) | L8: =AV4 -> 18089648 | AS8: 연금보험료 | AT8: 0.0475 | AU8: 관급자관급
E9: 간접노무비(나) | L9: =ROUNDDOWN($L$8*$AT$3,0) -> 3165688 | S9: =CONCATENATE(" (직노)x",AT3*100,"%") -> (직노)x17.5% | AS9: 노인장기요양보험료 | AT9: 0.1314 | AU9: 관급자도급 | AV9: =AT36 -> 0
E10: 소 계 | L10: =SUM(L8:R9) -> 21255336 | AS10: 일반관리비 | AT10: 0.08 | AU10: 한전불입금
C11: 경 비 | E11: 산 출 경 비 | L11: =AV6 -> 0 | AS11: 기타경비 | AT11: =IF($AW$14=1,AV27,IF($AW$15=1,AV28,IF($AW$16=1,AV29,IF($AW$17=1,AV30)))) -> 0.05 | AU11: 전주이설비용
E12: 폐기물처리비 | L12: =AV12 -> 0 | AS12: 기타경비 | AU12: 폐기물처리비
E13: 산 재 보 험 료 | L13: =ROUNDDOWN($L$10*$AT$5,0) -> 756689 | S13: =CONCATENATE(" (노)x",AT5*100,"%") -> (노)x3.56% | AS13: 환경보전비 | AT13: 0 | AU13: 공사비계
E14: 고 용 보 험 료 | L14: =ROUNDDOWN($L$10*$AT$6,0) -> 214678 | S14: =CONCATENATE(" (노)x",AT6*100,"%") -> (노)x1.01% | AS14: 퇴직공제부금비 | AT14: 0.023 | AU14: 공사 기간 | AV14: 6개월이하 | AW14: 1
E15: 건 강 보 험 료 | L15: =ROUNDDOWN($L$8*$AT$7,0) -> 650322 | S15: =CONCATENATE(" (직노)x",AT7*100,"%") -> (직노)x3.595% | AS15: 석면분담금 | AT15: 6e-05 | AV15: 7-12개월
E16: 연 금 보 험 료 | L16: =ROUNDDOWN($L$8*$AT$8,0) -> 859258 | S16: =CONCATENATE(" (직노)x",AT8*100,"%") -> (직노)x4.75% | AS16: 임금채권부담금 | AT16: 0.0009 | AV16: 13-36개월
E17: 노인장기요양보험료 | L17: =ROUNDDOWN($L$15*$AT$9,0) -> 85452 | S17: =CONCATENATE(" (건강보험료)x",AT9*100,"%") -> (건강보험료)x13.14% | AV17: 36개월이상
E18: 안 전 관 리 비 | L18: =MIN(AT31,AT32) -> 906562 | S18: =IF(AT31<=AT32,AU31,AU32) -> ((재＋직노)×3.11%) | AC18: 총공사금액 2천만원이상공사 적용. | AV18: =IF(($L$4+$L$8+$L$11)>=30000000000,17.5%,IF(($L$4+$L$8+$L$11)>=5000000000,17.4%,IF(($L$4+$L$8+$L$11)<5000000000,17.5%))) -> 0.175
E19: 기 타 경 비 | L19: =ROUNDDOWN(($L$7+$L$10)*$AT$11,0) -> 1615780 | S19: =CONCATENATE(" (재+노)x",AT11*100,"%") -> (재+노)x5% | AS19: 예비-1 | AV19: =IF(($L$4+$L$8+$L$11)>=30000000000,17.9%,IF(($L$4+$L$8+$L$11)>=5000000000,17.8%,IF(($L$4+$L$8+$L$11)<5000000000,17.9%))) -> 0.179
E20: 퇴직공제부금비 | L20: =ROUNDDOWN($L$8*$AT$14,0)*0 -> 0 | S20: =CONCATENATE(" (직노)x",AT14*100,"%") -> (직노)x2.3% | AC20: 공사예정금액(설계금액+관급) 1억원이상공사 적용. | AS20: 예비-2 | AV20: =IF(($L$4+$L$8+$L$11)>=30000000000,18.2%,IF(($L$4+$L$8+$L$11)>=5000000000,18.2%,IF(($L$4+$L$8+$L$11)<5000000000,18.2%))) -> 0.182
E21: 석면분담금 | L21: =ROUNDDOWN($L$10*$AT$15,0) -> 1275 | S21: =CONCATENATE(" (직노)x",AT15*100,"%") -> (직노)x0.006% | AS21: 예비-2 | AV21: =IF(($L$4+$L$8+$L$11)>=30000000000,15.2%,IF(($L$4+$L$8+$L$11)>=5000000000,16%,IF(($L$4+$L$8+$L$11)<5000000000,15.4%))) -> 0.154
E22: 임금채권부담금 | L22: =ROUNDDOWN($L$10*$AT$16,0) -> 19129 | S22: =CONCATENATE(" (직노)x",AT16*100,"%") -> (직노)x0.09% | AS22: 예비-2 | AV22: =IF(($L$4+$L$8+$L$11)>=30000000000,15.2%,IF(($L$4+$L$8+$L$11)>=5000000000,16%,IF(($L$4+$L$8+$L$11)<5000000000,15.4%))) -> 0.154
E23: 환 경 보 전 비 | L23: =ROUNDDOWN((($L$7+$L$8+$L$11)*$AT$13),0) -> 0 | S23: =CONCATENATE(" (재+직노+산경)x",AT13*100,"%") -> (재+직노+산경)x0%
E24: 건 설 하 도 급 대 금 지급보증서발급수수료 | S24: =CONCATENATE(" (재+직노+산경)x",AT16*100,"%") -> (재+직노+산경)x0.09% | AS24: 이윤 | AT24: =IF(L28+L29>=100000000000,9%,IF(L28+L29>=30000000000,10%,IF(L28+L29>=5000000000,12%,IF((L28+L29)<5000000000,15%)))) -> 0.15 | AU24: 이윤삭제액 | AV24: =IF(($L$4+$L$8+$L$11)>=30000000000,7.2%,IF(($L$4+$L$8+$L$11)>=5000000000,7.3%,IF(($L$4+$L$8+$L$11)<5000000000,7.7%))) -> 0.077
E25: 예비-1
E26: 예비-2
E27: 소 계 | L27: =SUM(L11:R26) -> 5109145 | AV27: =IF(($L$4+$L$8+$L$11)>=30000000000,5.9%,IF(($L$4+$L$8+$L$11)>=5000000000,5.2%,IF(($L$4+$L$8+$L$11)<5000000000,5%))) -> 0.05
C28: 계 | L28: =L7+L10+L27 -> 37424756 | AV28: =IF(($L$4+$L$8+$L$11)>=30000000000,6%,IF(($L$4+$L$8+$L$11)>=5000000000,5.4%,IF(($L$4+$L$8+$L$11)<5000000000,5.2%))) -> 0.052
A29: 일 반 관 리 비 | L29: =ROUNDDOWN($L$28*$AT$10,0) -> 2993980 | S29: =CONCATENATE(" (재+노+경)x",AT10*100,"%") -> (재+노+경)x8% | AS29: 안전관리비 | AT29: =IF(($L$4+$L$8+$AT$36)>=5000000000,2.37%,IF(($L$4+$L$8+$AT$36)>=500000000,2.28%,IF(($L$4+$L$8+$AT$36)<500000000,3.11%))) -> 0.0311 | AV29: =IF(($L$4+$L$8+$L$11)>=30000000000,6.4%,IF(($L$4+$L$8+$L$11)>=5000000000,5.7%,IF(($L$4+$L$8+$L$11)<5000000000,5.5%))) -> 0.055
A30: 이 윤 | L30: =INT(SUM($L$10,$L$27,$L$29)*$AT$24-$AU$27) -> 4403769 | S30: =CONCATENATE(" (노+경+일관)x",AT24*100,"%") -> (노+경+일관)x15% | AS30: 기초액 | AT30: =IF(($L$4+$L$8+$AT$36)>=5000000000,0,IF(($L$4+$L$8+$AT$36)>=500000000,5349000,IF(($L$4+$L$8+$AT$36)<500000000,0))) -> 0 | AV30: =IF(($L$4+$L$8+$L$11)>=30000000000,6.1%,IF(($L$4+$L$8+$L$11)>=5000000000,5.6%,IF(($L$4+$L$8+$L$11)<5000000000,5.5%))) -> 0.055
A31: 사 급 자 재 비 | L31: =AV7 -> 0 | AS31: 안전관리비(1) | AT31: =ROUNDDOWN((($L$7+$L$8)*$AT$29+$AT$30),0) -> 906562 | AU31: =IF(AT30=0," ((재＋직노)×"&AT29*100&"%)"," ((재＋직노)×"&AT29*100&"%＋"&TEXT(AT30,"#,###")&")") -> ((재＋직노)×3.11%)
A32: 총 원 가 | L32: =SUM(L28:R31) -> 44822505 | AS32: 안전관리비(2) | AT32: =ROUNDDOWN((($L$7+$L$8+$AT$36)*$AT$29+$AT$30)*1.2,0) -> 1087875 | AU32: =IF(AT30=0," (재＋직노+관급자재비)×"&AT29*100&"%"," (재＋직노+관급자재비)×"&AT29*100&"%＋"&TEXT(AT30,"#,###")) -> (재＋직노+관급자재비)×3.11%
A33: 부 가 가 치 세 | L33: =INT(L32*10%) -> 4482250 | S33: 공급가액의 10%
A34: 도 급 액 | L34: =SUM(L32:R33) -> 49304755 | AT34: 부가세적용 | AV34: 1.1
A35: 한 전 분 담 금/사 용 전 검 사 비 | L35: =AV10 -> 0 | S35: 부가세포함
A36: 관 급 자 관 급 | L36: =IF(ISTEXT($AU$34),INT($AV$8*1.1),IF(ISBLANK($A$13),$AV$8)) -> 0 | S36: 부가세포함
A37: 도 급 자 관 급 | L37: =IF(ISTEXT($AU$34),INT($AV$9*1.1),IF(ISBLANK($AU$34),$AV$9)) -> 0 | S37: 부가세포함 | AT37: 관급자재비(부가세제외)
A38: 총 공 사 비 | L38: =ROUNDDOWN((L34+L35+L36+L37),-3) -> 49304000 | S38: 천단위미만 절삭 | AS38: 안전관리비2천이하 적용안함 | AU38: =L34 -> 49304755
AS39: 퇴직공제금 1억이하 적용안함 | AU39: =L36+L34 -> 49304755
L41: 중간설계 | S41: 실시설계 | Z41: 증감액 | AS41: **일반관리비** | AT41: 추정가격 기준이나 금액에따라 변경됨으로 이윤하고
...

Sheet 공종별집계표
A1: 공 종 별 집 계 표
A2: [ 심학초 노후 냉난방기 개선 전기공사 ]
A3: 품 명 | B3: 규 격 | C3: 단위 | D3: 수량 | E3: 재 료 비 | G3: 노 무 비 | I3: 경 비 | K3: 합 계 | M3: 비 고 | N3: 공종코드 | O3: 변수 | P3: 상위공종 | Q3: 공종구분 | R3: 공종레벨 | S3: 공종소계 | T3: 원가계산서 연결금액
E4: 단 가 | F4: 금 액 | G4: 단 가 | H4: 금 액 | I4: 단 가 | J4: 금 액 | K4: 단 가 | L4: 금 액
A5: 01 심학초 노후 냉난방기 개선 전기공사 | D5: 1 | E5: =F6 -> 11060275 | F5: =E5*D5 -> 11060275 | G5: =H6 -> 18089648 | H5: =G5*D5 -> 18089648 | I5: =J6 -> 0 | J5: =I5*D5 -> 0 | K5: =E5+G5+I5 -> 29149923 | L5: =F5+H5+J5 -> 29149923 | N5: 01 | R5: 1
A6: 0101 전기공사 | D6: 1 | E6: =F7+F8 -> 11060275 | F6: =E6*D6 -> 11060275 | G6: =H7+H8 -> 18089648 | H6: =G6*D6 -> 18089648 | I6: =J7+J8 -> 0 | J6: =I6*D6 -> 0 | K6: =E6+G6+I6 -> 29149923 | L6: =F6+H6+J6 -> 29149923 | N6: 0101 | P6: 01 | R6: 2
A7: 010101 전력간선설비공사 | D7: 1 | E7: =공종별내역서!F27 -> 3843477 | F7: =E7*D7 -> 3843477 | G7: =공종별내역서!H27 -> 1726932 | H7: =G7*D7 -> 1726932 | I7: =공종별내역서!J27 -> 0 | J7: =I7*D7 -> 0 | K7: =E7+G7+I7 -> 5570409 | L7: =F7+H7+J7 -> 5570409 | N7: 010101 | P7: 0101 | R7: 3
A8: 010102 냉난방설비공사 | D8: 1 | E8: =공종별내역서!F75 -> 7216798 | F8: =E8*D8 -> 7216798 | G8: =공종별내역서!H75 -> 16362716 | H8: =G8*D8 -> 16362716 | I8: =공종별내역서!J75 -> 0 | J8: =I8*D8 -> 0 | K8: =E8+G8+I8 -> 23579514 | L8: =F8+H8+J8 -> 23579514 | N8: 010102 | P8: 0101 | R8: 3
A27: [ 합 계 ] | F27: =F5 -> 11060275 | H27: =H5 -> 18089648 | J27: =J5 -> 0 | L27: =L5 -> 29149923

Sheet 공종별내역서
A1: [ 심학초 노후 냉난방기 개선 전기공사 ]
A2: 품 명 | B2: 규 격 | C2: 단위 | D2: 수량 | E2: 재 료 비 | G2: 노 무 비 | I2: 경 비 | K2: 합 계 | M2: 비 고 | N2: 품목코드 | O2: 변수 | P2: 설정 | Q2: 공종코드 | R2: 일위 | S2: 단산 | T2: 자재 | U2: 손료적용 | V2: 손료저장 | W2: 적용율 | X2: JUK1 | Y2: JUK2 | Z2: JUK3 | AA2: JUK4 | AB2: JUK5 | AC2: JUK6 | AD2: JUK7 | AE2: JUK8 | AF2: JUK9 | AG2: JUK10 | AH2: JUK11 | AI2: JUK12 | AJ2: JUK13 | AK2: JUK14 | AL2: JUK15 | AM2: JUK16 | AN2: JUK17 | AO2: JUK18 | AP2: JUK19 | AQ2: JUK20 | AR2: 자재구분 | AS2: 공종구분 | AT2: 공종레벨 | AU2: 공종+자재 | AV2: 고유번호
E3: 단 가 | F3: 금 액 | G3: 단 가 | H3: 금 액 | I3: 단 가 | J3: 금 액 | K3: 단 가 | L3: 금 액
A4: 010101 전력간선설비공사 | Q4: 010101
A5: 강제전선관(노출) | B5: 아연도 54 mm | C5: M | D5: 5 | E5: =TRUNC(일위대가목록!E4,0) -> 14469 | F5: =TRUNC(E5*D5, 0) -> 72345 | G5: =TRUNC(일위대가목록!F4,0) -> 101386 | H5: =TRUNC(G5*D5, 0) -> 506930 | I5: =TRUNC(일위대가목록!G4,0) -> 0 | J5: =TRUNC(I5*D5, 0) -> 0 | K5: =TRUNC(E5+G5+I5, 0) -> 115855 | L5: =TRUNC(F5+H5+J5, 0) -> 579275 | M5: 호표 1 | N5: 5A3A1567CC9E6F8E194083FCA3323A | Q5: 010101 | R5: T | S5: F | T5: F | AU5: 0101015A3A1567CC9E6F8E194083FCA3323A | AV5: 5
A6: 전선관지지행거(단독) | B6: 54 C | C6: 개소 | D6: 2 | E6: =TRUNC(일위대가목록!E5,0) -> 2693 | F6: =TRUNC(E6*D6, 0) -> 5386 | G6: =TRUNC(일위대가목록!F5,0) -> 14909 | H6: =TRUNC(G6*D6, 0) -> 29818 | I6: =TRUNC(일위대가목록!G5,0) -> 0 | J6: =TRUNC(I6*D6, 0) -> 0 | K6: =TRUNC(E6+G6+I6, 0) -> 17602 | L6: =TRUNC(F6+H6+J6, 0) -> 35204 | M6: 호표 2 | N6: 5A3A1567CC9E6F4060608AC901343C | Q6: 010101 | R6: T | S6: F | T6: F | AU6: 0101015A3A1567CC9E6F4060608AC901343C | AV6: 6
A7: 0.6/1kV가교폴리에틸렌(F-CV) | B7: 4C 35㎟ | C7: M | D7: 15 | E7: =TRUNC(일위대가목록!E6,0) -> 28326 | F7: =TRUNC(E7*D7, 0) -> 424890 | G7: =TRUNC(일위대가목록!F6,0) -> 28667 | H7: =TRUNC(G7*D7, 0) -> 430005 | I7: =TRUNC(일위대가목록!G6,0) -> 0 | J7: =TRUNC(I7*D7, 0) -> 0 | K7: =TRUNC(E7+G7+I7, 0) -> 56993 | L7: =TRUNC(F7+H7+J7, 0) -> 854895 | M7: 호표 3 | N7: 5A3A1567CE9945B39290837ADDBA37 | Q7: 010101 | R7: T | S7: F | T7: F | AU7: 0101015A3A1567CE9945B39290837ADDBA37 | AV7: 7
A8: 난연성 비닐절연 접지용전선 | B8: 0.6/1kV F-GV 16㎟ | C8: M | D8: 15 | E8: =TRUNC(일위대가목록!E7,0) -> 2937 | F8: =TRUNC(E8*D8, 0) -> 44055 | G8: =TRUNC(일위대가목록!F7,0) -> 2899 | H8: =TRUNC(G8*D8, 0) -> 43485 | I8: =TRUNC(일위대가목록!G7,0) -> 0 | J8: =TRUNC(I8*D8, 0) -> 0 | K8: =TRUNC(E8+G8+I8, 0) -> 5836 | L8: =TRUNC(F8+H8+J8, 0) -> 87540 | M8: 호표 4 | N8: 5A3A1567CF9BA5808230847D577930 | Q8: 010101 | R8: T | S8: F | T8: F | AU8: 0101015A3A1567CF9BA5808230847D577930 | AV8: 10
A9: 분전반 | B9: EHP-A PANEL | C9: 면 | D9: 1 | E9: =TRUNC(단가대비표!O44,0) -> 3267671 | F9: =TRUNC(E9*D9, 0) -> 3267671 | G9: =TRUNC(단가대비표!P44,0) -> 0 | H9: =TRUNC(G9*D9, 0) -> 0 | I9: =TRUNC(단가대비표!V44,0) -> 0 | J9: =TRUNC(I9*D9, 0) -> 0 | K9: =TRUNC(E9+G9+I9, 0) -> 3267671 | L9: =TRUNC(F9+H9+J9, 0) -> 3267671 | N9: 5D270580229C6C40CF508CB98CE836C63DA010 | Q9: 010101 | R9: F | S9: F | T9: T | AU9: 0101015D270580229C6C40CF508CB98CE836C63DA010 | AV9: 4
A10: 분전반설치비 | C10: 면 | D10: 1 | E10: =TRUNC(일위대가목록!E8,0) -> 10188 | F10: =TRUNC(E10*D10, 0) -> 10188 | G10: =TRUNC(일위대가목록!F8,0) -> 339612 | H10: =TRUNC(G10*D10, 0) -> 339612 | I10: =TRUNC(일위대가목록!G8,0) -> 0 | J10: =TRUNC(I10*D10, 0) -> 0 | K10: =TRUNC(E10+G10+I10, 0) -> 349800 | L10: =TRUNC(F10+H10+J10, 0) -> 349800 | M10: 호표 5 | N10: 5A3AF5886A9FF02016908F66B7A63C | Q10: 010101 | R10: T | S10: F | T10: F | AU10: 0101015A3AF5886A9FF02016908F66B7A63C | AV10: 11
A11: 압착단자 | B11: R형동선 나압착 16 ㎟ | C11: 개 | D11: 2 | E11: =TRUNC(일위대가목록!E10,0) -> 1019 | F11: =TRUNC(E11*D11, 0) -> 2038 | G11: =TRUNC(일위대가목록!F10,0) -> 29769 | H11: =TRUNC(G11*D11, 0) -> 59538 | I11: =TRUNC(일위대가목록!G10,0) -> 0 | J11: =TRUNC(I11*D11, 0) -> 0 | K11: =TRUNC(E11+G11+I11, 0) -> 30788 | L11: =TRUNC(F11+H11+J11, 0) -> 61576 | M11: 호표 7 | N11: 5A3A8527AE9792505D808CE4A4F138 | Q11: 010101 | R11: T | S11: F | T11: F | AU11: 0101015A3A8527AE9792505D808CE4A4F138 | AV11: 8
A12: 러그단자 | B12: 동관단자 1 HOLE 35 ㎟ | C12: 개 | D12: 8 | E12: =TRUNC(일위대가목록!E11,0) -> 2113 | F12: =TRUNC(E12*D12, 0) -> 16904 | G12: =TRUNC(일위대가목록!F11,0) -> 39693 | H12: =TRUNC(G12*D12, 0) -> 317544 | I12: =TRUNC(일위대가목록!G11,0) -> 0 | J12: =TRUNC(I12*D12, 0) -> 0 | K12: =TRUNC(E12+G12+I12, 0) -> 41806 | L12: =TRUNC(F12+H12+J12, 0) -> 334448 | M12: 호표 8 | N12: 5A3A8527AD953229D0C0859837573F | Q12: 010101 | R12: T | S12: F | T12: F | AU12: 0101015A3A8527AD953229D0C0859837573F | AV12: 9
Q15: 010101
Q16: 010101
Q17: 010101
Q18: 010101
Q20: 010101
Q21: 010101
Q22: 010101
Q23: 010101
Q24: 010101
Q25: 010101
Q26: 010101
A27: [ 합 계 ] | F27: =SUMIF(Q5:Q26,"010101",F5:F26) -> 3843477 | H27: =SUMIF(Q5:Q26,"010101",H5:H26) -> 1726932 | J27: =SUMIF(Q5:Q26,"010101",J5:J26) -> 0 | L27: =SUMIF(Q5:Q26,"010101",L5:L26) -> 5570409 | N27: TOTAL
A28: 010102 냉난방설비공사 | Q28: 010102
A29: 합성수지제 가요전선관 | B29: CD 난연성 16㎜ | C29: M | D29: 8 | E29: =TRUNC(일위대가목록!E12,0) -> 556 | F29: =TRUNC(E29*D29, 0) -> 4448 | G29: =TRUNC(일위대가목록!F12,0) -> 9939 | H29: =TRUNC(G29*D29, 0) -> 79512 | I29: =TRUNC(일위대가목록!G12,0) -> 0 | J29: =TRUNC(I29*D29, 0) -> 0 | K29: =TRUNC(E29+G29+I29, 0) -> 10495 | L29: =TRUNC(F29+H29+J29, 0) -> 83960 | M29: 호표 9 | N29: 5A3A1567CC9E6FE09B508FBBA3FC3A | Q29: 010102 | R29: T | S29: F | T29: F | AU29: 0101025A3A1567CC9E6FE09B508FBBA3FC3A | AV29: 19
A30: 강제전선관(노출) | B30: 아연도 16 mm | C30: M | D30: 44 | E30: =TRUNC(일위대가목록!E13,0) -> 3738 | F30: =TRUNC(E30*D30, 0) -> 164472 | G30: =TRUNC(일위대가목록!F13,0) -> 23855 | H30: =TRUNC(G30*D30, 0) -> 1049620 | I30: =TRUNC(일위대가목록!G13,0) -> 0 | J30: =TRUNC(I30*D30, 0) -> 0 | K30: =TRUNC(E30+G30+I30, 0) -> 27593 | L30: =TRUNC(F30+H30+J30, 0) -> 1214092 | M30: 호표 10 | N30: 5A3A1567CC9E6F8E194083FCA34330 | Q30: 010102 | R30: T | S30: F | T30: F | AU30: 0101025A3A1567CC9E6F8E194083FCA34330 | AV30: 20
A31: 강제전선관(노출) | B31: 아연도 36 mm | C31: M | D31: 36 | E31: =TRUNC(일위대가목록!E14,0) -> 8309 | F31: =TRUNC(E31*D31, 0) -> 299124 | G31: =TRUNC(일위대가목록!F14,0) -> 59639 | H31: =TRUNC(G31*D31, 0) -> 2147004 | I31: =TRUNC(일위대가목록!G14,0) -> 0 | J31: =TRUNC(I31*D31, 0) -> 0 | K31: =TRUNC(E31+G31+I31, 0) -> 67948 | L31: =TRUNC(F31+H31+J31, 0) -> 2446128 | M31: 호표 11 | N31: 5A3A1567CC9E6F8E194083FCA3173C | Q31: 010102 | R31: T | S31: F | T31: F | AU31: 0101025A3A1567CC9E6F8E194083FCA3173C | AV31: 21
A32: 1종금속제가요전선관-노출 | B32: 16 mm 비방수 | C32: M | D32: 8 | E32: =TRUNC(일위대가목록!E15,0) -> 1100 | F32: =TRUNC(E32*D32, 0) -> 8800 | G32: =TRUNC(일위대가목록!F15,0) -> 10933 | H32: =TRUNC(G32*D32, 0) -> 87464 | I32: =TRUNC(일위대가목록!G15,0) -> 0 | J32: =TRUNC(I32*D32, 0) -> 0 | K32: =TRUNC(E32+G32+I32, 0) -> 12033 | L32: =TRUNC(F32+H32+J32, 0) -> 96264 | M32: 호표 12 | N32: 5A3A1567CC9E6F9880208EC75E2631 | Q32: 010102 | R32: T | S32: F | T32: F | AU32: 0101025A3A1567CC9E6F9880208EC75E2631 | AV32: 22
A33: 1종금속제가요전선관 | B33: 박스커넥터, 16 mm 비방수 | C33: 개 | D33: 16 | E33: =TRUNC(단가대비표!O40,0) -> 407 | F33: =TRUNC(E33*D33, 0) -> 6512 | G33: =TRUNC(단가대비표!P40,0) -> 0 | H33: =TRUNC(G33*D33, 0) -> 0 | I33: =TRUNC(단가대비표!V40,0) -> 0 | J33: =TRUNC(I33*D33, 0) -> 0 | K33: =TRUNC(E33+G33+I33, 0) -> 407 | L33: =TRUNC(F33+H33+J33, 0) -> 6512 | N33: 5D5CC5D48E9C78A6AE708934332A399F66A40D | Q33: 010102 | R33: F | S33: F | T33: T | AU33: 0101025D5CC5D48E9C78A6AE708934332A399F66A40D | AV33: 14
A34: 전선관지지행거(단독) | B34: 16 C | C34: 개소 | D34: 23 | E34: =TRUNC(일위대가목록!E16,0) -> 2426 | F34: =TRUNC(E34*D34, 0) -> 55798 | G34: =TRUNC(일위대가목록!F16,0) -> 14909 | H34: =TRUNC(G34*D34, 0) -> 342907 | I34: =TRUNC(일위대가목록!G16,0) -> 0 | J34: =TRUNC(I34*D34, 0) -> 0 | K34: =TRUNC(E34+G34+I34, 0) -> 17335 | L34: =TRUNC(F34+H34+J34, 0) -> 398705 | M34: 호표 13 | N34: 5A3A1567CC9E6F4060608AC9014533 | Q34: 010102 | R34: T | S34: F | T34: F | AU34: 0101025A3A1567CC9E6F4060608AC9014533 | AV34: 23
A35: 전선관지지행거(단독) | B35: 36 C | C35: 개소 | D35: 12 | E35: =TRUNC(일위대가목록!E17,0) -> 2474 | F35: =TRUNC(E35*D35, 0) -> 29688 | G35: =TRUNC(일위대가목록!F17,0) -> 14909 | H35: =TRUNC(G35*D35, 0) -> 178908 | I35: =TRUNC(일위대가목록!G17,0) -> 0 | J35: =TRUNC(I35*D35, 0) -> 0 | K35: =TRUNC(E35+G35+I35, 0) -> 17383 | L35: =TRUNC(F35+H35+J35, 0) -> 208596 | M35: 호표 14 | N35: 5A3A1567CC9E6F4060608AC901193F | Q35: 010102 | R35: T | S35: F | T35: F | AU35: 0101025A3A1567CC9E6F4060608AC901193F | AV35: 24
A36: 저독성폴리올레핀절연전선(HFIX) | B36: 2.5㎟ | C36: M | D36: 29 | E36: =TRUNC(일위대가목록!E18,0) -> 699 | F36: =TRUNC(E36*D36, 0) -> 20271 | G36: =TRUNC(일위대가목록!F18,0) -> 2761 | H36: =TRUNC(G36*D36, 0) -> 80069 | I36: =TRUNC(일위대가목록!G18,0) -> 0 | J36: =TRUNC(I36*D36, 0) -> 0 | K36: =TRUNC(E36+G36+I36, 0) -> 3460 | L36: =TRUNC(F36+H36+J36, 0) -> 100340 | M36: 호표 15 | N36: 5A3A1567CF9BA5A37C5080A61CD13A | Q36: 010102 | R36: T | S36: F | T36: F | AU36: 0101025A3A1567CF9BA5A37C5080A61CD13A | AV36: 28
A37: 0.6/1kV가교폴리에틸렌(F-CV) | B37: 2C 6㎟ | C37: M | D37: 126 | E37: =TRUNC(일위대가목록!E19,0) -> 3182 | F37: =TRUNC(E37*D37, 0) -> 400932 | G37: =TRUNC(일위대가목록!F19,0) -> 5512 | H37: =TRUNC(G37*D37, 0) -> 694512 | I37: =TRUNC(일위대가목록!G19,0) -> 0 | J37: =TRUNC(I37*D37, 0) -> 0 | K37: =TRUNC(E37+G37+I37, 0) -> 8694 | L37: =TRUNC(F37+H37+J37, 0) -> 1095444 | M37: 호표 16 | N37: 5A3A1567CE9945B392F084079C153A | Q37: 010102 | R37: T | S37: F | T37: F | AU37: 0101025A3A1567CE9945B392F084079C153A | AV37: 26
A38: 0.6/1kV가교폴리에틸렌(F-CV) | B38: 4C 6㎟ | C38: M | D38: 203 | E38: =TRUNC(일위대가목록!E20,0) -> 5531 | F38: =TRUNC(E38*D38, 0) -> 1122793 | G38: =TRUNC(일위대가목록!F20,0) -> 10413 | H38: =TRUNC(G38*D38, 0) -> 2113839 | I38: =TRUNC(일위대가목록!G20,0) -> 0 | J38: =TRUNC(I38*D38, 0) -> 0 | K38: =TRUNC(E38+G38+I38, 0) -> 15944 | L38: =TRUNC(F38+H38+J38, 0) -> 3236632 | M38: 호표 17 | N38: 5A3A1567CE9945B39290837ADD7C3C | Q38: 010102 | R38: T | S38: F | T38: F | AU38: 0101025A3A1567CE9945B39290837ADD7C3C | AV38: 27
A39: 난연성 비닐절연 접지용전선 | B39: 0.6/1kV F-GV 6㎟ | C39: M | D39: 338 | E39: =TRUNC(일위대가목록!E21,0) -> 1313 | F39: =TRUNC(E39*D39, 0) -> 443794 | G39: =TRUNC(일위대가목록!F21,0) -> 2484 | H39: =TRUNC(G39*D39, 0) -> 839592 | I39: =TRUNC(일위대가목록!G21,0) -> 0 | J39: =TRUNC(I39*D39, 0) -> 0 | K39: =TRUNC(E39+G39+I39, 0) -> 3797 | L39: =TRUNC(F39+H39+J39, 0) -> 1283386 | M39: 호표 18 | N39: 5A3A1567CF9BA5808230847D571038 | Q39: 010102 | R39: T | S39: F | T39: F | AU39: 0101025A3A1567CF9BA5808230847D571038 | AV39: 29
A40: 아우트렛박스 | B40: 중형4각 54㎜ | C40: 개 | D40: 8 | E40: =TRUNC(일위대가목록!E22,0) -> 1734 | F40: =TRUNC(E40*D40, 0) -> 13872 | G40: =TRUNC(일위대가목록!F22,0) -> 29819 | H40: =TRUNC(G40*D40, 0) -> 238552 | I40: =TRUNC(일위대가목록!G22,0) -> 0 | J40: =TRUNC(I40*D40, 0) -> 0 | K40: =TRUNC(E40+G40+I40, 0) -> 31553 | L40: =TRUNC(F40+H40+J40, 0) -> 252424 | M40: 호표 19 | N40: 5A3A1567C4990056018083494D5B3C | Q40: 010102 | R40: T | S40: F | T40: F | AU40: 0101025A3A1567C4990056018083494D5B3C | AV40: 34
A41: 아우트렛박스 | B41: 커버, 4각, 평 | C41: 개 | D41: 8 | E41: =TRUNC(단가대비표!O22,0) -> 240 | F41: =TRUNC(E41*D41, 0) -> 1920 | G41: =TRUNC(단가대비표!P22,0) -> 0 | H41: =TRUNC(G41*D41, 0) -> 0 | I41: =TRUNC(단가대비표!V22,0) -> 0 | J41: =TRUNC(I41*D41, 0) -> 0 | K41: =TRUNC(E41+G41+I41, 0) -> 240 | L41: =TRUNC(F41+H41+J41, 0) -> 1920 | N41: 5D5CC5D48F9EDF3D1ED081BD531A3D45FB5AC0 | Q41: 010102 | R41: F | S41: F | T41: T | AU41: 0101025D5CC5D48F9EDF3D1ED081BD531A3D45FB5AC0 | AV41: 15
A42: 스위치박스 | B42: 1 개용 54 mm | C42: 개 | D42: 8 | E42: =TRUNC(일위대가목록!E23,0) -> 2081 | F42: =TRUNC(E42*D42, 0) -> 16648 | G42: =TRUNC(일위대가목록!F23,0) -> 49699 | H42: =TRUNC(G42*D42, 0) -> 397592 | I42: =TRUNC(일위대가목록!G23,0) -> 0 | J42: =TRUNC(I42*D42, 0) -> 0 | K42: =TRUNC(E42+G42+I42, 0) -> 51780 | L42: =TRUNC(F42+H42+J42, 0) -> 414240 | M42: 호표 20 | N42: 5A3A1567C4990056018083495F8E3B | Q42: 010102 | R42: T | S42: F | T42: F | AU42: 0101025A3A1567C4990056018083495F8E3B | AV42: 35
A43: 풀박스 | B43: 100x100x100 | C43: 개 | D43: 4 | E43: =TRUNC(일위대가목록!E24,0) -> 3162 | F43: =TRUNC(E43*D43, 0) -> 12648 | G43: =TRUNC(일위대가목록!F24,0) -> 9939 | H43: =TRUNC(G43*D43, 0) -> 39756 | I43: =TRUNC(일위대가목록!G24,0) -> 0 | J43: =TRUNC(I43*D43, 0) -> 0 | K43: =TRUNC(E43+G43+I43, 0) -> 13101 | L43: =TRUNC(F43+H43+J43, 0) -> 52404 | M43: 호표 21 | N43: 5A3A1567C499005601908DBDDA6030 | Q43: 010102 | R43: T | S43: F | T43: F | AU43: 0101025A3A1567C499005601908DBDDA6030 | AV43: 36
...

Sheet 일위대가목록
B1: 일 위 대 가 목 록
B2: [ 심학초 노후 냉난방기 개선 전기공사 ]
A3: 코 드 | B3: 품 명 | C3: 규 격 | D3: 단위 | E3: 재 료 비 | F3: 노 무 비 | G3: 경 비 | H3: 합 계 | I3: 번 호 | J3: 비 고 | K3: 노임계수 | L3: 할증 | M3: 품셈개요 | N3: 장비일위
A4: 5A3A1567CC9E6F8E194083FCA3323A | B4: 강제전선관(노출) | C4: 아연도 54 mm | D4: M | E4: =일위대가!F11 -> 14469 | F4: =일위대가!H11 -> 101386 | G4: =일위대가!J11 -> 0 | H4: =E4+F4+G4 -> 115855 | I4: 호표 1 | M4: 전기 5-1
A5: 5A3A1567CC9E6F4060608AC901343C | B5: 전선관지지행거(단독) | C5: 54 C | D5: 개소 | E5: =일위대가!F21 -> 2693 | F5: =일위대가!H21 -> 14909 | G5: =일위대가!J21 -> 0 | H5: =E5+F5+G5 -> 17602 | I5: 호표 2 | M5: 전기 5-29
A6: 5A3A1567CE9945B39290837ADDBA37 | B6: 0.6/1kV가교폴리에틸렌(F-CV) | C6: 4C 35㎟ | D6: M | E6: =일위대가!F29 -> 28326 | F6: =일위대가!H29 -> 28667 | G6: =일위대가!J29 -> 0 | H6: =E6+F6+G6 -> 56993 | I6: 호표 3 | M6: 전기 5-11
A7: 5A3A1567CF9BA5808230847D577930 | B7: 난연성 비닐절연 접지용전선 | C7: 0.6/1kV F-GV 16㎟ | D7: M | E7: =일위대가!F37 -> 2937 | F7: =일위대가!H37 -> 2899 | G7: =일위대가!J37 -> 0 | H7: =E7+F7+G7 -> 5836 | I7: 호표 4 | M7: 전기 3-38
A8: 5A3AF5886A9FF02016908F66B7A63C | B8: 분전반설치비 | D8: 면 | E8: =일위대가!F42 -> 10188 | F8: =일위대가!H42 -> 339612 | G8: =일위대가!J42 -> 0 | H8: =E8+F8+G8 -> 349800 | I8: 호표 5 | M8: 전기 5-4
A9: 5A3A1567C499006078208C470CD43E | B9: 배선용 차단기 | C9: 4P 100AF | D9: 대 | E9: =일위대가!F48 -> 133176 | F9: =일위대가!H48 -> 129218 | G9: =일위대가!J48 -> 0 | H9: =E9+F9+G9 -> 262394 | I9: 호표 6 | M9: 전기 5-19
A10: 5A3A8527AE9792505D808CE4A4F138 | B10: 압착단자 | C10: R형동선 나압착 16 ㎟ | D10: 개 | E10: =일위대가!F54 -> 1019 | F10: =일위대가!H54 -> 29769 | G10: =일위대가!J54 -> 0 | H10: =E10+F10+G10 -> 30788 | I10: 호표 7 | M10: 전기 4-37
A11: 5A3A8527AD953229D0C0859837573F | B11: 러그단자 | C11: 동관단자 1 HOLE 35 ㎟ | D11: 개 | E11: =일위대가!F60 -> 2113 | F11: =일위대가!H60 -> 39693 | G11: =일위대가!J60 -> 0 | H11: =E11+F11+G11 -> 41806 | I11: 호표 8 | M11: 전기 4-37
A12: 5A3A1567CC9E6FE09B508FBBA3FC3A | B12: 합성수지제 가요전선관 | C12: CD 난연성 16㎜ | D12: M | E12: =일위대가!F69 -> 556 | F12: =일위대가!H69 -> 9939 | G12: =일위대가!J69 -> 0 | H12: =E12+F12+G12 -> 10495 | I12: 호표 9 | M12: 전기 5-1
A13: 5A3A1567CC9E6F8E194083FCA34330 | B13: 강제전선관(노출) | C13: 아연도 16 mm | D13: M | E13: =일위대가!F78 -> 3738 | F13: =일위대가!H78 -> 23855 | G13: =일위대가!J78 -> 0 | H13: =E13+F13+G13 -> 27593 | I13: 호표 10 | M13: 전기 5-1
A14: 5A3A1567CC9E6F8E194083FCA3173C | B14: 강제전선관(노출) | C14: 아연도 36 mm | D14: M | E14: =일위대가!F87 -> 8309 | F14: =일위대가!H87 -> 59639 | G14: =일위대가!J87 -> 0 | H14: =E14+F14+G14 -> 67948 | I14: 호표 11 | M14: 전기 5-1
A15: 5A3A1567CC9E6F9880208EC75E2631 | B15: 1종금속제가요전선관-노출 | C15: 16 mm 비방수 | D15: M | E15: =일위대가!F95 -> 1100 | F15: =일위대가!H95 -> 10933 | G15: =일위대가!J95 -> 0 | H15: =E15+F15+G15 -> 12033 | I15: 호표 12 | M15: 전기 5-1
A16: 5A3A1567CC9E6F4060608AC9014533 | B16: 전선관지지행거(단독) | C16: 16 C | D16: 개소 | E16: =일위대가!F105 -> 2426 | F16: =일위대가!H105 -> 14909 | G16: =일위대가!J105 -> 0 | H16: =E16+F16+G16 -> 17335 | I16: 호표 13 | M16: 전기 5-29
A17: 5A3A1567CC9E6F4060608AC901193F | B17: 전선관지지행거(단독) | C17: 36 C | D17: 개소 | E17: =일위대가!F115 -> 2474 | F17: =일위대가!H115 -> 14909 | G17: =일위대가!J115 -> 0 | H17: =E17+F17+G17 -> 17383 | I17: 호표 14 | M17: 전기 5-29
A18: 5A3A1567CF9BA5A37C5080A61CD13A | B18: 저독성폴리올레핀절연전선(HFIX) | C18: 2.5㎟ | D18: M | E18: =일위대가!F123 -> 699 | F18: =일위대가!H123 -> 2761 | G18: =일위대가!J123 -> 0 | H18: =E18+F18+G18 -> 3460 | I18: 호표 15 | M18: 전기 5-10
A19: 5A3A1567CE9945B392F084079C153A | B19: 0.6/1kV가교폴리에틸렌(F-CV) | C19: 2C 6㎟ | D19: M | E19: =일위대가!F131 -> 3182 | F19: =일위대가!H131 -> 5512 | G19: =일위대가!J131 -> 0 | H19: =E19+F19+G19 -> 8694 | I19: 호표 16 | M19: 전기 5-13
A20: 5A3A1567CE9945B39290837ADD7C3C | B20: 0.6/1kV가교폴리에틸렌(F-CV) | C20: 4C 6㎟ | D20: M | E20: =일위대가!F139 -> 5531 | F20: =일위대가!H139 -> 10413 | G20: =일위대가!J139 -> 0 | H20: =E20+F20+G20 -> 15944 | I20: 호표 17 | M20: 전기 5-13
A21: 5A3A1567CF9BA5808230847D571038 | B21: 난연성 비닐절연 접지용전선 | C21: 0.6/1kV F-GV 6㎟ | D21: M | E21: =일위대가!F147 -> 1313 | F21: =일위대가!H147 -> 2484 | G21: =일위대가!J147 -> 0 | H21: =E21+F21+G21 -> 3797 | I21: 호표 18 | M21: 전기 3-38
A22: 5A3A1567C4990056018083494D5B3C | B22: 아우트렛박스 | C22: 중형4각 54㎜ | D22: 개 | E22: =일위대가!F153 -> 1734 | F22: =일위대가!H153 -> 29819 | G22: =일위대가!J153 -> 0 | H22: =E22+F22+G22 -> 31553 | I22: 호표 19 | M22: 전기 5-3
A23: 5A3A1567C4990056018083495F8E3B | B23: 스위치박스 | C23: 1 개용 54 mm | D23: 개 | E23: =일위대가!F159 -> 2081 | F23: =일위대가!H159 -> 49699 | G23: =일위대가!J159 -> 0 | H23: =E23+F23+G23 -> 51780 | I23: 호표 20 | M23: 전기 5-3
A24: 5A3A1567C499005601908DBDDA6030 | B24: 풀박스 | C24: 100x100x100 | D24: 개 | E24: =일위대가!F165 -> 3162 | F24: =일위대가!H165 -> 9939 | G24: =일위대가!J165 -> 0 | H24: =E24+F24+G24 -> 13101 | I24: 호표 21 | M24: 전기 5-4
A25: 5A3A1567C499005601908DBDDA193E | B25: 풀박스 | C25: 150x150x100 | D25: 개 | E25: =일위대가!F171 -> 4496 | F25: =일위대가!H171 -> 54669 | G25: =일위대가!J171 -> 0 | H25: =E25+F25+G25 -> 59165 | I25: 호표 22 | M25: 전기 5-4
A26: 5A3AF583E89A588E110089B54F9831 | B26: 트레이,덕트지지대(벽체or바닥) | C26: W600 | D26: 개소 | E26: =일위대가!F181 -> 8900 | F26: =일위대가!H181 -> 19879 | G26: =일위대가!J181 -> 0 | H26: =E26+F26+G26 -> 28779 | I26: 호표 23 | M26: 전기 5-29
A27: 5A3A1567C99125FF90708D123DEC33 | B27: 케이블트레이 | C27: STRAIGHT,St W600x100Hx2.3t | D27: M | E27: =일위대가!F187 -> 19414 | F27: =일위대가!H187 -> 99398 | G27: =일위대가!J187 -> 0 | H27: =E27+F27+G27 -> 118812 | I27: 호표 24 | M27: 전기 5-8
A28: 5A3A1567C99125FF90708D01BC2A3E | B28: 케이블트레이 커버(전기) | C28: STRAIGHT,St W600x100Hx2.3t | D28: M | E28: =일위대가!F193 -> 51899 | F28: =일위대가!H193 -> 19879 | G28: =일위대가!J193 -> 0 | H28: =E28+F28+G28 -> 71778 | I28: 호표 25 | M28: 전기 5-8
A29: 5A3A1567C99125FF90708D3EF64333 | B29: 케이블트레이부속품 | C29: V. ELBOW, St, W600x100Hx2.3t | D29: 개 | E29: =일위대가!F199 -> 26998 | F29: =일위대가!H199 -> 99398 | G29: =일위대가!J199 -> 0 | H29: =E29+F29+G29 -> 126396 | I29: 호표 26 | M29: 전기 5-8
A30: 5A3A1567C99125FF90708D2C967E34 | B30: 케이블트레이부속품 | C30: H. TEE, St, W600x100Hx2.3t | D30: 개 | E30: =일위대가!F205 -> 41866 | F30: =일위대가!H205 -> 99398 | G30: =일위대가!J205 -> 0 | H30: =E30+F30+G30 -> 141264 | I30: 호표 27 | M30: 전기 5-8
A31: 5A3A1567C4990072EA908F1D115B35 | B31: 배관용홈파기 | C31: 16C 이하 | D31: M | E31: =일위대가!F212 -> 748 | F31: =일위대가!H212 -> 16443 | G31: =일위대가!J212 -> 0 | H31: =E31+F31+G31 -> 17191 | I31: 호표 28 | M31: 전기 5-29
A32: 5A7325616091BF6AB5D08F73FD8834 | B32: 모르타르배합 | C32: 배합용적비 1:3 | D32: M3 | E32: =일위대가!F218 -> 119515 | F32: =일위대가!H218 -> 113980 | G32: =일위대가!J218 -> 0 | H32: =E32+F32+G32 -> 233495 | I32: 호표 29 | J32: 배관용홈파기 | M32: 건축 15-1-1
A33: 5A7325616091BF6AB5D08F73FD9A3B | B33: 모르타르바름 | C33: 인력 | D33: ㎡ | E33: =일위대가!F224 -> 1371 | F33: =일위대가!H224 -> 45715 | G33: =일위대가!J224 -> 0 | H33: =E33+F33+G33 -> 47086 | I33: 호표 30 | M33: 건축 15-1-2

Sheet 일위대가
A1: [ 심학초 노후 냉난방기 개선 전기공사 ]
A2: 품 명 | B2: 규 격 | C2: 단위 | D2: 수량 | E2: 재 료 비 | G2: 노 무 비 | I2: 경 비 | K2: 합 계 | M2: 비 고 | N2: 일위대가 | O2: 품목코드 | P2: 일위 | Q2: 단산 | R2: 자재 | S2: 손료적용 | T2: 손료저장 | U2: 적용율 | V2: JUK1 | W2: JUK2 | X2: JUK3 | Y2: JUK4 | Z2: JUK5 | AA2: JUK6 | AB2: JUK7 | AC2: JUK8 | AD2: JUK9 | AE2: JUK10 | AF2: JUK11 | AG2: JUK12 | AH2: JUK13 | AI2: JUK14 | AJ2: JUK15 | AK2: JUK16 | AL2: JUK17 | AM2: JUK18 | AN2: JUK19 | AO2: JUK20 | AP2: 할증적용 | AQ2: 할증저장 | AR2: 할증율 | AS2: HAL1 | AT2: HAL2 | AU2: HAL3 | AV2: 자재구분 | AW2: 일위대가+자재 | AX2: 장비일위 | AY2: 설정 | AZ2: 할증체크
E3: 단 가 | F3: 금 액 | G3: 단 가 | H3: 금 액 | I3: 단 가 | J3: 금 액 | K3: 단 가 | L3: 금 액
A4: 강제전선관(노출) 아연도 54 mm M 전기 5-1 ( 호표 1 ) | N4: 5A3A1567CC9E6F8E194083FCA3323A
A5: 강제전선관 | B5: 아연도 54 mm | C5: M | D5: 1 | E5: =단가대비표!O37 -> 8998 | F5: =TRUNC(E5*D5,1) -> 8998 | G5: =단가대비표!P37 -> 0 | H5: =TRUNC(G5*D5,1) -> 0 | I5: =단가대비표!V37 -> 0 | J5: =TRUNC(I5*D5,1) -> 0 | K5: =TRUNC(E5+G5+I5,1) -> 8998 | L5: =TRUNC(F5+H5+J5,1) -> 8998 | N5: 5A3A1567CC9E6F8E194083FCA3323A | O5: 5D5CC5D48E9C78A6AE708908F0DC358BF35BD6 | P5: F | Q5: F | R5: T | V5: 1 | W5: 2 | AW5: 5A3A1567CC9E6F8E194083FCA3323A5D5CC5D48E9C78A6AE708908F0DC358BF35BD6
A6: 강제전선관 | B6: 아연도 54 mm | C6: M | D6: 0.1 | E6: =단가대비표!O37 -> 8998 | F6: =TRUNC(E6*D6,1) -> 899.8 | G6: =단가대비표!P37 -> 0 | H6: =TRUNC(G6*D6,1) -> 0 | I6: =단가대비표!V37 -> 0 | J6: =TRUNC(I6*D6,1) -> 0 | K6: =TRUNC(E6+G6+I6,1) -> 8998 | L6: =TRUNC(F6+H6+J6,1) -> 899.8 | N6: 5A3A1567CC9E6F8E194083FCA3323A | O6: 5D5CC5D48E9C78A6AE708908F0DC358BF35BD6 | P6: F | Q6: F | R6: T | AW6: 5A3A1567CC9E6F8E194083FCA3323A5D5CC5D48E9C78A6AE708908F0DC358BF35BD6
A7: 전선관부속품비 | B7: 전선관의 15% | C7: 식 | D7: 1 | E7: =TRUNC(SUMIF(V5:V10, RIGHTB(O7, 1), F5:F10)*U7, 2) -> 1349.7 | F7: =TRUNC(E7*D7,1) -> 1349.7 | G7: 0 | H7: =TRUNC(G7*D7,1) -> 0 | I7: 0 | J7: =TRUNC(I7*D7,1) -> 0 | K7: =TRUNC(E7+G7+I7,1) -> 1349.7 | L7: =TRUNC(F7+H7+J7,1) -> 1349.7 | N7: 5A3A1567CC9E6F8E194083FCA3323A | O7: 5B65457D929AE2EE229085685E63001 | P7: F | Q7: F | R7: F | S7: 0 | T7: 0 | U7: 0.15 | AW7: 5A3A1567CC9E6F8E194083FCA3323A5B65457D929AE2EE229085685E43003
A8: 잡재료비 | B8: 배관배선의 2% | C8: 식 | D8: 1 | E8: =TRUNC(SUMIF(W5:W10, RIGHTB(O8, 1), F5:F10)*U8, 2) -> 179.96 | F8: =TRUNC(E8*D8,1) -> 179.9 | G8: 0 | H8: =TRUNC(G8*D8,1) -> 0 | I8: 0 | J8: =TRUNC(I8*D8,1) -> 0 | K8: =TRUNC(E8+G8+I8,1) -> 179.9 | L8: =TRUNC(F8+H8+J8,1) -> 179.9 | N8: 5A3A1567CC9E6F8E194083FCA3323A | O8: 5B65457D929AE2EE229085685E53002 | P8: F | Q8: F | R8: F | S8: 0 | T8: 0 | U8: 0.02 | AW8: 5A3A1567CC9E6F8E194083FCA3323A5B65457D929AE2EE229085685E53002
A9: 내선전공 | B9: 일반공사 직종 | C9: 인 | D9: 0.3672 | E9: =단가대비표!O47 -> 0 | F9: =TRUNC(E9*D9,1) -> 0 | G9: =단가대비표!P47 -> 276108 | H9: =TRUNC(G9*D9,1) -> 101386.8 | I9: =단가대비표!V47 -> 0 | J9: =TRUNC(I9*D9,1) -> 0 | K9: =TRUNC(E9+G9+I9,1) -> 276108 | L9: =TRUNC(F9+H9+J9,1) -> 101386.8 | N9: 5A3A1567CC9E6F8E194083FCA3323A | O9: 5AA0353D05963586332083E384093D7F534704 | P9: F | Q9: F | R9: T | X9: 3 | AW9: 5A3A1567CC9E6F8E194083FCA3323A5AA0353D05963586332083E384093D7F534704
A10: 공구손료 | B10: 인력품의 3% | C10: 식 | D10: 1 | E10: =TRUNC(SUMIF(X5:X10, RIGHTB(O10, 1), H5:H10)*U10, 2) -> 3041.6 | F10: =TRUNC(E10*D10,1) -> 3041.6 | G10: 0 | H10: =TRUNC(G10*D10,1) -> 0 | I10: 0 | J10: =TRUNC(I10*D10,1) -> 0 | K10: =TRUNC(E10+G10+I10,1) -> 3041.6 | L10: =TRUNC(F10+H10+J10,1) -> 3041.6 | N10: 5A3A1567CC9E6F8E194083FCA3323A | O10: 5B65457D929AE2EE229085685E43003 | P10: F | Q10: F | R10: F | S10: 1 | T10: 0 | U10: 0.03 | AW10: 5A3A1567CC9E6F8E194083FCA3323A5B65457D929AE2EE229085685E63001
A11: [ 합 계 ] | F11: =TRUNC(SUMIF(N5:N10, N4, F5:F10),0) -> 14469 | H11: =TRUNC(SUMIF(N5:N10, N4, H5:H10),0) -> 101386 | J11: =TRUNC(SUMIF(N5:N10, N4, J5:J10),0) -> 0 | L11: =F11+H11+J11 -> 115855 | N11: TOTAL | O11: TOTAL
A13: 전선관지지행거(단독) 54 C 개소 전기 5-29 ( 호표 2 ) | N13: 5A3A1567CC9E6F4060608AC901343C
A14: 행어볼트 | B14: 행어볼트, ∮9*1000mm | C14: 개 | D14: 1 | E14: =단가대비표!O13 -> 1450 | F14: =TRUNC(E14*D14,1) -> 1450 | G14: =단가대비표!P13 -> 0 | H14: =TRUNC(G14*D14,1) -> 0 | I14: =단가대비표!V13 -> 0 | J14: =TRUNC(I14*D14,1) -> 0 | K14: =TRUNC(E14+G14+I14,1) -> 1450 | L14: =TRUNC(F14+H14+J14,1) -> 1450 | N14: 5A3A1567CC9E6F4060608AC901343C | O14: 5D5C459ECA9D055F45008F7D75C532F5BB59F6 | P14: F | Q14: F | R14: T | AW14: 5A3A1567CC9E6F4060608AC901343C5D5C459ECA9D055F45008F7D75C532F5BB59F6
A15: 스트롱앵커 | B15: 스트롱앵커, M10, 9.5mm | C15: 개 | D15: 1 | E15: =단가대비표!O17 -> 143 | F15: =TRUNC(E15*D15,1) -> 143 | G15: =단가대비표!P17 -> 0 | H15: =TRUNC(G15*D15,1) -> 0 | I15: =단가대비표!V17 -> 0 | J15: =TRUNC(I15*D15,1) -> 0 | K15: =TRUNC(E15+G15+I15,1) -> 143 | L15: =TRUNC(F15+H15+J15,1) -> 143 | N15: 5A3A1567CC9E6F4060608AC901343C | O15: 5D5C459ECA9D326885408EBE034D3FCED5B345 | P15: F | Q15: F | R15: T | AW15: 5A3A1567CC9E6F4060608AC901343C5D5C459ECA9D326885408EBE034D3FCED5B345
A16: 육각너트 | B16: 육각너트, M10 | C16: 개 | D16: 2 | E16: =단가대비표!O14 -> 21.3 | F16: =TRUNC(E16*D16,1) -> 42.6 | G16: =단가대비표!P14 -> 0 | H16: =TRUNC(G16*D16,1) -> 0 | I16: =단가대비표!V14 -> 0 | J16: =TRUNC(I16*D16,1) -> 0 | K16: =TRUNC(E16+G16+I16,1) -> 21.3 | L16: =TRUNC(F16+H16+J16,1) -> 42.6 | N16: 5A3A1567CC9E6F4060608AC901343C | O16: 5D5C459ECA9D054D4FA089D95EFE33724DE2FE | P16: F | Q16: F | R16: T | AW16: 5A3A1567CC9E6F4060608AC901343C5D5C459ECA9D054D4FA089D95EFE33724DE2FE
A17: 스프링 와샤 | B17: 10mm | C17: EA | D17: 2 | E17: =단가대비표!O15 -> 9.3 | F17: =TRUNC(E17*D17,1) -> 18.6 | G17: =단가대비표!P15 -> 0 | H17: =TRUNC(G17*D17,1) -> 0 | I17: =단가대비표!V15 -> 0 | J17: =TRUNC(I17*D17,1) -> 0 | K17: =TRUNC(E17+G17+I17,1) -> 9.3 | L17: =TRUNC(F17+H17+J17,1) -> 18.6 | N17: 5A3A1567CC9E6F4060608AC901343C | O17: 5D5C459ECA9D05B0769086426B7D3B508F1014 | P17: F | Q17: F | R17: T | AW17: 5A3A1567CC9E6F4060608AC901343C5D5C459ECA9D05B0769086426B7D3B508F1014
A18: 강재전선관용 부품 | B18: 파이프행거, 54 C | C18: 개 | D18: 1 | E18: =단가대비표!O43 -> 592 | F18: =TRUNC(E18*D18,1) -> 592 | G18: =단가대비표!P43 -> 0 | H18: =TRUNC(G18*D18,1) -> 0 | I18: =단가대비표!V43 -> 0 | J18: =TRUNC(I18*D18,1) -> 0 | K18: =TRUNC(E18+G18+I18,1) -> 592 | L18: =TRUNC(F18+H18+J18,1) -> 592 | N18: 5A3A1567CC9E6F4060608AC901343C | O18: 5D5CC5D48E9C78A6AE9085F292A6375DF3E54A | P18: F | Q18: F | R18: T | AW18: 5A3A1567CC9E6F4060608AC901343C5D5CC5D48E9C78A6AE9085F292A6375DF3E54A
A19: 내선전공 | B19: 일반공사 직종 | C19: 인 | D19: 0.054 | E19: =단가대비표!O47 -> 0 | F19: =TRUNC(E19*D19,1) -> 0 | G19: =단가대비표!P47 -> 276108 | H19: =TRUNC(G19*D19,1) -> 14909.8 | I19: =단가대비표!V47 -> 0 | J19: =TRUNC(I19*D19,1) -> 0 | K19: =TRUNC(E19+G19+I19,1) -> 276108 | L19: =TRUNC(F19+H19+J19,1) -> 14909.8 | N19: 5A3A1567CC9E6F4060608AC901343C | O19: 5AA0353D05963586332083E384093D7F534704 | P19: F | Q19: F | R19: T | V19: 1 | AW19: 5A3A1567CC9E6F4060608AC901343C5AA0353D05963586332083E384093D7F534704
A20: 공구손료 | B20: 인력품의 3% | C20: 식 | D20: 1 | E20: =TRUNC(SUMIF(V14:V20, RIGHTB(O20, 1), H14:H20)*U20, 2) -> 447.29 | F20: =TRUNC(E20*D20,1) -> 447.2 | G20: 0 | H20: =TRUNC(G20*D20,1) -> 0 | I20: 0 | J20: =TRUNC(I20*D20,1) -> 0 | K20: =TRUNC(E20+G20+I20,1) -> 447.2 | L20: =TRUNC(F20+H20+J20,1) -> 447.2 | N20: 5A3A1567CC9E6F4060608AC901343C | O20: 5B65457D929AE2EE229085685E63001 | P20: F | Q20: F | R20: F | S20: 1 | T20: 0 | U20: 0.03 | AW20: 5A3A1567CC9E6F4060608AC901343C5B65457D929AE2EE229085685E63001
A21: [ 합 계 ] | F21: =TRUNC(SUMIF(N14:N20, N13, F14:F20),0) -> 2693 | H21: =TRUNC(SUMIF(N14:N20, N13, H14:H20),0) -> 14909 | J21: =TRUNC(SUMIF(N14:N20, N13, J14:J20),0) -> 0 | L21: =F21+H21+J21 -> 17602 | N21: TOTAL | O21: TOTAL
A23: 0.6/1kV가교폴리에틸렌(F-CV) 4C 35㎟ M 전기 5-11 ( 호표 3 ) | N23: 5A3A1567CE9945B39290837ADDBA37
A24: 0.6/1kV가교폴리에틸렌(F-CV) | B24: 4C 35㎟ | C24: M | D24: 1 | E24: =단가대비표!O10 -> 25670 | F24: =TRUNC(E24*D24,1) -> 25670 | G24: =단가대비표!P10 -> 0 | H24: =TRUNC(G24*D24,1) -> 0 | I24: =단가대비표!V10 -> 0 | J24: =TRUNC(I24*D24,1) -> 0 | K24: =TRUNC(E24+G24+I24,1) -> 25670 | L24: =TRUNC(F24+H24+J24,1) -> 25670 | N24: 5A3A1567CE9945B39290837ADDBA37 | O24: 5D439592B996C7FA2BA08FA9A5E93DF4AB29D7 | P24: F | Q24: F | R24: T | V24: 1 | AW24: 5A3A1567CE9945B39290837ADDBA375D439592B996C7FA2BA08FA9A5E93DF4AB29D7
A25: 0.6/1kV가교폴리에틸렌(F-CV) | B25: 4C 35㎟ | C25: M | D25: 0.05 | E25: =단가대비표!O10 -> 25670 | F25: =TRUNC(E25*D25,1) -> 1283.5 | G25: =단가대비표!P10 -> 0 | H25: =TRUNC(G25*D25,1) -> 0 | I25: =단가대비표!V10 -> 0 | J25: =TRUNC(I25*D25,1) -> 0 | K25: =TRUNC(E25+G25+I25,1) -> 25670 | L25: =TRUNC(F25+H25+J25,1) -> 1283.5 | N25: 5A3A1567CE9945B39290837ADDBA37 | O25: 5D439592B996C7FA2BA08FA9A5E93DF4AB29D7 | P25: F | Q25: F | R25: T | AW25: 5A3A1567CE9945B39290837ADDBA375D439592B996C7FA2BA08FA9A5E93DF4AB29D7
A26: 잡재료비 | B26: 배관배선의 2% | C26: 식 | D26: 1 | E26: =TRUNC(SUMIF(V24:V28, RIGHTB(O26, 1), F24:F28)*U26, 2) -> 513.4 | F26: =TRUNC(E26*D26,1) -> 513.4 | G26: 0 | H26: =TRUNC(G26*D26,1) -> 0 | I26: 0 | J26: =TRUNC(I26*D26,1) -> 0 | K26: =TRUNC(E26+G26+I26,1) -> 513.4 | L26: =TRUNC(F26+H26+J26,1) -> 513.4 | N26: 5A3A1567CE9945B39290837ADDBA37 | O26: 5B65457D929AE2EE229085685E63001 | P26: F | Q26: F | R26: F | S26: 0 | T26: 0 | U26: 0.02 | AW26: 5A3A1567CE9945B39290837ADDBA375B65457D929AE2EE229085685E63001
A27: 저압케이블전공 | B27: 일반공사 직종 | C27: 인 | D27: 0.0936 | E27: =단가대비표!O48 -> 0 | F27: =TRUNC(E27*D27,1) -> 0 | G27: =단가대비표!P48 -> 306274 | H27: =TRUNC(G27*D27,1) -> 28667.2 | I27: =단가대비표!V48 -> 0 | J27: =TRUNC(I27*D27,1) -> 0 | K27: =TRUNC(E27+G27+I27,1) -> 306274 | L27: =TRUNC(F27+H27+J27,1) -> 28667.2 | N27: 5A3A1567CE9945B39290837ADDBA37 | O27: 5AA0353D05963586332083E384093D7F534709 | P27: F | Q27: F | R27: T | W27: 2 | AW27: 5A3A1567CE9945B39290837ADDBA375AA0353D05963586332083E384093D7F534709
A28: 공구손료 | B28: 인력품의 3% | C28: 식 | D28: 1 | E28: =TRUNC(SUMIF(W24:W28, RIGHTB(O28, 1), H24:H28)*U28, 2) -> 860.01 | F28: =TRUNC(E28*D28,1) -> 860 | G28: 0 | H28: =TRUNC(G28*D28,1) -> 0 | I28: 0 | J28: =TRUNC(I28*D28,1) -> 0 | K28: =TRUNC(E28+G28+I28,1) -> 860 | L28: =TRUNC(F28+H28+J28,1) -> 860 | N28: 5A3A1567CE9945B39290837ADDBA37 | O28: 5B65457D929AE2EE229085685E53002 | P28: F | Q28: F | R28: F | S28: 1 | T28: 0 | U28: 0.03 | AW28: 5A3A1567CE9945B39290837ADDBA375B65457D929AE2EE229085685E53002
A29: [ 합 계 ] | F29: =TRUNC(SUMIF(N24:N28, N23, F24:F28),0) -> 28326 | H29: =TRUNC(SUMIF(N24:N28, N23, H24:H28),0) -> 28667 | J29: =TRUNC(SUMIF(N24:N28, N23, J24:J28),0) -> 0 | L29: =F29+H29+J29 -> 56993 | N29: TOTAL | O29: TOTAL
A31: 난연성 비닐절연 접지용전선 0.6/1kV F-GV 16㎟ M 전기 3-38 ( 호표 4 ) | N31: 5A3A1567CF9BA5808230847D577930
A32: 난연성 비닐절연 접지용전선 | B32: 0.6/1kV F-GV 16㎟ | C32: M | D32: 1 | E32: =단가대비표!O7 -> 2545 | F32: =TRUNC(E32*D32,1) -> 2545 | G32: =단가대비표!P7 -> 0 | H32: =TRUNC(G32*D32,1) -> 0 | I32: =단가대비표!V7 -> 0 | J32: =TRUNC(I32*D32,1) -> 0 | K32: =TRUNC(E32+G32+I32,1) -> 2545 | L32: =TRUNC(F32+H32+J32,1) -> 2545 | N32: 5A3A1567CF9BA5808230847D577930 | O32: 5D439592B996C7CE90E0897AE6DD3962BEF1A0 | P32: F | Q32: F | R32: T | V32: 1 | AW32: 5A3A1567CF9BA5808230847D5779305D439592B996C7CE90E0897AE6DD3962BEF1A0
A33: 난연성 비닐절연 접지용전선 | B33: 0.6/1kV F-GV 16㎟ | C33: M | D33: 0.1 | E33: =단가대비표!O7 -> 2545 | F33: =TRUNC(E33*D33,1) -> 254.5 | G33: =단가대비표!P7 -> 0 | H33: =TRUNC(G33*D33,1) -> 0 | I33: =단가대비표!V7 -> 0 | J33: =TRUNC(I33*D33,1) -> 0 | K33: =TRUNC(E33+G33+I33,1) -> 2545 | L33: =TRUNC(F33+H33+J33,1) -> 254.5 | N33: 5A3A1567CF9BA5808230847D577930 | O33: 5D439592B996C7CE90E0897AE6DD3962BEF1A0 | P33: F | Q33: F | R33: T | AW33: 5A3A1567CF9BA5808230847D5779305D439592B996C7CE90E0897AE6DD3962BEF1A0
A34: 잡재료비 | B34: 배관배선의 2% | C34: 식 | D34: 1 | E34: =TRUNC(SUMIF(V32:V36, RIGHTB(O34, 1), F32:F36)*U34, 2) -> 50.9 | F34: =TRUNC(E34*D34,1) -> 50.9 | G34: 0 | H34: =TRUNC(G34*D34,1) -> 0 | I34: 0 | J34: =TRUNC(I34*D34,1) -> 0 | K34: =TRUNC(E34+G34+I34,1) -> 50.9 | L34: =TRUNC(F34+H34+J34,1) -> 50.9 | N34: 5A3A1567CF9BA5808230847D577930 | O34: 5B65457D929AE2EE229085685E63001 | P34: F | Q34: F | R34: F | S34: 0 | T34: 0 | U34: 0.02 | AW34: 5A3A1567CF9BA5808230847D5779305B65457D929AE2EE229085685E63001
A35: 내선전공 | B35: 일반공사 직종 | C35: 인 | D35: 0.0105 | E35: =단가대비표!O47 -> 0 | F35: =TRUNC(E35*D35,1) -> 0 | G35: =단가대비표!P47 -> 276108 | H35: =TRUNC(G35*D35,1) -> 2899.1 | I35: =단가대비표!V47 -> 0 | J35: =TRUNC(I35*D35,1) -> 0 | K35: =TRUNC(E35+G35+I35,1) -> 276108 | L35: =TRUNC(F35+H35+J35,1) -> 2899.1 | N35: 5A3A1567CF9BA5808230847D577930 | O35: 5AA0353D05963586332083E384093D7F534704 | P35: F | Q35: F | R35: T | W35: 2 | AW35: 5A3A1567CF9BA5808230847D5779305AA0353D05963586332083E384093D7F534704
A36: 공구손료 | B36: 인력품의 3% | C36: 식 | D36: 1 | E36: =TRUNC(SUMIF(W32:W36, RIGHTB(O36, 1), H32:H36)*U36, 2) -> 86.97 | F36: =TRUNC(E36*D36,1) -> 86.9 | G36: 0 | H36: =TRUNC(G36*D36,1) -> 0 | I36: 0 | J36: =TRUNC(I36*D36,1) -> 0 | K36: =TRUNC(E36+G36+I36,1) -> 86.9 | L36: =TRUNC(F36+H36+J36,1) -> 86.9 | N36: 5A3A1567CF9BA5808230847D577930 | O36: 5B65457D929AE2EE229085685E53002 | P36: F | Q36: F | R36: F | S36: 1 | T36: 0 | U36: 0.03 | AW36: 5A3A1567CF9BA5808230847D5779305B65457D929AE2EE229085685E53002
A37: [ 합 계 ] | F37: =TRUNC(SUMIF(N32:N36, N31, F32:F36),0) -> 2937 | H37: =TRUNC(SUMIF(N32:N36, N31, H32:H36),0) -> 2899 | J37: =TRUNC(SUMIF(N32:N36, N31, J32:J36),0) -> 0 | L37: =F37+H37+J37 -> 5836 | N37: TOTAL | O37: TOTAL
A39: 분전반설치비 면 전기 5-4 ( 호표 5 ) | N39: 5A3AF5886A9FF02016908F66B7A63C
A40: 내선전공 | B40: 일반공사 직종 | C40: 인 | D40: 1.23 | E40: =단가대비표!O47 -> 0 | F40: =TRUNC(E40*D40,1) -> 0 | G40: =단가대비표!P47 -> 276108 | H40: =TRUNC(G40*D40,1) -> 339612.8 | I40: =단가대비표!V47 -> 0 | J40: =TRUNC(I40*D40,1) -> 0 | K40: =TRUNC(E40+G40+I40,1) -> 276108 | L40: =TRUNC(F40+H40+J40,1) -> 339612.8 | N40: 5A3AF5886A9FF02016908F66B7A63C | O40: 5AA0353D05963586332083E384093D7F534704 | P40: F | Q40: F | R40: T | V40: 1 | AW40: 5A3AF5886A9FF02016908F66B7A63C5AA0353D05963586332083E384093D7F534704
A41: 공구손료 | B41: 인력품의 3% | C41: 식 | D41: 1 | E41: =TRUNC(SUMIF(V40:V41, RIGHTB(O41, 1), H40:H41)*U41, 2) -> 10188.38 | F41: =TRUNC(E41*D41,1) -> 10188.3 | G41: 0 | H41: =TRUNC(G41*D41,1) -> 0 | I41: 0 | J41: =TRUNC(I41*D41,1) -> 0 | K41: =TRUNC(E41+G41+I41,1) -> 10188.3 | L41: =TRUNC(F41+H41+J41,1) -> 10188.3 | N41: 5A3AF5886A9FF02016908F66B7A63C | O41: 5B65457D929AE2EE229085685E63001 | P41: F | Q41: F | R41: F | S41: 1 | T41: 0 | U41: 0.03 | AW41: 5A3AF5886A9FF02016908F66B7A63C5B65457D929AE2EE229085685E63001
A42: [ 합 계 ] | F42: =TRUNC(SUMIF(N40:N41, N39, F40:F41),0) -> 10188 | H42: =TRUNC(SUMIF(N40:N41, N39, H40:H41),0) -> 339612 | J42: =TRUNC(SUMIF(N40:N41, N39, J40:J41),0) -> 0 | L42: =F42+H42+J42 -> 349800 | N42: TOTAL | O42: TOTAL
A44: 배선용 차단기 4P 100AF 대 전기 5-19 ( 호표 6 ) | N44: 5A3A1567C499006078208C470CD43E
A45: 배선용 차단기 | B45: 표준형, 4P 600V 100AF | C45: 대 | D45: 1 | E45: =단가대비표!O25 -> 129300 | F45: =TRUNC(E45*D45,1) -> 129300 | G45: =단가대비표!P25 -> 0 | H45: =TRUNC(G45*D45,1) -> 0 | I45: =단가대비표!V25 -> 0 | J45: =TRUNC(I45*D45,1) -> 0 | K45: =TRUNC(E45+G45+I45,1) -> 129300 | L45: =TRUNC(F45+H45+J45,1) -> 129300 | N45: 5A3A1567C499006078208C470CD43E | O45: 5D5CC5D48F9EDF6A774080EEB771349ACACCB4 | P45: F | Q45: F | R45: T | AW45: 5A3A1567C499006078208C470CD43E5D5CC5D48F9EDF6A774080EEB771349ACACCB4
...

Sheet 단가대비표
A1: 단 가 대 비 표
A2: [ 심학초 노후 냉난방기 개선 전기공사 ]
A3: 코 드 | B3: 품 명 | C3: 규격 | D3: 단위 | E3: 재 료 비 | P3: 노 무 비 | Q3: 경 비 | W3: 번 호 | X3: 비 고 | Y3: 품목구분 | Z3: 노임구분 | AA3: 소수점처리 | AB3: 자재구분
E4: 조달청가격 | F4: PAGE | G4: 거래가격 | H4: PAGE | I4: 유통물가 | J4: PAGE | K4: 조사가격1 | L4: PAGE | M4: 조사가격2 | N4: PAGE | O4: 적용단가 | Q4: 조달청가격 | R4: 거래가격 | S4: 유통물가 | T4: 조사가격1 | U4: 조사가격2 | V4: 적용단가
A5: 5D7F259B7597B7A497208AABDCFB35A8B879F2 | B5: 모래 | C5: 모래, 서울, 세척사, 도착도 | D5: M3 | E5: 0 | G5: 0 | I5: 37000 | J5: 61 | K5: 0 | M5: 0 | O5: =SMALL(E5:M5,COUNTIF(E5:M5,0)+1) -> 37000 | P5: 0 | Q5: 0 | R5: 0 | S5: 0 | T5: 0 | U5: 0 | V5: 0 | W5: 자재 1
A6: 5D439592B996C7CE90E0897AE6DD3962BEF1AE | B6: 난연성 비닐절연 접지용전선 | C6: 0.6/1kV F-GV 6㎟ | D6: M | E6: 1106 | G6: 1666 | H6: 994 | I6: 1681 | J6: 833 | K6: 0 | M6: 0 | O6: =SMALL(E6:M6,COUNTIF(E6:M6,0)+1) -> 1106 | P6: 0 | Q6: 0 | R6: 0 | S6: 0 | T6: 0 | U6: 0 | V6: 0 | W6: 자재 2
A7: 5D439592B996C7CE90E0897AE6DD3962BEF1A0 | B7: 난연성 비닐절연 접지용전선 | C7: 0.6/1kV F-GV 16㎟ | D7: M | E7: 2545 | G7: 3597 | H7: 994 | I7: 3864 | J7: 833 | K7: 0 | M7: 0 | O7: =SMALL(E7:M7,COUNTIF(E7:M7,0)+1) -> 2545 | P7: 0 | Q7: 0 | R7: 0 | S7: 0 | T7: 0 | U7: 0 | V7: 0 | W7: 자재 3
A8: 5D439592B996C7FA2BA08FA9A5E93DF4AB2DBD | B8: 0.6/1kV가교폴리에틸렌(F-CV) | C8: 2C 6㎟ | D8: M | E8: 2820 | G8: 3756 | H8: 993 | I8: 3639 | J8: 834 | K8: 0 | M8: 0 | O8: =SMALL(E8:M8,COUNTIF(E8:M8,0)+1) -> 2820 | P8: 0 | Q8: 0 | R8: 0 | S8: 0 | T8: 0 | U8: 0 | V8: 0 | W8: 자재 4
A9: 5D439592B996C7FA2BA08FA9A5E93DF4AB29DB | B9: 0.6/1kV가교폴리에틸렌(F-CV) | C9: 4C 6㎟ | D9: M | E9: 4878 | G9: 6533 | H9: 993 | I9: 6346 | J9: 834 | K9: 0 | M9: 0 | O9: =SMALL(E9:M9,COUNTIF(E9:M9,0)+1) -> 4878 | P9: 0 | Q9: 0 | R9: 0 | S9: 0 | T9: 0 | U9: 0 | V9: 0 | W9: 자재 5
A10: 5D439592B996C7FA2BA08FA9A5E93DF4AB29D7 | B10: 0.6/1kV가교폴리에틸렌(F-CV) | C10: 4C 35㎟ | D10: M | E10: 25670 | G10: 32848 | H10: 993 | I10: 34125 | J10: 834 | K10: 0 | M10: 0 | O10: =SMALL(E10:M10,COUNTIF(E10:M10,0)+1) -> 25670 | P10: 0 | Q10: 0 | R10: 0 | S10: 0 | T10: 0 | U10: 0 | V10: 0 | W10: 자재 6
A11: 5D439592B996C7FA2BA08FA98ABB3FD24933D4 | B11: 저독성폴리올레핀절연전선(HFIX) | C11: 2.5㎟ | D11: M | E11: 551 | G11: 601 | H11: 993 | I11: 878 | J11: 833 | K11: 0 | M11: 0 | O11: =SMALL(E11:M11,COUNTIF(E11:M11,0)+1) -> 551 | P11: 0 | Q11: 0 | R11: 0 | S11: 0 | T11: 0 | U11: 0 | V11: 0 | W11: 자재 7
A12: 5D5C55A7ED9794DD10C085FE1570312C0AAE73 | B12: 시멘트 | C12: 시멘트, 분공장도, -부가세 별도- | D12: kg | E12: 0 | G12: 154.54 | H12: 103 | I12: 163.63 | J12: 62 | K12: 0 | M12: 0 | O12: =SMALL(E12:M12,COUNTIF(E12:M12,0)+1) -> 154.54 | P12: 0 | Q12: 0 | R12: 0 | S12: 0 | T12: 0 | U12: 0 | V12: 0 | W12: 자재 8
A13: 5D5C459ECA9D055F45008F7D75C532F5BB59F6 | B13: 행어볼트 | C13: 행어볼트, ∮9*1000mm | D13: 개 | E13: 0 | G13: 1450 | H13: 673 | I13: 0 | K13: 0 | M13: 0 | O13: =SMALL(E13:M13,COUNTIF(E13:M13,0)+1) -> 1450 | P13: 0 | Q13: 0 | R13: 0 | S13: 0 | T13: 0 | U13: 0 | V13: 0 | W13: 자재 9
A14: 5D5C459ECA9D054D4FA089D95EFE33724DE2FE | B14: 육각너트 | C14: 육각너트, M10 | D14: 개 | E14: 0 | G14: 25.4 | H14: 97 | I14: 21.3 | J14: 56 | K14: 0 | M14: 0 | O14: =SMALL(E14:M14,COUNTIF(E14:M14,0)+1) -> 21.3 | P14: 0 | Q14: 0 | R14: 0 | S14: 0 | T14: 0 | U14: 0 | V14: 0 | W14: 자재 10
A15: 5D5C459ECA9D05B0769086426B7D3B508F1014 | B15: 스프링 와샤 | C15: 10mm | D15: EA | E15: 0 | G15: 11 | H15: 94 | I15: 9.3 | J15: 56 | K15: 0 | M15: 0 | O15: =SMALL(E15:M15,COUNTIF(E15:M15,0)+1) -> 9.3 | P15: 0 | Q15: 0 | R15: 0 | S15: 0 | T15: 0 | U15: 0 | V15: 0 | W15: 자재 11
A16: 5D5C459ECA9D326885408EBE034D3FCED5B08C | B16: 세트앵커 | C16: 세트앵커, M10*L75mm | D16: 개 | E16: 0 | G16: 180 | H16: 94 | I16: 160 | J16: 53 | K16: 0 | M16: 0 | O16: =SMALL(E16:M16,COUNTIF(E16:M16,0)+1) -> 160 | P16: 0 | Q16: 0 | R16: 0 | S16: 0 | T16: 0 | U16: 0 | V16: 0 | W16: 자재 12
A17: 5D5C459ECA9D326885408EBE034D3FCED5B345 | B17: 스트롱앵커 | C17: 스트롱앵커, M10, 9.5mm | D17: 개 | E17: 0 | G17: 143 | H17: 94 | I17: 0 | K17: 0 | M17: 0 | O17: =SMALL(E17:M17,COUNTIF(E17:M17,0)+1) -> 143 | P17: 0 | Q17: 0 | R17: 0 | S17: 0 | T17: 0 | U17: 0 | V17: 0 | W17: 자재 13
A18: 5D5CC5D48F9EDF3D1E608E86B29E3DD5220B4F | B18: 풀박스 | C18: 100x100x100 | D18: 개 | E18: 2864 | G18: 5800 | H18: 1028 | I18: 3520 | J18: 873 | K18: 0 | M18: 0 | O18: =SMALL(E18:M18,COUNTIF(E18:M18,0)+1) -> 2864 | P18: 0 | Q18: 0 | R18: 0 | S18: 0 | T18: 0 | U18: 0 | V18: 0 | W18: 자재 14
A19: 5D5CC5D48F9EDF3D1E608E86B29E3DD5220B4E | B19: 풀박스 | C19: 150x150x100 | D19: 개 | E19: 2856 | G19: 7510 | H19: 1028 | I19: 3360 | J19: 873 | K19: 0 | M19: 0 | O19: =SMALL(E19:M19,COUNTIF(E19:M19,0)+1) -> 2856 | P19: 0 | Q19: 0 | R19: 0 | S19: 0 | T19: 0 | U19: 0 | V19: 0 | W19: 자재 15
A20: 5D5CC5D48F9EDF3D1E30814CD7F3362E649E04 | B20: 스위치박스 | C20: 1개용 54 mm | D20: 개 | E20: 591 | G20: 650 | H20: 1028 | I20: 700 | J20: 873 | K20: 0 | M20: 0 | O20: =SMALL(E20:M20,COUNTIF(E20:M20,0)+1) -> 591 | P20: 0 | Q20: 0 | R20: 0 | S20: 0 | T20: 0 | U20: 0 | V20: 0 | W20: 자재 16
A21: 5D5CC5D48F9EDF3D1ED08180193E338AECACD2 | B21: 아우트렛박스 | C21: 중형4각 54㎜ | D21: 개 | E21: 0 | G21: 840 | H21: 1020 | I21: 0 | K21: 0 | M21: 0 | O21: =SMALL(E21:M21,COUNTIF(E21:M21,0)+1) -> 840 | P21: 0 | Q21: 0 | R21: 0 | S21: 0 | T21: 0 | U21: 0 | V21: 0 | W21: 자재 17
A22: 5D5CC5D48F9EDF3D1ED081BD531A3D45FB5AC0 | B22: 아우트렛박스 | C22: 커버, 4각, 평 | D22: 개 | E22: 0 | G22: 240 | H22: 1020 | I22: 0 | K22: 0 | M22: 0 | O22: =SMALL(E22:M22,COUNTIF(E22:M22,0)+1) -> 240 | P22: 0 | Q22: 0 | R22: 0 | S22: 0 | T22: 0 | U22: 0 | V22: 0 | W22: 자재 18
A23: 5D5CC5D48F9EDF4FB41083F113A23A867C6800 | B23: 러그단자 | C23: 동관단자 1 HOLE 35 ㎟ | D23: EA | E23: 0 | G23: 936 | H23: 1019 | I23: 923 | J23: 858 | K23: 0 | M23: 0 | O23: =SMALL(E23:M23,COUNTIF(E23:M23,0)+1) -> 923 | P23: 0 | Q23: 0 | R23: 0 | S23: 0 | T23: 0 | U23: 0 | V23: 0 | W23: 자재 19
A24: 5D5CC5D48F9EDF4FB41083C5C6A73962856E82 | B24: 압착단자 | C24: R형동선 나압착 16 ㎟ | D24: EA | E24: 126 | G24: 150 | H24: 1019 | I24: 0 | K24: 0 | M24: 0 | O24: =SMALL(E24:M24,COUNTIF(E24:M24,0)+1) -> 126 | P24: 0 | Q24: 0 | R24: 0 | S24: 0 | T24: 0 | U24: 0 | V24: 0 | W24: 자재 20
A25: 5D5CC5D48F9EDF6A774080EEB771349ACACCB4 | B25: 배선용 차단기 | C25: 표준형, 4P 600V 100AF | D25: 대 | E25: 0 | G25: 129300 | H25: 1069 | I25: 129300 | J25: 895 | K25: 0 | M25: 0 | O25: =SMALL(E25:M25,COUNTIF(E25:M25,0)+1) -> 129300 | P25: 0 | Q25: 0 | R25: 0 | S25: 0 | T25: 0 | U25: 0 | V25: 0 | W25: 자재 21
A26: 5D5CC5D48E9C78A6AE508E10C9A634EC5CF758 | B26: 케이블트레이 | C26: STRAIGHT,St W600x100Hx2.3t | D26: M | E26: 15650 | G26: 0 | I26: 31470 | J26: 869 | K26: 0 | M26: 0 | O26: =SMALL(E26:M26,COUNTIF(E26:M26,0)+1) -> 15650 | P26: 0 | Q26: 0 | R26: 0 | S26: 0 | T26: 0 | U26: 0 | V26: 0 | W26: 자재 22
A27: 5D5CC5D48E9C78A6AE508E10C9A634EC5CFB35 | B27: 케이블트레이 커버 | C27: STRAIGHT,St W600x100Hx2.3t | D27: M | E27: 0 | G27: 0 | I27: 48860 | J27: 869 | K27: 0 | M27: 0 | O27: =SMALL(E27:M27,COUNTIF(E27:M27,0)+1) -> 48860 | P27: 0 | Q27: 0 | R27: 0 | S27: 0 | T27: 0 | U27: 0 | V27: 0 | W27: 자재 23 | X27: ...
A28: 5D5CC5D48E9C78A6AE408DEF67B63D2DCDBAB1 | B28: 케이블트레이부속품 | C28: V. ELBOW, St, W600x100Hx2.3t | D28: 개 | E28: 24017 | G28: 0 | I28: 49200 | J28: 868 | K28: 0 | M28: 0 | O28: =SMALL(E28:M28,COUNTIF(E28:M28,0)+1) -> 24017 | P28: 0 | Q28: 0 | R28: 0 | S28: 0 | T28: 0 | U28: 0 | V28: 0 | W28: 자재 24
A29: 5D5CC5D48E9C78A6AE408DEF67B63D2DCDB42F | B29: 케이블트레이부속품 | C29: H. TEE, St, W600x100Hx2.3t | D29: 개 | E29: 38885 | G29: 0 | I29: 76880 | J29: 868 | K29: 0 | M29: 0 | O29: =SMALL(E29:M29,COUNTIF(E29:M29,0)+1) -> 38885 | P29: 0 | Q29: 0 | R29: 0 | S29: 0 | T29: 0 | U29: 0 | V29: 0 | W29: 자재 25
A30: 5D5CC5D48E9C78A6AE408DEF67B63D2DCC9700 | B30: 케이블트레이부속품 | C30: JOINT CONNECTOR,아연도150Hx2.6 | D30: 개 | E30: 1392 | G30: 0 | I30: 0 | K30: 0 | M30: 0 | O30: =SMALL(E30:M30,COUNTIF(E30:M30,0)+1) -> 1392 | P30: 0 | Q30: 0 | R30: 0 | S30: 0 | T30: 0 | U30: 0 | V30: 0 | W30: 자재 26
A31: 5D5CC5D48E9C78A6AE408DEF67B63D2DCC94B4 | B31: 케이블트레이부속품 | C31: SHANK BOLT & NUT, 아연도 | D31: 개 | E31: 77 | G31: 0 | I31: 0 | K31: 0 | M31: 0 | O31: =SMALL(E31:M31,COUNTIF(E31:M31,0)+1) -> 77 | P31: 0 | Q31: 0 | R31: 0 | S31: 0 | T31: 0 | U31: 0 | V31: 0 | W31: 자재 27
A32: 5D5CC5D48E9C78A6AE408DEF67B63D2DCC94B0 | B32: 케이블트레이부속품 | C32: BONDING JUMPER, 38㎟ | D32: 개 | E32: 3471 | G32: 0 | I32: 0 | K32: 0 | M32: 0 | O32: =SMALL(E32:M32,COUNTIF(E32:M32,0)+1) -> 3471 | P32: 0 | Q32: 0 | R32: 0 | S32: 0 | T32: 0 | U32: 0 | V32: 0 | W32: 자재 28
A33: 5D5CC5D48E9C78A6AE408DEF67B63D2DCC94BC | B33: 케이블트레이부속품 | C33: U CHANNEL, 41x41x2.6t | D33: 개 | E33: 6176 | G33: 0 | I33: 0 | K33: 0 | M33: 0 | O33: =SMALL(E33:M33,COUNTIF(E33:M33,0)+1) -> 6176 | P33: 0 | Q33: 0 | R33: 0 | S33: 0 | T33: 0 | U33: 0 | V33: 0 | W33: 자재 29
A34: 5D5CC5D48E9C78A6AE408DEF6731374A91D915 | B34: 케이블트레이부속품 | C34: RAIL CLAMP | D34: 개 | E34: 0 | G34: 0 | I34: 1800 | J34: 869 | K34: 0 | M34: 0 | O34: =SMALL(E34:M34,COUNTIF(E34:M34,0)+1) -> 1800 | P34: 0 | Q34: 0 | R34: 0 | S34: 0 | T34: 0 | U34: 0 | V34: 0 | W34: 자재 30
A35: 5D5CC5D48E9C78A6AE708908F0DC358BF35BD3 | B35: 강제전선관 | C35: 아연도 16 mm | D35: M | E35: 2380 | G35: 2800 | H35: 1029 | I35: 3408 | J35: 864 | K35: 0 | M35: 0 | O35: =SMALL(E35:M35,COUNTIF(E35:M35,0)+1) -> 2380 | P35: 0 | Q35: 0 | R35: 0 | S35: 0 | T35: 0 | U35: 0 | V35: 0 | W35: 자재 31
A36: 5D5CC5D48E9C78A6AE708908F0DC358BF35BD4 | B36: 강제전선관 | C36: 아연도 36 mm | D36: M | E36: 5134 | G36: 6040 | H36: 1029 | I36: 7379 | J36: 864 | K36: 0 | M36: 0 | O36: =SMALL(E36:M36,COUNTIF(E36:M36,0)+1) -> 5134 | P36: 0 | Q36: 0 | R36: 0 | S36: 0 | T36: 0 | U36: 0 | V36: 0 | W36: 자재 32
A37: 5D5CC5D48E9C78A6AE708908F0DC358BF35BD6 | B37: 강제전선관 | C37: 아연도 54 mm | D37: M | E37: 8998 | G37: 9760 | H37: 1029 | I37: 11918 | J37: 864 | K37: 0 | M37: 0 | O37: =SMALL(E37:M37,COUNTIF(E37:M37,0)+1) -> 8998 | P37: 0 | Q37: 0 | R37: 0 | S37: 0 | T37: 0 | U37: 0 | V37: 0 | W37: 자재 33
A38: 5D5CC5D48E9C78A6AE708908F0DC358AD2D112 | B38: 합성수지제 가요전선관 | C38: CD 난연성 16㎜ | D38: M | E38: 170 | G38: 325 | H38: 1025 | I38: 267 | J38: 860 | K38: 0 | M38: 0 | O38: =SMALL(E38:M38,COUNTIF(E38:M38,0)+1) -> 170 | P38: 0 | Q38: 0 | R38: 0 | S38: 0 | T38: 0 | U38: 0 | V38: 0 | W38: 자재 34
A39: 5D5CC5D48E9C78A6AE708934332A399F66A637 | B39: 1종금속제가요전선관 | C39: 1종금속제가요전선관, 16mm, 비방수 | D39: M | E39: 690 | G39: 1380 | H39: 1027 | I39: 0 | K39: 0 | M39: 0 | O39: =SMALL(E39:M39,COUNTIF(E39:M39,0)+1) -> 690 | P39: 0 | Q39: 0 | R39: 0 | S39: 0 | T39: 0 | U39: 0 | V39: 0 | W39: 자재 35
A40: 5D5CC5D48E9C78A6AE708934332A399F66A40D | B40: 1종금속제가요전선관 | C40: 박스커넥터, 16 mm 비방수 | D40: 개 | E40: 407 | G40: 1100 | H40: 1027 | I40: 0 | K40: 0 | M40: 0 | O40: =SMALL(E40:M40,COUNTIF(E40:M40,0)+1) -> 407 | P40: 0 | Q40: 0 | R40: 0 | S40: 0 | T40: 0 | U40: 0 | V40: 0 | W40: 자재 36
...

Sheet  공사설정 
A1: 이 Sheet는 수정하지 마십시요
A2: 공사구분 | B2: D | C2: 타이틀
A3: 확정내역 | B3: 원내역
A4: 자재단가적용 | B4: 5
A5: 경비단가적용 | B5: 5
A6: 품목코드형식 | B6: XXXX-XXXX-XXXXXXXXX
A7: 내역금액소수점처리 | B7: C | C7: 1
A8: 일위대가내역소수점처리 | B8: C | C8: 2
A9: 단가명 | B9: 조달청가격 | C9: 거래가격 | D9: 유통물가 | E9: 조사가격1 | F9: 조사가격2 | G9: TTTTT
A10: 환율 | B10: 1172 | C10: 0 | D10: 0
A11: 시간당작업량 | B11: R | C11: 4
A12: 1회 사이클시간 | B12: R | C12: 4
A13: 시간당 작업사이클 | B13: R | C13: 3
A14: 일반변수 | B14: C | C14: 5
A15: 시간당 노임산출 계수 | B15: A | C15: 1/8*16/12*25/20 | D15: 1/8*16/12*25/20 | E15: 1/8*16/12*25/20 | F15: 1/8*16/12*25/20
A16: 재료비 할증 계수 | B16: 1.11 | C16: 1.12
A17: 노무비 할증 계수 | B17: 1 | C17: 1.5 | D17: 1.16 | E17: 1.6 | F17: 1.6 | G17: 1.6 | H17: 1.94 | I17: 1.94 | J17: 1.94 | K17: 1 | L17: 1 | M17: 1
A18: 경비 할증 계수 | B18: 1.25 | C18: 1.071
A19: 내역,일위대가 품명,규격,단위 따로적용
A20: 내역단가 소수점처리 | B20: C | C20: 1
A21: 코드 | B21: 공종구분명 | C21: 원가비목코드
A22: 1 | B22: 작 업 부 산 물 | C22: A3
A23: 2 | B23: 운 반 비 | C23: C1
A24: 3 | B24: 관 급 자 재 비 | C24: DJ
A25: 4 | B25: 사 급 자 재 비 | C25: D3
A26: 5 | B26: 외 자 재
A27: 6 | B27: 폐기물처리비
A28: 7 | B28: ...
A29: 8 | B29: ...
A30: 9 | B30: ...
A31: A | B31: ....
A32: B | B32: .....
A33: C | B33: ....
A34: D | B34: ....
A35: E | B35: ....
A36: F | B36: ....
A37: G | B37: ....
A38: H | B38: ....
A39: I | B39: ....
A40: J | B40: ....
...

Sheet Sheet1
