Workbook

Sheet 원가계산서
B1: 공 사 원 가 계 산 서
B2: 공사명 : 새로운어린이공원 조성사업 전기공사
B3: 비 목 | E3: 금 액 | F3: 구 성 비 | G3: 비 고
A4: A1 | B4: 순 공 사 원 가 | C4: 재 료 비 | D4: 직 접 재 료 비 | E4: =TRUNC(공종별집계표!F5, 0) -> 0
A5: A2 | D5: 간 접 재 료 비 | E5: 0
A6: A3 | D6: 작업설, 부산물(△) | E6: 0
A7: AS | D7: [ 소 계 ] | E7: =TRUNC(E4+E5-E6, 0) -> 0
A8: B1 | C8: 노 무 비 | D8: 직 접 노 무 비 | E8: =TRUNC(공종별집계표!H5, 0) -> 0
A9: B2 | D9: 간 접 노 무 비 | E9: =TRUNC(E8*0.184, 0) -> 0 | F9: 직접노무비 * 18.4%
A10: BS | D10: [ 소 계 ] | E10: =TRUNC(E8+E9, 0) -> 0
A11: C2 | C11: 경 비 | D11: 경 비 | E11: =TRUNC(공종별집계표!J5, 0) -> 0
A12: C4 | D12: 산 재 보 험 료 | E12: =TRUNC(E10*0.0356, 0) -> 0 | F12: 노무비 * 3.56%
A13: C5 | D13: 고 용 보 험 료 | E13: =TRUNC(E10*0.0101, 0) -> 0 | F13: 노무비 * 1.01%
A14: C6 | D14: 국민 건강 보험료 | E14: =TRUNC(E8*0.03595, 0) -> 0 | F14: 직접노무비 * 3.595%
A15: C7 | D15: 국민 연금 보험료 | E15: =TRUNC(E8*0.0475, 0) -> 0 | F15: 직접노무비 * 4.75%
A16: CA | D16: 산업안전보건관리비 | E16: =TRUNC((E7+E8)*0.0207*1.2, 0) -> 0 | F16: (재료비+직노) * 2.07% * 1.2배
A17: CB | D17: 노인장기요양보험료 | E17: =TRUNC(E14*0.1314, 0) -> 0 | F17: 건강보험료 * 13.14%
A18: CD | D18: 석면분담금 | E18: =TRUNC(E10*0.00006, 0) -> 0 | F18: 노무비 * 0.006%
A19: CC | D19: 임금채권부담금 | E19: =TRUNC(E10*0.0009, 0) -> 0 | F19: 노무비 * 0.09%
A20: CG | D20: 기 타 경 비 | E20: =TRUNC((E7+E10)*0.049, 0) -> 0 | F20: (재료비+노무비) * 4.9%
A21: CS | D21: [ 소 계 ] | E21: =TRUNC(E11+E12+E13+E14+E15+E16+E17+E19+E18+E20, 0) -> 0
A22: S1 | B22: 계 | E22: =TRUNC(E7+E10+E21, 0) -> 0
A23: D1 | B23: 일 반 관 리 비 | E23: =TRUNC(E22*0.08, 0) -> 0 | F23: 계 * 8%
A24: D2 | B24: 이 윤 | E24: =TRUNC((E10+E21+E23)*0.15, 0) -> 0 | F24: (노무비+경비+일반관리비) * 15%
A25: D4 | B25: 폐 기 물 처 리 비 | E25: =TRUNC(공종별집계표!T9, 0) -> 0
A26: D5 | B26: 고 재 처 리 | E26: =-TRUNC(공종별집계표!T8, 0) -> 0
A27: D9 | B27: 공 급 가 액 | E27: =TRUNC(E22+E23+E24+E25+E26, 0) -> 0
A28: DA | B28: 전기공사 손해배상공제수수료 | E28: =IF(E27=0,0,TRUNC((E27+E31/1.1)*0.0026477, -2)) -> 0 | F28: (공급가액+도급자 관급자재비) * 0.26477% | G28: 백원미만 절사 | I28: =SUM(E27:E28) -> 0
A29: DB | B29: 부 가 가 치 세 | E29: =TRUNC((E27+E28)*0.1, 0) -> 0 | F29: (공급가액+전기공사 손해배상공제수수료) * 10%
A30: DH | B30: 도 급 액 | E30: =TRUNC(E27+E29+E28, 0) -> 0 | F30: 공급가액+전기공사 손해배상공제수수료+부가가치세
A31: DL | B31: 도급자 관급자재비
A32: S2 | B32: 총 공 사 비 | E32: =TRUNC(E30+0+E31, 0) -> 0

Sheet 공종별집계표
A1: 공 종 별 집 계 표
A2: [ 새로운어린이공원 조성사업 전기공사 ]
A3: 품 명 | B3: 규 격 | C3: 단위 | D3: 수량 | E3: 재 료 비 | G3: 노 무 비 | I3: 경 비 | K3: 합 계 | M3: 비 고 | N3: 공종코드 | O3: 변수 | P3: 상위공종 | Q3: 공종구분 | R3: 공종레벨 | S3: 공종소계 | T3: 원가계산서 연결금액
E4: 단 가 | F4: 금 액 | G4: 단 가 | H4: 금 액 | I4: 단 가 | J4: 금 액 | K4: 단 가 | L4: 금 액
A5: 새로운어린이공원 조성사업 전기공사 | D5: 1 | E5: =F6+F7 -> 0 | F5: =E5*D5 -> 0 | G5: =H6+H7 -> 0 | H5: =G5*D5 -> 0 | I5: =J6+J7 -> 0 | J5: =I5*D5 -> 0 | K5: =E5+G5+I5 -> 0 | L5: =F5+H5+J5 -> 0 | N5: 01 | R5: 1
A6: 1. 공원등 설치공사 | D6: 1 | E6: =공종별내역서!F27 -> 0 | F6: =E6*D6 -> 0 | G6: =공종별내역서!H27 -> 0 | H6: =G6*D6 -> 0 | I6: =공종별내역서!J27 -> 0 | J6: =I6*D6 -> 0 | K6: =E6+G6+I6 -> 0 | L6: =F6+H6+J6 -> 0 | N6: 0101 | P6: 01 | R6: 2
A7: 2. 공원등 철거공사 | D7: 1 | E7: =공종별내역서!F51 -> 0 | F7: =E7*D7 -> 0 | G7: =공종별내역서!H51 -> 0 | H7: =G7*D7 -> 0 | I7: =공종별내역서!J51 -> 0 | J7: =I7*D7 -> 0 | K7: =E7+G7+I7 -> 0 | L7: =F7+H7+J7 -> 0 | N7: 0102 | P7: 01 | R7: 2
A8: 3. 고재처리 | D8: 1 | E8: =공종별내역서!F75 -> 0 | F8: =E8*D8 -> 0 | G8: =공종별내역서!H75 -> 0 | H8: =G8*D8 -> 0 | I8: =공종별내역서!J75 -> 0 | J8: =I8*D8 -> 0 | K8: =E8+G8+I8 -> 0 | L8: =F8+H8+J8 -> 0 | N8: 0103 | Q8: 7 | R8: 2 | T8: =L8*1 -> 0
A9: 4. 폐기물처리 | D9: 1 | E9: =공종별내역서!F99 -> 0 | F9: =E9*D9 -> 0 | G9: =공종별내역서!H99 -> 0 | H9: =G9*D9 -> 0 | I9: =공종별내역서!J99 -> 0 | J9: =I9*D9 -> 0 | K9: =E9+G9+I9 -> 0 | L9: =F9+H9+J9 -> 0 | N9: 0104 | Q9: 6 | R9: 2 | T9: =L9*1 -> 0
A27: [ 합 계 ] | F27: =F5 -> 0 | H27: =H5 -> 0 | J27: =J5 -> 0 | L27: =L5 -> 0

Sheet 공종별내역서
A1: [ 새로운어린이공원 조성사업 전기공사 ]
A2: 품 명 | B2: 규 격 | C2: 단위 | D2: 수량 | E2: 재 료 비 | G2: 노 무 비 | I2: 경 비 | K2: 합 계 | M2: 비 고 | N2: 품목코드 | O2: 변수 | P2: 설정 | Q2: 공종코드 | R2: 일위 | S2: 단산 | T2: 자재 | U2: 손료적용 | V2: 손료저장 | W2: 적용율 | X2: JUK1 | Y2: JUK2 | Z2: JUK3 | AA2: JUK4 | AB2: JUK5 | AC2: JUK6 | AD2: JUK7 | AE2: JUK8 | AF2: JUK9 | AG2: JUK10 | AH2: JUK11 | AI2: JUK12 | AJ2: JUK13 | AK2: JUK14 | AL2: JUK15 | AM2: JUK16 | AN2: JUK17 | AO2: JUK18 | AP2: JUK19 | AQ2: JUK20 | AR2: 자재구분 | AS2: 공종구분 | AT2: 공종레벨 | AU2: 공종+자재 | AV2: 고유번호
E3: 단 가 | F3: 금 액 | G3: 단 가 | H3: 금 액 | I3: 단 가 | J3: 금 액 | K3: 단 가 | L3: 금 액
A4: 1. 공원등 설치공사 | Q4: 0101
A5: 공원등제어반 | B5: GPS무선, 4회로 [자재:관급] | C5: 면 | D5: 1 | F5: =TRUNC(E5*D5, 0) -> 0 | H5: =TRUNC(G5*D5, 0) -> 0 | J5: =TRUNC(I5*D5, 0) -> 0 | K5: =TRUNC(E5+G5+I5, 0) -> 0 | L5: =TRUNC(F5+H5+J5, 0) -> 0 | N5: 568C1117EA0AE74423590576804E68 | Q5: 0101 | R5: T | S5: F | T5: F | AU5: 0101568C1117EA0AE74423590576804E68 | AV5: 146
A6: 공원등주 | B6: 3.9m 1등용 [자재:관급] | C6: 본 | D6: 12 | F6: =TRUNC(E6*D6, 0) -> 0 | H6: =TRUNC(G6*D6, 0) -> 0 | J6: =TRUNC(I6*D6, 0) -> 0 | K6: =TRUNC(E6+G6+I6, 0) -> 0 | L6: =TRUNC(F6+H6+J6, 0) -> 0 | N6: 568C1117EA0AE74423590575FE7E63 | Q6: 0101 | R6: T | S6: F | T6: F | AU6: 0101568C1117EA0AE74423590575FE7E63 | AV6: 4
A7: 공원등기구 | B7: LED 60W, 확산형 [자재:관급] | C7: SET | D7: 12 | F7: =TRUNC(E7*D7, 0) -> 0 | H7: =TRUNC(G7*D7, 0) -> 0 | J7: =TRUNC(I7*D7, 0) -> 0 | K7: =TRUNC(E7+G7+I7, 0) -> 0 | L7: =TRUNC(F7+H7+J7, 0) -> 0 | N7: 568C1117EA0AE74423590574D1CC5C | Q7: 0101 | R7: T | S7: F | T7: F | AU7: 0101568C1117EA0AE74423590574D1CC5C | AV7: 119
A8: 스테인리스 공원등주 | B8: 8M 1등용 [자재:관급] | C8: 본 | D8: 1 | F8: =TRUNC(E8*D8, 0) -> 0 | H8: =TRUNC(G8*D8, 0) -> 0 | J8: =TRUNC(I8*D8, 0) -> 0 | K8: =TRUNC(E8+G8+I8, 0) -> 0 | L8: =TRUNC(F8+H8+J8, 0) -> 0 | N8: 568C1117EA083A4CE85DD0B0892386 | Q8: 0101 | R8: T | S8: F | T8: F | AU8: 0101568C1117EA083A4CE85DD0B0892386 | AV8: 151
A9: LED투광등기구 | B9: LED 100W [자재:관급] | C9: 조 | D9: 4 | F9: =TRUNC(E9*D9, 0) -> 0 | H9: =TRUNC(G9*D9, 0) -> 0 | J9: =TRUNC(I9*D9, 0) -> 0 | K9: =TRUNC(E9+G9+I9, 0) -> 0 | L9: =TRUNC(F9+H9+J9, 0) -> 0 | N9: 568C1117EA083A4CF956F003361A7A | Q9: 0101 | R9: T | S9: F | T9: F | AU9: 0101568C1117EA083A4CF956F003361A7A | AV9: 152
A10: 투광등주 점멸기함 | B10: ALL SUS, 옥외이중방수형 | C10: 면 | D10: 1 | F10: =TRUNC(E10*D10, 0) -> 0 | H10: =TRUNC(G10*D10, 0) -> 0 | J10: =TRUNC(I10*D10, 0) -> 0 | K10: =TRUNC(E10+G10+I10, 0) -> 0 | L10: =TRUNC(F10+H10+J10, 0) -> 0 | N10: 568C1117EA0AE74423590576842938 | Q10: 0101 | R10: T | S10: F | T10: F | AU10: 0101568C1117EA0AE74423590576842938 | AV10: 157
A11: 방수형 누전차단기함 | B11: ELB내장, 상시/격등용 | C11: EA | D11: 12 | F11: =TRUNC(E11*D11, 0) -> 0 | H11: =TRUNC(G11*D11, 0) -> 0 | J11: =TRUNC(I11*D11, 0) -> 0 | K11: =TRUNC(E11+G11+I11, 0) -> 0 | L11: =TRUNC(F11+H11+J11, 0) -> 0 | N11: 568C1117EA0AE74423590572255F45 | Q11: 0101 | R11: T | S11: F | T11: F | AU11: 0101568C1117EA0AE74423590572255F45 | AV11: 6
A12: 기초 | B12: 500*800*1200, 기초앙카 6구 | C12: 개소 | D12: 1 | F12: =TRUNC(E12*D12, 0) -> 0 | H12: =TRUNC(G12*D12, 0) -> 0 | J12: =TRUNC(I12*D12, 0) -> 0 | K12: =TRUNC(E12+G12+I12, 0) -> 0 | L12: =TRUNC(F12+H12+J12, 0) -> 0 | N12: 568C1117EA0AE74423590573CDAE63 | Q12: 0101 | R12: T | S12: F | T12: F | AU12: 0101568C1117EA0AE74423590573CDAE63 | AV12: 155
A13: 기초 | B13: 400*800*1000 | C13: 개소 | D13: 2 | F13: =TRUNC(E13*D13, 0) -> 0 | H13: =TRUNC(G13*D13, 0) -> 0 | J13: =TRUNC(I13*D13, 0) -> 0 | K13: =TRUNC(E13+G13+I13, 0) -> 0 | L13: =TRUNC(F13+H13+J13, 0) -> 0 | N13: 568C1117EA0AE74423590573CC8860 | Q13: 0101 | R13: T | S13: F | T13: F | AU13: 0101568C1117EA0AE74423590573CC8860 | AV13: 147
A14: 기초 | B14: 400*600*600 | C14: 개소 | D14: 12 | F14: =TRUNC(E14*D14, 0) -> 0 | H14: =TRUNC(G14*D14, 0) -> 0 | J14: =TRUNC(I14*D14, 0) -> 0 | K14: =TRUNC(E14+G14+I14, 0) -> 0 | L14: =TRUNC(F14+H14+J14, 0) -> 0 | N14: 568C1117EA0AE74423590573CF5CDF | Q14: 0101 | R14: T | S14: F | T14: F | AU14: 0101568C1117EA0AE74423590573CF5CDF | AV14: 9
A15: 개별접지 | B15: 16Φ*1800-5본 | C15: 개소 | D15: 2 | F15: =TRUNC(E15*D15, 0) -> 0 | H15: =TRUNC(G15*D15, 0) -> 0 | J15: =TRUNC(I15*D15, 0) -> 0 | K15: =TRUNC(E15+G15+I15, 0) -> 0 | L15: =TRUNC(F15+H15+J15, 0) -> 0 | N15: 568C1117EA0AE744235905711E6D8E | Q15: 0101 | R15: T | S15: F | T15: F | AU15: 0101568C1117EA0AE744235905711E6D8E | AV15: 115
A16: 접지봉 | B16: 14Φ*1000 mm | C16: 개 | D16: 13 | F16: =TRUNC(E16*D16, 0) -> 0 | H16: =TRUNC(G16*D16, 0) -> 0 | J16: =TRUNC(I16*D16, 0) -> 0 | K16: =TRUNC(E16+G16+I16, 0) -> 0 | L16: =TRUNC(F16+H16+J16, 0) -> 0 | N16: 568C1117EA0AE744235905711F74E0 | Q16: 0101 | R16: T | S16: F | T16: F | AU16: 0101568C1117EA0AE744235905711F74E0 | AV16: 12
... A26: 되메우기/토사, 두께 15cm | B26: 보통, 굴삭기 0.2m3+래머 80kg | C26: M3 | D26: 76.2 | F26: =TRUNC(E26*D26, 0) -> 0 | H26: =TRUNC(G26*D26, 0) -> 0 | J26: =TRUNC(I26*D26, 0) -> 0 | K26: =TRUNC(E26+G26+I26, 0) -> 0 | L26: =TRUNC(F26+H26+J26, 0) -> 0 | N26: 56EA8117E68C184AF057799FE21907 | Q26: 0101 | R26: F | S26: T | T26: F | AU26: 010156EA8117E68C184AF057799FE21907 | AV26: 124
A27: [ 합 계 ] | F27: =SUMIF(Q5:Q26,"0101",F5:F26) -> 0 | H27: =SUMIF(Q5:Q26,"0101",H5:H26) -> 0 | J27: =SUMIF(Q5:Q26,"0101",J5:J26) -> 0 | L27: =SUMIF(Q5:Q26,"0101",L5:L26) -> 0 | N27: TOTAL
A28: 2. 공원등 철거공사 | Q28: 0102
A29: 공원등제어반 철거 | B29: 4회로 이하 | C29: 면 | D29: 1 | F29: =TRUNC(E29*D29, 0) -> 0 | H29: =TRUNC(G29*D29, 0) -> 0 | J29: =TRUNC(I29*D29, 0) -> 0 | K29: =TRUNC(E29+G29+I29, 0) -> 0 | L29: =TRUNC(F29+H29+J29, 0) -> 0 | N29: 568C1117EA0AE74423587F4A84DC95 | Q29: 0102 | R29: T | S29: F | T29: F | AU29: 0102568C1117EA0AE74423587F4A84DC95 | AV29: 145
A30: 공원등주 철거 | B30: 4m 이하 | C30: 본 | D30: 6 | F30: =TRUNC(E30*D30, 0) -> 0 | H30: =TRUNC(G30*D30, 0) -> 0 | J30: =TRUNC(I30*D30, 0) -> 0 | K30: =TRUNC(E30+G30+I30, 0) -> 0 | L30: =TRUNC(F30+H30+J30, 0) -> 0 | N30: 568C1117EA0AE74423587F4A879163 | Q30: 0102 | R30: T | S30: F | T30: F | AU30: 0102568C1117EA0AE74423587F4A879163 | AV30: 51
A31: 공원등기구 철거 | C31: 조 | D31: 6 | F31: =TRUNC(E31*D31, 0) -> 0 | H31: =TRUNC(G31*D31, 0) -> 0 | J31: =TRUNC(I31*D31, 0) -> 0 | K31: =TRUNC(E31+G31+I31, 0) -> 0 | L31: =TRUNC(F31+H31+J31, 0) -> 0 | N31: 568C1117EA0AE74423587F4A868A71 | Q31: 0102 | R31: T | S31: F | T31: F | AU31: 0102568C1117EA0AE74423587F4A868A71 | AV31: 52
A32: 기초 철거 | B32: 무근기초 | C32: 개소 | D32: 7 | F32: =TRUNC(E32*D32, 0) -> 0 | H32: =TRUNC(G32*D32, 0) -> 0 | J32: =TRUNC(I32*D32, 0) -> 0 | K32: =TRUNC(E32+G32+I32, 0) -> 0 | L32: =TRUNC(F32+H32+J32, 0) -> 0 | N32: 568C1117EA0AE74423590573C9335B | Q32: 0102 | R32: T | S32: F | T32: F | AU32: 0102568C1117EA0AE74423590573C9335B | AV32: 56
A33: 구조물 헐기(무근 30cm이상) | B33: 굴착기 0.4m3+대형브레커 | C33: M3 | D33: 0.7 | F33: =TRUNC(E33*D33, 0) -> 0 | H33: =TRUNC(G33*D33, 0) -> 0 | J33: =TRUNC(I33*D33, 0) -> 0 | K33: =TRUNC(E33+G33+I33, 0) -> 0 | L33: =TRUNC(F33+H33+J33, 0) -> 0 | N33: 56EA8117ED3D79416257EB5731D361 | Q33: 0102 | R33: F | S33: T | T33: F | AU33: 010256EA8117ED3D79416257EB5731D361 | AV33: 150
Q34: 0102
Q35: 0102
Q36: 0102
Q37: 0102
Q38: 0102
Q39: 0102
Q40: 0102
Q41: 0102
Q42: 0102
Q43: 0102
Q44: 0102
Q45: 0102
... Q50: 0102
A51: [ 합 계 ] | F51: =SUMIF(Q29:Q50,"0102",F29:F50) -> 0 | H51: =SUMIF(Q29:Q50,"0102",H29:H50) -> 0 | J51: =SUMIF(Q29:Q50,"0102",J29:J50) -> 0 | L51: =SUMIF(Q29:Q50,"0102",L29:L50) -> 0 | N51: TOTAL
A52: 3. 고재처리 | Q52: 0103
A53: 고재처리 | B53: 고철 | C53: kg | D53: 360 | F53: =TRUNC(E53*D53, 0) -> 0 | H53: =TRUNC(G53*D53, 0) -> 0 | J53: =TRUNC(I53*D53, 0) -> 0 | K53: =TRUNC(E53+G53+I53, 0) -> 0 | L53: =TRUNC(F53+H53+J53, 0) -> 0 | N53: 5774D1174F95CB405C55DE14693589CCF7F719 | Q53: 0103 | R53: F | S53: F | T53: T | AU53: 01035774D1174F95CB405C55DE14693589CCF7F719 | AV53: 62
A54: 고재처리 | B54: 스테인레스 | C54: kg | D54: 30 | F54: =TRUNC(E54*D54, 0) -> 0 | H54: =TRUNC(G54*D54, 0) -> 0 | J54: =TRUNC(I54*D54, 0) -> 0 | K54: =TRUNC(E54+G54+I54, 0) -> 0 | L54: =TRUNC(F54+H54+J54, 0) -> 0 | N54: 5774D1174F95CB405C55DE14693589CCF7F718 | Q54: 0103 | R54: F | S54: F | T54: T | AU54: 01035774D1174F95CB405C55DE14693589CCF7F718 | AV54: 61
Q55: 0103
Q56: 0103
Q57: 0103
Q58: 0103
Q59: 0103
Q60: 0103
Q61: 0103
Q62: 0103
Q63: 0103
Q64: 0103
Q65: 0103
Q66: 0103
... Q74: 0103
A75: [ 합 계 ] | F75: =SUMIF(Q53:Q74,"0103",F53:F74) -> 0 | H75: =SUMIF(Q53:Q74,"0103",H53:H74) -> 0 | J75: =SUMIF(Q53:Q74,"0103",J53:J74) -> 0 | L75: =SUMIF(Q53:Q74,"0103",L53:L74) -> 0 | N75: TOTAL
A76: 4. 폐기물처리 | Q76: 0104
A77: 폐콘크리트 | B77: 이물질이 없는 순수한 폐콘크리트 | C77: TON | D77: 1.6 | F77: =TRUNC(E77*D77, 0) -> 0 | H77: =TRUNC(G77*D77, 0) -> 0 | J77: =TRUNC(I77*D77, 0) -> 0 | K77: =TRUNC(E77+G77+I77, 0) -> 0 | L77: =TRUNC(F77+H77+J77, 0) -> 0 | N77: 568B4117C0B06744EA517593CBB2C50CA8337F | Q77: 0104 | R77: F | S77: F | T77: T | AU77: 0104568B4117C0B06744EA517593CBB2C50CA8337F | AV77: 148
A78: 건설폐재류 상차비 및 운반비 | B78: 4.5톤 덤프트럭, 30km | C78: TON | D78: 1.6 | F78: =TRUNC(E78*D78, 0) -> 0 | H78: =TRUNC(G78*D78, 0) -> 0 | J78: =TRUNC(I78*D78, 0) -> 0 | K78: =TRUNC(E78+G78+I78, 0) -> 0 | L78: =TRUNC(F78+H78+J78, 0) -> 0 | N78: 568B4117C0B06744EA517593CBB3EA689F1DB4 | Q78: 0104 | R78: F | S78: F | T78: T | AU78: 0104568B4117C0B06744EA517593CBB3EA689F1DB4 | AV78: 149
Q79: 0104
Q80: 0104
Q81: 0104
Q82: 0104
Q83: 0104
Q84: 0104
Q85: 0104
Q86: 0104
Q87: 0104
Q88: 0104
Q89: 0104
Q90: 0104
... Q98: 0104
A99: [ 합 계 ] | F99: =SUMIF(Q77:Q98,"0104",F77:F98) -> 0 | H99: =SUMIF(Q77:Q98,"0104",H77:H98) -> 0 | J99: =SUMIF(Q77:Q98,"0104",J77:J98) -> 0 | L99: =SUMIF(Q77:Q98,"0104",L77:L98) -> 0 | N99: TOTAL

Sheet 공량설정_일위대가
A1: 일위대가 | B1: 적용율(%) | C1: 소수점이하자릿수 | D1: 일위대가 코드
A2: 공원등제어반 GPS무선, 4회로 [자재:관급] (호표 1) | B2: 100 | D2: 568C1117EA0AE74423590576804E68
A3: 내선전공 | C3: 2 | D3: 568C1117EA0AE74423590576804E6856104117CBA4A343655297B4D7D0ECA7727CD7
A4: 공원등주 3.9m 1등용 [자재:관급] (호표 2) | B4: 100 | D4: 568C1117EA0AE74423590575FE7E63
A5: 내선전공 | C5: 2 | D5: 568C1117EA0AE74423590575FE7E6356104117CBA4A343655297B4D7D0ECA7727CD7
A6: 공원등기구 LED 60W, 확산형 [자재:관급] (호표 3) | B6: 100 | D6: 568C1117EA0AE74423590574D1CC5C
A7: 내선전공 | C7: 3 | D7: 568C1117EA0AE74423590574D1CC5C56104117CBA4A343655297B4D7D0ECA7727CD7
A8: 스테인리스 공원등주 8M 1등용 [자재:관급] (호표 4) | B8: 100 | D8: 568C1117EA083A4CE85DD0B0892386
A9: 내선전공 | C9: 2 | D9: 568C1117EA083A4CE85DD0B089238656104117CBA4A343655297B4D7D0ECA7727CD7
A10: LED투광등기구 LED 100W [자재:관급] (호표 5) | B10: 100 | D10: 568C1117EA083A4CF956F003361A7A
A11: 내선전공 | C11: 3 | D11: 568C1117EA083A4CF956F003361A7A56104117CBA4A343655297B4D7D0ECA7727CD7
A12: 투광등주 점멸기함 ALL SUS, 옥외이중방수형 (호표 6) | B12: 100 | D12: 568C1117EA0AE74423590576842938
A13: 내선전공 | C13: 3 | D13: 568C1117EA0AE7442359057684293856104117CBA4A343655297B4D7D0ECA7727CD7
A14: 방수형 누전차단기함 ELB내장, 상시/격등용 (호표 7) | B14: 100 | D14: 568C1117EA0AE74423590572255F45
A15: 내선전공 | C15: 3 | D15: 568C1117EA0AE74423590572255F4556104117CBA4A343655297B4D7D0ECA7727CD7
A16: 기초 500*800*1200, 기초앙카 6구 (호표 8) | B16: 100 | D16: 568C1117EA0AE74423590573CDAE63
A17: 보통인부 | C17: 2 | D17: 568C1117EA0AE74423590573CDAE6356104117CBA4A343655297B4D7D0ECA7727BC9
A18: 내선전공 | C18: 2 | D18: 568C1117EA0AE74423590573CDAE6356104117CBA4A343655297B4D7D0ECA7727CD7
A19: 기초 400*800*1000 (호표 9) | B19: 100 | D19: 568C1117EA0AE74423590573CC8860
A20: 보통인부 | C20: 2 | D20: 568C1117EA0AE74423590573CC886056104117CBA4A343655297B4D7D0ECA7727BC9
A21: 내선전공 | C21: 2 | D21: 568C1117EA0AE74423590573CC886056104117CBA4A343655297B4D7D0ECA7727CD7
A22: 기초 400*600*600 (호표 10) | B22: 100 | D22: 568C1117EA0AE74423590573CF5CDF
A23: 보통인부 | C23: 2 | D23: 568C1117EA0AE74423590573CF5CDF56104117CBA4A343655297B4D7D0ECA7727BC9
A24: 내선전공 | C24: 2 | D24: 568C1117EA0AE74423590573CF5CDF56104117CBA4A343655297B4D7D0ECA7727CD7
A25: 개별접지 16Φ*1800-5본 (호표 11) | B25: 100 | D25: 568C1117EA0AE744235905711E6D8E
A26: 보통인부 | C26: 1 | D26: 568C1117EA0AE744235905711E6D8E56104117CBA4A343655297B4D7D0ECA7727BC9
A27: 내선전공 | C27: 2 | D27: 568C1117EA0AE744235905711E6D8E56104117CBA4A343655297B4D7D0ECA7727CD7
A28: 접지봉 14Φ*1000 mm (호표 12) | B28: 100 | D28: 568C1117EA0AE744235905711F74E0
A29: 내선전공 | C29: 2 | D29: 568C1117EA0AE744235905711F74E056104117CBA4A343655297B4D7D0ECA7727CD7
A30: 보통인부 | C30: 2 | D30: 568C1117EA0AE744235905711F74E056104117CBA4A343655297B4D7D0ECA7727BC9
A31: 0.6/1kV 난연 전력 케이블(F-CV) 2C 2.5㎟ (호표 13) | B31: 100 | D31: 568C1117E9652B42ED5868B7115208
A32: 보통인부 | C32: 5 | D32: 568C1117E9652B42ED5868B711520856104117CBA4A343655297B4D7D0ECA7727BC9
A33: 저압케이블전공 | C33: 5 | D33: 568C1117E9652B42ED5868B711520856104117CBA4A343655297B4D7D0ECA7727CDA
A34: 0.6/1kV 난연 전력 케이블(F-CV) 2C 6㎟ (호표 14) | B34: 100 | D34: 568C1117E9652B42ED5868B711543B
A35: 보통인부 | C35: 4 | D35: 568C1117E9652B42ED5868B711543B56104117CBA4A343655297B4D7D0ECA7727BC9
A36: 저압케이블전공 | C36: 4 | D36: 568C1117E9652B42ED5868B711543B56104117CBA4A343655297B4D7D0ECA7727CDA
A37: 0.6/1kV 난연 전력 케이블(F-CV) 4C 6㎟ (호표 15) | B37: 100 | D37: 568C1117E9652B42ED586EDF8EBDC7
A38: 보통인부 | C38: 5 | D38: 568C1117E9652B42ED586EDF8EBDC756104117CBA4A343655297B4D7D0ECA7727BC9
A39: 저압케이블전공 | C39: 5 | D39: 568C1117E9652B42ED586EDF8EBDC756104117CBA4A343655297B4D7D0ECA7727CDA
A40: 난연 비닐 절연 접지용전선(F-GV) 0.6/1kV 16㎟ (호표 16) | B40: 100 | D40: 568C1117EA0AE7442359061C63CEC5
A41: 내선전공 | C41: 3 | D41: 568C1117EA0AE7442359061C63CEC556104117CBA4A343655297B4D7D0ECA7727CD7
A42: 난연 비닐 절연 접지용전선(F-GV) 0.6/1kV 6㎟ (호표 17) | B42: 100 | D42: 568C1117EA0AE7442359061C62279C
A43: 내선전공 | C43: 3 | D43: 568C1117EA0AE7442359061C62279C56104117CBA4A343655297B4D7D0ECA7727CD7
A44: Optic Cable S/M 4C (호표 18) | B44: 100 | D44: 568C1117EB10324D17570ED72AE90D
A45: 특별인부 | C45: 4 | D45: 568C1117EB10324D17570ED72AE90D56104117CBA4A343655297B4D7D0ECA7727BC8
A46: 광케이블설치사 | C46: 4 | D46: 568C1117EB10324D17570ED72AE90D56104117CBA4A343655294E079B763F4B908A1
A47: 폴리에틸렌 전선관 PE 36㎜ (호표 19) | B47: 100 | D47: 568C1117EA0AE744235907247F6381
A48: 보통인부 | C48: 4 | D48: 568C1117EA0AE744235907247F638156104117CBA4A343655297B4D7D0ECA7727BC9
A49: 내선전공 | C49: 4 | D49: 568C1117EA0AE744235907247F638156104117CBA4A343655297B4D7D0ECA7727CD7
A50: 경고테이프 포설 저압용 (호표 20) | B50: 100 | D50: 568C1117EA0AE74423590720812619
A51: 보통인부 | C51: 3 | D51: 568C1117EA0AE7442359072081261956104117CBA4A343655297B4D7D0ECA7727BC9
A52: 저압케이블전공 | C52: 4 | D52: 568C1117EA0AE7442359072081261956104117CBA4A343655297B4D7D0ECA7727CDA
A53: 공원등제어반 철거 4회로 이하 (호표 21) | B53: 100 | D53: 568C1117EA0AE74423587F4A84DC95
A54: 내선전공 | C54: 2 | D54: 568C1117EA0AE74423587F4A84DC9556104117CBA4A343655297B4D7D0ECA7727CD7
A55: 공원등주 철거 4m 이하 (호표 22) | B55: 100 | D55: 568C1117EA0AE74423587F4A879163
A56: 내선전공 | C56: 3 | D56: 568C1117EA0AE74423587F4A87916356104117CBA4A343655297B4D7D0ECA7727CD7
A57: 공원등기구 철거 (호표 23) | B57: 100 | D57: 568C1117EA0AE74423587F4A868A71
A58: 내선전공 | C58: 4 | D58: 568C1117EA0AE74423587F4A868A7156104117CBA4A343655297B4D7D0ECA7727CD7
A59: 기초 철거 무근기초 (호표 24) | B59: 100 | D59: 568C1117EA0AE74423590573C9335B
A60: 보통인부 | C60: 3 | D60: 568C1117EA0AE74423590573C9335B56104117CBA4A343655297B4D7D0ECA7727BC9
A61: 내선전공 | C61: 2 | D61: 568C1117EA0AE74423590573C9335B56104117CBA4A343655297B4D7D0ECA7727CD7
A62: 트럭탑재형크레인-전기 5톤 (호표 25) | B62: 100 | D62: 51DDA11705A46E480159486AF01E86FA655A5C17
A63: 화물차운전사 | C63: 0 | D63: 51DDA11705A46E480159486AF01E86FA655A5C1756104117CBA4A343655297B4D7D0ECA7727FAF
A64: 굴착기(무한궤도) 0.2㎥ (호표 26) | B64: 100 | D64: 51DDA11705A46C4D19569BC1D053252636506C88
A65: 건설기계운전사 | C65: 0 | D65: 51DDA11705A46C4D19569BC1D053252636506C8856104117CBA4A343655297B4D7D0ECA7727FAE
A66: 래머 80kg (호표 27) | B66: 100 | D66: 51DDA11705A46D4FC158F8B5AAB1C41F55FB5911
A67: 일반기계운전사 | C67: 0 | D67: 51DDA11705A46D4FC158F8B5AAB1C41F55FB591156104117CBA4A343655297B4D7D0ECA7727E80
A68: 대형 브레이커 0.4㎥용 (호표 28) | B68: 100 | D68: 51DDA11705A46C4D1955F457DF21760C4C13F5DF
A69: 굴착기(무한궤도) 0.4㎥ (호표 29) | B69: 100 | D69: 51DDA11705A46C4D19569BC1D055D2BAD769A199
A70: 건설기계운전사 | C70: 0 | D70: 51DDA11705A46C4D19569BC1D055D2BAD769A19956104117CBA4A343655297B4D7D0ECA7727FAE
A71: 대형 브레이커용 치즐 소모량 0.4㎥용, 구조물 헐기 (호표 30) | B71: 100 | D71: 51DDA11705A46C4D1955F57EE98BE5D21A501848

Sheet  공사설정 
A1: 이 Sheet는 수정하지 마십시요
A2: 공사구분 | B2: D | C2: 타이틀
A3: 확정내역 | B3: 원내역
A4: 자재단가적용 | B4: 5
A5: 경비단가적용 | B5: 5
A6: 품목코드형식 | B6: XXXX-XXXX-XXXXXXXXX
A7: 내역금액소수점처리 | B7: C | C7: 1
A8: 일위대가내역소수점처리 | B8: C | C8: 2
A9: 단가명 | B9: 조달청가격 | C9: 거래가격 | D9: 유통물가 | E9: 조사가격1 | F9: 조사가격2 | G9: TTTTT
A10: 환율 | B10: 1071.1 | C10: 0 | D10: 0
A11: 시간당작업량 | B11: R | C11: 4
A12: 1회 사이클시간 | B12: R | C12: 4
A13: 시간당 작업사이클 | B13: R | C13: 3
A14: 일반변수 | B14: C | C14: 5
A15: 시간당 노임산출 계수 | B15: A | C15: 1/8*16/12*25/20 | D15: 1/8*16/12*25/20 | E15: 1/8*16/12*25/20 | F15: 1
A16: 재료비 할증 계수 | B16: 1.11 | C16: 1.12
A17: 노무비 할증 계수 | B17: 1 | C17: 1.5 | D17: 1.16 | E17: 1.6 | F17: 1.6 | G17: 1.6 | H17: 1.94 | I17: 1.94 | J17: 1.94 | K17: 1 | L17: 1 | M17: 1
A18: 경비 할증 계수 | B18: 1.25 | C18: 1.071
A19: 내역,일위대가 품명,규격,단위 따로적용
A20: 내역단가 소수점처리 | B20: C | C20: 1
A21: 코드 | B21: 공종구분명 | C21: 원가비목코드
A22: 1 | B22: 작 업 부 산 물 | C22: A3
A23: 2 | B23: 운 반 비 | C23: C1
A24: 3 | B24: 관 급 자 재 비 | C24: DJ
A25: 4 | B25: 사 급 자 재 비 | C25: D3
A26: 5 | B26: 외 자 재
A27: 6 | B27: 폐 기 물 처 리 비 | C27: D4
A28: 7 | B28: 고 재 처 리 | C28: D5
A29: 8 | B29: ...
A30: 9 | B30: ...
A43: 단가 순서 | B43: 1234
