Workbook
Name d: #REF!
Name ddddd: #REF!
Name dddddddddddd: #REF!
Name U형측구: #REF!
Name 가나다: #REF!
Name 가나다라마바사: #REF!
Name 공사명: #REF!
Name 기경수정: #REF!
Name ㄹㄴ: #REF!
Name ㅁㄴㅇㄹㄹ호ㅓ: [1]단재적표!#REF!
Name ㅁㄹ: #REF!
Name ㅁㄹㄻㄻㄹ: #REF!
Name 면적: [1]단재적표!$B$1:$C$311
Name 비목1: #REF!
Name 비목2: #REF!
Name 비목3: #REF!
Name 비목4: #REF!
Name 산물대운반1구역: #REF!
Name 산물대운반2구역: #REF!
Name 수: [2]단재적표!$B$1:$C$311
Name ㅇㄴㄹㄴㅇㅎㄹㄴㅇㅎㄴㅇ: [1]단재적표!#REF!
Name 일위2: #REF!
Name 전석쌓기: #REF!
Name 참: #REF!
Name 출장지: INDIRECT("데이타!A4:a"&COUNTA(#REF!)+3)
Name 토공2: '[3]1'!$A$1:$O$51
Name 표준지: [4]단재적표!$B$1:$C$311
Name 한ㅇㅇㄹㅇ: [1]단재적표!$B$239:$AY$273
Name 호: #REF!
Name 호지별번호: #REF!
Name ㅓㄴㄹ: #REF!

Sheet 기초 자료
A1: 기초 자료
A3: □ 사업현황
A4: 사업명 | B4: 2026년 숲가꾸기사업 실시설계용역(봉평 2차) | D4: 사업년도 | E4: 2026년
A5: 작업종 | B5: 솎아베기(수익) | D5: 기번 | E5: 1
A6: 개소 | B6: 평창군 봉평면 덕거리 134임반 3소반 | D6: 사업면적 | E6: ='대상지 내역'!E5 -> 64.1 | F6: ha
A7: 수종 | B7: 낙엽송, 잣나무 등 | D7: 작성일 | E7: 46287
A8: 조사자 | B8: 강혜원 | D8: 도급자
A9: 작성자 | B9: 강혜원 | D9: 확인자 | E9: 이정환
A11: □ 인건비, 재료비 단가
A12: 구 분 | B12: 단가 | C12: 규격 | D12: 비 고
A13: 고급기술자 | B13: 301863 | C13: 원 | D13: 26년 엔지니어링 기술부문별 단가(기타)
A14: 중급기술자 | B14: 261545 | D14: 26년 엔지니어링 기술부문별 단가(기타)
A15: 초급기술자 | B15: 229278 | C15: 원 | D15: 26년 엔지니어링 기술부문별 단가(기타)
A16: 재료유인비 | B16: 30000 | C16: 5부/1건 | D16: 설계서 20,000/부, 설계도 10,000/부
A17: 페인트 | B17: 4772 | C17: 원/ℓ | D17: 물가정보
A18: 임업용테이프 | B18: 4000 | C18: Roll | D18: 유비통상 2026년 마킹테이프 견적서(세액 10% 제외)
A23: □ 원가계산 법정 요율 등
A24: 구 분 | B24: 적용기준 | C24: 요율 | D24: 단위 | E24: 비 고
A25: 제경비 | B25: 직접인건비 | C25: 110 | D25: % | E25: 숲가꾸기 설계,감리 및 사업시행 지침
A26: 기술료 | B26: (직접인건비 + 제경비) | C26: 20 | D26: % | E26: 숲가꾸기 설계,감리 및 사업시행 지침
A27: 1단계보험료 | B27: 직접인건비+직접경비+제경비+기술료 | C27: 0.816 | D27: % | E27: 엔지니어링 손해배상보험
A28: 2단계보험료 | B28: 직접인건비+직접경비+제경비+기술료 | C28: 0.16 | D28: % | E28: 엔지니어링 손해배상보험

Sheet 예정가격평정서
A1: 예 정 가 격 평 정 서
L2: 1월 | M2: 1일
A3: □ 사 업 명 : | C3: 2026년 숲가꾸기사업 실시설계 용역(봉평 2차) | L3: 2월 | M3: 3일
A4: □ 사 업 장 소 : | C4: 평창군 봉평면 덕거리 134임반 3소반 외 2개소 | L4: 3월 | M4: 4일
A5: □ 사업량(면적) : | C5: ='기초 자료'!E6 -> 64.1 | L5: 4월 | M5: 5일
A6: □ 사 업 기 간 : | C6: 착수일로부터 40일까지 | L6: 5월 | M6: 6일
A7: □ 예 산 과 목 : | C7: 1534-302-420-02 (숲가꾸기 실시설계비) | L7: 6월 | M7: 7일
A8: □ 계 약 방 법 : | C8: 수의계약 | L8: 7월 | M8: 8일
L9: 8월
L10: 9월 | M10: 9일
B11: 설계금액 | C11: =NUMBERSTRING(C12,1) -> 구백오십육만 | F11: 원정 | L11: 10월 | M11: 10일
B12: ( | C12: ='용역비 산출서(숲가꾸기)'!J40 -> 9560000 | F12: ) | L12: 11월 | M12: 11일
L13: 12월 | M13: 12일
B14: 평 정 액 | C14: =NUMBERSTRING(C15,1) -> 구백오십육만 | F14: 원정 | M14: 13일
C15: =ROUNDDOWN(C12,-4) -> 9560000 | M15: 14일
M16: 15일
M17: 16일
M18: 17일
C19: 위와 같이 평정함. | M19: 18일
M20: 19일
C21: 2026년 | D21: 9월 | M21: 20일
M22: 21일
C23: 평정관 : | D23: 평창국유림관리소장 | M23: 22일
D24: 과학기술서기관 이 명 규 | M24: 23일
M25: 24일
M26: 25일
M27: 26일
M28: 27일
M29: 28일
M30: 29일
M31: 30일
M32: 31일

Sheet 용역비 산출서(숲가꾸기)
A1: 용역비 산출
A3: 개 소 | C3: ='기초 자료'!B6 -> 평창군 봉평면 덕거리 134임반 3소반 | H3: 면적 | I3: ='대상지 내역'!E5 -> 64.1 | J3: ha
A4: 구분 | B4: 항목 | C4: 수량 (면적, 수량) | E4: 품 (인원, 수량, 요율) | G4: 단가 (금액) | I4: 할인 ∙ 할증 | J4: 금 액(원)
D5: 단위 | F5: 단위 | H5: 종류 | I5: 증률
A6: 직접인건비 | B6: 사전조사·확인 | C6: =I3 -> 64.1 | D6: =J3 -> ha | E6: 0.02 | F6: 인/ha | G6: ='기초 자료'!B13 -> 301863 | H6: 고급기술자 | I6: =E56 -> -5 | J6: =INT((C6*E6*G6)*(100+I6)%) -> 367638 | L6: 비수집 | M6: ='대상지 내역'!E5-'대상지 내역'!F5 -> 23.1
B7: 사전조사·확인(간벌) | C7: 0 | D7: ha | E7: =E6 -> 0.02 | F7: 인/ha | G7: =G6 -> 301863 | H7: 고급기술자 | I7: =E59 -> -5 | J7: =INT((C7*E7*G7)*(100+I7)%) -> 0
B8: 현황조사 및 구역확정 | C8: 0 | D8: ha | E8: 0.05 | F8: 인/ha | G8: =G6 -> 301863 | H8: 고급기술자 | I8: =I59 -> 0.05
B9: 표준지조사 | J9: =SUM(J10:J11) -> 0
B10: - 고급기술자 | D10: =J3 -> ha | F10: =F6 -> 인/ha | H10: =H6 -> 고급기술자 | I10: =G51 -> 0 | J10: =INT((C10*E10*G10)*(100+I10)%) -> 0
B11: - 초급기술자 | D11: =J3 -> ha | F11: =F6 -> 인/ha | H11: 초급기술자 | I11: =G51 -> 0 | J11: =INT((C11*E11*G11)*(100+I11)%) -> 0
B12: 표준지조사(어린) | J12: =SUM(J13:J14) -> 644140 | L12: 수집 | M12: ='대상지 내역'!F5 -> 41
B13: - 고급기술자 | C13: =M6 -> 23.1 | D13: =J3 -> ha | E13: 0.05 | F13: =F6 -> 인/ha | G13: =G6 -> 301863 | H13: =H6 -> 고급기술자 | I13: 5 | J13: =INT((C13*E13*G13)*(100+I13)%) -> 366084
B14: - 초급기술자 | C14: =M6 -> 23.1 | D14: =J3 -> ha | E14: 0.05 | F14: =F6 -> 인/ha | G14: ='기초 자료'!B15 -> 229278 | H14: 초급기술자 | I14: 5 | J14: =INT((C14*E14*G14)*(100+I14)%) -> 278056
B15: 표준지조사(산물수집) | J15: =SUM(J16:J17) -> 1252164
B16: - 고급기술자 | C16: =M12 -> 41 | D16: =J3 -> ha | E16: 0.05 | F16: =F6 -> 인/ha | G16: =G6 -> 301863 | H16: =H6 -> 고급기술자 | I16: 15 | J16: =INT((C16*E16*G16)*(100+I16)%) -> 711642
B17: - 초급기술자 | C17: =M12 -> 41 | D17: =J3 -> ha | E17: 0.05 | F17: =F6 -> 인/ha | G17: =G14 -> 229278 | H17: 초급기술자 | I17: 15 | J17: =INT((C17*E17*G17)*(100+I17)%) -> 540522
B18: 설계도서작성 | J18: =SUM(J19:J20) -> 1091233
B19: - 산물비수집 | C19: =M6 -> 23.1 | D19: =J3 -> ha | E19: 0.05 | F19: =F6 -> 인/ha | G19: =G6 -> 301863 | H19: =H6 -> 고급기술자 | I19: 0 | J19: =INT((C19*E19*G19)*(100+I19)%) -> 348651
B20: - 산물수집 | C20: =M12 -> 41 | D20: =J3 -> ha | E20: 0.05 | F20: =F6 -> 인/ha | G20: =G6 -> 301863 | H20: =H6 -> 고급기술자 | I20: =H59 -> 20 | J20: =INT((C20*E20*G20)*(100+I20)%) -> 742582
B21: 소 계 | J21: =SUM(J6+IF(J9>0, J9,0)+IF(J12+J15>0,J12+J15,0)+J18) -> 3355175
A22: 직접경비 | B22: 재료유인비 | C22: 1 | D22: 건 | E22: 5 | F22: 부/건 | G22: 30000 | H22: 재료유인비 | J22: =INT(C22*E22*G22) -> 150000
B23: 재 료 비 | J23: =SUM(J24:J31) -> 3333
B24: - 페인트 | C24: 0 | D24: =J3 -> ha | E24: 0.1 | F24: ℓ/ha | G24: ='기초 자료'!B17 -> 4772 | H24: 수성페인트 | J24: =INT(G24*E24*C24) -> 0
B25: - 잡품 | C25: =J24 -> 0 | D25: 원 | E25: 10 | F25: % | J25: =INT(C25*E25%) -> 0
J26: =INT(G26*E26*C26) -> 0
D27: 원 | F27: % | J27: =INT(C27*E27%) -> 0
J28: =INT(G28*E28*C28) -> 0
D29: 원 | F29: % | J29: =INT(C29*E29%) -> 0
J30: =INT(G30*E30*C30) -> 0
B31: - 임업용테이프 | C31: =I3 -> 64.1 | D31: ha | E31: 0.013 | F31: Roll/ha | G31: ='기초 자료'!B18 -> 4000 | H31: 백색테이프 | J31: =INT(G31*E31*C31) -> 3333
B32: 소 계 | J32: =SUM(J22+J23) -> 153333
A33: 제 경 비 | C33: ="직접인건비 x "&'기초 자료'!C25&"%" -> 직접인건비 x 110% | J33: =INT(J21*'기초 자료'!C25%) -> 3690692
A34: 기 술 료 | C34: ="(직접인건비 + 제경비) x "&'기초 자료'!C26&"%" -> (직접인건비 + 제경비) x 20% | J34: =INT((J21+J33)*'기초 자료'!C26%) -> 1409173
A35: 총 원 가 | C35: 직접인건비+직접경비+제경비+기술료 | J35: =SUM(J21,J32,J33,J34) -> 8608373
A36: 1단계보험료 | C36: 순원가(직접인건비+직접경비+제경비+기술료)*0.816% | J36: =INT(J35*0.816%) -> 70244
A37: 2단계보험료 | C37: 순원가(직접인건비+직접경비+제경비+기술료)*0.16% | J37: =INT(J35*0.16%) -> 13773
A38: 부 가 가 치 세 | C38: 총원가 x 10% | J38: =INT((J35+J36+J37)*10%) -> 869239
A39: 합 계 | J39: =SUM(J35:J38) -> 9561629
A40: 재 계 | C40: 만원단위 미만 절사 | J40: =ROUNDDOWN(J39,-4) -> 9560000
A41: 낙 찰 율 | C41: %
A42: 변 경 재 계 | C42: 천원단위 미만 절사 | J42: =ROUNDDOWN(J39*J41%,-3) -> 0
A43: ※ 엔지니어링 기술자 노임단가는 당해연도 건설 및 기타부문 적용
A45: ○ 할인·할증률 산정(어린)
A46: 구 분 | C46: 할인·할증요소 | E46: 단위작업 (%)
E47: 사전조사 | G47: 표준지조사 | H47: 설계도서작성 | I47: 사업대상지 현황 조사 및 구역확정
A48: o 조사계절 | C48: 1월~5월 | E48: 0 | G48: 0 | I48: 0
A49: o 산물수집 | C49: 산물활용 수집설계 | G49: 0 | H49: 0
A50: o 집단화정도 | C50: 평균면적이 10~30ha 미만 | I50: 0
A51: 계 | E51: =SUM(E48:F50) -> 0 | G51: =SUM(G48:G50) -> 0 | H51: =SUM(H48:H50) -> 0 | I51: =SUM(I48:J50) -> 0
A53: ○ 할인·할증률 산정(간벌)
A54: 구 분 | C54: 할인·할증요소 | E54: 단위작업 (%)
E55: 사전조사 | G55: 표준지조사 | H55: 설계도서작성 | I55: 어린나무 표준지
A56: o 조사계절 | C56: 10월~11월 | E56: -5 | G56: -5 | H56: 0 | I56: 0.05
A57: o 산물수집 | C57: 산물활용 수집설계 | E57: 0 | G57: 20 | H57: 20 | I57: 0
A58: o 집단화정도 | C58: 평균면적이 10~30ha 미만 | E58: 0 | G58: 0 | H58: 0 | I58: 0
A59: 계 | E59: =SUM(E56:F58) -> -5 | G59: =SUM(G56:G58) -> 15 | H59: =SUM(H56:H58) -> 20 | I59: =SUM(I56:J58) -> 0.05

Sheet 대상지 내역
B1: 2026년 숲가꾸기사업 실시설계용역(봉평 2차) 대상지 내역서
A3: 기번 | B3: 사업종 | C3: 개 소 | D3: 소반 면적 | E3: 계획 면적 | F3: 수집 면적 | G3: 임종 | H3: 임상 | I3: 주요 수종 | J3: 조림 년도 | K3: 산림기능 | M3: 경영 계획구 | N3: 경제림단지 | O3: 최근 사업 이력 | P3: 비고
K4: 주기능 | L4: 보조
B5: 합 계 | D5: =SUM(D6:D11) -> 225 | E5: =SUM(E6:E11) -> 64.1 | F5: =SUM(F6:F11) -> 41 | R5: 0.01 | S5: =E5*R5 -> 0.641 | T5: 0.04 | U5: =S5/T5 -> 16.025 | V5: 11
A6: 1 | B6: 솎아베기 | C6: 평창 봉평 덕거 134임반 3소반 | D6: 65 | E6: 18 | F6: 18 | G6: 인 | H6: 침 | I6: 잣나무, 낙엽송 | J6: 1971, 1975 | K6: 목재생산림 | M6: 봉평 | N6: 봉평 | O6: 2011 | P6: 편성 | R6: 0.01 | S6: =E6*R6 -> 0.18 | T6: 0.04 | U6: =S6/T6 -> 4.5 | V6: 4
A7: 2 | B7: 솎아베기 | C7: 평창 봉평 덕거 134임반 3소반 | D7: 65 | E7: 12.8 | F7: 12.8 | G7: 인 | H7: 침 | I7: 잣나무, 낙엽송 | J7: 1971, 1975 | K7: 목재생산림 | M7: 봉평 | N7: 봉평 | O7: 2011 | P7: 편성 | R7: 0.01 | S7: =E7*R7 -> 0.128 | T7: 0.04 | U7: =S7/T7 -> 3.2 | V7: 5
A8: 3 | B8: 솎아베기 | C8: 평창 봉평 덕거 134임반 3소반 | D8: 65 | E8: 10.2 | F8: 10.2 | G8: 인 | H8: 침 | I8: 잣나무, 낙엽송 | J8: 1971, 1975 | K8: 목재생산림 | M8: 봉평 | N8: 봉평 | O8: 2011 | P8: 편성 | R8: 0.01 | S8: =E8*R8 -> 0.102 | T8: 0.04 | U8: =S8/T8 -> 2.55 | V8: 3
A9: 4 | B9: 어린나무 | C9: 평창 봉평 흥정 87임반 3소반 | D9: 17 | E9: 14.3 | G9: 인 | H9: 침 | I9: 낙엽송 | J9: 2022 | K9: 목재생산림 | M9: 봉평 | N9: 봉평 | O9: 2024 | P9: 편성 | R9: 0.005 | S9: =E9*R9 -> 0.0715 | T9: 0.01 | U9: =S9/T9 -> 7.15 | V9: 8
A10: 5 | B10: 어린나무 | C10: 평창 봉평 덕거 132임반 1소반 | D10: 13 | E10: 8.8 | G10: 인 | H10: 활 | I10: 돌배,마가목,산겨릅,아까시 | J10: 2022 | K10: 목재생산림 | M10: 봉평 | N10: 봉평 | O10: 2024 | P10: 편성 | R10: 0.005 | S10: =E10*R10 -> 0.044 | T10: 0.01 | U10: =S10/T10 -> 4.4 | V10: 5
R13: 13.4
R14: 18.1
R15: 10.8

Sheet 엔지니어링손해배상공제
