Workbook
Name _1_3_0Crite: #REF!
Name _2_3_0Criteria: #REF!
Name _3_3__Crite: #REF!
Name _4_3__Criteria: #REF!
Name _5G_0Extr: #REF!
Name _6G_0Extract: #REF!
Name _7G__Extr: #REF!
Name _8G__Extract: #REF!
Name _LP1: '[1]부하(성남)'!#REF!
Name _LPB1: [2]부하계산서!#REF!
Name _LPK1: [2]부하계산서!#REF!
Name _LU1: '[1]부하(성남)'!#REF!
Name _LU2: '[1]부하(성남)'!#REF!
Name _LV01: '[1]부하(성남)'!#REF!
Name _UP1: [2]부하계산서!#REF!
Name _UP2: [2]부하계산서!#REF!
Name \f: #N/A
Name \h: #N/A
Name \r: #N/A
Name A: #REF!
Name BOM_OF_ECP: #REF!
Name CG: 설계서!CG
Name CG: [0]!CG
Name D: [3]대치판정!#REF!
Name DANGA: #REF!,#REF!
Name E: #REF!
Name ID: #REF!,#REF!
Name k: #REF!
Name KA: '[4]조도계산서 (도서)'!$B$61:$E$68
Name LLL: #REF!
Name LP1A: '[1]부하(성남)'!#REF!
Name LP1B: [2]부하계산서!#REF!
Name LP3A: '[1]부하(성남)'!#REF!
Name LPB: '[1]부하(성남)'!#REF!
Name LPBA: [2]부하계산서!#REF!
Name LPKA: [2]부하계산서!#REF!
Name LPKB: [2]부하계산서!#REF!
Name LPM: [2]부하계산서!#REF!
Name LPMA: [2]부하계산서!#REF!
Name LPO: [2]부하계산서!#REF!
Name LPOA: [2]부하계산서!#REF!
Name LV02A: [2]부하계산서!#REF!
Name LV02B: [2]부하계산서!#REF!
Name LV04A: [2]부하계산서!#REF!
Name LV04B: [2]부하계산서!#REF!
Name Macro10: [5]!Macro10
Name Macro12: [5]!Macro12
Name Macro13: [5]!Macro13
Name Macro14: [5]!Macro14
Name Macro2: [5]!Macro2
Name Macro5: [5]!Macro5
Name Macro6: [5]!Macro6
Name Macro7: [5]!Macro7
Name Macro8: [5]!Macro8
Name Macro9: [5]!Macro9
Name MCCEA: [2]부하계산서!#REF!
Name MCCEB: [2]부하계산서!#REF!
Name MCCF: [2]부하계산서!#REF!
Name MCCN: '[1]부하(성남)'!#REF!
Name MCCP: [2]부하계산서!#REF!

Sheet 원가계산서
A1: 원 가 계 산 서
A2: 구 분 | B2: 산 출 근 거 | C2: 금 액 | D2: 비 고
A4: 1. 순 공 사 비
A5: 2. 재 료 비
A6: 3. 직 접 노 무 비
A7: 4. 경 비
A8: 5. 간 접 노 무 비 | B8: [3] x 19.1%
A9: 6. 산 재 보 험 료 | B9: [3+5] x 3.56%
A10: 7. 고 용 보 험 료 | B10: [3+5] x 1.01%
A11: 8. 산업안전보건관리비 | B11: [2+3] x 3.15%
A12: 9. 환 경 보 전 비 | B12: [1] x 0.9%
A13: 10. 건설기계대여 지급보증 발급수수료 | B13: [2+3+4] x 0.68%
A14: 11. 임 금 채 권 부 담 금 | B14: [3+5] x 0.09%
A15: 12. 석 면 분 담 금 | B15: [3+5] x 0.006%
A16: 13. 기 타 경 비 | B16: [2+3+5] x 5.5%
A17: 14. 소 계 | B17: [1+5~13]
A18: 15. 일 반 관 리 비 | B18: [14] x 8.0%
A19: 16. 안 전 관 리 비
A20: 17. 계 | B20: [14+15+16]
A21: 18. 이 윤 | B21: [17-2] x 15.0%
A22: 19. 공 급 가 액 | B22: [17+18]
A23: 20. 부 가 가 치 세 | B23: [19] x 10%
A24: 21. 도 급 예 정 액 | B24: [19+20]
A25: 22. 총 사 업 비

Sheet 물량내역서
A1: 물량내역서
A2: 위치 | B2: 명칭 | C2: 품종 및 규격 | D2: 수량 | E2: 단위 | F2: 비고
A3: 1. 명지동 3378-6 (299.2㎡) | B3: 절토 | D3: 1 | E3: 일
B4: 잔토처리 | D4: =299.2*0.1 -> 29.92 | E4: ㎥
B5: 보조기층포설다짐 | D5: =D4 -> 29.92 | E5: ㎥ | F5: 골재 25mm/T=15cm
B6: 주차선 설치 | C6: Ø12로프 | D6: 124 | E6: m
B7: 경계석 설치 | C7: L : 750mm | D7: 6 | E7: m
B8: 식생 임목류 수거운반 및 처리 | D8: 0.5 | E8: ton
A9: 2. 신호동 245-12 (225.8㎡) | B9: 절토 | D9: 1 | E9: 일
B10: 잔토처리 | D10: =225.8*0.1 -> 22.58 | E10: ㎥
B11: 보조기층포설다짐 | D11: =D10 -> 22.58 | E11: ㎥ | F11: 골재 25mm/T=15cm
B12: 주차선 설치 | C12: Ø12로프 | D12: 84 | E12: m
B13: 경계석 설치 | C13: L : 750mm | D13: 6 | E13: m
B14: 식생 임목류 수거운반 및 처리 | D14: 0.3 | E14: ton
A15: 3. 범방동 1875-7,1875-8 (319.8+326.8㎡) | B15: 절토 | D15: 1 | E15: 일
B16: 잔토처리 | D16: =(319.8+326.8)*0.1 -> 64.66 | E16: ㎥
B17: 보조기층포설다짐 | D17: =D16 -> 64.66 | E17: ㎥ | F17: 골재 25mm/T=15cm
B18: 주차선 설치 | C18: Ø12로프 | D18: 265 | E18: m
B19: 경계석 설치 | C19: L : 750mm | D19: 12 | E19: m
B20: 식생 임목류 수거운반 및 처리 | D20: 1.3 | E20: ton
A21: 4. 범방동 1867-3 (310.1㎡) | B21: 절토 | D21: 1 | E21: 일
B22: 잔토처리 | D22: =310.1*0.1 -> 31.01 | E22: ㎥
B23: 보조기층포설다짐 | D23: =D22 -> 31.01 | E23: ㎥ | F23: 골재 25mm/T=15cm
B24: 주차선 설치 | C24: Ø12로프 | D24: 139 | E24: m
B25: 경계석 설치 | C25: L : 750mm | D25: 6 | E25: m
B26: 식생 임목류 수거운반 및 처리 | D26: 0.6 | E26: ton
A27: 5. 범방동 1868-14 (330㎡) | B27: 절토 | D27: 1 | E27: 일
B28: 잔토처리 | D28: =330*0.1 -> 33 | E28: ㎥
B29: 보조기층포설다짐 | D29: =D28 -> 33 | E29: ㎥ | F29: 골재 25mm/T=15cm
B30: 주차선 설치 | C30: Ø12로프 | D30: 121 | E30: m
B31: 경계석 설치 | C31: L : 750mm | D31: 6 | E31: m
B32: 식생 임목류 수거운반 및 처리 | D32: 0.7 | E32: ton
A33: 6. 대저2동 2418-29 (320㎡) | B33: 절토 | D33: 1 | E33: 일
B34: 잔토처리 | D34: =320*0.1 -> 32 | E34: ㎥
B35: 보조기층포설다짐 | D35: =D34 -> 32 | E35: ㎥ | F35: 골재 25mm/T=15cm
B36: 주차선 설치 | C36: Ø12로프 | D36: 123 | E36: m
B37: 차량진입판 | C37: L : 750mm | D37: =ROUNDUP((16/0.75),0) -> 22 | E37: EA | F37: 16m/0.75m
B38: 식생 임목류 수거운반 및 처리 | D38: 0.6 | E38: ton
A39: 7. 대저2동 2418-1 (296.6㎡) | B39: 절토 | D39: 1 | E39: 일
B40: 잔토처리 | D40: =296.6*0.1 -> 29.66 | E40: ㎥
B41: 보조기층포설다짐 | D41: =D40 -> 29.66 | E41: ㎥ | F41: 골재 25mm/T=15cm
B42: 주차선 설치 | D42: 88 | E42: m
B43: 차량진입판 | C43: L : 750mm | D43: =18/0.75 -> 24 | E43: EA | F43: 18m/0.75m
B44: 메시휀스 | C44: H : 1.2m | D44: 13 | E44: m
B45: 식생 임목류 수거운반 및 처리 | D45: 0.5 | E45: ton
A46: 합 계 | B46: 절토 | D46: =D3+D9+D15+D21+D27+D33+D39 -> 7 | E46: 일
B47: 잔토처리 | D47: =D4+D10+D16+D22+D28+D34+D40 -> 242.83 | E47: ㎥
B48: 보조기층포설다짐 | D48: =D5+D11+D17+D23+D29+D35+D41 -> 242.83 | E48: ㎥
B49: 주차선 설치 | C49: Ø12로프 | D49: =D6+D12+D18+D24+D30+D36+D42 -> 944 | E49: m
B50: 차량진입판 | C50: L : 750mm | D50: =D37+D43 -> 46 | E50: EA
B51: 메시휀스 | C51: H : 1.2m | D51: =D44 -> 13 | E51: m
B52: 식생 임목류 수거운반 및 처리 | D52: =D8+D14+D20+D26+D32+D38+D45 -> 4.5 | E52: ton
B53: 적치폐기물처리 | D53: 4 | E53: ton

Sheet 설계서
A1: 내 역 서
A2: 명 칭 | B2: 품종및규격 | C2: 수량 | D2: 단위 | E2: 합 계 | G2: 재료비 | I2: 노무비 | K2: 경비 | M2: 비 고
E3: 단 가 | F3: 금 액 | G3: 단 가 | H3: 금 액 | I3: 단 가 | J3: 금 액 | K3: 단 가 | L3: 금 액
A4: ="공사명 : "&#REF! -> #REF!
A5: *순공사비
A7: 1. 명지동 3378-6 | B7: 299.2
A8: 1)절토 | C8: =물량내역서!D3 -> 1 | D8: 일 | M8: 제1호표
A9: 2)잔토처리 | B9: 상차·운반 30km | C9: =물량내역서!D4 -> 29.92 | D9: ㎥ | M9: 제2호표
A10: 3)보조기층포설다짐 | B10: T=10cm | C10: =물량내역서!D5 -> 29.92 | D10: ㎥ | M10: 제3호표
A11: 4)주차선 설치 | B11: Ø12로프 | C11: =물량내역서!D6 -> 124 | D11: m | M11: 제4호표
A12: 5)낮춤석 설치 | B12: 200*100*1000 | C12: =물량내역서!D7 -> 6 | D12: m | M12: 제6호표
A13: 6)식생 임목류 수거운반 및 처리 | C13: =물량내역서!D8 -> 0.5 | D13: ton | M13: 제10호표
A15: 2. 신호동 245-12 | B15: 225.8
A16: 1)절토 | C16: =물량내역서!D9 -> 1 | D16: 일 | M16: 제1호표
A17: 2)잔토처리 | B17: 상차·운반 30km | C17: =물량내역서!D10 -> 22.58 | D17: ㎥ | M17: 제2호표
A18: 3)보조기층포설다짐 | B18: T=10cm | C18: =물량내역서!D11 -> 22.58 | D18: ㎥ | M18: 제3호표
A19: 4)주차선 설치 | B19: Ø12로프 | C19: =물량내역서!D12 -> 84 | D19: m | M19: 제4호표
A20: 5)낮춤석 설치 | B20: 200*100*1000 | C20: =물량내역서!D13 -> 6 | D20: m | M20: 제6호표
A21: 6)식생 임목류 수거운반 및 처리 | C21: =물량내역서!D14 -> 0.3 | D21: ton | M21: 제10호표
A23: 3.범방동 1875-7,1875-8 | B23: =326.8+319.8 -> 646.6
A24: 1)절토 | C24: =물량내역서!D15 -> 1 | D24: 일 | M24: 제1호표
A25: 2)잔토처리 | B25: 상차·운반 30km | C25: =물량내역서!D16 -> 64.66 | D25: ㎥ | M25: 제2호표
A26: 3)보조기층포설다짐 | B26: T=10cm | C26: =물량내역서!D17 -> 64.66 | D26: ㎥ | M26: 제3호표
A27: 4)주차선 설치 | B27: Ø12로프 | C27: =물량내역서!D18 -> 265 | D27: m | M27: 제4호표
A28: 5)낮춤석 설치 | B28: 200*100*1000 | C28: =물량내역서!D19 -> 12 | D28: m | M28: 제6호표
A29: 6)식생 임목류 수거운반 및 처리 | C29: =물량내역서!D20 -> 1.3 | D29: ton | M29: 제10호표
A31: 4. 범방동 1867-3 | B31: 310.1
A32: 1)절토 | C32: =물량내역서!D21 -> 1 | D32: 일
A33: 2)잔토처리 | B33: 상차·운반 30km | C33: =물량내역서!D22 -> 31.01 | D33: ㎥ | M33: 제2호표
A34: 3)보조기층포설다짐 | B34: T=10cm | C34: =물량내역서!D23 -> 31.01 | D34: ㎥
A35: 4)주차선 설치 | B35: Ø12로프 | C35: =물량내역서!D24 -> 139 | D35: m
A36: 5)낮춤석 설치 | B36: 200*100*1000 | C36: =물량내역서!D25 -> 6 | D36: m
A37: 6)식생 임목류 수거운반 및 처리 | C37: =물량내역서!D26 -> 0.6 | D37: ton | M37: 제10호표
A39: 5. 범방동 1868-14 | B39: 330
A40: 1)절토 | C40: =물량내역서!D27 -> 1 | D40: 일 | M40: 제1호표
A41: 2)잔토처리 | B41: 상차·운반 30km | C41: =물량내역서!D28 -> 33 | D41: ㎥ | M41: 제2호표
A42: 3)보조기층포설다짐 | B42: T=10cm | C42: =물량내역서!D29 -> 33 | D42: ㎥ | M42: 제3호표
A43: 4)주차선 설치 | B43: Ø12로프 | C43: =물량내역서!D30 -> 121 | D43: m | M43: 제4호표
A44: 5)낮춤석 설치 | B44: 200*100*1000 | C44: =물량내역서!D31 -> 6 | D44: m | M44: 제6호표
A45: 6)식생 임목류 수거운반 및 처리 | C45: =물량내역서!D32 -> 0.7 | D45: ton | M45: 제10호표
A47: 6. 대저2동 2418-29 | B47: 320
A48: 1)절토 | C48: =물량내역서!D33 -> 1 | D48: 일 | M48: 제1호표
A49: 2)잔토처리 | B49: 상차·운반 30km | C49: =물량내역서!D34 -> 32 | D49: ㎥ | M49: 제2호표
A50: 3)보조기층포설다짐 | B50: T=10cm | C50: =물량내역서!D35 -> 32 | D50: ㎥ | M50: 제3호표
A51: 4)주차선 설치 | B51: Ø12로프 | C51: =물량내역서!D36 -> 123 | D51: m | M51: 제4호표
A52: 5)차량진입판 | B52: L : 750mm | C52: =물량내역서!D37 -> 22 | D52: EA | M52: 제6호표
A53: 6)식생 임목류 수거운반 및 처리 | C53: =물량내역서!D38 -> 0.6 | D53: ton | M53: 제10호표
A55: 7. 대저2동 2418-1 | B55: 296.6
A56: 1)절토 | C56: =물량내역서!D39 -> 1 | D56: 일 | M56: 제1호표
A57: 2)잔토처리 | B57: 상차·운반 30km | C57: =물량내역서!D40 -> 29.66 | D57: ㎥ | M57: 제2호표
A58: 3)보조기층포설다짐 | B58: T=10cm | C58: =물량내역서!D41 -> 29.66 | D58: ㎥ | M58: 제3호표
A59: 4)주차선 설치 | B59: Ø12로프 | C59: =물량내역서!D42 -> 88 | D59: m | M59: 제4호표
A60: 5)차량진입판 | B60: L : 750mm | C60: =물량내역서!D43 -> 24 | D60: EA | M60: 제6호표
A61: 6)메시휀스 설치 | B61: H : 1.2m | C61: =물량내역서!D44 -> 13 | D61: m | M61: 제9호표
A62: 7)식생·임목류 폐기물처리 | C62: =물량내역서!D45 -> 0.5 | D62: ton | M62: 제10호표
A63: 8)적치폐기물처리 | C63: =물량내역서!D53 -> 4 | D63: ton | M63: 제15호표
A65: 8. 부대공
A66: 안전신호수 | B66: 2인*7일 | C66: 7 | D66: 일

Sheet VXXXXXX
