Workbook

Sheet 원가계산서
B1: 공 사 원 가 계 산 서
B2: 공사명 : 삼일여자고등학교본관동개축공사
B3: 비 목 | E3: 금 액 | F3: 구 성 비 | G3: 비 고
A4: A1 | B4: 순 공 사 원 가 | C4: 재 료 비 | D4: 직 접 재 료 비 | E4: =TRUNC(공종별집계표!F5, 0) -> 0
A5: A2 | D5: 간 접 재 료 비 | E5: 0
A6: A3 | D6: 작업설, 부산물(△) | E6: 0
A7: AS | D7: [ 소 계 ] | E7: =TRUNC(E4+E5-E6, 0) -> 0
A8: B1 | C8: 노 무 비 | D8: 직 접 노 무 비
A9: B2 | D9: 간 접 노 무 비
A10: BS | D10: [ 소 계 ]
A11: D5 | D11: 건설폐기물처리비
A12: D9 | D12: 공 급 가 액
A13: DB | D13: 부 가 가 치 세 | F13: 공급가액 * 10%
A14: DH | D14: 도 급 액
A15: S2 | D15: 총 공 사 비 | E15: 39126095

Sheet 공종별집계표
A1: 공 종 별 집 계 표
A2: [ 삼일여자고등학교본관동개축공사 ]
A3: 품 명 | B3: 규 격 | C3: 단위 | D3: 수량 | E3: 재 료 비 | G3: 노 무 비 | I3: 경 비 | K3: 합 계 | M3: 비 고 | N3: 공종코드 | O3: 변수 | P3: 상위공종 | Q3: 공종구분 | R3: 공종레벨 | S3: 공종소계 | T3: 원가계산서 연결금액
E4: 단 가 | F4: 금 액 | G4: 단 가 | H4: 금 액 | I4: 단 가 | J4: 금 액 | K4: 단 가 | L4: 금 액
A5: 01 삼일여자고등학교본관동개축공사 | D5: 1 | E5: =F6 -> 0 | F5: =E5*D5 -> 0 | G5: =H6 -> 0 | H5: =G5*D5 -> 0 | I5: =J6 -> 0 | J5: =I5*D5 -> 0 | K5: =E5+G5+I5 -> 0 | L5: =F5+H5+J5 -> 0 | N5: 01 | R5: 1
A6: 0101 01. 건 축 공 사 | D6: 1 | F6: =E6*D6 -> 0 | H6: =G6*D6 -> 0 | N6: 0101 | P6: 01 | R6: 2
A7: 010101 건축 건설폐기물처리비 | D7: 1 | E7: =공종별내역서!F7 -> 0 | F7: =E7*D7 -> 0 | G7: =공종별내역서!H7 -> 0 | H7: =G7*D7 -> 0 | N7: 010101 | Q7: 6 | R7: 3 | T7: =L7*1 -> 0
A8: 010102 철거 건설폐기물처리비 | D8: 1 | E8: =공종별내역서!F11 -> 0 | F8: =E8*D8 -> 0 | G8: =공종별내역서!H11 -> 0 | H8: =G8*D8 -> 0 | N8: 010102 | Q8: 6 | R8: 3 | T8: =L8*1 -> 0
A9: 010103 토목 건설폐기물처리비 | D9: 1 | E9: =공종별내역서!F18 -> 0 | F9: =E9*D9 -> 0 | G9: =공종별내역서!H18 -> 0 | H9: =G9*D9 -> 0 | N9: 010103 | Q9: 6 | R9: 3 | T9: =L9*1 -> 0
A27: [ 합 계 ] | F27: =F5 -> 0 | H27: =H5 -> 0 | J27: =J5 -> 0 | L27: 35569178

Sheet 공종별내역서
A1: [ 삼일여자고등학교본관동개축공사 ]
A2: 품 명 | B2: 규 격 | C2: 단위 | D2: 수량 | E2: 재 료 비 | G2: 노 무 비 | I2: 경 비 | K2: 합 계 | M2: 비 고 | N2: 품목코드 | O2: 변수 | P2: 설정 | Q2: 공종코드 | R2: 일위 | S2: 단산 | T2: 자재 | U2: 손료적용 | V2: 손료저장 | W2: 적용율 | X2: JUK1 | Y2: JUK2 | Z2: JUK3 | AA2: JUK4 | AB2: JUK5 | AC2: JUK6 | AD2: JUK7 | AE2: JUK8 | AF2: JUK9 | AG2: JUK10 | AH2: JUK11 | AI2: JUK12 | AJ2: JUK13 | AK2: JUK14 | AL2: JUK15 | AM2: JUK16 | AN2: JUK17 | AO2: JUK18 | AP2: JUK19 | AQ2: JUK20 | AR2: 자재구분 | AS2: 공종구분 | AT2: 공종레벨 | AU2: 공종+자재 | AV2: 고유번호
E3: 단 가 | F3: 금 액 | G3: 단 가 | H3: 금 액 | I3: 단 가 | J3: 금 액 | K3: 단 가 | L3: 금 액
A4: 010101 건축 건설폐기물처리비 | Q4: 010101
A5: 건설폐기물 -중간처리 | B5: 건설폐재류(폐벽돌) | C5: TON | D5: 25 | E5: 0 | M5: 호표 1 | N5: 598DE59D8954C2D6E54C14C020882D | Q5: 010101 | R5: T | S5: F | T5: F | AU5: 010101598DE59D8954C2D6E54C14C020882D | AV5: 443
A6: 건설폐기물운반비-중간처리 | B6: 15ton 덤프트럭, 30km | C6: TON | D6: 25 | E6: 0 | M6: 호표 2 | N6: 598DE59D8954C2D6E54C14D25036FA | Q6: 010101 | R6: T | S6: F | T6: F | AU6: 010101598DE59D8954C2D6E54C14D25036FA | AV6: 448
A7: [ 합 계 ] | N7: TOTAL
A8: 010102 철거 건설폐기물처리비 | Q8: 010102
A9: 건설폐기물 -중간처리 | B9: 건설폐재류(폐벽돌) | C9: TON | D9: 79 | E9: 0 | M9: 호표 1 | N9: 598DE59D8954C2D6E54C14C020882D | Q9: 010102 | R9: T | S9: F | T9: F | AU9: 010102598DE59D8954C2D6E54C14C020882D | AV9: 452
A10: 건설폐기물운반비-중간처리 | B10: 15ton 덤프트럭, 30km | C10: TON | D10: 79 | E10: 0 | M10: 호표 2 | N10: 598DE59D8954C2D6E54C14D25036FA | Q10: 010102 | R10: T | S10: F | T10: F | AU10: 010102598DE59D8954C2D6E54C14D25036FA | AV10: 456
A11: [ 합 계 ] | N11: TOTAL
A12: 010103 토목 건설폐기물처리비 | Q12: 010103
A13: 폐기물운반 | C13: TON | D13: =D14+D15 -> 626 | E13: 0 | N13: 5EAB95FF7D5AA1960682B446E05FDAD69031AA | Q13: 010103 | R13: F | S13: F | T13: T | AU13: 0101035EAB95FF7D5AA1960682B446E05FDAD69031AA | AV13: 463
A14: 폐콘크리트 | C14: TON | D14: 140 | E14: 0 | N14: 5EAB95FF7D5AA1960682B446E05FDAD69031AF | Q14: 010103 | R14: F | S14: F | T14: T | AU14: 0101035EAB95FF7D5AA1960682B446E05FDAD69031AF | AV14: 464
A15: 폐아스팔트콘크리트 | C15: TON | D15: 486 | E15: 0 | N15: 5EAB95FF7D5AA1960682B446E05FDAD690362B | Q15: 010103 | R15: F | S15: F | T15: T | AU15: 0101035EAB95FF7D5AA1960682B446E05FDAD690362B | AV15: 462
A16: 조정액 | C16: 식 | D16: -1 | E16: 0 | N16: 5EAB95FF7D5AA1960682B446E05FDAD690362A | Q16: 010103 | R16: F | S16: F | T16: T | AU16: 0101035EAB95FF7D5AA1960682B446E05FDAD690362A | AV16: 465
A17: [ 합 계 ]
A18: [ 총 합 계 ] | F18: 0 | H18: 0 | J18: 35569178 | K18: 0 | L18: 35569178 | N18: TOTAL

Sheet 중기단가목록
A1: 중 기 단 가 목 록
A2: [ 삼일여자고등학교본관동개축공사 ]
A3: 코 드 | B3: 품 명 | C3: 규 격 | D3: 단위 | E3: 재 료 비 | F3: 노 무 비 | G3: 경 비 | H3: 합 계 | I3: 번 호 | J3: 비 고 | K3: START | L3: 품셈개요

Sheet 중기단가산출서
A1: 중 기 단 가 산 출 서
A2: [ 삼일여자고등학교본관동개축공사 ]
A3: 산 출 내 역 | B3: 재 료 비 | C3: 노 무 비 | D3: 경 비 | E3: 합 계 | F3: 비 고 | G3: START | H3: 코드 | I3: 품명 | J3: 규격 | K3: 단위 | L3: 수량
A4: ( )
A6: 총 계 | E6: 0

Sheet  공사설정 
A1: 이 Sheet는 수정하지 마십시요
A2: 공사구분 | B2: A | C2: 타이틀
A3: 확정내역 | B3: 원내역
A4: 자재단가적용 | B4: 5
A5: 경비단가적용 | B5: 5
A6: 품목코드형식 | B6: XXXX-XXXX-XXXXXXXXX
A7: 내역금액소수점처리 | B7: C | C7: T
A8: 일위대가내역소수점처리 | B8: C | C8: 2
A9: 단가명 | B9: 조달청가격 | C9: 거래가격 | D9: 유통물가 | E9: 물가자료 | F9: 조사가격 | G9: TTTTT
A10: 환율 | B10: 1261 | C10: 927 | D10: 0
A11: 시간당작업량 | B11: R | C11: 3
A12: 1회 사이클시간 | B12: R | C12: 4
A13: 시간당 작업사이클 | B13: R | C13: 4
A14: 일반변수 | B14: C | C14: 5
A15: 시간당 노임산출 계수 | B15: A | C15: 1/8*16/12*25/20 | D15: 1/8*16/12*25/20 | E15: 1/8*16/12*25/20 | F15: 1
A16: 재료비 할증 계수 | B16: 1.11 | C16: 1.12
A17: 노무비 할증 계수 | B17: 1 | C17: 1.5 | D17: 1.16 | E17: 1.6 | F17: 1.6 | G17: 1.6 | H17: 1.94 | I17: 1.94 | J17: 1.94 | K17: 1 | L17: 1 | M17: 1
A18: 경비 할증 계수 | B18: 1.25 | C18: 1.071
A19: 내역,일위대가 품명,규격,단위 따로적용
A20: 내역단가 소수점처리 | B20: C | C20: 1
A21: 코드 | B21: 공종구분명 | C21: 원가비목코드
A22: 1 | B22: 작 업 부 산 물 | C22: A3
A23: 2 | B23: 운 반 비 | C23: C1
A24: 3 | B24: 도급자관급자재비 | C24: DJ
A25: 4 | B25: 사 급 자 재 비 | C25: D3
A26: 5 | B26: 외 자 재
A27: 6 | B27: 건설폐기물처리비 | C27: D5
A28: 7 | B28: 관급자관급자재비 | C28: DK
A29: 8 | B29: ...
A30: 9 | B30: ...
A31: A | B31: ....
A32: B | B32: .....
A33: C | B33: ....
A34: D | B34: ....
A35: E | B35: ....
A36: F | B36: ....
A37: G | B37: ....
A38: H | B38: ....
A39: I | B39: ....
A40: J | B40: ....

Sheet Sheet1
