Workbook

Sheet 원가계산서
A1: 공 사 원 가 계 산 서
A2: 공사명 : 실로암노인전문요양원 리모델링 공사
A3: 구 분 비 목 | D3: 구 성 비 | E3: 금 액 | F3: 비 고
A5: 순 공 사 원 가 | B5: 재료비 | C5: 직 접 재 료 비 | E5: =ROUNDDOWN(집계표!E20-집계표!AU20, 0) -> 14567880 | G5: A1 | H5: 0 | I5: =E5 -> 14567880
C6: 간 접 재 료 비 | E6: =ROUNDDOWN(E5*H6, 0) -> 0 | G6: A2 | H6: 0 | I6: =E6 -> 0
C7: 작업설.부산물 등(△) | E7: =집계표!S20 -> 0 | G7: A3 | H7: 0 | I7: =E7 -> 0
C8: 소 계 | E8: =SUM(E5:E6)-ABS(E7) -> 14567880 | G8: A | H8: 0 | I8: =E8 -> 14567880
B9: 노무비 | C9: 직 접 노 무 비 | E9: =ROUNDDOWN(집계표!G20, 0) -> 13948945 | G9: B1 | H9: 0 | I9: =E9 -> 13948945
C10: 간 접 노 무 비 | D10: ="직.노*"&H10*100&"%" -> 직.노*12.94% | E10: =ROUNDDOWN(E9*H10, 0) -> 1804993 | G10: B2 | H10: 0.1294 | I10: =E10 -> 1804993
C11: 소 계 | E11: =SUM(E9:E10) -> 15753938 | G11: B | H11: 0 | I11: =E11 -> 15753938
B12: 경 비 | C12: 기 계 경 비 | E12: =ROUNDDOWN(집계표!I20, 0) -> 152070 | G12: C4 | H12: 0 | I12: =E12 -> 152070
C13: 산 재 보 험 료 | D13: ="(노)*"&H13*100&"%" -> (노)*3.56% | E13: =ROUNDDOWN((E11)*H13, 0) -> 560840 | G13: C10 | H13: 0.0356 | I13: =E13 -> 560840
C14: 고 용 보 험 료 | D14: ="(노)*"&H14*100&"%" -> (노)*1.01% | E14: =ROUNDDOWN((E11)*H14, 0) -> 159114 | G14: C11 | H14: 0.0101 | I14: =E14 -> 159114
C15: 건 강 보 험 료 | E15: =ROUNDDOWN((E9)*H15, 0) -> 0 | G15: C12 | H15: 0 | I15: =E15 -> 0
C16: 연 금 보 험 료 | E16: =ROUNDDOWN((E9)*H16, 0) -> 0 | G16: C13 | H16: 0 | I16: =E16 -> 0
C17: 노인 장기 요양보험료 | E17: =ROUNDDOWN((E15)*H17, 0) -> 0 | G17: C14 | H17: 0 | I17: =E17 -> 0
C18: 퇴 직 공 제 부 금 비 | E18: =ROUNDDOWN((E9)*H18, 0) -> 0 | G18: C15 | H18: 0 | I18: =E18 -> 0
C19: 산업 안전 보건관리비 | D19: ="(재+직.노+(관급-0)/1.1)*"&H19*100&"%"&" < (재+직.노)*3.11%*1.2" -> (재+직.노+(관급-0)/1.1)*3.11% < (재+직.노)*3.11%*1.2 | E19: =ROUNDDOWN((E8+E9+(E39-0)/1.1)*H19, 0) -> 886873 | F19: 886,873 < 1,064,247 | G19: C16 | H19: 0.0311 | I19: =E19 -> 886873
C20: 기 타 경 비 | D20: ="(재+노)*"&H20*100&"%" -> (재+노)*4% | E20: =ROUNDDOWN((E8+E11)*H20, 0) -> 1212872 | G20: C20 | H20: 0.04 | I20: =E20 -> 1212872
C21: 환 경 보 전 비 | D21: ="(재+직.노+기.경)*"&H21*100&"%" -> (재+직.노+기.경)*0.3% | E21: =ROUNDDOWN((E8+E9+E12)*H21, 0) -> 86006 | G21: C25 | H21: 0.003 | I21: =E21 -> 86006
C22: 건설하도급보증수수료 | D22: ="(재+직.노+기.경)*"&H22*100&"%" -> (재+직.노+기.경)*0.081% | E22: =ROUNDDOWN((E8+E9+E12)*H22, 0) -> 23221 | G22: C30 | H22: 0.00081 | I22: =E22 -> 23221
C23: 공사 이행 보증수수료 | E23: =ROUNDDOWN((E8+E9+E12)*H23*(6/12), 0) -> 0 | G23: C31 | H23: 0 | I23: =E23 -> 0
C24: 건설기계대여보증수수료 | E24: =ROUNDDOWN((E8+E9+E12)*H24, 0) -> 0 | G24: C32 | H24: 0 | I24: =E24 -> 0
C25: 안 전 관 리 비 | E25: =집계표!AD20 -> 0 | G25: C17 | H25: 0 | I25: =E25 -> 0
C26: 품 질 관 리 비 | E26: =집계표!AE20 -> 0 | G26: C18 | H26: 0 | I26: =E26 -> 0
C27: 석 면 분 담 금 | D27: ="노*"&H27*100&"%" -> 노*0.006% | E27: =ROUNDDOWN(E11*H27, 0) -> 945 | G27: C21 | H27: 6e-05 | I27: =E27 -> 945
C28: 임금 채권 부담금 | D28: ="노*"&H28*100&"%" -> 노*0.09% | E28: =ROUNDDOWN(E11*H28, 0) -> 14178 | G28: C22 | H28: 0.0009 | I28: =E28 -> 14178
C29: 소 계 | E29: =SUM(E12:E28) -> 3096119 | G29: C | H29: 0 | I29: =E29 -> 3096119
B30: 계 | E30: =E8+E11+E29 -> 33417937 | G30: X | H30: 0 | I30: =E30 -> 33417937
A31: 일 반 관 리 비 | D31: ="(재+노+경)*"&H31*100&"%" -> (재+노+경)*6% | E31: =ROUNDDOWN((E8+E11+E29)*H31, 0) -> 2005076 | G31: D | H31: 0.06 | I31: =E31 -> 2005076
A32: 이 윤 | D32: ="(노+경+일)*"&H32*100&"%" -> (노+경+일)*11% | E32: =E35-E34-E33-E31-E30 -> 2292437 | G32: E | H32: 0.11 | I32: =(I11+I29+I31)*H32+-1 -> 2294063.6
A33: 작업설.부산물 등(△) | E33: =집계표!AF20 -> 0 | G33: M2 | H33: 0 | I33: =E33 -> 0
A34: 폐 기 물 처 리 비 | E34: =ROUNDDOWN(집계표!W20, 0) -> 284549 | G34: L | H34: 0 | I34: =E34 -> 284549
A35: 총 원 가 | E35: =ROUNDDOWN(E37-E36, 0) -> 37999999 | G35: F | H35: 0 | I35: =SUM(I30:I34)+-1 -> 38001625
A36: 부 가 가 치 세 | D36: ="(총원가)*"&H36*100&"%" -> (총원가)*10% | E36: =ROUNDDOWN(((E37)/110)*10, 0)+J36 -> 3800001 | G36: H | H36: 0.1 | I36: =ROUNDDOWN((I35)*H36, 0)+1 -> 3800163 | J36: 1
A37: 도 급 금 액 | E37: =INT(I37/1000)*1000-1000 -> 41800000 | G37: Y | H37: 0 | I37: =I35+I36 -> 41801788
A38: 재해예방기술지도비 | E38: =집계표!AG20 -> 0 | G38: M3 | H38: 0 | I38: =E38 -> 0
A39: 관 급 자 재 대 | E39: =집계표!AA20 -> 0 | G39: J | H39: 0 | I39: =E39 -> 0
A40: 사 급 자 재 대 | E40: =집계표!Z20 -> 0 | G40: K | H40: 0 | I40: =E40 -> 0
A41: 총 공 사 금 액 | E41: =ROUNDDOWN(E37+E38+E39+E40, 0) -> 41800000 | H41: 0 | I41: =I37+I38+I39+I40 -> 41801788

Sheet 집계표
A1: 공 사 집 계 표
A2: 공사명 : 실로암노인전문요양원 리모델링 공사
A3: 품 명 | B3: 단위 | C3: 수량 | D3: 재 료 비 | F3: 노 무 비 | H3: 경 비 | J3: 합 계 | L3: 비고
D4: 단 가 | E4: 금 액 | F4: 단 가 | G4: 금 액 | H4: 단 가 | I4: 금 액 | J4: 단 가 | K4: 금 액 | M4: 손료요율 | N4: 손료구분 | O4: 적용구분 | P4: 합계구분 | Q4: 기계경비 | R4: 운반비 | S4: 작업부산물 | T4: 관급 | U4: 외주비 | V4: 장비비 | W4: 폐기물처리비 | X4: 가설비 | Y4: 잡비제외분 | Z4: 사급자재대 | AA4: 관급자재대 | AB4: 사용자항목1 | AC4: 사용자항목2 | AD4: 안전관리비 | AE4: 품질관리비 | AF4: 작업부산물(철거해체) | AG4: 사용자항목6 | AH4: 사용자항목7 | AI4: 사용자항목8 | AJ4: 사용자항목9 | AK4: 사용자항목10 | AL4: 사용자항목11 | AM4: 사용자항목12 | AN4: 사용자항목13 | AO4: 사용자항목14 | AP4: 사용자항목15 | AQ4: 사용자항목16 | AR4: 사용자항목17 | AS4: 사용자항목18 | AT4: 사용자항목19 | AU4: 간접재료비 | AV4: 품목구분 | AW4: 조달코드 | AX4: 구분
A5: 01. 건축공사 | B5: 식 | C5: 1 | D5: =E36 -> 14567880 | E5: =C5*D5 -> 14567880 | F5: =G36 -> 13948945 | G5: =C5*F5 -> 13948945 | H5: =I36 -> 152070 | I5: =C5*H5 -> 152070 | J5: =D5+F5+H5 -> 28668895 | K5: =E5+G5+I5 -> 28668895 | P5: 1 | Q5: =C5*Q36 -> 152070 | R5: =C5*R36 -> 0 | S5: =C5*S36 -> 0 | T5: =C5*T36 -> 0 | U5: =C5*U36 -> 0 | V5: =C5*V36 -> 0 | W5: =C5*W36 -> 284549 | X5: =C5*X36 -> 0 | Y5: =C5*Y36 -> 0 | Z5: =C5*Z36 -> 0 | AA5: =C5*AA36 -> 0 | AB5: =C5*AB36 -> 0 | AC5: =C5*AC36 -> 0 | AD5: =C5*AD36 -> 0 | AE5: =C5*AE36 -> 0 | AF5: =C5*AF36 -> 0 | AG5: =C5*AG36 -> 0 | AH5: =C5*AH36 -> 0 | AI5: =C5*AI36 -> 0 | AJ5: =C5*AJ36 -> 0 | AK5: =C5*AK36 -> 0 | AL5: =C5*AL36 -> 0 | AM5: =C5*AM36 -> 0 | AN5: =C5*AN36 -> 0 | AO5: =C5*AO36 -> 0 | AP5: =C5*AP36 -> 0 | AQ5: =C5*AQ36 -> 0 | AR5: =C5*AR36 -> 0 | AS5: =C5*AS36 -> 0 | AT5: =C5*AT36 -> 0 | AU5: =C5*AU36 -> 0
A20: 합 계 | E20: =SUMIF(P5:P5, "1", E5:E5) -> 14567880 | G20: =SUMIF(P5:P5, "1", G5:G5) -> 13948945 | I20: =SUMIF(P5:P5, "1", I5:I5) -> 152070 | K20: =E20+G20+I20 -> 28668895 | Q20: =SUM(Q5:Q5) -> 152070 | R20: =SUM(R5:R5) -> 0 | S20: =SUM(S5:S5) -> 0 | T20: =SUM(T5:T5) -> 0 | U20: =SUM(U5:U5) -> 0 | V20: =SUM(V5:V5) -> 0 | W20: =SUM(W5:W5) -> 284549 | X20: =SUM(X5:X5) -> 0 | ... AX20: =SUM(AX5:AX5) -> 0
A21: 01. 건축공사
A22: 0101. 가설공사 | B22: 식 | C22: 1 | D22: =내역서!F20 -> 85348 | E22: =C22*D22 -> 85348 | F22: =내역서!H20 -> 2542575 | G22: =C22*F22 -> 2542575 | H22: =내역서!J20 -> 0 | I22: =C22*H22 -> 0 | J22: =D22+F22+H22 -> 2627923 | K22: =E22+G22+I22 -> 2627923 | P22: 1 | Q22: =C22*내역서!R20 -> 0 | R22: =C22*내역서!S20 -> 0 | S22: =C22*내역서!T20 -> 0 | T22: =C22*내역서!U20 -> 0 | U22: =C22*내역서!V20 -> 0 | V22: =C22*내역서!W20 -> 0 | W22: =C22*내역서!X20 -> 0 | X22: =C22*내역서!Y20 -> 0 | Y22: =C22*내역서!Z20 -> 0 | Z22: =C22*내역서!AA20 -> 0 | AA22: =C22*내역서!AB20 -> 0 | AB22: =C22*내역서!AC20 -> 0 | AC22: =C22*내역서!AD20 -> 0 | AD22: =C22*내역서!AE20 -> 0 | AE22: =C22*내역서!AF20 -> 0 | AF22: =C22*내역서!AG20 -> 0 | AG22: =C22*내역서!AH20 -> 0 | AH22: =C22*내역서!AI20 -> 0 | AI22: =C22*내역서!AJ20 -> 0 | AJ22: =C22*내역서!AK20 -> 0 | AK22: =C22*내역서!AL20 -> 0 | AL22: =C22*내역서!AM20 -> 0 | AM22: =C22*내역서!AN20 -> 0 | AN22: =C22*내역서!AO20 -> 0 | AO22: =C22*내역서!AP20 -> 0 | AP22: =C22*내역서!AQ20 -> 0 | AQ22: =C22*내역서!AR20 -> 0 | AR22: =C22*내역서!AS20 -> 0 | AS22: =C22*내역서!AT20 -> 0 | AT22: =C22*내역서!AU20 -> 0 | AU22: =C22*내역서!AV20 -> 0
A23: 0102. 지붕공사 | B23: 식 | C23: 1 | D23: =내역서!F36 -> 3518093 | E23: =C23*D23 -> 3518093 | F23: =내역서!H36 -> 4416148 | G23: =C23*F23 -> 4416148 | H23: =내역서!J36 -> 80768 | I23: =C23*H23 -> 80768 | J23: =D23+F23+H23 -> 8015009 | K23: =E23+G23+I23 -> 8015009 | P23: 1 | Q23: =C23*내역서!R36 -> 80768 | R23: =C23*내역서!S36 -> 0 | S23: =C23*내역서!T36 -> 0 | T23: =C23*내역서!U36 -> 0 | U23: =C23*내역서!V36 -> 0 | V23: =C23*내역서!W36 -> 0 | W23: =C23*내역서!X36 -> 0 | X23: =C23*내역서!Y36 -> 0 | Y23: =C23*내역서!Z36 -> 0 | Z23: =C23*내역서!AA36 -> 0 | AA23: =C23*내역서!AB36 -> 0 | AB23: =C23*내역서!AC36 -> 0 | AC23: =C23*내역서!AD36 -> 0 | AD23: =C23*내역서!AE36 -> 0 | AE23: =C23*내역서!AF36 -> 0 | AF23: =C23*내역서!AG36 -> 0 | AG23: =C23*내역서!AH36 -> 0 | AH23: =C23*내역서!AI36 -> 0 | AI23: =C23*내역서!AJ36 -> 0 | AJ23: =C23*내역서!AK36 -> 0 | AK23: =C23*내역서!AL36 -> 0 | AL23: =C23*내역서!AM36 -> 0 | AM23: =C23*내역서!AN36 -> 0 | AN23: =C23*내역서!AO36 -> 0 | AO23: =C23*내역서!AP36 -> 0 | AP23: =C23*내역서!AQ36 -> 0 | AQ23: =C23*내역서!AR36 -> 0 | AR23: =C23*내역서!AS36 -> 0 | AS23: =C23*내역서!AT36 -> 0 | AT23: =C23*내역서!AU36 -> 0 | AU23: =C23*내역서!AV36 -> 0
A24: 0103. 도장공사 | B24: 식 | C24: 1 | D24: =내역서!F52 -> 10008184 | E24: =C24*D24 -> 10008184 | F24: =내역서!H52 -> 4942232 | G24: =C24*F24 -> 4942232 | H24: =내역서!J52 -> 49486 | I24: =C24*H24 -> 49486 | J24: =D24+F24+H24 -> 14999902 | K24: =E24+G24+I24 -> 14999902 | P24: 1 | Q24: =C24*내역서!R52 -> 49486 | R24: =C24*내역서!S52 -> 0 | S24: =C24*내역서!T52 -> 0 | T24: =C24*내역서!U52 -> 0 | U24: =C24*내역서!V52 -> 0 | V24: =C24*내역서!W52 -> 0 | W24: =C24*내역서!X52 -> 0 | X24: =C24*내역서!Y52 -> 0 | Y24: =C24*내역서!Z52 -> 0 | Z24: =C24*내역서!AA52 -> 0 | AA24: =C24*내역서!AB52 -> 0 | AB24: =C24*내역서!AC52 -> 0 | AC24: =C24*내역서!AD52 -> 0 | AD24: =C24*내역서!AE52 -> 0 | AE24: =C24*내역서!AF52 -> 0 | AF24: =C24*내역서!AG52 -> 0 | AG24: =C24*내역서!AH52 -> 0 | AH24: =C24*내역서!AI52 -> 0 | AI24: =C24*내역서!AJ52 -> 0 | AJ24: =C24*내역서!AK52 -> 0 | AK24: =C24*내역서!AL52 -> 0 | AL24: =C24*내역서!AM52 -> 0 | AM24: =C24*내역서!AN52 -> 0 | AN24: =C24*내역서!AO52 -> 0 | AO24: =C24*내역서!AP52 -> 0 | AP24: =C24*내역서!AQ52 -> 0 | AQ24: =C24*내역서!AR52 -> 0 | AR24: =C24*내역서!AS52 -> 0 | AS24: =C24*내역서!AT52 -> 0 | AT24: =C24*내역서!AU52 -> 0 | AU24: =C24*내역서!AV52 -> 0
A25: 0104. 수장공사 | B25: 식 | C25: 1 | D25: =내역서!F68 -> 429623 | E25: =C25*D25 -> 429623 | F25: =내역서!H68 -> 1230222 | G25: =C25*F25 -> 1230222 | H25: =내역서!J68 -> 12463 | I25: =C25*H25 -> 12463 | J25: =D25+F25+H25 -> 1672308 | K25: =E25+G25+I25 -> 1672308 | P25: 1 | Q25: =C25*내역서!R68 -> 12463 | R25: =C25*내역서!S68 -> 0 | S25: =C25*내역서!T68 -> 0 | T25: =C25*내역서!U68 -> 0 | U25: =C25*내역서!V68 -> 0 | V25: =C25*내역서!W68 -> 0 | W25: =C25*내역서!X68 -> 0 | X25: =C25*내역서!Y68 -> 0 | Y25: =C25*내역서!Z68 -> 0 | Z25: =C25*내역서!AA68 -> 0 | AA25: =C25*내역서!AB68 -> 0 | AB25: =C25*내역서!AC68 -> 0 | AC25: =C25*내역서!AD68 -> 0 | AD25: =C25*내역서!AE68 -> 0 | AE25: =C25*내역서!AF68 -> 0 | AF25: =C25*내역서!AG68 -> 0 | AG25: =C25*내역서!AH68 -> 0 | AH25: =C25*내역서!AI68 -> 0 | AI25: =C25*내역서!AJ68 -> 0 | AJ25: =C25*내역서!AK68 -> 0 | AK25: =C25*내역서!AL68 -> 0 | AL25: =C25*내역서!AM68 -> 0 | AM25: =C25*내역서!AN68 -> 0 | AN25: =C25*내역서!AO68 -> 0 | AO25: =C25*내역서!AP68 -> 0 | AP25: =C25*내역서!AQ68 -> 0 | AQ25: =C25*내역서!AR68 -> 0 | AR25: =C25*내역서!AS68 -> 0 | AS25: =C25*내역서!AT68 -> 0 | AT25: =C25*내역서!AU68 -> 0 | AU25: =C25*내역서!AV68 -> 0
A26: 0105. 기타공사 | B26: 식 | C26: 1 | D26: =내역서!F84 -> 500000 | E26: =C26*D26 -> 500000 | F26: =내역서!H84 -> 0 | G26: =C26*F26 -> 0 | H26: =내역서!J84 -> 0 | I26: =C26*H26 -> 0 | J26: =D26+F26+H26 -> 500000 | K26: =E26+G26+I26 -> 500000 | P26: 1 | Q26: =C26*내역서!R84 -> 0 | R26: =C26*내역서!S84 -> 0 | S26: =C26*내역서!T84 -> 0 | T26: =C26*내역서!U84 -> 0 | U26: =C26*내역서!V84 -> 0 | V26: =C26*내역서!W84 -> 0 | W26: =C26*내역서!X84 -> 0 | X26: =C26*내역서!Y84 -> 0 | Y26: =C26*내역서!Z84 -> 0 | Z26: =C26*내역서!AA84 -> 0 | AA26: =C26*내역서!AB84 -> 0 | AB26: =C26*내역서!AC84 -> 0 | AC26: =C26*내역서!AD84 -> 0 | AD26: =C26*내역서!AE84 -> 0 | AE26: =C26*내역서!AF84 -> 0 | AF26: =C26*내역서!AG84 -> 0 | AG26: =C26*내역서!AH84 -> 0 | AH26: =C26*내역서!AI84 -> 0 | AI26: =C26*내역서!AJ84 -> 0 | AJ26: =C26*내역서!AK84 -> 0 | AK26: =C26*내역서!AL84 -> 0 | AL26: =C26*내역서!AM84 -> 0 | AM26: =C26*내역서!AN84 -> 0 | AN26: =C26*내역서!AO84 -> 0 | AO26: =C26*내역서!AP84 -> 0 | AP26: =C26*내역서!AQ84 -> 0 | AQ26: =C26*내역서!AR84 -> 0 | AR26: =C26*내역서!AS84 -> 0 | AS26: =C26*내역서!AT84 -> 0 | AT26: =C26*내역서!AU84 -> 0 | AU26: =C26*내역서!AV84 -> 0
A27: 0106. 철거공사 | B27: 식 | C27: 1 | D27: =내역서!F100 -> 26632 | E27: =C27*D27 -> 26632 | F27: =내역서!H100 -> 817768 | G27: =C27*F27 -> 817768 | H27: =내역서!J100 -> 9353 | I27: =C27*H27 -> 9353 | J27: =D27+F27+H27 -> 853753 | K27: =E27+G27+I27 -> 853753 | P27: 1 | Q27: =C27*내역서!R100 -> 9353 | R27: =C27*내역서!S100 -> 0 | S27: =C27*내역서!T100 -> 0 | T27: =C27*내역서!U100 -> 0 | U27: =C27*내역서!V100 -> 0 | V27: =C27*내역서!W100 -> 0 | W27: =C27*내역서!X100 -> 0 | X27: =C27*내역서!Y100 -> 0 | Y27: =C27*내역서!Z100 -> 0 | Z27: =C27*내역서!AA100 -> 0 | AA27: =C27*내역서!AB100 -> 0 | AB27: =C27*내역서!AC100 -> 0 | AC27: =C27*내역서!AD100 -> 0 | AD27: =C27*내역서!AE100 -> 0 | AE27: =C27*내역서!AF100 -> 0 | AF27: =C27*내역서!AG100 -> 0 | AG27: =C27*내역서!AH100 -> 0 | AH27: =C27*내역서!AI100 -> 0 | AI27: =C27*내역서!AJ100 -> 0 | AJ27: =C27*내역서!AK100 -> 0 | AK27: =C27*내역서!AL100 -> 0 | AL27: =C27*내역서!AM100 -> 0 | AM27: =C27*내역서!AN100 -> 0 | AN27: =C27*내역서!AO100 -> 0 | AO27: =C27*내역서!AP100 -> 0 | AP27: =C27*내역서!AQ100 -> 0 | AQ27: =C27*내역서!AR100 -> 0 | AR27: =C27*내역서!AS100 -> 0 | AS27: =C27*내역서!AT100 -> 0 | AT27: =C27*내역서!AU100 -> 0 | AU27: =C27*내역서!AV100 -> 0
A28: 0107. 폐기물처리비 | B28: 식 | C28: 1 | D28: =내역서!F116 -> 0 | E28: =C28*D28 -> 0 | F28: =내역서!H116 -> 0 | G28: =C28*F28 -> 0 | H28: =내역서!J116 -> 284549 | I28: =C28*H28 -> 284549 | J28: =D28+F28+H28 -> 284549 | K28: =E28+G28+I28 -> 284549 | L28: 합계제외 | Q28: =C28*내역서!R116 -> 0 | R28: =C28*내역서!S116 -> 0 | S28: =C28*내역서!T116 -> 0 | T28: =C28*내역서!U116 -> 0 | U28: =C28*내역서!V116 -> 0 | V28: =C28*내역서!W116 -> 0 | W28: =C28*내역서!X116 -> 284549 | X28: =C28*내역서!Y116 -> 0 | Y28: =C28*내역서!Z116 -> 0 | Z28: =C28*내역서!AA116 -> 0 | AA28: =C28*내역서!AB116 -> 0 | AB28: =C28*내역서!AC116 -> 0 | AC28: =C28*내역서!AD116 -> 0 | AD28: =C28*내역서!AE116 -> 0 | AE28: =C28*내역서!AF116 -> 0 | AF28: =C28*내역서!AG116 -> 0 | AG28: =C28*내역서!AH116 -> 0 | AH28: =C28*내역서!AI116 -> 0 | AI28: =C28*내역서!AJ116 -> 0 | AJ28: =C28*내역서!AK116 -> 0 | AK28: =C28*내역서!AL116 -> 0 | AL28: =C28*내역서!AM116 -> 0 | AM28: =C28*내역서!AN116 -> 0 | AN28: =C28*내역서!AO116 -> 0 | AO28: =C28*내역서!AP116 -> 0 | AP28: =C28*내역서!AQ116 -> 0 | AQ28: =C28*내역서!AR116 -> 0 | AR28: =C28*내역서!AS116 -> 0 | AS28: =C28*내역서!AT116 -> 0 | AT28: =C28*내역서!AU116 -> 0 | AU28: =C28*내역서!AV116 -> 0
A36: 합 계 | E36: =SUMIF(P22:P28, "1", E22:E28) -> 14567880 | G36: =SUMIF(P22:P28, "1", G22:G28) -> 13948945 | I36: =SUMIF(P22:P28, "1", I22:I28) -> 152070 | K36: =E36+G36+I36 -> 28668895 | Q36: =SUM(Q22:Q28) -> 152070 | R36: =SUM(R22:R28) -> 0 | S36: =SUM(S22:S28) -> 0 | T36: =SUM(T22:T28) -> 0 | U36: =SUM(U22:U28) -> 0 | V36: =SUM(V22:V28) -> 0 | W36: =SUM(W22:W28) -> 284549 | X36: =SUM(X22:X28) -> 0 | ... AX36: =SUM(AX22:AX28) -> 0

Sheet 내역서
A1: 공 사 내 역 서
A2: 공사명 : 실로암노인전문요양원 리모델링 공사
A3: 품 명 | B3: 규 격 | C3: 단위 | D3: 수 량 | E3: 재 료 비 | G3: 노 무 비 | I3: 경 비 | K3: 합 계 | M3: 비고
E4: 단 가 | F4: 금 액 | G4: 단 가 | H4: 금 액 | I4: 단 가 | J4: 금 액 | K4: 단 가 | L4: 금 액 | N4: 손료요율 | O4: 손료구분 | P4: 적용구분 | Q4: 합계구분 | R4: 기계경비 | S4: 운반비 | T4: 작업부산물 | U4: 관급 | V4: 외주비 | W4: 장비비 | X4: 폐기물처리비 | Y4: 가설비 | Z4: 잡비제외분 | AA4: 사급자재대 | AB4: 관급자재대 | AC4: 사용자항목1 | AD4: 사용자항목2 | AE4: 안전관리비 | AF4: 품질관리비 | AG4: 작업부산물(철거해체) | AH4: 사용자항목6 | AI4: 사용자항목7 | AJ4: 사용자항목8 | AK4: 사용자항목9 | AL4: 사용자항목10 | AM4: 사용자항목11 | AN4: 사용자항목12 | AO4: 사용자항목13 | AP4: 사용자항목14 | AQ4: 사용자항목15 | AR4: 사용자항목16 | AS4: 사용자항목17 | AT4: 사용자항목18 | AU4: 사용자항목19 | AV4: 간접재료비 | AW4: 품목구분 | AX4: 조달코드 | AY4: 구분
A5: 0101. 가설공사
A6: 시스템비계 | B6: 10m이하 | C6: m2 | D6: 114 | E6: =일위대가목록!G5 -> 455 | F6: =ROUNDDOWN(D6*E6, 0) -> 51870 | G6: =일위대가목록!I5 -> 14693 | H6: =ROUNDDOWN(D6*G6, 0) -> 1675002 | I6: =일위대가목록!K5 -> 0 | J6: =ROUNDDOWN(D6*I6, 0) -> 0 | K6: =E6+G6+I6 -> 15148 | L6: =F6+H6+J6 -> 1726872 | M6: 일위 1호 | O6: ="" | P6: 기계경비 | Q6: 1 | R6: =IF(P6="기계경비", J6, 0) -> 0 | S6: =IF(P6="운반비", L6, 0) -> 0 | T6: =IF(P6="작업부산물", F6, 0) -> 0 | U6: =IF(P6="관급", F6, 0) -> 0 | V6: =IF(P6="외주비", J6, 0) -> 0 | W6: =IF(P6="장비비", J6, 0) -> 0 | X6: =IF(P6="폐기물처리비", L6, 0) -> 0 | Y6: =IF(P6="가설비", J6, 0) -> 0 | Z6: =IF(P6="잡비제외분", F6, 0) -> 0 | AA6: =IF(P6="사급자재대", L6, 0) -> 0 | AB6: =IF(P6="관급자재대", L6, 0) -> 0 | AC6: =IF(P6="사용자항목1", L6, 0) -> 0 | AD6: =IF(P6="사용자항목2", L6, 0) -> 0 | AE6: =IF(P6="안전관리비", L6, 0) -> 0 | AF6: =IF(P6="품질관리비", L6, 0) -> 0 | AG6: =IF(P6="작업부산물(철거해체)", L6, 0) -> 0 | AH6: =IF(P6="사용자항목6", L6, 0) -> 0 | AI6: =IF(P6="사용자항목7", L6, 0) -> 0 | AJ6: =IF(P6="사용자항목8", L6, 0) -> 0 | AK6: =IF(P6="사용자항목9", L6, 0) -> 0 | AL6: =IF(P6="사용자항목10", L6, 0) -> 0 | AM6: =IF(P6="사용자항목11", L6, 0) -> 0 | AN6: =IF(P6="사용자항목12", L6, 0) -> 0 | AO6: =IF(P6="사용자항목13", L6, 0) -> 0 | AP6: =IF(P6="사용자항목14", L6, 0) -> 0 | AQ6: =IF(P6="사용자항목15", L6, 0) -> 0 | AR6: =IF(P6="사용자항목16", L6, 0) -> 0 | AS6: =IF(P6="사용자항목17", L6, 0) -> 0 | AT6: =IF(P6="사용자항목18", L6, 0) -> 0 | AU6: =IF(P6="사용자항목19", L6, 0) -> 0 | AY6: 표준시장단가
A7: 시스템비계 | B7: 10m초과~20m이하 | C7: m2 | D7: 31 | E7: =일위대가목록!G6 -> 555 | F7: =ROUNDDOWN(D7*E7, 0) -> 17205 | G7: =일위대가목록!I6 -> 17932 | H7: =ROUNDDOWN(D7*G7, 0) -> 555892 | I7: =일위대가목록!K6 -> 0 | J7: =ROUNDDOWN(D7*I7, 0) -> 0 | K7: =E7+G7+I7 -> 18487 | L7: =F7+H7+J7 -> 573097 | M7: 일위 2호 | O7: ="" | P7: 기계경비 | Q7: 1 | R7: =IF(P7="기계경비", J7, 0) -> 0 | S7: =IF(P7="운반비", L7, 0) -> 0 | T7: =IF(P7="작업부산물", F7, 0) -> 0 | U7: =IF(P7="관급", F7, 0) -> 0 | V7: =IF(P7="외주비", J7, 0) -> 0 | W7: =IF(P7="장비비", J7, 0) -> 0 | X7: =IF(P7="폐기물처리비", L7, 0) -> 0 | Y7: =IF(P7="가설비", J7, 0) -> 0 | Z7: =IF(P7="잡비제외분", F7, 0) -> 0 | AA7: =IF(P7="사급자재대", L7, 0) -> 0 | AB7: =IF(P7="관급자재대", L7, 0) -> 0 | AC7: =IF(P7="사용자항목1", L7, 0) -> 0 | AD7: =IF(P7="사용자항목2", L7, 0) -> 0 | AE7: =IF(P7="안전관리비", L7, 0) -> 0 | AF7: =IF(P7="품질관리비", L7, 0) -> 0 | AG7: =IF(P7="작업부산물(철거해체)", L7, 0) -> 0 | AH7: =IF(P7="사용자항목6", L7, 0) -> 0 | AI7: =IF(P7="사용자항목7", L7, 0) -> 0 | AJ7: =IF(P7="사용자항목8", L7, 0) -> 0 | AK7: =IF(P7="사용자항목9", L7, 0) -> 0 | AL7: =IF(P7="사용자항목10", L7, 0) -> 0 | AM7: =IF(P7="사용자항목11", L7, 0) -> 0 | AN7: =IF(P7="사용자항목12", L7, 0) -> 0 | AO7: =IF(P7="사용자항목13", L7, 0) -> 0 | AP7: =IF(P7="사용자항목14", L7, 0) -> 0 | AQ7: =IF(P7="사용자항목15", L7, 0) -> 0 | AR7: =IF(P7="사용자항목16", L7, 0) -> 0 | AS7: =IF(P7="사용자항목17", L7, 0) -> 0 | AT7: =IF(P7="사용자항목18", L7, 0) -> 0 | AU7: =IF(P7="사용자항목19", L7, 0) -> 0 | AY7: 표준시장단가
A8: 강관 조립말비계(이동식)설치 및 해체 | B8: 1개월,2단(4m) | C8: 1대 | D8: 1 | E8: =일위대가목록!G7 -> 16273 | F8: =ROUNDDOWN(D8*E8, 0) -> 16273 | G8: =일위대가목록!I7 -> 158067 | H8: =ROUNDDOWN(D8*G8, 0) -> 158067 | I8: =일위대가목록!K7 -> 0 | J8: =ROUNDDOWN(D8*I8, 0) -> 0 | K8: =E8+G8+I8 -> 174340 | L8: =F8+H8+J8 -> 174340 | M8: 일위 3호 | O8: ="" | P8: 기계경비 | Q8: 1 | R8: =IF(P8="기계경비", J8, 0) -> 0 | S8: =IF(P8="운반비", L8, 0) -> 0 | T8: =IF(P8="작업부산물", F8, 0) -> 0 | U8: =IF(P8="관급", F8, 0) -> 0 | V8: =IF(P8="외주비", J8, 0) -> 0 | W8: =IF(P8="장비비", J8, 0) -> 0 | X8: =IF(P8="폐기물처리비", L8, 0) -> 0 | Y8: =IF(P8="가설비", J8, 0) -> 0 | Z8: =IF(P8="잡비제외분", F8, 0) -> 0 | AA8: =IF(P8="사급자재대", L8, 0) -> 0 | AB8: =IF(P8="관급자재대", L8, 0) -> 0 | AC8: =IF(P8="사용자항목1", L8, 0) -> 0 | AD8: =IF(P8="사용자항목2", L8, 0) -> 0 | AE8: =IF(P8="안전관리비", L8, 0) -> 0 | AF8: =IF(P8="품질관리비", L8, 0) -> 0 | AG8: =IF(P8="작업부산물(철거해체)", L8, 0) -> 0 | AH8: =IF(P8="사용자항목6", L8, 0) -> 0 | AI8: =IF(P8="사용자항목7", L8, 0) -> 0 | AJ8: =IF(P8="사용자항목8", L8, 0) -> 0 | AK8: =IF(P8="사용자항목9", L8, 0) -> 0 | AL8: =IF(P8="사용자항목10", L8, 0) -> 0 | AM8: =IF(P8="사용자항목11", L8, 0) -> 0 | AN8: =IF(P8="사용자항목12", L8, 0) -> 0 | AO8: =IF(P8="사용자항목13", L8, 0) -> 0 | AP8: =IF(P8="사용자항목14", L8, 0) -> 0 | AQ8: =IF(P8="사용자항목15", L8, 0) -> 0 | AR8: =IF(P8="사용자항목16", L8, 0) -> 0 | AS8: =IF(P8="사용자항목17", L8, 0) -> 0 | AT8: =IF(P8="사용자항목18", L8, 0) -> 0 | AU8: =IF(P8="사용자항목19", L8, 0) -> 0
A9: 건축물 현장정리 | B9: 2가지이하공종,조적조의20% | C9: M2 | D9: 89 | E9: =일위대가목록!G8 -> 0 | F9: =ROUNDDOWN(D9*E9, 0) -> 0 | G9: =일위대가목록!I8 -> 1726 | H9: =ROUNDDOWN(D9*G9, 0) -> 153614 | I9: =일위대가목록!K8 -> 0 | J9: =ROUNDDOWN(D9*I9, 0) -> 0 | K9: =E9+G9+I9 -> 1726 | L9: =F9+H9+J9 -> 153614 | M9: 일위 4호 | O9: ="" | P9: 기계경비 | Q9: 1 | R9: =IF(P9="기계경비", J9, 0) -> 0 | S9: =IF(P9="운반비", L9, 0) -> 0 | T9: =IF(P9="작업부산물", F9, 0) -> 0 | U9: =IF(P9="관급", F9, 0) -> 0 | V9: =IF(P9="외주비", J9, 0) -> 0 | W9: =IF(P9="장비비", J9, 0) -> 0 | X9: =IF(P9="폐기물처리비", L9, 0) -> 0 | Y9: =IF(P9="가설비", J9, 0) -> 0 | Z9: =IF(P9="잡비제외분", F9, 0) -> 0 | AA9: =IF(P9="사급자재대", L9, 0) -> 0 | AB9: =IF(P9="관급자재대", L9, 0) -> 0 | AC9: =IF(P9="사용자항목1", L9, 0) -> 0 | AD9: =IF(P9="사용자항목2", L9, 0) -> 0 | AE9: =IF(P9="안전관리비", L9, 0) -> 0 | AF9: =IF(P9="품질관리비", L9, 0) -> 0 | AG9: =IF(P9="작업부산물(철거해체)", L9, 0) -> 0 | AH9: =IF(P9="사용자항목6", L9, 0) -> 0 | AI9: =IF(P9="사용자항목7", L9, 0) -> 0 | AJ9: =IF(P9="사용자항목8", L9, 0) -> 0 | AK9: =IF(P9="사용자항목9", L9, 0) -> 0 | AL9: =IF(P9="사용자항목10", L9, 0) -> 0 | AM9: =IF(P9="사용자항목11", L9, 0) -> 0 | AN9: =IF(P9="사용자항목12", L9, 0) -> 0 | AO9: =IF(P9="사용자항목13", L9, 0) -> 0 | AP9: =IF(P9="사용자항목14", L9, 0) -> 0 | AQ9: =IF(P9="사용자항목15", L9, 0) -> 0 | AR9: =IF(P9="사용자항목16", L9, 0) -> 0 | AS9: =IF(P9="사용자항목17", L9, 0) -> 0 | AT9: =IF(P9="사용자항목18", L9, 0) -> 0 | AU9: =IF(P9="사용자항목19", L9, 0) -> 0 | AY9: 무성적산
A20: 합 계 | F20: =ROUNDDOWN(SUMIF(Q6:Q19, "1", F6:F19), 0) -> 85348 | H20: =ROUNDDOWN(SUMIF(Q6:Q19, "1", H6:H19), 0) -> 2542575 | J20: =ROUNDDOWN(SUMIF(Q6:Q19, "1", J6:J19), 0) -> 0 | L20: =F20+H20+J20 -> 2627923 | R20: =ROUNDDOWN(SUM(R6:R9), 0) -> 0 | S20: =ROUNDDOWN(SUM(S6:S9), 0) -> 0 | T20: =ROUNDDOWN(SUM(T6:T9), 0) -> 0 | U20: =ROUNDDOWN(SUM(U6:U9), 0) -> 0 | V20: =ROUNDDOWN(SUM(V6:V9), 0) -> 0 | W20: =ROUNDDOWN(SUM(W6:W9), 0) -> 0 | X20: =ROUNDDOWN(SUM(X6:X9), 0) -> 0 | Y20: =ROUNDDOWN(SUM(Y6:Y9), 0) -> 0 | ... AY20: =ROUNDDOWN(SUM(AY6:AY9), 0) -> 0
A21: 0102. 지붕공사
A22: 일반구조용각형강관 | B22: 일반구조용각형강관, 각형강관, 75×75×3.2t | C22: m | D22: 42 | E22: =단가대비표!O30 -> 9360 | F22: =ROUNDDOWN(D22*E22, 0) -> 393120 | G22: 0 | H22: =ROUNDDOWN(D22*G22, 0) -> 0 | I22: 0 | J22: =ROUNDDOWN(D22*I22, 0) -> 0 | K22: =E22+G22+I22 -> 9360 | L22: =F22+H22+J22 -> 393120 | M22: 흑관, SRT 275 | O22: ="01" -> 01 | P22: 기계경비 | Q22: 1 | R22: =IF(P22="기계경비", J22, 0) -> 0 | S22: =IF(P22="운반비", L22, 0) -> 0 | T22: =IF(P22="작업부산물", F22, 0) -> 0 | U22: =IF(P22="관급", F22, 0) -> 0 | V22: =IF(P22="외주비", J22, 0) -> 0 | W22: =IF(P22="장비비", J22, 0) -> 0 | X22: =IF(P22="폐기물처리비", L22, 0) -> 0 | Y22: =IF(P22="가설비", J22, 0) -> 0 | Z22: =IF(P22="잡비제외분", F22, 0) -> 0 | AA22: =IF(P22="사급자재대", L22, 0) -> 0 | AB22: =IF(P22="관급자재대", L22, 0) -> 0 | AC22: =IF(P22="사용자항목1", L22, 0) -> 0 | AD22: =IF(P22="사용자항목2", L22, 0) -> 0 | AE22: =IF(P22="안전관리비", L22, 0) -> 0 | AF22: =IF(P22="품질관리비", L22, 0) -> 0 | AG22: =IF(P22="작업부산물(철거해체)", L22, 0) -> 0 | AH22: =IF(P22="사용자항목6", L22, 0) -> 0 | AI22: =IF(P22="사용자항목7", L22, 0) -> 0 | AJ22: =IF(P22="사용자항목8", L22, 0) -> 0 | AK22: =IF(P22="사용자항목9", L22, 0) -> 0 | AL22: =IF(P22="사용자항목10", L22, 0) -> 0 | AM22: =IF(P22="사용자항목11", L22, 0) -> 0 | AN22: =IF(P22="사용자항목12", L22, 0) -> 0 | AO22: =IF(P22="사용자항목13", L22, 0) -> 0 | AP22: =IF(P22="사용자항목14", L22, 0) -> 0 | AQ22: =IF(P22="사용자항목15", L22, 0) -> 0 | AR22: =IF(P22="사용자항목16", L22, 0) -> 0 | AS22: =IF(P22="사용자항목17", L22, 0) -> 0 | AT22: =IF(P22="사용자항목18", L22, 0) -> 0 | AU22: =IF(P22="사용자항목19", L22, 0) -> 0
A23: 잡철물 제작 및 설치(현장제작 설치) | B23: 일반철재 | C23: Ton | D23: 0.28 | E23: =일위대가목록!G9 -> 432376 | F23: =ROUNDDOWN(D23*E23, 0) -> 121065 | G23: =일위대가목록!I9 -> 5404703 | H23: =ROUNDDOWN(D23*G23, 0) -> 1513316 | I23: =일위대가목록!K9 -> 0 | J23: =ROUNDDOWN(D23*I23, 0) -> 0 | K23: =E23+G23+I23 -> 5837079 | L23: =F23+H23+J23 -> 1634381 | M23: 일위 5호 | O23: ="" | P23: 기계경비 | Q23: 1 | R23: =IF(P23="기계경비", J23, 0) -> 0 | S23: =IF(P23="운반비", L23, 0) -> 0 | T23: =IF(P23="작업부산물", F23, 0) -> 0 | U23: =IF(P23="관급", F23, 0) -> 0 | V23: =IF(P23="외주비", J23, 0) -> 0 | W23: =IF(P23="장비비", J23, 0) -> 0 | X23: =IF(P23="폐기물처리비", L23, 0) -> 0 | Y23: =IF(P23="가설비", J23, 0) -> 0 | Z23: =IF(P23="잡비제외분", F23, 0) -> 0 | AA23: =IF(P23="사급자재대", L23, 0) -> 0 | AB23: =IF(P23="관급자재대", L23, 0) -> 0 | AC23: =IF(P23="사용자항목1", L23, 0) -> 0 | AD23: =IF(P23="사용자항목2", L23, 0) -> 0 | AE23: =IF(P23="안전관리비", L23, 0) -> 0 | AF23: =IF(P23="품질관리비", L23, 0) -> 0 | AG23: =IF(P23="작업부산물(철거해체)", L23, 0) -> 0 | AH23: =IF(P23="사용자항목6", L23, 0) -> 0 | AI23: =IF(P23="사용자항목7", L23, 0) -> 0 | AJ23: =IF(P23="사용자항목8", L23, 0) -> 0 | AK23: =IF(P23="사용자항목9", L23, 0) -> 0 | AL23: =IF(P23="사용자항목10", L23, 0) -> 0 | AM23: =IF(P23="사용자항목11", L23, 0) -> 0 | AN23: =IF(P23="사용자항목12", L23, 0) -> 0 | AO23: =IF(P23="사용자항목13", L23, 0) -> 0 | AP23: =IF(P23="사용자항목14", L23, 0) -> 0 | AQ23: =IF(P23="사용자항목15", L23, 0) -> 0 | AR23: =IF(P23="사용자항목16", L23, 0) -> 0 | AS23: =IF(P23="사용자항목17", L23, 0) -> 0 | AT23: =IF(P23="사용자항목18", L23, 0) -> 0 | AU23: =IF(P23="사용자항목19", L23, 0) -> 0 | AY23: AJM53100010S
A24: 녹막이페인트(뿜칠) | B24: 1회.2종 | C24: M2 | D24: 12 | E24: =일위대가목록!G10 -> 795 | F24: =ROUNDDOWN(D24*E24, 0) -> 9540 | G24: =일위대가목록!I10 -> 948 | H24: =ROUNDDOWN(D24*G24, 0) -> 11376 | I24: =일위대가목록!K10 -> 0 | J24: =ROUNDDOWN(D24*I24, 0) -> 0 | K24: =E24+G24+I24 -> 1743 | L24: =F24+H24+J24 -> 20916 | M24: 일위 6호 | O24: ="" | P24: 기계경비 | Q24: 1 | R24: =IF(P24="기계경비", J24, 0) -> 0 | S24: =IF(P24="운반비", L24, 0) -> 0 | T24: =IF(P24="작업부산물", F24, 0) -> 0 | U24: =IF(P24="관급", F24, 0) -> 0 | V24: =IF(P24="외주비", J24, 0) -> 0 | W24: =IF(P24="장비비", J24, 0) -> 0 | X24: =IF(P24="폐기물처리비", L24, 0) -> 0 | Y24: =IF(P24="가설비", J24, 0) -> 0 | Z24: =IF(P24="잡비제외분", F24, 0) -> 0 | AA24: =IF(P24="사급자재대", L24, 0) -> 0 | AB24: =IF(P24="관급자재대", L24, 0) -> 0 | AC24: =IF(P24="사용자항목1", L24, 0) -> 0 | AD24: =IF(P24="사용자항목2", L24, 0) -> 0 | AE24: =IF(P24="안전관리비", L24, 0) -> 0 | AF24: =IF(P24="품질관리비", L24, 0) -> 0 | AG24: =IF(P24="작업부산물(철거해체)", L24, 0) -> 0 | AH24: =IF(P24="사용자항목6", L24, 0) -> 0 | AI24: =IF(P24="사용자항목7", L24, 0) -> 0 | AJ24: =IF(P24="사용자항목8", L24, 0) -> 0 | AK24: =IF(P24="사용자항목9", L24, 0) -> 0 | AL24: =IF(P24="사용자항목10", L24, 0) -> 0 | AM24: =IF(P24="사용자항목11", L24, 0) -> 0 | AN24: =IF(P24="사용자항목12", L24, 0) -> 0 | AO24: =IF(P24="사용자항목13", L24, 0) -> 0 | AP24: =IF(P24="사용자항목14", L24, 0) -> 0 | AQ24: =IF(P24="사용자항목15", L24, 0) -> 0 | AR24: =IF(P24="사용자항목16", L24, 0) -> 0 | AS24: =IF(P24="사용자항목17", L24, 0) -> 0 | AT24: =IF(P24="사용자항목18", L24, 0) -> 0 | AU24: =IF(P24="사용자항목19", L24, 0) -> 0
A25: 합판바닥 깔기 | B25: 바닥,내수, 12mm | C25: M2 | D25: 64 | E25: =일위대가목록!G11 -> 12548 | F25: =ROUNDDOWN(D25*E25, 0) -> 803072 | G25: =일위대가목록!I11 -> 8423 | H25: =ROUNDDOWN(D25*G25, 0) -> 539072 | I25: =일위대가목록!K11 -> 336 | J25: =ROUNDDOWN(D25*I25, 0) -> 21504 | K25: =E25+G25+I25 -> 21307 | L25: =F25+H25+J25 -> 1363648 | M25: 일위 7호 | O25: ="" | P25: 기계경비 | Q25: 1 | R25: =IF(P25="기계경비", J25, 0) -> 21504 | S25: =IF(P25="운반비", L25, 0) -> 0 | T25: =IF(P25="작업부산물", F25, 0) -> 0 | U25: =IF(P25="관급", F25, 0) -> 0 | V25: =IF(P25="외주비", J25, 0) -> 0 | W25: =IF(P25="장비비", J25, 0) -> 0 | X25: =IF(P25="폐기물처리비", L25, 0) -> 0 | Y25: =IF(P25="가설비", J25, 0) -> 0 | Z25: =IF(P25="잡비제외분", F25, 0) -> 0 | AA25: =IF(P25="사급자재대", L25, 0) -> 0 | AB25: =IF(P25="관급자재대", L25, 0) -> 0 | AC25: =IF(P25="사용자항목1", L25, 0) -> 0 | AD25: =IF(P25="사용자항목2", L25, 0) -> 0 | AE25: =IF(P25="안전관리비", L25, 0) -> 0 | AF25: =IF(P25="품질관리비", L25, 0) -> 0 | AG25: =IF(P25="작업부산물(철거해체)", L25, 0) -> 0 | AH25: =IF(P25="사용자항목6", L25, 0) -> 0 | AI25: =IF(P25="사용자항목7", L25, 0) -> 0 | AJ25: =IF(P25="사용자항목8", L25, 0) -> 0 | AK25: =IF(P25="사용자항목9", L25, 0) -> 0 | AL25: =IF(P25="사용자항목10", L25, 0) -> 0 | AM25: =IF(P25="사용자항목11", L25, 0) -> 0 | AN25: =IF(P25="사용자항목12", L25, 0) -> 0 | AO25: =IF(P25="사용자항목13", L25, 0) -> 0 | AP25: =IF(P25="사용자항목14", L25, 0) -> 0 | AQ25: =IF(P25="사용자항목15", L25, 0) -> 0 | AR25: =IF(P25="사용자항목16", L25, 0) -> 0 | AS25: =IF(P25="사용자항목17", L25, 0) -> 0 | AT25: =IF(P25="사용자항목18", L25, 0) -> 0 | AU25: =IF(P25="사용자항목19", L25, 0) -> 0 | AY25: 무성적산
A26: SHEET방수(바닥) | B26: ECB시트,T:1.0 | C26: M2 | D26: 64 | E26: =일위대가목록!G12 -> 10239 | F26: =ROUNDDOWN(D26*E26, 0) -> 655296 | G26: =일위대가목록!I12 -> 19170 | H26: =ROUNDDOWN(D26*G26, 0) -> 1226880 | I26: =일위대가목록!K12 -> 575 | J26: =ROUNDDOWN(D26*I26, 0) -> 36800 | K26: =E26+G26+I26 -> 29984 | L26: =F26+H26+J26 -> 1918976 | M26: 일위 8호 | O26: ="" | P26: 기계경비 | Q26: 1 | R26: =IF(P26="기계경비", J26, 0) -> 36800 | S26: =IF(P26="운반비", L26, 0) -> 0 | T26: =IF(P26="작업부산물", F26, 0) -> 0 | U26: =IF(P26="관급", F26, 0) -> 0 | V26: =IF(P26="외주비", J26, 0) -> 0 | W26: =IF(P26="장비비", J26, 0) -> 0 | X26: =IF(P26="폐기물처리비", L26, 0) -> 0 | Y26: =IF(P26="가설비", J26, 0) -> 0 | Z26: =IF(P26="잡비제외분", F26, 0) -> 0 | AA26: =IF(P26="사급자재대", L26, 0) -> 0 | AB26: =IF(P26="관급자재대", L26, 0) -> 0 | AC26: =IF(P26="사용자항목1", L26, 0) -> 0 | AD26: =IF(P26="사용자항목2", L26, 0) -> 0 | AE26: =IF(P26="안전관리비", L26, 0) -> 0 | AF26: =IF(P26="품질관리비", L26, 0) -> 0 | AG26: =IF(P26="작업부산물(철거해체)", L26, 0) -> 0 | AH26: =IF(P26="사용자항목6", L26, 0) -> 0 | AI26: =IF(P26="사용자항목7", L26, 0) -> 0 | AJ26: =IF(P26="사용자항목8", L26, 0) -> 0 | AK26: =IF(P26="사용자항목9", L26, 0) -> 0 | AL26: =IF(P26="사용자항목10", L26, 0) -> 0 | AM26: =IF(P26="사용자항목11", L26, 0) -> 0 | AN26: =IF(P26="사용자항목12", L26, 0) -> 0 | AO26: =IF(P26="사용자항목13", L26, 0) -> 0 | AP26: =IF(P26="사용자항목14", L26, 0) -> 0 | AQ26: =IF(P26="사용자항목15", L26, 0) -> 0 | AR26: =IF(P26="사용자항목16", L26, 0) -> 0 | AS26: =IF(P26="사용자항목17", L26, 0) -> 0 | AT26: =IF(P26="사용자항목18", L26, 0) -> 0 | AU26: =IF(P26="사용자항목19", L26, 0) -> 0
A27: 아스팔트슁글깔기 | B27: 336*5.0T(이중그림자) | C27: M2 | D27: 64 | E27: =일위대가목록!G13 -> 24000 | F27: =ROUNDDOWN(D27*E27, 0) -> 1536000 | G27: =일위대가목록!I13 -> 17586 | H27: =ROUNDDOWN(D27*G27, 0) -> 1125504 | I27: =일위대가목록!K13 -> 351 | J27: =ROUNDDOWN(D27*I27, 0) -> 22464 | K27: =E27+G27+I27 -> 41937 | L27: =F27+H27+J27 -> 2683968 | M27: 일위 9호 | O27: ="" | P27: 기계경비 | Q27: 1 | R27: =IF(P27="기계경비", J27, 0) -> 22464 | S27: =IF(P27="운반비", L27, 0) -> 0 | T27: =IF(P27="작업부산물", F27, 0) -> 0 | U27: =IF(P27="관급", F27, 0) -> 0 | V27: =IF(P27="외주비", J27, 0) -> 0 | W27: =IF(P27="장비비", J27, 0) -> 0 | X27: =IF(P27="폐기물처리비", L27, 0) -> 0 | Y27: =IF(P27="가설비", J27, 0) -> 0 | Z27: =IF(P27="잡비제외분", F27, 0) -> 0 | AA27: =IF(P27="사급자재대", L27, 0) -> 0 | AB27: =IF(P27="관급자재대", L27, 0) -> 0 | AC27: =IF(P27="사용자항목1", L27, 0) -> 0 | AD27: =IF(P27="사용자항목2", L27, 0) -> 0 | AE27: =IF(P27="안전관리비", L27, 0) -> 0 | AF27: =IF(P27="품질관리비", L27, 0) -> 0 | AG27: =IF(P27="작업부산물(철거해체)", L27, 0) -> 0 | AH27: =IF(P27="사용자항목6", L27, 0) -> 0 | AI27: =IF(P27="사용자항목7", L27, 0) -> 0 | AJ27: =IF(P27="사용자항목8", L27, 0) -> 0 | AK27: =IF(P27="사용자항목9", L27, 0) -> 0 | AL27: =IF(P27="사용자항목10", L27, 0) -> 0 | AM27: =IF(P27="사용자항목11", L27, 0) -> 0 | AN27: =IF(P27="사용자항목12", L27, 0) -> 0 | AO27: =IF(P27="사용자항목13", L27, 0) -> 0 | AP27: =IF(P27="사용자항목14", L27, 0) -> 0 | AQ27: =IF(P27="사용자항목15", L27, 0) -> 0 | AR27: =IF(P27="사용자항목16", L27, 0) -> 0 | AS27: =IF(P27="사용자항목17", L27, 0) -> 0 | AT27: =IF(P27="사용자항목18", L27, 0) -> 0 | AU27: =IF(P27="사용자항목19", L27, 0) -> 0
A36: 합 계 | F36: =ROUNDDOWN(SUMIF(Q22:Q35, "1", F22:F35), 0) -> 3518093 | H36: =ROUNDDOWN(SUMIF(Q22:Q35, "1", H22:H35), 0) -> 4416148 | J36: =ROUNDDOWN(SUMIF(Q22:Q35, "1", J22:J35), 0) -> 80768 | L36: =F36+H36+J36 -> 8015009 | R36: =ROUNDDOWN(SUM(R22:R27), 0) -> 80768 | S36: =ROUNDDOWN(SUM(S22:S27), 0) -> 0 | T36: =ROUNDDOWN(SUM(T22:T27), 0) -> 0 | U36: =ROUNDDOWN(SUM(U22:U27), 0) -> 0 | V36: =ROUNDDOWN(SUM(V22:V27), 0) -> 0 | W36: =ROUNDDOWN(SUM(W22:W27), 0) -> 0 | X36: =ROUNDDOWN(SUM(X22:X27), 0) -> 0 | Y36: =ROUNDDOWN(SUM(Y22:Y27), 0) -> 0 | ... AY36: =ROUNDDOWN(SUM(AY22:AY27), 0) -> 0
A37: 0103. 도장공사
A38: 고압물청소 | C38: M2 | D38: 454 | E38: =일위대가목록!G14 -> 0 | F38: =ROUNDDOWN(D38*E38, 0) -> 0 | G38: =일위대가목록!I14 -> 5489 | H38: =ROUNDDOWN(D38*G38, 0) -> 2492006 | I38: =일위대가목록!K14 -> 109 | J38: =ROUNDDOWN(D38*I38, 0) -> 49486 | K38: =E38+G38+I38 -> 5598 | L38: =F38+H38+J38 -> 2541492 | M38: 일위 10호 | O38: ="" | P38: 기계경비 | Q38: 1 | R38: =IF(P38="기계경비", J38, 0) -> 49486 | S38: =IF(P38="운반비", L38, 0) -> 0 | T38: =IF(P38="작업부산물", F38, 0) -> 0 | U38: =IF(P38="관급", F38, 0) -> 0 | V38: =IF(P38="외주비", J38, 0) -> 0 | W38: =IF(P38="장비비", J38, 0) -> 0 | X38: =IF(P38="폐기물처리비", L38, 0) -> 0 | Y38: =IF(P38="가설비", J38, 0) -> 0 | Z38: =IF(P38="잡비제외분", F38, 0) -> 0 | AA38: =IF(P38="사급자재대", L38, 0) -> 0 | AB38: =IF(P38="관급자재대", L38, 0) -> 0 | AC38: =IF(P38="사용자항목1", L38, 0) -> 0 | AD38: =IF(P38="사용자항목2", L38, 0) -> 0 | AE38: =IF(P38="안전관리비", L38, 0) -> 0 | AF38: =IF(P38="품질관리비", L38, 0) -> 0 | AG38: =IF(P38="작업부산물(철거해체)", L38, 0) -> 0 | AH38: =IF(P38="사용자항목6", L38, 0) -> 0 | AI38: =IF(P38="사용자항목7", L38, 0) -> 0 | AJ38: =IF(P38="사용자항목8", L38, 0) -> 0 | AK38: =IF(P38="사용자항목9", L38, 0) -> 0 | AL38: =IF(P38="사용자항목10", L38, 0) -> 0 | AM38: =IF(P38="사용자항목11", L38, 0) -> 0 | AN38: =IF(P38="사용자항목12", L38, 0) -> 0 | AO38: =IF(P38="사용자항목13", L38, 0) -> 0 | AP38: =IF(P38="사용자항목14", L38, 0) -> 0 | AQ38: =IF(P38="사용자항목15", L38, 0) -> 0 | AR38: =IF(P38="사용자항목16", L38, 0) -> 0 | AS38: =IF(P38="사용자항목17", L38, 0) -> 0 | AT38: =IF(P38="사용자항목18", L38, 0) -> 0 | AU38: =IF(P38="사용자항목19", L38, 0) -> 0
A39: 친환경수성페인트칠(롤러칠) | B39: 기존외벽,2회,2급 | C39: M2 | D39: 258 | E39: =일위대가목록!G15 -> 1088 | F39: =ROUNDDOWN(D39*E39, 0) -> 280704 | G39: =일위대가목록!I15 -> 9497 | H39: =ROUNDDOWN(D39*G39, 0) -> 2450226 | I39: =일위대가목록!K15 -> 0 | J39: =ROUNDDOWN(D39*I39, 0) -> 0 | K39: =E39+G39+I39 -> 10585 | L39: =F39+H39+J39 -> 2730930 | M39: 일위 11호 | O39: ="" | P39: 기계경비 | Q39: 1 | R39: =IF(P39="기계경비", J39, 0) -> 0 | S39: =IF(P39="운반비", L39, 0) -> 0 | T39: =IF(P39="작업부산물", F39, 0) -> 0 | U39: =IF(P39="관급", F39, 0) -> 0 | V39: =IF(P39="외주비", J39, 0) -> 0 | W39: =IF(P39="장비비", J39, 0) -> 0 | X39: =IF(P39="폐기물처리비", L39, 0) -> 0 | Y39: =IF(P39="가설비", J39, 0) -> 0 | Z39: =IF(P39="잡비제외분", F39, 0) -> 0 | AA39: =IF(P39="사급자재대", L39, 0) -> 0 | AB39: =IF(P39="관급자재대", L39, 0) -> 0 | AC39: =IF(P39="사용자항목1", L39, 0) -> 0 | AD39: =IF(P39="사용자항목2", L39, 0) -> 0 | AE39: =IF(P39="안전관리비", L39, 0) -> 0 | AF39: =IF(P39="품질관리비", L39, 0) -> 0 | AG39: =IF(P39="작업부산물(철거해체)", L39, 0) -> 0 | AH39: =IF(P39="사용자항목6", L39, 0) -> 0 | AI39: =IF(P39="사용자항목7", L39, 0) -> 0 | AJ39: =IF(P39="사용자항목8", L39, 0) -> 0 | AK39: =IF(P39="사용자항목9", L39, 0) -> 0 | AL39: =IF(P39="사용자항목10", L39, 0) -> 0 | AM39: =IF(P39="사용자항목11", L39, 0) -> 0 | AN39: =IF(P39="사용자항목12", L39, 0) -> 0 | AO39: =IF(P39="사용자항목13", L39, 0) -> 0 | AP39: =IF(P39="사용자항목14", L39, 0) -> 0 | AQ39: =IF(P39="사용자항목15", L39, 0) -> 0 | AR39: =IF(P39="사용자항목16", L39, 0) -> 0 | AS39: =IF(P39="사용자항목17", L39, 0) -> 0 | AT39: =IF(P39="사용자항목18", L39, 0) -> 0 | AU39: =IF(P39="사용자항목19", L39, 0) -> 0
A40: 외벽단열마감재 | B40: 표준마감-피니쉬시스템 | C40: M2 | D40: 196 | E40: =단가대비표!O28 -> 49630 | F40: =ROUNDDOWN(D40*E40, 0) -> 9727480 | G40: 0 | H40: =ROUNDDOWN(D40*G40, 0) -> 0 | I40: 0 | J40: =ROUNDDOWN(D40*I40, 0) -> 0 | K40: =E40+G40+I40 -> 49630 | L40: =F40+H40+J40 -> 9727480 | M40: 준불연 | O40: ="01" -> 01 | P40: 기계경비 | Q40: 1 | R40: =IF(P40="기계경비", J40, 0) -> 0 | S40: =IF(P40="운반비", L40, 0) -> 0 | T40: =IF(P40="작업부산물", F40, 0) -> 0 | U40: =IF(P40="관급", F40, 0) -> 0 | V40: =IF(P40="외주비", J40, 0) -> 0 | W40: =IF(P40="장비비", J40, 0) -> 0 | X40: =IF(P40="폐기물처리비", L40, 0) -> 0 | Y40: =IF(P40="가설비", J40, 0) -> 0 | Z40: =IF(P40="잡비제외분", F40, 0) -> 0 | AA40: =IF(P40="사급자재대", L40, 0) -> 0 | AB40: =IF(P40="관급자재대", L40, 0) -> 0 | AC40: =IF(P40="사용자항목1", L40, 0) -> 0 | AD40: =IF(P40="사용자항목2", L40, 0) -> 0 | AE40: =IF(P40="안전관리비", L40, 0) -> 0 | AF40: =IF(P40="품질관리비", L40, 0) -> 0 | AG40: =IF(P40="작업부산물(철거해체)", L40, 0) -> 0 | AH40: =IF(P40="사용자항목6", L40, 0) -> 0 | AI40: =IF(P40="사용자항목7", L40, 0) -> 0 | AJ40: =IF(P40="사용자항목8", L40, 0) -> 0 | AK40: =IF(P40="사용자항목9", L40, 0) -> 0 | AL40: =IF(P40="사용자항목10", L40, 0) -> 0 | AM40: =IF(P40="사용자항목11", L40, 0) -> 0 | AN40: =IF(P40="사용자항목12", L40, 0) -> 0 | AO40: =IF(P40="사용자항목13", L40, 0) -> 0 | AP40: =IF(P40="사용자항목14", L40, 0) -> 0 | AQ40: =IF(P40="사용자항목15", L40, 0) -> 0 | AR40: =IF(P40="사용자항목16", L40, 0) -> 0 | AS40: =IF(P40="사용자항목17", L40, 0) -> 0 | AT40: =IF(P40="사용자항목18", L40, 0) -> 0 | AU40: =IF(P40="사용자항목19", L40, 0) -> 0
A52: 합 계 | F52: =ROUNDDOWN(SUMIF(Q38:Q51, "1", F38:F51), 0) -> 10008184 | H52: =ROUNDDOWN(SUMIF(Q38:Q51, "1", H38:H51), 0) -> 4942232 | J52: =ROUNDDOWN(SUMIF(Q38:Q51, "1", J38:J51), 0) -> 49486 | L52: =F52+H52+J52 -> 14999902 | R52: =ROUNDDOWN(SUM(R38:R40), 0) -> 49486 | S52: =ROUNDDOWN(SUM(S38:S40), 0) -> 0 | T52: =ROUNDDOWN(SUM(T38:T40), 0) -> 0 | U52: =ROUNDDOWN(SUM(U38:U40), 0) -> 0 | V52: =ROUNDDOWN(SUM(V38:V40), 0) -> 0 | W52: =ROUNDDOWN(SUM(W38:W40), 0) -> 0 | X52: =ROUNDDOWN(SUM(X38:X40), 0) -> 0 | Y52: =ROUNDDOWN(SUM(Y38:Y40), 0) -> 0 | ... AY52: =ROUNDDOWN(SUM(AY38:AY40), 0) -> 0
A53: 0104. 수장공사
A54: 도배바름(콘크리트.모르타르면) | B54: 벽, 비닐벽지, 실크형, A급 | C54: M2 | D54: 58 | E54: =일위대가목록!G16 -> 3579 | F54: =ROUNDDOWN(D54*E54, 0) -> 207582 | G54: =일위대가목록!I16 -> 6726 | H54: =ROUNDDOWN(D54*G54, 0) -> 390108 | I54: =일위대가목록!K16 -> 0 | J54: =ROUNDDOWN(D54*I54, 0) -> 0 | K54: =E54+G54+I54 -> 10305 | L54: =F54+H54+J54 -> 597690 | M54: 일위 12호 | O54: ="" | P54: 기계경비 | Q54: 1 | R54: =IF(P54="기계경비", J54, 0) -> 0 | S54: =IF(P54="운반비", L54, 0) -> 0 | T54: =IF(P54="작업부산물", F54, 0) -> 0 | U54: =IF(P54="관급", F54, 0) -> 0 | V54: =IF(P54="외주비", J54, 0) -> 0 | W54: =IF(P54="장비비", J54, 0) -> 0 | X54: =IF(P54="폐기물처리비", L54, 0) -> 0 | Y54: =IF(P54="가설비", J54, 0) -> 0 | Z54: =IF(P54="잡비제외분", F54, 0) -> 0 | AA54: =IF(P54="사급자재대", L54, 0) -> 0 | AB54: =IF(P54="관급자재대", L54, 0) -> 0 | AC54: =IF(P54="사용자항목1", L54, 0) -> 0 | AD54: =IF(P54="사용자항목2", L54, 0) -> 0 | AE54: =IF(P54="안전관리비", L54, 0) -> 0 | AF54: =IF(P54="품질관리비", L54, 0) -> 0 | AG54: =IF(P54="작업부산물(철거해체)", L54, 0) -> 0 | AH54: =IF(P54="사용자항목6", L54, 0) -> 0 | AI54: =IF(P54="사용자항목7", L54, 0) -> 0 | AJ54: =IF(P54="사용자항목8", L54, 0) -> 0 | AK54: =IF(P54="사용자항목9", L54, 0) -> 0 | AL54: =IF(P54="사용자항목10", L54, 0) -> 0 | AM54: =IF(P54="사용자항목11", L54, 0) -> 0 | AN54: =IF(P54="사용자항목12", L54, 0) -> 0 | AO54: =IF(P54="사용자항목13", L54, 0) -> 0 | AP54: =IF(P54="사용자항목14", L54, 0) -> 0 | AQ54: =IF(P54="사용자항목15", L54, 0) -> 0 | AR54: =IF(P54="사용자항목16", L54, 0) -> 0 | AS54: =IF(P54="사용자항목17", L54, 0) -> 0 | AT54: =IF(P54="사용자항목18", L54, 0) -> 0 | AU54: =IF(P54="사용자항목19", L54, 0) -> 0
A55: 도배바름(합판.석고보드면) | B55: 천장, 비닐벽지, 실크형, A급 | C55: M2 | D55: 25 | E55: =일위대가목록!G17 -> 3483 | F55: =ROUNDDOWN(D55*E55, 0) -> 87075 | G55: =일위대가목록!I17 -> 9715 | H55: =ROUNDDOWN(D55*G55, 0) -> 242875 | I55: =일위대가목록!K17 -> 0 | J55: =ROUNDDOWN(D55*I55, 0) -> 0 | K55: =E55+G55+I55 -> 13198 | L55: =F55+H55+J55 -> 329950 | M55: 일위 13호 | O55: ="" | P55: 기계경비 | Q55: 1 | R55: =IF(P55="기계경비", J55, 0) -> 0 | S55: =IF(P55="운반비", L55, 0) -> 0 | T55: =IF(P55="작업부산물", F55, 0) -> 0 | U55: =IF(P55="관급", F55, 0) -> 0 | V55: =IF(P55="외주비", J55, 0) -> 0 | W55: =IF(P55="장비비", J55, 0) -> 0 | X55: =IF(P55="폐기물처리비", L55, 0) -> 0 | Y55: =IF(P55="가설비", J55, 0) -> 0 | Z55: =IF(P55="잡비제외분", F55, 0) -> 0 | AA55: =IF(P55="사급자재대", L55, 0) -> 0 | AB55: =IF(P55="관급자재대", L55, 0) -> 0 | AC55: =IF(P55="사용자항목1", L55, 0) -> 0 | AD55: =IF(P55="사용자항목2", L55, 0) -> 0 | AE55: =IF(P55="안전관리비", L55, 0) -> 0 | AF55: =IF(P55="품질관리비", L55, 0) -> 0 | AG55: =IF(P55="작업부산물(철거해체)", L55, 0) -> 0 | AH55: =IF(P55="사용자항목6", L55, 0) -> 0 | AI55: =IF(P55="사용자항목7", L55, 0) -> 0 | AJ55: =IF(P55="사용자항목8", L55, 0) -> 0 | AK55: =IF(P55="사용자항목9", L55, 0) -> 0 | AL55: =IF(P55="사용자항목10", L55, 0) -> 0 | AM55: =IF(P55="사용자항목11", L55, 0) -> 0 | AN55: =IF(P55="사용자항목12", L55, 0) -> 0 | AO55: =IF(P55="사용자항목13", L55, 0) -> 0 | AP55: =IF(P55="사용자항목14", L55, 0) -> 0 | AQ55: =IF(P55="사용자항목15", L55, 0) -> 0 | AR55: =IF(P55="사용자항목16", L55, 0) -> 0 | AS55: =IF(P55="사용자항목17", L55, 0) -> 0 | AT55: =IF(P55="사용자항목18", L55, 0) -> 0 | AU55: =IF(P55="사용자항목19", L55, 0) -> 0
A56: 석고판 설치(나사고정,석고판포함) | B56: 천장, 일반, 바탕용 9.5mm(1겹) | C56: M2 | D56: 25 | E56: =일위대가목록!G18 -> 3110 | F56: =ROUNDDOWN(D56*E56, 0) -> 77750 | G56: =일위대가목록!I18 -> 15191 | H56: =ROUNDDOWN(D56*G56, 0) -> 379775 | I56: =일위대가목록!K18 -> 151 | J56: =ROUNDDOWN(D56*I56, 0) -> 3775 | K56: =E56+G56+I56 -> 18452 | L56: =F56+H56+J56 -> 461300 | M56: 일위 14호 | O56: ="" | P56: 기계경비 | Q56: 1 | R56: =IF(P56="기계경비", J56, 0) -> 3775 | S56: =IF(P56="운반비", L56, 0) -> 0 | T56: =IF(P56="작업부산물", F56, 0) -> 0 | U56: =IF(P56="관급", F56, 0) -> 0 | V56: =IF(P56="외주비", J56, 0) -> 0 | W56: =IF(P56="장비비", J56, 0) -> 0 | X56: =IF(P56="폐기물처리비", L56, 0) -> 0 | Y56: =IF(P56="가설비", J56, 0) -> 0 | Z56: =IF(P56="잡비제외분", F56, 0) -> 0 | AA56: =IF(P56="사급자재대", L56, 0) -> 0 | AB56: =IF(P56="관급자재대", L56, 0) -> 0 | AC56: =IF(P56="사용자항목1", L56, 0) -> 0 | AD56: =IF(P56="사용자항목2", L56, 0) -> 0 | AE56: =IF(P56="안전관리비", L56, 0) -> 0 | AF56: =IF(P56="품질관리비", L56, 0) -> 0 | AG56: =IF(P56="작업부산물(철거해체)", L56, 0) -> 0 | AH56: =IF(P56="사용자항목6", L56, 0) -> 0 | AI56: =IF(P56="사용자항목7", L56, 0) -> 0 | AJ56: =IF(P56="사용자항목8", L56, 0) -> 0 | AK56: =IF(P56="사용자항목9", L56, 0) -> 0 | AL56: =IF(P56="사용자항목10", L56, 0) -> 0 | AM56: =IF(P56="사용자항목11", L56, 0) -> 0 | AN56: =IF(P56="사용자항목12", L56, 0) -> 0 | AO56: =IF(P56="사용자항목13", L56, 0) -> 0 | AP56: =IF(P56="사용자항목14", L56, 0) -> 0 | AQ56: =IF(P56="사용자항목15", L56, 0) -> 0 | AR56: =IF(P56="사용자항목16", L56, 0) -> 0 | AS56: =IF(P56="사용자항목17", L56, 0) -> 0 | AT56: =IF(P56="사용자항목18", L56, 0) -> 0 | AU56: =IF(P56="사용자항목19", L56, 0) -> 0
A57: 목재몰딩 설치 | B57: MDF 9×60,무늬목,방염 | C57: M | D57: 24 | E57: =일위대가목록!G19 -> 2384 | F57: =ROUNDDOWN(D57*E57, 0) -> 57216 | G57: =일위대가목록!I19 -> 9061 | H57: =ROUNDDOWN(D57*G57, 0) -> 217464 | I57: =일위대가목록!K19 -> 362 | J57: =ROUNDDOWN(D57*I57, 0) -> 8688 | K57: =E57+G57+I57 -> 11807 | L57: =F57+H57+J57 -> 283368 | M57: 일위 15호 | O57: ="" | P57: 기계경비 | Q57: 1 | R57: =IF(P57="기계경비", J57, 0) -> 8688 | S57: =IF(P57="운반비", L57, 0) -> 0 | T57: =IF(P57="작업부산물", F57, 0) -> 0 | U57: =IF(P57="관급", F57, 0) -> 0 | V57: =IF(P57="외주비", J57, 0) -> 0 | W57: =IF(P57="장비비", J57, 0) -> 0 | X57: =IF(P57="폐기물처리비", L57, 0) -> 0 | Y57: =IF(P57="가설비", J57, 0) -> 0 | Z57: =IF(P57="잡비제외분", F57, 0) -> 0 | AA57: =IF(P57="사급자재대", L57, 0) -> 0 | AB57: =IF(P57="관급자재대", L57, 0) -> 0 | AC57: =IF(P57="사용자항목1", L57, 0) -> 0 | AD57: =IF(P57="사용자항목2", L57, 0) -> 0 | AE57: =IF(P57="안전관리비", L57, 0) -> 0 | AF57: =IF(P57="품질관리비", L57, 0) -> 0 | AG57: =IF(P57="작업부산물(철거해체)", L57, 0) -> 0 | AH57: =IF(P57="사용자항목6", L57, 0) -> 0 | AI57: =IF(P57="사용자항목7", L57, 0) -> 0 | AJ57: =IF(P57="사용자항목8", L57, 0) -> 0 | AK57: =IF(P57="사용자항목9", L57, 0) -> 0 | AL57: =IF(P57="사용자항목10", L57, 0) -> 0 | AM57: =IF(P57="사용자항목11", L57, 0) -> 0 | AN57: =IF(P57="사용자항목12", L57, 0) -> 0 | AO57: =IF(P57="사용자항목13", L57, 0) -> 0 | AP57: =IF(P57="사용자항목14", L57, 0) -> 0 | AQ57: =IF(P57="사용자항목15", L57, 0) -> 0 | AR57: =IF(P57="사용자항목16", L57, 0) -> 0 | AS57: =IF(P57="사용자항목17", L57, 0) -> 0 | AT57: =IF(P57="사용자항목18", L57, 0) -> 0 | AU57: =IF(P57="사용자항목19", L57, 0) -> 0 | AY57: 무성적산
A68: 합 계 | F68: =ROUNDDOWN(SUMIF(Q54:Q67, "1", F54:F67), 0) -> 429623 | H68: =ROUNDDOWN(SUMIF(Q54:Q67, "1", H54:H67), 0) -> 1230222 | J68: =ROUNDDOWN(SUMIF(Q54:Q67, "1", J54:J67), 0) -> 12463 | L68: =F68+H68+J68 -> 1672308 | R68: =ROUNDDOWN(SUM(R54:R57), 0) -> 12463 | S68: =ROUNDDOWN(SUM(S54:S57), 0) -> 0 | T68: =ROUNDDOWN(SUM(T54:T57), 0) -> 0 | U68: =ROUNDDOWN(SUM(U54:U57), 0) -> 0 | V68: =ROUNDDOWN(SUM(V54:V57), 0) -> 0 | W68: =ROUNDDOWN(SUM(W54:W57), 0) -> 0 | X68: =ROUNDDOWN(SUM(X54:X57), 0) -> 0 | Y68: =ROUNDDOWN(SUM(Y54:Y57), 0) -> 0 | ... AY68: =ROUNDDOWN(SUM(AY54:AY57), 0) -> 0
A69: 0105. 기타공사
A70: 전등및감지기,스프링쿨러헤드 탈착후재설치 | C70: 식 | D70: 1 | E70: 500000 | F70: =ROUNDDOWN(D70*E70, 0) -> 500000 | H70: =ROUNDDOWN(D70*G70, 0) -> 0 | J70: =ROUNDDOWN(D70*I70, 0) -> 0 | K70: =E70+G70+I70 -> 500000 | L70: =F70+H70+J70 -> 500000 | O70: ="" | P70: 기계경비 | Q70: 1 | R70: =IF(P70="기계경비", J70, 0) -> 0 | S70: =IF(P70="운반비", L70, 0) -> 0 | T70: =IF(P70="작업부산물", F70, 0) -> 0 | U70: =IF(P70="관급", F70, 0) -> 0 | V70: =IF(P70="외주비", J70, 0) -> 0 | W70: =IF(P70="장비비", J70, 0) -> 0 | X70: =IF(P70="폐기물처리비", L70, 0) -> 0 | Y70: =IF(P70="가설비", J70, 0) -> 0 | Z70: =IF(P70="잡비제외분", F70, 0) -> 0 | AA70: =IF(P70="사급자재대", L70, 0) -> 0 | AB70: =IF(P70="관급자재대", L70, 0) -> 0 | AC70: =IF(P70="사용자항목1", L70, 0) -> 0 | AD70: =IF(P70="사용자항목2", L70, 0) -> 0 | AE70: =IF(P70="안전관리비", L70, 0) -> 0 | AF70: =IF(P70="품질관리비", L70, 0) -> 0 | AG70: =IF(P70="작업부산물(철거해체)", L70, 0) -> 0 | AH70: =IF(P70="사용자항목6", L70, 0) -> 0 | AI70: =IF(P70="사용자항목7", L70, 0) -> 0 | AJ70: =IF(P70="사용자항목8", L70, 0) -> 0 | AK70: =IF(P70="사용자항목9", L70, 0) -> 0 | AL70: =IF(P70="사용자항목10", L70, 0) -> 0 | AM70: =IF(P70="사용자항목11", L70, 0) -> 0 | AN70: =IF(P70="사용자항목12", L70, 0) -> 0 | AO70: =IF(P70="사용자항목13", L70, 0) -> 0 | AP70: =IF(P70="사용자항목14", L70, 0) -> 0 | AQ70: =IF(P70="사용자항목15", L70, 0) -> 0 | AR70: =IF(P70="사용자항목16", L70, 0) -> 0 | AS70: =IF(P70="사용자항목17", L70, 0) -> 0 | AT70: =IF(P70="사용자항목18", L70, 0) -> 0 | AU70: =IF(P70="사용자항목19", L70, 0) -> 0
A84: 합 계 | F84: =ROUNDDOWN(SUMIF(Q70:Q83, "1", F70:F83), 0) -> 500000 | H84: =ROUNDDOWN(SUMIF(Q70:Q83, "1", H70:H83), 0) -> 0 | J84: =ROUNDDOWN(SUMIF(Q70:Q83, "1", J70:J83), 0) -> 0 | L84: =F84+H84+J84 -> 500000 | R84: =ROUNDDOWN(SUM(R70:R70), 0) -> 0 | S84: =ROUNDDOWN(SUM(S70:S70), 0) -> 0 | T84: =ROUNDDOWN(SUM(T70:T70), 0) -> 0 | U84: =ROUNDDOWN(SUM(U70:U70), 0) -> 0 | V84: =ROUNDDOWN(SUM(V70:V70), 0) -> 0 | W84: =ROUNDDOWN(SUM(W70:W70), 0) -> 0 | X84: =ROUNDDOWN(SUM(X70:X70), 0) -> 0 | Y84: =ROUNDDOWN(SUM(Y70:Y70), 0) -> 0 | ... AY84: =ROUNDDOWN(SUM(AY70:AY70), 0) -> 0
A85: 0106. 철거공사
A86: SAW CUT | B86: 콘크리트 | C86: M | D86: 25 | E86: =일위대가목록!G20 -> 989 | F86: =ROUNDDOWN(D86*E86, 0) -> 24725 | G86: =일위대가목록!I20 -> 2669 | H86: =ROUNDDOWN(D86*G86, 0) -> 66725 | I86: =일위대가목록!K20 -> 68 | J86: =ROUNDDOWN(D86*I86, 0) -> 1700 | K86: =E86+G86+I86 -> 3726 | L86: =F86+H86+J86 -> 93150 | M86: 일위 16호 | O86: ="" | P86: 기계경비 | Q86: 1 | R86: =IF(P86="기계경비", J86, 0) -> 1700 | S86: =IF(P86="운반비", L86, 0) -> 0 | T86: =IF(P86="작업부산물", F86, 0) -> 0 | U86: =IF(P86="관급", F86, 0) -> 0 | V86: =IF(P86="외주비", J86, 0) -> 0 | W86: =IF(P86="장비비", J86, 0) -> 0 | X86: =IF(P86="폐기물처리비", L86, 0) -> 0 | Y86: =IF(P86="가설비", J86, 0) -> 0 | Z86: =IF(P86="잡비제외분", F86, 0) -> 0 | AA86: =IF(P86="사급자재대", L86, 0) -> 0 | AB86: =IF(P86="관급자재대", L86, 0) -> 0 | AC86: =IF(P86="사용자항목1", L86, 0) -> 0 | AD86: =IF(P86="사용자항목2", L86, 0) -> 0 | AE86: =IF(P86="안전관리비", L86, 0) -> 0 | AF86: =IF(P86="품질관리비", L86, 0) -> 0 | AG86: =IF(P86="작업부산물(철거해체)", L86, 0) -> 0 | AH86: =IF(P86="사용자항목6", L86, 0) -> 0 | AI86: =IF(P86="사용자항목7", L86, 0) -> 0 | AJ86: =IF(P86="사용자항목8", L86, 0) -> 0 | AK86: =IF(P86="사용자항목9", L86, 0) -> 0 | AL86: =IF(P86="사용자항목10", L86, 0) -> 0 | AM86: =IF(P86="사용자항목11", L86, 0) -> 0 | AN86: =IF(P86="사용자항목12", L86, 0) -> 0 | AO86: =IF(P86="사용자항목13", L86, 0) -> 0 | AP86: =IF(P86="사용자항목14", L86, 0) -> 0 | AQ86: =IF(P86="사용자항목15", L86, 0) -> 0 | AR86: =IF(P86="사용자항목16", L86, 0) -> 0 | AS86: =IF(P86="사용자항목17", L86, 0) -> 0 | AT86: =IF(P86="사용자항목18", L86, 0) -> 0 | AU86: =IF(P86="사용자항목19", L86, 0) -> 0
A87: 무근콘크리트 철거 | B87: 소형브레이커(공압식) | C87: M3 | D87: 0.25 | E87: =일위대가목록!G21 -> 7628 | F87: =ROUNDDOWN(D87*E87, 0) -> 1907 | G87: =일위대가목록!I21 -> 220660 | H87: =ROUNDDOWN(D87*G87, 0) -> 55165 | I87: =일위대가목록!K21 -> 1716 | J87: =ROUNDDOWN(D87*I87, 0) -> 429 | K87: =E87+G87+I87 -> 230004 | L87: =F87+H87+J87 -> 57501 | M87: 일위 17호 | O87: ="" | P87: 기계경비 | Q87: 1 | R87: =IF(P87="기계경비", J87, 0) -> 429 | S87: =IF(P87="운반비", L87, 0) -> 0 | T87: =IF(P87="작업부산물", F87, 0) -> 0 | U87: =IF(P87="관급", F87, 0) -> 0 | V87: =IF(P87="외주비", J87, 0) -> 0 | W87: =IF(P87="장비비", J87, 0) -> 0 | X87: =IF(P87="폐기물처리비", L87, 0) -> 0 | Y87: =IF(P87="가설비", J87, 0) -> 0 | Z87: =IF(P87="잡비제외분", F87, 0) -> 0 | AA87: =IF(P87="사급자재대", L87, 0) -> 0 | AB87: =IF(P87="관급자재대", L87, 0) -> 0 | AC87: =IF(P87="사용자항목1", L87, 0) -> 0 | AD87: =IF(P87="사용자항목2", L87, 0) -> 0 | AE87: =IF(P87="안전관리비", L87, 0) -> 0 | AF87: =IF(P87="품질관리비", L87, 0) -> 0 | AG87: =IF(P87="작업부산물(철거해체)", L87, 0) -> 0 | AH87: =IF(P87="사용자항목6", L87, 0) -> 0 | AI87: =IF(P87="사용자항목7", L87, 0) -> 0 | AJ87: =IF(P87="사용자항목8", L87, 0) -> 0 | AK87: =IF(P87="사용자항목9", L87, 0) -> 0 | AL87: =IF(P87="사용자항목10", L87, 0) -> 0 | AM87: =IF(P87="사용자항목11", L87, 0) -> 0 | AN87: =IF(P87="사용자항목12", L87, 0) -> 0 | AO87: =IF(P87="사용자항목13", L87, 0) -> 0 | AP87: =IF(P87="사용자항목14", L87, 0) -> 0 | AQ87: =IF(P87="사용자항목15", L87, 0) -> 0 | AR87: =IF(P87="사용자항목16", L87, 0) -> 0 | AS87: =IF(P87="사용자항목17", L87, 0) -> 0 | AT87: =IF(P87="사용자항목18", L87, 0) -> 0 | AU87: =IF(P87="사용자항목19", L87, 0) -> 0
A88: 벽 철거(벽지 해체) | C88: M2 | D88: 58 | E88: =일위대가목록!G22 -> 0 | F88: =ROUNDDOWN(D88*E88, 0) -> 0 | G88: =일위대가목록!I22 -> 2702 | H88: =ROUNDDOWN(D88*G88, 0) -> 156716 | I88: =일위대가목록!K22 -> 0 | J88: =ROUNDDOWN(D88*I88, 0) -> 0 | K88: =E88+G88+I88 -> 2702 | L88: =F88+H88+J88 -> 156716 | M88: 일위 18호 | O88: ="" | P88: 기계경비 | Q88: 1 | R88: =IF(P88="기계경비", J88, 0) -> 0 | S88: =IF(P88="운반비", L88, 0) -> 0 | T88: =IF(P88="작업부산물", F88, 0) -> 0 | U88: =IF(P88="관급", F88, 0) -> 0 | V88: =IF(P88="외주비", J88, 0) -> 0 | W88: =IF(P88="장비비", J88, 0) -> 0 | X88: =IF(P88="폐기물처리비", L88, 0) -> 0 | Y88: =IF(P88="가설비", J88, 0) -> 0 | Z88: =IF(P88="잡비제외분", F88, 0) -> 0 | AA88: =IF(P88="사급자재대", L88, 0) -> 0 | AB88: =IF(P88="관급자재대", L88, 0) -> 0 | AC88: =IF(P88="사용자항목1", L88, 0) -> 0 | AD88: =IF(P88="사용자항목2", L88, 0) -> 0 | AE88: =IF(P88="안전관리비", L88, 0) -> 0 | AF88: =IF(P88="품질관리비", L88, 0) -> 0 | AG88: =IF(P88="작업부산물(철거해체)", L88, 0) -> 0 | AH88: =IF(P88="사용자항목6", L88, 0) -> 0 | AI88: =IF(P88="사용자항목7", L88, 0) -> 0 | AJ88: =IF(P88="사용자항목8", L88, 0) -> 0 | AK88: =IF(P88="사용자항목9", L88, 0) -> 0 | AL88: =IF(P88="사용자항목10", L88, 0) -> 0 | AM88: =IF(P88="사용자항목11", L88, 0) -> 0 | AN88: =IF(P88="사용자항목12", L88, 0) -> 0 | AO88: =IF(P88="사용자항목13", L88, 0) -> 0 | AP88: =IF(P88="사용자항목14", L88, 0) -> 0 | AQ88: =IF(P88="사용자항목15", L88, 0) -> 0 | AR88: =IF(P88="사용자항목16", L88, 0) -> 0 | AS88: =IF(P88="사용자항목17", L88, 0) -> 0 | AT88: =IF(P88="사용자항목18", L88, 0) -> 0 | AU88: =IF(P88="사용자항목19", L88, 0) -> 0 | AY88: 무성적산
A89: 천장 철거(천정재,석고보드류) | B89: 해체재 재사용 안 함 | C89: M2 | D89: 25 | E89: =일위대가목록!G23 -> 0 | F89: =ROUNDDOWN(D89*E89, 0) -> 0 | G89: =일위대가목록!I23 -> 6042 | H89: =ROUNDDOWN(D89*G89, 0) -> 151050 | I89: =일위대가목록!K23 -> 0 | J89: =ROUNDDOWN(D89*I89, 0) -> 0 | K89: =E89+G89+I89 -> 6042 | L89: =F89+H89+J89 -> 151050 | M89: 일위 19호 | O89: ="" | P89: 기계경비 | Q89: 1 | R89: =IF(P89="기계경비", J89, 0) -> 0 | S89: =IF(P89="운반비", L89, 0) -> 0 | T89: =IF(P89="작업부산물", F89, 0) -> 0 | U89: =IF(P89="관급", F89, 0) -> 0 | V89: =IF(P89="외주비", J89, 0) -> 0 | W89: =IF(P89="장비비", J89, 0) -> 0 | X89: =IF(P89="폐기물처리비", L89, 0) -> 0 | Y89: =IF(P89="가설비", J89, 0) -> 0 | Z89: =IF(P89="잡비제외분", F89, 0) -> 0 | AA89: =IF(P89="사급자재대", L89, 0) -> 0 | AB89: =IF(P89="관급자재대", L89, 0) -> 0 | AC89: =IF(P89="사용자항목1", L89, 0) -> 0 | AD89: =IF(P89="사용자항목2", L89, 0) -> 0 | AE89: =IF(P89="안전관리비", L89, 0) -> 0 | AF89: =IF(P89="품질관리비", L89, 0) -> 0 | AG89: =IF(P89="작업부산물(철거해체)", L89, 0) -> 0 | AH89: =IF(P89="사용자항목6", L89, 0) -> 0 | AI89: =IF(P89="사용자항목7", L89, 0) -> 0 | AJ89: =IF(P89="사용자항목8", L89, 0) -> 0 | AK89: =IF(P89="사용자항목9", L89, 0) -> 0 | AL89: =IF(P89="사용자항목10", L89, 0) -> 0 | AM89: =IF(P89="사용자항목11", L89, 0) -> 0 | AN89: =IF(P89="사용자항목12", L89, 0) -> 0 | AO89: =IF(P89="사용자항목13", L89, 0) -> 0 | AP89: =IF(P89="사용자항목14", L89, 0) -> 0 | AQ89: =IF(P89="사용자항목15", L89, 0) -> 0 | AR89: =IF(P89="사용자항목16", L89, 0) -> 0 | AS89: =IF(P89="사용자항목17", L89, 0) -> 0 | AT89: =IF(P89="사용자항목18", L89, 0) -> 0 | AU89: =IF(P89="사용자항목19", L89, 0) -> 0 | AY89: 무성적산
A90: 천장몰딩철거(마감재,MDF 류) | B90: 50×10T기준,해체재 재사용 안 함 | C90: M | D90: 24 | E90: =일위대가목록!G24 -> 0 | F90: =ROUNDDOWN(D90*E90, 0) -> 0 | G90: =일위대가목록!I24 -> 302 | H90: =ROUNDDOWN(D90*G90, 0) -> 7248 | I90: =일위대가목록!K24 -> 0 | J90: =ROUNDDOWN(D90*I90, 0) -> 0 | K90: =E90+G90+I90 -> 302 | L90: =F90+H90+J90 -> 7248 | M90: 일위 20호 | O90: ="" | P90: 기계경비 | Q90: 1 | R90: =IF(P90="기계경비", J90, 0) -> 0 | S90: =IF(P90="운반비", L90, 0) -> 0 | T90: =IF(P90="작업부산물", F90, 0) -> 0 | U90: =IF(P90="관급", F90, 0) -> 0 | V90: =IF(P90="외주비", J90, 0) -> 0 | W90: =IF(P90="장비비", J90, 0) -> 0 | X90: =IF(P90="폐기물처리비", L90, 0) -> 0 | Y90: =IF(P90="가설비", J90, 0) -> 0 | Z90: =IF(P90="잡비제외분", F90, 0) -> 0 | AA90: =IF(P90="사급자재대", L90, 0) -> 0 | AB90: =IF(P90="관급자재대", L90, 0) -> 0 | AC90: =IF(P90="사용자항목1", L90, 0) -> 0 | AD90: =IF(P90="사용자항목2", L90, 0) -> 0 | AE90: =IF(P90="안전관리비", L90, 0) -> 0 | AF90: =IF(P90="품질관리비", L90, 0) -> 0 | AG90: =IF(P90="작업부산물(철거해체)", L90, 0) -> 0 | AH90: =IF(P90="사용자항목6", L90, 0) -> 0 | AI90: =IF(P90="사용자항목7", L90, 0) -> 0 | AJ90: =IF(P90="사용자항목8", L90, 0) -> 0 | AK90: =IF(P90="사용자항목9", L90, 0) -> 0 | AL90: =IF(P90="사용자항목10", L90, 0) -> 0 | AM90: =IF(P90="사용자항목11", L90, 0) -> 0 | AN90: =IF(P90="사용자항목12", L90, 0) -> 0 | AO90: =IF(P90="사용자항목13", L90, 0) -> 0 | AP90: =IF(P90="사용자항목14", L90, 0) -> 0 | AQ90: =IF(P90="사용자항목15", L90, 0) -> 0 | AR90: =IF(P90="사용자항목16", L90, 0) -> 0 | AS90: =IF(P90="사용자항목17", L90, 0) -> 0 | AT90: =IF(P90="사용자항목18", L90, 0) -> 0 | AU90: =IF(P90="사용자항목19", L90, 0) -> 0 | AY90: 무성적산
A91: 지붕 철거(아스팔트 슁글류) | B91: 해체재 재사용 안 함 | C91: M2 | D91: 64 | E91: =일위대가목록!G25 -> 0 | F91: =ROUNDDOWN(D91*E91, 0) -> 0 | G91: =일위대가목록!I25 -> 5951 | H91: =ROUNDDOWN(D91*G91, 0) -> 380864 | I91: =일위대가목록!K25 -> 0 | J91: =ROUNDDOWN(D91*I91, 0) -> 0 | K91: =E91+G91+I91 -> 5951 | L91: =F91+H91+J91 -> 380864 | M91: 일위 21호 | O91: ="" | P91: 기계경비 | Q91: 1 | R91: =IF(P91="기계경비", J91, 0) -> 0 | S91: =IF(P91="운반비", L91, 0) -> 0 | T91: =IF(P91="작업부산물", F91, 0) -> 0 | U91: =IF(P91="관급", F91, 0) -> 0 | V91: =IF(P91="외주비", J91, 0) -> 0 | W91: =IF(P91="장비비", J91, 0) -> 0 | X91: =IF(P91="폐기물처리비", L91, 0) -> 0 | Y91: =IF(P91="가설비", J91, 0) -> 0 | Z91: =IF(P91="잡비제외분", F91, 0) -> 0 | AA91: =IF(P91="사급자재대", L91, 0) -> 0 | AB91: =IF(P91="관급자재대", L91, 0) -> 0 | AC91: =IF(P91="사용자항목1", L91, 0) -> 0 | AD91: =IF(P91="사용자항목2", L91, 0) -> 0 | AE91: =IF(P91="안전관리비", L91, 0) -> 0 | AF91: =IF(P91="품질관리비", L91, 0) -> 0 | AG91: =IF(P91="작업부산물(철거해체)", L91, 0) -> 0 | AH91: =IF(P91="사용자항목6", L91, 0) -> 0 | AI91: =IF(P91="사용자항목7", L91, 0) -> 0 | AJ91: =IF(P91="사용자항목8", L91, 0) -> 0 | AK91: =IF(P91="사용자항목9", L91, 0) -> 0 | AL91: =IF(P91="사용자항목10", L91, 0) -> 0 | AM91: =IF(P91="사용자항목11", L91, 0) -> 0 | AN91: =IF(P91="사용자항목12", L91, 0) -> 0 | AO91: =IF(P91="사용자항목13", L91, 0) -> 0 | AP91: =IF(P91="사용자항목14", L91, 0) -> 0 | AQ91: =IF(P91="사용자항목15", L91, 0) -> 0 | AR91: =IF(P91="사용자항목16", L91, 0) -> 0 | AS91: =IF(P91="사용자항목17", L91, 0) -> 0 | AT91: =IF(P91="사용자항목18", L91, 0) -> 0 | AU91: =IF(P91="사용자항목19", L91, 0) -> 0 | AY91: 무성적산
A92: 건설폐기물수집운반비(상차비) | B92: 24톤 덤프트럭, 건설폐재류 | C92: TON | D92: 0.57 | E92: 0 | F92: =ROUNDDOWN(D92*E92, 0) -> 0 | G92: 0 | H92: =ROUNDDOWN(D92*G92, 0) -> 0 | I92: =단가대비표!O52 -> 3890 | J92: =ROUNDDOWN(D92*I92, 0) -> 2217 | K92: =E92+G92+I92 -> 3890 | L92: =F92+H92+J92 -> 2217 | M92: 한국건설폐기물수집운반 | O92: ="03" -> 03 | P92: 기계경비 | Q92: 1 | R92: =IF(P92="기계경비", J92, 0) -> 2217 | S92: =IF(P92="운반비", L92, 0) -> 0 | T92: =IF(P92="작업부산물", F92, 0) -> 0 | U92: =IF(P92="관급", F92, 0) -> 0 | V92: =IF(P92="외주비", J92, 0) -> 0 | W92: =IF(P92="장비비", J92, 0) -> 0 | X92: =IF(P92="폐기물처리비", L92, 0) -> 0 | Y92: =IF(P92="가설비", J92, 0) -> 0 | Z92: =IF(P92="잡비제외분", F92, 0) -> 0 | AA92: =IF(P92="사급자재대", L92, 0) -> 0 | AB92: =IF(P92="관급자재대", L92, 0) -> 0 | AC92: =IF(P92="사용자항목1", L92, 0) -> 0 | AD92: =IF(P92="사용자항목2", L92, 0) -> 0 | AE92: =IF(P92="안전관리비", L92, 0) -> 0 | AF92: =IF(P92="품질관리비", L92, 0) -> 0 | AG92: =IF(P92="작업부산물(철거해체)", L92, 0) -> 0 | AH92: =IF(P92="사용자항목6", L92, 0) -> 0 | AI92: =IF(P92="사용자항목7", L92, 0) -> 0 | AJ92: =IF(P92="사용자항목8", L92, 0) -> 0 | AK92: =IF(P92="사용자항목9", L92, 0) -> 0 | AL92: =IF(P92="사용자항목10", L92, 0) -> 0 | AM92: =IF(P92="사용자항목11", L92, 0) -> 0 | AN92: =IF(P92="사용자항목12", L92, 0) -> 0 | AO92: =IF(P92="사용자항목13", L92, 0) -> 0 | AP92: =IF(P92="사용자항목14", L92, 0) -> 0 | AQ92: =IF(P92="사용자항목15", L92, 0) -> 0 | AR92: =IF(P92="사용자항목16", L92, 0) -> 0 | AS92: =IF(P92="사용자항목17", L92, 0) -> 0 | AT92: =IF(P92="사용자항목18", L92, 0) -> 0 | AU92: =IF(P92="사용자항목19", L92, 0) -> 0
...

Sheet 일위대가목록
A1: 일 위 대 가 목 록
A2: 공사명 : 실로암노인전문요양원 리모델링 공사
A3: 호 표 | B3: 품 명 | C3: 규 격 | D3: 단위 | E3: 수량 | F3: 재 료 비 | H3: 노 무 비 | J3: 경 비 | L3: 합 계 | N3: 비 고
F4: 단 가 | G4: 금 액 | H4: 단 가 | I4: 금 액 | J4: 단 가 | K4: 금 액 | L4: 단 가 | M4: 금 액 | O4: 구분
A5: 일위 1호 | B5: 시스템비계 | C5: 10m이하 | D5: m2 | E5: 1 | F5: =일위대가표!F6 -> 455 | G5: =E5*F5 -> 455 | H5: =일위대가표!H6 -> 14693 | I5: =E5*H5 -> 14693 | J5: =일위대가표!J6 -> 0 | K5: =E5*J5 -> 0 | L5: =F5+H5+J5 -> 15148 | M5: =G5+I5+K5 -> 15148 | N5: 건축표준시장(2026년하) | O5: 표준시장단가
A6: 일위 2호 | B6: 시스템비계 | C6: 10m초과~20m이하 | D6: m2 | E6: 1 | F6: =일위대가표!F9 -> 555 | G6: =E6*F6 -> 555 | H6: =일위대가표!H9 -> 17932 | I6: =E6*H6 -> 17932 | J6: =일위대가표!J9 -> 0 | K6: =E6*J6 -> 0 | L6: =F6+H6+J6 -> 18487 | M6: =G6+I6+K6 -> 18487 | N6: 건축표준시장(2026년하) | O6: 표준시장단가
A7: 일위 3호 | B7: 이동식강관말비계 | C7: 1개월,2단(4m) | D7: 1대 | E7: 1 | F7: =일위대가표!F24 -> 16273 | G7: =E7*F7 -> 16273 | H7: =일위대가표!H24 -> 158067 | I7: =E7*H7 -> 158067 | J7: =일위대가표!J24 -> 0 | K7: =E7*J7 -> 0 | L7: =F7+H7+J7 -> 174340 | M7: =G7+I7+K7 -> 174340 | N7: 공통2-7-6,2-2-5/26보완
A8: 일위 4호 | B8: 건축물 현장정리 | C8: 2가지이하공종,조적조의20% | D8: M2 | E8: 1 | F8: =일위대가표!F28 -> 0 | G8: =E8*F8 -> 0 | H8: =일위대가표!H28 -> 1726 | I8: =E8*H8 -> 1726 | J8: =일위대가표!J28 -> 0 | K8: =E8*J8 -> 0 | L8: =F8+H8+J8 -> 1726 | M8: =G8+I8+K8 -> 1726 | O8: 무성적산
A9: 일위 5호 | B9: 잡철물 제작 및 설치(현장제작 설치) | C9: 일반철재 | D9: Ton | E9: 1 | F9: =일위대가표!F37 -> 432376 | G9: =E9*F9 -> 432376 | H9: =일위대가표!H37 -> 5404703 | I9: =E9*H9 -> 5404703 | J9: =일위대가표!J37 -> 0 | K9: =E9*J9 -> 0 | L9: =F9+H9+J9 -> 5837079 | M9: =G9+I9+K9 -> 5837079 | N9: 건축8-3-1 | O9: AJM53100010S
A10: 일위 6호 | B10: 녹막이페인트(뿜칠) | C10: 1회.2종 | D10: M2 | E10: 1 | F10: =일위대가표!F43 -> 795 | G10: =E10*F10 -> 795 | H10: =일위대가표!H43 -> 948 | I10: =E10*H10 -> 948 | J10: =일위대가표!J43 -> 0 | K10: =E10*J10 -> 0 | L10: =F10+H10+J10 -> 1743 | M10: =G10+I10+K10 -> 1743
A11: 일위 7호 | B11: 합판바닥 깔기 | C11: 바닥,내수, 12mm | D11: M2 | E11: 1 | F11: =일위대가표!F49 -> 12548 | G11: =E11*F11 -> 12548 | H11: =일위대가표!H49 -> 8423 | I11: =E11*H11 -> 8423 | J11: =일위대가표!J49 -> 336 | K11: =E11*J11 -> 336 | L11: =F11+H11+J11 -> 21307 | M11: =G11+I11+K11 -> 21307 | O11: 무성적산
A12: 일위 8호 | B12: SHEET방수(바닥) | C12: ECB시트,T:1.0 | D12: M2 | E12: 1 | F12: =일위대가표!F58 -> 10239 | G12: =E12*F12 -> 10239 | H12: =일위대가표!H58 -> 19170 | I12: =E12*H12 -> 19170 | J12: =일위대가표!J58 -> 575 | K12: =E12*J12 -> 575 | L12: =F12+H12+J12 -> 29984 | M12: =G12+I12+K12 -> 29984 | N12: 건축6-3-1
A13: 일위 9호 | B13: 아스팔트슁글깔기 | C13: 336*5.0T(이중그림자) | D13: M2 | E13: 1 | F13: =일위대가표!F64 -> 24000 | G13: =E13*F13 -> 24000 | H13: =일위대가표!H64 -> 17586 | I13: =E13*H13 -> 17586 | J13: =일위대가표!J64 -> 351 | K13: =E13*J13 -> 351 | L13: =F13+H13+J13 -> 41937 | M13: =G13+I13+K13 -> 41937 | N13: 건축7-1-5참고/26년보완
A14: 일위 10호 | B14: 고압물청소 | D14: M2 | E14: 1 | F14: =일위대가표!F69 -> 0 | G14: =E14*F14 -> 0 | H14: =일위대가표!H69 -> 5489 | I14: =E14*H14 -> 5489 | J14: =일위대가표!J69 -> 109 | K14: =E14*J14 -> 109 | L14: =F14+H14+J14 -> 5598 | M14: =G14+I14+K14 -> 5598
A15: 일위 11호 | B15: 친환경수성페인트칠(롤러칠) | C15: 기존외벽,2회,2급 | D15: M2 | E15: 1 | F15: =일위대가표!F76 -> 1088 | G15: =E15*F15 -> 1088 | H15: =일위대가표!H76 -> 9497 | I15: =E15*H15 -> 9497 | J15: =일위대가표!J76 -> 0 | K15: =E15*J15 -> 0 | L15: =F15+H15+J15 -> 10585 | M15: =G15+I15+K15 -> 10585 | N15: 건축 11-1-1,-2-2
A16: 일위 12호 | B16: 도배바름(콘크리트.모르타르면) | C16: 벽, 비닐벽지, 실크형, A급 | D16: M2 | E16: 1 | F16: =일위대가표!F84 -> 3579 | G16: =E16*F16 -> 3579 | H16: =일위대가표!H84 -> 6726 | I16: =E16*H16 -> 6726 | J16: =일위대가표!J84 -> 0 | K16: =E16*J16 -> 0 | L16: =F16+H16+J16 -> 10305 | M16: =G16+I16+K16 -> 10305 | N16: 건축5-3-7
A17: 일위 13호 | B17: 도배바름(합판.석고보드면) | C17: 천장, 비닐벽지, 실크형, A급 | D17: M2 | E17: 1 | F17: =일위대가표!F92 -> 3483 | G17: =E17*F17 -> 3483 | H17: =일위대가표!H92 -> 9715 | I17: =E17*H17 -> 9715 | J17: =일위대가표!J92 -> 0 | K17: =E17*J17 -> 0 | L17: =F17+H17+J17 -> 13198 | M17: =G17+I17+K17 -> 13198 | N17: 건축5-3-7
A18: 일위 14호 | B18: 석고판 설치(나사고정,석고판포함) | C18: 천장, 일반, 바탕용 9.5mm(1겹) | D18: M2 | E18: 1 | F18: =일위대가표!F97 -> 3110 | G18: =E18*F18 -> 3110 | H18: =일위대가표!H97 -> 15191 | I18: =E18*H18 -> 15191 | J18: =일위대가표!J97 -> 151 | K18: =E18*J18 -> 151 | L18: =F18+H18+J18 -> 18452 | M18: =G18+I18+K18 -> 18452 | N18: 건축5-2-3
A19: 일위 15호 | B19: 목재몰딩 설치 | C19: MDF 9×60,무늬목,방염 | D19: M | E19: 1 | F19: =일위대가표!F103 -> 2384 | G19: =E19*F19 -> 2384 | H19: =일위대가표!H103 -> 9061 | I19: =E19*H19 -> 9061 | J19: =일위대가표!J103 -> 362 | K19: =E19*J19 -> 362 | L19: =F19+H19+J19 -> 11807 | M19: =G19+I19+K19 -> 11807 | O19: 무성적산
A20: 일위 16호 | B20: SAW CUT | C20: 콘크리트 | D20: M | E20: 1 | F20: =일위대가표!F111 -> 989 | G20: =E20*F20 -> 989 | H20: =일위대가표!H111 -> 2669 | I20: =E20*H20 -> 2669 | J20: =일위대가표!J111 -> 68 | K20: =E20*J20 -> 68 | L20: =F20+H20+J20 -> 3726 | M20: =G20+I20+K20 -> 3726
