Workbook

Sheet 원가계산서
A1: 공 사 원 가 계 산 서
A2: 공사명 : 실로암노인전문요양원 리모델링 공사
A3: 구 분 비 목 | D3: 구 성 비 | E3: 금 액 | F3: 비 고
A5: 순 공 사 원 가 | B5: 재료비 | C5: 직 접 재 료 비 | E5: =ROUNDDOWN(집계표!E20-집계표!AU20, 0) -> 14567880 | G5: A1 | H5: 0 | I5: =E5 -> 14567880
C6: 간 접 재 료 비 | E6: =ROUNDDOWN(E5*H6, 0) -> 0 | G6: A2 | H6: 0 | I6: =E6 -> 0
C7: 작업설.부산물 등(△) | E7: =집계표!S20 -> 0 | G7: A3 | H7: 0 | I7: =E7 -> 0
C8: 소 계 | E8: =SUM(E5:E6)-ABS(E7) -> 14567880 | G8: A | H8: 0 | I8: =E8 -> 14567880
B9: 노무비 | C9: 직 접 노 무 비 | E9: =ROUNDDOWN(집계표!G20, 0) -> 13948945 | G9: B1 | H9: 0 | I9: =E9 -> 13948945
C10: 간 접 노 무 비 | D10: ="직.노*"&H10*100&"%" -> 직.노*12.94% | E10: =ROUNDDOWN(E9*H10, 0) -> 1804993 | G10: B2 | H10: 0.1294 | I10: =E10 -> 1804993
C11: 소 계 | E11: =SUM(E9:E10) -> 15753938 | G11: B | H11: 0 | I11: =E11 -> 15753938
B12: 경 비 | C12: 기 계 경 비 | E12: =ROUNDDOWN(집계표!I20, 0) -> 152070 | G12: C4 | H12: 0 | I12: =E12 -> 152070
C13: 산 재 보 험 료 | D13: ="(노)*"&H13*100&"%" -> (노)*3.56% | E13: =ROUNDDOWN((E11)*H13, 0) -> 560840 | G13: C10 | H13: 0.0356 | I13: =E13 -> 560840
C14: 고 용 보 험 료 | D14: ="(노)*"&H14*100&"%" -> (노)*1.01% | E14: =ROUNDDOWN((E11)*H14, 0) -> 159114 | G14: C11 | H14: 0.0101 | I14: =E14 -> 159114
C15: 건 강 보 험 료 | E15: =ROUNDDOWN((E9)*H15, 0) -> 0 | G15: C12 | H15: 0 | I15: =E15 -> 0
C16: 연 금 보 험 료 | E16: =ROUNDDOWN((E9)*H16, 0) -> 0 | G16: C13 | H16: 0 | I16: =E16 -> 0
C17: 노인 장기 요양보험료 | E17: =ROUNDDOWN((E15)*H17, 0) -> 0 | G17: C14 | H17: 0 | I17: =E17 -> 0
C18: 퇴 직 공 제 부 금 비 | E18: =ROUNDDOWN((E9)*H18, 0) -> 0 | G18: C15 | H18: 0 | I18: =E18 -> 0
C19: 산업 안전 보건관리비 | D19: ="(재+직.노+(관급-0)/1.1)*"&H19*100&"%"&" < (재+직.노)*3.11%*1.2" -> (재+직.노+(관급-0)/1.1)*3.11% < (재+직.노)*3.11%*1.2 | E19: =ROUNDDOWN((E8+E9+(E39-0)/1.1)*H19, 0) -> 886873 | F19: 886,873 < 1,064,247 | G19: C16 | H19: 0.0311 | I19: =E19 -> 886873
C20: 기 타 경 비 | D20: ="(재+노)*"&H20*100&"%" -> (재+노)*4% | E20: =ROUNDDOWN((E8+E11)*H20, 0) -> 1212872 | G20: C20 | H20: 0.04 | I20: =E20 -> 1212872
C21: 환 경 보 전 비 | D21: ="(재+직.노+기.경)*"&H21*100&"%" -> (재+직.노+기.경)*0.3% | E21: =ROUNDDOWN((E8+E9+E12)*H21, 0) -> 86006 | G21: C25 | H21: 0.003 | I21: =E21 -> 86006
C22: 건설하도급보증수수료 | D22: ="(재+직.노+기.경)*"&H22*100&"%" -> (재+직.노+기.경)*0.081% | E22: =ROUNDDOWN((E8+E9+E12)*H22, 0) -> 23221 | G22: C30 | H22: 0.00081 | I22: =E22 -> 23221
C23: 공사 이행 보증수수료 | E23: =ROUNDDOWN((E8+E9+E12)*H23*(6/12), 0) -> 0 | G23: C31 | H23: 0 | I23: =E23 -> 0
C24: 건설기계대여보증수수료 | E24: =ROUNDDOWN((E8+E9+E12)*H24, 0) -> 0 | G24: C32 | H24: 0 | I24: =E24 -> 0
C25: 안 전 관 리 비 | E25: =집계표!AD20 -> 0 | G25: C17 | H25: 0 | I25: =E25 -> 0
C26: 품 질 관 리 비 | E26: =집계표!AE20 -> 0 | G26: C18 | H26: 0 | I26: =E26 -> 0
C27: 석 면 분 담 금 | D27: ="노*"&H27*100&"%" -> 노*0.006% | E27: =ROUNDDOWN(E11*H27, 0) -> 945 | G27: C21 | H27: 6e-05 | I27: =E27 -> 945
C28: 임금 채권 부담금 | D28: ="노*"&H28*100&"%" -> 노*0.09% | E28: =ROUNDDOWN(E11*H28, 0) -> 14178 | G28: C22 | H28: 0.0009 | I28: =E28 -> 14178
C29: 소 계 | E29: =SUM(E12:E28) -> 3096119 | G29: C | H29: 0 | I29: =E29 -> 3096119
B30: 계 | E30: =E8+E11+E29 -> 33417937 | G30: X | H30: 0 | I30: =E30 -> 33417937
A31: 일 반 관 리 비 | D31: ="(재+노+경)*"&H31*100&"%" -> (재+노+경)*6% | E31: =ROUNDDOWN((E8+E11+E29)*H31, 0) -> 2005076 | G31: D | H31: 0.06 | I31: =E31 -> 2005076
A32: 이 윤 | D32: ="(노+경+일)*"&H32*100&"%" -> (노+경+일)*11% | E32: =E35-E34-E33-E31-E30 -> 2292437 | G32: E | H32: 0.11 | I32: =(I11+I29+I31)*H32+-1 -> 2294063.6
A33: 작업설.부산물 등(△) | E33: =집계표!AF20 -> 0 | G33: M2 | H33: 0 | I33: =E33 -> 0
A34: 폐 기 물 처 리 비 | E34: =ROUNDDOWN(집계표!W20, 0) -> 284549 | G34: L | H34: 0 | I34: =E34 -> 284549
A35: 총 원 가 | E35: =ROUNDDOWN(E37-E36, 0) -> 37999999 | G35: F | H35: 0 | I35: =SUM(I30:I34)+-1 -> 38001625
A36: 부 가 가 치 세 | D36: ="(총원가)*"&H36*100&"%" -> (총원가)*10% | E36: =ROUNDDOWN(((E37)/110)*10, 0)+J36 -> 3800001 | G36: H | H36: 0.1 | I36: =ROUNDDOWN((I35)*H36, 0)+1 -> 3800163 | J36: 1
A37: 도 급 금 액 | E37: =INT(I37/1000)*1000-1000 -> 41800000 | G37: Y | H37: 0 | I37: =I35+I36 -> 41801788
A38: 재해예방기술지도비 | E38: =집계표!AG20 -> 0 | G38: M3 | H38: 0 | I38: =E38 -> 0
A39: 관 급 자 재 대 | E39: =집계표!AA20 -> 0 | G39: J | H39: 0 | I39: =E39 -> 0
A40: 사 급 자 재 대 | E40: =집계표!Z20 -> 0 | G40: K | H40: 0 | I40: =E40 -> 0
A41: 총 공 사 금 액 | E41: =ROUNDDOWN(E37+E38+E39+E40, 0) -> 41800000 | H41: 0 | I41: =I37+I38+I39+I40 -> 41801788

Sheet 집계표
A1: 공 사 집 계 표
A2: 공사명 : 실로암노인전문요양원 리모델링 공사
A3: 품 명 | B3: 단위 | C3: 수량 | D3: 재 료 비 | F3: 노 무 비 | H3: 경 비 | J3: 합 계 | L3: 비고
D4: 단 가 | E4: 금 액 | F4: 단 가 | G4: 금 액 | H4: 단 가 | I4: 금 액 | J4: 단 가 | K4: 금 액 | M4: 손료요율 | N4: 손료구분 | O4: 적용구분 | P4: 합계구분 | Q4: 기계경비 | R4: 운반비 | S4: 작업부산물 | T4: 관급 | U4: 외주비 | V4: 장비비 | W4: 폐기물처리비 | X4: 가설비 | Y4: 잡비제외분 | Z4: 사급자재대 | AA4: 관급자재대 | AB4: 사용자항목1 | AC4: 사용자항목2 | AD4: 안전관리비 | AE4: 품질관리비 | AF4: 작업부산물(철거해체) | AG4: 사용자항목6 | AH4: 사용자항목7 | AI4: 사용자항목8 | AJ4: 사용자항목9 | AK4: 사용자항목10 | AL4: 사용자항목11 | AM4: 사용자항목12 | AN4: 사용자항목13 | AO4: 사용자항목14 | AP4: 사용자항목15 | AQ4: 사용자항목16 | AR4: 사용자항목17 | AS4: 사용자항목18 | AT4: 사용자항목19 | AU4: 간접재료비 | AV4: 품목구분 | AW4: 조달코드 | AX4: 구분
A5: 01. 건축공사 | B5: 식 | C5: 1 | D5: =E36 -> 14567880 | E5: =C5*D5 -> 14567880 | F5: =G36 -> 13948945 | G5: =C5*F5 -> 13948945 | H5: =I36 -> 152070 | I5: =C5*H5 -> 152070 | J5: =D5+F5+H5 -> 28668895 | K5: =E5+G5+I5 -> 28668895 | P5: 1 | Q5: =C5*Q36 -> 152070 | R5: =C5*R36 -> 0 | S5: =C5*S36 -> 0 | T5: =C5*T36 -> 0 | U5: =C5*U36 -> 0 | V5: =C5*V36 -> 0 | W5: =C5*W36 -> 284549 | X5: =C5*X36 -> 0 | Y5: =C5*Y36 -> 0 | Z5: =C5*Z36 -> 0 | AA5: =C5*AA36 -> 0 | AB5: =C5*AB36 -> 0 | AC5: =C5*AC36 -> 0 | AD5: =C5*AD36 -> 0 | AE5: =C5*AE36 -> 0 | AF5: =C5*AF36 -> 0 | AG5: =C5*AG36 -> 0 | AH5: =C5*AH36 -> 0 | AI5: =C5*AI36 -> 0 | AJ5: =C5*AJ36 -> 0 | AK5: =C5*AK36 -> 0 | AL5: =C5*AL36 -> 0 | AM5: =C5*AM36 -> 0 | AN5: =C5*AN36 -> 0 | AO5: =C5*AO36 -> 0 | AP5: =C5*AP36 -> 0 | AQ5: =C5*AQ36 -> 0 | AR5: =C5*AR36 -> 0 | AS5: =C5*AS36 -> 0 | AT5: =C5*AT36 -> 0 | AU5: =C5*AU36 -> 0
A20: 합 계 | E20: =SUMIF(P5:P5, "1", E5:E5) -> 14567880 | G20: =SUMIF(P5:P5, "1", G5:G5) -> 13948945 | I20: =SUMIF(P5:P5, "1", I5:I5) -> 152070 | K20: =E20+G20+I20 -> 28668895 | Q20: =SUM(Q5:Q5) -> 152070 | R20: =SUM(R5:R5) -> 0 | S20: =SUM(S5:S5) -> 0 | T20: =SUM(T5:T5) -> 0 | U20: =SUM(U5:U5) -> 0 | V20: =SUM(V5:V5) -> 0 | W20: =SUM(W5:W5) -> 284549 | X20: =SUM(X5:X5) -> 0 | ... AX20: =SUM(AX5:AX5) -> 0
A21: 01. 건축공사
A22: 0101. 가설공사 | B22: 식 | C22: 1 | D22: =내역서!F20 -> 85348 | E22: =C22*D22 -> 85348 | F22: =내역서!H20 -> 2542575 | G22: =C22*F22 -> 2542575 | H22: =내역서!J20 -> 0 | I22: =C22*H22 -> 0 | J22: =D22+F22+H22 -> 2627923 | K22: =E22+G22+I22 -> 2627923 | P22: 1 | Q22: =C22*내역서!R20 -> 0 | R22: =C22*내역서!S20 -> 0 | S22: =C22*내역서!T20 -> 0 | T22: =C22*내역서!U20 -> 0 | U22: =C22*내역서!V20 -> 0 | V22: =C22*내역서!W20 -> 0 | W22: =C22*내역서!X20 -> 0 | X22: =C22*내역서!Y20 -> 0 | Y22: =C22*내역서!Z20 -> 0 | Z22: =C22*내역서!AA20 -> 0 | AA22: =C22*내역서!AB20 -> 0 | AB22: =C22*내역서!AC20 -> 0 | AC22: =C22*내역서!AD20 -> 0 | AD22: =C22*내역서!AE20 -> 0 | AE22: =C22*내역서!AF20 -> 0 | AF22: =C22*내역서!AG20 -> 0 | AG22: =C22*내역서!AH20 -> 0 | AH22: =C22*내역서!AI20 -> 0 | AI22: =C22*내역서!AJ20 -> 0 | AJ22: =C22*내역서!AK20 -> 0 | AK22: =C22*내역서!AL20 -> 0 | AL22: =C22*내역서!AM20 -> 0 | AM22: =C22*내역서!AN20 -> 0 | AN22: =C22*내역서!AO20 -> 0 | AO22: =C22*내역서!AP20 -> 0 | AP22: =C22*내역서!AQ20 -> 0 | AQ22: =C22*내역서!AR20 -> 0 | AR22: =C22*내역서!AS20 -> 0 | AS22: =C22*내역서!AT20 -> 0 | AT22: =C22*내역서!AU20 -> 0 | AU22: =C22*내역서!AV20 -> 0
A23: 0102. 지붕공사 | B23: 식 | C23: 1 | D23: =내역서!F36 -> 3518093 | E23: =C23*D23 -> 3518093 | F23: =내역서!H36 -> 4416148 | G23: =C23*F23 -> 4416148 | H23: =내역서!J36 -> 80768 | I23: =C23*H23 -> 80768 | J23: =D23+F23+H23 -> 8015009 | K23: =E23+G23+I23 -> 8015009 | P23: 1 | Q23: =C23*내역서!R36 -> 80768 | R23: =C23*내역서!S36 -> 0 | S23: =C23*내역서!T36 -> 0 | T23: =C23*내역서!U36 -> 0 | U23: =C23*내역서!V36 -> 0 | V23: =C23*내역서!W36 -> 0 | W23: =C23*내역서!X36 -> 0 | X23: =C23*내역서!Y36 -> 0 | Y23: =C23*내역서!Z36 -> 0 | Z23: =C23*내역서!AA36 -> 0 | AA23: =C23*내역서!AB36 -> 0 | AB23: =C23*내역서!AC36 -> 0 | AC23: =C23*내역서!AD36 -> 0 | AD23: =C23*내역서!AE36 -> 0 | AE23: =C23*내역서!AF36 -> 0 | AF23: =C23*내역서!AG36 -> 0 | AG23: =C23*내역서!AH36 -> 0 | AH23: =C23*내역서!AI36 -> 0 | AI23: =C23*내역서!AJ36 -> 0 | AJ23: =C23*내역서!AK36 -> 0 | AK23: =C23*내역서!AL36 -> 0 | AL23: =C23*내역서!AM36 -> 0 | AM23: =C23*내역서!AN36 -> 0 | AN23: =C23*내역서!AO36 -> 0 | AO23: =C23*내역서!AP36 -> 0 | AP23: =C23*내역서!AQ36 -> 0 | AQ23: =C23*내역서!AR36 -> 0 | AR23: =C23*내역서!AS36 -> 0 | AS23: =C23*내역서!AT36 -> 0 | AT23: =C23*내역서!AU36 -> 0 | AU23: =C23*내역서!AV36 -> 0
A24: 0103. 도장공사 | B24: 식 | C24: 1 | D24: =내역서!F52 -> 10008184 | E24: =C24*D24 -> 10008184 | F24: =내역서!H52 -> 4942232 | G24: =C24*F24 -> 4942232 | H24: =내역서!J52 -> 49486 | I24: =C24*H24 -> 49486 | J24: =D24+F24+H24 -> 14999902 | K24: =E24+G24+I24 -> 14999902 | P24: 1 | Q24: =C24*내역서!R52 -> 49486 | R24: =C24*내역서!S52 -> 0 | S24: =C24*내역서!T52 -> 0 | T24: =C24*내역서!U52 -> 0 | U24: =C24*내역서!V52 -> 0 | V24: =C24*내역서!W52 -> 0 | W24: =C24*내역서!X52 -> 0 | X24: =C24*내역서!Y52 -> 0 | Y24: =C24*내역서!Z52 -> 0 | Z24: =C24*내역서!AA52 -> 0 | AA24: =C24*내역서!AB52 -> 0 | AB24: =C24*내역서!AC52 -> 0 | AC24: =C24*내역서!AD52 -> 0 | AD24: =C24*내역서!AE52 -> 0 | AE24: =C24*내역서!AF52 -> 0 | AF24: =C24*내역서!AG52 -> 0 | AG24: =C24*내역서!AH52 -> 0 | AH24: =C24*내역서!AI52 -> 0 | AI24: =C24*내역서!AJ52 -> 0 | AJ24: =C24*내역서!AK52 -> 0 | AK24: =C24*내역서!AL52 -> 0 | AL24: =C24*내역서!AM52 -> 0 | AM24: =C24*내역서!AN52 -> 0 | AN24: =C24*내역서!AO52 -> 0 | AO24: =C24*내역서!AP52 -> 0 | AP24: =C24*내역서!AQ52 -> 0 | AQ24: =C24*내역서!AR52 -> 0 | AR24: =C24*내역서!AS52 -> 0 | AS24: =C24*내역서!AT52 -> 0 | AT24: =C24*내역서!AU52 -> 0 | AU24: =C24*내역서!AV52 -> 0
A25: 0104. 수장공사 | B25: 식 | C25: 1 | D25: =내역서!F68 -> 429623 | E25: =C25*D25 -> 429623 | F25: =내역서!H68 -> 1230222 | G25: =C25*F25 -> 1230222 | H25: =내역서!J68 -> 12463 | I25: =C25*H25 -> 12463 | J25: =D25+F25+H25 -> 1672308 | K25: =E25+G25+I25 -> 1672308 | P25: 1 | Q25: =C25*내역서!R68 -> 12463 | R25: =C25*내역서!S68 -> 0 | S25: =C25*내역서!T68 -> 0 | T25: =C25*내역서!U68 -> 0 | U25: =C25*내역서!V68 -> 0 | V25: =C25*내역서!W68 -> 0 | W25: =C25*내역서!X68 -> 0 | X25: =C25*내역서!Y68 -> 0 | Y25: =C25*내역서!Z68 -> 0 | Z25: =C25*내역서!AA68 -> 0 | AA25: =C25*내역서!AB68 -> 0 | AB25: =C25*내역서!AC68 -> 0 | AC25: =C25*내역서!AD68 -> 0 | AD25: =C25*내역서!AE68 -> 0 | AE25: =C25*내역서!AF68 -> 0 | AF25: =C25*내역서!AG68 -> 0 | AG25: =C25*내역서!AH68 -> 0 | AH25: =C25*내역서!AI68 -> 0 | AI25: =C25*내역서!AJ68 -> 0 | AJ25: =C25*내역서!AK68 -> 0 | AK25: =C25*내역서!AL68 -> 0 | AL25: =C25*내역서!AM68 -> 0 | AM25: =C25*내역서!AN68 -> 0 | AN25: =C25*내역서!AO68 -> 0 | AO25: =C25*내역서!AP68 -> 0 | AP25: =C25*내역서!AQ68 -> 0 | AQ25: =C25*내역서!AR68 -> 0 | AR25: =C25*내역서!AS68 -> 0 | AS25: =C25*내역서!AT68 -> 0 | AT25: =C25*내역서!AU68 -> 0 | AU25: =C25*내역서!AV68 -> 0
A26: 0105. 기타공사 | B26: 식 | C26: 1 | D26: =내역서!F84 -> 500000 | E26: =C26*D26 -> 500000 | F26: =내역서!H84 -> 0 | G26: =C26*F26 -> 0 | H26: =내역서!J84 -> 0 | I26: =C26*H26 -> 0 | J26: =D26+F26+H26 -> 500000 | K26: =E26+G26+I26 -> 500000 | P26: 1 | Q26: =C26*내역서!R84 -> 0 | R26: =C26*내역서!S84 -> 0 | S26: =C26*내역서!T84 -> 0 | T26: =C26*내역서!U84 -> 0 | U26: =C26*내역서!V84 -> 0 | V26: =C26*내역서!W84 -> 0 | W26: =C26*내역서!X84 -> 0 | X26: =C26*내역서!Y84 -> 0 | Y26: =C26*내역서!Z84 -> 0 | Z26: =C26*내역서!AA84 -> 0 | AA26: =C26*내역서!AB84 -> 0 | AB26: =C26*내역서!AC84 -> 0 | AC26: =C26*내역서!AD84 -> 0 | AD26: =C26*내역서!AE84 -> 0 | AE26: =C26*내역서!AF84 -> 0 | AF26: =C26*내역서!AG84 -> 0 | AG26: =C26*내역서!AH84 -> 0 | AH26: =C26*내역서!AI84 -> 0 | AI26: =C26*내역서!AJ84 -> 0 | AJ26: =C26*내역서!AK84 -> 0 | AK26: =C26*내역서!AL84 -> 0 | AL26: =C26*내역서!AM84 -> 0 | AM26: =C26*내역서!AN84 -> 0 | AN26: =C26*내역서!AO84 -> 0 | AO26: =C26*내역서!AP84 -> 0 | AP26: =C26*내역서!AQ84 -> 0 | AQ26: =C26*내역서!AR84 -> 0 | AR26: =C26*내역서!AS84 -> 0 | AS26: =C26*내역서!AT84 -> 0 | AT26: =C26*내역서!AU84 -> 0 | AU26: =C26*내역서!AV84 -> 0
A27: 0106. 철거공사 | B27: 식 | C27: 1 | D27: =내역서!F100 -> 26632 | E27: =C27*D27 -> 26632 | F27: =내역서!H100 -> 817768 | G27: =C27*F27 -> 817768 | H27: =내역서!J100 -> 9353 | I27: =C27*H27 -> 9353 | J27: =D27+F27+H27 -> 853753 | K27: =E27+G27+I27 -> 853753 | P27: 1 | Q27: =C27*내역서!R100 -> 9353 | R27: =C27*내역서!S100 -> 0 | S27: =C27*내역서!T100 -> 0 | T27: =C27*내역서!U100 -> 0 | U27: =C27*내역서!V100 -> 0 | V27: =C27*내역서!W100 -> 0 | W27: =C27*내역서!X100 -> 0 | X27: =C27*내역서!Y100 -> 0 | Y27: =C27*내역서!Z100 -> 0 | Z27: =C27*내역서!AA100 -> 0 | AA27: =C27*내역서!AB100 -> 0 | AB27: =C27*내역서!AC100 -> 0 | AC27: =C27*내역서!AD100 -> 0 | AD27: =C27*내역서!AE100 -> 0 | AE27: =C27*내역서!AF100 -> 0 | AF27: =C27*내역서!AG100 -> 0 | AG27: =C27*내역서!AH100 -> 0 | AH27: =C27*내역서!AI100 -> 0 | AI27: =C27*내역서!AJ100 -> 0 | AJ27: =C27*내역서!AK100 -> 0 | AK27: =C27*내역서!AL100 -> 0 | AL27: =C27*내역서!AM100 -> 0 | AM27: =C27*내역서!AN100 -> 0 | AN27: =C27*내역서!AO100 -> 0 | AO27: =C27*내역서!AP100 -> 0 | AP27: =C27*내역서!AQ100 -> 0 | AQ27: =C27*내역서!AR100 -> 0 | AR27: =C27*내역서!AS100 -> 0 | AS27: =C27*내역서!AT100 -> 0 | AT27: =C27*내역서!AU100 -> 0 | AU27: =C27*내역서!AV100 -> 0
A28: 0107. 폐기물처리비 | B28: 식 | C28: 1 | D28: =내역서!F116 -> 0 | E28: =C28*D28 -> 0 | F28: =내역서!H116 -> 0 | G28: =C28*F28 -> 0 | H28: =내역서!J116 -> 284549 | I28: =C28*H28 -> 284549 | J28: =D28+F28+H28 -> 284549 | K28: =E28+G28+I28 -> 284549 | L28: 합계제외 | Q28: =C28*내역서!R116 -> 0 | R28: =C28*내역서!S116 -> 0 | S28: =C28*내역서!T116 -> 0 | T28: =C28*내역서!U116 -> 0 | U28: =C28*내역서!V116 -> 0 | V28: =C28*내역서!W116 -> 0 | W28: =C28*내역서!X116 -> 284549 | X28: =C28*내역서!Y116 -> 0 | Y28: =C28*내역서!Z116 -> 0 | Z28: =C28*내역서!AA116 -> 0 | AA28: =C28*내역서!AB116 -> 0 | AB28: =C28*내역서!AC116 -> 0 | AC28: =C28*내역서!AD116 -> 0 | AD28: =C28*내역서!AE116 -> 0 | AE28: =C28*내역서!AF116 -> 0 | AF28: =C28*내역서!AG116 -> 0 | AG28: =C28*내역서!AH116 -> 0 | AH28: =C28*내역서!AI116 -> 0 | AI28: =C28*내역서!AJ116 -> 0 | AJ28: =C28*내역서!AK116 -> 0 | AK28: =C28*내역서!AL116 -> 0 | AL28: =C28*내역서!AM116 -> 0 | AM28: =C28*내역서!AN116 -> 0 | AN28: =C28*내역서!AO116 -> 0 | AO28: =C28*내역서!AP116 -> 0 | AP28: =C28*내역서!AQ116 -> 0 | AQ28: =C28*내역서!AR116 -> 0 | AR28: =C28*내역서!AS116 -> 0 | AS28: =C28*내역서!AT116 -> 0 | AT28: =C28*내역서!AU116 -> 0 | AU28: =C28*내역서!AV116 -> 0
A36: 합 계 | E36: =SUMIF(P22:P28, "1", E22:E28) -> 14567880 | G36: =SUMIF(P22:P28, "1", G22:G28) -> 13948945 | I36: =SUMIF(P22:P28, "1", I22:I28) -> 152070 | K36: =E36+G36+I36 -> 28668895 | Q36: =SUM(Q22:Q28) -> 152070 | R36: =SUM(R22:R28) -> 0 | S36: =SUM(S22:S28) -> 0 | T36: =SUM(T22:T28) -> 0 | U36: =SUM(U22:U28) -> 0 | V36: =SUM(V22:V28) -> 0 | W36: =SUM(W22:W28) -> 284549 | X36: =SUM(X22:X28) -> 0 | ... AX36: =SUM(AX22:AX28) -> 0

Sheet 내역서
A1: 공 사 내 역 서
A2: 공사명 : 실로암노인전문요양원 리모델링 공사
A3: 품 명 | B3: 규 격 | C3: 단위 | D3: 수 량 | E3: 재 료 비 | G3: 노 무 비 | I3: 경 비 | K3: 합 계 | M3: 비고
E4: 단 가 | F4: 금 액 | G4: 단 가 | H4: 금 액 | I4: 단 가 | J4: 금 액 | K4: 단 가 | L4: 금 액 | N4: 손료요율 | O4: 손료구분 | P4: 적용구분 | Q4: 합계구분 | R4: 기계경비 | S4: 운반비 | T4: 작업부산물 | U4: 관급 | V4: 외주비 | W4: 장비비 | X4: 폐기물처리비 | Y4: 가설비 | Z4: 잡비제외분 | AA4: 사급자재대 | AB4: 관급자재대 | AC4: 사용자항목1 | AD4: 사용자항목2 | AE4: 안전관리비 | AF4: 품질관리비 | AG4: 작업부산물(철거해체) | AH4: 사용자항목6 | AI4: 사용자항목7 | AJ4: 사용자항목8 | AK4: 사용자항목9 | AL4: 사용자항목10 | AM4: 사용자항목11 | AN4: 사용자항목12 | AO4: 사용자항목13 | AP4: 사용자항목14 | AQ4: 사용자항목15 | AR4: 사용자항목16 | AS4: 사용자항목17 | AT4: 사용자항목18 | AU4: 사용자항목19 | AV4: 간접재료비 | AW4: 품목구분 | AX4: 조달코드 | AY4: 구분
A5: 0101. 가설공사
A6: 시스템비계 | B6: 10m이하 | C6: m2 | D6: 114 | E6: =일위대가목록!G5 -> 455 | F6: =ROUNDDOWN(D6*E6, 0) -> 51870 | G6: =일위대가목록!I5 -> 14693 | H6: =ROUNDDOWN(D6*G6, 0) -> 1675002 | I6: =일위대가목록!K5 -> 0 | J6: =ROUNDDOWN(D6*I6, 0) -> 0 | K6: =E6+G6+I6 -> 15148 | L6: =F6+H6+J6 -> 1726872 | M6: 일위 1호 | O6: ="" | P6: 기계경비 | Q6: 1 | R6: =IF(P6="기계경비", J6, 0) -> 0 | S6: =IF(P6="운반비", L6, 0) -> 0 | T6: =IF(P6="작업부산물", F6, 0) -> 0 | U6: =IF(P6="관급", F6, 0) -> 0 | V6: =IF(P6="외주비", J6, 0) -> 0 | W6: =IF(P6="장비비", J6, 0) -> 0 | X6: =IF(P6="폐기물처리비", L6, 0) -> 0 | Y6: =IF(P6="가설비", J6, 0) -> 0 | Z6: =IF(P6="잡비제외분", F6, 0) -> 0 | AA6: =IF(P6="사급자재대", L6, 0) -> 0 | AB6: =IF(P6="관급자재대", L6, 0) -> 0 | AC6: =IF(P6="사용자항목1", L6, 0) -> 0 | AD6: =IF(P6="사용자항목2", L6, 0) -> 0 | AE6: =IF(P6="안전관리비", L6, 0) -> 0 | AF6: =IF(P6="품질관리비", L6, 0) -> 0 | AG6: =IF(P6="작업부산물(철거해체)", L6, 0) -> 0 | AH6: =IF(P6="사용자항목6", L6, 0) -> 0 | AI6: =IF(P6="사용자항목7", L6, 0) -> 0 | AJ6: =IF(P6="사용자항목8", L6, 0) -> 0 | AK6: =IF(P6="사용자항목9", L6, 0) -> 0 | AL6: =IF(P6="사용자항목10", L6, 0) -> 0 | AM6: =IF(P6="사용자항목11", L6, 0) -> 0 | AN6: =IF(P6="사용자항목12", L6, 0) -> 0 | AO6: =IF(P6="사용자항목13", L6, 0) -> 0 | AP6: =IF(P6="사용자항목14", L6, 0) -> 0 | AQ6: =IF(P6="사용자항목15", L6, 0) -> 0 | AR6: =IF(P6="사용자항목16", L6, 0) -> 0 | AS6: =IF(P6="사용자항목17", L6, 0) -> 0 | AT6: =IF(P6="사용자항목18", L6, 0) -> 0 | AU6: =IF(P6="사용자항목19", L6, 0) -> 0 | AY6: 표준시장단가
A7: 시스템비계 | B7: 10m초과~20m이하 | C7: m2 | D7: 31 | E7: =일위대가목록!G6 -> 555 | F7: =ROUNDDOWN(D7*E7, 0) -> 17205 | G7: =일위대가목록!I6 -> 17932 | H7: =ROUNDDOWN(D7*G7, 0) -> 555892 | I7: =일위대가목록!K6 -> 0 | J7: =ROUNDDOWN(D7*I7, 0) -> 0 | K7: =E7+G7+I7 -> 18487 | L7: =F7+H7+J7 -> 573097 | M7: 일위 2호 | O7: ="" | P7: 기계경비 | Q7: 1 | R7: =IF(P7="기계경비", J7, 0) -> 0 | S7: =IF(P7="운반비", L7, 0) -> 0 | T7: =IF(P7="작업부산물", F7, 0) -> 0 | U7: =IF(P7="관급", F7, 0) -> 0 | V7: =IF(P7="외주비", J7, 0) -> 0 | W7: =IF(P7="장비비", J7, 0) -> 0 | X7: =IF(P7="폐기물처리비", L7, 0) -> 0 | Y7: =IF(P7="가설비", J7, 0) -> 0 | Z7: =IF(P7="잡비제외분", F7, 0) -> 0 | AA7: =IF(P7="사급자재대", L7, 0) -> 0 | AB7: =IF(P7="관급자재대", L7, 0) -> 0 | AC7: =IF(P7="사용자항목1", L7, 0) -> 0 | AD7: =IF(P7="사용자항목2", L7, 0) -> 0 | AE7: =IF(P7="안전관리비", L7, 0) -> 0 | AF7: =IF(P7="품질관리비", L7, 0) -> 0 | AG7: =IF(P7="작업부산물(철거해체)", L7, 0) -> 0 | AH7: =IF(P7="사용자항목6", L7, 0) -> 0 | AI7: =IF(P7="사용자항목7", L7, 0) -> 0 | AJ7: =IF(P7="사용자항목8", L7, 0) -> 0 | AK7: =IF(P7="사용자항목9", L7, 0) -> 0 | AL7: =IF(P7="사용자항목10", L7, 0) -> 0 | AM7: =IF(P7="사용자항목11", L7, 0) -> 0 | AN7: =IF(P7="사용자항목12", L7, 0) -> 0 | AO7: =IF(P7="사용자항목13", L7, 0) -> 0 | AP7: =IF(P7="사용자항목14", L7, 0) -> 0 | AQ7: =IF(P7="사용자항목15", L7, 0) -> 0 | AR7: =IF(P7="사용자항목16", L7, 0) -> 0 | AS7: =IF(P7="사용자항목17", L7, 0) -> 0 | AT7: =IF(P7="사용자항목18", L7, 0) -> 0 | AU7: =IF(P7="사용자항목19", L7, 0) -> 0 | AY7: 표준시장단가
A8: 강관 조립말비계(이동식)설치 및 해체 | B8: 1개월,2단(4m) | C8: 1대 | D8: 1 | E8: =일위대가목록!G7 -> 16273 | F8: =ROUNDDOWN(D8*E8, 0) -> 16273 | G8: =일위대가목록!I7 -> 158067 | H8: =ROUNDDOWN(D8*G8, 0) -> 158067 | I8: =일위대가목록!K7 -> 0 | J8: =ROUNDDOWN(D8*I8, 0) -> 0 | K8: =E8+G8+I8 -> 174340 | L8: =F8+H8+J8 -> 174340 | M8: 일위 3호 | O8: ="" | P8: 기계경비 | Q8: 1 | R8: =IF(P8="기계경비", J8, 0) -> 0 | S8: =IF(P8="운반비", L8, 0) -> 0 | T8: =IF(P8="작업부산물", F8, 0) -> 0 | U8: =IF(P8="관급", F8, 0) -> 0 | V8: =IF(P8="외주비", J8, 0) -> 0 | W8: =IF(P8="장비비", J8, 0) -> 0 | X8: =IF(P8="폐기물처리비", L8, 0) -> 0 | Y8: =IF(P8="가설비", J8, 0) -> 0 | Z8: =IF(P8="잡비제외분", F8, 0) -> 0 | AA8: =IF(P8="사급자재대", L8, 0) -> 0 | AB8: =IF(P8="관급자재대", L8, 0) -> 0 | AC8: =IF(P8="사용자항목1", L8, 0) -> 0 | AD8: =IF(P8="사용자항목2", L8, 0) -> 0 | AE8: =IF(P8="안전관리비", L8, 0) -> 0 | AF8: =IF(P8="품질관리비", L8, 0) -> 0 | AG8: =IF(P8="작업부산물(철거해체)", L8, 0) -> 0 | AH8: =IF(P8="사용자항목6", L8, 0) -> 0 | AI8: =IF(P8="사용자항목7", L8, 0) -> 0 | AJ8: =IF(P8="사용자항목8", L8, 0) -> 0 | AK8: =IF(P8="사용자항목9", L8, 0) -> 0 | AL8: =IF(P8="사용자항목10", L8, 0) -> 0 | AM8: =IF(P8="사용자항목11", L8, 0) -> 0 | AN8: =IF(P8="사용자항목12", L8, 0) -> 0 | AO8: =IF(P8="사용자항목13", L8, 0) -> 0 | AP8: =IF(P8="사용자항목14", L8, 0) -> 0 | AQ8: =IF(P8="사용자항목15", L8, 0) -> 0 | AR8: =IF(P8="사용자항목16", L8, 0) -> 0 | AS8: =IF(P8="사용자항목17", L8, 0) -> 0 | AT8: =IF(P8="사용자항목18", L8, 0) -> 0 | AU8: =IF(P8="사용자항목19", L8, 0) -> 0
A9: 건축물 현장정리 | B9: 2가지이하공종,조적조의20% | C9: M2 | D9: 89 | E9: =일위대가목록!G8 -> 0 | F9: =ROUNDDOWN(D9*E9, 0) -> 0 | G9: =일위대가목록!I8 -> 1726 | H9: =ROUNDDOWN(D9*G9, 0) -> 153614 | I9: =일위대가목록!K8 -> 0 | J9: =ROUNDDOWN(D9*I9, 0) -> 0 | K9: =E9+G9+I9 -> 1726 | L9: =F9+H9+J9 -> 153614 | M9: 일위 4호 | O9: ="" | P9: 기계경비 | Q9: 1 | R9: =IF(P9="기계경비", J9, 0) -> 0 | S9: =IF(P9="운반비", L9, 0) -> 0 | T9: =IF(P9="작업부산물", F9, 0) -> 0 | U9: =IF(P9="관급", F9, 0) -> 0 | V9: =IF(P9="외주비", J9, 0) -> 0 | W9: =IF(P9="장비비", J9, 0) -> 0 | X9: =IF(P9="폐기물처리비", L9, 0) -> 0 | Y9: =IF(P9="가설비", J9, 0) -> 0 | Z9: =IF(P9="잡비제외분", F9, 0) -> 0 | AA9: =IF(P9="사급자재대", L9, 0) -> 0 | AB9: =IF(P9="관급자재대", L9, 0) -> 0 | AC9: =IF(P9="사용자항목1", L9, 0) -> 0 | AD9: =IF(P9="사용자항목2", L9, 0) -> 0 | AE9: =IF(P9="안전관리비", L9, 0) -> 0 | AF9: =IF(P9="품질관리비", L9, 0) -> 0 | AG9: =IF(P9="작업부산물(철거해체)", L9, 0) -> 0 | AH9: =IF(P9="사용자항목6", L9, 0) -> 0 | AI9: =IF(P9="사용자항목7", L9, 0) -> 0 | AJ9: =IF(P9="사용자항목8", L9, 0) -> 0 | AK9: =IF(P9="사용자항목9", L9, 0) -> 0 | AL9: =IF(P9="사용자항목10", L9, 0) -> 0 | AM9: =IF(P9="사용자항목11", L9, 0) -> 0 | AN9: =IF(P9="사용자항목12", L9, 0) -> 0 | AO9: =IF(P9="사용자항목13", L9, 0) -> 0 | AP9: =IF(P9="사용자항목14", L9, 0) -> 0 | AQ9: =IF(P9="사용자항목15", L9, 0) -> 0 | AR9: =IF(P9="사용자항목16", L9, 0) -> 0 | AS9: =IF(P9="사용자항목17", L9, 0) -> 0 | AT9: =IF(P9="사용자항목18", L9, 0) -> 0 | AU9: =IF(P9="사용자항목19", L9, 0) -> 0 | AY9: 무성적산
A20: 합 계 | F20: =ROUNDDOWN(SUMIF(Q6:Q19, "1", F6:F19), 0) -> 85348 | H20: =ROUNDDOWN(SUMIF(Q6:Q19, "1", H6:H19), 0) -> 2542575 | J20: =ROUNDDOWN(SUMIF(Q6:Q19, "1", J6:J19), 0) -> 0 | L20: =F20+H20+J20 -> 2627923 | R20: =ROUNDDOWN(SUM(R6:R9), 0) -> 0 | S20: =ROUNDDOWN(SUM(S6:S9), 0) -> 0 | T20: =ROUNDDOWN(SUM(T6:T9), 0) -> 0 | U20: =ROUNDDOWN(SUM(U6:U9), 0) -> 0 | V20: =ROUNDDOWN(SUM(V6:V9), 0) -> 0 | W20: =ROUNDDOWN(SUM(W6:W9), 0) -> 0 | X20: =ROUNDDOWN(SUM(X6:X9), 0) -> 0 | Y20: =ROUNDDOWN(SUM(Y6:Y9), 0) -> 0 | ... AY20: =ROUNDDOWN(SUM(AY6:AY9), 0) -> 0
A21: 0102. 지붕공사
A22: 일반구조용각형강관 | B22: 일반구조용각형강관, 각형강관, 75×75×3.2t | C22: m | D22: 42 | E22: =단가대비표!O30 -> 9360 | F22: =ROUNDDOWN(D22*E22, 0) -> 393120 | G22: 0 | H22: =ROUNDDOWN(D22*G22, 0) -> 0 | I22: 0 | J22: =ROUNDDOWN(D22*I22, 0) -> 0 | K22: =E22+G22+I22 -> 9360 | L22: =F22+H22+J22 -> 393120 | M22: 흑관, SRT 275 | O22: ="01" -> 01 | P22: 기계경비 | Q22: 1 | R22: =IF(P22="기계경비", J22, 0) -> 0 | S22: =IF(P22="운반비", L22, 0) -> 0 | T22: =IF(P22="작업부산물", F22, 0) -> 0 | U22: =IF(P22="관급", F22, 0) -> 0 | V22: =IF(P22="외주비", J22, 0) -> 0 | W22: =IF(P22="장비비", J22, 0) -> 0 | X22: =IF(P22="폐기물처리비", L22, 0) -> 0 | Y22: =IF(P22="가설비", J22, 0) -> 0 | Z22: =IF(P22="잡비제외분", F22, 0) -> 0 | AA22: =IF(P22="사급자재대", L22, 0) -> 0 | AB22: =IF(P22="관급자재대", L22, 0) -> 0 | AC22: =IF(P22="사용자항목1", L22, 0) -> 0 | AD22: =IF(P22="사용자항목2", L22, 0) -> 0 | AE22: =IF(P22="안전관리비", L22, 0) -> 0 | AF22: =IF(P22="품질관리비", L22, 0) -> 0 | AG22: =IF(P22="작업부산물(철거해체)", L22, 0) -> 0 | AH22: =IF(P22="사용자항목6", L22, 0) -> 0 | AI22: =IF(P22="사용자항목7", L22, 0) -> 0 | AJ22: =IF(P22="사용자항목8", L22, 0) -> 0 | AK22: =IF(P22="사용자항목9", L22, 0) -> 0 | AL22: =IF(P22="사용자항목10", L22, 0) -> 0 | AM22: =IF(P22="사용자항목11", L22, 0) -> 0 | AN22: =IF(P22="사용자항목12", L22, 0) -> 0 | AO22: =IF(P22="사용자항목13", L22, 0) -> 0 | AP22: =IF(P22="사용자항목14", L22, 0) -> 0 | AQ22: =IF(P22="사용자항목15", L22, 0) -> 0 | AR22: =IF(P22="사용자항목16", L22, 0) -> 0 | AS22: =IF(P22="사용자항목17", L22, 0) -> 0 | AT22: =IF(P22="사용자항목18", L22, 0) -> 0 | AU22: =IF(P22="사용자항목19", L22, 0) -> 0
A23: 잡철물 제작 및 설치(현장제작 설치) | B23: 일반철재 | C23: Ton | D23: 0.28 | E23: =일위대가목록!G9 -> 432376 | F23: =ROUNDDOWN(D23*E23, 0) -> 121065 | G23: =일위대가목록!I9 -> 5404703 | H23: =ROUNDDOWN(D23*G23, 0) -> 1513316 | I23: =일위대가목록!K9 -> 0 | J23: =ROUNDDOWN(D23*I23, 0) -> 0 | K23: =E23+G23+I23 -> 5837079 | L23: =F23+H23+J23 -> 1634381 | M23: 일위 5호 | O23: ="" | P23: 기계경비 | Q23: 1 | R23: =IF(P23="기계경비", J23, 0) -> 0 | S23: =IF(P23="운반비", L23, 0) -> 0 | T23: =IF(P23="작업부산물", F23, 0) -> 0 | U23: =IF(P23="관급", F23, 0) -> 0 | V23: =IF(P23="외주비", J23, 0) -> 0 | W23: =IF(P23="장비비", J23, 0) -> 0 | X23: =IF(P23="폐기물처리비", L23, 0) -> 0 | Y23: =IF(P23="가설비", J23, 0) -> 0 | Z23: =IF(P23="잡비제외분", F23, 0) -> 0 | AA23: =IF(P23="사급자재대", L23, 0) -> 0 | AB23: =IF(P23="관급자재대", L23, 0) -> 0 | AC23: =IF(P23="사용자항목1", L23, 0) -> 0 | AD23: =IF(P23="사용자항목2", L23, 0) -> 0 | AE23: =IF(P23="안전관리비", L23, 0) -> 0 | AF23: =IF(P23="품질관리비", L23, 0) -> 0 | AG23: =IF(P23="작업부산물(철거해체)", L23, 0) -> 0 | AH23: =IF(P23="사용자항목6", L23, 0) -> 0 | AI23: =IF(P23="사용자항목7", L23, 0) -> 0 | AJ23: =IF(P23="사용자항목8", L23, 0) -> 0 | AK23: =IF(P23="사용자항목9", L23, 0) -> 0 | AL23: =IF(P23="사용자항목10", L23, 0) -> 0 | AM23: =IF(P23="사용자항목11", L23, 0) -> 0 | AN23: =IF(P23="사용자항목12", L23, 0) -> 0 | AO23: =IF(P23="사용자항목13", L23, 0) -> 0 | AP23: =IF(P23="사용자항목14", L23, 0) -> 0 | AQ23: =IF(P23="사용자항목15", L23, 0) -> 0 | AR23: =IF(P23="사용자항목16", L23, 0) -> 0 | AS23: =IF(P23="사용자항목17", L23, 0) -> 0 | AT23: =IF(P23="사용자항목18", L23, 0) -> 0 | AU23: =IF(P23="사용자항목19", L23, 0) -> 0 | AY23: AJM53100010S
A24: 녹막이페인트(뿜칠) | B24: 1회.2종 | C24: M2 | D24: 12 | E24: =일위대가목록!G10 -> 795 | F24: =ROUNDDOWN(D24*E24, 0) -> 9540 | G24: =일위대가목록!I10 -> 948 | H24: =ROUNDDOWN(D24*G24, 0) -> 11376 | I24: =일위대가목록!K10 -> 0 | J24: =ROUNDDOWN(D24*I24, 0) -> 0 | K24: =E24+G24+I24 -> 1743 | L24: =F24+H24+J24 -> 20916 | M24: 일위 6호 | O24: ="" | P24: 기계경비 | Q24: 1 | R24: =IF(P24="기계경비", J24, 0) -> 0 | S24: =IF(P24="운반비", L24, 0) -> 0 | T24: =IF(P24="작업부산물", F24, 0) -> 0 | U24: =IF(P24="관급", F24, 0) -> 0 | V24: =IF(P24="외주비", J24, 0) -> 0 | W24: =IF(P24="장비비", J24, 0) -> 0 | X24: =IF(P24="폐기물처리비", L24, 0) -> 0 | Y24: =IF(P24="가설비", J24, 0) -> 0 | Z24: =IF(P24="잡비제외분", F24, 0) -> 0 | AA24: =IF(P24="사급자재대", L24, 0) -> 0 | AB24: =IF(P24="관급자재대", L24, 0) -> 0 | AC24: =IF(P24="사용자항목1", L24, 0) -> 0 | AD24: =IF(P24="사용자항목2", L24, 0) -> 0 | AE24: =IF(P24="안전관리비", L24, 0) -> 0 | AF24: =IF(P24="품질관리비", L24, 0) -> 0 | AG24: =IF(P24="작업부산물(철거해체)", L24, 0) -> 0 | AH24: =IF(P24="사용자항목6", L24, 0) -> 0 | AI24: =IF(P24="사용자항목7", L24, 0) -> 0 | AJ24: =IF(P24="사용자항목8", L24, 0) -> 0 | AK24: =IF(P24="사용자항목9", L24, 0) -> 0 | AL24: =IF(P24="사용자항목10", L24, 0) -> 0 | AM24: =IF(P24="사용자항목11", L24, 0) -> 0 | AN24: =IF(P24="사용자항목12", L24, 0) -> 0 | AO24: =IF(P24="사용자항목13", L24, 0) -> 0 | AP24: =IF(P24="사용자항목14", L24, 0) -> 0 | AQ24: =IF(P24="사용자항목15", L24, 0) -> 0 | AR24: =IF(P24="사용자항목16", L24, 0) -> 0 | AS24: =IF(P24="사용자항목17", L24, 0) -> 0 | AT24: =IF(P24="사용자항목18", L24, 0) -> 0 | AU24: =IF(P24="사용자항목19", L24, 0) -> 0
A25: 합판바닥 깔기 | B25: 바닥,내수, 12mm | C25: M2 | D25: 64 | E25: =일위대가목록!G11 -> 12548 | F25: =ROUNDDOWN(D25*E25, 0) -> 803072 | G25: =일위대가목록!I11 -> 8423 | H25: =ROUNDDOWN(D25*G25, 0) -> 539072 | I25: =일위대가목록!K11 -> 336 | J25: =ROUNDDOWN(D25*I25, 0) -> 21504 | K25: =E25+G25+I25 -> 21307 | L25: =F25+H25+J25 -> 1363648 | M25: 일위 7호 | O25: ="" | P25: 기계경비 | Q25: 1 | R25: =IF(P25="기계경비", J25, 0) -> 21504 | S25: =IF(P25="운반비", L25, 0) -> 0 | T25: =IF(P25="작업부산물", F25, 0) -> 0 | U25: =IF(P25="관급", F25, 0) -> 0 | V25: =IF(P25="외주비", J25, 0) -> 0 | W25: =IF(P25="장비비", J25, 0) -> 0 | X25: =IF(P25="폐기물처리비", L25, 0) -> 0 | Y25: =IF(P25="가설비", J25, 0) -> 0 | Z25: =IF(P25="잡비제외분", F25, 0) -> 0 | AA25: =IF(P25="사급자재대", L25, 0) -> 0 | AB25: =IF(P25="관급자재대", L25, 0) -> 0 | AC25: =IF(P25="사용자항목1", L25, 0) -> 0 | AD25: =IF(P25="사용자항목2", L25, 0) -> 0 | AE25: =IF(P25="안전관리비", L25, 0) -> 0 | AF25: =IF(P25="품질관리비", L25, 0) -> 0 | AG25: =IF(P25="작업부산물(철거해체)", L25, 0) -> 0 | AH25: =IF(P25="사용자항목6", L25, 0) -> 0 | AI25: =IF(P25="사용자항목7", L25, 0) -> 0 | AJ25: =IF(P25="사용자항목8", L25, 0) -> 0 | AK25: =IF(P25="사용자항목9", L25, 0) -> 0 | AL25: =IF(P25="사용자항목10", L25, 0) -> 0 | AM25: =IF(P25="사용자항목11", L25, 0) -> 0 | AN25: =IF(P25="사용자항목12", L25, 0) -> 0 | AO25: =IF(P25="사용자항목13", L25, 0) -> 0 | AP25: =IF(P25="사용자항목14", L25, 0) -> 0 | AQ25: =IF(P25="사용자항목15", L25, 0) -> 0 | AR25: =IF(P25="사용자항목16", L25, 0) -> 0 | AS25: =IF(P25="사용자항목17", L25, 0) -> 0 | AT25: =IF(P25="사용자항목18", L25, 0) -> 0 | AU25: =IF(P25="사용자항목19", L25, 0) -> 0 | AY25: 무성적산
A26: SHEET방수(바닥) | B26: ECB시트,T:1.0 | C26: M2 | D26: 64 | E26: =일위대가목록!G12 -> 10239 | F26: =ROUNDDOWN(D26*E26, 0) -> 655296 | G26: =일위대가목록!I12 -> 19170 | H26: =ROUNDDOWN(D26*G26, 0) -> 1226880 | I26: =일위대가목록!K12 -> 575 | J26: =ROUNDDOWN(D26*I26, 0) -> 36800 | K26: =E26+G26+I26 -> 29984 | L26: =F26+H26+J26 -> 1918976 | M26: 일위 8호 | O26: ="" | P26: 기계경비 | Q26: 1 | R26: =IF(P26="기계경비", J26, 0) -> 36800 | S26: =IF(P26="운반비", L26, 0) -> 0 | T26: =IF(P26="작업부산물", F26, 0) -> 0 | U26: =IF(P26="관급", F26, 0) -> 0 | V26: =IF(P26="외주비", J26, 0) -> 0 | W26: =IF(P26="장비비", J26, 0) -> 0 | X26: =IF(P26="폐기물처리비", L26, 0) -> 0 | Y26: =IF(P26="가설비", J26, 0) -> 0 | Z26: =IF(P26="잡비제외분", F26, 0) -> 0 | AA26: =IF(P26="사급자재대", L26, 0) -> 0 | AB26: =IF(P26="관급자재대", L26, 0) -> 0 | AC26: =IF(P26="사용자항목1", L26, 0) -> 0 | AD26: =IF(P26="사용자항목2", L26, 0) -> 0 | AE26: =IF(P26="안전관리비", L26, 0) -> 0 | AF26: =IF(P26="품질관리비", L26, 0) -> 0 | AG26: =IF(P26="작업부산물(철거해체)", L26, 0) -> 0 | AH26: =IF(P26="사용자항목6", L26, 0) -> 0 | AI26: =IF(P26="사용자항목7", L26, 0) -> 0 | AJ26: =IF(P26="사용자항목8", L26, 0) -> 0 | AK26: =IF(P26="사용자항목9", L26, 0) -> 0 | AL26: =IF(P26="사용자항목10", L26, 0) -> 0 | AM26: =IF(P26="사용자항목11", L26, 0) -> 0 | AN26: =IF(P26="사용자항목12", L26, 0) -> 0 | AO26: =IF(P26="사용자항목13", L26, 0) -> 0 | AP26: =IF(P26="사용자항목14", L26, 0) -> 0 | AQ26: =IF(P26="사용자항목15", L26, 0) -> 0 | AR26: =IF(P26="사용자항목16", L26, 0) -> 0 | AS26: =IF(P26="사용자항목17", L26, 0) -> 0 | AT26: =IF(P26="사용자항목18", L26, 0) -> 0 | AU26: =IF(P26="사용자항목19", L26, 0) -> 0
A27: 아스팔트슁글깔기 | B27: 336*5.0T(이중그림자) | C27: M2 | D27: 64 | E27: =일위대가목록!G13 -> 24000 | F27: =ROUNDDOWN(D27*E27, 0) -> 1536000 | G27: =일위대가목록!I13 -> 17586 | H27: =ROUNDDOWN(D27*G27, 0) -> 1125504 | I27: =일위대가목록!K13 -> 351 | J27: =ROUNDDOWN(D27*I27, 0) -> 22464 | K27: =E27+G27+I27 -> 41937 | L27: =F27+H27+J27 -> 2683968 | M27: 일위 9호 | O27: ="" | P27: 기계경비 | Q27: 1 | R27: =IF(P27="기계경비", J27, 0) -> 22464 | S27: =IF(P27="운반비", L27, 0) -> 0 | T27: =IF(P27="작업부산물", F27, 0) -> 0 | U27: =IF(P27="관급", F27, 0) -> 0 | V27: =IF(P27="외주비", J27, 0) -> 0 | W27: =IF(P27="장비비", J27, 0) -> 0 | X27: =IF(P27="폐기물처리비", L27, 0) -> 0 | Y27: =IF(P27="가설비", J27, 0) -> 0 | Z27: =IF(P27="잡비제외분", F27, 0) -> 0 | AA27: =IF(P27="사급자재대", L27, 0) -> 0 | AB27: =IF(P27="관급자재대", L27, 0) -> 0 | AC27: =IF(P27="사용자항목1", L27, 0) -> 0 | AD27: =IF(P27="사용자항목2", L27, 0) -> 0 | AE27: =IF(P27="안전관리비", L27, 0) -> 0 | AF27: =IF(P27="품질관리비", L27, 0) -> 0 | AG27: =IF(P27="작업부산물(철거해체)", L27, 0) -> 0 | AH27: =IF(P27="사용자항목6", L27, 0) -> 0 | AI27: =IF(P27="사용자항목7", L27, 0) -> 0 | AJ27: =IF(P27="사용자항목8", L27, 0) -> 0 | AK27: =IF(P27="사용자항목9", L27, 0) -> 0 | AL27: =IF(P27="사용자항목10", L27, 0) -> 0 | AM27: =IF(P27="사용자항목11", L27, 0) -> 0 | AN27: =IF(P27="사용자항목12", L27, 0) -> 0 | AO27: =IF(P27="사용자항목13", L27, 0) -> 0 | AP27: =IF(P27="사용자항목14", L27, 0) -> 0 | AQ27: =IF(P27="사용자항목15", L27, 0) -> 0 | AR27: =IF(P27="사용자항목16", L27, 0) -> 0 | AS27: =IF(P27="사용자항목17", L27, 0) -> 0 | AT27: =IF(P27="사용자항목18", L27, 0) -> 0 | AU27: =IF(P27="사용자항목19", L27, 0) -> 0
A36: 합 계 | F36: =ROUNDDOWN(SUMIF(Q22:Q35, "1", F22:F35), 0) -> 3518093 | H36: =ROUNDDOWN(SUMIF(Q22:Q35, "1", H22:H35), 0) -> 4416148 | J36: =ROUNDDOWN(SUMIF(Q22:Q35, "1", J22:J35), 0) -> 80768 | L36: =F36+H36+J36 -> 8015009 | R36: =ROUNDDOWN(SUM(R22:R27), 0) -> 80768 | S36: =ROUNDDOWN(SUM(S22:S27), 0) -> 0 | T36: =ROUNDDOWN(SUM(T22:T27), 0) -> 0 | U36: =ROUNDDOWN(SUM(U22:U27), 0) -> 0 | V36: =ROUNDDOWN(SUM(V22:V27), 0) -> 0 | W36: =ROUNDDOWN(SUM(W22:W27), 0) -> 0 | X36: =ROUNDDOWN(SUM(X22:X27), 0) -> 0 | Y36: =ROUNDDOWN(SUM(Y22:Y27), 0) -> 0 | ... AY36: =ROUNDDOWN(SUM(AY22:AY27), 0) -> 0
A37: 0103. 도장공사
A38: 고압물청소 | C38: M2 | D38: 454 | E38: =일위대가목록!G14 -> 0 | F38: =ROUNDDOWN(D38*E38, 0) -> 0 | G38: =일위대가목록!I14 -> 5489 | H38: =ROUNDDOWN(D38*G38, 0) -> 2492006 | I38: =일위대가목록!K14 -> 109 | J38: =ROUNDDOWN(D38*I38, 0) -> 49486 | K38: =E38+G38+I38 -> 5598 | L38: =F38+H38+J38 -> 2541492 | M38: 일위 10호 | O38: ="" | P38: 기계경비 | Q38: 1 | R38: =IF(P38="기계경비", J38, 0) -> 49486 | S38: =IF(P38="운반비", L38, 0) -> 0 | T38: =IF(P38="작업부산물", F38, 0) -> 0 | U38: =IF(P38="관급", F38, 0) -> 0 | V38: =IF(P38="외주비", J38, 0) -> 0 | W38: =IF(P38="장비비", J38, 0) -> 0 | X38: =IF(P38="폐기물처리비", L38, 0) -> 0 | Y38: =IF(P38="가설비", J38, 0) -> 0 | Z38: =IF(P38="잡비제외분", F38, 0) -> 0 | AA38: =IF(P38="사급자재대", L38, 0) -> 0 | AB38: =IF(P38="관급자재대", L38, 0) -> 0 | AC38: =IF(P38="사용자항목1", L38, 0) -> 0 | AD38: =IF(P38="사용자항목2", L38, 0) -> 0 | AE38: =IF(P38="안전관리비", L38, 0) -> 0 | AF38: =IF(P38="품질관리비", L38, 0) -> 0 | AG38: =IF(P38="작업부산물(철거해체)", L38, 0) -> 0 | AH38: =IF(P38="사용자항목6", L38, 0) -> 0 | AI38: =IF(P38="사용자항목7", L38, 0) -> 0 | AJ38: =IF(P38="사용자항목8", L38, 0) -> 0 | AK38: =IF(P38="사용자항목9", L38, 0) -> 0 | AL38: =IF(P38="사용자항목10", L38, 0) -> 0 | AM38: =IF(P38="사용자항목11", L38, 0) -> 0 | AN38: =IF(P38="사용자항목12", L38, 0) -> 0 | AO38: =IF(P38="사용자항목13", L38, 0) -> 0 | AP38: =IF(P38="사용자항목14", L38, 0) -> 0 | AQ38: =IF(P38="사용자항목15", L38, 0) -> 0 | AR38: =IF(P38="사용자항목16", L38, 0) -> 0 | AS38: =IF(P38="사용자항목17", L38, 0) -> 0 | AT38: =IF(P38="사용자항목18", L38, 0) -> 0 | AU38: =IF(P38="사용자항목19", L38, 0) -> 0
A39: 친환경수성페인트칠(롤러칠) | B39: 기존외벽,2회,2급 | C39: M2 | D39: 258 | E39: =일위대가목록!G15 -> 1088 | F39: =ROUNDDOWN(D39*E39, 0) -> 280704 | G39: =일위대가목록!I15 -> 9497 | H39: =ROUNDDOWN(D39*G39, 0) -> 2450226 | I39: =일위대가목록!K15 -> 0 | J39: =ROUNDDOWN(D39*I39, 0) -> 0 | K39: =E39+G39+I39 -> 10585 | L39: =F39+H39+J39 -> 2730930 | M39: 일위 11호 | O39: ="" | P39: 기계경비 | Q39: 1 | R39: =IF(P39="기계경비", J39, 0) -> 0 | S39: =IF(P39="운반비", L39, 0) -> 0 | T39: =IF(P39="작업부산물", F39, 0) -> 0 | U39: =IF(P39="관급", F39, 0) -> 0 | V39: =IF(P39="외주비", J39, 0) -> 0 | W39: =IF(P39="장비비", J39, 0) -> 0 | X39: =IF(P39="폐기물처리비", L39, 0) -> 0 | Y39: =IF(P39="가설비", J39, 0) -> 0 | Z39: =IF(P39="잡비제외분", F39, 0) -> 0 | AA39: =IF(P39="사급자재대", L39, 0) -> 0 | AB39: =IF(P39="관급자재대", L39, 0) -> 0 | AC39: =IF(P39="사용자항목1", L39, 0) -> 0 | AD39: =IF(P39="사용자항목2", L39, 0) -> 0 | AE39: =IF(P39="안전관리비", L39, 0) -> 0 | AF39: =IF(P39="품질관리비", L39, 0) -> 0 | AG39: =IF(P39="작업부산물(철거해체)", L39, 0) -> 0 | AH39: =IF(P39="사용자항목6", L39, 0) -> 0 | AI39: =IF(P39="사용자항목7", L39, 0) -> 0 | AJ39: =IF(P39="사용자항목8", L39, 0) -> 0 | AK39: =IF(P39="사용자항목9", L39, 0) -> 0 | AL39: =IF(P39="사용자항목10", L39, 0) -> 0 | AM39: =IF(P39="사용자항목11", L39, 0) -> 0 | AN39: =IF(P39="사용자항목12", L39, 0) -> 0 | AO39: =IF(P39="사용자항목13", L39, 0) -> 0 | AP39: =IF(P39="사용자항목14", L39, 0) -> 0 | AQ39: =IF(P39="사용자항목15", L39, 0) -> 0 | AR39: =IF(P39="사용자항목16", L39, 0) -> 0 | AS39: =IF(P39="사용자항목17", L39, 0) -> 0 | AT39: =IF(P39="사용자항목18", L39, 0) -> 0 | AU39: =IF(P39="사용자항목19", L39, 0) -> 0
A40: 외벽단열마감재 | B40: 표준마감-피니쉬시스템 | C40: M2 | D40: 196 | E40: =단가대비표!O28 -> 49630 | F40: =ROUNDDOWN(D40*E40, 0) -> 9727480 | G40: 0 | H40: =ROUNDDOWN(D40*G40, 0) -> 0 | I40: 0 | J40: =ROUNDDOWN(D40*I40, 0) -> 0 | K40: =E40+G40+I40 -> 49630 | L40: =F40+H40+J40 -> 9727480 | M40: 준불연 | O40: ="01" -> 01 | P40: 기계경비 | Q40: 1 | R40: =IF(P40="기계경비", J40, 0) -> 0 | S40: =IF(P40="운반비", L40, 0) -> 0 | T40: =IF(P40="작업부산물", F40, 0) -> 0 | U40: =IF(P40="관급", F40, 0) -> 0 | V40: =IF(P40="외주비", J40, 0) -> 0 | W40: =IF(P40="장비비", J40, 0) -> 0 | X40: =IF(P40="폐기물처리비", L40, 0) -> 0 | Y40: =IF(P40="가설비", J40, 0) -> 0 | Z40: =IF(P40="잡비제외분", F40, 0) -> 0 | AA40: =IF(P40="사급자재대", L40, 0) -> 0 | AB40: =IF(P40="관급자재대", L40, 0) -> 0 | AC40: =IF(P40="사용자항목1", L40, 0) -> 0 | AD40: =IF(P40="사용자항목2", L40, 0) -> 0 | AE40: =IF(P40="안전관리비", L40, 0) -> 0 | AF40: =IF(P40="품질관리비", L40, 0) -> 0 | AG40: =IF(P40="작업부산물(철거해체)", L40, 0) -> 0 | AH40: =IF(P40="사용자항목6", L40, 0) -> 0 | AI40: =IF(P40="사용자항목7", L40, 0) -> 0 | AJ40: =IF(P40="사용자항목8", L40, 0) -> 0 | AK40: =IF(P40="사용자항목9", L40, 0) -> 0 | AL40: =IF(P40="사용자항목10", L40, 0) -> 0 | AM40: =IF(P40="사용자항목11", L40, 0) -> 0 | AN40: =IF(P40="사용자항목12", L40, 0) -> 0 | AO40: =IF(P40="사용자항목13", L40, 0) -> 0 | AP40: =IF(P40="사용자항목14", L40, 0) -> 0 | AQ40: =IF(P40="사용자항목15", L40, 0) -> 0 | AR40: =IF(P40="사용자항목16", L40, 0) -> 0 | AS40: =IF(P40="사용자항목17", L40, 0) -> 0 | AT40: =IF(P40="사용자항목18", L40, 0) -> 0 | AU40: =IF(P40="사용자항목19", L40, 0) -> 0
A52: 합 계 | F52: =ROUNDDOWN(SUMIF(Q38:Q51, "1", F38:F51), 0) -> 10008184 | H52: =ROUNDDOWN(SUMIF(Q38:Q51, "1", H38:H51), 0) -> 4942232 | J52: =ROUNDDOWN(SUMIF(Q38:Q51, "1", J38:J51), 0) -> 49486 | L52: =F52+H52+J52 -> 14999902 | R52: =ROUNDDOWN(SUM(R38:R40), 0) -> 49486 | S52: =ROUNDDOWN(SUM(S38:S40), 0) -> 0 | T52: =ROUNDDOWN(SUM(T38:T40), 0) -> 0 | U52: =ROUNDDOWN(SUM(U38:U40), 0) -> 0 | V52: =ROUNDDOWN(SUM(V38:V40), 0) -> 0 | W52: =ROUNDDOWN(SUM(W38:W40), 0) -> 0 | X52: =ROUNDDOWN(SUM(X38:X40), 0) -> 0 | Y52: =ROUNDDOWN(SUM(Y38:Y40), 0) -> 0 | ... AY52: =ROUNDDOWN(SUM(AY38:AY40), 0) -> 0
A53: 0104. 수장공사
A54: 도배바름(콘크리트.모르타르면) | B54: 벽, 비닐벽지, 실크형, A급 | C54: M2 | D54: 58 | E54: =일위대가목록!G16 -> 3579 | F54: =ROUNDDOWN(D54*E54, 0) -> 207582 | G54: =일위대가목록!I16 -> 6726 | H54: =ROUNDDOWN(D54*G54, 0) -> 390108 | I54: =일위대가목록!K16 -> 0 | J54: =ROUNDDOWN(D54*I54, 0) -> 0 | K54: =E54+G54+I54 -> 10305 | L54: =F54+H54+J54 -> 597690 | M54: 일위 12호 | O54: ="" | P54: 기계경비 | Q54: 1 | R54: =IF(P54="기계경비", J54, 0) -> 0 | S54: =IF(P54="운반비", L54, 0) -> 0 | T54: =IF(P54="작업부산물", F54, 0) -> 0 | U54: =IF(P54="관급", F54, 0) -> 0 | V54: =IF(P54="외주비", J54, 0) -> 0 | W54: =IF(P54="장비비", J54, 0) -> 0 | X54: =IF(P54="폐기물처리비", L54, 0) -> 0 | Y54: =IF(P54="가설비", J54, 0) -> 0 | Z54: =IF(P54="잡비제외분", F54, 0) -> 0 | AA54: =IF(P54="사급자재대", L54, 0) -> 0 | AB54: =IF(P54="관급자재대", L54, 0) -> 0 | AC54: =IF(P54="사용자항목1", L54, 0) -> 0 | AD54: =IF(P54="사용자항목2", L54, 0) -> 0 | AE54: =IF(P54="안전관리비", L54, 0) -> 0 | AF54: =IF(P54="품질관리비", L54, 0) -> 0 | AG54: =IF(P54="작업부산물(철거해체)", L54, 0) -> 0 | AH54: =IF(P54="사용자항목6", L54, 0) -> 0 | AI54: =IF(P54="사용자항목7", L54, 0) -> 0 | AJ54: =IF(P54="사용자항목8", L54, 0) -> 0 | AK54: =IF(P54="사용자항목9", L54, 0) -> 0 | AL54: =IF(P54="사용자항목10", L54, 0) -> 0 | AM54: =IF(P54="사용자항목11", L54, 0) -> 0 | AN54: =IF(P54="사용자항목12", L54, 0) -> 0 | AO54: =IF(P54="사용자항목13", L54, 0) -> 0 | AP54: =IF(P54="사용자항목14", L54, 0) -> 0 | AQ54: =IF(P54="사용자항목15", L54, 0) -> 0 | AR54: =IF(P54="사용자항목16", L54, 0) -> 0 | AS54: =IF(P54="사용자항목17", L54, 0) -> 0 | AT54: =IF(P54="사용자항목18", L54, 0) -> 0 | AU54: =IF(P54="사용자항목19", L54, 0) -> 0
A55: 도배바름(합판.석고보드면) | B55: 천장, 비닐벽지, 실크형, A급 | C55: M2 | D55: 25 | E55: =일위대가목록!G17 -> 3483 | F55: =ROUNDDOWN(D55*E55, 0) -> 87075 | G55: =일위대가목록!I17 -> 9715 | H55: =ROUNDDOWN(D55*G55, 0) -> 242875 | I55: =일위대가목록!K17 -> 0 | J55: =ROUNDDOWN(D55*I55, 0) -> 0 | K55: =E55+G55+I55 -> 13198 | L55: =F55+H55+J55 -> 329950 | M55: 일위 13호 | O55: ="" | P55: 기계경비 | Q55: 1 | R55: =IF(P55="기계경비", J55, 0) -> 0 | S55: =IF(P55="운반비", L55, 0) -> 0 | T55: =IF(P55="작업부산물", F55, 0) -> 0 | U55: =IF(P55="관급", F55, 0) -> 0 | V55: =IF(P55="외주비", J55, 0) -> 0 | W55: =IF(P55="장비비", J55, 0) -> 0 | X55: =IF(P55="폐기물처리비", L55, 0) -> 0 | Y55: =IF(P55="가설비", J55, 0) -> 0 | Z55: =IF(P55="잡비제외분", F55, 0) -> 0 | AA55: =IF(P55="사급자재대", L55, 0) -> 0 | AB55: =IF(P55="관급자재대", L55, 0) -> 0 | AC55: =IF(P55="사용자항목1", L55, 0) -> 0 | AD55: =IF(P55="사용자항목2", L55, 0) -> 0 | AE55: =IF(P55="안전관리비", L55, 0) -> 0 | AF55: =IF(P55="품질관리비", L55, 0) -> 0 | AG55: =IF(P55="작업부산물(철거해체)", L55, 0) -> 0 | AH55: =IF(P55="사용자항목6", L55, 0) -> 0 | AI55: =IF(P55="사용자항목7", L55, 0) -> 0 | AJ55: =IF(P55="사용자항목8", L55, 0) -> 0 | AK55: =IF(P55="사용자항목9", L55, 0) -> 0 | AL55: =IF(P55="사용자항목10", L55, 0) -> 0 | AM55: =IF(P55="사용자항목11", L55, 0) -> 0 | AN55: =IF(P55="사용자항목12", L55, 0) -> 0 | AO55: =IF(P55="사용자항목13", L55, 0) -> 0 | AP55: =IF(P55="사용자항목14", L55, 0) -> 0 | AQ55: =IF(P55="사용자항목15", L55, 0) -> 0 | AR55: =IF(P55="사용자항목16", L55, 0) -> 0 | AS55: =IF(P55="사용자항목17", L55, 0) -> 0 | AT55: =IF(P55="사용자항목18", L55, 0) -> 0 | AU55: =IF(P55="사용자항목19", L55, 0) -> 0
A56: 석고판 설치(나사고정,석고판포함) | B56: 천장, 일반, 바탕용 9.5mm(1겹) | C56: M2 | D56: 25 | E56: =일위대가목록!G18 -> 3110 | F56: =ROUNDDOWN(D56*E56, 0) -> 77750 | G56: =일위대가목록!I18 -> 15191 | H56: =ROUNDDOWN(D56*G56, 0) -> 379775 | I56: =일위대가목록!K18 -> 151 | J56: =ROUNDDOWN(D56*I56, 0) -> 3775 | K56: =E56+G56+I56 -> 18452 | L56: =F56+H56+J56 -> 461300 | M56: 일위 14호 | O56: ="" | P56: 기계경비 | Q56: 1 | R56: =IF(P56="기계경비", J56, 0) -> 3775 | S56: =IF(P56="운반비", L56, 0) -> 0 | T56: =IF(P56="작업부산물", F56, 0) -> 0 | U56: =IF(P56="관급", F56, 0) -> 0 | V56: =IF(P56="외주비", J56, 0) -> 0 | W56: =IF(P56="장비비", J56, 0) -> 0 | X56: =IF(P56="폐기물처리비", L56, 0) -> 0 | Y56: =IF(P56="가설비", J56, 0) -> 0 | Z56: =IF(P56="잡비제외분", F56, 0) -> 0 | AA56: =IF(P56="사급자재대", L56, 0) -> 0 | AB56: =IF(P56="관급자재대", L56, 0) -> 0 | AC56: =IF(P56="사용자항목1", L56, 0) -> 0 | AD56: =IF(P56="사용자항목2", L56, 0) -> 0 | AE56: =IF(P56="안전관리비", L56, 0) -> 0 | AF56: =IF(P56="품질관리비", L56, 0) -> 0 | AG56: =IF(P56="작업부산물(철거해체)", L56, 0) -> 0 | AH56: =IF(P56="사용자항목6", L56, 0) -> 0 | AI56: =IF(P56="사용자항목7", L56, 0) -> 0 | AJ56: =IF(P56="사용자항목8", L56, 0) -> 0 | AK56: =IF(P56="사용자항목9", L56, 0) -> 0 | AL56: =IF(P56="사용자항목10", L56, 0) -> 0 | AM56: =IF(P56="사용자항목11", L56, 0) -> 0 | AN56: =IF(P56="사용자항목12", L56, 0) -> 0 | AO56: =IF(P56="사용자항목13", L56, 0) -> 0 | AP56: =IF(P56="사용자항목14", L56, 0) -> 0 | AQ56: =IF(P56="사용자항목15", L56, 0) -> 0 | AR56: =IF(P56="사용자항목16", L56, 0) -> 0 | AS56: =IF(P56="사용자항목17", L56, 0) -> 0 | AT56: =IF(P56="사용자항목18", L56, 0) -> 0 | AU56: =IF(P56="사용자항목19", L56, 0) -> 0
A57: 목재몰딩 설치 | B57: MDF 9×60,무늬목,방염 | C57: M | D57: 24 | E57: =일위대가목록!G19 -> 2384 | F57: =ROUNDDOWN(D57*E57, 0) -> 57216 | G57: =일위대가목록!I19 -> 9061 | H57: =ROUNDDOWN(D57*G57, 0) -> 217464 | I57: =일위대가목록!K19 -> 362 | J57: =ROUNDDOWN(D57*I57, 0) -> 8688 | K57: =E57+G57+I57 -> 11807 | L57: =F57+H57+J57 -> 283368 | M57: 일위 15호 | O57: ="" | P57: 기계경비 | Q57: 1 | R57: =IF(P57="기계경비", J57, 0) -> 8688 | S57: =IF(P57="운반비", L57, 0) -> 0 | T57: =IF(P57="작업부산물", F57, 0) -> 0 | U57: =IF(P57="관급", F57, 0) -> 0 | V57: =IF(P57="외주비", J57, 0) -> 0 | W57: =IF(P57="장비비", J57, 0) -> 0 | X57: =IF(P57="폐기물처리비", L57, 0) -> 0 | Y57: =IF(P57="가설비", J57, 0) -> 0 | Z57: =IF(P57="잡비제외분", F57, 0) -> 0 | AA57: =IF(P57="사급자재대", L57, 0) -> 0 | AB57: =IF(P57="관급자재대", L57, 0) -> 0 | AC57: =IF(P57="사용자항목1", L57, 0) -> 0 | AD57: =IF(P57="사용자항목2", L57, 0) -> 0 | AE57: =IF(P57="안전관리비", L57, 0) -> 0 | AF57: =IF(P57="품질관리비", L57, 0) -> 0 | AG57: =IF(P57="작업부산물(철거해체)", L57, 0) -> 0 | AH57: =IF(P57="사용자항목6", L57, 0) -> 0 | AI57: =IF(P57="사용자항목7", L57, 0) -> 0 | AJ57: =IF(P57="사용자항목8", L57, 0) -> 0 | AK57: =IF(P57="사용자항목9", L57, 0) -> 0 | AL57: =IF(P57="사용자항목10", L57, 0) -> 0 | AM57: =IF(P57="사용자항목11", L57, 0) -> 0 | AN57: =IF(P57="사용자항목12", L57, 0) -> 0 | AO57: =IF(P57="사용자항목13", L57, 0) -> 0 | AP57: =IF(P57="사용자항목14", L57, 0) -> 0 | AQ57: =IF(P57="사용자항목15", L57, 0) -> 0 | AR57: =IF(P57="사용자항목16", L57, 0) -> 0 | AS57: =IF(P57="사용자항목17", L57, 0) -> 0 | AT57: =IF(P57="사용자항목18", L57, 0) -> 0 | AU57: =IF(P57="사용자항목19", L57, 0) -> 0 | AY57: 무성적산
A68: 합 계 | F68: =ROUNDDOWN(SUMIF(Q54:Q67, "1", F54:F67), 0) -> 429623 | H68: =ROUNDDOWN(SUMIF(Q54:Q67, "1", H54:H67), 0) -> 1230222 | J68: =ROUNDDOWN(SUMIF(Q54:Q67, "1", J54:J67), 0) -> 12463 | L68: =F68+H68+J68 -> 1672308 | R68: =ROUNDDOWN(SUM(R54:R57), 0) -> 12463 | S68: =ROUNDDOWN(SUM(S54:S57), 0) -> 0 | T68: =ROUNDDOWN(SUM(T54:T57), 0) -> 0 | U68: =ROUNDDOWN(SUM(U54:U57), 0) -> 0 | V68: =ROUNDDOWN(SUM(V54:V57), 0) -> 0 | W68: =ROUNDDOWN(SUM(W54:W57), 0) -> 0 | X68: =ROUNDDOWN(SUM(X54:X57), 0) -> 0 | Y68: =ROUNDDOWN(SUM(Y54:Y57), 0) -> 0 | ... AY68: =ROUNDDOWN(SUM(AY54:AY57), 0) -> 0
A69: 0105. 기타공사
A70: 전등및감지기,스프링쿨러헤드 탈착후재설치 | C70: 식 | D70: 1 | E70: 500000 | F70: =ROUNDDOWN(D70*E70, 0) -> 500000 | H70: =ROUNDDOWN(D70*G70, 0) -> 0 | J70: =ROUNDDOWN(D70*I70, 0) -> 0 | K70: =E70+G70+I70 -> 500000 | L70: =F70+H70+J70 -> 500000 | O70: ="" | P70: 기계경비 | Q70: 1 | R70: =IF(P70="기계경비", J70, 0) -> 0 | S70: =IF(P70="운반비", L70, 0) -> 0 | T70: =IF(P70="작업부산물", F70, 0) -> 0 | U70: =IF(P70="관급", F70, 0) -> 0 | V70: =IF(P70="외주비", J70, 0) -> 0 | W70: =IF(P70="장비비", J70, 0) -> 0 | X70: =IF(P70="폐기물처리비", L70, 0) -> 0 | Y70: =IF(P70="가설비", J70, 0) -> 0 | Z70: =IF(P70="잡비제외분", F70, 0) -> 0 | AA70: =IF(P70="사급자재대", L70, 0) -> 0 | AB70: =IF(P70="관급자재대", L70, 0) -> 0 | AC70: =IF(P70="사용자항목1", L70, 0) -> 0 | AD70: =IF(P70="사용자항목2", L70, 0) -> 0 | AE70: =IF(P70="안전관리비", L70, 0) -> 0 | AF70: =IF(P70="품질관리비", L70, 0) -> 0 | AG70: =IF(P70="작업부산물(철거해체)", L70, 0) -> 0 | AH70: =IF(P70="사용자항목6", L70, 0) -> 0 | AI70: =IF(P70="사용자항목7", L70, 0) -> 0 | AJ70: =IF(P70="사용자항목8", L70, 0) -> 0 | AK70: =IF(P70="사용자항목9", L70, 0) -> 0 | AL70: =IF(P70="사용자항목10", L70, 0) -> 0 | AM70: =IF(P70="사용자항목11", L70, 0) -> 0 | AN70: =IF(P70="사용자항목12", L70, 0) -> 0 | AO70: =IF(P70="사용자항목13", L70, 0) -> 0 | AP70: =IF(P70="사용자항목14", L70, 0) -> 0 | AQ70: =IF(P70="사용자항목15", L70, 0) -> 0 | AR70: =IF(P70="사용자항목16", L70, 0) -> 0 | AS70: =IF(P70="사용자항목17", L70, 0) -> 0 | AT70: =IF(P70="사용자항목18", L70, 0) -> 0 | AU70: =IF(P70="사용자항목19", L70, 0) -> 0
A84: 합 계 | F84: =ROUNDDOWN(SUMIF(Q70:Q83, "1", F70:F83), 0) -> 500000 | H84: =ROUNDDOWN(SUMIF(Q70:Q83, "1", H70:H83), 0) -> 0 | J84: =ROUNDDOWN(SUMIF(Q70:Q83, "1", J70:J83), 0) -> 0 | L84: =F84+H84+J84 -> 500000 | R84: =ROUNDDOWN(SUM(R70:R70), 0) -> 0 | S84: =ROUNDDOWN(SUM(S70:S70), 0) -> 0 | T84: =ROUNDDOWN(SUM(T70:T70), 0) -> 0 | U84: =ROUNDDOWN(SUM(U70:U70), 0) -> 0 | V84: =ROUNDDOWN(SUM(V70:V70), 0) -> 0 | W84: =ROUNDDOWN(SUM(W70:W70), 0) -> 0 | X84: =ROUNDDOWN(SUM(X70:X70), 0) -> 0 | Y84: =ROUNDDOWN(SUM(Y70:Y70), 0) -> 0 | ... AY84: =ROUNDDOWN(SUM(AY70:AY70), 0) -> 0
A85: 0106. 철거공사
A86: SAW CUT | B86: 콘크리트 | C86: M | D86: 25 | E86: =일위대가목록!G20 -> 989 | F86: =ROUNDDOWN(D86*E86, 0) -> 24725 | G86: =일위대가목록!I20 -> 2669 | H86: =ROUNDDOWN(D86*G86, 0) -> 66725 | I86: =일위대가목록!K20 -> 68 | J86: =ROUNDDOWN(D86*I86, 0) -> 1700 | K86: =E86+G86+I86 -> 3726 | L86: =F86+H86+J86 -> 93150 | M86: 일위 16호 | O86: ="" | P86: 기계경비 | Q86: 1 | R86: =IF(P86="기계경비", J86, 0) -> 1700 | S86: =IF(P86="운반비", L86, 0) -> 0 | T86: =IF(P86="작업부산물", F86, 0) -> 0 | U86: =IF(P86="관급", F86, 0) -> 0 | V86: =IF(P86="외주비", J86, 0) -> 0 | W86: =IF(P86="장비비", J86, 0) -> 0 | X86: =IF(P86="폐기물처리비", L86, 0) -> 0 | Y86: =IF(P86="가설비", J86, 0) -> 0 | Z86: =IF(P86="잡비제외분", F86, 0) -> 0 | AA86: =IF(P86="사급자재대", L86, 0) -> 0 | AB86: =IF(P86="관급자재대", L86, 0) -> 0 | AC86: =IF(P86="사용자항목1", L86, 0) -> 0 | AD86: =IF(P86="사용자항목2", L86, 0) -> 0 | AE86: =IF(P86="안전관리비", L86, 0) -> 0 | AF86: =IF(P86="품질관리비", L86, 0) -> 0 | AG86: =IF(P86="작업부산물(철거해체)", L86, 0) -> 0 | AH86: =IF(P86="사용자항목6", L86, 0) -> 0 | AI86: =IF(P86="사용자항목7", L86, 0) -> 0 | AJ86: =IF(P86="사용자항목8", L86, 0) -> 0 | AK86: =IF(P86="사용자항목9", L86, 0) -> 0 | AL86: =IF(P86="사용자항목10", L86, 0) -> 0 | AM86: =IF(P86="사용자항목11", L86, 0) -> 0 | AN86: =IF(P86="사용자항목12", L86, 0) -> 0 | AO86: =IF(P86="사용자항목13", L86, 0) -> 0 | AP86: =IF(P86="사용자항목14", L86, 0) -> 0 | AQ86: =IF(P86="사용자항목15", L86, 0) -> 0 | AR86: =IF(P86="사용자항목16", L86, 0) -> 0 | AS86: =IF(P86="사용자항목17", L86, 0) -> 0 | AT86: =IF(P86="사용자항목18", L86, 0) -> 0 | AU86: =IF(P86="사용자항목19", L86, 0) -> 0
A87: 무근콘크리트 철거 | B87: 소형브레이커(공압식) | C87: M3 | D87: 0.25 | E87: =일위대가목록!G21 -> 7628 | F87: =ROUNDDOWN(D87*E87, 0) -> 1907 | G87: =일위대가목록!I21 -> 220660 | H87: =ROUNDDOWN(D87*G87, 0) -> 55165 | I87: =일위대가목록!K21 -> 1716 | J87: =ROUNDDOWN(D87*I87, 0) -> 429 | K87: =E87+G87+I87 -> 230004 | L87: =F87+H87+J87 -> 57501 | M87: 일위 17호 | O87: ="" | P87: 기계경비 | Q87: 1 | R87: =IF(P87="기계경비", J87, 0) -> 429 | S87: =IF(P87="운반비", L87, 0) -> 0 | T87: =IF(P87="작업부산물", F87, 0) -> 0 | U87: =IF(P87="관급", F87, 0) -> 0 | V87: =IF(P87="외주비", J87, 0) -> 0 | W87: =IF(P87="장비비", J87, 0) -> 0 | X87: =IF(P87="폐기물처리비", L87, 0) -> 0 | Y87: =IF(P87="가설비", J87, 0) -> 0 | Z87: =IF(P87="잡비제외분", F87, 0) -> 0 | AA87: =IF(P87="사급자재대", L87, 0) -> 0 | AB87: =IF(P87="관급자재대", L87, 0) -> 0 | AC87: =IF(P87="사용자항목1", L87, 0) -> 0 | AD87: =IF(P87="사용자항목2", L87, 0) -> 0 | AE87: =IF(P87="안전관리비", L87, 0) -> 0 | AF87: =IF(P87="품질관리비", L87, 0) -> 0 | AG87: =IF(P87="작업부산물(철거해체)", L87, 0) -> 0 | AH87: =IF(P87="사용자항목6", L87, 0) -> 0 | AI87: =IF(P87="사용자항목7", L87, 0) -> 0 | AJ87: =IF(P87="사용자항목8", L87, 0) -> 0 | AK87: =IF(P87="사용자항목9", L87, 0) -> 0 | AL87: =IF(P87="사용자항목10", L87, 0) -> 0 | AM87: =IF(P87="사용자항목11", L87, 0) -> 0 | AN87: =IF(P87="사용자항목12", L87, 0) -> 0 | AO87: =IF(P87="사용자항목13", L87, 0) -> 0 | AP87: =IF(P87="사용자항목14", L87, 0) -> 0 | AQ87: =IF(P87="사용자항목15", L87, 0) -> 0 | AR87: =IF(P87="사용자항목16", L87, 0) -> 0 | AS87: =IF(P87="사용자항목17", L87, 0) -> 0 | AT87: =IF(P87="사용자항목18", L87, 0) -> 0 | AU87: =IF(P87="사용자항목19", L87, 0) -> 0
A88: 벽 철거(벽지 해체) | C88: M2 | D88: 58 | E88: =일위대가목록!G22 -> 0 | F88: =ROUNDDOWN(D88*E88, 0) -> 0 | G88: =일위대가목록!I22 -> 2702 | H88: =ROUNDDOWN(D88*G88, 0) -> 156716 | I88: =일위대가목록!K22 -> 0 | J88: =ROUNDDOWN(D88*I88, 0) -> 0 | K88: =E88+G88+I88 -> 2702 | L88: =F88+H88+J88 -> 156716 | M88: 일위 18호 | O88: ="" | P88: 기계경비 | Q88: 1 | R88: =IF(P88="기계경비", J88, 0) -> 0 | S88: =IF(P88="운반비", L88, 0) -> 0 | T88: =IF(P88="작업부산물", F88, 0) -> 0 | U88: =IF(P88="관급", F88, 0) -> 0 | V88: =IF(P88="외주비", J88, 0) -> 0 | W88: =IF(P88="장비비", J88, 0) -> 0 | X88: =IF(P88="폐기물처리비", L88, 0) -> 0 | Y88: =IF(P88="가설비", J88, 0) -> 0 | Z88: =IF(P88="잡비제외분", F88, 0) -> 0 | AA88: =IF(P88="사급자재대", L88, 0) -> 0 | AB88: =IF(P88="관급자재대", L88, 0) -> 0 | AC88: =IF(P88="사용자항목1", L88, 0) -> 0 | AD88: =IF(P88="사용자항목2", L88, 0) -> 0 | AE88: =IF(P88="안전관리비", L88, 0) -> 0 | AF88: =IF(P88="품질관리비", L88, 0) -> 0 | AG88: =IF(P88="작업부산물(철거해체)", L88, 0) -> 0 | AH88: =IF(P88="사용자항목6", L88, 0) -> 0 | AI88: =IF(P88="사용자항목7", L88, 0) -> 0 | AJ88: =IF(P88="사용자항목8", L88, 0) -> 0 | AK88: =IF(P88="사용자항목9", L88, 0) -> 0 | AL88: =IF(P88="사용자항목10", L88, 0) -> 0 | AM88: =IF(P88="사용자항목11", L88, 0) -> 0 | AN88: =IF(P88="사용자항목12", L88, 0) -> 0 | AO88: =IF(P88="사용자항목13", L88, 0) -> 0 | AP88: =IF(P88="사용자항목14", L88, 0) -> 0 | AQ88: =IF(P88="사용자항목15", L88, 0) -> 0 | AR88: =IF(P88="사용자항목16", L88, 0) -> 0 | AS88: =IF(P88="사용자항목17", L88, 0) -> 0 | AT88: =IF(P88="사용자항목18", L88, 0) -> 0 | AU88: =IF(P88="사용자항목19", L88, 0) -> 0 | AY88: 무성적산
A89: 천장 철거(천정재,석고보드류) | B89: 해체재 재사용 안 함 | C89: M2 | D89: 25 | E89: =일위대가목록!G23 -> 0 | F89: =ROUNDDOWN(D89*E89, 0) -> 0 | G89: =일위대가목록!I23 -> 6042 | H89: =ROUNDDOWN(D89*G89, 0) -> 151050 | I89: =일위대가목록!K23 -> 0 | J89: =ROUNDDOWN(D89*I89, 0) -> 0 | K89: =E89+G89+I89 -> 6042 | L89: =F89+H89+J89 -> 151050 | M89: 일위 19호 | O89: ="" | P89: 기계경비 | Q89: 1 | R89: =IF(P89="기계경비", J89, 0) -> 0 | S89: =IF(P89="운반비", L89, 0) -> 0 | T89: =IF(P89="작업부산물", F89, 0) -> 0 | U89: =IF(P89="관급", F89, 0) -> 0 | V89: =IF(P89="외주비", J89, 0) -> 0 | W89: =IF(P89="장비비", J89, 0) -> 0 | X89: =IF(P89="폐기물처리비", L89, 0) -> 0 | Y89: =IF(P89="가설비", J89, 0) -> 0 | Z89: =IF(P89="잡비제외분", F89, 0) -> 0 | AA89: =IF(P89="사급자재대", L89, 0) -> 0 | AB89: =IF(P89="관급자재대", L89, 0) -> 0 | AC89: =IF(P89="사용자항목1", L89, 0) -> 0 | AD89: =IF(P89="사용자항목2", L89, 0) -> 0 | AE89: =IF(P89="안전관리비", L89, 0) -> 0 | AF89: =IF(P89="품질관리비", L89, 0) -> 0 | AG89: =IF(P89="작업부산물(철거해체)", L89, 0) -> 0 | AH89: =IF(P89="사용자항목6", L89, 0) -> 0 | AI89: =IF(P89="사용자항목7", L89, 0) -> 0 | AJ89: =IF(P89="사용자항목8", L89, 0) -> 0 | AK89: =IF(P89="사용자항목9", L89, 0) -> 0 | AL89: =IF(P89="사용자항목10", L89, 0) -> 0 | AM89: =IF(P89="사용자항목11", L89, 0) -> 0 | AN89: =IF(P89="사용자항목12", L89, 0) -> 0 | AO89: =IF(P89="사용자항목13", L89, 0) -> 0 | AP89: =IF(P89="사용자항목14", L89, 0) -> 0 | AQ89: =IF(P89="사용자항목15", L89, 0) -> 0 | AR89: =IF(P89="사용자항목16", L89, 0) -> 0 | AS89: =IF(P89="사용자항목17", L89, 0) -> 0 | AT89: =IF(P89="사용자항목18", L89, 0) -> 0 | AU89: =IF(P89="사용자항목19", L89, 0) -> 0 | AY89: 무성적산
A90: 천장몰딩철거(마감재,MDF 류) | B90: 50×10T기준,해체재 재사용 안 함 | C90: M | D90: 24 | E90: =일위대가목록!G24 -> 0 | F90: =ROUNDDOWN(D90*E90, 0) -> 0 | G90: =일위대가목록!I24 -> 302 | H90: =ROUNDDOWN(D90*G90, 0) -> 7248 | I90: =일위대가목록!K24 -> 0 | J90: =ROUNDDOWN(D90*I90, 0) -> 0 | K90: =E90+G90+I90 -> 302 | L90: =F90+H90+J90 -> 7248 | M90: 일위 20호 | O90: ="" | P90: 기계경비 | Q90: 1 | R90: =IF(P90="기계경비", J90, 0) -> 0 | S90: =IF(P90="운반비", L90, 0) -> 0 | T90: =IF(P90="작업부산물", F90, 0) -> 0 | U90: =IF(P90="관급", F90, 0) -> 0 | V90: =IF(P90="외주비", J90, 0) -> 0 | W90: =IF(P90="장비비", J90, 0) -> 0 | X90: =IF(P90="폐기물처리비", L90, 0) -> 0 | Y90: =IF(P90="가설비", J90, 0) -> 0 | Z90: =IF(P90="잡비제외분", F90, 0) -> 0 | AA90: =IF(P90="사급자재대", L90, 0) -> 0 | AB90: =IF(P90="관급자재대", L90, 0) -> 0 | AC90: =IF(P90="사용자항목1", L90, 0) -> 0 | AD90: =IF(P90="사용자항목2", L90, 0) -> 0 | AE90: =IF(P90="안전관리비", L90, 0) -> 0 | AF90: =IF(P90="품질관리비", L90, 0) -> 0 | AG90: =IF(P90="작업부산물(철거해체)", L90, 0) -> 0 | AH90: =IF(P90="사용자항목6", L90, 0) -> 0 | AI90: =IF(P90="사용자항목7", L90, 0) -> 0 | AJ90: =IF(P90="사용자항목8", L90, 0) -> 0 | AK90: =IF(P90="사용자항목9", L90, 0) -> 0 | AL90: =IF(P90="사용자항목10", L90, 0) -> 0 | AM90: =IF(P90="사용자항목11", L90, 0) -> 0 | AN90: =IF(P90="사용자항목12", L90, 0) -> 0 | AO90: =IF(P90="사용자항목13", L90, 0) -> 0 | AP90: =IF(P90="사용자항목14", L90, 0) -> 0 | AQ90: =IF(P90="사용자항목15", L90, 0) -> 0 | AR90: =IF(P90="사용자항목16", L90, 0) -> 0 | AS90: =IF(P90="사용자항목17", L90, 0) -> 0 | AT90: =IF(P90="사용자항목18", L90, 0) -> 0 | AU90: =IF(P90="사용자항목19", L90, 0) -> 0 | AY90: 무성적산
A91: 지붕 철거(아스팔트 슁글류) | B91: 해체재 재사용 안 함 | C91: M2 | D91: 64 | E91: =일위대가목록!G25 -> 0 | F91: =ROUNDDOWN(D91*E91, 0) -> 0 | G91: =일위대가목록!I25 -> 5951 | H91: =ROUNDDOWN(D91*G91, 0) -> 380864 | I91: =일위대가목록!K25 -> 0 | J91: =ROUNDDOWN(D91*I91, 0) -> 0 | K91: =E91+G91+I91 -> 5951 | L91: =F91+H91+J91 -> 380864 | M91: 일위 21호 | O91: ="" | P91: 기계경비 | Q91: 1 | R91: =IF(P91="기계경비", J91, 0) -> 0 | S91: =IF(P91="운반비", L91, 0) -> 0 | T91: =IF(P91="작업부산물", F91, 0) -> 0 | U91: =IF(P91="관급", F91, 0) -> 0 | V91: =IF(P91="외주비", J91, 0) -> 0 | W91: =IF(P91="장비비", J91, 0) -> 0 | X91: =IF(P91="폐기물처리비", L91, 0) -> 0 | Y91: =IF(P91="가설비", J91, 0) -> 0 | Z91: =IF(P91="잡비제외분", F91, 0) -> 0 | AA91: =IF(P91="사급자재대", L91, 0) -> 0 | AB91: =IF(P91="관급자재대", L91, 0) -> 0 | AC91: =IF(P91="사용자항목1", L91, 0) -> 0 | AD91: =IF(P91="사용자항목2", L91, 0) -> 0 | AE91: =IF(P91="안전관리비", L91, 0) -> 0 | AF91: =IF(P91="품질관리비", L91, 0) -> 0 | AG91: =IF(P91="작업부산물(철거해체)", L91, 0) -> 0 | AH91: =IF(P91="사용자항목6", L91, 0) -> 0 | AI91: =IF(P91="사용자항목7", L91, 0) -> 0 | AJ91: =IF(P91="사용자항목8", L91, 0) -> 0 | AK91: =IF(P91="사용자항목9", L91, 0) -> 0 | AL91: =IF(P91="사용자항목10", L91, 0) -> 0 | AM91: =IF(P91="사용자항목11", L91, 0) -> 0 | AN91: =IF(P91="사용자항목12", L91, 0) -> 0 | AO91: =IF(P91="사용자항목13", L91, 0) -> 0 | AP91: =IF(P91="사용자항목14", L91, 0) -> 0 | AQ91: =IF(P91="사용자항목15", L91, 0) -> 0 | AR91: =IF(P91="사용자항목16", L91, 0) -> 0 | AS91: =IF(P91="사용자항목17", L91, 0) -> 0 | AT91: =IF(P91="사용자항목18", L91, 0) -> 0 | AU91: =IF(P91="사용자항목19", L91, 0) -> 0 | AY91: 무성적산
A92: 건설폐기물수집운반비(상차비) | B92: 24톤 덤프트럭, 건설폐재류 | C92: TON | D92: 0.57 | E92: 0 | F92: =ROUNDDOWN(D92*E92, 0) -> 0 | G92: 0 | H92: =ROUNDDOWN(D92*G92, 0) -> 0 | I92: =단가대비표!O52 -> 3890 | J92: =ROUNDDOWN(D92*I92, 0) -> 2217 | K92: =E92+G92+I92 -> 3890 | L92: =F92+H92+J92 -> 2217 | M92: 한국건설폐기물수집운반 | O92: ="03" -> 03 | P92: 기계경비 | Q92: 1 | R92: =IF(P92="기계경비", J92, 0) -> 2217 | S92: =IF(P92="운반비", L92, 0) -> 0 | T92: =IF(P92="작업부산물", F92, 0) -> 0 | U92: =IF(P92="관급", F92, 0) -> 0 | V92: =IF(P92="외주비", J92, 0) -> 0 | W92: =IF(P92="장비비", J92, 0) -> 0 | X92: =IF(P92="폐기물처리비", L92, 0) -> 0 | Y92: =IF(P92="가설비", J92, 0) -> 0 | Z92: =IF(P92="잡비제외분", F92, 0) -> 0 | AA92: =IF(P92="사급자재대", L92, 0) -> 0 | AB92: =IF(P92="관급자재대", L92, 0) -> 0 | AC92: =IF(P92="사용자항목1", L92, 0) -> 0 | AD92: =IF(P92="사용자항목2", L92, 0) -> 0 | AE92: =IF(P92="안전관리비", L92, 0) -> 0 | AF92: =IF(P92="품질관리비", L92, 0) -> 0 | AG92: =IF(P92="작업부산물(철거해체)", L92, 0) -> 0 | AH92: =IF(P92="사용자항목6", L92, 0) -> 0 | AI92: =IF(P92="사용자항목7", L92, 0) -> 0 | AJ92: =IF(P92="사용자항목8", L92, 0) -> 0 | AK92: =IF(P92="사용자항목9", L92, 0) -> 0 | AL92: =IF(P92="사용자항목10", L92, 0) -> 0 | AM92: =IF(P92="사용자항목11", L92, 0) -> 0 | AN92: =IF(P92="사용자항목12", L92, 0) -> 0 | AO92: =IF(P92="사용자항목13", L92, 0) -> 0 | AP92: =IF(P92="사용자항목14", L92, 0) -> 0 | AQ92: =IF(P92="사용자항목15", L92, 0) -> 0 | AR92: =IF(P92="사용자항목16", L92, 0) -> 0 | AS92: =IF(P92="사용자항목17", L92, 0) -> 0 | AT92: =IF(P92="사용자항목18", L92, 0) -> 0 | AU92: =IF(P92="사용자항목19", L92, 0) -> 0
A93: 건설폐기물수집운반비(상차비) | B93: 24톤 암롤트럭, 혼합건설폐재류 | C93: TON | D93: 0.78 | E93: 0 | F93: =ROUNDDOWN(D93*E93, 0) -> 0 | G93: 0 | H93: =ROUNDDOWN(D93*G93, 0) -> 0 | I93: =단가대비표!O53 -> 6420 | J93: =ROUNDDOWN(D93*I93, 0) -> 5007 | K93: =E93+G93+I93 -> 6420 | L93: =F93+H93+J93 -> 5007 | M93: 한국건설폐기물수집운반 | O93: ="03" -> 03 | P93: 기계경비 | Q93: 1 | R93: =IF(P93="기계경비", J93, 0) -> 5007 | S93: =IF(P93="운반비", L93, 0) -> 0 | T93: =IF(P93="작업부산물", F93, 0) -> 0 | U93: =IF(P93="관급", F93, 0) -> 0 | V93: =IF(P93="외주비", J93, 0) -> 0 | W93: =IF(P93="장비비", J93, 0) -> 0 | X93: =IF(P93="폐기물처리비", L93, 0) -> 0 | Y93: =IF(P93="가설비", J93, 0) -> 0 | Z93: =IF(P93="잡비제외분", F93, 0) -> 0 | AA93: =IF(P93="사급자재대", L93, 0) -> 0 | AB93: =IF(P93="관급자재대", L93, 0) -> 0 | AC93: =IF(P93="사용자항목1", L93, 0) -> 0 | AD93: =IF(P93="사용자항목2", L93, 0) -> 0 | AE93: =IF(P93="안전관리비", L93, 0) -> 0 | AF93: =IF(P93="품질관리비", L93, 0) -> 0 | AG93: =IF(P93="작업부산물(철거해체)", L93, 0) -> 0 | AH93: =IF(P93="사용자항목6", L93, 0) -> 0 | AI93: =IF(P93="사용자항목7", L93, 0) -> 0 | AJ93: =IF(P93="사용자항목8", L93, 0) -> 0 | AK93: =IF(P93="사용자항목9", L93, 0) -> 0 | AL93: =IF(P93="사용자항목10", L93, 0) -> 0 | AM93: =IF(P93="사용자항목11", L93, 0) -> 0 | AN93: =IF(P93="사용자항목12", L93, 0) -> 0 | AO93: =IF(P93="사용자항목13", L93, 0) -> 0 | AP93: =IF(P93="사용자항목14", L93, 0) -> 0 | AQ93: =IF(P93="사용자항목15", L93, 0) -> 0 | AR93: =IF(P93="사용자항목16", L93, 0) -> 0 | AS93: =IF(P93="사용자항목17", L93, 0) -> 0 | AT93: =IF(P93="사용자항목18", L93, 0) -> 0 | AU93: =IF(P93="사용자항목19", L93, 0) -> 0
A100: 합 계 | F100: =ROUNDDOWN(SUMIF(Q86:Q99, "1", F86:F99), 0) -> 26632 | H100: =ROUNDDOWN(SUMIF(Q86:Q99, "1", H86:H99), 0) -> 817768 | J100: =ROUNDDOWN(SUMIF(Q86:Q99, "1", J86:J99), 0) -> 9353 | L100: =F100+H100+J100 -> 853753 | R100: =ROUNDDOWN(SUM(R86:R93), 0) -> 9353 | S100: =ROUNDDOWN(SUM(S86:S93), 0) -> 0 | T100: =ROUNDDOWN(SUM(T86:T93), 0) -> 0 | U100: =ROUNDDOWN(SUM(U86:U93), 0) -> 0 | V100: =ROUNDDOWN(SUM(V86:V93), 0) -> 0 | W100: =ROUNDDOWN(SUM(W86:W93), 0) -> 0 | X100: =ROUNDDOWN(SUM(X86:X93), 0) -> 0 | Y100: =ROUNDDOWN(SUM(Y86:Y93), 0) -> 0 | ... AY100: =ROUNDDOWN(SUM(AY86:AY93), 0) -> 0
A101: 0107. 폐기물처리비
A102: 폐자재처리수수료 | B102: 건설폐재류(재건축,폐콘크리트,폐벽돌,폐기와) | C102: 톤 | D102: 0.57 | E102: 0 | F102: =ROUNDDOWN(D102*E102, 0) -> 0 | G102: 0 | H102: =ROUNDDOWN(D102*G102, 0) -> 0 | I102: =단가대비표!O59 -> 49571 | J102: =ROUNDDOWN(D102*I102, 0) -> 28255 | K102: =E102+G102+I102 -> 49571 | L102: =F102+H102+J102 -> 28255 | M102: 부가세별도 | O102: ="03" -> 03 | P102: 폐기물처리비 | Q102: 1 | R102: =IF(P102="기계경비", J102, 0) -> 0 | S102: =IF(P102="운반비", L102, 0) -> 0 | T102: =IF(P102="작업부산물", F102, 0) -> 0 | U102: =IF(P102="관급", F102, 0) -> 0 | V102: =IF(P102="외주비", J102, 0) -> 0 | W102: =IF(P102="장비비", J102, 0) -> 0 | X102: =IF(P102="폐기물처리비", L102, 0) -> 28255 | Y102: =IF(P102="가설비", J102, 0) -> 0 | Z102: =IF(P102="잡비제외분", F102, 0) -> 0 | AA102: =IF(P102="사급자재대", L102, 0) -> 0 | AB102: =IF(P102="관급자재대", L102, 0) -> 0 | AC102: =IF(P102="사용자항목1", L102, 0) -> 0 | AD102: =IF(P102="사용자항목2", L102, 0) -> 0 | AE102: =IF(P102="안전관리비", L102, 0) -> 0 | AF102: =IF(P102="품질관리비", L102, 0) -> 0 | AG102: =IF(P102="작업부산물(철거해체)", L102, 0) -> 0 | AH102: =IF(P102="사용자항목6", L102, 0) -> 0 | AI102: =IF(P102="사용자항목7", L102, 0) -> 0 | AJ102: =IF(P102="사용자항목8", L102, 0) -> 0 | AK102: =IF(P102="사용자항목9", L102, 0) -> 0 | AL102: =IF(P102="사용자항목10", L102, 0) -> 0 | AM102: =IF(P102="사용자항목11", L102, 0) -> 0 | AN102: =IF(P102="사용자항목12", L102, 0) -> 0 | AO102: =IF(P102="사용자항목13", L102, 0) -> 0 | AP102: =IF(P102="사용자항목14", L102, 0) -> 0 | AQ102: =IF(P102="사용자항목15", L102, 0) -> 0 | AR102: =IF(P102="사용자항목16", L102, 0) -> 0 | AS102: =IF(P102="사용자항목17", L102, 0) -> 0 | AT102: =IF(P102="사용자항목18", L102, 0) -> 0 | AU102: =IF(P102="사용자항목19", L102, 0) -> 0
A103: 혼합건설폐기물 | B103: 그 밖의 건설폐기물에 가연성 5% 이하 혼합 | C103: TON | D103: 0.33 | E103: 0 | F103: =ROUNDDOWN(D103*E103, 0) -> 0 | G103: 0 | H103: =ROUNDDOWN(D103*G103, 0) -> 0 | I103: =단가대비표!O61 -> 192887 | J103: =ROUNDDOWN(D103*I103, 0) -> 63652 | K103: =E103+G103+I103 -> 192887 | L103: =F103+H103+J103 -> 63652 | M103: 건설폐기물처리단가 | O103: ="03" -> 03 | P103: 폐기물처리비 | Q103: 1 | R103: =IF(P103="기계경비", J103, 0) -> 0 | S103: =IF(P103="운반비", L103, 0) -> 0 | T103: =IF(P103="작업부산물", F103, 0) -> 0 | U103: =IF(P103="관급", F103, 0) -> 0 | V103: =IF(P103="외주비", J103, 0) -> 0 | W103: =IF(P103="장비비", J103, 0) -> 0 | X103: =IF(P103="폐기물처리비", L103, 0) -> 63652 | Y103: =IF(P103="가설비", J103, 0) -> 0 | Z103: =IF(P103="잡비제외분", F103, 0) -> 0 | AA103: =IF(P103="사급자재대", L103, 0) -> 0 | AB103: =IF(P103="관급자재대", L103, 0) -> 0 | AC103: =IF(P103="사용자항목1", L103, 0) -> 0 | AD103: =IF(P103="사용자항목2", L103, 0) -> 0 | AE103: =IF(P103="안전관리비", L103, 0) -> 0 | AF103: =IF(P103="품질관리비", L103, 0) -> 0 | AG103: =IF(P103="작업부산물(철거해체)", L103, 0) -> 0 | AH103: =IF(P103="사용자항목6", L103, 0) -> 0 | AI103: =IF(P103="사용자항목7", L103, 0) -> 0 | AJ103: =IF(P103="사용자항목8", L103, 0) -> 0 | AK103: =IF(P103="사용자항목9", L103, 0) -> 0 | AL103: =IF(P103="사용자항목10", L103, 0) -> 0 | AM103: =IF(P103="사용자항목11", L103, 0) -> 0 | AN103: =IF(P103="사용자항목12", L103, 0) -> 0 | AO103: =IF(P103="사용자항목13", L103, 0) -> 0 | AP103: =IF(P103="사용자항목14", L103, 0) -> 0 | AQ103: =IF(P103="사용자항목15", L103, 0) -> 0 | AR103: =IF(P103="사용자항목16", L103, 0) -> 0 | AS103: =IF(P103="사용자항목17", L103, 0) -> 0 | AT103: =IF(P103="사용자항목18", L103, 0) -> 0 | AU103: =IF(P103="사용자항목19", L103, 0) -> 0
A104: 폐합성고무 | B104: 폐타이어,탄성포장재,방수시트,폐고무제품류 등 | C104: TON | D104: 0.45 | E104: 0 | F104: =ROUNDDOWN(D104*E104, 0) -> 0 | G104: 0 | H104: =ROUNDDOWN(D104*G104, 0) -> 0 | I104: =단가대비표!O60 -> 300000 | J104: =ROUNDDOWN(D104*I104, 0) -> 135000 | K104: =E104+G104+I104 -> 300000 | L104: =F104+H104+J104 -> 135000 | O104: ="03" -> 03 | P104: 폐기물처리비 | Q104: 1 | R104: =IF(P104="기계경비", J104, 0) -> 0 | S104: =IF(P104="운반비", L104, 0) -> 0 | T104: =IF(P104="작업부산물", F104, 0) -> 0 | U104: =IF(P104="관급", F104, 0) -> 0 | V104: =IF(P104="외주비", J104, 0) -> 0 | W104: =IF(P104="장비비", J104, 0) -> 0 | X104: =IF(P104="폐기물처리비", L104, 0) -> 135000 | Y104: =IF(P104="가설비", J104, 0) -> 0 | Z104: =IF(P104="잡비제외분", F104, 0) -> 0 | AA104: =IF(P104="사급자재대", L104, 0) -> 0 | AB104: =IF(P104="관급자재대", L104, 0) -> 0 | AC104: =IF(P104="사용자항목1", L104, 0) -> 0 | AD104: =IF(P104="사용자항목2", L104, 0) -> 0 | AE104: =IF(P104="안전관리비", L104, 0) -> 0 | AF104: =IF(P104="품질관리비", L104, 0) -> 0 | AG104: =IF(P104="작업부산물(철거해체)", L104, 0) -> 0 | AH104: =IF(P104="사용자항목6", L104, 0) -> 0 | AI104: =IF(P104="사용자항목7", L104, 0) -> 0 | AJ104: =IF(P104="사용자항목8", L104, 0) -> 0 | AK104: =IF(P104="사용자항목9", L104, 0) -> 0 | AL104: =IF(P104="사용자항목10", L104, 0) -> 0 | AM104: =IF(P104="사용자항목11", L104, 0) -> 0 | AN104: =IF(P104="사용자항목12", L104, 0) -> 0 | AO104: =IF(P104="사용자항목13", L104, 0) -> 0 | AP104: =IF(P104="사용자항목14", L104, 0) -> 0 | AQ104: =IF(P104="사용자항목15", L104, 0) -> 0 | AR104: =IF(P104="사용자항목16", L104, 0) -> 0 | AS104: =IF(P104="사용자항목17", L104, 0) -> 0 | AT104: =IF(P104="사용자항목18", L104, 0) -> 0 | AU104: =IF(P104="사용자항목19", L104, 0) -> 0
A105: 건설폐기물수집운반비(운반비) | B105: 24톤 덤프트럭, 건설폐재류, 30km | C105: TON | D105: 0.57 | E105: 0 | F105: =ROUNDDOWN(D105*E105, 0) -> 0 | G105: 0 | H105: =ROUNDDOWN(D105*G105, 0) -> 0 | I105: =단가대비표!O54 -> 16450 | J105: =ROUNDDOWN(D105*I105, 0) -> 9376 | K105: =E105+G105+I105 -> 16450 | L105: =F105+H105+J105 -> 9376 | M105: 한국건설폐기물수집운반 | O105: ="03" -> 03 | P105: 폐기물처리비 | Q105: 1 | R105: =IF(P105="기계경비", J105, 0) -> 0 | S105: =IF(P105="운반비", L105, 0) -> 0 | T105: =IF(P105="작업부산물", F105, 0) -> 0 | U105: =IF(P105="관급", F105, 0) -> 0 | V105: =IF(P105="외주비", J105, 0) -> 0 | W105: =IF(P105="장비비", J105, 0) -> 0 | X105: =IF(P105="폐기물처리비", L105, 0) -> 9376 | Y105: =IF(P105="가설비", J105, 0) -> 0 | Z105: =IF(P105="잡비제외분", F105, 0) -> 0 | AA105: =IF(P105="사급자재대", L105, 0) -> 0 | AB105: =IF(P105="관급자재대", L105, 0) -> 0 | AC105: =IF(P105="사용자항목1", L105, 0) -> 0 | AD105: =IF(P105="사용자항목2", L105, 0) -> 0 | AE105: =IF(P105="안전관리비", L105, 0) -> 0 | AF105: =IF(P105="품질관리비", L105, 0) -> 0 | AG105: =IF(P105="작업부산물(철거해체)", L105, 0) -> 0 | AH105: =IF(P105="사용자항목6", L105, 0) -> 0 | AI105: =IF(P105="사용자항목7", L105, 0) -> 0 | AJ105: =IF(P105="사용자항목8", L105, 0) -> 0 | AK105: =IF(P105="사용자항목9", L105, 0) -> 0 | AL105: =IF(P105="사용자항목10", L105, 0) -> 0 | AM105: =IF(P105="사용자항목11", L105, 0) -> 0 | AN105: =IF(P105="사용자항목12", L105, 0) -> 0 | AO105: =IF(P105="사용자항목13", L105, 0) -> 0 | AP105: =IF(P105="사용자항목14", L105, 0) -> 0 | AQ105: =IF(P105="사용자항목15", L105, 0) -> 0 | AR105: =IF(P105="사용자항목16", L105, 0) -> 0 | AS105: =IF(P105="사용자항목17", L105, 0) -> 0 | AT105: =IF(P105="사용자항목18", L105, 0) -> 0 | AU105: =IF(P105="사용자항목19", L105, 0) -> 0
A106: 건설폐기물수집운반비(운반비) | B106: 24톤 암롤트럭, 혼합건설폐기물, 30km | C106: TON | D106: 0.78 | E106: 0 | F106: =ROUNDDOWN(D106*E106, 0) -> 0 | G106: 0 | H106: =ROUNDDOWN(D106*G106, 0) -> 0 | I106: =단가대비표!O55 -> 61880 | J106: =ROUNDDOWN(D106*I106, 0) -> 48266 | K106: =E106+G106+I106 -> 61880 | L106: =F106+H106+J106 -> 48266 | M106: 한국건설폐기물수집운반 | O106: ="03" -> 03 | P106: 폐기물처리비 | Q106: 1 | R106: =IF(P106="기계경비", J106, 0) -> 0 | S106: =IF(P106="운반비", L106, 0) -> 0 | T106: =IF(P106="작업부산물", F106, 0) -> 0 | U106: =IF(P106="관급", F106, 0) -> 0 | V106: =IF(P106="외주비", J106, 0) -> 0 | W106: =IF(P106="장비비", J106, 0) -> 0 | X106: =IF(P106="폐기물처리비", L106, 0) -> 48266 | Y106: =IF(P106="가설비", J106, 0) -> 0 | Z106: =IF(P106="잡비제외분", F106, 0) -> 0 | AA106: =IF(P106="사급자재대", L106, 0) -> 0 | AB106: =IF(P106="관급자재대", L106, 0) -> 0 | AC106: =IF(P106="사용자항목1", L106, 0) -> 0 | AD106: =IF(P106="사용자항목2", L106, 0) -> 0 | AE106: =IF(P106="안전관리비", L106, 0) -> 0 | AF106: =IF(P106="품질관리비", L106, 0) -> 0 | AG106: =IF(P106="작업부산물(철거해체)", L106, 0) -> 0 | AH106: =IF(P106="사용자항목6", L106, 0) -> 0 | AI106: =IF(P106="사용자항목7", L106, 0) -> 0 | AJ106: =IF(P106="사용자항목8", L106, 0) -> 0 | AK106: =IF(P106="사용자항목9", L106, 0) -> 0 | AL106: =IF(P106="사용자항목10", L106, 0) -> 0 | AM106: =IF(P106="사용자항목11", L106, 0) -> 0 | AN106: =IF(P106="사용자항목12", L106, 0) -> 0 | AO106: =IF(P106="사용자항목13", L106, 0) -> 0 | AP106: =IF(P106="사용자항목14", L106, 0) -> 0 | AQ106: =IF(P106="사용자항목15", L106, 0) -> 0 | AR106: =IF(P106="사용자항목16", L106, 0) -> 0 | AS106: =IF(P106="사용자항목17", L106, 0) -> 0 | AT106: =IF(P106="사용자항목18", L106, 0) -> 0 | AU106: =IF(P106="사용자항목19", L106, 0) -> 0
A116: 합 계 | F116: =ROUNDDOWN(SUMIF(Q102:Q115, "1", F102:F115), 0) -> 0 | H116: =ROUNDDOWN(SUMIF(Q102:Q115, "1", H102:H115), 0) -> 0 | J116: =ROUNDDOWN(SUMIF(Q102:Q115, "1", J102:J115), 0) -> 284549 | L116: =F116+H116+J116 -> 284549 | R116: =ROUNDDOWN(SUM(R102:R106), 0) -> 0 | S116: =ROUNDDOWN(SUM(S102:S106), 0) -> 0 | T116: =ROUNDDOWN(SUM(T102:T106), 0) -> 0 | U116: =ROUNDDOWN(SUM(U102:U106), 0) -> 0 | V116: =ROUNDDOWN(SUM(V102:V106), 0) -> 0 | W116: =ROUNDDOWN(SUM(W102:W106), 0) -> 0 | X116: =ROUNDDOWN(SUM(X102:X106), 0) -> 284549 | Y116: =ROUNDDOWN(SUM(Y102:Y106), 0) -> 0 | ... AY116: =ROUNDDOWN(SUM(AY102:AY106), 0) -> 0

Sheet 일위대가목록
A1: 일 위 대 가 목 록
A2: 공사명 : 실로암노인전문요양원 리모델링 공사
A3: 호 표 | B3: 품 명 | C3: 규 격 | D3: 단위 | E3: 수량 | F3: 재 료 비 | H3: 노 무 비 | J3: 경 비 | L3: 합 계 | N3: 비 고
F4: 단 가 | G4: 금 액 | H4: 단 가 | I4: 금 액 | J4: 단 가 | K4: 금 액 | L4: 단 가 | M4: 금 액 | O4: 구분
A5: 일위 1호 | B5: 시스템비계 | C5: 10m이하 | D5: m2 | E5: 1 | F5: =일위대가표!F6 -> 455 | G5: =E5*F5 -> 455 | H5: =일위대가표!H6 -> 14693 | I5: =E5*H5 -> 14693 | J5: =일위대가표!J6 -> 0 | K5: =E5*J5 -> 0 | L5: =F5+H5+J5 -> 15148 | M5: =G5+I5+K5 -> 15148 | N5: 건축표준시장(2026년하) | O5: 표준시장단가
A6: 일위 2호 | B6: 시스템비계 | C6: 10m초과~20m이하 | D6: m2 | E6: 1 | F6: =일위대가표!F9 -> 555 | G6: =E6*F6 -> 555 | H6: =일위대가표!H9 -> 17932 | I6: =E6*H6 -> 17932 | J6: =일위대가표!J9 -> 0 | K6: =E6*J6 -> 0 | L6: =F6+H6+J6 -> 18487 | M6: =G6+I6+K6 -> 18487 | N6: 건축표준시장(2026년하) | O6: 표준시장단가
A7: 일위 3호 | B7: 이동식강관말비계 | C7: 1개월,2단(4m) | D7: 1대 | E7: 1 | F7: =일위대가표!F24 -> 16273 | G7: =E7*F7 -> 16273 | H7: =일위대가표!H24 -> 158067 | I7: =E7*H7 -> 158067 | J7: =일위대가표!J24 -> 0 | K7: =E7*J7 -> 0 | L7: =F7+H7+J7 -> 174340 | M7: =G7+I7+K7 -> 174340 | N7: 공통2-7-6,2-2-5/26보완
A8: 일위 4호 | B8: 건축물 현장정리 | C8: 2가지이하공종,조적조의20% | D8: M2 | E8: 1 | F8: =일위대가표!F28 -> 0 | G8: =E8*F8 -> 0 | H8: =일위대가표!H28 -> 1726 | I8: =E8*H8 -> 1726 | J8: =일위대가표!J28 -> 0 | K8: =E8*J8 -> 0 | L8: =F8+H8+J8 -> 1726 | M8: =G8+I8+K8 -> 1726 | O8: 무성적산
A9: 일위 5호 | B9: 잡철물 제작 및 설치(현장제작 설치) | C9: 일반철재 | D9: Ton | E9: 1 | F9: =일위대가표!F37 -> 432376 | G9: =E9*F9 -> 432376 | H9: =일위대가표!H37 -> 5404703 | I9: =E9*H9 -> 5404703 | J9: =일위대가표!J37 -> 0 | K9: =E9*J9 -> 0 | L9: =F9+H9+J9 -> 5837079 | M9: =G9+I9+K9 -> 5837079 | N9: 건축8-3-1 | O9: AJM53100010S
A10: 일위 6호 | B10: 녹막이페인트(뿜칠) | C10: 1회.2종 | D10: M2 | E10: 1 | F10: =일위대가표!F43 -> 795 | G10: =E10*F10 -> 795 | H10: =일위대가표!H43 -> 948 | I10: =E10*H10 -> 948 | J10: =일위대가표!J43 -> 0 | K10: =E10*J10 -> 0 | L10: =F10+H10+J10 -> 1743 | M10: =G10+I10+K10 -> 1743
A11: 일위 7호 | B11: 합판바닥 깔기 | C11: 바닥,내수, 12mm | D11: M2 | E11: 1 | F11: =일위대가표!F49 -> 12548 | G11: =E11*F11 -> 12548 | H11: =일위대가표!H49 -> 8423 | I11: =E11*H11 -> 8423 | J11: =일위대가표!J49 -> 336 | K11: =E11*J11 -> 336 | L11: =F11+H11+J11 -> 21307 | M11: =G11+I11+K11 -> 21307 | O11: 무성적산
A12: 일위 8호 | B12: SHEET방수(바닥) | C12: ECB시트,T:1.0 | D12: M2 | E12: 1 | F12: =일위대가표!F58 -> 10239 | G12: =E12*F12 -> 10239 | H12: =일위대가표!H58 -> 19170 | I12: =E12*H12 -> 19170 | J12: =일위대가표!J58 -> 575 | K12: =E12*J12 -> 575 | L12: =F12+H12+J12 -> 29984 | M12: =G12+I12+K12 -> 29984 | N12: 건축6-3-1
A13: 일위 9호 | B13: 아스팔트슁글깔기 | C13: 336*5.0T(이중그림자) | D13: M2 | E13: 1 | F13: =일위대가표!F64 -> 24000 | G13: =E13*F13 -> 24000 | H13: =일위대가표!H64 -> 17586 | I13: =E13*H13 -> 17586 | J13: =일위대가표!J64 -> 351 | K13: =E13*J13 -> 351 | L13: =F13+H13+J13 -> 41937 | M13: =G13+I13+K13 -> 41937 | N13: 건축7-1-5참고/26년보완
A14: 일위 10호 | B14: 고압물청소 | D14: M2 | E14: 1 | F14: =일위대가표!F69 -> 0 | G14: =E14*F14 -> 0 | H14: =일위대가표!H69 -> 5489 | I14: =E14*H14 -> 5489 | J14: =일위대가표!J69 -> 109 | K14: =E14*J14 -> 109 | L14: =F14+H14+J14 -> 5598 | M14: =G14+I14+K14 -> 5598
A15: 일위 11호 | B15: 친환경수성페인트칠(롤러칠) | C15: 기존외벽,2회,2급 | D15: M2 | E15: 1 | F15: =일위대가표!F76 -> 1088 | G15: =E15*F15 -> 1088 | H15: =일위대가표!H76 -> 9497 | I15: =E15*H15 -> 9497 | J15: =일위대가표!J76 -> 0 | K15: =E15*J15 -> 0 | L15: =F15+H15+J15 -> 10585 | M15: =G15+I15+K15 -> 10585 | N15: 건축 11-1-1,-2-2
A16: 일위 12호 | B16: 도배바름(콘크리트.모르타르면) | C16: 벽, 비닐벽지, 실크형, A급 | D16: M2 | E16: 1 | F16: =일위대가표!F84 -> 3579 | G16: =E16*F16 -> 3579 | H16: =일위대가표!H84 -> 6726 | I16: =E16*H16 -> 6726 | J16: =일위대가표!J84 -> 0 | K16: =E16*J16 -> 0 | L16: =F16+H16+J16 -> 10305 | M16: =G16+I16+K16 -> 10305 | N16: 건축5-3-7
A17: 일위 13호 | B17: 도배바름(합판.석고보드면) | C17: 천장, 비닐벽지, 실크형, A급 | D17: M2 | E17: 1 | F17: =일위대가표!F92 -> 3483 | G17: =E17*F17 -> 3483 | H17: =일위대가표!H92 -> 9715 | I17: =E17*H17 -> 9715 | J17: =일위대가표!J92 -> 0 | K17: =E17*J17 -> 0 | L17: =F17+H17+J17 -> 13198 | M17: =G17+I17+K17 -> 13198 | N17: 건축5-3-7
A18: 일위 14호 | B18: 석고판 설치(나사고정,석고판포함) | C18: 천장, 일반, 바탕용 9.5mm(1겹) | D18: M2 | E18: 1 | F18: =일위대가표!F97 -> 3110 | G18: =E18*F18 -> 3110 | H18: =일위대가표!H97 -> 15191 | I18: =E18*H18 -> 15191 | J18: =일위대가표!J97 -> 151 | K18: =E18*J18 -> 151 | L18: =F18+H18+J18 -> 18452 | M18: =G18+I18+K18 -> 18452 | N18: 건축5-2-3
A19: 일위 15호 | B19: 목재몰딩 설치 | C19: MDF 9×60,무늬목,방염 | D19: M | E19: 1 | F19: =일위대가표!F103 -> 2384 | G19: =E19*F19 -> 2384 | H19: =일위대가표!H103 -> 9061 | I19: =E19*H19 -> 9061 | J19: =일위대가표!J103 -> 362 | K19: =E19*J19 -> 362 | L19: =F19+H19+J19 -> 11807 | M19: =G19+I19+K19 -> 11807 | O19: 무성적산
A20: 일위 16호 | B20: SAW CUT | C20: 콘크리트 | D20: M | E20: 1 | F20: =일위대가표!F111 -> 989 | G20: =E20*F20 -> 989 | H20: =일위대가표!H111 -> 2669 | I20: =E20*H20 -> 2669 | J20: =일위대가표!J111 -> 68 | K20: =E20*J20 -> 68 | L20: =F20+H20+J20 -> 3726 | M20: =G20+I20+K20 -> 3726
A21: 일위 17호 | B21: 무근콘크리트 철거 | C21: 소형브레이커(공압식) | D21: M3 | E21: 1 | F21: =일위대가표!F119 -> 7628 | G21: =E21*F21 -> 7628 | H21: =일위대가표!H119 -> 220660 | I21: =E21*H21 -> 220660 | J21: =일위대가표!J119 -> 1716 | K21: =E21*J21 -> 1716 | L21: =F21+H21+J21 -> 230004 | M21: =G21+I21+K21 -> 230004
A22: 일위 18호 | B22: 벽 철거(벽지 해체) | D22: M2 | E22: 1 | F22: =일위대가표!F123 -> 0 | G22: =E22*F22 -> 0 | H22: =일위대가표!H123 -> 2702 | I22: =E22*H22 -> 2702 | J22: =일위대가표!J123 -> 0 | K22: =E22*J22 -> 0 | L22: =F22+H22+J22 -> 2702 | M22: =G22+I22+K22 -> 2702 | N22: 건축19-1-2 | O22: 무성적산
A23: 일위 19호 | B23: 천장 철거(천정재,석고보드류) | C23: 해체재 재사용 안 함 | D23: M2 | E23: 1 | F23: =일위대가표!F127 -> 0 | G23: =E23*F23 -> 0 | H23: =일위대가표!H127 -> 6042 | I23: =E23*H23 -> 6042 | J23: =일위대가표!J127 -> 0 | K23: =E23*J23 -> 0 | L23: =F23+H23+J23 -> 6042 | M23: =G23+I23+K23 -> 6042 | O23: 무성적산
A24: 일위 20호 | B24: 천장몰딩철거(마감재,MDF 류) | C24: 50×10T기준,해체재 재사용 안 함 | D24: M | E24: 1 | F24: =일위대가표!F131 -> 0 | G24: =E24*F24 -> 0 | H24: =일위대가표!H131 -> 302 | I24: =E24*H24 -> 302 | J24: =일위대가표!J131 -> 0 | K24: =E24*J24 -> 0 | L24: =F24+H24+J24 -> 302 | M24: =G24+I24+K24 -> 302 | N24: 건축19-1-2 | O24: 무성적산
A25: 일위 21호 | B25: 지붕 철거(아스팔트 슁글류) | C25: 해체재 재사용 안 함 | D25: M2 | E25: 1 | F25: =일위대가표!F135 -> 0 | G25: =E25*F25 -> 0 | H25: =일위대가표!H135 -> 5951 | I25: =E25*H25 -> 5951 | J25: =일위대가표!J135 -> 0 | K25: =E25*J25 -> 0 | L25: =F25+H25+J25 -> 5951 | M25: =G25+I25+K25 -> 5951 | O25: 무성적산
A26: 일위 22호 | B26: 도배 해체 | C26: 벽, 해체재 재사용 안함 | D26: M2 | E26: 1 | F26: =일위대가표!F140 -> 0 | G26: =E26*F26 -> 0 | H26: =일위대가표!H140 -> 2702 | I26: =E26*H26 -> 2702 | J26: =일위대가표!J140 -> 0 | K26: =E26*J26 -> 0 | L26: =F26+H26+J26 -> 2702 | M26: =G26+I26+K26 -> 2702 | N26: 유지(건축)3-2-7 | O26: AQA80000320S
A27: 일위 23호 | B27: 천장마감재 철거 | C27: 텍스류,PVC류,금속천장판류 | D27: M2 | E27: 1 | F27: =일위대가표!F145 -> 0 | G27: =E27*F27 -> 0 | H27: =일위대가표!H145 -> 6042 | I27: =E27*H27 -> 6042 | J27: =일위대가표!J145 -> 0 | K27: =E27*J27 -> 0 | L27: =F27+H27+J27 -> 6042 | M27: =G27+I27+K27 -> 6042
A28: 일위 24호 | B28: 지붕 철거(함석) | C28: 해체재 재사용 안 함 | D28: M2 | E28: 1 | F28: =일위대가표!F150 -> 0 | G28: =E28*F28 -> 0 | H28: =일위대가표!H150 -> 5951 | I28: =E28*H28 -> 5951 | J28: =일위대가표!J150 -> 0 | K28: =E28*J28 -> 0 | L28: =F28+H28+J28 -> 5951 | M28: =G28+I28+K28 -> 5951 | O28: AQA80000140S
A29: 일위 25호 | B29: 석고판 나사고정(바탕용) | C29: 천장, 1겹 붙임 | D29: M2 | E29: 1 | F29: =일위대가표!F156 -> 0 | G29: =E29*F29 -> 0 | H29: =일위대가표!H156 -> 15191 | I29: =E29*H29 -> 15191 | J29: =일위대가표!J156 -> 151 | K29: =E29*J29 -> 151 | L29: =F29+H29+J29 -> 15342 | M29: =G29+I29+K29 -> 15342 | N29: 건축5-2-3(노무비)
A30: 일위 26호 | B30: 몰딩설치 | C30: 천장갓둘레 설치 | D30: M | E30: 1 | F30: =일위대가표!F161 -> 0 | G30: =E30*F30 -> 0 | H30: =일위대가표!H161 -> 9061 | I30: =E30*H30 -> 9061 | J30: =일위대가표!J161 -> 362 | K30: =E30*J30 -> 362 | L30: =F30+H30+J30 -> 9423 | M30: =G30+I30+K30 -> 9423 | N30: 건축8-1-5※
A31: 일위 27호 | B31: 합판바닥깔기 | D31: M2 | E31: 1 | F31: =일위대가표!F167 -> 0 | G31: =E31*F31 -> 0 | H31: =일위대가표!H167 -> 8423 | I31: =E31*H31 -> 8423 | J31: =일위대가표!J167 -> 336 | K31: =E31*J31 -> 336 | L31: =F31+H31+J31 -> 8759 | M31: =G31+I31+K31 -> 8759 | N31: 건축4-1-3
A32: 일위 28호 | B32: 아스팔트슁글깔기 | C32: 주재료비,후레싱 별도 | D32: M2 | E32: 1 | F32: =일위대가표!F174 -> 0 | G32: =E32*F32 -> 0 | H32: =일위대가표!H174 -> 17586 | I32: =E32*H32 -> 17586 | J32: =일위대가표!J174 -> 351 | K32: =E32*J32 -> 351 | L32: =F32+H32+J32 -> 17937 | M32: =G32+I32+K32 -> 17937 | N32: 건축7-1-5(26년보완)
A33: 일위 29호 | B33: 바탕만들기 | C33: 벽,콘크리트면 | D33: M2 | E33: 1 | F33: =일위대가표!F179 -> 236 | G33: =E33*F33 -> 236 | H33: =일위대가표!H179 -> 2854 | I33: =E33*H33 -> 2854 | J33: =일위대가표!J179 -> 0 | K33: =E33*J33 -> 0 | L33: =F33+H33+J33 -> 3090 | M33: =G33+I33+K33 -> 3090 | N33: 건축 11-1-1
A34: 일위 30호 | B34: 도장 후 퍼티 및 연마 | C34: 벽,콘크리트면 | D34: M2 | E34: 1 | F34: =일위대가표!F184 -> 226 | G34: =E34*F34 -> 226 | H34: =일위대가표!H184 -> 1513 | I34: =E34*H34 -> 1513 | J34: =일위대가표!J184 -> 0 | K34: =E34*J34 -> 0 | L34: =F34+H34+J34 -> 1739 | M34: =G34+I34+K34 -> 1739 | N34: 건축 11-1-5
A35: 일위 31호 | B35: 도장 후 퍼티 및 연마 | C35: 노무비 | D35: M2 | E35: 1 | F35: =일위대가표!F190 -> 45 | G35: =E35*F35 -> 45 | H35: =일위대가표!H190 -> 1513 | I35: =E35*H35 -> 1513 | J35: =일위대가표!J190 -> 0 | K35: =E35*J35 -> 0 | L35: =F35+H35+J35 -> 1558 | M35: =G35+I35+K35 -> 1558 | N35: 건축 11-1-5
A36: 일위 32호 | B36: 콘크리트·모르타르면 바탕만들기 | C36: 노무비 | D36: M2 | E36: 1 | F36: =일위대가표!F196 -> 85 | G36: =E36*F36 -> 85 | H36: =일위대가표!H196 -> 2854 | I36: =E36*H36 -> 2854 | J36: =일위대가표!J196 -> 0 | K36: =E36*J36 -> 0 | L36: =F36+H36+J36 -> 2939 | M36: =G36+I36+K36 -> 2939 | N36: 건축 11-1-1
A37: 일위 33호 | B37: 콘크리트·모르타르면 바탕만들기 재료비 | D37: M2 | E37: 1 | F37: =일위대가표!F200 -> 151 | G37: =E37*F37 -> 151 | H37: =일위대가표!H200 -> 0 | I37: =E37*H37 -> 0 | J37: =일위대가표!J200 -> 0 | K37: =E37*J37 -> 0 | L37: =F37+H37+J37 -> 151 | M37: =G37+I37+K37 -> 151
A38: 일위 34호 | B38: 도장 후 퍼티 및 연마 재료비 | C38: 콘크리트면 | D38: M2 | E38: 1 | F38: =일위대가표!F204 -> 181 | G38: =E38*F38 -> 181 | H38: =일위대가표!H204 -> 0 | I38: =E38*H38 -> 0 | J38: =일위대가표!J204 -> 0 | K38: =E38*J38 -> 0 | L38: =F38+H38+J38 -> 181 | M38: =G38+I38+K38 -> 181
A39: 일위 35호 | B39: 수성페인트 롤러칠 | C39: 2회 노무비 | D39: M2 | E39: 1 | F39: =일위대가표!F212 -> 142 | G39: =E39*F39 -> 142 | H39: =일위대가표!H212 -> 7128 | I39: =E39*H39 -> 7128 | J39: =일위대가표!J212 -> 0 | K39: =E39*J39 -> 0 | L39: =F39+H39+J39 -> 7270 | M39: =G39+I39+K39 -> 7270 | N39: 건축 11-2-2
A40: 일위 36호 | B40: 수성페인트 롤러칠 재료비 | C40: 외부, 2회, 2급, 합성수지에멀션페인트 | D40: M2 | E40: 1 | F40: =일위대가표!F216 -> 650 | G40: =E40*F40 -> 650 | H40: =일위대가표!H216 -> 0 | I40: =E40*H40 -> 0 | J40: =일위대가표!J216 -> 0 | K40: =E40*J40 -> 0 | L40: =F40+H40+J40 -> 650 | M40: =G40+I40+K40 -> 650
A41: 일위 37호 | B41: 수성페인트 뿜칠 | C41: 1회 | D41: M2 | E41: 1 | F41: =일위대가표!F222 -> 113 | G41: =E41*F41 -> 113 | H41: =일위대가표!H222 -> 948 | I41: =E41*H41 -> 948 | J41: =일위대가표!J222 -> 0 | K41: =E41*J41 -> 0 | L41: =F41+H41+J41 -> 1061 | M41: =G41+I41+K41 -> 1061 | N41: 건축11-2-3 | O41: ANC13200070S
A42: 일위 38호 | B42: 건축물 현장정리 | C42: 조적조 | D42: M2 | E42: 1 | F42: =일위대가표!F226 -> 0 | G42: =E42*F42 -> 0 | H42: =일위대가표!H226 -> 8634 | I42: =E42*H42 -> 8634 | J42: =일위대가표!J226 -> 0 | K42: =E42*J42 -> 0 | L42: =F42+H42+J42 -> 8634 | M42: =G42+I42+K42 -> 8634 | O42: AAD16000040S

Sheet 일위대가표
A1: 일 위 대 가 내 역 서
A2: 공사명 : 실로암노인전문요양원 리모델링 공사
A3: 품 명 | B3: 규 격 | C3: 단위 | D3: 수 량 | E3: 재 료 비 | G3: 노 무 비 | I3: 경 비 | K3: 합 계 | M3: 비 고
E4: 단 가 | F4: 금 액 | G4: 단 가 | H4: 금 액 | I4: 단 가 | J4: 금 액 | K4: 단 가 | L4: 금 액 | N4: 손료요율 | O4: 손료구분 | P4: 적용구분 | Q4: 합계구분 | R4: 품목구분 | S4: 조달코드 | T4: 구분
A5: [일위 1호] - [시스템비계 10m이하 m2] | M5: 건축표준시장(2026년하)
A6: 합 계 | F6: 455 | H6: 14693 | J6: 0 | L6: =F6+H6+J6 -> 15148
A8: [일위 2호] - [시스템비계 10m초과~20m이하 m2] | M8: 건축표준시장(2026년하)
A9: 합 계 | F9: 555 | H9: 17932 | J9: 0 | L9: =F9+H9+J9 -> 18487
A11: [일위 3호] - [이동식강관말비계 1개월,2단(4m) 1대] | M11: 공통2-7-6,2-2-5/26보완
A12: 비계안정장치 | B12: 비계안정장치, 비계기본틀, 기둥, 1.2×1.7m | C12: 개 | D12: 0.093333 | E12: =ROUNDDOWN(단가대비표!O14, 0) -> 27402 | F12: =ROUNDDOWN(D12*E12, 1) -> 2557.5 | G12: 0 | H12: =ROUNDDOWN(D12*G12, 1) -> 0 | I12: 0 | J12: =ROUNDDOWN(D12*I12, 1) -> 0 | K12: =E12+G12+I12 -> 27402 | L12: =F12+H12+J12 -> 2557.5 | M12: 수직 | O12: 01 | P12: 기계경비 | Q12: 1
A13: 비계안정장치 | B13: 비계안정장치, 가새, L=1518-2개 | C13: 조 | D13: 0.093333 | E13: =ROUNDDOWN(단가대비표!O12, 0) -> 18180 | F13: =ROUNDDOWN(D13*E13, 1) -> 1696.7 | G13: 0 | H13: =ROUNDDOWN(D13*G13, 1) -> 0 | I13: 0 | J13: =ROUNDDOWN(D13*I13, 1) -> 0 | K13: =E13+G13+I13 -> 18180 | L13: =F13+H13+J13 -> 1696.7 | O13: 01 | P13: 기계경비 | Q13: 1
A14: 비계안정장치 | B14: 비계안정장치, 수평띠장, 1829mm | C14: 개 | D14: 0.186666 | E14: =ROUNDDOWN(단가대비표!O18, 0) -> 25000 | F14: =ROUNDDOWN(D14*E14, 1) -> 4666.6 | G14: 0 | H14: =ROUNDDOWN(D14*G14, 1) -> 0 | I14: 0 | J14: =ROUNDDOWN(D14*I14, 1) -> 0 | K14: =E14+G14+I14 -> 25000 | L14: =F14+H14+J14 -> 4666.6 | M14: 수평틀 | O14: 01 | P14: 기계경비 | Q14: 1
A15: 비계안정장치 | B15: 비계안정장치, 손잡이기둥 | C15: 개 | D15: 0.093333 | E15: =ROUNDDOWN(단가대비표!O17, 0) -> 5700 | F15: =ROUNDDOWN(D15*E15, 1) -> 531.9 | G15: 0 | H15: =ROUNDDOWN(D15*G15, 1) -> 0 | I15: 0 | J15: =ROUNDDOWN(D15*I15, 1) -> 0 | K15: =E15+G15+I15 -> 5700 | L15: =F15+H15+J15 -> 531.9 | O15: 01 | P15: 기계경비 | Q15: 1
A16: 비계안정장치 | B16: 비계안정장치, 손잡이, 1229mm | C16: 개 | D16: 0.046666 | E16: =ROUNDDOWN(단가대비표!O15, 0) -> 1440 | F16: =ROUNDDOWN(D16*E16, 1) -> 67.1 | G16: 0 | H16: =ROUNDDOWN(D16*G16, 1) -> 0 | I16: 0 | J16: =ROUNDDOWN(D16*I16, 1) -> 0 | K16: =E16+G16+I16 -> 1440 | L16: =F16+H16+J16 -> 67.1 | O16: 01 | P16: 기계경비 | Q16: 1
A17: 비계안정장치 | B17: 비계안정장치, 손잡이, 1829mm | C17: 개 | D17: 0.093333 | E17: =ROUNDDOWN(단가대비표!O16, 0) -> 2100 | F17: =ROUNDDOWN(D17*E17, 1) -> 195.9 | G17: 0 | H17: =ROUNDDOWN(D17*G17, 1) -> 0 | I17: 0 | J17: =ROUNDDOWN(D17*I17, 1) -> 0 | K17: =E17+G17+I17 -> 2100 | L17: =F17+H17+J17 -> 195.9 | O17: 01 | P17: 기계경비 | Q17: 1
A18: 비계안정장치 | B18: 비계안정장치, 이음철물, 연결핀 | C18: 개 | D18: 0.16 | E18: =ROUNDDOWN(단가대비표!O19, 0) -> 1330 | F18: =ROUNDDOWN(D18*E18, 1) -> 212.8 | G18: 0 | H18: =ROUNDDOWN(D18*G18, 1) -> 0 | I18: 0 | J18: =ROUNDDOWN(D18*I18, 1) -> 0 | K18: =E18+G18+I18 -> 1330 | L18: =F18+H18+J18 -> 212.8 | O18: 01 | P18: 기계경비 | Q18: 1
A19: 비계안정장치 | B19: 비계안정장치, 바퀴 | C19: 개 | D19: 0.12 | E19: =ROUNDDOWN(단가대비표!O13, 0) -> 9500 | F19: =ROUNDDOWN(D19*E19, 1) -> 1140 | G19: 0 | H19: =ROUNDDOWN(D19*G19, 1) -> 0 | I19: 0 | J19: =ROUNDDOWN(D19*I19, 1) -> 0 | K19: =E19+G19+I19 -> 9500 | L19: =F19+H19+J19 -> 1140 | M19: 5인치 | O19: 01 | P19: 기계경비 | Q19: 1
A20: 비계안정장치 | B20: 비계안정장치, 쟈키 | C20: 개 | D20: 0.12 | E20: =ROUNDDOWN(단가대비표!O20, 0) -> 11000 | F20: =ROUNDDOWN(D20*E20, 1) -> 1320 | G20: 0 | H20: =ROUNDDOWN(D20*G20, 1) -> 0 | I20: 0 | J20: =ROUNDDOWN(D20*I20, 1) -> 0 | K20: =E20+G20+I20 -> 11000 | L20: =F20+H20+J20 -> 1320 | M20: 36×600 | O20: 01 | P20: 기계경비 | Q20: 1
A21: 계단식발판 | B21: 계단식발판, 볼록철판, 0.4×1829mm | C21: 매 | D21: 0.21 | E21: =ROUNDDOWN(단가대비표!O6, 0) -> 18500 | F21: =ROUNDDOWN(D21*E21, 1) -> 3885 | G21: 0 | H21: =ROUNDDOWN(D21*G21, 1) -> 0 | I21: 0 | J21: =ROUNDDOWN(D21*I21, 1) -> 0 | K21: =E21+G21+I21 -> 18500 | L21: =F21+H21+J21 -> 3885 | M21: S.B.C냉연,중량13kg | O21: 01 | P21: 기계경비 | Q21: 1
A22: 비계공 | B22: 일반공사 직종 | C22: 인 | D22: 0.41 | E22: 0 | F22: =ROUNDDOWN(D22*E22, 1) -> 0 | G22: =ROUNDDOWN(단가대비표!O45, 0) -> 284440 | H22: =ROUNDDOWN(D22*G22, 1) -> 116620.4 | I22: 0 | J22: =ROUNDDOWN(D22*I22, 1) -> 0 | K22: =E22+G22+I22 -> 284440 | L22: =F22+H22+J22 -> 116620.4 | O22: 02 | P22: 기계경비 | Q22: 1
A23: 보통인부 | B23: 일반공사 직종 | C23: 인 | D23: 0.24 | E23: 0 | F23: =ROUNDDOWN(D23*E23, 1) -> 0 | G23: =ROUNDDOWN(단가대비표!O44, 0) -> 172698 | H23: =ROUNDDOWN(D23*G23, 1) -> 41447.5 | I23: 0 | J23: =ROUNDDOWN(D23*I23, 1) -> 0 | K23: =E23+G23+I23 -> 172698 | L23: =F23+H23+J23 -> 41447.5 | O23: 02 | P23: 기계경비 | Q23: 1
A24: 합 계 | F24: =ROUNDDOWN(SUMIF(Q12:Q23, "1", F12:F23), 0) -> 16273 | H24: =ROUNDDOWN(SUMIF(Q12:Q23, "1", H12:H23), 0) -> 158067 | J24: =ROUNDDOWN(SUMIF(Q12:Q23, "1", J12:J23), 0) -> 0 | L24: =F24+H24+J24 -> 174340
A26: [일위 4호] - [건축물 현장정리 2가지이하공종,조적조의20% M2]
A27: 건축물 현장정리 | B27: 조적조 | C27: M2 | D27: 0.2 | E27: =ROUNDDOWN(일위대가목록!G42, 2) -> 0 | F27: =ROUNDDOWN(D27*E27, 1) -> 0 | G27: =ROUNDDOWN(일위대가목록!I42, 0) -> 8634 | H27: =ROUNDDOWN(D27*G27, 1) -> 1726.8 | I27: =ROUNDDOWN(일위대가목록!K42, 2) -> 0 | J27: =ROUNDDOWN(D27*I27, 1) -> 0 | K27: =E27+G27+I27 -> 8634 | L27: =F27+H27+J27 -> 1726.8 | M27: 일위 38호 | P27: 기계경비 | Q27: 1 | T27: AAD16000040S
A28: 합 계 | F28: =ROUNDDOWN(SUMIF(Q27:Q27, "1", F27:F27), 0) -> 0 | H28: =ROUNDDOWN(SUMIF(Q27:Q27, "1", H27:H27), 0) -> 1726 | J28: =ROUNDDOWN(SUMIF(Q27:Q27, "1", J27:J27), 0) -> 0 | L28: =F28+H28+J28 -> 1726
A30: [일위 5호] - [잡철물 제작 및 설치(현장제작 설치) 일반철재 Ton] | M30: 건축8-3-1
A31: 철공 | B31: 일반공사 직종 | C31: 인 | D31: 12.38 | E31: 0 | F31: =ROUNDDOWN(D31*E31, 1) -> 0 | G31: =ROUNDDOWN(단가대비표!O50, 0) -> 243870 | H31: =ROUNDDOWN(D31*G31, 1) -> 3019110.6 | I31: 0 | J31: =ROUNDDOWN(D31*I31, 1) -> 0 | K31: =E31+G31+I31 -> 243870 | L31: =F31+H31+J31 -> 3019110.6 | O31: 01 | P31: 기계경비 | Q31: 1
A32: 용접공 | B32: 일반공사 직종 | C32: 인 | D32: 3.38 | E32: 0 | F32: =ROUNDDOWN(D32*E32, 1) -> 0 | G32: =ROUNDDOWN(단가대비표!O46, 0) -> 286330 | H32: =ROUNDDOWN(D32*G32, 1) -> 967795.4 | I32: 0 | J32: =ROUNDDOWN(D32*I32, 1) -> 0 | K32: =E32+G32+I32 -> 286330 | L32: =F32+H32+J32 -> 967795.4 | M32: 용접공(일반) | O32: 01 | P32: 기계경비 | Q32: 1
A33: 특별인부 | B33: 일반공사 직종 | C33: 인 | D33: 4.5 | E33: 0 | F33: =ROUNDDOWN(D33*E33, 1) -> 0 | G33: =ROUNDDOWN(단가대비표!O51, 0) -> 228717 | H33: =ROUNDDOWN(D33*G33, 1) -> 1029226.5 | I33: 0 | J33: =ROUNDDOWN(D33*I33, 1) -> 0 | K33: =E33+G33+I33 -> 228717 | L33: =F33+H33+J33 -> 1029226.5 | O33: 01 | P33: 기계경비 | Q33: 1
A34: 보통인부 | B34: 일반공사 직종 | C34: 인 | D34: 2.25 | E34: 0 | F34: =ROUNDDOWN(D34*E34, 1) -> 0 | G34: =ROUNDDOWN(단가대비표!O44, 0) -> 172698 | H34: =ROUNDDOWN(D34*G34, 1) -> 388570.5 | I34: 0 | J34: =ROUNDDOWN(D34*I34, 1) -> 0 | K34: =E34+G34+I34 -> 172698 | L34: =F34+H34+J34 -> 388570.5 | O34: 01 | P34: 기계경비 | Q34: 1
A35: 공구손료 | B35: ="노무비의 " & N35*100 & "%" -> 노무비의 5% | C35: 식 | D35: 1 | E35: =SUMIF(O31:O36, "01", H31:H36) -> 5404703 | F35: =ROUNDDOWN((E35)*N35, 1) -> 270235.1 | G35: 0 | H35: 0 | I35: 0 | J35: 0 | K35: =E35+G35+I35 -> 5404703 | L35: =F35+H35+J35 -> 270235.1 | N35: 0.05 | P35: 기계경비 | Q35: 1 | R35: 23 | S35: A0100000000
A36: 잡자재비 | B36: ="노무비의 " & N36*100 & "%" -> 노무비의 3% | C36: 식 | D36: 1 | E36: =SUMIF(O31:O36, "01", H31:H36) -> 5404703 | F36: =ROUNDDOWN((E36)*N36, 1) -> 162141 | G36: 0 | H36: 0 | I36: 0 | J36: 0 | K36: =E36+G36+I36 -> 5404703 | L36: =F36+H36+J36 -> 162141 | N36: 0.03 | P36: 기계경비 | Q36: 1 | R36: 23 | S36: A0100000000
A37: 합 계 | F37: =ROUNDDOWN(SUMIF(Q31:Q36, "1", F31:F36), 0) -> 432376 | H37: =ROUNDDOWN(SUMIF(Q31:Q36, "1", H31:H36), 0) -> 5404703 | J37: =ROUNDDOWN(SUMIF(Q31:Q36, "1", J31:J36), 0) -> 0 | L37: =F37+H37+J37 -> 5837079
A39: [일위 6호] - [녹막이페인트(뿜칠) 1회.2종 M2]
A40: 방청페인트 | B40: 방청페인트, KSM6030-1종2류, 광명단페인트 | C40: L | D40: 0.08 | E40: =ROUNDDOWN(단가대비표!O10, 0) -> 8400 | F40: =ROUNDDOWN(D40*E40, 1) -> 672 | G40: 0 | H40: =ROUNDDOWN(D40*G40, 1) -> 0 | I40: 0 | J40: =ROUNDDOWN(D40*I40, 1) -> 0 | K40: =E40+G40+I40 -> 8400 | L40: =F40+H40+J40 -> 672 | O40: 05 | P40: 기계경비 | Q40: 1
A41: 시너 | B41: 시너, KSM6060-2종, 조합페인트용 | C41: L | D41: 0.004 | E41: =ROUNDDOWN(단가대비표!O24, 0) -> 2708 | F41: =ROUNDDOWN(D41*E41, 1) -> 10.8 | G41: 0 | H41: =ROUNDDOWN(D41*G41, 1) -> 0 | I41: 0 | J41: =ROUNDDOWN(D41*I41, 1) -> 0 | K41: =E41+G41+I41 -> 2708 | L41: =F41+H41+J41 -> 10.8 | O41: 05 | P41: 기계경비 | Q41: 1
A42: 수성페인트 뿜칠 | B42: 1회 | C42: M2 | D42: 1 | E42: =ROUNDDOWN(일위대가목록!G41, 0) -> 113 | F42: =ROUNDDOWN(D42*E42, 1) -> 113 | G42: =ROUNDDOWN(일위대가목록!I41, 0) -> 948 | H42: =ROUNDDOWN(D42*G42, 1) -> 948 | I42: =ROUNDDOWN(일위대가목록!K41, 2) -> 0 | J42: =ROUNDDOWN(D42*I42, 1) -> 0 | K42: =E42+G42+I42 -> 1061 | L42: =F42+H42+J42 -> 1061 | M42: 일위 37호 | P42: 기계경비 | Q42: 1 | T42: ANC13200070S
A43: 합 계 | F43: =ROUNDDOWN(SUMIF(Q40:Q42, "1", F40:F42), 0) -> 795 | H43: =ROUNDDOWN(SUMIF(Q40:Q42, "1", H40:H42), 0) -> 948 | J43: =ROUNDDOWN(SUMIF(Q40:Q42, "1", J40:J42), 0) -> 0 | L43: =F43+H43+J43 -> 1743
A45: [일위 7호] - [합판바닥 깔기 바닥,내수, 12mm M2]
A46: 내수합판(1급) | B46: 12T 1.21*2.42 | C46: M2 | D46: 1.03 | E46: =ROUNDDOWN(단가대비표!O8, 0) -> 12059 | F46: =ROUNDDOWN(D46*E46, 1) -> 12420.7 | G46: 0 | H46: =ROUNDDOWN(D46*G46, 1) -> 0 | I46: 0 | J46: =ROUNDDOWN(D46*I46, 1) -> 0 | K46: =E46+G46+I46 -> 12059 | L46: =F46+H46+J46 -> 12420.7 | O46: 01 | P46: 기계경비 | Q46: 1
A47: 일반철물 | B47: 보강철물, #10, 아연도 | C47: KG | D47: 0.12 | E47: =ROUNDDOWN(단가대비표!O31, 0) -> 1067 | F47: =ROUNDDOWN(D47*E47, 1) -> 128 | G47: 0 | H47: =ROUNDDOWN(D47*G47, 1) -> 0 | I47: 0 | J47: =ROUNDDOWN(D47*I47, 1) -> 0 | K47: =E47+G47+I47 -> 1067 | L47: =F47+H47+J47 -> 128 | O47: 01 | P47: 기계경비 | Q47: 1
A48: 합판바닥깔기 | C48: M2 | D48: 1 | E48: =ROUNDDOWN(일위대가목록!G31, 2) -> 0 | F48: =ROUNDDOWN(D48*E48, 1) -> 0 | G48: =ROUNDDOWN(일위대가목록!I31, 0) -> 8423 | H48: =ROUNDDOWN(D48*G48, 1) -> 8423 | I48: =ROUNDDOWN(일위대가목록!K31, 0) -> 336 | J48: =ROUNDDOWN(D48*I48, 1) -> 336 | K48: =E48+G48+I48 -> 8759 | L48: =F48+H48+J48 -> 8759 | M48: 일위 27호 | P48: 기계경비 | Q48: 1
A49: 합 계 | F49: =ROUNDDOWN(SUMIF(Q46:Q48, "1", F46:F48), 0) -> 12548 | H49: =ROUNDDOWN(SUMIF(Q46:Q48, "1", H46:H48), 0) -> 8423 | J49: =ROUNDDOWN(SUMIF(Q46:Q48, "1", J46:J48), 0) -> 336 | L49: =F49+H49+J49 -> 21307
A51: [일위 8호] - [SHEET방수(바닥) ECB시트,T:1.0 M2] | M51: 건축6-3-1
A52: 합성고분자방수시트 | B52: 합성고분자방수시트, ECB시트, 1.0mm | C52: ㎡ | D52: 1.2 | E52: =ROUNDDOWN(단가대비표!O35, 0) -> 7500 | F52: =ROUNDDOWN(D52*E52, 1) -> 9000 | G52: 0 | H52: =ROUNDDOWN(D52*G52, 1) -> 0 | I52: 0 | J52: =ROUNDDOWN(D52*I52, 1) -> 0 | K52: =E52+G52+I52 -> 7500 | L52: =F52+H52+J52 -> 9000 | O52: 01 | P52: 기계경비 | Q52: 1
A53: 아스팔트 | B53: 아스팔트, 아스팔트프라이머 | C53: ℓ | D53: 0.3 | E53: =ROUNDDOWN(단가대비표!O25, 0) -> 3500 | F53: =ROUNDDOWN(D53*E53, 1) -> 1050 | G53: 0 | H53: =ROUNDDOWN(D53*G53, 1) -> 0 | I53: 0 | J53: =ROUNDDOWN(D53*I53, 1) -> 0 | K53: =E53+G53+I53 -> 3500 | L53: =F53+H53+J53 -> 1050 | O53: 01 | P53: 기계경비 | Q53: 1
A54: 액화석유가스 | B54: 액화석유가스, 건설용LPG | C54: kg | D54: 0.08 | E54: =ROUNDDOWN(단가대비표!O27, 0) -> 2373 | F54: =ROUNDDOWN(D54*E54, 1) -> 189.8 | G54: 0 | H54: =ROUNDDOWN(D54*G54, 1) -> 0 | I54: 0 | J54: =ROUNDDOWN(D54*I54, 1) -> 0 | K54: =E54+G54+I54 -> 2373 | L54: =F54+H54+J54 -> 189.8 | O54: 01 | P54: 기계경비 | Q54: 1
A55: 방수공 | B55: 일반공사 직종 | C55: 인 | D55: 0.06 | E55: 0 | F55: =ROUNDDOWN(D55*E55, 1) -> 0 | G55: =ROUNDDOWN(단가대비표!O43, 0) -> 233163 | H55: =ROUNDDOWN(D55*G55, 1) -> 13989.7 | I55: 0 | J55: =ROUNDDOWN(D55*I55, 1) -> 0 | K55: =E55+G55+I55 -> 233163 | L55: =F55+H55+J55 -> 13989.7 | O55: 02 | P55: 기계경비 | Q55: 1
A56: 보통인부 | B56: 일반공사 직종 | C56: 인 | D56: 0.03 | E56: 0 | F56: =ROUNDDOWN(D56*E56, 1) -> 0 | G56: =ROUNDDOWN(단가대비표!O44, 0) -> 172698 | H56: =ROUNDDOWN(D56*G56, 1) -> 5180.9 | I56: 0 | J56: =ROUNDDOWN(D56*I56, 1) -> 0 | K56: =E56+G56+I56 -> 172698 | L56: =F56+H56+J56 -> 5180.9 | O56: 02 | P56: 기계경비 | Q56: 1
A57: 공구손료 및 경장비의 기계경비 | B57: ="인력품의 " & N57*100 & "%" -> 인력품의 3% | C57: 식 | D57: 1 | E57: 0 | F57: 0 | G57: 0 | H57: 0 | I57: =SUMIF(O52:O57, "02", H52:H57) -> 19170.6 | J57: =ROUNDDOWN((I57)*N57, 1) -> 575.1 | K57: =E57+G57+I57 -> 19170.6 | L57: =F57+H57+J57 -> 575.1 | N57: 0.03 | P57: 기계경비 | Q57: 1 | R57: 25 | S57: A0200000000 | T57: 경비
A58: 합 계 | F58: =ROUNDDOWN(SUMIF(Q52:Q57, "1", F52:F57), 0) -> 10239 | H58: =ROUNDDOWN(SUMIF(Q52:Q57, "1", H52:H57), 0) -> 19170 | J58: =ROUNDDOWN(SUMIF(Q52:Q57, "1", J52:J57), 0) -> 575 | L58: =F58+H58+J58 -> 29984
A60: [일위 9호] - [아스팔트슁글깔기 336*5.0T(이중그림자) M2] | M60: 건축7-1-5참고/26년보완
A61: 아스팔트싱글 | B61: 아스팔트싱글, 이중그림자, 1000×336×3mm | C61: 매 | D61: 7.3 | E61: =ROUNDDOWN(단가대비표!O26, 0) -> 3192 | F61: =ROUNDDOWN(D61*E61, 1) -> 23301.6 | G61: 0 | H61: =ROUNDDOWN(D61*G61, 1) -> 0 | I61: 0 | J61: =ROUNDDOWN(D61*I61, 1) -> 0 | K61: =E61+G61+I61 -> 3192 | L61: =F61+H61+J61 -> 23301.6 | M61: 5T | O61: 01 | P61: 기계경비 | Q61: 1
A62: 잡재료비 | B62: ="주재료비의 " & N62*100 & "%" -> 주재료비의 3% | C62: 식 | D62: 1 | E62: =SUMIF(O61:O63, "01", F61:F63) -> 23301.6 | F62: =ROUNDDOWN((E62)*N62, 1) -> 699 | G62: 0 | H62: 0 | I62: 0 | J62: 0 | K62: =E62+G62+I62 -> 23301.6 | L62: =F62+H62+J62 -> 699 | N62: 0.03 | P62: 기계경비 | Q62: 1 | R62: 20 | S62: A0100000000 | T62: 재료비
A63: 아스팔트슁글깔기 | B63: 주재료비,후레싱 별도 | C63: M2 | D63: 1 | E63: =ROUNDDOWN(일위대가목록!G32, 2) -> 0 | F63: =ROUNDDOWN(D63*E63, 1) -> 0 | G63: =ROUNDDOWN(일위대가목록!I32, 0) -> 17586 | H63: =ROUNDDOWN(D63*G63, 1) -> 17586 | I63: =ROUNDDOWN(일위대가목록!K32, 0) -> 351 | J63: =ROUNDDOWN(D63*I63, 1) -> 351 | K63: =E63+G63+I63 -> 17937 | L63: =F63+H63+J63 -> 17937 | M63: 일위 28호 | P63: 기계경비 | Q63: 1
A64: 합 계 | F64: =ROUNDDOWN(SUMIF(Q61:Q63, "1", F61:F63), 0) -> 24000 | H64: =ROUNDDOWN(SUMIF(Q61:Q63, "1", H61:H63), 0) -> 17586 | J64: =ROUNDDOWN(SUMIF(Q61:Q63, "1", J61:J63), 0) -> 351 | L64: =F64+H64+J64 -> 41937
A66: [일위 10호] - [고압물청소 M2]
A67: 특별인부 | B67: 일반공사 직종 | C67: 인 | D67: 0.024 | E67: 0 | F67: =ROUNDDOWN(D67*E67, 1) -> 0 | G67: =ROUNDDOWN(단가대비표!O51, 0) -> 228717 | H67: =ROUNDDOWN(D67*G67, 1) -> 5489.2 | I67: 0 | J67: =ROUNDDOWN(D67*I67, 1) -> 0 | K67: =E67+G67+I67 -> 228717 | L67: =F67+H67+J67 -> 5489.2 | O67: 04 | P67: 기계경비 | Q67: 1
A68: 기구손료 | B68: ="인력품의 " & N68*100 & "%" -> 인력품의 2% | C68: 식 | D68: 1 | E68: 0 | F68: 0 | G68: 0 | H68: 0 | I68: =SUMIF(O67:O68, "04", H67:H68) -> 5489.2 | J68: =ROUNDDOWN((I68)*N68, 1) -> 109.7 | K68: =E68+G68+I68 -> 5489.2 | L68: =F68+H68+J68 -> 109.7 | N68: 0.02 | P68: 기계경비 | Q68: 1 | R68: 25 | S68: A0400000000
A69: 합 계 | F69: =ROUNDDOWN(SUMIF(Q67:Q68, "1", F67:F68), 0) -> 0 | H69: =ROUNDDOWN(SUMIF(Q67:Q68, "1", H67:H68), 0) -> 5489 | J69: =ROUNDDOWN(SUMIF(Q67:Q68, "1", J67:J68), 0) -> 109 | L69: =F69+H69+J69 -> 5598
A71: [일위 11호] - [친환경수성페인트칠(롤러칠) 기존외벽,2회,2급 M2] | M71: 건축 11-1-1,-2-2
A72: 바탕만들기 | B72: 벽,콘크리트면 | C72: M2 | D72: 0.3 | E72: =ROUNDDOWN(일위대가목록!G33, 0) -> 236 | F72: =ROUNDDOWN(D72*E72, 1) -> 70.8 | G72: =ROUNDDOWN(일위대가목록!I33, 0) -> 2854 | H72: =ROUNDDOWN(D72*G72, 1) -> 856.2 | I72: =ROUNDDOWN(일위대가목록!K33, 2) -> 0 | J72: =ROUNDDOWN(D72*I72, 1) -> 0 | K72: =E72+G72+I72 -> 3090 | L72: =F72+H72+J72 -> 927 | M72: 일위 29호 | P72: 기계경비 | Q72: 1
A73: 수성페인트 롤러칠 재료비 | B73: 외부, 2회, 2급, 합성수지에멀션페인트 | C73: M2 | D73: 1 | E73: =ROUNDDOWN(일위대가목록!G40, 0) -> 650 | F73: =ROUNDDOWN(D73*E73, 1) -> 650 | G73: =ROUNDDOWN(일위대가목록!I40, 2) -> 0 | H73: =ROUNDDOWN(D73*G73, 1) -> 0 | I73: =ROUNDDOWN(일위대가목록!K40, 2) -> 0 | J73: =ROUNDDOWN(D73*I73, 1) -> 0 | K73: =E73+G73+I73 -> 650 | L73: =F73+H73+J73 -> 650 | M73: 일위 36호 | P73: 기계경비 | Q73: 1
A74: 수성페인트 롤러칠 | B74: 2회 노무비 | C74: M2 | D74: 1 | E74: =ROUNDDOWN(일위대가목록!G39, 0) -> 142 | F74: =ROUNDDOWN(D74*E74, 1) -> 142 | G74: =ROUNDDOWN(일위대가목록!I39, 0) -> 7128 | H74: =ROUNDDOWN(D74*G74, 1) -> 7128 | I74: =ROUNDDOWN(일위대가목록!K39, 2) -> 0 | J74: =ROUNDDOWN(D74*I74, 1) -> 0 | K74: =E74+G74+I74 -> 7270 | L74: =F74+H74+J74 -> 7270 | M74: 일위 35호 | P74: 기계경비 | Q74: 1
A75: 도장 후 퍼티 및 연마 | B75: 벽,콘크리트면 | C75: M2 | D75: 1 | E75: =ROUNDDOWN(일위대가목록!G34, 0) -> 226 | F75: =ROUNDDOWN(D75*E75, 1) -> 226 | G75: =ROUNDDOWN(일위대가목록!I34, 0) -> 1513 | H75: =ROUNDDOWN(D75*G75, 1) -> 1513 | I75: =ROUNDDOWN(일위대가목록!K34, 2) -> 0 | J75: =ROUNDDOWN(D75*I75, 1) -> 0 | K75: =E75+G75+I75 -> 1739 | L75: =F75+H75+J75 -> 1739 | M75: 일위 30호 | P75: 기계경비 | Q75: 1
A76: 합 계 | F76: =ROUNDDOWN(SUMIF(Q72:Q75, "1", F72:F75), 0) -> 1088 | H76: =ROUNDDOWN(SUMIF(Q72:Q75, "1", H72:H75), 0) -> 9497 | J76: =ROUNDDOWN(SUMIF(Q72:Q75, "1", J72:J75), 0) -> 0 | L76: =F76+H76+J76 -> 10585
A78: [일위 12호] - [도배바름(콘크리트.모르타르면) 벽, 비닐벽지, 실크형, A급 M2] | M78: 건축5-3-7
A79: 종이벽지 | B79: 종이벽지, 초배지 | C79: ㎡ | D79: 1.2 | E79: =ROUNDDOWN(단가대비표!O32, 0) -> 242 | F79: =ROUNDDOWN(D79*E79, 1) -> 290.4 | G79: 0 | H79: =ROUNDDOWN(D79*G79, 1) -> 0 | I79: 0 | J79: =ROUNDDOWN(D79*I79, 1) -> 0 | K79: =E79+G79+I79 -> 242 | L79: =F79+H79+J79 -> 290.4 | O79: 01 | P79: 기계경비 | Q79: 1
A80: 비닐벽지 | B80: 비닐벽지, 실크형, A급 | C80: ㎡ | D80: 1.2 | E80: =ROUNDDOWN(단가대비표!O21, 0) -> 2400 | F80: =ROUNDDOWN(D80*E80, 1) -> 2880 | G80: 0 | H80: =ROUNDDOWN(D80*G80, 1) -> 0 | I80: 0 | J80: =ROUNDDOWN(D80*I80, 1) -> 0 | K80: =E80+G80+I80 -> 2400 | L80: =F80+H80+J80 -> 2880 | M80: 테라피 | O80: 01 | P80: 기계경비 | Q80: 1
A81: 초산비닐계접착제 | B81: 초산비닐계접착제, 벽지용 | C81: kg | D81: 0.3 | E81: =ROUNDDOWN(단가대비표!O33, 0) -> 1365 | F81: =ROUNDDOWN(D81*E81, 1) -> 409.5 | G81: 0 | H81: =ROUNDDOWN(D81*G81, 1) -> 0 | I81: 0 | J81: =ROUNDDOWN(D81*I81, 1) -> 0 | K81: =E81+G81+I81 -> 1365 | L81: =F81+H81+J81 -> 409.5 | M81: 도배지 접착용 | O81: 01 | P81: 기계경비 | Q81: 1
A82: 도배공 | B82: 일반공사 직종 | C82: 인 | D82: 0.021 | E82: 0 | F82: =ROUNDDOWN(D82*E82, 1) -> 0 | G82: =ROUNDDOWN(단가대비표!O41, 0) -> 229833 | H82: =ROUNDDOWN(D82*G82, 1) -> 4826.4 | I82: 0 | J82: =ROUNDDOWN(D82*I82, 1) -> 0 | K82: =E82+G82+I82 -> 229833 | L82: =F82+H82+J82 -> 4826.4 | O82: 02 | P82: 기계경비 | Q82: 1
A83: 보통인부 | B83: 일반공사 직종 | C83: 인 | D83: 0.011 | E83: 0 | F83: =ROUNDDOWN(D83*E83, 1) -> 0 | G83: =ROUNDDOWN(단가대비표!O44, 0) -> 172698 | H83: =ROUNDDOWN(D83*G83, 1) -> 1899.6 | I83: 0 | J83: =ROUNDDOWN(D83*I83, 1) -> 0 | K83: =E83+G83+I83 -> 172698 | L83: =F83+H83+J83 -> 1899.6 | O83: 02 | P83: 기계경비 | Q83: 1
A84: 합 계 | F84: =ROUNDDOWN(SUMIF(Q79:Q83, "1", F79:F83), 0) -> 3579 | H84: =ROUNDDOWN(SUMIF(Q79:Q83, "1", H79:H83), 0) -> 6726 | J84: =ROUNDDOWN(SUMIF(Q79:Q83, "1", J79:J83), 0) -> 0 | L84: =F84+H84+J84 -> 10305
A86: [일위 13호] - [도배바름(합판.석고보드면) 천장, 비닐벽지, 실크형, A급 M2] | M86: 건축5-3-7
A87: 종이벽지 | B87: 종이벽지, 초배지 | C87: ㎡ | D87: 0.8 | E87: =ROUNDDOWN(단가대비표!O32, 0) -> 242 | F87: =ROUNDDOWN(D87*E87, 1) -> 193.6 | G87: 0 | H87: =ROUNDDOWN(D87*G87, 1) -> 0 | I87: 0 | J87: =ROUNDDOWN(D87*I87, 1) -> 0 | K87: =E87+G87+I87 -> 242 | L87: =F87+H87+J87 -> 193.6 | O87: 01 | P87: 기계경비 | Q87: 1
A88: 비닐벽지 | B88: 비닐벽지, 실크형, A급 | C88: ㎡ | D88: 1.2 | E88: =ROUNDDOWN(단가대비표!O21, 0) -> 2400 | F88: =ROUNDDOWN(D88*E88, 1) -> 2880 | G88: 0 | H88: =ROUNDDOWN(D88*G88, 1) -> 0 | I88: 0 | J88: =ROUNDDOWN(D88*I88, 1) -> 0 | K88: =E88+G88+I88 -> 2400 | L88: =F88+H88+J88 -> 2880 | M88: 테라피 | O88: 01 | P88: 기계경비 | Q88: 1
A89: 초산비닐계접착제 | B89: 초산비닐계접착제, 벽지용 | C89: kg | D89: 0.3 | E89: =ROUNDDOWN(단가대비표!O33, 0) -> 1365 | F89: =ROUNDDOWN(D89*E89, 1) -> 409.5 | G89: 0 | H89: =ROUNDDOWN(D89*G89, 1) -> 0 | I89: 0 | J89: =ROUNDDOWN(D89*I89, 1) -> 0 | K89: =E89+G89+I89 -> 1365 | L89: =F89+H89+J89 -> 409.5 | M89: 도배지 접착용 | O89: 01 | P89: 기계경비 | Q89: 1
A90: 도배공 | B90: 일반공사 직종 | C90: 인 | D90: 0.031 | E90: 0 | F90: =ROUNDDOWN(D90*E90, 1) -> 0 | G90: =ROUNDDOWN(단가대비표!O41, 0) -> 229833 | H90: =ROUNDDOWN(D90*G90, 1) -> 7124.8 | I90: 0 | J90: =ROUNDDOWN(D90*I90, 1) -> 0 | K90: =E90+G90+I90 -> 229833 | L90: =F90+H90+J90 -> 7124.8 | O90: 02 | P90: 기계경비 | Q90: 1
A91: 보통인부 | B91: 일반공사 직종 | C91: 인 | D91: 0.015 | E91: 0 | F91: =ROUNDDOWN(D91*E91, 1) -> 0 | G91: =ROUNDDOWN(단가대비표!O44, 0) -> 172698 | H91: =ROUNDDOWN(D91*G91, 1) -> 2590.4 | I91: 0 | J91: =ROUNDDOWN(D91*I91, 1) -> 0 | K91: =E91+G91+I91 -> 172698 | L91: =F91+H91+J91 -> 2590.4 | O91: 02 | P91: 기계경비 | Q91: 1
A92: 합 계 | F92: =ROUNDDOWN(SUMIF(Q87:Q91, "1", F87:F91), 0) -> 3483 | H92: =ROUNDDOWN(SUMIF(Q87:Q91, "1", H87:H91), 0) -> 9715 | J92: =ROUNDDOWN(SUMIF(Q87:Q91, "1", J87:J91), 0) -> 0 | L92: =F92+H92+J92 -> 13198
A94: [일위 14호] - [석고판 설치(나사고정,석고판포함) 천장, 일반, 바탕용 9.5mm(1겹) M2] | M94: 건축5-2-3
A95: 석고보드 | B95: 석고보드, 평보드, 9.5×900×1800mm(㎡) | C95: ㎡ | D95: 1.05 | E95: =ROUNDDOWN(단가대비표!O22, 0) -> 2962 | F95: =ROUNDDOWN(D95*E95, 1) -> 3110.1 | G95: 0 | H95: =ROUNDDOWN(D95*G95, 1) -> 0 | I95: 0 | J95: =ROUNDDOWN(D95*I95, 1) -> 0 | K95: =E95+G95+I95 -> 2962 | L95: =F95+H95+J95 -> 3110.1 | O95: 01 | P95: 기계경비 | Q95: 1
A96: 석고판 나사고정(바탕용) | B96: 천장, 1겹 붙임 | C96: M2 | D96: 1 | E96: =ROUNDDOWN(일위대가목록!G29, 2) -> 0 | F96: =ROUNDDOWN(D96*E96, 1) -> 0 | G96: =ROUNDDOWN(일위대가목록!I29, 0) -> 15191 | H96: =ROUNDDOWN(D96*G96, 1) -> 15191 | I96: =ROUNDDOWN(일위대가목록!K29, 0) -> 151 | J96: =ROUNDDOWN(D96*I96, 1) -> 151 | K96: =E96+G96+I96 -> 15342 | L96: =F96+H96+J96 -> 15342 | M96: 일위 25호 | P96: 기계경비 | Q96: 1
A97: 합 계 | F97: =ROUNDDOWN(SUMIF(Q95:Q96, "1", F95:F96), 0) -> 3110 | H97: =ROUNDDOWN(SUMIF(Q95:Q96, "1", H95:H96), 0) -> 15191 | J97: =ROUNDDOWN(SUMIF(Q95:Q96, "1", J95:J96), 0) -> 151 | L97: =F97+H97+J97 -> 18452
A99: [일위 15호] - [목재몰딩 설치 MDF 9×60,무늬목,방염 M]
A100: M.D.F | B100: 9.0T 1210*2420 | C100: M2 | D100: 0.066 | E100: =ROUNDDOWN(단가대비표!O36, 0) -> 4770 | F100: =ROUNDDOWN(D100*E100, 1) -> 314.8 | G100: 0 | H100: =ROUNDDOWN(D100*G100, 1) -> 0 | I100: 0 | J100: =ROUNDDOWN(D100*I100, 1) -> 0 | K100: =E100+G100+I100 -> 4770 | L100: =F100+H100+J100 -> 314.8 | O100: 01 | P100: 기계경비 | Q100: 1
A101: 몰딩설치 | B101: 천장갓둘레 설치 | C101: M | D101: 1 | E101: =ROUNDDOWN(일위대가목록!G30, 2) -> 0 | F101: =ROUNDDOWN(D101*E101, 1) -> 0 | G101: =ROUNDDOWN(일위대가목록!I30, 0) -> 9061 | H101: =ROUNDDOWN(D101*G101, 1) -> 9061 | I101: =ROUNDDOWN(일위대가목록!K30, 0) -> 362 | J101: =ROUNDDOWN(D101*I101, 1) -> 362 | K101: =E101+G101+I101 -> 9423 | L101: =F101+H101+J101 -> 9423 | M101: 일위 26호 | P101: 기계경비 | Q101: 1
A102: 인테리어표면마감재 | B102: 0.42*1220mm FW (목무늬방염) | C102: M2 | D102: 0.069 | E102: =ROUNDDOWN(단가대비표!O29, 0) -> 30000 | F102: =ROUNDDOWN(D102*E102, 1) -> 2070 | G102: 0 | H102: =ROUNDDOWN(D102*G102, 1) -> 0 | I102: 0 | J102: =ROUNDDOWN(D102*I102, 1) -> 0 | K102: =E102+G102+I102 -> 30000 | L102: =F102+H102+J102 -> 2070 | O102: 01 | P102: 기계경비 | Q102: 1
A103: 합 계 | F103: =ROUNDDOWN(SUMIF(Q100:Q102, "1", F100:F102), 0) -> 2384 | H103: =ROUNDDOWN(SUMIF(Q100:Q102, "1", H100:H102), 0) -> 9061 | J103: =ROUNDDOWN(SUMIF(Q100:Q102, "1", J100:J102), 0) -> 362 | L103: =F103+H103+J103 -> 11807
A105: [일위 16호] - [SAW CUT 콘크리트 M]
A106: 블레이드 | B106: 도로용, 14"×3.2mm | C106: EA | D106: 0.0031 | E106: =ROUNDDOWN(단가대비표!O11, 0) -> 169800 | F106: =ROUNDDOWN(D106*E106, 1) -> 526.3 | G106: 0 | H106: =ROUNDDOWN(D106*G106, 1) -> 0 | I106: 0 | J106: =ROUNDDOWN(D106*I106, 1) -> 0 | K106: =E106+G106+I106 -> 169800 | L106: =F106+H106+J106 -> 526.3 | O106: 01 | P106: 기계경비 | Q106: 1
A107: 물 | B107: 용수 | C107: L | D107: 30 | E107: =ROUNDDOWN(단가대비표!O9, 0) -> 1 | F107: =ROUNDDOWN(D107*E107, 1) -> 30 | G107: 0 | H107: =ROUNDDOWN(D107*G107, 1) -> 0 | I107: 0 | J107: =ROUNDDOWN(D107*I107, 1) -> 0 | K107: =E107+G107+I107 -> 1 | L107: =F107+H107+J107 -> 30 | M107: 일반용 | O107: 01 | P107: 기계경비 | Q107: 1
A108: 보통인부 | B108: 일반공사 직종 | C108: 인 | D108: 0.0084 | E108: 0 | F108: =ROUNDDOWN(D108*E108, 1) -> 0 | G108: =ROUNDDOWN(단가대비표!O44, 0) -> 172698 | H108: =ROUNDDOWN(D108*G108, 1) -> 1450.6 | I108: 0 | J108: =ROUNDDOWN(D108*I108, 1) -> 0 | K108: =E108+G108+I108 -> 172698 | L108: =F108+H108+J108 -> 1450.6 | O108: 02 | P108: 기계경비 | Q108: 1
A109: 공구손료 | B109: ="인력품의 " & N109*100 & "%" -> 인력품의 5% | C109: 식 | D109: 1 | E109: =SUMIF(O106:O110, "02", H106:H110) -> 1450.6 | F109: =ROUNDDOWN((E109)*N109, 1) -> 72.5 | G109: 0 | H109: 0 | I109: 0 | J109: 0 | K109: =E109+G109+I109 -> 1450.6 | L109: =F109+H109+J109 -> 72.5 | N109: 0.05 | P109: 기계경비 | Q109: 1 | R109: 23 | S109: A0200000000 | T109: 재료비
A110: 커터(콘크리트 및 아스팔트용) | B110: 320∼400mm | C110: HR | D110: 0.0333 | E110: =ROUNDDOWN(중기경비목록!G7, 0) -> 10832 | F110: =ROUNDDOWN(D110*E110, 1) -> 360.7 | G110: =ROUNDDOWN(중기경비목록!I7, 0) -> 36604 | H110: =ROUNDDOWN(D110*G110, 1) -> 1218.9 | I110: =ROUNDDOWN(중기경비목록!K7, 0) -> 2064 | J110: =ROUNDDOWN(D110*I110, 1) -> 68.7 | K110: =E110+G110+I110 -> 49500 | L110: =F110+H110+J110 -> 1648.3 | M110: 중기 3호 | P110: 기계경비 | Q110: 1
A111: 합 계 | F111: =ROUNDDOWN(SUMIF(Q106:Q110, "1", F106:F110), 0) -> 989 | H111: =ROUNDDOWN(SUMIF(Q106:Q110, "1", H106:H110), 0) -> 2669 | J111: =ROUNDDOWN(SUMIF(Q106:Q110, "1", J106:J110), 0) -> 68 | L111: =F111+H111+J111 -> 3726
A113: [일위 17호] - [무근콘크리트 철거 소형브레이커(공압식) M3]
A114: 착암공 | B114: 일반공사 직종 | C114: 인 | D114: 0.57 | E114: 0 | F114: =ROUNDDOWN(D114*E114, 1) -> 0 | G114: =ROUNDDOWN(단가대비표!O49, 0) -> 223246 | H114: =ROUNDDOWN(D114*G114, 1) -> 127250.2 | I114: 0 | J114: =ROUNDDOWN(D114*I114, 1) -> 0 | K114: =E114+G114+I114 -> 223246 | L114: =F114+H114+J114 -> 127250.2 | O114: 02 | P114: 기계경비 | Q114: 1
A115: 보통인부 | B115: 일반공사 직종 | C115: 인 | D115: 0.37 | E115: 0 | F115: =ROUNDDOWN(D115*E115, 1) -> 0 | G115: =ROUNDDOWN(단가대비표!O44, 0) -> 172698 | H115: =ROUNDDOWN(D115*G115, 1) -> 63898.2 | I115: 0 | J115: =ROUNDDOWN(D115*I115, 1) -> 0 | K115: =E115+G115+I115 -> 172698 | L115: =F115+H115+J115 -> 63898.2 | O115: 02 | P115: 기계경비 | Q115: 1
A116: 잡재료비 | B116: ="노무비의 " & N116*100 & "%" -> 노무비의 1% | C116: 식 | D116: 1 | E116: =SUMIF(O114:O118, "02", H114:H118) -> 191148.4 | F116: =ROUNDDOWN((E116)*N116, 1) -> 1911.4 | G116: 0 | H116: 0 | I116: 0 | J116: 0 | K116: =E116+G116+I116 -> 191148.4 | L116: =F116+H116+J116 -> 1911.4 | N116: 0.01 | P116: 기계경비 | Q116: 1 | R116: 23 | S116: A0200000000 | T116: 재료비
...

Sheet 중기경비목록
A1: 중 기 경 비 목 록
A2: 공사명 : 실로암노인전문요양원 리모델링 공사
A3: 호 표 | B3: 품 명 | C3: 규 격 | D3: 단위 | E3: 수량 | F3: 재 료 비 | H3: 노 무 비 | J3: 경 비 | L3: 합 계 | N3: 비 고
F4: 단 가 | G4: 금 액 | H4: 단 가 | I4: 금 액 | J4: 단 가 | K4: 금 액 | L4: 단 가 | M4: 금 액 | O4: 구분
A5: 중기 1호 | B5: 공기압축기(이동식) | C5: 3.5㎥/min | D5: HR | E5: 1 | F5: =중기경비!F16 -> 11435 | G5: =E5*F5 -> 11435 | H5: =중기경비!H16 -> 59025 | I5: =E5*H5 -> 59025 | J5: =중기경비!J16 -> 2445 | K5: =E5*J5 -> 2445 | L5: =F5+H5+J5 -> 72905 | M5: =G5+I5+K5 -> 72905 | N5: 공통8-4-6,8-3-6(5205)
A6: 중기 2호 | B6: 소형브레이커(공압식) | C6: 1.3㎥/min | D6: HR | E6: 1 | F6: =중기경비!F22 -> 0 | G6: =E6*F6 -> 0 | H6: =중기경비!H22 -> 0 | I6: =E6*H6 -> 0 | J6: =중기경비!J22 -> 494 | K6: =E6*J6 -> 494 | L6: =F6+H6+J6 -> 494 | M6: =G6+I6+K6 -> 494 | N6: 공통8-3-6(5210)
A7: 중기 3호 | B7: 커터(콘크리트 및 아스팔트용) | C7: 320∼400mm | D7: HR | E7: 1 | F7: =중기경비!F35 -> 10832 | G7: =E7*F7 -> 10832 | H7: =중기경비!H35 -> 36604 | I7: =E7*H7 -> 36604 | J7: =중기경비!J35 -> 2064 | K7: =E7*J7 -> 2064 | L7: =F7+H7+J7 -> 49500 | M7: =G7+I7+K7 -> 49500 | N7: 공통8-4-5,8-3-5(4430)

Sheet 중기경비
A1: 중 기 경 비 내 역 서
A2: 공사명 : 실로암노인전문요양원 리모델링 공사
A3: 품 명 | B3: 규 격 | C3: 단위 | D3: 수 량 | E3: 재 료 비 | G3: 노 무 비 | I3: 경 비 | K3: 합 계 | M3: 비 고
E4: 단 가 | F4: 금 액 | G4: 단 가 | H4: 금 액 | I4: 단 가 | J4: 금 액 | K4: 단 가 | L4: 금 액 | N4: 손료요율 | O4: 손료구분 | P4: 적용구분 | Q4: 합계구분 | R4: 품목구분 | S4: 조달코드 | T4: 구분
A5: [중기 1호] - [공기압축기(이동식) 3.5㎥/min HR] | M5: 공통8-4-6,8-3-6(5205)
A6: [경 비] | F6: =ROUNDDOWN(D6*E6, 1) -> 0 | H6: =ROUNDDOWN(D6*G6, 1) -> 0 | J6: =ROUNDDOWN(D6*I6, 1) -> 0 | K6: =E6+G6+I6 -> 0 | L6: =F6+H6+J6 -> 0
A7: 공기압축기(이동식) | B7: 3.5 ㎥/min | C7: 대 | D7: 0.0001719 | E7: 0 | F7: =ROUNDDOWN(D7*E7, 1) -> 0 | G7: 0 | H7: =ROUNDDOWN(D7*G7, 1) -> 0 | I7: =ROUNDDOWN(단가대비표!O56, 0) -> 14224000 | J7: =ROUNDDOWN(D7*I7, 1) -> 2445.1 | K7: =E7+G7+I7 -> 14224000 | L7: =F7+H7+J7 -> 2445.1 | M7: 공통8-5-6(5205) | O7: 03 | P7: 기계경비 | Q7: 1
A8: 소 계 | F8: =SUMIF(Q6:Q7, "1", F6:F7) -> 0 | H8: =SUMIF(Q6:Q7, "1", H6:H7) -> 0 | J8: =SUMIF(Q6:Q7, "1", J6:J7) -> 2445.1 | K8: =E8+G8+I8 -> 0 | L8: =F8+H8+J8 -> 2445.1
A9: [재료비] | F9: =ROUNDDOWN(D9*E9, 1) -> 0 | H9: =ROUNDDOWN(D9*G9, 1) -> 0 | J9: =ROUNDDOWN(D9*I9, 1) -> 0 | K9: =E9+G9+I9 -> 0 | L9: =F9+H9+J9 -> 0
A10: 경유 | B10: 경유, 저유황 | C10: L | D10: 6.2 | E10: =ROUNDDOWN(단가대비표!O5, 0) -> 1590 | F10: =ROUNDDOWN(D10*E10, 1) -> 9858 | G10: 0 | H10: =ROUNDDOWN(D10*G10, 1) -> 0 | I10: 0 | J10: =ROUNDDOWN(D10*I10, 1) -> 0 | K10: =E10+G10+I10 -> 1590 | L10: =F10+H10+J10 -> 9858 | O10: 01 | P10: 기계경비 | Q10: 1
A11: 잡품 | B11: ="주연료비의 " & N11*100 & "%" -> 주연료비의 16% | C11: 식 | D11: 1 | E11: =SUMIF(O6:O15, "01", F6:F15) -> 9858 | F11: =ROUNDDOWN((E11)*N11, 1) -> 1577.2 | G11: 0 | H11: 0 | I11: 0 | J11: 0 | K11: =E11+G11+I11 -> 9858 | L11: =F11+H11+J11 -> 1577.2 | M11: 재료비->재료비 | N11: 0.16 | P11: 기계경비 | Q11: 1 | R11: 20 | S11: A0100000000 | T11: 재료비
A12: 소 계 | F12: =SUMIF(Q9:Q11, "1", F9:F11) -> 11435.2 | H12: =SUMIF(Q9:Q11, "1", H9:H11) -> 0 | J12: =SUMIF(Q9:Q11, "1", J9:J11) -> 0 | K12: =E12+G12+I12 -> 0 | L12: =F12+H12+J12 -> 11435.2
A13: [노무비] | F13: =ROUNDDOWN(D13*E13, 1) -> 0 | H13: =ROUNDDOWN(D13*G13, 1) -> 0 | J13: =ROUNDDOWN(D13*I13, 1) -> 0 | K13: =E13+G13+I13 -> 0 | L13: =F13+H13+J13 -> 0
A14: 건설기계운전사 | B14: 일반공사 직종 | C14: 인 | D14: 0.2083333 | E14: 0 | F14: =ROUNDDOWN(D14*E14, 1) -> 0 | G14: =ROUNDDOWN(단가대비표!O37, 0) -> 283323 | H14: =ROUNDDOWN(D14*G14, 1) -> 59025.6 | I14: 0 | J14: =ROUNDDOWN(D14*I14, 1) -> 0 | K14: =E14+G14+I14 -> 283323 | L14: =F14+H14+J14 -> 59025.6 | M14: 건설기계운전기사 | O14: 02 | P14: 기계경비 | Q14: 1
A15: 소 계 | F15: =SUMIF(Q13:Q14, "1", F13:F14) -> 0 | H15: =SUMIF(Q13:Q14, "1", H13:H14) -> 59025.6 | J15: =SUMIF(Q13:Q14, "1", J13:J14) -> 0 | K15: =E15+G15+I15 -> 0 | L15: =F15+H15+J15 -> 59025.6
A16: 합 계 | F16: =ROUNDDOWN(SUMIF(Q6:Q15, "1", F6:F15), 0) -> 11435 | H16: =ROUNDDOWN(SUMIF(Q6:Q15, "1", H6:H15), 0) -> 59025 | J16: =ROUNDDOWN(SUMIF(Q6:Q15, "1", J6:J15), 0) -> 2445 | L16: =F16+H16+J16 -> 72905
A18: [중기 2호] - [소형브레이커(공압식) 1.3㎥/min HR] | M18: 공통8-3-6(5210)
A19: [경 비] | F19: =ROUNDDOWN(D19*E19, 1) -> 0 | H19: =ROUNDDOWN(D19*G19, 1) -> 0 | J19: =ROUNDDOWN(D19*I19, 1) -> 0 | K19: =E19+G19+I19 -> 0 | L19: =F19+H19+J19 -> 0
A20: 소형브레이커(공압식) | B20: 1.3㎥/min | C20: 대 | D20: 0.00025 | E20: 0 | F20: =ROUNDDOWN(D20*E20, 1) -> 0 | G20: 0 | H20: =ROUNDDOWN(D20*G20, 1) -> 0 | I20: =ROUNDDOWN(단가대비표!O57, 0) -> 1976000 | J20: =ROUNDDOWN(D20*I20, 1) -> 494 | K20: =E20+G20+I20 -> 1976000 | L20: =F20+H20+J20 -> 494 | M20: 공통8-5-6(5210) | O20: 03 | P20: 기계경비 | Q20: 1
A21: 소 계 | F21: =SUMIF(Q19:Q20, "1", F19:F20) -> 0 | H21: =SUMIF(Q19:Q20, "1", H19:H20) -> 0 | J21: =SUMIF(Q19:Q20, "1", J19:J20) -> 494 | K21: =E21+G21+I21 -> 0 | L21: =F21+H21+J21 -> 494
A22: 합 계 | F22: =ROUNDDOWN(SUMIF(Q19:Q21, "1", F19:F21), 0) -> 0 | H22: =ROUNDDOWN(SUMIF(Q19:Q21, "1", H19:H21), 0) -> 0 | J22: =ROUNDDOWN(SUMIF(Q19:Q21, "1", J19:J21), 0) -> 494 | L22: =F22+H22+J22 -> 494
A24: [중기 3호] - [커터(콘크리트 및 아스팔트용) 320∼400mm HR] | M24: 공통8-4-5,8-3-5(4430)
A25: [경 비] | F25: =ROUNDDOWN(D25*E25, 1) -> 0 | H25: =ROUNDDOWN(D25*G25, 1) -> 0 | J25: =ROUNDDOWN(D25*I25, 1) -> 0 | K25: =E25+G25+I25 -> 0 | L25: =F25+H25+J25 -> 0
A26: 커터(콘크리트및아스팔트용) | B26: 320-400 mm | C26: 대 | D26: 0.0006354 | E26: 0 | F26: =ROUNDDOWN(D26*E26, 1) -> 0 | G26: 0 | H26: =ROUNDDOWN(D26*G26, 1) -> 0 | I26: =ROUNDDOWN(단가대비표!O58, 0) -> 3249000 | J26: =ROUNDDOWN(D26*I26, 1) -> 2064.4 | K26: =E26+G26+I26 -> 3249000 | L26: =F26+H26+J26 -> 2064.4 | M26: 공통8-5-5(4430) | O26: 03 | P26: 기계경비 | Q26: 1
A27: 소 계 | F27: =SUMIF(Q25:Q26, "1", F25:F26) -> 0 | H27: =SUMIF(Q25:Q26, "1", H25:H26) -> 0 | J27: =SUMIF(Q25:Q26, "1", J25:J26) -> 2064.4 | K27: =E27+G27+I27 -> 0 | L27: =F27+H27+J27 -> 2064.4
A28: [재료비] | F28: =ROUNDDOWN(D28*E28, 1) -> 0 | H28: =ROUNDDOWN(D28*G28, 1) -> 0 | J28: =ROUNDDOWN(D28*I28, 1) -> 0 | K28: =E28+G28+I28 -> 0 | L28: =F28+H28+J28 -> 0
A29: 공업용휘발유 | B29: 공업용휘발유, 무연 | C29: L | D29: 5.6 | E29: =ROUNDDOWN(단가대비표!O7, 0) -> 1612 | F29: =ROUNDDOWN(D29*E29, 1) -> 9027.2 | G29: 0 | H29: =ROUNDDOWN(D29*G29, 1) -> 0 | I29: 0 | J29: =ROUNDDOWN(D29*I29, 1) -> 0 | K29: =E29+G29+I29 -> 1612 | L29: =F29+H29+J29 -> 9027.2 | O29: 01 | P29: 기계경비 | Q29: 1
A30: 잡품 | B30: ="주연료비의 " & N30*100 & "%" -> 주연료비의 20% | C30: 식 | D30: 1 | E30: =SUMIF(O25:O34, "01", F25:F34) -> 9027.2 | F30: =ROUNDDOWN((E30)*N30, 1) -> 1805.4 | G30: 0 | H30: 0 | I30: 0 | J30: 0 | K30: =E30+G30+I30 -> 9027.2 | L30: =F30+H30+J30 -> 1805.4 | M30: 재료비->재료비 | N30: 0.2 | P30: 기계경비 | Q30: 1 | R30: 20 | S30: A0100000000 | T30: 재료비
A31: 소 계 | F31: =SUMIF(Q28:Q30, "1", F28:F30) -> 10832.6 | H31: =SUMIF(Q28:Q30, "1", H28:H30) -> 0 | J31: =SUMIF(Q28:Q30, "1", J28:J30) -> 0 | K31: =E31+G31+I31 -> 0 | L31: =F31+H31+J31 -> 10832.6
A32: [노무비] | F32: =ROUNDDOWN(D32*E32, 1) -> 0 | H32: =ROUNDDOWN(D32*G32, 1) -> 0 | J32: =ROUNDDOWN(D32*I32, 1) -> 0 | K32: =E32+G32+I32 -> 0 | L32: =F32+H32+J32 -> 0
A33: 일반기계운전사 | B33: 일반공사 직종 | C33: 인 | D33: 0.2083333 | E33: 0 | F33: =ROUNDDOWN(D33*E33, 1) -> 0 | G33: =ROUNDDOWN(단가대비표!O47, 0) -> 175703 | H33: =ROUNDDOWN(D33*G33, 1) -> 36604.7 | I33: 0 | J33: =ROUNDDOWN(D33*I33, 1) -> 0 | K33: =E33+G33+I33 -> 175703 | L33: =F33+H33+J33 -> 36604.7 | M33: 운전사(기계) | O33: 02 | P33: 기계경비 | Q33: 1
A34: 소 계 | F34: =SUMIF(Q32:Q33, "1", F32:F33) -> 0 | H34: =SUMIF(Q32:Q33, "1", H32:H33) -> 36604.7 | J34: =SUMIF(Q32:Q33, "1", J32:J33) -> 0 | K34: =E34+G34+I34 -> 0 | L34: =F34+H34+J34 -> 36604.7
A35: 합 계 | F35: =ROUNDDOWN(SUMIF(Q25:Q34, "1", F25:F34), 0) -> 10832 | H35: =ROUNDDOWN(SUMIF(Q25:Q34, "1", H25:H34), 0) -> 36604 | J35: =ROUNDDOWN(SUMIF(Q25:Q34, "1", J25:J34), 0) -> 2064 | L35: =F35+H35+J35 -> 49500

Sheet 단가대비표
A1: 단 가 대 비 표
A2: 공사명 : 실로암노인전문요양원 리모델링 공사
A3: 품 명 | B3: 규 격 | C3: 단위 | D3: 물가자료 | F3: 물가정보 | H3: 가격정보 | I3: 거래가격 | K3: 유통물가 | M3: 조사단가 | N3: 하반기 | O3: 적용단가 | P3: 비 고
D4: 단가 | E4: Page | F4: 단가 | G4: Page | H4: 단가 | I4: 단가 | J4: Page | K4: 단가 | L4: Page | M4: 단가 | N4: 단가 | Q4: 구분
A5: 경유 | B5: 경유, 저유황 | C5: L | D5: 1654 | E5: 하권32 | H5: 1590 | I5: 1697 | J5: 1451 | K5: 1676 | L5: 1189 | O5: =MIN(D5,F5,H5,I5,K5,M5,N5) -> 1590
A6: 계단식발판 | B6: 계단식발판, 볼록철판, 0.4×1829mm | C6: 매 | D6: 18500 | E6: 106(2502) | I6: 18500 | J6: 172 | O6: =MIN(D6,F6,H6,I6,K6,M6,N6) -> 18500 | P6: S.B.C냉연,중량13kg
A7: 공업용휘발유 | B7: 공업용휘발유, 무연 | C7: L | D7: 1700 | E7: 하권32 | F7: 1754 | G7: 1446 | H7: 1612 | I7: 1702 | J7: 1451 | K7: 1690 | L7: 1189 | O7: =MIN(D7,F7,H7,I7,K7,M7,N7) -> 1612
A8: 내수합판(1급) | B8: 12T 1.21*2.42 | C8: M2 | D8: 12059 | E8: 670 | F8: 14075 | G8: 587 | O8: =MIN(D8,F8,H8,I8,K8,M8,N8) -> 12059
A9: 물 | B9: 용수 | C9: L | D9: 1 | E9: 하권328 | F9: 1 | G9: 부록508 | O9: =MIN(D9,F9,H9,I9,K9,M9,N9) -> 1 | P9: 일반용
A10: 방청페인트 | B10: 방청페인트, KSM6030-1종2류, 광명단페인트 | C10: L | D10: 10477 | E10: 588 | F10: 8400 | G10: 500 | H10: 9473 | O10: =MIN(D10,F10,H10,I10,K10,M10,N10) -> 8400
A11: 블레이드 | B11: 도로용, 14"×3.2mm | C11: EA | F11: 169800 | G11: 1080 | I11: 210000 | J11: 1338 | K11: 169800 | L11: 1166 | O11: =MIN(D11,F11,H11,I11,K11,M11,N11) -> 169800
A12: 비계안정장치 | B12: 비계안정장치, 가새, L=1518-2개 | C12: 조 | F12: 20400 | G12: 88 | K12: 18180 | L12: 82 | O12: =MIN(D12,F12,H12,I12,K12,M12,N12) -> 18180
A13: 비계안정장치 | B13: 비계안정장치, 바퀴 | C13: 개 | I13: 9500 | J13: 167 | O13: =MIN(D13,F13,H13,I13,K13,M13,N13) -> 9500 | P13: 5인치
A14: 비계안정장치 | B14: 비계안정장치, 비계기본틀, 기둥, 1.2×1.7m | C14: 개 | D14: 32000 | E14: 106 | F14: 41700 | G14: 88 | H14: 27402 | I14: 30000 | J14: 167 | K14: 30300 | L14: 82 | O14: =MIN(D14,F14,H14,I14,K14,M14,N14) -> 27402 | P14: 수직
A15: 비계안정장치 | B15: 비계안정장치, 손잡이, 1229mm | C15: 개 | H15: 1440 | O15: =MIN(D15,F15,H15,I15,K15,M15,N15) -> 1440
A16: 비계안정장치 | B16: 비계안정장치, 손잡이, 1829mm | C16: 개 | H16: 2100 | O16: =MIN(D16,F16,H16,I16,K16,M16,N16) -> 2100
A17: 비계안정장치 | B17: 비계안정장치, 손잡이기둥 | C17: 개 | H17: 5700 | O17: =MIN(D17,F17,H17,I17,K17,M17,N17) -> 5700
A18: 비계안정장치 | B18: 비계안정장치, 수평띠장, 1829mm | C18: 개 | D18: 28000 | E18: 106 | F18: 40200 | G18: 88 | I18: 25000 | J18: 167 | K18: 26760 | L18: 82 | O18: =MIN(D18,F18,H18,I18,K18,M18,N18) -> 25000 | P18: 수평틀
A19: 비계안정장치 | B19: 비계안정장치, 이음철물, 연결핀 | C19: 개 | D19: 1700 | E19: 106 | H19: 1330 | I19: 1400 | J19: 167 | K19: 1610 | L19: 82 | O19: =MIN(D19,F19,H19,I19,K19,M19,N19) -> 1330
A20: 비계안정장치 | B20: 비계안정장치, 쟈키 | C20: 개 | D20: 12000 | E20: 106 | F20: 14300 | G20: 88 | I20: 11000 | J20: 167 | K20: 11610 | L20: 82 | O20: =MIN(D20,F20,H20,I20,K20,M20,N20) -> 11000 | P20: 36×600
A21: 비닐벽지 | B21: 비닐벽지, 실크형, A급 | C21: ㎡ | D21: 2600 | E21: 704 | K21: 2400 | L21: 503 | O21: =MIN(D21,F21,H21,I21,K21,M21,N21) -> 2400 | P21: 테라피
A22: 석고보드 | B22: 석고보드, 평보드, 9.5×900×1800mm(㎡) | C22: ㎡ | D22: 2962 | E22: 668 | F22: 3086 | G22: 588 | I22: 2962 | J22: 671 | K22: 3177 | L22: 408 | O22: =MIN(D22,F22,H22,I22,K22,M22,N22) -> 2962
A23: 수성페인트 | B23: 수성페인트, KSM6010-1종2급, 백색 | C23: L | H23: 3301 | I23: 4666.66 | J23: 614 | K23: 3722.22 | L23: 468 | O23: =MIN(D23,F23,H23,I23,K23,M23,N23) -> 3301
A24: 시너 | B24: 시너, KSM6060-2종, 조합페인트용 | C24: L | D24: 3446 | E24: 588 | F24: 2708 | G24: 500 | H24: 3198 | I24: 3583 | J24: 614 | K24: 3583 | L24: 466 | O24: =MIN(D24,F24,H24,I24,K24,M24,N24) -> 2708
A25: 아스팔트 | B25: 아스팔트, 아스팔트프라이머 | C25: ℓ | D25: 3500 | E25: 464 | F25: 5222 | G25: 484 | H25: 3500 | I25: 5222 | J25: 581 | K25: 5222 | L25: 381 | O25: =MIN(D25,F25,H25,I25,K25,M25,N25) -> 3500
A26: 아스팔트싱글 | B26: 아스팔트싱글, 이중그림자, 1000×336×3mm | C26: 매 | I26: 3192 | J26: 573(2206) | K26: 3192 | L26: 422(2207) | O26: =MIN(D26,F26,H26,I26,K26,M26,N26) -> 3192 | P26: 5T
A27: 액화석유가스 | B27: 액화석유가스, 건설용LPG | C27: kg | H27: 2373 | O27: =MIN(D27,F27,H27,I27,K27,M27,N27) -> 2373
A28: 외벽단열마감재 | B28: 표준마감-피니쉬시스템 | C28: M2 | D28: 49630 | E28: 545(2606) | O28: =MIN(D28,F28,H28,I28,K28,M28,N28) -> 49630 | P28: 준불연
A29: 인테리어표면마감재 | B29: 0.42*1220mm FW (목무늬방염) | C29: M2 | D29: 30000 | E29: 697 | O29: =MIN(D29,F29,H29,I29,K29,M29,N29) -> 30000
A30: 일반구조용각형강관 | B30: 일반구조용각형강관, 각형강관, 75×75×3.2t | C30: m | D30: 9440 | E30: 25 | F30: 10387 | G30: 22 | H30: 9930 | I30: 9360 | J30: 69 | K30: 10290 | L30: 34 | O30: =MIN(D30,F30,H30,I30,K30,M30,N30) -> 9360 | P30: 흑관, SRT 275
A31: 일반철물 | B31: 보강철물, #10, 아연도 | C31: KG | H31: 1067 | O31: =MIN(D31,F31,H31,I31,K31,M31,N31) -> 1067
A32: 종이벽지 | B32: 종이벽지, 초배지 | C32: ㎡ | D32: 255 | E32: 704 | H32: 242 | I32: 296 | J32: 692 | O32: =MIN(D32,F32,H32,I32,K32,M32,N32) -> 242
A33: 초산비닐계접착제 | B33: 초산비닐계접착제, 벽지용 | C33: kg | F33: 2231 | G33: 60 | H33: 1365 | K33: 2231 | L33: 64 | O33: =MIN(D33,F33,H33,I33,K33,M33,N33) -> 1365 | P33: 도배지 접착용
A34: 퍼티 | B34: 퍼티, 319퍼티, 백색 | C34: kg | F34: 3030 | G34: 504 | O34: =MIN(D34,F34,H34,I34,K34,M34,N34) -> 3030 | P34: 1L=1.6kg
A35: 합성고분자방수시트 | B35: 합성고분자방수시트, ECB시트, 1.0mm | C35: ㎡ | F35: 7500 | G35: 455 | K35: 7500 | L35: 375 | O35: =MIN(D35,F35,H35,I35,K35,M35,N35) -> 7500
A36: M.D.F | B36: 9.0T 1210*2420 | C36: M2 | D36: 4770 | E36: 678 | O36: =MIN(D36,F36,H36,I36,K36,M36,N36) -> 4770
A37: 건설기계운전사 | B37: 일반공사 직종 | C37: 인 | N37: 283323 | O37: =N37 -> 283323 | P37: 건설기계운전기사
A38: 건축목공 | B38: 일반공사 직종 | C38: 인 | N38: 282990 | O38: =N38 -> 282990
A39: 내장공 | B39: 일반공사 직종 | C39: 인 | N39: 258904 | O39: =N39 -> 258904
A40: 덕트공 | B40: 일반공사 직종 | C40: 인 | N40: 208140 | O40: =N40 -> 208140 | P40: 2010년직종통합(함석공)
A41: 도배공 | B41: 일반공사 직종 | C41: 인 | N41: 229833 | O41: =N41 -> 229833
A42: 도장공 | B42: 일반공사 직종 | C42: 인 | N42: 268225 | O42: =N42 -> 268225
A43: 방수공 | B43: 일반공사 직종 | C43: 인 | N43: 233163 | O43: =N43 -> 233163
A44: 보통인부 | B44: 일반공사 직종 | C44: 인 | N44: 172698 | O44: =N44 -> 172698
A45: 비계공 | B45: 일반공사 직종 | C45: 인 | N45: 284440 | O45: =N45 -> 284440
A46: 용접공 | B46: 일반공사 직종 | C46: 인 | N46: 286330 | O46: =N46 -> 286330 | P46: 용접공(일반)
A47: 일반기계운전사 | B47: 일반공사 직종 | C47: 인 | N47: 175703 | O47: =N47 -> 175703 | P47: 운전사(기계)
A48: 지붕잇기공 | B48: 일반공사 직종 | C48: 인 | N48: 235540 | O48: =N48 -> 235540
A49: 착암공 | B49: 일반공사 직종 | C49: 인 | N49: 223246 | O49: =N49 -> 223246
A50: 철공 | B50: 일반공사 직종 | C50: 인 | N50: 243870 | O50: =N50 -> 243870
A51: 특별인부 | B51: 일반공사 직종 | C51: 인 | N51: 228717 | O51: =N51 -> 228717
A52: 건설폐기물수집운반비(상차비) | B52: 24톤 덤프트럭, 건설폐재류 | C52: TON | D52: 3890 | E52: 하권150 | I52: 3890 | J52: 1586 | K52: 3890 | L52: 1433 | O52: =MIN(D52,F52,H52,I52,K52,M52,N52) -> 3890 | P52: 한국건설폐기물수집운반
A53: 건설폐기물수집운반비(상차비) | B53: 24톤 암롤트럭, 혼합건설폐재류 | C53: TON | D53: 6420 | E53: 하권150 | I53: 6420 | J53: 1586 | K53: 6420 | L53: 1433 | O53: =MIN(D53,F53,H53,I53,K53,M53,N53) -> 6420 | P53: 한국건설폐기물수집운반
A54: 건설폐기물수집운반비(운반비) | B54: 24톤 덤프트럭, 건설폐재류, 30km | C54: TON | D54: 16450 | E54: 하권150 | I54: 16450 | J54: 1586 | K54: 16450 | L54: 1433 | O54: =MIN(D54,F54,H54,I54,K54,M54,N54) -> 16450 | P54: 한국건설폐기물수집운반
A55: 건설폐기물수집운반비(운반비) | B55: 24톤 암롤트럭, 혼합건설폐기물, 30km | C55: TON | D55: 61880 | E55: 하권150 | I55: 61880 | J55: 1586 | K55: 61880 | L55: 1433 | O55: =MIN(D55,F55,H55,I55,K55,M55,N55) -> 61880 | P55: 한국건설폐기물수집운반
A56: 공기압축기(이동식) | B56: 3.5 ㎥/min | C56: 대 | M56: 14224000 | O56: =MIN(D56,F56,H56,I56,K56,M56,N56) -> 14224000 | P56: 공통8-5-6(5205)
A57: 소형브레이커(공압식) | B57: 1.3㎥/min | C57: 대 | M57: 1976000 | O57: =MIN(D57,F57,H57,I57,K57,M57,N57) -> 1976000 | P57: 공통8-5-6(5210)
A58: 커터(콘크리트및아스팔트용) | B58: 320-400 mm | C58: 대 | M58: 3249000 | O58: =MIN(D58,F58,H58,I58,K58,M58,N58) -> 3249000 | P58: 공통8-5-5(4430)
A59: 폐자재처리수수료 | B59: 건설폐재류(재건축,폐콘크리트,폐벽돌,폐기와) | C59: 톤 | D59: 49571 | E59: 하권151 | F59: 49571 | G59: 부록412 | O59: =MIN(D59,F59,H59,I59,K59,M59,N59) -> 49571 | P59: 부가세별도
A60: 폐합성고무 | B60: 폐타이어,탄성포장재,방수시트,폐고무제품류 등 | C60: TON | F60: 300000 | G60: 부록413 | O60: =MIN(D60,F60,H60,I60,K60,M60,N60) -> 300000
A61: 혼합건설폐기물 | B61: 그 밖의 건설폐기물에 가연성 5% 이하 혼합 | C61: TON | D61: 192887 | E61: 하권151 | F61: 192887 | G61: 부록412 | I61: 192887 | J61: 1585 | K61: 192887 | L61: 1433 | O61: =MIN(D61,F61,H61,I61,K61,M61,N61) -> 192887 | P61: 건설폐기물처리단가

Sheet Sheet1
