Workbook
Name __IU69997: #REF!
Name __IU79997: #REF!
Name __IV65999: #REF!
Name __IV67999: #REF!
Name __IV68999: #REF!
Name __IV69999: #REF!
Name __IV88888: #REF!
Name __IV99999: #REF!
Name __IV999999: #REF!
Name _1._PANEL_BD.__LP___1: #REF!
Name _15A: [1]금액내역서!$D$3:$D$10
Name _IU69997: #REF!
Name _IU79997: #REF!
Name _IV65999: #REF!
Name _IV67999: #REF!
Name _IV68999: #REF!
Name _IV69999: #REF!
Name _IV88888: #REF!
Name _IV99999: #REF!
Name _IV999999: #REF!
Name \\O: '[2]1단계'!#REF!
Name \a: [3]약품공급2!#REF!
Name \b: [3]약품공급2!#REF!
Name \c: '[2]1단계'!#REF!
Name \d: '[2]1단계'!#REF!
Name \e: [4]약품설비!#REF!
Name \f: '[2]1단계'!#REF!
Name \g: #REF!
Name \h: '[2]1단계'!#REF!
Name \i: '[2]1단계'!#REF!
Name \j: [4]약품설비!#REF!
Name \k: [3]약품공급2!#REF!
Name \l: [3]약품공급2!#REF!
Name \m: '[2]1단계'!#REF!
Name \n: [4]약품설비!#REF!
Name \o: '[2]1단계'!#REF!
Name \p: '[2]1단계'!#REF!
Name \q: '[2]1단계'!#REF!
Name \r: '[2]1단계'!#REF!
Name \s: '[2]1단계'!#REF!
Name \u: [4]약품설비!#REF!
Name \v: '[2]1단계'!#REF!
Name \w: '[2]1단계'!#REF!
Name \x: '[2]1단계'!#REF!
Name \y: [4]약품설비!#REF!
Name \z: [3]약품공급2!#REF!
Name A: [5]DATE!$E$24:$E$85
Name asdfasdf: #N/A
Name D: [5]DATE!$C$24:$C$85
Name GM: #REF!
Name H.1: #REF!
Name H.2: #REF!
Name H.3: #REF!
Name ISO_정렬: [6]!ISO_정렬
Name K: #REF!
Name L: #REF!
Name LLLL: #REF!
Name M당무게: [5]DATE!$E$24:$E$85
Name p: #REF!
Name PRINT_AREA_MI: #REF!

Sheet 갑지
B2: 2026년 10월 | D2: 과 장 | F2: 팀 장 | H2: 심 사 | J2: 설 계
B6: 2026년 파주 도로시설물 상시보수공사(단가계약)
C8: ○ 위 치 : 파주시 도로시설물 일원
C9: ○ 공사개요 : 콘크리트 보수, 신축이음 교체 등
C12: ○ 소요사업비
C13: 총 공 사 비 | E13: ='원가계산서(총괄)'!E34 -> 0 | G13: ="일금 " &NUMBERSTRING(E13,1)&"원정" -> 일금 영원정
C14: - 도급예정액 : | E14: ='원가계산서(총괄)'!E33 -> 0 | G14: ="일금 " &NUMBERSTRING(E14,1)&"원정" -> 일금 영원정
C15: - 관급자재대 : | E15: =[31]원가계산서!E31 -> 0 | G15: ="일금 " &NUMBERSTRING(E15,1)&"원정" -> 일금 영원정
D18: 경기도건설본부 북부도로과

Sheet 원가계산서(총괄)
B1: 공사원가계산서
B3: =갑지!B6 -> 2026년 파주 도로시설물 상시보수공사(단가계약)
B4: 비 목 | E4: 금 액 | F4: 요율 | G4: 산 출 근 거
B5: 순 공 사 원 가 | C5: 재 료 비 | D5: 간 접 재 료 비
D6: 작업설.부산물등(△)
D7: 소 계 | G7: (간.재)
C8: 노 무 비 | D8: 직 접 노 무 비
D9: 간 접 노 무 비 | F9: 19.5% | G9: 직.노 × 19.5%
D10: 소 계 | G10: ( 직.노 + 간.노 )
C11: 경 비 | D11: 산 출 경 비
D12: 산 재 보 험 료 | F12: 3.56% | G12: 노무비 × 3.56%
D13: 고 용 보 험 료 | F13: 1.01% | G13: 노무비 × 1.01%
D14: 건 강 보 험 료 | E14: 1870609 | F14: 3.595% | G14: 직.노 × 3.595%
D15: 연 금 보 험 료 | E15: 2471598 | F15: 4.75% | G15: 직.노 × 4.75%
D16: 노인장기요양 보 험 료 | E16: 245798 | F16: 13.14% | G16: 건강보험료 ×13.14%
D17: 퇴 직 공 제 부 금 비 | F17: 2.3% | G17: 직.노 × 2.3%
D18: 건설기계대여대금 지급보증액 발급액 | F18: 0.4% | G18: (재료비 + 직.노 + 산출경비) × 0.4% | H18: 시설물유지관리공사
D19: 산 업 안 전 보건관리비 | E19: 3438782 | F19: 3.15% | G19: a (재료비 + 직.노 + 도급자관급) × 3.15% b (재료비 + 직.노) × 3.15% × 1.2 | I19: =TRUNC((E7+E8)*0.0315,0) -> 0
D20: 환 경 보 전 비 | F20: 0.9% | G20: (재료비 + 직.노 + 산출경비) ×0.9% | I20: =TRUNC((E7+E8)*0.0315*1.2,0) -> 0
D21: 공 사 이 행 보증수수료
D22: 하도급대금지급보증수수료 | F22: 0.081% | G22: (재료비 + 직.노 + 산출경비) ×0.081%
D23: 석면분담금 | F23: 0.006% | G23: 노무비 x 0.006%
D24: 임금채권부담금 | F24: 0.09% | G24: 노무비 x 0.09%
D25: 기 타 경 비 | F25: 5.7% | G25: (재료비 + 노무비) × 5.7%
D26: 소 계 | G26: (산출경비~기타경비)
D27: 순 공 사 원 가 | G27: (재료비 + 노무비 + 제경비)
D28: 일 반 관 리 비 | F28: 8% | G28: 순.공 × 8%
D29: 이 윤 | F29: 15% | G29: (노무비 + 제경비 + 일반관리비) ×15%
D30: 폐 기 물 처 리 비
D31: 공 급 가 액 | G31: (순.공 + 일반관리비 + 이윤 + 폐기물처리비)
D32: 부 가 가 치 세 | F32: 10% | G32: 공급가액 × 10%
D33: 도 급 예 정 액 | G33: (공급가액 + 부가가치세)
D34: 총 공 사 비 | G34: (도급액)

Sheet 내역서(총괄)
A1: 내역서
A2: 공 종 명 | B2: 규 격 | C2: 수량 | D2: 단위 | E2: 합 계 | G2: 재 료 비 | I2: 노 무 비 | K2: 경 비 | M2: 비 고
E3: 단 가 | F3: 금 액 | G3: 단 가 | H3: 금 액 | I3: 단 가 | J3: 금 액 | K3: 단 가 | L3: 금 액 | S3: 할 증 | T3: 화폐변환 | U3: OP값 | V3: EQ | W3: LA | X3: MA | Y3: 금액계상
A4: 1. 보수공사 | E4: =G4+I4+K4 -> 0 | F4: =H4+J4+L4 -> 0 | H4: =TRUNC(SUM(H5:H227),0) -> 0 | J4: =TRUNC(SUM(J5:J227),0) -> 0 | L4: =TRUNC(SUM(L5:L227),0) -> 0 | P4: 10 | Z4: =H42+H43+H44+H45+H46+H47+H48+H49+H50+H51+H52+H53+H54+H55+H56+H57+H58+H59+H60+H61+H62+H63+H64+H65+H66+H67+H68+H69+H70+H71+H72+H73+H74+H75+H76+H77 -> 0 | AA4: =J42+J43+J44+J45+J46+J47+J48+J49+J50+J51+J52+J53+J54+J55+J56+J57+J58+J59+J60+J61+J62+J63+J64+J65+J66+J67+J68+J69+J70+J71+J72+J73+J74+J75+J76+J77 -> 0 | AB4: =L42+L43+L44+L45+L46+L47+L48+L49+L50+L51+L52+L53+L54+L55+L56+L57+L58+L59+L60+L61+L62+L63+L64+L65+L66+L67+L68+L69+L70+L71+L72+L73+L74+L75+L76+L77 -> 0 | AC4: =H5+H6+H7+H8+H9+H10+H11+H12+H13+H14+H15+H16+H17+H18+H19+H20+H21+H22+H23+H24+H25+H26+H27+H28+H29+H30+H31+H32+H33+H34+H35+H36+H37+H38+H39+H40+H41 -> 0 | AD4: =J5+J6+J7+J8+J9+J10+J11+J12+J13+J14+J15+J16+J17+J18+J19+J20+J21+J22+J23+J24+J25+J26+J27+J28+J29+J30+J31+J32+J33+J34+J35+J36+J37+J38+J39+J40+J41 -> 0 | AE4: =L5+L6+L7+L8+L9+L10+L11+L12+L13+L14+L15+L16+L17+L18+L19+L20+L21+L22+L23+L24+L25+L26+L27+L28+L29+L30+L31+L32+L33+L34+L35+L36+L37+L38+L39+L40+L41 -> 0
A5: 일반난간레일교체 및 설치 | B5: 1단 | C5: 1 | D5: m | E5: =G5+I5+K5 -> 0 | F5: =H5+J5+L5 -> 0 | G5: =일위대가목록!F168 -> 0 | H5: =TRUNC(G5*C5,0) -> 0 | I5: =일위대가목록!G168 -> 0 | J5: =TRUNC(I5*C5,0) -> 0 | K5: =일위대가목록!H168 -> 0 | L5: =TRUNC(K5*C5,0) -> 0 | P5: 20 | R5: SB0107 | T5: T | Z5: =H78+H79+H80+H81+H82+H83+H84+H85+H86+H87+H88+H89+H90+H91+H92+H93+H94+H95+H96+H97+H98+H99+H100+H101+H102+H103+H104+H105+H106+H107 -> 0 | AA5: =J78+J79+J80+J81+J82+J83+J84+J85+J86+J87+J88+J89+J90+J91+J92+J93+J94+J95+J96+J97+J98+J99+J100+J101+J102+J103+J104+J105+J106+J107 -> 0 | AB5: =L78+L79+L80+L81+L82+L83+L84+L85+L86+L87+L88+L89+L90+L91+L92+L93+L94+L95+L96+L97+L98+L99+L100+L101+L102+L103+L104+L105+L106+L107 -> 0 | AC5: =H42+H43+H44+H45+H46+H47+H48+H49+H50+H51+H52+H53+H54+H55+H56+H57+H58+H59+H60+H61+H62+H63+H64+H65+H66+H67+H68+H69+H70+H71+H72+H73+H74+H75+H76+H77 -> 0 | AD5: =J42+J43+J44+J45+J46+J47+J48+J49+J50+J51+J52+J53+J54+J55+J56+J57+J58+J59+J60+J61+J62+J63+J64+J65+J66+J67+J68+J69+J70+J71+J72+J73+J74+J75+J76+J77 -> 0 | AE5: =L42+L43+L44+L45+L46+L47+L48+L49+L50+L51+L52+L53+L54+L55+L56+L57+L58+L59+L60+L61+L62+L63+L64+L65+L66+L67+L68+L69+L70+L71+L72+L73+L74+L75+L76+L77 -> 0
A6: 일반난간레일교체 및 설치 | B6: 2단 | C6: 1 | D6: m | E6: =G6+I6+K6 -> 0 | F6: =H6+J6+L6 -> 0 | G6: =일위대가목록!F169 -> 0 | H6: =TRUNC(G6*C6,0) -> 0 | I6: =일위대가목록!G169 -> 0 | J6: =TRUNC(I6*C6,0) -> 0 | K6: =일위대가목록!H169 -> 0 | L6: =TRUNC(K6*C6,0) -> 0 | P6: 30 | R6: SB0108 | T6: T | Z6: =H108+H109+H110+H111+H112+H113+H114+H115+H117+H118+H119+H120+H121+H122+H123+H124+H125+H126+H127+H128+H129+H130+H131+H132+H133+H134+H135+H136+H137+H138 -> 0 | AA6: =J108+J109+J110+J111+J112+J113+J114+J115+J117+J118+J119+J120+J121+J122+J123+J124+J125+J126+J127+J128+J129+J130+J131+J132+J133+J134+J135+J136+J137+J138 -> 0 | AB6: =L108+L109+L110+L111+L112+L113+L114+L115+L117+L118+L119+L120+L121+L122+L123+L124+L125+L126+L127+L128+L129+L130+L131+L132+L133+L134+L135+L136+L137+L138 -> 0 | AC6: =H78+H79+H80+H81+H82+H83+H84+H85+H86+H87+H88+H89+H90+H91+H92+H93+H94+H95+H96+H97+H98+H99+H100+H101+H102+H103+H104+H105+H106+H107 -> 0 | AD6: =J78+J79+J80+J81+J82+J83+J84+J85+J86+J87+J88+J89+J90+J91+J92+J93+J94+J95+J96+J97+J98+J99+J100+J101+J102+J103+J104+J105+J106+J107 -> 0 | AE6: =L78+L79+L80+L81+L82+L83+L84+L85+L86+L87+L88+L89+L90+L91+L92+L93+L94+L95+L96+L97+L98+L99+L100+L101+L102+L103+L104+L105+L106+L107 -> 0
A7: 일반난간레일교체 및 설치 | B7: 3단 | C7: 1 | D7: m | E7: =G7+I7+K7 -> 0 | F7: =H7+J7+L7 -> 0 | G7: =일위대가목록!F170 -> 0 | H7: =TRUNC(G7*C7,0) -> 0 | I7: =일위대가목록!G170 -> 0 | J7: =TRUNC(I7*C7,0) -> 0 | K7: =일위대가목록!H170 -> 0 | L7: =TRUNC(K7*C7,0) -> 0 | P7: 40 | R7: SB0109 | T7: T | Z7: =H139+H140+H141+H142+H143+H144+H145+H146+H147+H148+H149+H150+H151+H152+H153+H154+H155+H156+H157+H158+H159+H160+H161+H162+H163+H164+H165+H166+H167+#REF! -> #REF! | AA7: =J139+J140+J141+J142+J143+J144+J145+J146+J147+J148+J149+J150+J151+J152+J153+J154+J155+J156+J157+J158+J159+J160+J161+J162+J163+J164+J165+J166+J167+#REF! -> #REF! | AB7: =L139+L140+L141+L142+L143+L144+L145+L146+L147+L148+L149+L150+L151+L152+L153+L154+L155+L156+L157+L158+L159+L160+L161+L162+L163+L164+L165+L166+L167+#REF! -> #REF! | AC7: =H108+H109+H110+H111+H112+H113+H114+H115+H117+H118+H119+H120+H121+H122+H123+H124+H125+H126+H127+H128+H129+H130+H131+H132+H133+H134+H135+H136+H137+H138 -> 0 | AD7: =J108+J109+J110+J111+J112+J113+J114+J115+J117+J118+J119+J120+J121+J122+J123+J124+J125+J126+J127+J128+J129+J130+J131+J132+J133+J134+J135+J136+J137+J138 -> 0 | AE7: =L108+L109+L110+L111+L112+L113+L114+L115+L117+L118+L119+L120+L121+L122+L123+L124+L125+L126+L127+L128+L129+L130+L131+L132+L133+L134+L135+L136+L137+L138 -> 0
A8: 난간레일 해체 | C8: 1 | D8: m | E8: =G8+I8+K8 -> 0 | F8: =H8+J8+L8 -> 0 | G8: =일위대가목록!F171 -> 0 | H8: =TRUNC(G8*C8,0) -> 0 | I8: =일위대가목록!G171 -> 0 | J8: =TRUNC(I8*C8,0) -> 0 | K8: =일위대가목록!H171 -> 0 | L8: =TRUNC(K8*C8,0) -> 0 | P8: 50 | R8: SB0122 | T8: T | Z8: =H168+H169+H170+H171+H172+H173+H174+H175+H176+H177+H178+H179+H180+H181+H182+H183+H184+H185+H186+H187+H188+H189+H190+H191+H192+H193+H194+H195+H196+H197 -> 0 | AA8: =J168+J169+J170+J171+J172+J173+J174+J175+J176+J177+J178+J179+J180+J181+J182+J183+J184+J185+J186+J187+J188+J189+J190+J191+J192+J193+J194+J195+J196+J197 -> 0 | AB8: =L168+L169+L170+L171+L172+L173+L174+L175+L176+L177+L178+L179+L180+L181+L182+L183+L184+L185+L186+L187+L188+L189+L190+L191+L192+L193+L194+L195+L196+L197 -> 0 | AC8: =H139+H140+H141+H142+H143+H144+H145+H146+H147+H148+H149+H150+H151+H152+H153+H154+H155+H156+H157+H158+H159+H160+H161+H162+H163+H164+H165+H166+H167+#REF! -> #REF! | AD8: =J139+J140+J141+J142+J143+J144+J145+J146+J147+J148+J149+J150+J151+J152+J153+J154+J155+J156+J157+J158+J159+J160+J161+J162+J163+J164+J165+J166+J167+#REF! -> #REF! | AE8: =L139+L140+L141+L142+L143+L144+L145+L146+L147+L148+L149+L150+L151+L152+L153+L154+L155+L156+L157+L158+L159+L160+L161+L162+L163+L164+L165+L166+L167+#REF! -> #REF!
A9: 일반레일설치(1단) | B9: 1단 | C9: 1 | D9: m | E9: =G9+I9+K9 -> 0 | F9: =H9+J9+L9 -> 0 | G9: =일위대가목록!F172 -> 0 | H9: =TRUNC(G9*C9,0) -> 0 | I9: =일위대가목록!G172 -> 0 | J9: =TRUNC(I9*C9,0) -> 0 | K9: =일위대가목록!H172 -> 0 | L9: =TRUNC(K9*C9,0) -> 0 | P9: 60 | R9: SB0123 | T9: T | Z9: =H198+H199+H200+H201+H202+H203+H204+H205+H206+H207+H208+H209+H210+H211+H212+H213+H214+H215+H216+H217+H218+H219+H220+H221+H222+H223+H224+H225+H226+H227 -> 0 | AA9: =J198+J199+J200+J201+J202+J203+J204+J205+J206+J207+J208+J209+J210+J211+J212+J213+J214+J215+J216+J217+J218+J219+J220+J221+J222+J223+J224+J225+J226+J227 -> 0 | AB9: =L198+L199+L200+L201+L202+L203+L204+L205+L206+L207+L208+L209+L210+L211+L212+L213+L214+L215+L216+L217+L218+L219+L220+L221+L222+L223+L224+L225+L226+L227 -> 0 | AC9: =H168+H169+H170+H171+H172+H173+H174+H175+H176+H177+H178+H179+H180+H181+H182+H183+H184+H185+H186+H187+H188+H189+H190+H191+H192+H193+H194+H195+H196+H197 -> 0 | AD9: =J168+J169+J170+J171+J172+J173+J174+J175+J176+J177+J178+J179+J180+J181+J182+J183+J184+J185+J186+J187+J188+J189+J190+J191+J192+J193+J194+J195+J196+J197 -> 0 | AE9: =L168+L169+L170+L171+L172+L173+L174+L175+L176+L177+L178+L179+L180+L181+L182+L183+L184+L185+L186+L187+L188+L189+L190+L191+L192+L193+L194+L195+L196+L197 -> 0
A10: 일반레일설치(2단) | B10: 2단 | C10: 1 | D10: m | E10: =G10+I10+K10 -> 0 | F10: =H10+J10+L10 -> 0 | G10: =일위대가목록!F173 -> 0 | H10: =TRUNC(G10*C10,0) -> 0 | I10: =일위대가목록!G173 -> 0 | J10: =TRUNC(I10*C10,0) -> 0 | K10: =일위대가목록!H173 -> 0 | L10: =TRUNC(K10*C10,0) -> 0 | P10: 70 | R10: SB0124 | T10: T | Z10: =H230+H231+H232+H233+H234+H235+H236+H237+H238+H239+H240+H241+H242+H243+H244+H245+H246+H247+H248 -> 0 | AA10: =J230+J231+J232+J233+J234+J235+J236+J237+J238+J239+J240+J241+J242+J243+J244+J245+J246+J247+J248 -> 0 | AB10: =L230+L231+L232+L233+L234+L235+L236+L237+L238+L239+L240+L241+L242+L243+L244+L245+L246+L247+L248 -> 0 | AC10: =H198+H199+H200+H201+H202+H203+H204+H205+H206+H207+H208+H209+H210+H211+H212+H213+H214+H215+H216+H217+H218+H219+H220+H221+H222+H223+H224+H225+H226+H227 -> 0 | AD10: =J198+J199+J200+J201+J202+J203+J204+J205+J206+J207+J208+J209+J210+J211+J212+J213+J214+J215+J216+J217+J218+J219+J220+J221+J222+J223+J224+J225+J226+J227 -> 0 | AE10: =L198+L199+L200+L201+L202+L203+L204+L205+L206+L207+L208+L209+L210+L211+L212+L213+L214+L215+L216+L217+L218+L219+L220+L221+L222+L223+L224+L225+L226+L227 -> 0
A11: 일반레일설치(3단) | B11: 3단 | C11: 1 | D11: m | E11: =G11+I11+K11 -> 0 | F11: =H11+J11+L11 -> 0 | G11: =일위대가목록!F174 -> 0 | H11: =TRUNC(G11*C11,0) -> 0 | I11: =일위대가목록!G174 -> 0 | J11: =TRUNC(I11*C11,0) -> 0 | K11: =일위대가목록!H174 -> 0 | L11: =TRUNC(K11*C11,0) -> 0 | P11: 80 | R11: SB0125 | T11: T
A12: 차량방호책 설치 | B12: W2500,H850 | C12: 1 | D12: m | E12: =G12+I12+K12 -> 0 | F12: =H12+J12+L12 -> 0 | G12: =일위대가목록!F175 -> 0 | H12: =TRUNC(G12*C12,0) -> 0 | I12: =일위대가목록!G175 -> 0 | J12: =TRUNC(I12*C12,0) -> 0 | K12: =일위대가목록!H175 -> 0 | L12: =TRUNC(K12*C12,0) -> 0 | P12: 90 | R12: SB0106 | T12: T
A13: 일반난간지주 교체 | B13: 1단 | C13: 1 | D13: ea | E13: =G13+I13+K13 -> 0 | F13: =H13+J13+L13 -> 0 | G13: =일위대가목록!F176 -> 0 | H13: =TRUNC(G13*C13,0) -> 0 | I13: =일위대가목록!G176 -> 0 | J13: =TRUNC(I13*C13,0) -> 0 | K13: =일위대가목록!H176 -> 0 | L13: =TRUNC(K13*C13,0) -> 0 | P13: 100 | R13: SB011917 | T13: T
A14: 일반난간지주 교체 | B14: 2단 | C14: 1 | D14: ea | E14: =G14+I14+K14 -> 0 | F14: =H14+J14+L14 -> 0 | G14: =일위대가목록!F177 -> 0 | H14: =TRUNC(G14*C14,0) -> 0 | I14: =일위대가목록!G177 -> 0 | J14: =TRUNC(I14*C14,0) -> 0 | K14: =일위대가목록!H177 -> 0 | L14: =TRUNC(K14*C14,0) -> 0 | P14: 110 | R14: SB011919 | T14: T
A15: 일반난간지주 교체 | B15: 3단 | C15: 1 | D15: ea | E15: =G15+I15+K15 -> 0 | F15: =H15+J15+L15 -> 0 | G15: =일위대가목록!F178 -> 0 | H15: =TRUNC(G15*C15,0) -> 0 | I15: =일위대가목록!G178 -> 0 | J15: =TRUNC(I15*C15,0) -> 0 | K15: =일위대가목록!H178 -> 0 | L15: =TRUNC(K15*C15,0) -> 0 | P15: 120 | R15: SB011920 | T15: T
A16: 일반지주 설치 | B16: 1단 | C16: 1 | D16: ea | E16: =G16+I16+K16 -> 0 | F16: =H16+J16+L16 -> 0 | G16: =일위대가목록!F179 -> 0 | H16: =TRUNC(G16*C16,0) -> 0 | I16: =일위대가목록!G179 -> 0 | J16: =TRUNC(I16*C16,0) -> 0 | K16: =일위대가목록!H179 -> 0 | L16: =TRUNC(K16*C16,0) -> 0 | P16: 130 | R16: SB012911 | T16: T
A17: 일반지주 설치 | B17: 2단 | C17: 1 | D17: ea | E17: =G17+I17+K17 -> 0 | F17: =H17+J17+L17 -> 0 | G17: =일위대가목록!F180 -> 0 | H17: =TRUNC(G17*C17,0) -> 0 | I17: =일위대가목록!G180 -> 0 | J17: =TRUNC(I17*C17,0) -> 0 | K17: =일위대가목록!H180 -> 0 | L17: =TRUNC(K17*C17,0) -> 0 | P17: 140 | R17: SB012912 | T17: T
A18: 일반지주 설치 | B18: 3단 | C18: 1 | D18: ea | E18: =G18+I18+K18 -> 0 | F18: =H18+J18+L18 -> 0 | G18: =일위대가목록!F181 -> 0 | H18: =TRUNC(G18*C18,0) -> 0 | I18: =일위대가목록!G181 -> 0 | J18: =TRUNC(I18*C18,0) -> 0 | K18: =일위대가목록!H181 -> 0 | L18: =TRUNC(K18*C18,0) -> 0 | P18: 150 | R18: SB012913 | T18: T
A19: 고압물청소 | C19: 1 | D19: m2 | E19: =G19+I19+K19 -> 0 | F19: =H19+J19+L19 -> 0 | G19: =일위대가목록!F3 -> 0 | H19: =TRUNC(G19*C19,0) -> 0 | I19: =일위대가목록!G3 -> 0 | J19: =TRUNC(I19*C19,0) -> 0 | K19: =일위대가목록!H3 -> 0 | L19: =TRUNC(K19*C19,0) -> 0 | P19: 160 | R19: SV00124 | T19: F
A20: 신축이음 고압물세척 | C20: 1 | D20: m2 | E20: =G20+I20+K20 -> 0 | F20: =H20+J20+L20 -> 0 | G20: =일위대가목록!F4 -> 0 | H20: =TRUNC(G20*C20,0) -> 0 | I20: =일위대가목록!G4 -> 0 | J20: =TRUNC(I20*C20,0) -> 0 | K20: =일위대가목록!H4 -> 0 | L20: =TRUNC(K20*C20,0) -> 0 | P20: 170 | R20: SV00125 | T20: F
A21: 배수구 고압물청소 | C21: 1 | D21: 개소 | E21: =G21+I21+K21 -> 0 | F21: =H21+J21+L21 -> 0 | G21: =일위대가목록!F5 -> 0 | H21: =TRUNC(G21*C21,0) -> 0 | I21: =일위대가목록!G5 -> 0 | J21: =TRUNC(I21*C21,0) -> 0 | K21: =일위대가목록!H5 -> 0 | L21: =TRUNC(K21*C21,0) -> 0 | P21: 180 | R21: SV00126 | T21: F
A22: 교좌주위 고압물청소 | C22: 1 | D22: m2 | E22: =G22+I22+K22 -> 0 | F22: =H22+J22+L22 -> 0 | G22: =일위대가목록!F6 -> 0 | H22: =TRUNC(G22*C22,0) -> 0 | I22: =일위대가목록!G6 -> 0 | J22: =TRUNC(I22*C22,0) -> 0 | K22: =일위대가목록!H6 -> 0 | L22: =TRUNC(K22*C22,0) -> 0 | P22: 190 | R22: SV001276 | T22: F
A23: 배수관(곡관)고압물청소 | C23: 1 | D23: 개소 | E23: =G23+I23+K23 -> 0 | F23: =H23+J23+L23 -> 0 | G23: =일위대가목록!F7 -> 0 | H23: =TRUNC(G23*C23,0) -> 0 | I23: =일위대가목록!G7 -> 0 | J23: =TRUNC(I23*C23,0) -> 0 | K23: =일위대가목록!H7 -> 0 | L23: =TRUNC(K23*C23,0) -> 0 | P23: 200 | R23: SV001277 | T23: F
A24: 배수시설토사제거(인력터파기적용) | B24: 측구(U,V형) | C24: 1 | D24: m3 | E24: =G24+I24+K24 -> 0 | F24: =H24+J24+L24 -> 0 | G24: =일위대가목록!F8 -> 0 | H24: =TRUNC(G24*C24,0) -> 0 | I24: =일위대가목록!G8 -> 0 | J24: =TRUNC(I24*C24,0) -> 0 | K24: =일위대가목록!H8 -> 0 | L24: =TRUNC(K24*C24,0) -> 0 | P24: 210 | R24: S7040100 | T24: F
A25: 배수관토사제거(인력) | B25: Φ600~1200 | C25: 1 | D25: m3 | E25: =G25+I25+K25 -> 0 | F25: =H25+J25+L25 -> 0 | G25: =일위대가목록!F9 -> 0 | H25: =TRUNC(G25*C25,0) -> 0 | I25: =일위대가목록!G9 -> 0 | J25: =TRUNC(I25*C25,0) -> 0 | K25: =일위대가목록!H9 -> 0 | L25: =TRUNC(K25*C25,0) -> 0 | P25: 220 | R25: S7040200 | T25: F
A26: 배수관토사제거(인력, 자갈섞인토사) | B26: Φ600~1200 | C26: 1 | D26: m3 | E26: =G26+I26+K26 -> 0 | F26: =H26+J26+L26 -> 0 | G26: =일위대가목록!F10 -> 0 | H26: =TRUNC(G26*C26,0) -> 0 | I26: =일위대가목록!G10 -> 0 | J26: =TRUNC(I26*C26,0) -> 0 | K26: =일위대가목록!H10 -> 0 | L26: =TRUNC(K26*C26,0) -> 0 | P26: 230 | R26: S7040201 | T26: F
A27: 배수관토사제거(인력, 호박돌섞인토사) | B27: Φ600~1200 | C27: 1 | D27: m3 | E27: =G27+I27+K27 -> 0 | F27: =H27+J27+L27 -> 0 | G27: =일위대가목록!F11 -> 0 | H27: =TRUNC(G27*C27,0) -> 0 | I27: =일위대가목록!G11 -> 0 | J27: =TRUNC(I27*C27,0) -> 0 | K27: =일위대가목록!H11 -> 0 | L27: =TRUNC(K27*C27,0) -> 0 | P27: 240 | R27: S7040202 | T27: F
A28: 집수정 및 배수관토사준설 | B28: 준설차사용 | C28: 1 | D28: m3 | E28: =G28+I28+K28 -> 0 | F28: =H28+J28+L28 -> 0 | G28: =일위대가목록!F12 -> 0 | H28: =TRUNC(G28*C28,0) -> 0 | I28: =일위대가목록!G12 -> 0 | J28: =TRUNC(I28*C28,0) -> 0 | K28: =일위대가목록!H12 -> 0 | L28: =TRUNC(K28*C28,0) -> 0 | P28: 250 | R28: S7040300 | T28: F
A29: 집수정 토사준설 | B29: 인력 | C29: 1 | D29: m3 | E29: =G29+I29+K29 -> 0 | F29: =H29+J29+L29 -> 0 | G29: =일위대가목록!F13 -> 0 | H29: =TRUNC(G29*C29,0) -> 0 | I29: =일위대가목록!G13 -> 0 | J29: =TRUNC(I29*C29,0) -> 0 | K29: =일위대가목록!H13 -> 0 | L29: =TRUNC(K29*C29,0) -> 0 | P29: 260 | R29: S7040310 | T29: F
A30: 배수로준설토제거 | B30: H=0.1 | C30: 1 | D30: m2 | E30: =G30+I30+K30 -> 0 | F30: =H30+J30+L30 -> 0 | G30: =일위대가목록!F182 -> 0 | H30: =TRUNC(G30*C30,0) -> 0 | I30: =일위대가목록!G182 -> 0 | J30: =TRUNC(I30*C30,0) -> 0 | K30: =일위대가목록!H182 -> 0 | L30: =TRUNC(K30*C30,0) -> 0 | P30: 270 | R30: S7040320 | T30: T
A31: 배수로준설토제거 | B31: H=0.1(스틸그레이팅 철거,설치포함) | C31: 1 | D31: m2 | E31: =G31+I31+K31 -> 0 | F31: =H31+J31+L31 -> 0 | G31: =일위대가목록!F183 -> 0 | H31: =TRUNC(G31*C31,0) -> 0 | I31: =일위대가목록!G183 -> 0 | J31: =TRUNC(I31*C31,0) -> 0 | K31: =일위대가목록!H183 -> 0 | L31: =TRUNC(K31*C31,0) -> 0 | P31: 280 | R31: S7040321 | T31: T
A32: 관목전정 | B32: H=0.9M미만 | C32: 1 | D32: 주 | E32: =G32+I32+K32 -> 0 | F32: =H32+J32+L32 -> 0 | G32: =일위대가목록!F184 -> 0 | H32: =TRUNC(G32*C32,0) -> 0 | I32: =일위대가목록!G184 -> 0 | J32: =TRUNC(I32*C32,0) -> 0 | K32: =일위대가목록!H184 -> 0 | L32: =TRUNC(K32*C32,0) -> 0 | P32: 290 | R32: SV001400 | T32: T
A33: 관목전정 | B33: H=0.9M이상 | C33: 1 | D33: 주 | E33: =G33+I33+K33 -> 0 | F33: =H33+J33+L33 -> 0 | G33: =일위대가목록!F185 -> 0 | H33: =TRUNC(G33*C33,0) -> 0 | I33: =일위대가목록!G185 -> 0 | J33: =TRUNC(I33*C33,0) -> 0 | K33: =일위대가목록!H185 -> 0 | L33: =TRUNC(K33*C33,0) -> 0 | P33: 300 | R33: SV001401 | T33: T
A34: 관목전정 | B34: 옹벽위 | C34: 1 | D34: 주 | E34: =G34+I34+K34 -> 0 | F34: =H34+J34+L34 -> 0 | G34: =일위대가목록!F186 -> 0 | H34: =TRUNC(G34*C34,0) -> 0 | I34: =일위대가목록!G186 -> 0 | J34: =TRUNC(I34*C34,0) -> 0 | K34: =일위대가목록!H186 -> 0 | L34: =TRUNC(K34*C34,0) -> 0 | P34: 310 | R34: SV001403 | T34: T
A35: 관목전정 | B35: 군식 | C35: 1 | D35: 주 | E35: =G35+I35+K35 -> 0 | F35: =H35+J35+L35 -> 0 | G35: =일위대가목록!F187 -> 0 | H35: =TRUNC(G35*C35,0) -> 0 | I35: =일위대가목록!G187 -> 0 | J35: =TRUNC(I35*C35,0) -> 0 | K35: =일위대가목록!H187 -> 0 | L35: =TRUNC(K35*C35,0) -> 0 | P35: 320 | R35: SV001404 | T35: T
A36: 관목전정 | B36: 군식, 옹벽위 | C36: 1 | D36: 주 | E36: =G36+I36+K36 -> 0 | F36: =H36+J36+L36 -> 0 | G36: =일위대가목록!F188 -> 0 | H36: =TRUNC(G36*C36,0) -> 0 | I36: =일위대가목록!G188 -> 0 | J36: =TRUNC(I36*C36,0) -> 0 | K36: =일위대가목록!H188 -> 0 | L36: =TRUNC(K36*C36,0) -> 0 | P36: 330 | R36: SV001405 | T36: T
A37: 일반전정 | B37: 인력, B10이하, 낙엽수 | C37: 1 | D37: 주 | E37: =G37+I37+K37 -> 0 | F37: =H37+J37+L37 -> 0 | G37: =일위대가목록!F189 -> 0 | H37: =TRUNC(G37*C37,0) -> 0 | I37: =일위대가목록!G189 -> 0 | J37: =TRUNC(I37*C37,0) -> 0 | K37: =일위대가목록!H189 -> 0 | L37: =TRUNC(K37*C37,0) -> 0 | P37: 340 | R37: SV001501 | T37: T
A38: 일반전정 | B38: 기계, B11CM~20CM, 낙엽수 | C38: 1 | D38: 주 | E38: =G38+I38+K38 -> 0 | F38: =H38+J38+L38 -> 0 | G38: =일위대가목록!F190 -> 0 | H38: =TRUNC(G38*C38,0) -> 0 | I38: =일위대가목록!G190 -> 0 | J38: =TRUNC(I38*C38,0) -> 0 | K38: =일위대가목록!H190 -> 0 | L38: =TRUNC(K38*C38,0) -> 0 | P38: 350 | R38: SV001502 | T38: T
A39: 일반전정 | B39: 기계, B21CM~30CM, 낙엽수 | C39: 1 | D39: 주 | E39: =G39+I39+K39 -> 0 | F39: =H39+J39+L39 -> 0 | G39: =일위대가목록!F191 -> 0 | H39: =TRUNC(G39*C39,0) -> 0 | I39: =일위대가목록!G191 -> 0 | J39: =TRUNC(I39*C39,0) -> 0 | K39: =일위대가목록!H191 -> 0 | L39: =TRUNC(K39*C39,0) -> 0 | P39: 360 | R39: SV001503 | T39: T
A40: 일반전정 | B40: 기계, B31CM~40CM, 낙엽수 | C40: 1 | D40: 주 | E40: =G40+I40+K40 -> 0 | F40: =H40+J40+L40 -> 0 | G40: =일위대가목록!F192 -> 0 | H40: =TRUNC(G40*C40,0) -> 0 | I40: =일위대가목록!G192 -> 0 | J40: =TRUNC(I40*C40,0) -> 0 | K40: =일위대가목록!H192 -> 0 | L40: =TRUNC(K40*C40,0) -> 0 | P40: 370 | R40: SV001504 | T40: T
...

Sheet 일위대가목록
A1: 일위대가목록
A2: 공 종 명 | B2: 규 격 | C2: 수 량 | D2: 단 위 | E2: 합 계 | F2: 재 료 비 | G2: 노 무 비 | H2: 경 비 | I2: 비 고 | T2: 재료비 | U2: 노무비 | V2: 경 비 | W2: 합 계 | Y2: 비교검토
A3: #1 고압물청소 | C3: 1 | D3: m2
A4: #2 신축이음 고압물세척 | C4: 1 | D4: m2
A5: #3 배수구 고압물청소 | C5: 1 | D5: 개소
A6: #4 교좌주위 고압물청소 | C6: 1 | D6: m2
A7: #5 배수관(곡관)고압물청소 | C7: 1 | D7: 개소
A8: #6 배수시설토사제거(인력터파기적용) | B8: 측구(U,V형) | C8: 1 | D8: m3
A9: #7 배수관토사제거(인력) | B9: Φ600~1200 | C9: 1 | D9: m3
A10: #8 배수관토사제거(인력, 자갈섞인토사) | B10: Φ600~1200 | C10: 1 | D10: m3
A11: #9 배수관토사제거(인력, 호박돌섞인토사) | B11: Φ600~1200 | C11: 1 | D11: m3
A12: #10 집수정 및 배수관토사준설 | B12: 준설차사용 | C12: 1 | D12: m3
A13: #11 집수정 토사준설 | B13: 인력 | C13: 1 | D13: m3
A14: #12 벌개 제근(인력) | B14: 0∼5m | C14: 1 | D14: m2
A15: #13 벌개 제근(인력) | B15: 5∼10m | C15: 1 | D15: m2
A16: #14 벌개 제근(인력) | B16: 10∼15m | C16: 1 | D16: m2
A17: #15 벌개 제근(인력+기계) | B17: 0∼5m | C17: 1 | D17: m2
A18: #16 벌개 제근(인력+기계) | B18: 5∼10m | C18: 1 | D18: m2
A19: #17 벌개 제근(인력+기계) | B19: 10∼15m | C19: 1 | D19: m2
... A50: #48 아스팔트 덧씌우기 | B50: C-TYPE,t=5cm,택코팅자재비제외 | C50: 1 | D50: m2
A51: #49 아스팔트 균열보수 | C51: 1 | D51: m
A52: #50 교명주(화강석) | B52: (860*1300*800) | C52: 1 | D52: ea
A53: #51 교명주 위치조정 | B53: (860*1300*800) | C53: 1 | D53: ea
A54: #52 교명판 | B54: 450×200×10 | C54: 1 | D54: ea
A55: #53 설명판 | B55: 500×300×10 | C55: 1 | D55: ea
A56: #54 차선도색(페인트,수동식)공용구간 | B56: 백색-실선 | C56: 1 | D56: m2
A57: #55 차선도색(페인트,수동식)공용구간 | B57: 백색-파선 | C57: 1 | D57: m2
A58: #56 차선도색(페인트,수동식)공용구간 | B58: 황색-실선 | C58: 1 | D58: m2
A59: #57 차선도색(페인트,수동식)공용구간 | B59: 황색-파선 | C59: 1 | D59: m2
A60: #58 차선도색(페인트,수동식)공용구간 | B60: 횡단보도,주차장 | C60: 1 | D60: m2
A61: #59 차선도색(페인트,수동식)공용구간 | B61: 문자,기호 | C61: 1 | D61: m2
A62: #60 차선도색(페인트,기계식)공용구간 | B62: 백색-실선 | C62: 1 | D62: m2
A63: #61 차선도색(페인트,기계식)공용구간 | B63: 백색-파선 | C63: 1 | D63: m2
... A65: #63 차선도색(페인트,기계식)공용구간 | B65: 황색-파선 | C65: 1 | D65: m2
A66: #64 차선도색(상온형,수동식)공용구간 | B66: 황색,백색 실선 | C66: 1 | D66: m2
A67: #64 차선도색(융착식,수동식)공용구간 | B67: 백색-실선 | C67: 1 | D67: m2
A68: #65 차선도색(융착식,수동식)공용구간 | B68: 백색-파선 | C68: 1 | D68: m2
A69: #66 차선도색(융착식,수동식)공용구간 | B69: 황색-실선 | C69: 1 | D69: m2
A70: #67 차선도색(융착식,수동식)공용구간 | B70: 황색-파선 | C70: 1 | D70: m2
A71: #68 차선도색(융착식,수동식)공용구간 | B71: 횡단보도,주차장 | C71: 1 | D71: m2
...

Sheet 전역변수
A1: 전역변수
A2: 변 수 명 | B2: 형 식 | C2: 값 | D2: 비 고 | E2: 적용단위
A3: A | B3: 숫자 | C3: 75 | D3: 어스앵커 공수
A4: DM2WON | B4: 숫자 | C4: 613.63 | E4: DM
A5: JJ_LA | B5: 숫자 | C5: 0.376 | D5: 50억이상, 13개월이상
A6: JJ_MA | B6: 숫자 | C6: 0.535 | D6: 50억이상, 13개월이상
A7: TUP11 | B7: 숫자 | C7: 4.36 | D7: P-1 소요작업조
A8: TUP21 | B8: 숫자 | C8: 3.935 | D8: P-2 소요작업조
A9: TUP31 | B9: 숫자 | C9: 2.434 | D9: P-3 소요작업조
A10: TUP41 | B10: 숫자 | C10: 1.534 | D10: P-4A 소요작업조
A11: TUP42 | B11: 숫자 | C11: 1.203 | D11: P-4B 소요작업조
A12: TUP51 | B12: 숫자 | C12: 1.359 | D12: P-5A 소요작업조
A13: TUP52 | B13: 숫자 | C13: 0.713 | D13: P-5B 소요작업조
A14: TUP61 | B14: 숫자 | C14: 1.25 | D14: P-6A 소요작업조
A15: TUP62 | B15: 숫자 | C15: 0.675 | D15: P-6B 소요작업조
A16: TUS | B16: 숫자 | C16: 1.25 | D16: 갱내작업할증
A17: US2WON | B17: 숫자 | C17: 1466 | E17: $,＄
A18: YEN2WON | B18: 숫자 | C18: 9.31 | E18: YEN,￥

Sheet 중기전역변수
A1: 중기전역변수
A2: 변 수 명 | B2: 형 식 | C2: 값 | D2: 비 고
A3: QCODE | B3: 문자 | C3: 100000000001
A4: QUS2WON | B4: 숫자 | C4: 1442 | D4: 환율(장비가격10만불이하)
A5: QUS2WON1 | B5: 숫자 | C5: 1442 | D5: 환율(장비가격10만불이상)
A6: QYEN2WON | B6: 숫자 | C6: 9.19 | D6: 환율(엔화)
A7: QDM2WON | B7: 숫자 | C7: 724.05 | D7: 환율(마르크화)
A8: QSDR2WON | B8: 숫자 | C8: 1000 | D8: 환율(IMF특별인출권)
A9: QECU2WON | B9: 숫자 | C9: 1509.67 | D9: 환율(유로화)
A10: QEQTY1 | B10: 문자 | C10: (SANG + JUNG + KWAN)*10^-4 | D10: 중기주간경비산출계수
A11: QEQTY2 | B11: 문자 | C11: (SANG + JUNG + KWAN)*10^-4 | D11: 중기야간경비산출계수
A12: QEQTY3 | B12: 문자 | C12: (SANG + JUNG + int(KWAN/3))*10^-4 | D12: 중기주야간경비산출계수
A13: QEINC2 | B13: 숫자 | C13: 1.25 | D13: 중기야간할증계수
A14: QEINC3 | B14: 숫자 | C14: 1.071 | D14: 중기주야간할증계수
A15: QDECPEQ | B15: 문자 | C15: 1 | D15: 경비단가소숫점
A16: QDECCEQ | B16: 문자 | C16: 0 | D16: 경비금액소숫점
A17: QDECEQ | B17: 문자 | C17: 1 | D17: 경비계금액소숫점
A18: QH1 | B18: 문자 | C18: =25/20 * 16/12 * 1/8 -> 0.20833333 | D18: 시간당노임산출계수(일반구간)
A19: QH2 | B19: 문자 | C19: =25/20 * 16/12 * 1/8 -> 0.20833333 | D19: 시간당노임산출계수(터널구간)
A20: QH21 | B20: 문자 | C20: =25/20 * 16/12 * 1/8 -> 0.20833333 | D20: 시간당노임산출계수(장대터널)
A21: QH31 | B21: 문자 | C21: =25/20 * 16/12 * 1/8 -> 0.20833333 | D21: 시간당노임산출계수(해상장비:펌프준설선)
A22: QH32 | B22: 문자 | C22: =25/20 * 16/12 * 1/8 -> 0.20833333 | D22: 시간당노임산출계수(해상장비:GRAB준설선)
A23: QH33 | B23: 문자 | C23: =25/20 * 16/12 * 1/8 -> 0.20833333 | D23: 시간당노임산출계수(해상장비:버켓준설선)
A24: QLINC1 | B24: 숫자 | C24: 1 | D24: 노임할증계수(일반구간:주간)
A25: QLINC2 | B25: 숫자 | C25: 1.5 | D25: 노임할증계수(일반구간:야간)
A26: QLINC3 | B26: 숫자 | C26: 1.16 | D26: 노임할증계수(일반구간:주야간)
A27: QLINCA | B27: 숫자 | C27: 1.6 | D27: 노임할증계수(터널구간:주간)
A28: QLINCB | B28: 숫자 | C28: 1.6 | D28: 노임할증계수(터널구간:야간)
A29: QLINCC | B29: 숫자 | C29: 1.6 | D29: 노임할증계수(터널구간:주야간)
A30: QLINCD | B30: 숫자 | C30: 1.94 | D30: 노임할증계수(장대터널:주간)
A31: QLINCE | B31: 숫자 | C31: 1.94 | D31: 노임할증계수(장대터널:야간)
A32: QLINCF | B32: 숫자 | C32: 1.94 | D32: 노임할증계수(장대터널:주야간)
A33: QLINCX | B33: 숫자 | C33: 1 | D33: 노임할증계수(해상장비:주간)
A34: QLINCY | B34: 숫자 | C34: 1 | D34: 노임할증계수(해상장비:야간)
A35: QLINCZ | B35: 숫자 | C35: 1 | D35: 노임할증계수(해상장비:주야간)
A36: QDECPLA | B36: 문자 | C36: 1 | D36: 노임단가소숫점
A37: QDECCLA | B37: 문자 | C37: 1 | D37: 노임금액소숫점
A38: QDECLA | B38: 문자 | C38: 0 | D38: 노임계금액소숫점
A39: QMINC2 | B39: 숫자 | C39: 1.11 | D39: 재료비할증계수(야간)
A40: QMINC3 | B40: 숫자 | C40: 1.12 | D40: 재료비할증계수(주야간)
...
