Workbook

Sheet 집계표
A1: 집 계 표
A2: 공사명 : 대율보건진료소 그린리모델링공사(기계설비)
A3: 품 명 | B3: 규 격 | C3: 단위 | D3: 수 량 | E3: 재 료 비 | G3: 노 무 비 | I3: 경 비 | K3: 합 계 | M3: 비고
E4: 단 가 | F4: 금 액 | G4: 단 가 | H4: 금 액 | I4: 단 가 | J4: 금 액 | K4: 단 가 | L4: 금 액 | O4: GjNo
A5: 01. 대율보건진료소 그린리모델링공사(기계설비) | C5: 식 | D5: 1 | E5: =SUMIF(N4:N9, O5, F4:F9) -> 0 | F5: =D5*E5 -> 0 | G5: =SUMIF(N4:N9, O5, H4:H9) -> 0 | H5: =D5*G5 -> 0 | I5: =SUMIF(N4:N9, O5, J4:J9) -> 0 | J5: =D5*I5 -> 0 | K5: =E5+G5+I5 -> 0 | L5: =F5+H5+J5 -> 0 | O5: 01 | Q5: 1 | R5: 261187 | S5: 0 | T5: 0 | U5: 0 | V5: 0 | W5: 0 | X5: 0 | Y5: 0 | Z5: 0 | AA5: 0 | AB5: 0 | AC5: 0 | AD5: 0 | AE5: 0 | AF5: 0 | AG5: 0 | AH5: 0 | AI5: 0 | AJ5: 0 | AK5: 0 | AL5: 0 | AM5: 0 | AN5: 0 | AO5: 0 | AP5: 0 | AQ5: 0 | AR5: 0 | AS5: 0 | AT5: 0 | AU5: 0 | AV5: 0
A6: 0101. 기계설비공사 | C6: 식 | D6: 1 | E6: =F7+F8+F9+F10 -> 0 | F6: =D6*E6 -> 0 | G6: =H7+H8+H9+H10 -> 0 | H6: =D6*G6 -> 0 | I6: =J9 -> 0 | J6: =D6*I6 -> 0 | K6: =E6+G6+I6 -> 0 | L6: =F6+H6+J6 -> 0 | N6: 01 | O6: 0101 | Q6: 1 | R6: 261187 | S6: 0 | T6: 0 | U6: 0 | V6: 0 | W6: 0 | X6: 0 | Y6: 0 | Z6: 0 | AA6: 0 | AB6: 0 | AC6: 0 | AD6: 0 | AE6: 0 | AF6: 0 | AG6: 0 | AH6: 0 | AI6: 0 | AJ6: 0 | AK6: 0 | AL6: 0 | AM6: 0 | AN6: 0 | AO6: 0 | AP6: 0 | AQ6: 0 | AR6: 0 | AS6: 0 | AT6: 0 | AU6: 0 | AV6: 0
A7: 010101. 장비설치공사 | C7: 식 | D7: 1 | E7: =내역서!F26 -> 0 | F7: =D7*E7 -> 0 | G7: =내역서!H26 -> 0 | H7: =D7*G7 -> 0 | I7: =내역서!J26 -> 0 | J7: =D7*I7 -> 0 | K7: =E7+G7+I7 -> 0 | L7: =F7+H7+J7 -> 0 | N7: 0101 | O7: 010101 | Q7: 1 | R7: =D7*내역서!R26 -> 0 | S7: =D7*내역서!S26 -> 0 | T7: =D7*내역서!T26 -> 0 | U7: =D7*내역서!U26 -> 0 | V7: =D7*내역서!V26 -> 0 | W7: =D7*내역서!W26 -> 0 | X7: =D7*내역서!X26 -> 0 | Y7: =D7*내역서!Y26 -> 0 | Z7: =D7*내역서!Z26 -> 0 | AA7: =D7*내역서!AA26 -> 0 | AB7: =D7*내역서!AB26 -> 0 | AC7: =D7*내역서!AC26 -> 0 | AD7: =D7*내역서!AD26 -> 0 | AE7: =D7*내역서!AE26 -> 0 | AF7: =D7*내역서!AF26 -> 0 | AG7: =D7*내역서!AG26 -> 0 | AH7: =D7*내역서!AH26 -> 0 | AI7: =D7*내역서!AI26 -> 0 | AJ7: =D7*내역서!AJ26 -> 0 | AK7: =D7*내역서!AK26 -> 0 | AL7: =D7*내역서!AL26 -> 0 | AM7: =D7*내역서!AM26 -> 0 | AN7: =D7*내역서!AN26 -> 0 | AO7: =D7*내역서!AO26 -> 0 | AP7: =D7*내역서!AP26 -> 0 | AQ7: =D7*내역서!AQ26 -> 0 | AR7: =D7*내역서!AR26 -> 0 | AS7: =D7*내역서!AS26 -> 0 | AT7: =D7*내역서!AT26 -> 0 | AU7: =D7*내역서!AU26 -> 0 | AV7: =D7*내역서!AV26 -> 0
A8: 010102. 위생도기설치공사 | C8: 식 | D8: 1 | E8: =내역서!F48 -> 0 | F8: =D8*E8 -> 0 | G8: =내역서!H48 -> 0 | H8: =D8*G8 -> 0 | I8: =내역서!J48 -> 0 | J8: =D8*I8 -> 0 | K8: =E8+G8+I8 -> 0 | L8: =F8+H8+J8 -> 0 | N8: 0101 | O8: 010102 | Q8: 1 | R8: =D8*내역서!R48 -> 0 | S8: =D8*내역서!S48 -> 0 | T8: =D8*내역서!T48 -> 0 | U8: =D8*내역서!U48 -> 0 | V8: =D8*내역서!V48 -> 0 | W8: =D8*내역서!W48 -> 0 | X8: =D8*내역서!X48 -> 0 | Y8: =D8*내역서!Y48 -> 0 | Z8: =D8*내역서!Z48 -> 0 | AA8: =D8*내역서!AA48 -> 0 | AB8: =D8*내역서!AB48 -> 0 | AC8: =D8*내역서!AC48 -> 0 | AD8: =D8*내역서!AD48 -> 0 | AE8: =D8*내역서!AE48 -> 0 | AF8: =D8*내역서!AF48 -> 0 | AG8: =D8*내역서!AG48 -> 0 | AH8: =D8*내역서!AH48 -> 0 | AI8: =D8*내역서!AI48 -> 0 | AJ8: =D8*내역서!AJ48 -> 0 | AK8: =D8*내역서!AK48 -> 0 | AL8: =D8*내역서!AL48 -> 0 | AM8: =D8*내역서!AM48 -> 0 | AN8: =D8*내역서!AN48 -> 0 | AO8: =D8*내역서!AO48 -> 0 | AP8: =D8*내역서!AP48 -> 0 | AQ8: =D8*내역서!AQ48 -> 0 | AR8: =D8*내역서!AR48 -> 0 | AS8: =D8*내역서!AS48 -> 0 | AT8: =D8*내역서!AT48 -> 0 | AU8: =D8*내역서!AU48 -> 0 | AV8: =D8*내역서!AV48 -> 0
A9: 010103. 철거배관공사 | C9: 식 | D9: 1 | E9: =내역서!F70 -> 0 | F9: =D9*E9 -> 0 | G9: =내역서!H70 -> 0 | H9: =D9*G9 -> 0 | I9: =내역서!J70 -> 0 | J9: =D9*I9 -> 0 | K9: =E9+G9+I9 -> 0 | L9: =F9+H9+J9 -> 0 | N9: 0101 | O9: 010103 | Q9: 1 | R9: =D9*내역서!R70 -> 0 | S9: =D9*내역서!S70 -> 0 | T9: =D9*내역서!T70 -> 0 | U9: =D9*내역서!U70 -> 0 | V9: =D9*내역서!V70 -> 0 | W9: =D9*내역서!W70 -> 0 | X9: =D9*내역서!X70 -> 0 | Y9: =D9*내역서!Y70 -> 0 | Z9: =D9*내역서!Z70 -> 0 | AA9: =D9*내역서!AA70 -> 0 | AB9: =D9*내역서!AB70 -> 0 | AC9: =D9*내역서!AC70 -> 0 | AD9: =D9*내역서!AD70 -> 0 | AE9: =D9*내역서!AE70 -> 0 | AF9: =D9*내역서!AF70 -> 0 | AG9: =D9*내역서!AG70 -> 0 | AH9: =D9*내역서!AH70 -> 0 | AI9: =D9*내역서!AI70 -> 0 | AJ9: =D9*내역서!AJ70 -> 0 | AK9: =D9*내역서!AK70 -> 0 | AL9: =D9*내역서!AL70 -> 0 | AM9: =D9*내역서!AM70 -> 0 | AN9: =D9*내역서!AN70 -> 0 | AO9: =D9*내역서!AO70 -> 0 | AP9: =D9*내역서!AP70 -> 0 | AQ9: =D9*내역서!AQ70 -> 0 | AR9: =D9*내역서!AR70 -> 0 | AS9: =D9*내역서!AS70 -> 0 | AT9: =D9*내역서!AT70 -> 0 | AU9: =D9*내역서!AU70 -> 0 | AV9: =D9*내역서!AV70 -> 0
A10: 010104. 냉난방배관공사 | C10: 식 | D10: 1 | E10: =내역서!F148 -> 0 | F10: =D10*E10 -> 0 | G10: =내역서!H148 -> 0 | H10: =D10*G10 -> 0 | I10: =내역서!J71 -> 0 | J10: =D10*I10 -> 0 | K10: =E10+G10+I10 -> 0 | L10: =F10+H10+J10 -> 0 | N10: 0101 | O10: 010103 | Q10: 1 | R10: =D10*내역서!R71 -> 0 | S10: =D10*내역서!S71 -> 0 | T10: =D10*내역서!T71 -> 0 | U10: =D10*내역서!U71 -> 0 | V10: =D10*내역서!V71 -> 0 | W10: =D10*내역서!W71 -> 0 | X10: =D10*내역서!X71 -> 0 | Y10: =D10*내역서!Y71 -> 0 | Z10: =D10*내역서!Z71 -> 0 | AA10: =D10*내역서!AA71 -> 0 | AB10: =D10*내역서!AB71 -> 0 | AC10: =D10*내역서!AC71 -> 0 | AD10: =D10*내역서!AD71 -> 0 | AE10: =D10*내역서!AE71 -> 0 | AF10: =D10*내역서!AF71 -> 0 | AG10: =D10*내역서!AG71 -> 0 | AH10: =D10*내역서!AH71 -> 0 | AI10: =D10*내역서!AI71 -> 0 | AJ10: =D10*내역서!AJ71 -> 0 | AK10: =D10*내역서!AK71 -> 0 | AL10: =D10*내역서!AL71 -> 0 | AM10: =D10*내역서!AM71 -> 0 | AN10: =D10*내역서!AN71 -> 0 | AO10: =D10*내역서!AO71 -> 0 | AP10: =D10*내역서!AP71 -> 0 | AQ10: =D10*내역서!AQ71 -> 0 | AR10: =D10*내역서!AR71 -> 0 | AS10: =D10*내역서!AS71 -> 0 | AT10: =D10*내역서!AT71 -> 0 | AU10: =D10*내역서!AU71 -> 0 | AV10: =D10*내역서!AV71 -> 0
A11: 0102. 관급자재 | C11: 식 | D11: 1 | E11: =F12 -> 0 | F11: =D11*E11 -> 0 | G11: =H12 -> 0 | H11: =D11*G11 -> 0 | I11: =J12 -> 0 | J11: =D11*I11 -> 0 | K11: =E11+G11+I11 -> 0 | L11: =F11+H11+J11 -> 0 | N11: 01 | O11: 0101 | Q11: 1 | R11: 261187 | S11: 0 | T11: 0 | U11: 0 | V11: 0 | W11: 0 | X11: 0 | Y11: 0 | Z11: 0 | AA11: 0 | AB11: 0 | AC11: 0 | AD11: 0 | AE11: 0 | AF11: 0 | AG11: 0 | AH11: 0 | AI11: 0 | AJ11: 0 | AK11: 0 | AL11: 0 | AM11: 0 | AN11: 0 | AO11: 0 | AP11: 0 | AQ11: 0 | AR11: 0 | AS11: 0 | AT11: 0 | AU11: 0 | AV11: 0
A12: 010202. 전열교환기설치공사 | C12: 식 | D12: 1 | E12: =내역서!F166 -> 0 | F12: =D12*E12 -> 0 | G12: =내역서!H30 -> 0 | H12: =D12*G12 -> 0 | I12: =내역서!J30 -> 0 | J12: =D12*I12 -> 0 | K12: =E12+G12+I12 -> 0 | L12: =F12+H12+J12 -> 0 | N12: 0101 | O12: 010101 | Q12: 1 | R12: =D12*내역서!R30 -> 0 | S12: =D12*내역서!S30 -> 0 | T12: =D12*내역서!T30 -> 0 | U12: =D12*내역서!U30 -> 0 | V12: =D12*내역서!V30 -> 0 | W12: =D12*내역서!W30 -> 0 | X12: =D12*내역서!X30 -> 0 | Y12: =D12*내역서!Y30 -> 0 | Z12: =D12*내역서!Z30 -> 0 | AA12: =D12*내역서!AA30 -> 0 | AB12: =D12*내역서!AB30 -> 0 | AC12: =D12*내역서!AC30 -> 0 | AD12: =D12*내역서!AD30 -> 0 | AE12: =D12*내역서!AE30 -> 0 | AF12: =D12*내역서!AF30 -> 0 | AG12: =D12*내역서!AG30 -> 0 | AH12: =D12*내역서!AH30 -> 0 | AI12: =D12*내역서!AI30 -> 0 | AJ12: =D12*내역서!AJ30 -> 0 | AK12: =D12*내역서!AK30 -> 0 | AL12: =D12*내역서!AL30 -> 0 | AM12: =D12*내역서!AM30 -> 0 | AN12: =D12*내역서!AN30 -> 0 | AO12: =D12*내역서!AO30 -> 0 | AP12: =D12*내역서!AP30 -> 0 | AQ12: =D12*내역서!AQ30 -> 0 | AR12: =D12*내역서!AR30 -> 0 | AS12: =D12*내역서!AS30 -> 0 | AT12: =D12*내역서!AT30 -> 0 | AU12: =D12*내역서!AU30 -> 0 | AV12: =D12*내역서!AV30 -> 0

Sheet 내역서
A1: 내 역 서
A2: 공사명 : 대율보건진료소 그린리모델링공사(기계설비)
A3: 품 명 | B3: 규 격 | C3: 단위 | D3: 수 량 | E3: 재 료 비 | G3: 노 무 비 | I3: 경 비 | K3: 합 계 | M3: 비고
E4: 단 가 | F4: 금 액 | G4: 단 가 | H4: 금 액 | I4: 단 가 | J4: 금 액 | K4: 단 가 | L4: 금 액 | N4: 손료요율 | O4: 손료구분 | P4: 적용구분 | Q4: 합계구분 | R4: 기계경비 | S4: 운반비 | T4: 작업부산물 | U4: 관급 | V4: 외주비 | W4: 장비비 | X4: 폐기물처리비 | Y4: 가설비 | Z4: 잡비제외분 | AA4: 사급자재대 | AB4: 관급자재대 | AC4: 사용자항목1 | AD4: 사용자항목2 | AE4: 안전관리비 | AF4: 품질관리비 | AG4: 작업부산물(철거해체) | AH4: 재해예방기술지도비 | AI4: 사용자항목7 | AJ4: 사용자항목8 | AK4: 사용자항목9 | AL4: 사용자항목10 | AM4: 사용자항목11 | AN4: 사용자항목12 | AO4: 사용자항목13 | AP4: 사용자항목14 | AQ4: 사용자항목15 | AR4: 사용자항목16 | AS4: 사용자항목17 | AT4: 사용자항목18 | AU4: 사용자항목19 | AV4: 간접재료비 | AW4: 품목구분 | AX4: 조달코드 | AY4: 구분
A5: 0101. 장비설치공사
A6: 기름보일러(소형) | B6: 콘덴싱, 하향식, 30,000Kcal/h | C6: 대 | D6: =[1]공량산출서!F8 -> 1 | O6: ="01" -> 01 | P6: 기계경비 | Q6: 1 | R6: =IF(P6="기계경비", J6, 0) -> 0 | S6: =IF(P6="운반비", L6, 0) -> 0 | T6: =IF(P6="작업부산물", F6, 0) -> 0 | U6: =IF(P6="관급", F6, 0) -> 0 | V6: =IF(P6="외주비", J6, 0) -> 0 | W6: =IF(P6="장비비", J6, 0) -> 0 | X6: =IF(P6="폐기물처리비", L6, 0) -> 0 | Y6: =IF(P6="가설비", J6, 0) -> 0 | Z6: =IF(P6="잡비제외분", F6, 0) -> 0 | AA6: =IF(P6="사급자재대", L6, 0) -> 0 | AB6: =IF(P6="관급자재대", L6, 0) -> 0 | AC6: =IF(P6="사용자항목1", L6, 0) -> 0 | AD6: =IF(P6="사용자항목2", L6, 0) -> 0 | AE6: =IF(P6="안전관리비", L6, 0) -> 0 | AF6: =IF(P6="품질관리비", L6, 0) -> 0 | AG6: =IF(P6="작업부산물(철거해체)", L6, 0) -> 0 | AH6: =IF(P6="재해예방기술지도비", L6, 0) -> 0 | AI6: =IF(P6="사용자항목7", L6, 0) -> 0 | AJ6: =IF(P6="사용자항목8", L6, 0) -> 0 | AK6: =IF(P6="사용자항목9", L6, 0) -> 0 | AL6: =IF(P6="사용자항목10", L6, 0) -> 0 | AM6: =IF(P6="사용자항목11", L6, 0) -> 0 | AN6: =IF(P6="사용자항목12", L6, 0) -> 0 | AO6: =IF(P6="사용자항목13", L6, 0) -> 0 | AP6: =IF(P6="사용자항목14", L6, 0) -> 0 | AQ6: =IF(P6="사용자항목15", L6, 0) -> 0 | AR6: =IF(P6="사용자항목16", L6, 0) -> 0 | AS6: =IF(P6="사용자항목17", L6, 0) -> 0 | AT6: =IF(P6="사용자항목18", L6, 0) -> 0 | AU6: =IF(P6="사용자항목19", L6, 0) -> 0
A7: 환풍기 | B7: 3.5cmm 역풍방지댐퍼내장형, 250×250mm 천장용 | C7: 대 | D7: =[1]공량산출서!F10 -> 2 | O7: ="01" -> 01 | P7: 기계경비 | Q7: 1 | R7: =IF(P7="기계경비", J7, 0) -> 0 | S7: =IF(P7="운반비", L7, 0) -> 0 | T7: =IF(P7="작업부산물", F7, 0) -> 0 | U7: =IF(P7="관급", F7, 0) -> 0 | V7: =IF(P7="외주비", J7, 0) -> 0 | W7: =IF(P7="장비비", J7, 0) -> 0 | X7: =IF(P7="폐기물처리비", L7, 0) -> 0 | Y7: =IF(P7="가설비", J7, 0) -> 0 | Z7: =IF(P7="잡비제외분", F7, 0) -> 0 | AA7: =IF(P7="사급자재대", L7, 0) -> 0 | AB7: =IF(P7="관급자재대", L7, 0) -> 0 | AC7: =IF(P7="사용자항목1", L7, 0) -> 0 | AD7: =IF(P7="사용자항목2", L7, 0) -> 0 | AE7: =IF(P7="안전관리비", L7, 0) -> 0 | AF7: =IF(P7="품질관리비", L7, 0) -> 0 | AG7: =IF(P7="작업부산물(철거해체)", L7, 0) -> 0 | AH7: =IF(P7="재해예방기술지도비", L7, 0) -> 0 | AI7: =IF(P7="사용자항목7", L7, 0) -> 0 | AJ7: =IF(P7="사용자항목8", L7, 0) -> 0 | AK7: =IF(P7="사용자항목9", L7, 0) -> 0 | AL7: =IF(P7="사용자항목10", L7, 0) -> 0 | AM7: =IF(P7="사용자항목11", L7, 0) -> 0 | AN7: =IF(P7="사용자항목12", L7, 0) -> 0 | AO7: =IF(P7="사용자항목13", L7, 0) -> 0 | AP7: =IF(P7="사용자항목14", L7, 0) -> 0 | AQ7: =IF(P7="사용자항목15", L7, 0) -> 0 | AR7: =IF(P7="사용자항목16", L7, 0) -> 0 | AS7: =IF(P7="사용자항목17", L7, 0) -> 0 | AT7: =IF(P7="사용자항목18", L7, 0) -> 0 | AU7: =IF(P7="사용자항목19", L7, 0) -> 0
A8: 보일러공 | B8: 일반공사 직종 | C8: 인 | D8: =[1]공량산출서!G25 -> 1.46 | O8: ="02" -> 02 | P8: 기계경비 | Q8: 1 | R8: =IF(P8="기계경비", J8, 0) -> 0 | S8: =IF(P8="운반비", L8, 0) -> 0 | T8: =IF(P8="작업부산물", F8, 0) -> 0 | U8: =IF(P8="관급", F8, 0) -> 0 | V8: =IF(P8="외주비", J8, 0) -> 0 | W8: =IF(P8="장비비", J8, 0) -> 0 | X8: =IF(P8="폐기물처리비", L8, 0) -> 0 | Y8: =IF(P8="가설비", J8, 0) -> 0 | Z8: =IF(P8="잡비제외분", F8, 0) -> 0 | AA8: =IF(P8="사급자재대", L8, 0) -> 0 | AB8: =IF(P8="관급자재대", L8, 0) -> 0 | AC8: =IF(P8="사용자항목1", L8, 0) -> 0 | AD8: =IF(P8="사용자항목2", L8, 0) -> 0 | AE8: =IF(P8="안전관리비", L8, 0) -> 0 | AF8: =IF(P8="품질관리비", L8, 0) -> 0 | AG8: =IF(P8="작업부산물(철거해체)", L8, 0) -> 0 | AH8: =IF(P8="재해예방기술지도비", L8, 0) -> 0 | AI8: =IF(P8="사용자항목7", L8, 0) -> 0 | AJ8: =IF(P8="사용자항목8", L8, 0) -> 0 | AK8: =IF(P8="사용자항목9", L8, 0) -> 0 | AL8: =IF(P8="사용자항목10", L8, 0) -> 0 | AM8: =IF(P8="사용자항목11", L8, 0) -> 0 | AN8: =IF(P8="사용자항목12", L8, 0) -> 0 | AO8: =IF(P8="사용자항목13", L8, 0) -> 0 | AP8: =IF(P8="사용자항목14", L8, 0) -> 0 | AQ8: =IF(P8="사용자항목15", L8, 0) -> 0 | AR8: =IF(P8="사용자항목16", L8, 0) -> 0 | AS8: =IF(P8="사용자항목17", L8, 0) -> 0 | AT8: =IF(P8="사용자항목18", L8, 0) -> 0 | AU8: =IF(P8="사용자항목19", L8, 0) -> 0
A9: 특별인부 | B9: 일반공사 직종 | C9: 인 | D9: =[1]공량산출서!H25 -> 0.58 | O9: ="02" -> 02 | P9: 기계경비 | Q9: 1 | R9: =IF(P9="기계경비", J9, 0) -> 0 | S9: =IF(P9="운반비", L9, 0) -> 0 | T9: =IF(P9="작업부산물", F9, 0) -> 0 | U9: =IF(P9="관급", F9, 0) -> 0 | V9: =IF(P9="외주비", J9, 0) -> 0 | W9: =IF(P9="장비비", J9, 0) -> 0 | X9: =IF(P9="폐기물처리비", L9, 0) -> 0 | Y9: =IF(P9="가설비", J9, 0) -> 0 | Z9: =IF(P9="잡비제외분", F9, 0) -> 0 | AA9: =IF(P9="사급자재대", L9, 0) -> 0 | AB9: =IF(P9="관급자재대", L9, 0) -> 0 | AC9: =IF(P9="사용자항목1", L9, 0) -> 0 | AD9: =IF(P9="사용자항목2", L9, 0) -> 0 | AE9: =IF(P9="안전관리비", L9, 0) -> 0 | AF9: =IF(P9="품질관리비", L9, 0) -> 0 | AG9: =IF(P9="작업부산물(철거해체)", L9, 0) -> 0 | AH9: =IF(P9="재해예방기술지도비", L9, 0) -> 0 | AI9: =IF(P9="사용자항목7", L9, 0) -> 0 | AJ9: =IF(P9="사용자항목8", L9, 0) -> 0 | AK9: =IF(P9="사용자항목9", L9, 0) -> 0 | AL9: =IF(P9="사용자항목10", L9, 0) -> 0 | AM9: =IF(P9="사용자항목11", L9, 0) -> 0 | AN9: =IF(P9="사용자항목12", L9, 0) -> 0 | AO9: =IF(P9="사용자항목13", L9, 0) -> 0 | AP9: =IF(P9="사용자항목14", L9, 0) -> 0 | AQ9: =IF(P9="사용자항목15", L9, 0) -> 0 | AR9: =IF(P9="사용자항목16", L9, 0) -> 0 | AS9: =IF(P9="사용자항목17", L9, 0) -> 0 | AT9: =IF(P9="사용자항목18", L9, 0) -> 0 | AU9: =IF(P9="사용자항목19", L9, 0) -> 0
A10: 기계설비공 | B10: 일반공사 직종 | C10: 인 | D10: =[1]공량산출서!I25 -> 0.222 | O10: ="02" -> 02 | P10: 기계경비 | Q10: 1 | R10: =IF(P10="기계경비", J10, 0) -> 0 | S10: =IF(P10="운반비", L10, 0) -> 0 | T10: =IF(P10="작업부산물", F10, 0) -> 0 | U10: =IF(P10="관급", F10, 0) -> 0 | V10: =IF(P10="외주비", J10, 0) -> 0 | W10: =IF(P10="장비비", J10, 0) -> 0 | X10: =IF(P10="폐기물처리비", L10, 0) -> 0 | Y10: =IF(P10="가설비", J10, 0) -> 0 | Z10: =IF(P10="잡비제외분", F10, 0) -> 0 | AA10: =IF(P10="사급자재대", L10, 0) -> 0 | AB10: =IF(P10="관급자재대", L10, 0) -> 0 | AC10: =IF(P10="사용자항목1", L10, 0) -> 0 | AD10: =IF(P10="사용자항목2", L10, 0) -> 0 | AE10: =IF(P10="안전관리비", L10, 0) -> 0 | AF10: =IF(P10="품질관리비", L10, 0) -> 0 | AG10: =IF(P10="작업부산물(철거해체)", L10, 0) -> 0 | AH10: =IF(P10="재해예방기술지도비", L10, 0) -> 0 | AI10: =IF(P10="사용자항목7", L10, 0) -> 0 | AJ10: =IF(P10="사용자항목8", L10, 0) -> 0 | AK10: =IF(P10="사용자항목9", L10, 0) -> 0 | AL10: =IF(P10="사용자항목10", L10, 0) -> 0 | AM10: =IF(P10="사용자항목11", L10, 0) -> 0 | AN10: =IF(P10="사용자항목12", L10, 0) -> 0 | AO10: =IF(P10="사용자항목13", L10, 0) -> 0 | AP10: =IF(P10="사용자항목14", L10, 0) -> 0 | AQ10: =IF(P10="사용자항목15", L10, 0) -> 0 | AR10: =IF(P10="사용자항목16", L10, 0) -> 0 | AS10: =IF(P10="사용자항목17", L10, 0) -> 0 | AT10: =IF(P10="사용자항목18", L10, 0) -> 0 | AU10: =IF(P10="사용자항목19", L10, 0) -> 0
A11: 보통인부 | B11: 일반공사 직종 | C11: 인 | D11: =[1]공량산출서!J25 -> 0.112 | O11: ="02" -> 02 | P11: 기계경비 | Q11: 1 | R11: =IF(P11="기계경비", J11, 0) -> 0 | S11: =IF(P11="운반비", L11, 0) -> 0 | T11: =IF(P11="작업부산물", F11, 0) -> 0 | U11: =IF(P11="관급", F11, 0) -> 0 | V11: =IF(P11="외주비", J11, 0) -> 0 | W11: =IF(P11="장비비", J11, 0) -> 0 | X11: =IF(P11="폐기물처리비", L11, 0) -> 0 | Y11: =IF(P11="가설비", J11, 0) -> 0 | Z11: =IF(P11="잡비제외분", F11, 0) -> 0 | AA11: =IF(P11="사급자재대", L11, 0) -> 0 | AB11: =IF(P11="관급자재대", L11, 0) -> 0 | AC11: =IF(P11="사용자항목1", L11, 0) -> 0 | AD11: =IF(P11="사용자항목2", L11, 0) -> 0 | AE11: =IF(P11="안전관리비", L11, 0) -> 0 | AF11: =IF(P11="품질관리비", L11, 0) -> 0 | AG11: =IF(P11="작업부산물(철거해체)", L11, 0) -> 0 | AH11: =IF(P11="재해예방기술지도비", L11, 0) -> 0 | AI11: =IF(P11="사용자항목7", L11, 0) -> 0 | AJ11: =IF(P11="사용자항목8", L11, 0) -> 0 | AK11: =IF(P11="사용자항목9", L11, 0) -> 0 | AL11: =IF(P11="사용자항목10", L11, 0) -> 0 | AM11: =IF(P11="사용자항목11", L11, 0) -> 0 | AN11: =IF(P11="사용자항목12", L11, 0) -> 0 | AO11: =IF(P11="사용자항목13", L11, 0) -> 0 | AP11: =IF(P11="사용자항목14", L11, 0) -> 0 | AQ11: =IF(P11="사용자항목15", L11, 0) -> 0 | AR11: =IF(P11="사용자항목16", L11, 0) -> 0 | AS11: =IF(P11="사용자항목17", L11, 0) -> 0 | AT11: =IF(P11="사용자항목18", L11, 0) -> 0 | AU11: =IF(P11="사용자항목19", L11, 0) -> 0
A12: 공구손료 | B12: ="노무비의 " & N12*100 & "%" -> 노무비의 3% | C12: 식 | D12: 1 | N12: 0.03 | O12: ="" | P12: 기계경비 | Q12: 1 | R12: =IF(P12="기계경비", J12, 0) -> 0 | S12: =IF(P12="운반비", L12, 0) -> 0 | T12: =IF(P12="작업부산물", F12, 0) -> 0 | U12: =IF(P12="관급", F12, 0) -> 0 | V12: =IF(P12="외주비", J12, 0) -> 0 | W12: =IF(P12="장비비", J12, 0) -> 0 | X12: =IF(P12="폐기물처리비", L12, 0) -> 0 | Y12: =IF(P12="가설비", J12, 0) -> 0 | Z12: =IF(P12="잡비제외분", F12, 0) -> 0 | AA12: =IF(P12="사급자재대", L12, 0) -> 0 | AB12: =IF(P12="관급자재대", L12, 0) -> 0 | AC12: =IF(P12="사용자항목1", L12, 0) -> 0 | AD12: =IF(P12="사용자항목2", L12, 0) -> 0 | AE12: =IF(P12="안전관리비", L12, 0) -> 0 | AF12: =IF(P12="품질관리비", L12, 0) -> 0 | AG12: =IF(P12="작업부산물(철거해체)", L12, 0) -> 0 | AH12: =IF(P12="재해예방기술지도비", L12, 0) -> 0 | AI12: =IF(P12="사용자항목7", L12, 0) -> 0 | AJ12: =IF(P12="사용자항목8", L12, 0) -> 0 | AK12: =IF(P12="사용자항목9", L12, 0) -> 0 | AL12: =IF(P12="사용자항목10", L12, 0) -> 0 | AM12: =IF(P12="사용자항목11", L12, 0) -> 0 | AN12: =IF(P12="사용자항목12", L12, 0) -> 0 | AO12: =IF(P12="사용자항목13", L12, 0) -> 0 | AP12: =IF(P12="사용자항목14", L12, 0) -> 0 | AQ12: =IF(P12="사용자항목15", L12, 0) -> 0 | AR12: =IF(P12="사용자항목16", L12, 0) -> 0 | AS12: =IF(P12="사용자항목17", L12, 0) -> 0 | AT12: =IF(P12="사용자항목18", L12, 0) -> 0 | AU12: =IF(P12="사용자항목19", L12, 0) -> 0 | AW12: 24 | AX12: A0200000000
A26: 합 계 | R26: =ROUNDDOWN(SUM(R6:R12), 0) -> 0 | S26: =ROUNDDOWN(SUM(S6:S12), 0) -> 0 | T26: =ROUNDDOWN(SUM(T6:T12), 0) -> 0 | U26: =ROUNDDOWN(SUM(U6:U12), 0) -> 0 | V26: =ROUNDDOWN(SUM(V6:V12), 0) -> 0 | W26: =ROUNDDOWN(SUM(W6:W12), 0) -> 0 | X26: =ROUNDDOWN(SUM(X6:X12), 0) -> 0 | Y26: =ROUNDDOWN(SUM(Y6:Y12), 0) -> 0 | ... AY26: =ROUNDDOWN(SUM(AY6:AY12), 0) -> 0
A27: 0102. 위생도기설치공사
A28: 대변기 | B28: 절수형 서양식탱크 밀결형 사이펀 변기, ㉿1210CR2 치마형 | C28: 조 | D28: =[1]공량산출서!F28 -> 2 | O28: ="04" -> 04 | P28: 기계경비 | Q28: 1 | R28: =IF(P28="기계경비", J28, 0) -> 0 | S28: =IF(P28="운반비", L28, 0) -> 0 | T28: =IF(P28="작업부산물", F28, 0) -> 0 | U28: =IF(P28="관급", F28, 0) -> 0 | V28: =IF(P28="외주비", J28, 0) -> 0 | W28: =IF(P28="장비비", J28, 0) -> 0 | X28: =IF(P28="폐기물처리비", L28, 0) -> 0 | Y28: =IF(P28="가설비", J28, 0) -> 0 | Z28: =IF(P28="잡비제외분", F28, 0) -> 0 | AA28: =IF(P28="사급자재대", L28, 0) -> 0 | AB28: =IF(P28="관급자재대", L28, 0) -> 0 | AC28: =IF(P28="사용자항목1", L28, 0) -> 0 | AD28: =IF(P28="사용자항목2", L28, 0) -> 0 | AE28: =IF(P28="안전관리비", L28, 0) -> 0 | AF28: =IF(P28="품질관리비", L28, 0) -> 0 | AG28: =IF(P28="작업부산물(철거해체)", L28, 0) -> 0 | AH28: =IF(P28="재해예방기술지도비", L28, 0) -> 0 | AI28: =IF(P28="사용자항목7", L28, 0) -> 0 | AJ28: =IF(P28="사용자항목8", L28, 0) -> 0 | AK28: =IF(P28="사용자항목9", L28, 0) -> 0 | AL28: =IF(P28="사용자항목10", L28, 0) -> 0 | AM28: =IF(P28="사용자항목11", L28, 0) -> 0 | AN28: =IF(P28="사용자항목12", L28, 0) -> 0 | AO28: =IF(P28="사용자항목13", L28, 0) -> 0 | AP28: =IF(P28="사용자항목14", L28, 0) -> 0 | AQ28: =IF(P28="사용자항목15", L28, 0) -> 0 | AR28: =IF(P28="사용자항목16", L28, 0) -> 0 | AS28: =IF(P28="사용자항목17", L28, 0) -> 0 | AT28: =IF(P28="사용자항목18", L28, 0) -> 0 | AU28: =IF(P28="사용자항목19", L28, 0) -> 0
A29: 손잡이 | B29: 손잡이, 장애자용손잡이, 대변기용, 가동식(상하,좌우) | C29: 개 | D29: =[1]공량산출서!F30 -> 1 | O29: ="01" -> 01 | P29: 기계경비 | Q29: 1 | R29: =IF(P29="기계경비", J29, 0) -> 0 | S29: =IF(P29="운반비", L29, 0) -> 0 | T29: =IF(P29="작업부산물", F29, 0) -> 0 | U29: =IF(P29="관급", F29, 0) -> 0 | V29: =IF(P29="외주비", J29, 0) -> 0 | W29: =IF(P29="장비비", J29, 0) -> 0 | X29: =IF(P29="폐기물처리비", L29, 0) -> 0 | Y29: =IF(P29="가설비", J29, 0) -> 0 | Z29: =IF(P29="잡비제외분", F29, 0) -> 0 | AA29: =IF(P29="사급자재대", L29, 0) -> 0 | AB29: =IF(P29="관급자재대", L29, 0) -> 0 | AC29: =IF(P29="사용자항목1", L29, 0) -> 0 | AD29: =IF(P29="사용자항목2", L29, 0) -> 0 | AE29: =IF(P29="안전관리비", L29, 0) -> 0 | AF29: =IF(P29="품질관리비", L29, 0) -> 0 | AG29: =IF(P29="작업부산물(철거해체)", L29, 0) -> 0 | AH29: =IF(P29="재해예방기술지도비", L29, 0) -> 0 | AI29: =IF(P29="사용자항목7", L29, 0) -> 0 | AJ29: =IF(P29="사용자항목8", L29, 0) -> 0 | AK29: =IF(P29="사용자항목9", L29, 0) -> 0 | AL29: =IF(P29="사용자항목10", L29, 0) -> 0 | AM29: =IF(P29="사용자항목11", L29, 0) -> 0 | AN29: =IF(P29="사용자항목12", L29, 0) -> 0 | AO29: =IF(P29="사용자항목13", L29, 0) -> 0 | AP29: =IF(P29="사용자항목14", L29, 0) -> 0 | AQ29: =IF(P29="사용자항목15", L29, 0) -> 0 | AR29: =IF(P29="사용자항목16", L29, 0) -> 0 | AS29: =IF(P29="사용자항목17", L29, 0) -> 0 | AT29: =IF(P29="사용자항목18", L29, 0) -> 0 | AU29: =IF(P29="사용자항목19", L29, 0) -> 0
A30: 손잡이 | B30: 손잡이, 장애자용손잡이, 양변기용(L자), 다용도(우형) | C30: 개 | D30: =[1]공량산출서!F32 -> 1 | O30: ="01" -> 01 | P30: 기계경비 | Q30: 1 | R30: =IF(P30="기계경비", J30, 0) -> 0 | S30: =IF(P30="운반비", L30, 0) -> 0 | T30: =IF(P30="작업부산물", F30, 0) -> 0 | U30: =IF(P30="관급", F30, 0) -> 0 | V30: =IF(P30="외주비", J30, 0) -> 0 | W30: =IF(P30="장비비", J30, 0) -> 0 | X30: =IF(P30="폐기물처리비", L30, 0) -> 0 | Y30: =IF(P30="가설비", J30, 0) -> 0 | Z30: =IF(P30="잡비제외분", F30, 0) -> 0 | AA30: =IF(P30="사급자재대", L30, 0) -> 0 | AB30: =IF(P30="관급자재대", L30, 0) -> 0 | AC30: =IF(P30="사용자항목1", L30, 0) -> 0 | AD30: =IF(P30="사용자항목2", L30, 0) -> 0 | AE30: =IF(P30="안전관리비", L30, 0) -> 0 | AF30: =IF(P30="품질관리비", L30, 0) -> 0 | AG30: =IF(P30="작업부산물(철거해체)", L30, 0) -> 0 | AH30: =IF(P30="재해예방기술지도비", L30, 0) -> 0 | AI30: =IF(P30="사용자항목7", L30, 0) -> 0 | AJ30: =IF(P30="사용자항목8", L30, 0) -> 0 | AK30: =IF(P30="사용자항목9", L30, 0) -> 0 | AL30: =IF(P30="사용자항목10", L30, 0) -> 0 | AM30: =IF(P30="사용자항목11", L30, 0) -> 0 | AN30: =IF(P30="사용자항목12", L30, 0) -> 0 | AO30: =IF(P30="사용자항목13", L30, 0) -> 0 | AP30: =IF(P30="사용자항목14", L30, 0) -> 0 | AQ30: =IF(P30="사용자항목15", L30, 0) -> 0 | AR30: =IF(P30="사용자항목16", L30, 0) -> 0 | AS30: =IF(P30="사용자항목17", L30, 0) -> 0 | AT30: =IF(P30="사용자항목18", L30, 0) -> 0 | AU30: =IF(P30="사용자항목19", L30, 0) -> 0
A31: 안전손잡이 설치 | B31: 고정단 2개 | C31: 개 | D31: 2 | O31: ="" | P31: 기계경비 | Q31: 1 | R31: =IF(P31="기계경비", J31, 0) -> 0 | S31: =IF(P31="운반비", L31, 0) -> 0 | T31: =IF(P31="작업부산물", F31, 0) -> 0 | U31: =IF(P31="관급", F31, 0) -> 0 | V31: =IF(P31="외주비", J31, 0) -> 0 | W31: =IF(P31="장비비", J31, 0) -> 0 | X31: =IF(P31="폐기물처리비", L31, 0) -> 0 | Y31: =IF(P31="가설비", J31, 0) -> 0 | Z31: =IF(P31="잡비제외분", F31, 0) -> 0 | AA31: =IF(P31="사급자재대", L31, 0) -> 0 | AB31: =IF(P31="관급자재대", L31, 0) -> 0 | AC31: =IF(P31="사용자항목1", L31, 0) -> 0 | AD31: =IF(P31="사용자항목2", L31, 0) -> 0 | AE31: =IF(P31="안전관리비", L31, 0) -> 0 | AF31: =IF(P31="품질관리비", L31, 0) -> 0 | AG31: =IF(P31="작업부산물(철거해체)", L31, 0) -> 0 | AH31: =IF(P31="재해예방기술지도비", L31, 0) -> 0 | AI31: =IF(P31="사용자항목7", L31, 0) -> 0 | AJ31: =IF(P31="사용자항목8", L31, 0) -> 0 | AK31: =IF(P31="사용자항목9", L31, 0) -> 0 | AL31: =IF(P31="사용자항목10", L31, 0) -> 0 | AM31: =IF(P31="사용자항목11", L31, 0) -> 0 | AN31: =IF(P31="사용자항목12", L31, 0) -> 0 | AO31: =IF(P31="사용자항목13", L31, 0) -> 0 | AP31: =IF(P31="사용자항목14", L31, 0) -> 0 | AQ31: =IF(P31="사용자항목15", L31, 0) -> 0 | AR31: =IF(P31="사용자항목16", L31, 0) -> 0 | AS31: =IF(P31="사용자항목17", L31, 0) -> 0 | AT31: =IF(P31="사용자항목18", L31, 0) -> 0 | AU31: =IF(P31="사용자항목19", L31, 0) -> 0 | AY31: MHC30010010S
A32: 화장실용 액세서리 | B32: 다용도선반(알루미늄) | C32: 개 | D32: =[1]공량산출서!F34 -> 1 | O32: ="01" -> 01 | P32: 기계경비 | Q32: 1 | R32: =IF(P32="기계경비", J32, 0) -> 0 | S32: =IF(P32="운반비", L32, 0) -> 0 | T32: =IF(P32="작업부산물", F32, 0) -> 0 | U32: =IF(P32="관급", F32, 0) -> 0 | V32: =IF(P32="외주비", J32, 0) -> 0 | W32: =IF(P32="장비비", J32, 0) -> 0 | X32: =IF(P32="폐기물처리비", L32, 0) -> 0 | Y32: =IF(P32="가설비", J32, 0) -> 0 | Z32: =IF(P32="잡비제외분", F32, 0) -> 0 | AA32: =IF(P32="사급자재대", L32, 0) -> 0 | AB32: =IF(P32="관급자재대", L32, 0) -> 0 | AC32: =IF(P32="사용자항목1", L32, 0) -> 0 | AD32: =IF(P32="사용자항목2", L32, 0) -> 0 | AE32: =IF(P32="안전관리비", L32, 0) -> 0 | AF32: =IF(P32="품질관리비", L32, 0) -> 0 | AG32: =IF(P32="작업부산물(철거해체)", L32, 0) -> 0 | AH32: =IF(P32="재해예방기술지도비", L32, 0) -> 0 | AI32: =IF(P32="사용자항목7", L32, 0) -> 0 | AJ32: =IF(P32="사용자항목8", L32, 0) -> 0 | AK32: =IF(P32="사용자항목9", L32, 0) -> 0 | AL32: =IF(P32="사용자항목10", L32, 0) -> 0 | AM32: =IF(P32="사용자항목11", L32, 0) -> 0 | AN32: =IF(P32="사용자항목12", L32, 0) -> 0 | AO32: =IF(P32="사용자항목13", L32, 0) -> 0 | AP32: =IF(P32="사용자항목14", L32, 0) -> 0 | AQ32: =IF(P32="사용자항목15", L32, 0) -> 0 | AR32: =IF(P32="사용자항목16", L32, 0) -> 0 | AS32: =IF(P32="사용자항목17", L32, 0) -> 0 | AT32: =IF(P32="사용자항목18", L32, 0) -> 0 | AU32: =IF(P32="사용자항목19", L32, 0) -> 0
A33: 화장실용 액세서리 | B33: 비누대, STS | C33: 개 | D33: =[1]공량산출서!F36 -> 2 | O33: ="01" -> 01 | P33: 기계경비 | Q33: 1 | R33: =IF(P33="기계경비", J33, 0) -> 0 | S33: =IF(P33="운반비", L33, 0) -> 0 | T33: =IF(P33="작업부산물", F33, 0) -> 0 | U33: =IF(P33="관급", F33, 0) -> 0 | V33: =IF(P33="외주비", J33, 0) -> 0 | W33: =IF(P33="장비비", J33, 0) -> 0 | X33: =IF(P33="폐기물처리비", L33, 0) -> 0 | Y33: =IF(P33="가설비", J33, 0) -> 0 | Z33: =IF(P33="잡비제외분", F33, 0) -> 0 | AA33: =IF(P33="사급자재대", L33, 0) -> 0 | AB33: =IF(P33="관급자재대", L33, 0) -> 0 | AC33: =IF(P33="사용자항목1", L33, 0) -> 0 | AD33: =IF(P33="사용자항목2", L33, 0) -> 0 | AE33: =IF(P33="안전관리비", L33, 0) -> 0 | AF33: =IF(P33="품질관리비", L33, 0) -> 0 | AG33: =IF(P33="작업부산물(철거해체)", L33, 0) -> 0 | AH33: =IF(P33="재해예방기술지도비", L33, 0) -> 0 | AI33: =IF(P33="사용자항목7", L33, 0) -> 0 | AJ33: =IF(P33="사용자항목8", L33, 0) -> 0 | AK33: =IF(P33="사용자항목9", L33, 0) -> 0 | AL33: =IF(P33="사용자항목10", L33, 0) -> 0 | AM33: =IF(P33="사용자항목11", L33, 0) -> 0 | AN33: =IF(P33="사용자항목12", L33, 0) -> 0 | AO33: =IF(P33="사용자항목13", L33, 0) -> 0 | AP33: =IF(P33="사용자항목14", L33, 0) -> 0 | AQ33: =IF(P33="사용자항목15", L33, 0) -> 0 | AR33: =IF(P33="사용자항목16", L33, 0) -> 0 | AS33: =IF(P33="사용자항목17", L33, 0) -> 0 | AT33: =IF(P33="사용자항목18", L33, 0) -> 0 | AU33: =IF(P33="사용자항목19", L33, 0) -> 0
A34: 화장실용 액세서리 | B34: 수건걸이, 1BAR | C34: 개 | D34: =[1]공량산출서!F38 -> 2 | O34: ="01" -> 01 | P34: 기계경비 | Q34: 1 | R34: =IF(P34="기계경비", J34, 0) -> 0 | S34: =IF(P34="운반비", L34, 0) -> 0 | T34: =IF(P34="작업부산물", F34, 0) -> 0 | U34: =IF(P34="관급", F34, 0) -> 0 | V34: =IF(P34="외주비", J34, 0) -> 0 | W34: =IF(P34="장비비", J34, 0) -> 0 | X34: =IF(P34="폐기물처리비", L34, 0) -> 0 | Y34: =IF(P34="가설비", J34, 0) -> 0 | Z34: =IF(P34="잡비제외분", F34, 0) -> 0 | AA34: =IF(P34="사급자재대", L34, 0) -> 0 | AB34: =IF(P34="관급자재대", L34, 0) -> 0 | AC34: =IF(P34="사용자항목1", L34, 0) -> 0 | AD34: =IF(P34="사용자항목2", L34, 0) -> 0 | AE34: =IF(P34="안전관리비", L34, 0) -> 0 | AF34: =IF(P34="품질관리비", L34, 0) -> 0 | AG34: =IF(P34="작업부산물(철거해체)", L34, 0) -> 0 | AH34: =IF(P34="재해예방기술지도비", L34, 0) -> 0 | AI34: =IF(P34="사용자항목7", L34, 0) -> 0 | AJ34: =IF(P34="사용자항목8", L34, 0) -> 0 | AK34: =IF(P34="사용자항목9", L34, 0) -> 0 | AL34: =IF(P34="사용자항목10", L34, 0) -> 0 | AM34: =IF(P34="사용자항목11", L34, 0) -> 0 | AN34: =IF(P34="사용자항목12", L34, 0) -> 0 | AO34: =IF(P34="사용자항목13", L34, 0) -> 0 | AP34: =IF(P34="사용자항목14", L34, 0) -> 0 | AQ34: =IF(P34="사용자항목15", L34, 0) -> 0 | AR34: =IF(P34="사용자항목16", L34, 0) -> 0 | AS34: =IF(P34="사용자항목17", L34, 0) -> 0 | AT34: =IF(P34="사용자항목18", L34, 0) -> 0 | AU34: =IF(P34="사용자항목19", L34, 0) -> 0
A35: 화장실용 액세서리 | B35: 휴지걸이, STS | C35: 개 | D35: =[1]공량산출서!F40 -> 2 | O35: ="01" -> 01 | P35: 기계경비 | Q35: 1 | R35: =IF(P35="기계경비", J35, 0) -> 0 | S35: =IF(P35="운반비", L35, 0) -> 0 | T35: =IF(P35="작업부산물", F35, 0) -> 0 | U35: =IF(P35="관급", F35, 0) -> 0 | V35: =IF(P35="외주비", J35, 0) -> 0 | W35: =IF(P35="장비비", J35, 0) -> 0 | X35: =IF(P35="폐기물처리비", L35, 0) -> 0 | Y35: =IF(P35="가설비", J35, 0) -> 0 | Z35: =IF(P35="잡비제외분", F35, 0) -> 0 | AA35: =IF(P35="사급자재대", L35, 0) -> 0 | AB35: =IF(P35="관급자재대", L35, 0) -> 0 | AC35: =IF(P35="사용자항목1", L35, 0) -> 0 | AD35: =IF(P35="사용자항목2", L35, 0) -> 0 | AE35: =IF(P35="안전관리비", L35, 0) -> 0 | AF35: =IF(P35="품질관리비", L35, 0) -> 0 | AG35: =IF(P35="작업부산물(철거해체)", L35, 0) -> 0 | AH35: =IF(P35="재해예방기술지도비", L35, 0) -> 0 | AI35: =IF(P35="사용자항목7", L35, 0) -> 0 | AJ35: =IF(P35="사용자항목8", L35, 0) -> 0 | AK35: =IF(P35="사용자항목9", L35, 0) -> 0 | AL35: =IF(P35="사용자항목10", L35, 0) -> 0 | AM35: =IF(P35="사용자항목11", L35, 0) -> 0 | AN35: =IF(P35="사용자항목12", L35, 0) -> 0 | AO35: =IF(P35="사용자항목13", L35, 0) -> 0 | AP35: =IF(P35="사용자항목14", L35, 0) -> 0 | AQ35: =IF(P35="사용자항목15", L35, 0) -> 0 | AR35: =IF(P35="사용자항목16", L35, 0) -> 0 | AS35: =IF(P35="사용자항목17", L35, 0) -> 0 | AT35: =IF(P35="사용자항목18", L35, 0) -> 0 | AU35: =IF(P35="사용자항목19", L35, 0) -> 0
A36: 세면기 | B36: 세면기, 세면기추가구성품(자동폽업,아이트랩(P형),앵글밸브) | C36: 조 | D36: =[1]공량산출서!F42 -> 2 | O36: ="04" -> 04 | P36: 기계경비 | Q36: 1 | R36: =IF(P36="기계경비", J36, 0) -> 0 | S36: =IF(P36="운반비", L36, 0) -> 0 | T36: =IF(P36="작업부산물", F36, 0) -> 0 | U36: =IF(P36="관급", F36, 0) -> 0 | V36: =IF(P36="외주비", J36, 0) -> 0 | W36: =IF(P36="장비비", J36, 0) -> 0 | X36: =IF(P36="폐기물처리비", L36, 0) -> 0 | Y36: =IF(P36="가설비", J36, 0) -> 0 | Z36: =IF(P36="잡비제외분", F36, 0) -> 0 | AA36: =IF(P36="사급자재대", L36, 0) -> 0 | AB36: =IF(P36="관급자재대", L36, 0) -> 0 | AC36: =IF(P36="사용자항목1", L36, 0) -> 0 | AD36: =IF(P36="사용자항목2", L36, 0) -> 0 | AE36: =IF(P36="안전관리비", L36, 0) -> 0 | AF36: =IF(P36="품질관리비", L36, 0) -> 0 | AG36: =IF(P36="작업부산물(철거해체)", L36, 0) -> 0 | AH36: =IF(P36="재해예방기술지도비", L36, 0) -> 0 | AI36: =IF(P36="사용자항목7", L36, 0) -> 0 | AJ36: =IF(P36="사용자항목8", L36, 0) -> 0 | AK36: =IF(P36="사용자항목9", L36, 0) -> 0 | AL36: =IF(P36="사용자항목10", L36, 0) -> 0 | AM36: =IF(P36="사용자항목11", L36, 0) -> 0 | AN36: =IF(P36="사용자항목12", L36, 0) -> 0 | AO36: =IF(P36="사용자항목13", L36, 0) -> 0 | AP36: =IF(P36="사용자항목14", L36, 0) -> 0 | AQ36: =IF(P36="사용자항목15", L36, 0) -> 0 | AR36: =IF(P36="사용자항목16", L36, 0) -> 0 | AS36: =IF(P36="사용자항목17", L36, 0) -> 0 | AT36: =IF(P36="사용자항목18", L36, 0) -> 0 | AU36: =IF(P36="사용자항목19", L36, 0) -> 0
A37: 세면기 | B37: 세면기, 평면붙임, L610 | C37: 조 | D37: =[1]공량산출서!F44 -> 2 | O37: ="04" -> 04 | P37: 기계경비 | Q37: 1 | R37: =IF(P37="기계경비", J37, 0) -> 0 | S37: =IF(P37="운반비", L37, 0) -> 0 | T37: =IF(P37="작업부산물", F37, 0) -> 0 | U37: =IF(P37="관급", F37, 0) -> 0 | V37: =IF(P37="외주비", J37, 0) -> 0 | W37: =IF(P37="장비비", J37, 0) -> 0 | X37: =IF(P37="폐기물처리비", L37, 0) -> 0 | Y37: =IF(P37="가설비", J37, 0) -> 0 | Z37: =IF(P37="잡비제외분", F37, 0) -> 0 | AA37: =IF(P37="사급자재대", L37, 0) -> 0 | AB37: =IF(P37="관급자재대", L37, 0) -> 0 | AC37: =IF(P37="사용자항목1", L37, 0) -> 0 | AD37: =IF(P37="사용자항목2", L37, 0) -> 0 | AE37: =IF(P37="안전관리비", L37, 0) -> 0 | AF37: =IF(P37="품질관리비", L37, 0) -> 0 | AG37: =IF(P37="작업부산물(철거해체)", L37, 0) -> 0 | AH37: =IF(P37="재해예방기술지도비", L37, 0) -> 0 | AI37: =IF(P37="사용자항목7", L37, 0) -> 0 | AJ37: =IF(P37="사용자항목8", L37, 0) -> 0 | AK37: =IF(P37="사용자항목9", L37, 0) -> 0 | AL37: =IF(P37="사용자항목10", L37, 0) -> 0 | AM37: =IF(P37="사용자항목11", L37, 0) -> 0 | AN37: =IF(P37="사용자항목12", L37, 0) -> 0 | AO37: =IF(P37="사용자항목13", L37, 0) -> 0 | AP37: =IF(P37="사용자항목14", L37, 0) -> 0 | AQ37: =IF(P37="사용자항목15", L37, 0) -> 0 | AR37: =IF(P37="사용자항목16", L37, 0) -> 0 | AS37: =IF(P37="사용자항목17", L37, 0) -> 0 | AT37: =IF(P37="사용자항목18", L37, 0) -> 0 | AU37: =IF(P37="사용자항목19", L37, 0) -> 0
A38: 잡재료비 | B38: ="도기류의 " & N38*100 & "%" -> 도기류의 3% | C38: 식 | D38: 1 | N38: 0.03 | O38: ="" | P38: 기계경비 | Q38: 1 | R38: =IF(P38="기계경비", J38, 0) -> 0 | S38: =IF(P38="운반비", L38, 0) -> 0 | T38: =IF(P38="작업부산물", F38, 0) -> 0 | U38: =IF(P38="관급", F38, 0) -> 0 | V38: =IF(P38="외주비", J38, 0) -> 0 | W38: =IF(P38="장비비", J38, 0) -> 0 | X38: =IF(P38="폐기물처리비", L38, 0) -> 0 | Y38: =IF(P38="가설비", J38, 0) -> 0 | Z38: =IF(P38="잡비제외분", F38, 0) -> 0 | AA38: =IF(P38="사급자재대", L38, 0) -> 0 | AB38: =IF(P38="관급자재대", L38, 0) -> 0 | AC38: =IF(P38="사용자항목1", L38, 0) -> 0 | AD38: =IF(P38="사용자항목2", L38, 0) -> 0 | AE38: =IF(P38="안전관리비", L38, 0) -> 0 | AF38: =IF(P38="품질관리비", L38, 0) -> 0 | AG38: =IF(P38="작업부산물(철거해체)", L38, 0) -> 0 | AH38: =IF(P38="재해예방기술지도비", L38, 0) -> 0 | AI38: =IF(P38="사용자항목7", L38, 0) -> 0 | AJ38: =IF(P38="사용자항목8", L38, 0) -> 0 | AK38: =IF(P38="사용자항목9", L38, 0) -> 0 | AL38: =IF(P38="사용자항목10", L38, 0) -> 0 | AM38: =IF(P38="사용자항목11", L38, 0) -> 0 | AN38: =IF(P38="사용자항목12", L38, 0) -> 0 | AO38: =IF(P38="사용자항목13", L38, 0) -> 0 | AP38: =IF(P38="사용자항목14", L38, 0) -> 0 | AQ38: =IF(P38="사용자항목15", L38, 0) -> 0 | AR38: =IF(P38="사용자항목16", L38, 0) -> 0 | AS38: =IF(P38="사용자항목17", L38, 0) -> 0 | AT38: =IF(P38="사용자항목18", L38, 0) -> 0 | AU38: =IF(P38="사용자항목19", L38, 0) -> 0 | AW38: 20 | AX38: A0400000000 | AY38: 설비
A39: 수전금구(Faucet) | B39: 세면기수전, 원홀수전(싱글레버) | C39: 개 | D39: =[1]공량산출서!F46 -> 2 | O39: ="01" -> 01 | P39: 기계경비 | Q39: 1 | R39: =IF(P39="기계경비", J39, 0) -> 0 | S39: =IF(P39="운반비", L39, 0) -> 0 | T39: =IF(P39="작업부산물", F39, 0) -> 0 | U39: =IF(P39="관급", F39, 0) -> 0 | V39: =IF(P39="외주비", J39, 0) -> 0 | W39: =IF(P39="장비비", J39, 0) -> 0 | X39: =IF(P39="폐기물처리비", L39, 0) -> 0 | Y39: =IF(P39="가설비", J39, 0) -> 0 | Z39: =IF(P39="잡비제외분", F39, 0) -> 0 | AA39: =IF(P39="사급자재대", L39, 0) -> 0 | AB39: =IF(P39="관급자재대", L39, 0) -> 0 | AC39: =IF(P39="사용자항목1", L39, 0) -> 0 | AD39: =IF(P39="사용자항목2", L39, 0) -> 0 | AE39: =IF(P39="안전관리비", L39, 0) -> 0 | AF39: =IF(P39="품질관리비", L39, 0) -> 0 | AG39: =IF(P39="작업부산물(철거해체)", L39, 0) -> 0 | AH39: =IF(P39="재해예방기술지도비", L39, 0) -> 0 | AI39: =IF(P39="사용자항목7", L39, 0) -> 0 | AJ39: =IF(P39="사용자항목8", L39, 0) -> 0 | AK39: =IF(P39="사용자항목9", L39, 0) -> 0 | AL39: =IF(P39="사용자항목10", L39, 0) -> 0 | AM39: =IF(P39="사용자항목11", L39, 0) -> 0 | AN39: =IF(P39="사용자항목12", L39, 0) -> 0 | AO39: =IF(P39="사용자항목13", L39, 0) -> 0 | AP39: =IF(P39="사용자항목14", L39, 0) -> 0 | AQ39: =IF(P39="사용자항목15", L39, 0) -> 0 | AR39: =IF(P39="사용자항목16", L39, 0) -> 0 | AS39: =IF(P39="사용자항목17", L39, 0) -> 0 | AT39: =IF(P39="사용자항목18", L39, 0) -> 0 | AU39: =IF(P39="사용자항목19", L39, 0) -> 0
A40: 수전금구(Faucet) | B40: 좌식샤워수전, 벽붙이샤워(싱글레버), 메탈호스 | C40: 개 | D40: =[1]공량산출서!F48 -> 1 | O40: ="01" -> 01 | P40: 기계경비 | Q40: 1 | R40: =IF(P40="기계경비", J40, 0) -> 0 | S40: =IF(P40="운반비", L40, 0) -> 0 | T40: =IF(P40="작업부산물", F40, 0) -> 0 | U40: =IF(P40="관급", F40, 0) -> 0 | V40: =IF(P40="외주비", J40, 0) -> 0 | W40: =IF(P40="장비비", J40, 0) -> 0 | X40: =IF(P40="폐기물처리비", L40, 0) -> 0 | Y40: =IF(P40="가설비", J40, 0) -> 0 | Z40: =IF(P40="잡비제외분", F40, 0) -> 0 | AA40: =IF(P40="사급자재대", L40, 0) -> 0 | AB40: =IF(P40="관급자재대", L40, 0) -> 0 | AC40: =IF(P40="사용자항목1", L40, 0) -> 0 | AD40: =IF(P40="사용자항목2", L40, 0) -> 0 | AE40: =IF(P40="안전관리비", L40, 0) -> 0 | AF40: =IF(P40="품질관리비", L40, 0) -> 0 | AG40: =IF(P40="작업부산물(철거해체)", L40, 0) -> 0 | AH40: =IF(P40="재해예방기술지도비", L40, 0) -> 0 | AI40: =IF(P40="사용자항목7", L40, 0) -> 0 | AJ40: =IF(P40="사용자항목8", L40, 0) -> 0 | AK40: =IF(P40="사용자항목9", L40, 0) -> 0 | AL40: =IF(P40="사용자항목10", L40, 0) -> 0 | AM40: =IF(P40="사용자항목11", L40, 0) -> 0 | AN40: =IF(P40="사용자항목12", L40, 0) -> 0 | AO40: =IF(P40="사용자항목13", L40, 0) -> 0 | AP40: =IF(P40="사용자항목14", L40, 0) -> 0 | AQ40: =IF(P40="사용자항목15", L40, 0) -> 0 | AR40: =IF(P40="사용자항목16", L40, 0) -> 0 | AS40: =IF(P40="사용자항목17", L40, 0) -> 0 | AT40: =IF(P40="사용자항목18", L40, 0) -> 0 | AU40: =IF(P40="사용자항목19", L40, 0) -> 0
A41: 거울 | B41: 거울, 600×900×5mm | C41: 개 | D41: =[1]공량산출서!F50 -> 2 | O41: ="01" -> 01 | P41: 기계경비 | Q41: 1 | R41: =IF(P41="기계경비", J41, 0) -> 0 | S41: =IF(P41="운반비", L41, 0) -> 0 | T41: =IF(P41="작업부산물", F41, 0) -> 0 | U41: =IF(P41="관급", F41, 0) -> 0 | V41: =IF(P41="외주비", J41, 0) -> 0 | W41: =IF(P41="장비비", J41, 0) -> 0 | X41: =IF(P41="폐기물처리비", L41, 0) -> 0 | Y41: =IF(P41="가설비", J41, 0) -> 0 | Z41: =IF(P41="잡비제외분", F41, 0) -> 0 | AA41: =IF(P41="사급자재대", L41, 0) -> 0 | AB41: =IF(P41="관급자재대", L41, 0) -> 0 | AC41: =IF(P41="사용자항목1", L41, 0) -> 0 | AD41: =IF(P41="사용자항목2", L41, 0) -> 0 | AE41: =IF(P41="안전관리비", L41, 0) -> 0 | AF41: =IF(P41="품질관리비", L41, 0) -> 0 | AG41: =IF(P41="작업부산물(철거해체)", L41, 0) -> 0 | AH41: =IF(P41="재해예방기술지도비", L41, 0) -> 0 | AI41: =IF(P41="사용자항목7", L41, 0) -> 0 | AJ41: =IF(P41="사용자항목8", L41, 0) -> 0 | AK41: =IF(P41="사용자항목9", L41, 0) -> 0 | AL41: =IF(P41="사용자항목10", L41, 0) -> 0 | AM41: =IF(P41="사용자항목11", L41, 0) -> 0 | AN41: =IF(P41="사용자항목12", L41, 0) -> 0 | AO41: =IF(P41="사용자항목13", L41, 0) -> 0 | AP41: =IF(P41="사용자항목14", L41, 0) -> 0 | AQ41: =IF(P41="사용자항목15", L41, 0) -> 0 | AR41: =IF(P41="사용자항목16", L41, 0) -> 0 | AS41: =IF(P41="사용자항목17", L41, 0) -> 0 | AT41: =IF(P41="사용자항목18", L41, 0) -> 0 | AU41: =IF(P41="사용자항목19", L41, 0) -> 0
A42: 거울 | B42: 거울, 450×600×5mm | C42: 개 | D42: =[1]공량산출서!F52 -> 1 | O42: ="01" -> 01 | P42: 기계경비 | Q42: 1 | R42: =IF(P42="기계경비", J42, 0) -> 0 | S42: =IF(P42="운반비", L42, 0) -> 0 | T42: =IF(P42="작업부산물", F42, 0) -> 0 | U42: =IF(P42="관급", F42, 0) -> 0 | V42: =IF(P42="외주비", J42, 0) -> 0 | W42: =IF(P42="장비비", J42, 0) -> 0 | X42: =IF(P42="폐기물처리비", L42, 0) -> 0 | Y42: =IF(P42="가설비", J42, 0) -> 0 | Z42: =IF(P42="잡비제외분", F42, 0) -> 0 | AA42: =IF(P42="사급자재대", L42, 0) -> 0 | AB42: =IF(P42="관급자재대", L42, 0) -> 0 | AC42: =IF(P42="사용자항목1", L42, 0) -> 0 | AD42: =IF(P42="사용자항목2", L42, 0) -> 0 | AE42: =IF(P42="안전관리비", L42, 0) -> 0 | AF42: =IF(P42="품질관리비", L42, 0) -> 0 | AG42: =IF(P42="작업부산물(철거해체)", L42, 0) -> 0 | AH42: =IF(P42="재해예방기술지도비", L42, 0) -> 0 | AI42: =IF(P42="사용자항목7", L42, 0) -> 0 | AJ42: =IF(P42="사용자항목8", L42, 0) -> 0 | AK42: =IF(P42="사용자항목9", L42, 0) -> 0 | AL42: =IF(P42="사용자항목10", L42, 0) -> 0 | AM42: =IF(P42="사용자항목11", L42, 0) -> 0 | AN42: =IF(P42="사용자항목12", L42, 0) -> 0 | AO42: =IF(P42="사용자항목13", L42, 0) -> 0 | AP42: =IF(P42="사용자항목14", L42, 0) -> 0 | AQ42: =IF(P42="사용자항목15", L42, 0) -> 0 | AR42: =IF(P42="사용자항목16", L42, 0) -> 0 | AS42: =IF(P42="사용자항목17", L42, 0) -> 0 | AT42: =IF(P42="사용자항목18", L42, 0) -> 0 | AU42: =IF(P42="사용자항목19", L42, 0) -> 0
A43: 수도꼭지 | B43: 수도꼭지, 가로꼭지, 15mm | C43: 개 | D43: =[1]공량산출서!F54 -> 4 | O43: ="01" -> 01 | P43: 기계경비 | Q43: 1 | R43: =IF(P43="기계경비", J43, 0) -> 0 | S43: =IF(P43="운반비", L43, 0) -> 0 | T43: =IF(P43="작업부산물", F43, 0) -> 0 | U43: =IF(P43="관급", F43, 0) -> 0 | V43: =IF(P43="외주비", J43, 0) -> 0 | W43: =IF(P43="장비비", J43, 0) -> 0 | X43: =IF(P43="폐기물처리비", L43, 0) -> 0 | Y43: =IF(P43="가설비", J43, 0) -> 0 | Z43: =IF(P43="잡비제외분", F43, 0) -> 0 | AA43: =IF(P43="사급자재대", L43, 0) -> 0 | AB43: =IF(P43="관급자재대", L43, 0) -> 0 | AC43: =IF(P43="사용자항목1", L43, 0) -> 0 | AD43: =IF(P43="사용자항목2", L43, 0) -> 0 | AE43: =IF(P43="안전관리비", L43, 0) -> 0 | AF43: =IF(P43="품질관리비", L43, 0) -> 0 | AG43: =IF(P43="작업부산물(철거해체)", L43, 0) -> 0 | AH43: =IF(P43="재해예방기술지도비", L43, 0) -> 0 | AI43: =IF(P43="사용자항목7", L43, 0) -> 0 | AJ43: =IF(P43="사용자항목8", L43, 0) -> 0 | AK43: =IF(P43="사용자항목9", L43, 0) -> 0 | AL43: =IF(P43="사용자항목10", L43, 0) -> 0 | AM43: =IF(P43="사용자항목11", L43, 0) -> 0 | AN43: =IF(P43="사용자항목12", L43, 0) -> 0 | AO43: =IF(P43="사용자항목13", L43, 0) -> 0 | AP43: =IF(P43="사용자항목14", L43, 0) -> 0 | AQ43: =IF(P43="사용자항목15", L43, 0) -> 0 | AR43: =IF(P43="사용자항목16", L43, 0) -> 0 | AS43: =IF(P43="사용자항목17", L43, 0) -> 0 | AT43: =IF(P43="사용자항목18", L43, 0) -> 0 | AU43: =IF(P43="사용자항목19", L43, 0) -> 0
A44: 수도꼭지 | B44: 수도꼭지, 주방수전, 싱글레버 | C44: 개 | D44: =[1]공량산출서!F56 -> 1 | O44: ="01" -> 01 | P44: 기계경비 | Q44: 1 | R44: =IF(P44="기계경비", J44, 0) -> 0 | S44: =IF(P44="운반비", L44, 0) -> 0 | T44: =IF(P44="작업부산물", F44, 0) -> 0 | U44: =IF(P44="관급", F44, 0) -> 0 | V44: =IF(P44="외주비", J44, 0) -> 0 | W44: =IF(P44="장비비", J44, 0) -> 0 | X44: =IF(P44="폐기물처리비", L44, 0) -> 0 | Y44: =IF(P44="가설비", J44, 0) -> 0 | Z44: =IF(P44="잡비제외분", F44, 0) -> 0 | AA44: =IF(P44="사급자재대", L44, 0) -> 0 | AB44: =IF(P44="관급자재대", L44, 0) -> 0 | AC44: =IF(P44="사용자항목1", L44, 0) -> 0 | AD44: =IF(P44="사용자항목2", L44, 0) -> 0 | AE44: =IF(P44="안전관리비", L44, 0) -> 0 | AF44: =IF(P44="품질관리비", L44, 0) -> 0 | AG44: =IF(P44="작업부산물(철거해체)", L44, 0) -> 0 | AH44: =IF(P44="재해예방기술지도비", L44, 0) -> 0 | AI44: =IF(P44="사용자항목7", L44, 0) -> 0 | AJ44: =IF(P44="사용자항목8", L44, 0) -> 0 | AK44: =IF(P44="사용자항목9", L44, 0) -> 0 | AL44: =IF(P44="사용자항목10", L44, 0) -> 0 | AM44: =IF(P44="사용자항목11", L44, 0) -> 0 | AN44: =IF(P44="사용자항목12", L44, 0) -> 0 | AO44: =IF(P44="사용자항목13", L44, 0) -> 0 | AP44: =IF(P44="사용자항목14", L44, 0) -> 0 | AQ44: =IF(P44="사용자항목15", L44, 0) -> 0 | AR44: =IF(P44="사용자항목16", L44, 0) -> 0 | AS44: =IF(P44="사용자항목17", L44, 0) -> 0 | AT44: =IF(P44="사용자항목18", L44, 0) -> 0 | AU44: =IF(P44="사용자항목19", L44, 0) -> 0
A45: 위생공 | B45: 일반공사 직종 | C45: 인 | D45: =[1]공량산출서!G65 -> 4.192 | O45: ="02" -> 02 | P45: 기계경비 | Q45: 1 | R45: =IF(P45="기계경비", J45, 0) -> 0 | S45: =IF(P45="운반비", L45, 0) -> 0 | T45: =IF(P45="작업부산물", F45, 0) -> 0 | U45: =IF(P45="관급", F45, 0) -> 0 | V45: =IF(P45="외주비", J45, 0) -> 0 | W45: =IF(P45="장비비", J45, 0) -> 0 | X45: =IF(P45="폐기물처리비", L45, 0) -> 0 | Y45: =IF(P45="가설비", J45, 0) -> 0 | Z45: =IF(P45="잡비제외분", F45, 0) -> 0 | AA45: =IF(P45="사급자재대", L45, 0) -> 0 | AB45: =IF(P45="관급자재대", L45, 0) -> 0 | AC45: =IF(P45="사용자항목1", L45, 0) -> 0 | AD45: =IF(P45="사용자항목2", L45, 0) -> 0 | AE45: =IF(P45="안전관리비", L45, 0) -> 0 | AF45: =IF(P45="품질관리비", L45, 0) -> 0 | AG45: =IF(P45="작업부산물(철거해체)", L45, 0) -> 0 | AH45: =IF(P45="재해예방기술지도비", L45, 0) -> 0 | AI45: =IF(P45="사용자항목7", L45, 0) -> 0 | AJ45: =IF(P45="사용자항목8", L45, 0) -> 0 | AK45: =IF(P45="사용자항목9", L45, 0) -> 0 | AL45: =IF(P45="사용자항목10", L45, 0) -> 0 | AM45: =IF(P45="사용자항목11", L45, 0) -> 0 | AN45: =IF(P45="사용자항목12", L45, 0) -> 0 | AO45: =IF(P45="사용자항목13", L45, 0) -> 0 | AP45: =IF(P45="사용자항목14", L45, 0) -> 0 | AQ45: =IF(P45="사용자항목15", L45, 0) -> 0 | AR45: =IF(P45="사용자항목16", L45, 0) -> 0 | AS45: =IF(P45="사용자항목17", L45, 0) -> 0 | AT45: =IF(P45="사용자항목18", L45, 0) -> 0 | AU45: =IF(P45="사용자항목19", L45, 0) -> 0
A46: 보통인부 | B46: 일반공사 직종 | C46: 인 | D46: =[1]공량산출서!H65 -> 0.804 | O46: ="02" -> 02 | P46: 기계경비 | Q46: 1 | R46: =IF(P46="기계경비", J46, 0) -> 0 | S46: =IF(P46="운반비", L46, 0) -> 0 | T46: =IF(P46="작업부산물", F46, 0) -> 0 | U46: =IF(P46="관급", F46, 0) -> 0 | V46: =IF(P46="외주비", J46, 0) -> 0 | W46: =IF(P46="장비비", J46, 0) -> 0 | X46: =IF(P46="폐기물처리비", L46, 0) -> 0 | Y46: =IF(P46="가설비", J46, 0) -> 0 | Z46: =IF(P46="잡비제외분", F46, 0) -> 0 | AA46: =IF(P46="사급자재대", L46, 0) -> 0 | AB46: =IF(P46="관급자재대", L46, 0) -> 0 | AC46: =IF(P46="사용자항목1", L46, 0) -> 0 | AD46: =IF(P46="사용자항목2", L46, 0) -> 0 | AE46: =IF(P46="안전관리비", L46, 0) -> 0 | AF46: =IF(P46="품질관리비", L46, 0) -> 0 | AG46: =IF(P46="작업부산물(철거해체)", L46, 0) -> 0 | AH46: =IF(P46="재해예방기술지도비", L46, 0) -> 0 | AI46: =IF(P46="사용자항목7", L46, 0) -> 0 | AJ46: =IF(P46="사용자항목8", L46, 0) -> 0 | AK46: =IF(P46="사용자항목9", L46, 0) -> 0 | AL46: =IF(P46="사용자항목10", L46, 0) -> 0 | AM46: =IF(P46="사용자항목11", L46, 0) -> 0 | AN46: =IF(P46="사용자항목12", L46, 0) -> 0 | AO46: =IF(P46="사용자항목13", L46, 0) -> 0 | AP46: =IF(P46="사용자항목14", L46, 0) -> 0 | AQ46: =IF(P46="사용자항목15", L46, 0) -> 0 | AR46: =IF(P46="사용자항목16", L46, 0) -> 0 | AS46: =IF(P46="사용자항목17", L46, 0) -> 0 | AT46: =IF(P46="사용자항목18", L46, 0) -> 0 | AU46: =IF(P46="사용자항목19", L46, 0) -> 0
A47: 공구손료 | B47: ="노무비의 " & N47*100 & "%" -> 노무비의 3% | C47: 식 | D47: 1 | N47: 0.03 | O47: ="" | P47: 기계경비 | Q47: 1 | R47: =IF(P47="기계경비", J47, 0) -> 0 | S47: =IF(P47="운반비", L47, 0) -> 0 | T47: =IF(P47="작업부산물", F47, 0) -> 0 | U47: =IF(P47="관급", F47, 0) -> 0 | V47: =IF(P47="외주비", J47, 0) -> 0 | W47: =IF(P47="장비비", J47, 0) -> 0 | X47: =IF(P47="폐기물처리비", L47, 0) -> 0 | Y47: =IF(P47="가설비", J47, 0) -> 0 | Z47: =IF(P47="잡비제외분", F47, 0) -> 0 | AA47: =IF(P47="사급자재대", L47, 0) -> 0 | AB47: =IF(P47="관급자재대", L47, 0) -> 0 | AC47: =IF(P47="사용자항목1", L47, 0) -> 0 | AD47: =IF(P47="사용자항목2", L47, 0) -> 0 | AE47: =IF(P47="안전관리비", L47, 0) -> 0 | AF47: =IF(P47="품질관리비", L47, 0) -> 0 | AG47: =IF(P47="작업부산물(철거해체)", L47, 0) -> 0 | AH47: =IF(P47="재해예방기술지도비", L47, 0) -> 0 | AI47: =IF(P47="사용자항목7", L47, 0) -> 0 | AJ47: =IF(P47="사용자항목8", L47, 0) -> 0 | AK47: =IF(P47="사용자항목9", L47, 0) -> 0 | AL47: =IF(P47="사용자항목10", L47, 0) -> 0 | AM47: =IF(P47="사용자항목11", L47, 0) -> 0 | AN47: =IF(P47="사용자항목12", L47, 0) -> 0 | AO47: =IF(P47="사용자항목13", L47, 0) -> 0 | AP47: =IF(P47="사용자항목14", L47, 0) -> 0 | AQ47: =IF(P47="사용자항목15", L47, 0) -> 0 | AR47: =IF(P47="사용자항목16", L47, 0) -> 0 | AS47: =IF(P47="사용자항목17", L47, 0) -> 0 | AT47: =IF(P47="사용자항목18", L47, 0) -> 0 | AU47: =IF(P47="사용자항목19", L47, 0) -> 0 | AW47: 24 | AX47: A0200000000
A48: 합 계 | R48: =ROUNDDOWN(SUM(R28:R47), 0) -> 0 | S48: =ROUNDDOWN(SUM(S28:S47), 0) -> 0 | T48: =ROUNDDOWN(SUM(T28:T47), 0) -> 0 | U48: =ROUNDDOWN(SUM(U28:U47), 0) -> 0 | V48: =ROUNDDOWN(SUM(V28:V47), 0) -> 0 | W48: =ROUNDDOWN(SUM(W28:W47), 0) -> 0 | X48: =ROUNDDOWN(SUM(X28:X47), 0) -> 0 | Y48: =ROUNDDOWN(SUM(Y28:Y47), 0) -> 0 | ... AY48: =ROUNDDOWN(SUM(AY28:AY47), 0) -> 0
A49: 0103. 철거배관공사
A50: 대변기 철거 | B50: 양식 대변기(탱크형) | C50: 개당 | D50: 2 | O50: ="" | P50: 기계경비 | Q50: 1 | R50: =IF(P50="기계경비", J50, 0) -> 0 | S50: =IF(P50="운반비", L50, 0) -> 0 | T50: =IF(P50="작업부산물", F50, 0) -> 0 | U50: =IF(P50="관급", F50, 0) -> 0 | V50: =IF(P50="외주비", J50, 0) -> 0 | W50: =IF(P50="장비비", J50, 0) -> 0 | X50: =IF(P50="폐기물처리비", L50, 0) -> 0 | Y50: =IF(P50="가설비", J50, 0) -> 0 | Z50: =IF(P50="잡비제외분", F50, 0) -> 0 | AA50: =IF(P50="사급자재대", L50, 0) -> 0 | AB50: =IF(P50="관급자재대", L50, 0) -> 0 | AC50: =IF(P50="사용자항목1", L50, 0) -> 0 | AD50: =IF(P50="사용자항목2", L50, 0) -> 0 | AE50: =IF(P50="안전관리비", L50, 0) -> 0 | AF50: =IF(P50="품질관리비", L50, 0) -> 0 | AG50: =IF(P50="작업부산물(철거해체)", L50, 0) -> 0 | AH50: =IF(P50="재해예방기술지도비", L50, 0) -> 0 | AI50: =IF(P50="사용자항목7", L50, 0) -> 0 | AJ50: =IF(P50="사용자항목8", L50, 0) -> 0 | AK50: =IF(P50="사용자항목9", L50, 0) -> 0 | AL50: =IF(P50="사용자항목10", L50, 0) -> 0 | AM50: =IF(P50="사용자항목11", L50, 0) -> 0 | AN50: =IF(P50="사용자항목12", L50, 0) -> 0 | AO50: =IF(P50="사용자항목13", L50, 0) -> 0 | AP50: =IF(P50="사용자항목14", L50, 0) -> 0 | AQ50: =IF(P50="사용자항목15", L50, 0) -> 0 | AR50: =IF(P50="사용자항목16", L50, 0) -> 0 | AS50: =IF(P50="사용자항목17", L50, 0) -> 0 | AT50: =IF(P50="사용자항목18", L50, 0) -> 0 | AU50: =IF(P50="사용자항목19", L50, 0) -> 0
A51: 안전손잡이 철거 | B51: 고정단 | C51: 개 | D51: 2 | O51: ="" | P51: 기계경비 | Q51: 1 | R51: =IF(P51="기계경비", J51, 0) -> 0 | S51: =IF(P51="운반비", L51, 0) -> 0 | T51: =IF(P51="작업부산물", F51, 0) -> 0 | U51: =IF(P51="관급", F51, 0) -> 0 | V51: =IF(P51="외주비", J51, 0) -> 0 | W51: =IF(P51="장비비", J51, 0) -> 0 | X51: =IF(P51="폐기물처리비", L51, 0) -> 0 | Y51: =IF(P51="가설비", J51, 0) -> 0 | Z51: =IF(P51="잡비제외분", F51, 0) -> 0 | AA51: =IF(P51="사급자재대", L51, 0) -> 0 | AB51: =IF(P51="관급자재대", L51, 0) -> 0 | AC51: =IF(P51="사용자항목1", L51, 0) -> 0 | AD51: =IF(P51="사용자항목2", L51, 0) -> 0 | AE51: =IF(P51="안전관리비", L51, 0) -> 0 | AF51: =IF(P51="품질관리비", L51, 0) -> 0 | AG51: =IF(P51="작업부산물(철거해체)", L51, 0) -> 0 | AH51: =IF(P51="재해예방기술지도비", L51, 0) -> 0 | AI51: =IF(P51="사용자항목7", L51, 0) -> 0 | AJ51: =IF(P51="사용자항목8", L51, 0) -> 0 | AK51: =IF(P51="사용자항목9", L51, 0) -> 0 | AL51: =IF(P51="사용자항목10", L51, 0) -> 0 | AM51: =IF(P51="사용자항목11", L51, 0) -> 0 | AN51: =IF(P51="사용자항목12", L51, 0) -> 0 | AO51: =IF(P51="사용자항목13", L51, 0) -> 0 | AP51: =IF(P51="사용자항목14", L51, 0) -> 0 | AQ51: =IF(P51="사용자항목15", L51, 0) -> 0 | AR51: =IF(P51="사용자항목16", L51, 0) -> 0 | AS51: =IF(P51="사용자항목17", L51, 0) -> 0 | AT51: =IF(P51="사용자항목18", L51, 0) -> 0 | AU51: =IF(P51="사용자항목19", L51, 0) -> 0
A52: 세면기 철거 | B52: 도기 세면기 | C52: 개당 | D52: 1 | O52: ="" | P52: 기계경비 | Q52: 1 | R52: =IF(P52="기계경비", J52, 0) -> 0 | S52: =IF(P52="운반비", L52, 0) -> 0 | T52: =IF(P52="작업부산물", F52, 0) -> 0 | U52: =IF(P52="관급", F52, 0) -> 0 | V52: =IF(P52="외주비", J52, 0) -> 0 | W52: =IF(P52="장비비", J52, 0) -> 0 | X52: =IF(P52="폐기물처리비", L52, 0) -> 0 | Y52: =IF(P52="가설비", J52, 0) -> 0 | Z52: =IF(P52="잡비제외분", F52, 0) -> 0 | AA52: =IF(P52="사급자재대", L52, 0) -> 0 | AB52: =IF(P52="관급자재대", L52, 0) -> 0 | AC52: =IF(P52="사용자항목1", L52, 0) -> 0 | AD52: =IF(P52="사용자항목2", L52, 0) -> 0 | AE52: =IF(P52="안전관리비", L52, 0) -> 0 | AF52: =IF(P52="품질관리비", L52, 0) -> 0 | AG52: =IF(P52="작업부산물(철거해체)", L52, 0) -> 0 | AH52: =IF(P52="재해예방기술지도비", L52, 0) -> 0 | AI52: =IF(P52="사용자항목7", L52, 0) -> 0 | AJ52: =IF(P52="사용자항목8", L52, 0) -> 0 | AK52: =IF(P52="사용자항목9", L52, 0) -> 0 | AL52: =IF(P52="사용자항목10", L52, 0) -> 0 | AM52: =IF(P52="사용자항목11", L52, 0) -> 0 | AN52: =IF(P52="사용자항목12", L52, 0) -> 0 | AO52: =IF(P52="사용자항목13", L52, 0) -> 0 | AP52: =IF(P52="사용자항목14", L52, 0) -> 0 | AQ52: =IF(P52="사용자항목15", L52, 0) -> 0 | AR52: =IF(P52="사용자항목16", L52, 0) -> 0 | AS52: =IF(P52="사용자항목17", L52, 0) -> 0 | AT52: =IF(P52="사용자항목18", L52, 0) -> 0 | AU52: =IF(P52="사용자항목19", L52, 0) -> 0
A53: 세면기 철거 | B53: 카운터형 세면기·세면대 일체형 | C53: 개당 | D53: 1 | O53: ="" | P53: 기계경비 | Q53: 1 | R53: =IF(P53="기계경비", J53, 0) -> 0 | S53: =IF(P53="운반비", L53, 0) -> 0 | T53: =IF(P53="작업부산물", F53, 0) -> 0 | U53: =IF(P53="관급", F53, 0) -> 0 | V53: =IF(P53="외주비", J53, 0) -> 0 | W53: =IF(P53="장비비", J53, 0) -> 0 | X53: =IF(P53="폐기물처리비", L53, 0) -> 0 | Y53: =IF(P53="가설비", J53, 0) -> 0 | Z53: =IF(P53="잡비제외분", F53, 0) -> 0 | AA53: =IF(P53="사급자재대", L53, 0) -> 0 | AB53: =IF(P53="관급자재대", L53, 0) -> 0 | AC53: =IF(P53="사용자항목1", L53, 0) -> 0 | AD53: =IF(P53="사용자항목2", L53, 0) -> 0 | AE53: =IF(P53="안전관리비", L53, 0) -> 0 | AF53: =IF(P53="품질관리비", L53, 0) -> 0 | AG53: =IF(P53="작업부산물(철거해체)", L53, 0) -> 0 | AH53: =IF(P53="재해예방기술지도비", L53, 0) -> 0 | AI53: =IF(P53="사용자항목7", L53, 0) -> 0 | AJ53: =IF(P53="사용자항목8", L53, 0) -> 0 | AK53: =IF(P53="사용자항목9", L53, 0) -> 0 | AL53: =IF(P53="사용자항목10", L53, 0) -> 0 | AM53: =IF(P53="사용자항목11", L53, 0) -> 0 | AN53: =IF(P53="사용자항목12", L53, 0) -> 0 | AO53: =IF(P53="사용자항목13", L53, 0) -> 0 | AP53: =IF(P53="사용자항목14", L53, 0) -> 0 | AQ53: =IF(P53="사용자항목15", L53, 0) -> 0 | AR53: =IF(P53="사용자항목16", L53, 0) -> 0 | AS53: =IF(P53="사용자항목17", L53, 0) -> 0 | AT53: =IF(P53="사용자항목18", L53, 0) -> 0 | AU53: =IF(P53="사용자항목19", L53, 0) -> 0
A54: 샤워수전 철거 | B54: 노출형 | C54: 개 | D54: 1 | O54: ="" | P54: 기계경비 | Q54: 1 | R54: =IF(P54="기계경비", J54, 0) -> 0 | S54: =IF(P54="운반비", L54, 0) -> 0 | T54: =IF(P54="작업부산물", F54, 0) -> 0 | U54: =IF(P54="관급", F54, 0) -> 0 | V54: =IF(P54="외주비", J54, 0) -> 0 | W54: =IF(P54="장비비", J54, 0) -> 0 | X54: =IF(P54="폐기물처리비", L54, 0) -> 0 | Y54: =IF(P54="가설비", J54, 0) -> 0 | Z54: =IF(P54="잡비제외분", F54, 0) -> 0 | AA54: =IF(P54="사급자재대", L54, 0) -> 0 | AB54: =IF(P54="관급자재대", L54, 0) -> 0 | AC54: =IF(P54="사용자항목1", L54, 0) -> 0 | AD54: =IF(P54="사용자항목2", L54, 0) -> 0 | AE54: =IF(P54="안전관리비", L54, 0) -> 0 | AF54: =IF(P54="품질관리비", L54, 0) -> 0 | AG54: =IF(P54="작업부산물(철거해체)", L54, 0) -> 0 | AH54: =IF(P54="재해예방기술지도비", L54, 0) -> 0 | AI54: =IF(P54="사용자항목7", L54, 0) -> 0 | AJ54: =IF(P54="사용자항목8", L54, 0) -> 0 | AK54: =IF(P54="사용자항목9", L54, 0) -> 0 | AL54: =IF(P54="사용자항목10", L54, 0) -> 0 | AM54: =IF(P54="사용자항목11", L54, 0) -> 0 | AN54: =IF(P54="사용자항목12", L54, 0) -> 0 | AO54: =IF(P54="사용자항목13", L54, 0) -> 0 | AP54: =IF(P54="사용자항목14", L54, 0) -> 0 | AQ54: =IF(P54="사용자항목15", L54, 0) -> 0 | AR54: =IF(P54="사용자항목16", L54, 0) -> 0 | AS54: =IF(P54="사용자항목17", L54, 0) -> 0 | AT54: =IF(P54="사용자항목18", L54, 0) -> 0 | AU54: =IF(P54="사용자항목19", L54, 0) -> 0
A55: 주방수전 철거 | C55: 개 | D55: 1 | O55: ="" | P55: 기계경비 | Q55: 1 | R55: =IF(P55="기계경비", J55, 0) -> 0 | S55: =IF(P55="운반비", L55, 0) -> 0 | T55: =IF(P55="작업부산물", F55, 0) -> 0 | U55: =IF(P55="관급", F55, 0) -> 0 | V55: =IF(P55="외주비", J55, 0) -> 0 | W55: =IF(P55="장비비", J55, 0) -> 0 | X55: =IF(P55="폐기물처리비", L55, 0) -> 0 | Y55: =IF(P55="가설비", J55, 0) -> 0 | Z55: =IF(P55="잡비제외분", F55, 0) -> 0 | AA55: =IF(P55="사급자재대", L55, 0) -> 0 | AB55: =IF(P55="관급자재대", L55, 0) -> 0 | AC55: =IF(P55="사용자항목1", L55, 0) -> 0 | AD55: =IF(P55="사용자항목2", L55, 0) -> 0 | AE55: =IF(P55="안전관리비", L55, 0) -> 0 | AF55: =IF(P55="품질관리비", L55, 0) -> 0 | AG55: =IF(P55="작업부산물(철거해체)", L55, 0) -> 0 | AH55: =IF(P55="재해예방기술지도비", L55, 0) -> 0 | AI55: =IF(P55="사용자항목7", L55, 0) -> 0 | AJ55: =IF(P55="사용자항목8", L55, 0) -> 0 | AK55: =IF(P55="사용자항목9", L55, 0) -> 0 | AL55: =IF(P55="사용자항목10", L55, 0) -> 0 | AM55: =IF(P55="사용자항목11", L55, 0) -> 0 | AN55: =IF(P55="사용자항목12", L55, 0) -> 0 | AO55: =IF(P55="사용자항목13", L55, 0) -> 0 | AP55: =IF(P55="사용자항목14", L55, 0) -> 0 | AQ55: =IF(P55="사용자항목15", L55, 0) -> 0 | AR55: =IF(P55="사용자항목16", L55, 0) -> 0 | AS55: =IF(P55="사용자항목17", L55, 0) -> 0 | AT55: =IF(P55="사용자항목18", L55, 0) -> 0 | AU55: =IF(P55="사용자항목19", L55, 0) -> 0
A56: 15A.가로수전 철거 | B56: 벽붙임 혼합수전 | C56: 개 | D56: 4 | O56: ="" | P56: 기계경비 | Q56: 1 | R56: =IF(P56="기계경비", J56, 0) -> 0 | S56: =IF(P56="운반비", L56, 0) -> 0 | T56: =IF(P56="작업부산물", F56, 0) -> 0 | U56: =IF(P56="관급", F56, 0) -> 0 | V56: =IF(P56="외주비", J56, 0) -> 0 | W56: =IF(P56="장비비", J56, 0) -> 0 | X56: =IF(P56="폐기물처리비", L56, 0) -> 0 | Y56: =IF(P56="가설비", J56, 0) -> 0 | Z56: =IF(P56="잡비제외분", F56, 0) -> 0 | AA56: =IF(P56="사급자재대", L56, 0) -> 0 | AB56: =IF(P56="관급자재대", L56, 0) -> 0 | AC56: =IF(P56="사용자항목1", L56, 0) -> 0 | AD56: =IF(P56="사용자항목2", L56, 0) -> 0 | AE56: =IF(P56="안전관리비", L56, 0) -> 0 | AF56: =IF(P56="품질관리비", L56, 0) -> 0 | AG56: =IF(P56="작업부산물(철거해체)", L56, 0) -> 0 | AH56: =IF(P56="재해예방기술지도비", L56, 0) -> 0 | AI56: =IF(P56="사용자항목7", L56, 0) -> 0 | AJ56: =IF(P56="사용자항목8", L56, 0) -> 0 | AK56: =IF(P56="사용자항목9", L56, 0) -> 0 | AL56: =IF(P56="사용자항목10", L56, 0) -> 0 | AM56: =IF(P56="사용자항목11", L56, 0) -> 0 | AN56: =IF(P56="사용자항목12", L56, 0) -> 0 | AO56: =IF(P56="사용자항목13", L56, 0) -> 0 | AP56: =IF(P56="사용자항목14", L56, 0) -> 0 | AQ56: =IF(P56="사용자항목15", L56, 0) -> 0 | AR56: =IF(P56="사용자항목16", L56, 0) -> 0 | AS56: =IF(P56="사용자항목17", L56, 0) -> 0 | AT56: =IF(P56="사용자항목18", L56, 0) -> 0 | AU56: =IF(P56="사용자항목19", L56, 0) -> 0
A57: 천장형 환풍기 철거 | C57: 대당 | D57: 2 | O57: ="" | P57: 기계경비 | Q57: 1 | R57: =IF(P57="기계경비", J57, 0) -> 0 | S57: =IF(P57="운반비", L57, 0) -> 0 | T57: =IF(P57="작업부산물", F57, 0) -> 0 | U57: =IF(P57="관급", F57, 0) -> 0 | V57: =IF(P57="외주비", J57, 0) -> 0 | W57: =IF(P57="장비비", J57, 0) -> 0 | X57: =IF(P57="폐기물처리비", L57, 0) -> 0 | Y57: =IF(P57="가설비", J57, 0) -> 0 | Z57: =IF(P57="잡비제외분", F57, 0) -> 0 | AA57: =IF(P57="사급자재대", L57, 0) -> 0 | AB57: =IF(P57="관급자재대", L57, 0) -> 0 | AC57: =IF(P57="사용자항목1", L57, 0) -> 0 | AD57: =IF(P57="사용자항목2", L57, 0) -> 0 | AE57: =IF(P57="안전관리비", L57, 0) -> 0 | AF57: =IF(P57="품질관리비", L57, 0) -> 0 | AG57: =IF(P57="작업부산물(철거해체)", L57, 0) -> 0 | AH57: =IF(P57="재해예방기술지도비", L57, 0) -> 0 | AI57: =IF(P57="사용자항목7", L57, 0) -> 0 | AJ57: =IF(P57="사용자항목8", L57, 0) -> 0 | AK57: =IF(P57="사용자항목9", L57, 0) -> 0 | AL57: =IF(P57="사용자항목10", L57, 0) -> 0 | AM57: =IF(P57="사용자항목11", L57, 0) -> 0 | AN57: =IF(P57="사용자항목12", L57, 0) -> 0 | AO57: =IF(P57="사용자항목13", L57, 0) -> 0 | AP57: =IF(P57="사용자항목14", L57, 0) -> 0 | AQ57: =IF(P57="사용자항목15", L57, 0) -> 0 | AR57: =IF(P57="사용자항목16", L57, 0) -> 0 | AS57: =IF(P57="사용자항목17", L57, 0) -> 0 | AT57: =IF(P57="사용자항목18", L57, 0) -> 0 | AU57: =IF(P57="사용자항목19", L57, 0) -> 0
A58: 실내기 철거 | C58: 대당 | D58: 3 | O58: ="" | P58: 기계경비 | Q58: 1 | R58: =IF(P58="기계경비", J58, 0) -> 0 | S58: =IF(P58="운반비", L58, 0) -> 0 | T58: =IF(P58="작업부산물", F58, 0) -> 0 | U58: =IF(P58="관급", F58, 0) -> 0 | V58: =IF(P58="외주비", J58, 0) -> 0 | W58: =IF(P58="장비비", J58, 0) -> 0 | X58: =IF(P58="폐기물처리비", L58, 0) -> 0 | Y58: =IF(P58="가설비", J58, 0) -> 0 | Z58: =IF(P58="잡비제외분", F58, 0) -> 0 | AA58: =IF(P58="사급자재대", L58, 0) -> 0 | AB58: =IF(P58="관급자재대", L58, 0) -> 0 | AC58: =IF(P58="사용자항목1", L58, 0) -> 0 | AD58: =IF(P58="사용자항목2", L58, 0) -> 0 | AE58: =IF(P58="안전관리비", L58, 0) -> 0 | AF58: =IF(P58="품질관리비", L58, 0) -> 0 | AG58: =IF(P58="작업부산물(철거해체)", L58, 0) -> 0 | AH58: =IF(P58="재해예방기술지도비", L58, 0) -> 0 | AI58: =IF(P58="사용자항목7", L58, 0) -> 0 | AJ58: =IF(P58="사용자항목8", L58, 0) -> 0 | AK58: =IF(P58="사용자항목9", L58, 0) -> 0 | AL58: =IF(P58="사용자항목10", L58, 0) -> 0 | AM58: =IF(P58="사용자항목11", L58, 0) -> 0 | AN58: =IF(P58="사용자항목12", L58, 0) -> 0 | AO58: =IF(P58="사용자항목13", L58, 0) -> 0 | AP58: =IF(P58="사용자항목14", L58, 0) -> 0 | AQ58: =IF(P58="사용자항목15", L58, 0) -> 0 | AR58: =IF(P58="사용자항목16", L58, 0) -> 0 | AS58: =IF(P58="사용자항목17", L58, 0) -> 0 | AT58: =IF(P58="사용자항목18", L58, 0) -> 0 | AU58: =IF(P58="사용자항목19", L58, 0) -> 0
A59: 실외기 철거 | C59: 대당 | D59: 3 | O59: ="" | P59: 기계경비 | Q59: 1 | R59: =IF(P59="기계경비", J59, 0) -> 0 | S59: =IF(P59="운반비", L59, 0) -> 0 | T59: =IF(P59="작업부산물", F59, 0) -> 0 | U59: =IF(P59="관급", F59, 0) -> 0 | V59: =IF(P59="외주비", J59, 0) -> 0 | W59: =IF(P59="장비비", J59, 0) -> 0 | X59: =IF(P59="폐기물처리비", L59, 0) -> 0 | Y59: =IF(P59="가설비", J59, 0) -> 0 | Z59: =IF(P59="잡비제외분", F59, 0) -> 0 | AA59: =IF(P59="사급자재대", L59, 0) -> 0 | AB59: =IF(P59="관급자재대", L59, 0) -> 0 | AC59: =IF(P59="사용자항목1", L59, 0) -> 0 | AD59: =IF(P59="사용자항목2", L59, 0) -> 0 | AE59: =IF(P59="안전관리비", L59, 0) -> 0 | AF59: =IF(P59="품질관리비", L59, 0) -> 0 | AG59: =IF(P59="작업부산물(철거해체)", L59, 0) -> 0 | AH59: =IF(P59="재해예방기술지도비", L59, 0) -> 0 | AI59: =IF(P59="사용자항목7", L59, 0) -> 0 | AJ59: =IF(P59="사용자항목8", L59, 0) -> 0 | AK59: =IF(P59="사용자항목9", L59, 0) -> 0 | AL59: =IF(P59="사용자항목10", L59, 0) -> 0 | AM59: =IF(P59="사용자항목11", L59, 0) -> 0 | AN59: =IF(P59="사용자항목12", L59, 0) -> 0 | AO59: =IF(P59="사용자항목13", L59, 0) -> 0 | AP59: =IF(P59="사용자항목14", L59, 0) -> 0 | AQ59: =IF(P59="사용자항목15", L59, 0) -> 0 | AR59: =IF(P59="사용자항목16", L59, 0) -> 0 | AS59: =IF(P59="사용자항목17", L59, 0) -> 0 | AT59: =IF(P59="사용자항목18", L59, 0) -> 0 | AU59: =IF(P59="사용자항목19", L59, 0) -> 0
A60: 경유보일러 철거 | C60: 대당 | D60: 1 | O60: ="" | P60: 기계경비 | Q60: 1 | R60: =IF(P60="기계경비", J60, 0) -> 0 | S60: =IF(P60="운반비", L60, 0) -> 0 | T60: =IF(P60="작업부산물", F60, 0) -> 0 | U60: =IF(P60="관급", F60, 0) -> 0 | V60: =IF(P60="외주비", J60, 0) -> 0 | W60: =IF(P60="장비비", J60, 0) -> 0 | X60: =IF(P60="폐기물처리비", L60, 0) -> 0 | Y60: =IF(P60="가설비", J60, 0) -> 0 | Z60: =IF(P60="잡비제외분", F60, 0) -> 0 | AA60: =IF(P60="사급자재대", L60, 0) -> 0 | AB60: =IF(P60="관급자재대", L60, 0) -> 0 | AC60: =IF(P60="사용자항목1", L60, 0) -> 0 | AD60: =IF(P60="사용자항목2", L60, 0) -> 0 | AE60: =IF(P60="안전관리비", L60, 0) -> 0 | AF60: =IF(P60="품질관리비", L60, 0) -> 0 | AG60: =IF(P60="작업부산물(철거해체)", L60, 0) -> 0 | AH60: =IF(P60="재해예방기술지도비", L60, 0) -> 0 | AI60: =IF(P60="사용자항목7", L60, 0) -> 0 | AJ60: =IF(P60="사용자항목8", L60, 0) -> 0 | AK60: =IF(P60="사용자항목9", L60, 0) -> 0 | AL60: =IF(P60="사용자항목10", L60, 0) -> 0 | AM60: =IF(P60="사용자항목11", L60, 0) -> 0 | AN60: =IF(P60="사용자항목12", L60, 0) -> 0 | AO60: =IF(P60="사용자항목13", L60, 0) -> 0 | AP60: =IF(P60="사용자항목14", L60, 0) -> 0 | AQ60: =IF(P60="사용자항목15", L60, 0) -> 0 | AR60: =IF(P60="사용자항목16", L60, 0) -> 0 | AS60: =IF(P60="사용자항목17", L60, 0) -> 0 | AT60: =IF(P60="사용자항목18", L60, 0) -> 0 | AU60: =IF(P60="사용자항목19", L60, 0) -> 0
A61: 건설폐기물수집운반비(상차+운반비) | B61: 24톤 암롤트럭, 혼합건설폐기물, 30km | C61: TON | D61: 1 | O61: ="03" -> 03 | P61: 기계경비 | Q61: 1 | R61: =IF(P61="기계경비", J61, 0) -> 0 | S61: =IF(P61="운반비", L61, 0) -> 0 | T61: =IF(P61="작업부산물", F61, 0) -> 0 | U61: =IF(P61="관급", F61, 0) -> 0 | V61: =IF(P61="외주비", J61, 0) -> 0 | W61: =IF(P61="장비비", J61, 0) -> 0 | X61: =IF(P61="폐기물처리비", L61, 0) -> 0 | Y61: =IF(P61="가설비", J61, 0) -> 0 | Z61: =IF(P61="잡비제외분", F61, 0) -> 0 | AA61: =IF(P61="사급자재대", L61, 0) -> 0 | AB61: =IF(P61="관급자재대", L61, 0) -> 0 | AC61: =IF(P61="사용자항목1", L61, 0) -> 0 | AD61: =IF(P61="사용자항목2", L61, 0) -> 0 | AE61: =IF(P61="안전관리비", L61, 0) -> 0 | AF61: =IF(P61="품질관리비", L61, 0) -> 0 | AG61: =IF(P61="작업부산물(철거해체)", L61, 0) -> 0 | AH61: =IF(P61="재해예방기술지도비", L61, 0) -> 0 | AI61: =IF(P61="사용자항목7", L61, 0) -> 0 | AJ61: =IF(P61="사용자항목8", L61, 0) -> 0 | AK61: =IF(P61="사용자항목9", L61, 0) -> 0 | AL61: =IF(P61="사용자항목10", L61, 0) -> 0 | AM61: =IF(P61="사용자항목11", L61, 0) -> 0 | AN61: =IF(P61="사용자항목12", L61, 0) -> 0 | AO61: =IF(P61="사용자항목13", L61, 0) -> 0 | AP61: =IF(P61="사용자항목14", L61, 0) -> 0 | AQ61: =IF(P61="사용자항목15", L61, 0) -> 0 | AR61: =IF(P61="사용자항목16", L61, 0) -> 0 | AS61: =IF(P61="사용자항목17", L61, 0) -> 0 | AT61: =IF(P61="사용자항목18", L61, 0) -> 0 | AU61: =IF(P61="사용자항목19", L61, 0) -> 0
A62: 건설폐기물처리비 | B62: 혼합폐기물(소각 약 5%) | C62: 톤 | D62: 1 | O62: ="" | P62: 기계경비 | Q62: 1 | R62: =IF(P62="기계경비", J62, 0) -> 0 | S62: =IF(P62="운반비", L62, 0) -> 0 | T62: =IF(P62="작업부산물", F62, 0) -> 0 | U62: =IF(P62="관급", F62, 0) -> 0 | V62: =IF(P62="외주비", J62, 0) -> 0 | W62: =IF(P62="장비비", J62, 0) -> 0 | X62: =IF(P62="폐기물처리비", L62, 0) -> 0 | Y62: =IF(P62="가설비", J62, 0) -> 0 | Z62: =IF(P62="잡비제외분", F62, 0) -> 0 | AA62: =IF(P62="사급자재대", L62, 0) -> 0 | AB62: =IF(P62="관급자재대", L62, 0) -> 0 | AC62: =IF(P62="사용자항목1", L62, 0) -> 0 | AD62: =IF(P62="사용자항목2", L62, 0) -> 0 | AE62: =IF(P62="안전관리비", L62, 0) -> 0 | AF62: =IF(P62="품질관리비", L62, 0) -> 0 | AG62: =IF(P62="작업부산물(철거해체)", L62, 0) -> 0 | AH62: =IF(P62="재해예방기술지도비", L62, 0) -> 0 | AI62: =IF(P62="사용자항목7", L62, 0) -> 0 | AJ62: =IF(P62="사용자항목8", L62, 0) -> 0 | AK62: =IF(P62="사용자항목9", L62, 0) -> 0 | AL62: =IF(P62="사용자항목10", L62, 0) -> 0 | AM62: =IF(P62="사용자항목11", L62, 0) -> 0 | AN62: =IF(P62="사용자항목12", L62, 0) -> 0 | AO62: =IF(P62="사용자항목13", L62, 0) -> 0 | AP62: =IF(P62="사용자항목14", L62, 0) -> 0 | AQ62: =IF(P62="사용자항목15", L62, 0) -> 0 | AR62: =IF(P62="사용자항목16", L62, 0) -> 0 | AS62: =IF(P62="사용자항목17", L62, 0) -> 0 | AT62: =IF(P62="사용자항목18", L62, 0) -> 0 | AU62: =IF(P62="사용자항목19", L62, 0) -> 0
A70: 합 계 | F70: =ROUNDDOWN(SUMIF(Q50:Q69, "1", F50:F69), 0) -> 0 | H70: =ROUNDDOWN(SUMIF(Q50:Q69, "1", H50:H69), 0) -> 0 | J70: =ROUNDDOWN(SUMIF(Q50:Q69, "1", J50:J69), 0) -> 0 | L70: =F70+H70+J70 -> 0 | R70: =ROUNDDOWN(SUM(R50:R62), 0) -> 0 | S70: =ROUNDDOWN(SUM(S50:S62), 0) -> 0 | T70: =ROUNDDOWN(SUM(T50:T62), 0) -> 0 | U70: =ROUNDDOWN(SUM(U50:U62), 0) -> 0 | V70: =ROUNDDOWN(SUM(V50:V62), 0) -> 0 | W70: =ROUNDDOWN(SUM(W50:W62), 0) -> 0 | X70: =ROUNDDOWN(SUM(X50:X62), 0) -> 0 | Y70: =ROUNDDOWN(SUM(Y50:Y62), 0) -> 0 | ... AY70: =ROUNDDOWN(SUM(AY50:AY62), 0) -> 0
A71: 0104. 냉난방기설치공사
A72: 실외기(냉난방) | B72: AM080AXVHHH1, 냉방23.3/난방26.5kW | C72: 대 | D72: 1 | O72: ="" | P72: 기계경비 | Q72: 1 | R72: =IF(P72="기계경비", J72, 0) -> 0 | S72: =IF(P72="운반비", L72, 0) -> 0 | T72: =IF(P72="작업부산물", F72, 0) -> 0 | U72: =IF(P72="관급", F72, 0) -> 0 | V72: =IF(P72="외주비", J72, 0) -> 0 | W72: =IF(P72="장비비", J72, 0) -> 0 | X72: =IF(P72="폐기물처리비", L72, 0) -> 0 | Y72: =IF(P72="가설비", J72, 0) -> 0 | Z72: =IF(P72="잡비제외분", F72, 0) -> 0 | AA72: =IF(P72="사급자재대", L72, 0) -> 0 | AB72: =IF(P72="관급자재대", L72, 0) -> 0 | AC72: =IF(P72="사용자항목1", L72, 0) -> 0 | AD72: =IF(P72="사용자항목2", L72, 0) -> 0 | AE72: =IF(P72="안전관리비", L72, 0) -> 0 | AF72: =IF(P72="품질관리비", L72, 0) -> 0 | AG72: =IF(P72="작업부산물(철거해체)", L72, 0) -> 0 | AH72: =IF(P72="재해예방기술지도비", L72, 0) -> 0 | AI72: =IF(P72="사용자항목7", L72, 0) -> 0 | AJ72: =IF(P72="사용자항목8", L72, 0) -> 0 | AK72: =IF(P72="사용자항목9", L72, 0) -> 0 | AL72: =IF(P72="사용자항목10", L72, 0) -> 0 | AM72: =IF(P72="사용자항목11", L72, 0) -> 0 | AN72: =IF(P72="사용자항목12", L72, 0) -> 0 | AO72: =IF(P72="사용자항목13", L72, 0) -> 0 | AP72: =IF(P72="사용자항목14", L72, 0) -> 0 | AQ72: =IF(P72="사용자항목15", L72, 0) -> 0 | AR72: =IF(P72="사용자항목16", L72, 0) -> 0 | AS72: =IF(P72="사용자항목17", L72, 0) -> 0 | AT72: =IF(P72="사용자항목18", L72, 0) -> 0 | AU72: =IF(P72="사용자항목19", L72, 0) -> 0
A73: 실내기(1방향) | B73: AM020BN1PBH2, 냉방2.0/난방2.3kW, 1방향천장형 | C73: 대 | D73: 1 | O73: ="" | P73: 기계경비 | Q73: 1 | R73: =IF(P73="기계경비", J73, 0) -> 0 | S73: =IF(P73="운반비", L73, 0) -> 0 | T73: =IF(P73="작업부산물", F73, 0) -> 0 | U73: =IF(P73="관급", F73, 0) -> 0 | V73: =IF(P73="외주비", J73, 0) -> 0 | W73: =IF(P73="장비비", J73, 0) -> 0 | X73: =IF(P73="폐기물처리비", L73, 0) -> 0 | Y73: =IF(P73="가설비", J73, 0) -> 0 | Z73: =IF(P73="잡비제외분", F73, 0) -> 0 | AA73: =IF(P73="사급자재대", L73, 0) -> 0 | AB73: =IF(P73="관급자재대", L73, 0) -> 0 | AC73: =IF(P73="사용자항목1", L73, 0) -> 0 | AD73: =IF(P73="사용자항목2", L73, 0) -> 0 | AE73: =IF(P73="안전관리비", L73, 0) -> 0 | AF73: =IF(P73="품질관리비", L73, 0) -> 0 | AG73: =IF(P73="작업부산물(철거해체)", L73, 0) -> 0 | AH73: =IF(P73="재해예방기술지도비", L73, 0) -> 0 | AI73: =IF(P73="사용자항목7", L73, 0) -> 0 | AJ73: =IF(P73="사용자항목8", L73, 0) -> 0 | AK73: =IF(P73="사용자항목9", L73, 0) -> 0 | AL73: =IF(P73="사용자항목10", L73, 0) -> 0 | AM73: =IF(P73="사용자항목11", L73, 0) -> 0 | AN73: =IF(P73="사용자항목12", L73, 0) -> 0 | AO73: =IF(P73="사용자항목13", L73, 0) -> 0 | AP73: =IF(P73="사용자항목14", L73, 0) -> 0 | AQ73: =IF(P73="사용자항목15", L73, 0) -> 0 | AR73: =IF(P73="사용자항목16", L73, 0) -> 0 | AS73: =IF(P73="사용자항목17", L73, 0) -> 0 | AT73: =IF(P73="사용자항목18", L73, 0) -> 0 | AU73: =IF(P73="사용자항목19", L73, 0) -> 0
A74: 실내기(1방향) | B74: AM032BN1PBH1, 냉방3.2/난방3.6kW, 1방향천장형 | C74: 대 | D74: 1 | O74: ="" | P74: 기계경비 | Q74: 1 | R74: =IF(P74="기계경비", J74, 0) -> 0 | S74: =IF(P74="운반비", L74, 0) -> 0 | T74: =IF(P74="작업부산물", F74, 0) -> 0 | U74: =IF(P74="관급", F74, 0) -> 0 | V74: =IF(P74="외주비", J74, 0) -> 0 | W74: =IF(P74="장비비", J74, 0) -> 0 | X74: =IF(P74="폐기물처리비", L74, 0) -> 0 | Y74: =IF(P74="가설비", J74, 0) -> 0 | Z74: =IF(P74="잡비제외분", F74, 0) -> 0 | AA74: =IF(P74="사급자재대", L74, 0) -> 0 | AB74: =IF(P74="관급자재대", L74, 0) -> 0 | AC74: =IF(P74="사용자항목1", L74, 0) -> 0 | AD74: =IF(P74="사용자항목2", L74, 0) -> 0 | AE74: =IF(P74="안전관리비", L74, 0) -> 0 | AF74: =IF(P74="품질관리비", L74, 0) -> 0 | AG74: =IF(P74="작업부산물(철거해체)", L74, 0) -> 0 | AH74: =IF(P74="재해예방기술지도비", L74, 0) -> 0 | AI74: =IF(P74="사용자항목7", L74, 0) -> 0 | AJ74: =IF(P74="사용자항목8", L74, 0) -> 0 | AK74: =IF(P74="사용자항목9", L74, 0) -> 0 | AL74: =IF(P74="사용자항목10", L74, 0) -> 0 | AM74: =IF(P74="사용자항목11", L74, 0) -> 0 | AN74: =IF(P74="사용자항목12", L74, 0) -> 0 | AO74: =IF(P74="사용자항목13", L74, 0) -> 0 | AP74: =IF(P74="사용자항목14", L74, 0) -> 0 | AQ74: =IF(P74="사용자항목15", L74, 0) -> 0 | AR74: =IF(P74="사용자항목16", L74, 0) -> 0 | AS74: =IF(P74="사용자항목17", L74, 0) -> 0 | AT74: =IF(P74="사용자항목18", L74, 0) -> 0 | AU74: =IF(P74="사용자항목19", L74, 0) -> 0
A75: 실내기(4방향) | B75: AM052BN4DBH1, 냉방5.2/난방6.0kW, 4방향천장형 | C75: 대 | D75: 1 | O75: ="" | P75: 기계경비 | Q75: 1 | R75: =IF(P75="기계경비", J75, 0) -> 0 | S75: =IF(P75="운반비", L75, 0) -> 0 | T75: =IF(P75="작업부산물", F75, 0) -> 0 | U75: =IF(P75="관급", F75, 0) -> 0 | V75: =IF(P75="외주비", J75, 0) -> 0 | W75: =IF(P75="장비비", J75, 0) -> 0 | X75: =IF(P75="폐기물처리비", L75, 0) -> 0 | Y75: =IF(P75="가설비", J75, 0) -> 0 | Z75: =IF(P75="잡비제외분", F75, 0) -> 0 | AA75: =IF(P75="사급자재대", L75, 0) -> 0 | AB75: =IF(P75="관급자재대", L75, 0) -> 0 | AC75: =IF(P75="사용자항목1", L75, 0) -> 0 | AD75: =IF(P75="사용자항목2", L75, 0) -> 0 | AE75: =IF(P75="안전관리비", L75, 0) -> 0 | AF75: =IF(P75="품질관리비", L75, 0) -> 0 | AG75: =IF(P75="작업부산물(철거해체)", L75, 0) -> 0 | AH75: =IF(P75="재해예방기술지도비", L75, 0) -> 0 | AI75: =IF(P75="사용자항목7", L75, 0) -> 0 | AJ75: =IF(P75="사용자항목8", L75, 0) -> 0 | AK75: =IF(P75="사용자항목9", L75, 0) -> 0 | AL75: =IF(P75="사용자항목10", L75, 0) -> 0 | AM75: =IF(P75="사용자항목11", L75, 0) -> 0 | AN75: =IF(P75="사용자항목12", L75, 0) -> 0 | AO75: =IF(P75="사용자항목13", L75, 0) -> 0 | AP75: =IF(P75="사용자항목14", L75, 0) -> 0 | AQ75: =IF(P75="사용자항목15", L75, 0) -> 0 | AR75: =IF(P75="사용자항목16", L75, 0) -> 0 | AS75: =IF(P75="사용자항목17", L75, 0) -> 0 | AT75: =IF(P75="사용자항목18", L75, 0) -> 0 | AU75: =IF(P75="사용자항목19", L75, 0) -> 0
A76: 실내기(4방향) | B76: AM072BN4DBH1, 냉방7.2/난방8.1kW, 4방향천장형 | C76: 대 | D76: 1 | O76: ="" | P76: 기계경비 | Q76: 1 | R76: =IF(P76="기계경비", J76, 0) -> 0 | S76: =IF(P76="운반비", L76, 0) -> 0 | T76: =IF(P76="작업부산물", F76, 0) -> 0 | U76: =IF(P76="관급", F76, 0) -> 0 | V76: =IF(P76="외주비", J76, 0) -> 0 | W76: =IF(P76="장비비", J76, 0) -> 0 | X76: =IF(P76="폐기물처리비", L76, 0) -> 0 | Y76: =IF(P76="가설비", J76, 0) -> 0 | Z76: =IF(P76="잡비제외분", F76, 0) -> 0 | AA76: =IF(P76="사급자재대", L76, 0) -> 0 | AB76: =IF(P76="관급자재대", L76, 0) -> 0 | AC76: =IF(P76="사용자항목1", L76, 0) -> 0 | AD76: =IF(P76="사용자항목2", L76, 0) -> 0 | AE76: =IF(P76="안전관리비", L76, 0) -> 0 | AF76: =IF(P76="품질관리비", L76, 0) -> 0 | AG76: =IF(P76="작업부산물(철거해체)", L76, 0) -> 0 | AH76: =IF(P76="재해예방기술지도비", L76, 0) -> 0 | AI76: =IF(P76="사용자항목7", L76, 0) -> 0 | AJ76: =IF(P76="사용자항목8", L76, 0) -> 0 | AK76: =IF(P76="사용자항목9", L76, 0) -> 0 | AL76: =IF(P76="사용자항목10", L76, 0) -> 0 | AM76: =IF(P76="사용자항목11", L76, 0) -> 0 | AN76: =IF(P76="사용자항목12", L76, 0) -> 0 | AO76: =IF(P76="사용자항목13", L76, 0) -> 0 | AP76: =IF(P76="사용자항목14", L76, 0) -> 0 | AQ76: =IF(P76="사용자항목15", L76, 0) -> 0 | AR76: =IF(P76="사용자항목16", L76, 0) -> 0 | AS76: =IF(P76="사용자항목17", L76, 0) -> 0 | AT76: =IF(P76="사용자항목18", L76, 0) -> 0 | AU76: =IF(P76="사용자항목19", L76, 0) -> 0
A77: 실내기(4방향) | B77: AM040BNNDBH1, 냉방4.0/난방4.5kW, 4방향천장형 | C77: 대 | D77: 1 | O77: ="" | P77: 기계경비 | Q77: 1 | R77: =IF(P77="기계경비", J77, 0) -> 0 | S77: =IF(P77="운반비", L77, 0) -> 0 | T77: =IF(P77="작업부산물", F77, 0) -> 0 | U77: =IF(P77="관급", F77, 0) -> 0 | V77: =IF(P77="외주비", J77, 0) -> 0 | W77: =IF(P77="장비비", J77, 0) -> 0 | X77: =IF(P77="폐기물처리비", L77, 0) -> 0 | Y77: =IF(P77="가설비", J77, 0) -> 0 | Z77: =IF(P77="잡비제외분", F77, 0) -> 0 | AA77: =IF(P77="사급자재대", L77, 0) -> 0 | AB77: =IF(P77="관급자재대", L77, 0) -> 0 | AC77: =IF(P77="사용자항목1", L77, 0) -> 0 | AD77: =IF(P77="사용자항목2", L77, 0) -> 0 | AE77: =IF(P77="안전관리비", L77, 0) -> 0 | AF77: =IF(P77="품질관리비", L77, 0) -> 0 | AG77: =IF(P77="작업부산물(철거해체)", L77, 0) -> 0 | AH77: =IF(P77="재해예방기술지도비", L77, 0) -> 0 | AI77: =IF(P77="사용자항목7", L77, 0) -> 0 | AJ77: =IF(P77="사용자항목8", L77, 0) -> 0 | AK77: =IF(P77="사용자항목9", L77, 0) -> 0 | AL77: =IF(P77="사용자항목10", L77, 0) -> 0 | AM77: =IF(P77="사용자항목11", L77, 0) -> 0 | AN77: =IF(P77="사용자항목12", L77, 0) -> 0 | AO77: =IF(P77="사용자항목13", L77, 0) -> 0 | AP77: =IF(P77="사용자항목14", L77, 0) -> 0 | AQ77: =IF(P77="사용자항목15", L77, 0) -> 0 | AR77: =IF(P77="사용자항목16", L77, 0) -> 0 | AS77: =IF(P77="사용자항목17", L77, 0) -> 0 | AT77: =IF(P77="사용자항목18", L77, 0) -> 0 | AU77: =IF(P77="사용자항목19", L77, 0) -> 0
A78: 유선리모컨 | B78: AWR-WE13N (룸컨트롤러) | C78: 개 | D78: =SUM(D73:D77) -> 5 | O78: ="" | P78: 기계경비 | Q78: 1 | R78: =IF(P78="기계경비", J78, 0) -> 0 | S78: =IF(P78="운반비", L78, 0) -> 0 | T78: =IF(P78="작업부산물", F78, 0) -> 0 | U78: =IF(P78="관급", F78, 0) -> 0 | V78: =IF(P78="외주비", J78, 0) -> 0 | W78: =IF(P78="장비비", J78, 0) -> 0 | X78: =IF(P78="폐기물처리비", L78, 0) -> 0 | Y78: =IF(P78="가설비", J78, 0) -> 0 | Z78: =IF(P78="잡비제외분", F78, 0) -> 0 | AA78: =IF(P78="사급자재대", L78, 0) -> 0 | AB78: =IF(P78="관급자재대", L78, 0) -> 0 | AC78: =IF(P78="사용자항목1", L78, 0) -> 0 | AD78: =IF(P78="사용자항목2", L78, 0) -> 0 | AE78: =IF(P78="안전관리비", L78, 0) -> 0 | AF78: =IF(P78="품질관리비", L78, 0) -> 0 | AG78: =IF(P78="작업부산물(철거해체)", L78, 0) -> 0 | AH78: =IF(P78="재해예방기술지도비", L78, 0) -> 0 | AI78: =IF(P78="사용자항목7", L78, 0) -> 0 | AJ78: =IF(P78="사용자항목8", L78, 0) -> 0 | AK78: =IF(P78="사용자항목9", L78, 0) -> 0 | AL78: =IF(P78="사용자항목10", L78, 0) -> 0 | AM78: =IF(P78="사용자항목11", L78, 0) -> 0 | AN78: =IF(P78="사용자항목12", L78, 0) -> 0 | AO78: =IF(P78="사용자항목13", L78, 0) -> 0 | AP78: =IF(P78="사용자항목14", L78, 0) -> 0 | AQ78: =IF(P78="사용자항목15", L78, 0) -> 0 | AR78: =IF(P78="사용자항목16", L78, 0) -> 0 | AS78: =IF(P78="사용자항목17", L78, 0) -> 0 | AT78: =IF(P78="사용자항목18", L78, 0) -> 0 | AU78: =IF(P78="사용자항목19", L78, 0) -> 0
A79: 분기관 | B79: 소 | C79: 개 | D79: 4 | O79: ="" | P79: 기계경비 | Q79: 1 | R79: =IF(P79="기계경비", J79, 0) -> 0 | S79: =IF(P79="운반비", L79, 0) -> 0 | T79: =IF(P79="작업부산물", F79, 0) -> 0 | U79: =IF(P79="관급", F79, 0) -> 0 | V79: =IF(P79="외주비", J79, 0) -> 0 | W79: =IF(P79="장비비", J79, 0) -> 0 | X79: =IF(P79="폐기물처리비", L79, 0) -> 0 | Y79: =IF(P79="가설비", J79, 0) -> 0 | Z79: =IF(P79="잡비제외분", F79, 0) -> 0 | AA79: =IF(P79="사급자재대", L79, 0) -> 0 | AB79: =IF(P79="관급자재대", L79, 0) -> 0 | AC79: =IF(P79="사용자항목1", L79, 0) -> 0 | AD79: =IF(P79="사용자항목2", L79, 0) -> 0 | AE79: =IF(P79="안전관리비", L79, 0) -> 0 | AF79: =IF(P79="품질관리비", L79, 0) -> 0 | AG79: =IF(P79="작업부산물(철거해체)", L79, 0) -> 0 | AH79: =IF(P79="재해예방기술지도비", L79, 0) -> 0 | AI79: =IF(P79="사용자항목7", L79, 0) -> 0 | AJ79: =IF(P79="사용자항목8", L79, 0) -> 0 | AK79: =IF(P79="사용자항목9", L79, 0) -> 0 | AL79: =IF(P79="사용자항목10", L79, 0) -> 0 | AM79: =IF(P79="사용자항목11", L79, 0) -> 0 | AN79: =IF(P79="사용자항목12", L79, 0) -> 0 | AO79: =IF(P79="사용자항목13", L79, 0) -> 0 | AP79: =IF(P79="사용자항목14", L79, 0) -> 0 | AQ79: =IF(P79="사용자항목15", L79, 0) -> 0 | AR79: =IF(P79="사용자항목16", L79, 0) -> 0 | AS79: =IF(P79="사용자항목17", L79, 0) -> 0 | AT79: =IF(P79="사용자항목18", L79, 0) -> 0 | AU79: =IF(P79="사용자항목19", L79, 0) -> 0
A80: 무풍 1WAY 판넬 | B80: PC1MWSK3NW (소형) | C80: 개 | D80: =SUM(D73:D73) -> 1 | O80: ="" | P80: 기계경비 | Q80: 1 | R80: =IF(P80="기계경비", J80, 0) -> 0 | S80: =IF(P80="운반비", L80, 0) -> 0 | T80: =IF(P80="작업부산물", F80, 0) -> 0 | U80: =IF(P80="관급", F80, 0) -> 0 | V80: =IF(P80="외주비", J80, 0) -> 0 | W80: =IF(P80="장비비", J80, 0) -> 0 | X80: =IF(P80="폐기물처리비", L80, 0) -> 0 | Y80: =IF(P80="가설비", J80, 0) -> 0 | Z80: =IF(P80="잡비제외분", F80, 0) -> 0 | AA80: =IF(P80="사급자재대", L80, 0) -> 0 | AB80: =IF(P80="관급자재대", L80, 0) -> 0 | AC80: =IF(P80="사용자항목1", L80, 0) -> 0 | AD80: =IF(P80="사용자항목2", L80, 0) -> 0 | AE80: =IF(P80="안전관리비", L80, 0) -> 0 | AF80: =IF(P80="품질관리비", L80, 0) -> 0 | AG80: =IF(P80="작업부산물(철거해체)", L80, 0) -> 0 | AH80: =IF(P80="재해예방기술지도비", L80, 0) -> 0 | AI80: =IF(P80="사용자항목7", L80, 0) -> 0 | AJ80: =IF(P80="사용자항목8", L80, 0) -> 0 | AK80: =IF(P80="사용자항목9", L80, 0) -> 0 | AL80: =IF(P80="사용자항목10", L80, 0) -> 0 | AM80: =IF(P80="사용자항목11", L80, 0) -> 0 | AN80: =IF(P80="사용자항목12", L80, 0) -> 0 | AO80: =IF(P80="사용자항목13", L80, 0) -> 0 | AP80: =IF(P80="사용자항목14", L80, 0) -> 0 | AQ80: =IF(P80="사용자항목15", L80, 0) -> 0 | AR80: =IF(P80="사용자항목16", L80, 0) -> 0 | AS80: =IF(P80="사용자항목17", L80, 0) -> 0 | AT80: =IF(P80="사용자항목18", L80, 0) -> 0 | AU80: =IF(P80="사용자항목19", L80, 0) -> 0
A81: 무풍 1WAY 판넬 | B81: PC1NWSK3NW (중형) | C81: 개 | D81: =SUM(D74:D74) -> 1 | O81: ="" | P81: 기계경비 | Q81: 1 | R81: =IF(P81="기계경비", J81, 0) -> 0 | S81: =IF(P81="운반비", L81, 0) -> 0 | T81: =IF(P81="작업부산물", F81, 0) -> 0 | U81: =IF(P81="관급", F81, 0) -> 0 | V81: =IF(P81="외주비", J81, 0) -> 0 | W81: =IF(P81="장비비", J81, 0) -> 0 | X81: =IF(P81="폐기물처리비", L81, 0) -> 0 | Y81: =IF(P81="가설비", J81, 0) -> 0 | Z81: =IF(P81="잡비제외분", F81, 0) -> 0 | AA81: =IF(P81="사급자재대", L81, 0) -> 0 | AB81: =IF(P81="관급자재대", L81, 0) -> 0 | AC81: =IF(P81="사용자항목1", L81, 0) -> 0 | AD81: =IF(P81="사용자항목2", L81, 0) -> 0 | AE81: =IF(P81="안전관리비", L81, 0) -> 0 | AF81: =IF(P81="품질관리비", L81, 0) -> 0 | AG81: =IF(P81="작업부산물(철거해체)", L81, 0) -> 0 | AH81: =IF(P81="재해예방기술지도비", L81, 0) -> 0 | AI81: =IF(P81="사용자항목7", L81, 0) -> 0 | AJ81: =IF(P81="사용자항목8", L81, 0) -> 0 | AK81: =IF(P81="사용자항목9", L81, 0) -> 0 | AL81: =IF(P81="사용자항목10", L81, 0) -> 0 | AM81: =IF(P81="사용자항목11", L81, 0) -> 0 | AN81: =IF(P81="사용자항목12", L81, 0) -> 0 | AO81: =IF(P81="사용자항목13", L81, 0) -> 0 | AP81: =IF(P81="사용자항목14", L81, 0) -> 0 | AQ81: =IF(P81="사용자항목15", L81, 0) -> 0 | AR81: =IF(P81="사용자항목16", L81, 0) -> 0 | AS81: =IF(P81="사용자항목17", L81, 0) -> 0 | AT81: =IF(P81="사용자항목18", L81, 0) -> 0 | AU81: =IF(P81="사용자항목19", L81, 0) -> 0
A82: 무풍 4WAY 판넬 | B82: PC4NUFK1NW | C82: 개 | D82: =SUM(D75:D77) -> 3 | O82: ="" | P82: 기계경비 | Q82: 1 | R82: =IF(P82="기계경비", J82, 0) -> 0 | S82: =IF(P82="운반비", L82, 0) -> 0 | T82: =IF(P82="작업부산물", F82, 0) -> 0 | U82: =IF(P82="관급", F82, 0) -> 0 | V82: =IF(P82="외주비", J82, 0) -> 0 | W82: =IF(P82="장비비", J82, 0) -> 0 | X82: =IF(P82="폐기물처리비", L82, 0) -> 0 | Y82: =IF(P82="가설비", J82, 0) -> 0 | Z82: =IF(P82="잡비제외분", F82, 0) -> 0 | AA82: =IF(P82="사급자재대", L82, 0) -> 0 | AB82: =IF(P82="관급자재대", L82, 0) -> 0 | AC82: =IF(P82="사용자항목1", L82, 0) -> 0 | AD82: =IF(P82="사용자항목2", L82, 0) -> 0 | AE82: =IF(P82="안전관리비", L82, 0) -> 0 | AF82: =IF(P82="품질관리비", L82, 0) -> 0 | AG82: =IF(P82="작업부산물(철거해체)", L82, 0) -> 0 | AH82: =IF(P82="재해예방기술지도비", L82, 0) -> 0 | AI82: =IF(P82="사용자항목7", L82, 0) -> 0 | AJ82: =IF(P82="사용자항목8", L82, 0) -> 0 | AK82: =IF(P82="사용자항목9", L82, 0) -> 0 | AL82: =IF(P82="사용자항목10", L82, 0) -> 0 | AM82: =IF(P82="사용자항목11", L82, 0) -> 0 | AN82: =IF(P82="사용자항목12", L82, 0) -> 0 | AO82: =IF(P82="사용자항목13", L82, 0) -> 0 | AP82: =IF(P82="사용자항목14", L82, 0) -> 0 | AQ82: =IF(P82="사용자항목15", L82, 0) -> 0 | AR82: =IF(P82="사용자항목16", L82, 0) -> 0 | AS82: =IF(P82="사용자항목17", L82, 0) -> 0 | AT82: =IF(P82="사용자항목18", L82, 0) -> 0 | AU82: =IF(P82="사용자항목19", L82, 0) -> 0
A83: 실외기 받침대 | B83: 대 | C83: 조 | D83: 1 | O83: ="03" -> 03 | P83: 기계경비 | Q83: 1 | R83: =IF(P83="기계경비", J83, 0) -> 0 | S83: =IF(P83="운반비", L83, 0) -> 0 | T83: =IF(P83="작업부산물", F83, 0) -> 0 | U83: =IF(P83="관급", F83, 0) -> 0 | V83: =IF(P83="외주비", J83, 0) -> 0 | W83: =IF(P83="장비비", J83, 0) -> 0 | X83: =IF(P83="폐기물처리비", L83, 0) -> 0 | Y83: =IF(P83="가설비", J83, 0) -> 0 | Z83: =IF(P83="잡비제외분", F83, 0) -> 0 | AA83: =IF(P83="사급자재대", L83, 0) -> 0 | AB83: =IF(P83="관급자재대", L83, 0) -> 0 | AC83: =IF(P83="사용자항목1", L83, 0) -> 0 | AD83: =IF(P83="사용자항목2", L83, 0) -> 0 | AE83: =IF(P83="안전관리비", L83, 0) -> 0 | AF83: =IF(P83="품질관리비", L83, 0) -> 0 | AG83: =IF(P83="작업부산물(철거해체)", L83, 0) -> 0 | AH83: =IF(P83="재해예방기술지도비", L83, 0) -> 0 | AI83: =IF(P83="사용자항목7", L83, 0) -> 0 | AJ83: =IF(P83="사용자항목8", L83, 0) -> 0 | AK83: =IF(P83="사용자항목9", L83, 0) -> 0 | AL83: =IF(P83="사용자항목10", L83, 0) -> 0 | AM83: =IF(P83="사용자항목11", L83, 0) -> 0 | AN83: =IF(P83="사용자항목12", L83, 0) -> 0 | AO83: =IF(P83="사용자항목13", L83, 0) -> 0 | AP83: =IF(P83="사용자항목14", L83, 0) -> 0 | AQ83: =IF(P83="사용자항목15", L83, 0) -> 0 | AR83: =IF(P83="사용자항목16", L83, 0) -> 0 | AS83: =IF(P83="사용자항목17", L83, 0) -> 0 | AT83: =IF(P83="사용자항목18", L83, 0) -> 0 | AU83: =IF(P83="사용자항목19", L83, 0) -> 0
A84: 동관 | B84: ∮19.05 | C84: M | D84: 9
A85: 동관 | B85: ∮15.88 | C85: M | D85: 8
A86: 동관 | B86: ∮12.7 | C86: M | D86: 15
A87: 동관 | B87: ∮9.52 | C87: M | D87: 16
A88: 동관 | B88: ∮6.35 | C88: M | D88: 15
A89: 동엘보 | B89: ∮19.05 | C89: EA | D89: =ROUND(D84/4,0) -> 2
A90: 동엘보 | B90: ∮15.88 | C90: EA | D90: =ROUND(D85/4,0) -> 2
A91: 동엘보 | B91: ∮12.7 | C91: EA | D91: =ROUND(D86/4,0) -> 4
A92: 동엘보 | B92: ∮9.52 | C92: EA | D92: =ROUND(D87/4,0) -> 4
A93: 동소켓 | B93: ∮19.05 | C93: EA | D93: =ROUND(D84/4,0) -> 2
A94: 동소켓 | B94: ∮15.88 | C94: EA | D94: =ROUND(D85/4,0) -> 2
A95: 동소켓 | B95: ∮12.7 | C95: EA | D95: =ROUND(D86/4,0) -> 4
A96: 동소켓 | B96: ∮9.52 | C96: EA | D96: =ROUND(D87/4,0) -> 4
A97: 동소켓 | B97: ∮6.35 | C97: EA | D97: =ROUND(D88/4,0) -> 4
A98: 고무발포 보온재 | B98: ∮19.05 (13t, 19t, 25t) | C98: M | D98: =D84 -> 9
A99: 고무발포 보온재 | B99: ∮15.88 (13t, 19t, 25t) | C99: M | D99: =D85 -> 8
A100: 고무발포 보온재 | B100: ∮12.7 (13t, 19t, 25t) | C100: M | D100: =D86 -> 15
A101: 고무발포 보온재 | B101: ∮9.52 (9t, 19t , 25t) | C101: M | D101: =D87 -> 16
A102: 고무발포 보온재 | B102: ∮6.35 (9t, 13t) | C102: M | D102: =D88 -> 15
A103: PVC PIPE | B103: 25A | C103: M | D103: 28
A104: PVC 엘보 | B104: 25A | C104: EA | D104: =ROUND(D103/4,0) -> 7
A105: PVC 소켓 | B105: 25A | C105: EA | D105: =ROUND(D104/4,0) -> 2
A106: 가교발포폴리에틸렌 보온재 | B106: 35㎜ (난연은박 10t) | C106: M | D106: =D103 -> 28
A107: 롱타입 유연호스 | B107: L타입 | C107: EA | D107: 5
A108: 원터치 행거 | B108: ∮80 | C108: EA | D108: =ROUND(SUM(D84:D88)/1.5,0) -> 42
A109: 마감냉동테이프 | B109: 30M/1ROLL | C109: EA | D109: 5
A110: EPDM 접착테이프 | B110: 50M/1ROLL | C110: EA | D110: 5
A111: 고무발포 본드 | B111: 850 본드 | C111: KG | D111: 2
A112: PVC 본드 | B112: 오공 PVC본드 1KG | C112: EA | D112: 1
A113: 전산볼트 | B113: 3/8"*1M | C113: M | D113: =ROUND(SUM(D108:D108),0) -> 42
A114: 전산볼트연결너트 | B114: 3/8" 육각 | C114: EA | D114: =D113 -> 42
A115: 앙카 | B115: 3/8 | C115: EA | D115: =D113 -> 42
A116: 차지 니쁠 | B116: R-410용 1/4" | C116: EA | D116: 1
A117: 질소 압력 게이지 | B117: 60mm 100kg (1/4") | C117: EA | D117: 1
A118: 질 소 | C118: EA | D118: 3
A119: 산소/LPG | C119: L/S | D119: 1
A120: 용접봉 | B120: 3.2 x 500mm (은5%) | C120: G | D120: 1
...
