Workbook

Sheet 원가계산서
B1: 공 사 원 가 계 산 서
B2: 공사명 : 기흥초 교사2호동 천장텍스 설치공사
B3: 비 목 | E3: 금 액 | F3: 구 성 비 | G3: 비 고
A4: A1 | B4: 순 공 사 원 가 | C4: 재 료 비 | D4: 직 접 재 료 비 | E4: =TRUNC(공종별집계표!F5,0) -> 0
A5: A2 | D5: 간 접 재 료 비 | E5: 0
A6: A3 | D6: 작업설, 부산물(△) | E6: 0
A7: AS | D7: [ 소 계 ] | E7: =TRUNC(E4+E5-E6,0) -> 0
A8: B1 | C8: 노 무 비 | D8: 직 접 노 무 비 | E8: =TRUNC(공종별집계표!H5,0) -> 0
A9: B2 | D9: 간 접 노 무 비 | E9: =TRUNC(E8*0.175,0) -> 0 | F9: 직접노무비 * 17.5%
A10: BS | D10: [ 소 계 ] | E10: =TRUNC(E8+E9,0) -> 0
A11: C2 | C11: 경 비 | D11: 경 비 | E11: =TRUNC(공종별집계표!J5,0) -> 0
A12: C3 | D12: 산 재 보 험 료 | E12: =TRUNC(E10*0.0356,0) -> 0 | F12: 노무비 * 3.56%
A13: C4 | D13: 고 용 보 험 료 | E13: =TRUNC(E10*0.0101,0) -> 0 | F13: 노무비 * 1.01%
A14: CA | D14: 산업안전보건관리비 | E14: =TRUNC((E7+E8)*0.0311,0) -> 0 | F14: (재료비+직접노무비)*3.11%
A15: CH | D15: 환 경 보 전 비 | E15: =TRUNC((E7+E8+E11+E19)*0.003,0) -> 0 | F15: 직접공사비 * 0.3%
A16: CG | D16: 기 타 경 비 | E16: =TRUNC((E7+E10)*0.05,0) -> 0 | F16: (재료비+노무비) * 5%
A17: CK | D17: 하도급지급보증수수료 | E17: =TRUNC((E7+E8+E11+E19)*0.00081,0) -> 0 | F17: 직접공사비 * 0.081%
A18: CL | D18: 건설기계대여금지급보증서발급수수료 | E18: =TRUNC((E7+E8+E11+E19)*0.001,0) -> 0 | F18: 직접공사비 * 0.1%
A19: CF | D19: 건설 폐기물 처리비 | E19: =TRUNC(공종별집계표!T11,0) -> 0
A20: C9 | D20: 석 면 분 담 금 | E20: =TRUNC(E10*0.00006,0) -> 0 | F20: 노무비 * 0.006%
A21: CJ | D21: 임금 채권 부담금 | E21: =TRUNC(E10*0.0009,0) -> 0 | F21: 노무비 * 0.09%
A22: CS | D22: [ 소 계 ] | E22: =TRUNC(E11+E12+E13+E20+E14+E19+E16+E15+E21+E17+E18,0) -> 0
A23: S1 | B23: 계 | E23: =TRUNC(E7+E10+E22,0) -> 0
A24: D1 | B24: 일 반 관 리 비 | E24: =TRUNC(E23*0.08,0) -> 0 | F24: 계 * 8%
A25: D2 | B25: 이 윤 | E25: =TRUNC((E10+E22+E24)*0.15,0) -> 0 | F25: (노무비+경비+일반관리비) * 15%
A26: D5 | B26: 작 업 부 산 물(△) | E26: =TRUNC(공종별집계표!T12,0) -> 0
A27: D9 | B27: 공 급 가 액 | E27: =TRUNC(E23+E24+E25+E26,0) -> 0
A28: DB | B28: 부 가 가 치 세 | E28: =TRUNC(E27*0.1,0) -> 0 | F28: 공급가액 * 10%
A29: DH | B29: 도 급 액 | E29: =TRUNC(E27+E28,0) -> 0
A30: S2 | B30: 총 공 사 비 | E30: =TRUNC(E29+0,0) -> 0

Sheet 공종별집계표
A1: 공 종 별 집 계 표
A2: [ 기흥초 교사2호동 천장텍스 설치공사 ]
A3: 품 명 | B3: 규 격 | C3: 단위 | D3: 수량 | E3: 재 료 비 | G3: 노 무 비 | I3: 경 비 | K3: 합 계 | M3: 비 고 | N3: 공종코드 | O3: 변수 | P3: 상위공종 | Q3: 공종구분 | R3: 공종레벨 | S3: 공종소계 | T3: 원가계산서 연결금액
E4: 단 가 | F4: 금 액 | G4: 단 가 | H4: 금 액 | I4: 단 가 | J4: 금 액 | K4: 단 가 | L4: 금 액
A5: 기흥초 교사2호동 천장텍스 설치공사 | D5: 1 | E5: =F6 -> 0 | F5: =E5*D5 -> 0 | G5: =H6 -> 0 | H5: =G5*D5 -> 0 | I5: =J6 -> 0 | J5: =I5*D5 -> 0 | K5: =E5+G5+I5 -> 0 | L5: =F5+H5+J5 -> 0 | N5: 01 | R5: 1
A6: ▣ 건 축 공 사 ▣ | D6: 1 | E6: =F7+F8+F9+F10 -> 0 | F6: =E6*D6 -> 0 | G6: =H7+H8+H9+H10 -> 0 | H6: =G6*D6 -> 0 | I6: =J7+J8+J9+J10 -> 0 | J6: =I6*D6 -> 0 | K6: =E6+G6+I6 -> 0 | L6: =F6+H6+J6 -> 0 | N6: 0101 | P6: 01 | R6: 2
A7: 가 설 공 사 | D7: 1 | E7: =공종별내역서!F29 -> 0 | F7: =E7*D7 -> 0 | G7: =공종별내역서!H29 -> 0 | H7: =G7*D7 -> 0 | I7: =공종별내역서!J29 -> 0 | J7: =I7*D7 -> 0 | K7: =E7+G7+I7 -> 0 | L7: =F7+H7+J7 -> 0 | N7: 010101 | P7: 0101 | R7: 3
A8: 금 속 공 사 | D8: 1 | E8: =공종별내역서!F55 -> 0 | F8: =E8*D8 -> 0 | G8: =공종별내역서!H55 -> 0 | H8: =G8*D8 -> 0 | I8: =공종별내역서!J55 -> 0 | J8: =I8*D8 -> 0 | K8: =E8+G8+I8 -> 0 | L8: =F8+H8+J8 -> 0 | N8: 010102 | P8: 0101 | R8: 3
A9: 수 장 공 사 | D9: 1 | E9: =공종별내역서!F81 -> 0 | F9: =E9*D9 -> 0 | G9: =공종별내역서!H81 -> 0 | H9: =G9*D9 -> 0 | I9: =공종별내역서!J81 -> 0 | J9: =I9*D9 -> 0 | K9: =E9+G9+I9 -> 0 | L9: =F9+H9+J9 -> 0 | N9: 010103 | P9: 0101 | R9: 3
A10: 철 거 공 사 | D10: 1 | E10: =공종별내역서!F107 -> 0 | F10: =E10*D10 -> 0 | G10: =공종별내역서!H107 -> 0 | H10: =G10*D10 -> 0 | I10: =공종별내역서!J107 -> 0 | J10: =I10*D10 -> 0 | K10: =E10+G10+I10 -> 0 | L10: =F10+H10+J10 -> 0 | N10: 010104 | P10: 0101 | R10: 3
A11: 건설폐기물처리비 | D11: 1 | E11: =공종별내역서!F133 -> 0 | F11: =E11*D11 -> 0 | G11: =공종별내역서!H133 -> 0 | H11: =G11*D11 -> 0 | I11: =공종별내역서!J133 -> 0 | J11: =I11*D11 -> 0 | K11: =E11+G11+I11 -> 0 | L11: =F11+H11+J11 -> 0 | N11: 010105 | Q11: 5 | R11: 3 | T11: =L11*1 -> 0
A12: 작업부산물 (△) | D12: 1 | E12: =공종별내역서!F159 -> 0 | F12: =E12*D12 -> 0 | G12: =공종별내역서!H159 -> 0 | H12: =G12*D12 -> 0 | I12: =공종별내역서!J159 -> 0 | J12: =I12*D12 -> 0 | K12: =E12+G12+I12 -> 0 | L12: =F12+H12+J12 -> 0 | N12: 010106 | Q12: A | R12: 3 | T12: =L12*1 -> 0
A29: [ 합 계 ] | F29: =F5 -> 0 | H29: =H5 -> 0 | J29: =J5 -> 0 | L29: =L5 -> 0

Sheet 공종별내역서
A1: [ 기흥초 교사2호동 천장텍스 설치공사 ]
A2: 품 명 | B2: 규 격 | C2: 단위 | D2: 수량 | E2: 재 료 비 | G2: 노 무 비 | I2: 경 비 | K2: 합 계 | M2: 비 고 | N2: 품목코드 | O2: 변수 | P2: 설정 | Q2: 공종코드 | R2: 일위 | S2: 단산 | T2: 자재 | U2: 손료적용 | V2: 손료저장 | W2: 적용율 | X2: JUK1 | Y2: JUK2 | Z2: JUK3 | AA2: JUK4 | AB2: JUK5 | AC2: JUK6 | AD2: JUK7 | AE2: JUK8 | AF2: JUK9 | AG2: JUK10 | AH2: JUK11 | AI2: JUK12 | AJ2: JUK13 | AK2: JUK14 | AL2: JUK15 | AM2: JUK16 | AN2: JUK17 | AO2: JUK18 | AP2: JUK19 | AQ2: JUK20 | AR2: 자재구분 | AS2: 공종구분 | AT2: 공종레벨 | AU2: 공종+자재 | AV2: 고유번호
E3: 단 가 | F3: 금 액 | G3: 단 가 | H3: 금 액 | I3: 단 가 | J3: 금 액 | K3: 단 가 | L3: 금 액
A4: 가 설 공 사 | Q4: 010101
A5: 강관 조립말비계(이동식)설치 및 해체 | B5: 높이 2m, 1개월 | C5: 대 | D5: 6 | F5: =TRUNC(E5*D5,0) -> 0 | H5: =TRUNC(G5*D5,0) -> 0 | J5: =TRUNC(I5*D5,0) -> 0 | K5: =TRUNC(E5+G5+I5,0) -> 0 | L5: =TRUNC(F5+H5+J5,0) -> 0 | N5: 4486283EB43893E37190B870BC4BD | Q5: 010101 | R5: T | S5: F | T5: F | AU5: 0101014486283EB43893E37190B870BC4BD | AV5: 67664
A6: 건축물 현장정리 | B6: 마무리용 | C6: M2 | D6: 1351 | F6: =TRUNC(E6*D6,0) -> 0 | H6: =TRUNC(G6*D6,0) -> 0 | J6: =TRUNC(I6*D6,0) -> 0 | K6: =TRUNC(E6+G6+I6,0) -> 0 | L6: =TRUNC(F6+H6+J6,0) -> 0 | N6: 4486283EE4F18314F10D73E261D23 | Q6: 010101 | R6: T | S6: F | T6: F | AU6: 0101014486283EE4F18314F10D73E261D23 | AV6: 1471
Q7: 010101
Q8: 010101
Q9: 010101
Q10: 010101
Q11: 010101
Q12: 010101
Q13: 010101
Q14: 010101
Q15: 010101
Q16: 010101
Q17: 010101
Q18: 010101
... Q28: 010101
A29: [ 합 계 ] | F29: =SUMIF(Q5:Q28,"010101",F5:F28) -> 0 | H29: =SUMIF(Q5:Q28,"010101",H5:H28) -> 0 | J29: =SUMIF(Q5:Q28,"010101",J5:J28) -> 0 | L29: =SUMIF(Q5:Q28,"010101",L5:L28) -> 0 | N29: TOTAL
A30: 금 속 공 사 | Q30: 010102
A31: 경량천장틀(내진천장틀) | B31: M-BAR(마감판부착비용포함) | C31: M2 | D31: 1352 | F31: =TRUNC(E31*D31,0) -> 0 | H31: =TRUNC(G31*D31,0) -> 0 | J31: =TRUNC(I31*D31,0) -> 0 | K31: =TRUNC(E31+G31+I31,0) -> 0 | L31: =TRUNC(F31+H31+J31,0) -> 0 | N31: 43AB2A3C1474430C45BD7AD0325F23880FE78 | Q31: 010102 | R31: F | S31: F | T31: T | AU31: 01010243AB2A3C1474430C45BD7AD0325F23880FE78 | AV31: 75846
A32: AL.천장몰딩(내진용) | B32: W-30*25*1.0t(시공비포함) | C32: M | D32: 712 | F32: =TRUNC(E32*D32,0) -> 0 | H32: =TRUNC(G32*D32,0) -> 0 | J32: =TRUNC(I32*D32,0) -> 0 | K32: =TRUNC(E32+G32+I32,0) -> 0 | L32: =TRUNC(F32+H32+J32,0) -> 0 | N32: 43AB2A3C1474430C45BD1050511EA2F5FB6DB | Q32: 010102 | R32: F | S32: F | T32: T | AU32: 01010243AB2A3C1474430C45BD1050511EA2F5FB6DB | AV32: 75848
A33: 철재커텐박스(ㄱ자형) | B33: 150*300*1.2t, STL(도장 유) | C33: M | D33: 6 | F33: =TRUNC(E33*D33,0) -> 0 | H33: =TRUNC(G33*D33,0) -> 0 | J33: =TRUNC(I33*D33,0) -> 0 | K33: =TRUNC(E33+G33+I33,0) -> 0 | L33: =TRUNC(F33+H33+J33,0) -> 0 | N33: 44862639442AD3FCFAF42D4493DA5 | Q33: 010102 | R33: T | S33: F | T33: F | AU33: 01010244862639442AD3FCFAF42D4493DA5 | AV33: 75960
Q34: 010102
Q35: 010102
Q36: 010102
Q37: 010102
Q38: 010102
Q39: 010102
Q40: 010102
Q41: 010102
Q42: 010102
Q43: 010102
Q44: 010102
Q45: 010102
... Q54: 010102
A55: [ 합 계 ] | F55: =SUMIF(Q31:Q54,"010102",F31:F54) -> 0 | H55: =SUMIF(Q31:Q54,"010102",H31:H54) -> 0 | J55: =SUMIF(Q31:Q54,"010102",J31:J54) -> 0 | L55: =SUMIF(Q31:Q54,"010102",L31:L54) -> 0 | N55: TOTAL
A56: 수 장 공 사 | Q56: 010103
A57: 불연천장재 | B57: 불연천장재, 9.5*300*600mm | C57: M2 | D57: 1419 | F57: =TRUNC(E57*D57,0) -> 0 | H57: =TRUNC(G57*D57,0) -> 0 | J57: =TRUNC(I57*D57,0) -> 0 | K57: =TRUNC(E57+G57+I57,0) -> 0 | L57: =TRUNC(F57+H57+J57,0) -> 0 | N57: 43AB2A3C1474430C45BD10506326B8691D670 | Q57: 010103 | R57: F | S57: F | T57: T | AU57: 01010343AB2A3C1474430C45BD10506326B8691D670 | AV57: 1538
...

Sheet  공사설정 
A1: 이 Sheet는 수정하지 마십시요
A2: 공사구분 | B2: A | C2: 타이틀
A3: 확정내역 | B3: 원내역
A4: 자재단가적용 | B4: 5
A5: 경비단가적용 | B5: 5
A6: 품목코드형식 | B6: XXXX-XXXX-XXXXXXXXX
A7: 내역금액소수점처리 | B7: C | C7: T
A8: 일위대가내역소수점처리 | B8: C | C8: 2
A9: 단가명 | B9: 가격정보 | C9: 거래가격 | D9: 유통물가 | E9: 물가자료 | F9: 조사가격 | G9: TTTTT
A10: 환율 | B10: 1433 | C10: 0 | D10: 0
A11: 시간당작업량 | B11: R | C11: 4
A12: 1회 사이클시간 | B12: R | C12: 4
A13: 시간당 작업사이클 | B13: R | C13: 3
A14: 일반변수 | B14: R | C14: 5
A15: 시간당 노임산출 계수 | B15: A | C15: 1/8*16/12*25/20 | D15: 1/8*16/12*25/20 | E15: 1/8*16/12*25/20 | F15: 1
A16: 재료비 할증 계수 | B16: 1.11 | C16: 1.12
A17: 노무비 할증 계수 | B17: 1 | C17: 1.5 | D17: 1.16 | E17: 1.6 | F17: 1.6 | G17: 1.6 | H17: 1.94 | I17: 1.94 | J17: 1.94 | K17: 1 | L17: 1 | M17: 1
A18: 경비 할증 계수 | B18: 1.25 | C18: 1.071
A19: 내역,일위대가 품명,규격,단위 따로적용
A20: 내역단가 소수점처리 | B20: C | C20: 1
A21: 코드 | B21: 공종구분명 | C21: 원가비목코드
A22: 1 | B22: 작 업 부 산 물(△) | C22: A3
A23: 2 | B23: 운 반 비 | C23: C1
A24: 3 | B24: 품 질 관 리 비 | C24: C8
A25: 4 | B25: 안 전 관 리 비 | C25: CE
A26: 5 | B26: 건설 폐기물 처리비 | C26: CF
A27: 6 | B27: 건설 폐기물 상차비
A28: 7 | B28: 임목 폐기물 처리비
A29: 8 | B29: 미확정설계공정(PS) | C29: D3
A30: 9 | B30: 작업 부산물 (철거) | C30: D4
A31: A | B31: 작 업 부 산 물(△) | C31: D5
A32: B | B32: 토양오염검사수수료 | C32: D6
A33: C | B33: 도급자설치관급자재 | C33: DK
A34: D | B34: 관급자설치관급자재 | C34: DL
A35: E | B35: 분 담 금 공 사 | C35: DM
A36: F | B36: ▣ 작업부산물(△) ▣
A37: G | B37: ▣ 폐기물 처리비 ▣
A38: H | B38: ▣ 측 정 비 ▣ | C38: E1
A39: I | B39: ▣ 지 정 폐 기 물 ▣ | C39: E2
A40: J | B40: ....
...
