Workbook
Name _: #N/A
Name ___Q1: #REF!
Name __aab42: #REF!
Name __B2: '[5]단면 (2)'!$K$55
Name __BFF1: #REF!
Name __BS1: '[6]guard(mac)'!$C$1
Name __BS2: '[6]guard(mac)'!$E$1
Name __CON135: #REF!
Name __CON210: #REF!
Name __CON240: #REF!
Name __CSA8: '[7]INPUT(덕도방향-시점)'!#REF!
Name __DemandLoad: TRUE
Name __ELL1: #REF!
Name __ELL2: #REF!
Name __FBB1: #REF!
Name __FBB2: #REF!
Name __FBB3: #REF!
Name __FHH1: #REF!
Name __FHH2: #REF!
Name __FHH3: #REF!
Name __Fld01: #REF!
Name __Fld02: #REF!
Name __Fld03: #REF!
Name __Fld04: #REF!
Name __Fld05: #REF!
Name __Fld06: #REF!
Name __Fld07: #REF!
Name __Fld08: #REF!
Name __Fld09: #REF!
Name __Fld10: #REF!
Name __Fld11: #REF!
Name __Fld12: #REF!
Name __Fld13: #REF!
Name __Fld14: #REF!
Name __Fld15: #REF!
Name __Fld16: #REF!
Name __Fld17: #REF!
Name __Fld18: #REF!
Name __Fld19: #REF!
Name __Fld20: #REF!
Name __GHH1: #REF!
Name __GHH2: #REF!
Name __HSH1: #REF!
Name __HSH2: #REF!
Name __hun1: [8]설계조건!#REF!
Name __hun2: [8]설계조건!#REF!
Name __JEA1: #REF!
Name __JEA2: #REF!
Name __JHY1: [0]!__JHY1
Name __JHY2: [0]!__JHY2
Name __JOI13: #REF!
Name __L1: '[9]U-TYPE(1)'!$F$10
Name __LEN1: #REF!
Name __Lg1: #REF!
Name __Lg2: #REF!
Name __LH1: #REF!
Name __LH2: #REF!
Name __LKS1: [0]!__LKS1
Name __LKS2: [0]!__LKS2
Name __LL1: #REF!

Sheet 겉표지
B2: 2026년도
A9: 홍주종합경기장 종합정비 용역 (군관리계획 변경, 보조경기장 기본 및 실시설계)
B14: 홍 성 군

Sheet 표지
A1: 설계년월일 | C1: 2026. 9. | D1: 담 당 자 | G1: 검 산 자 | J1: 팀 장 | M1: 과 장
B3: 홍주종합경기장 종합정비용역 (군관리계획 변경, 보조경기장 기본 및 실시설계)
D5: 용역개요: | F5: 군관리계획 결정(변경), 기본 및 실시설계 등
D8: 용역비: | F8: 1388600000 | J8: (금일십삼억팔천팔백육십만원)

Sheet 총괄
A1: 종 별 | B1: 규 격 | C1: 수 량 | D1: 단위 | E1: 총 액 | F1: 노 무 비 | H1: 재 료 비 | J1: 경 비 | L1: 비 고
E2: 금 액 | F2: 단 가 | G2: 금 액 | H2: 단 가 | I2: 금 액 | J2: 단 가 | K2: 금 액
A3: 홍주종합경기장 종합정비(군관리계획 변경, 보조경기장 기본 및 실시설계) 용역
A5: 군관리계획 (변경)결정 | C5: 1 | D5: 식 | N5: =E5*1.1 -> 0
A6: 경관성검토 | C6: 1 | D6: 식 | N6: =E6*1.1 -> 0
A7: 기본 및 실시설계 | C7: 1 | D7: 식 | N7: =E7*1.1 -> 0
A8: 실시계획인가 | C8: 1 | D8: 식 | N8: =E8*1.1 -> 0
A9: 농지전용 | C9: 1 | D9: 식 | N9: =E9*1.1 -> 0
A10: 소 계 | N10: =SUM(N5:N9) -> 0
A13: 손해배상보험료 | C13: 1 | D13: 식 | N13: =E13*1.1 -> 0
A15: 합 계
A17: 부가가치세 | C17: 10 | D17: %
A19: 총 계 | E19: 1388600000

Sheet 2.토질
A1: 2. 토질조사
A2: 공 종 | B2: 규 격 | C2: 수 량 | D2: 단 위 | E2: 합 계 | G2: 노 무 비 | I2: 재 료 비 | K2: 경 비 | M2: 비 고
E4: 단 가 | F4: 금 액 | G4: 단 가 | H4: 금 액 | I4: 단 가 | J4: 금 액 | K4: 단 가 | L4: 금 액
A5: 가. 현장조사비
A6: =토질산근2!A3 -> 1. 시추조사 (10m기준) | B6: NX | C6: =토질산근2!E3 -> 6 | D6: 공 | F6: =SUM(F7:F13) -> #REF! | H6: =SUM(H7:H13) -> #REF! | J6: =SUM(J7:J13) -> 2962614 | L6: =SUM(L7:L13) -> 596376
A7: =토질산근2!A4 -> 점토(1m/공당) | B7: NX | C7: =토질산근2!E4 -> 6 | D7: m | E7: =SUM(G7,I7,K7) -> #REF! | F7: =SUM(H7,J7,L7) -> #REF! | G7: =토질산근1!H18 -> #REF! | H7: =TRUNC(C7*G7) -> #REF! | I7: =토질산근1!J18 -> 15973 | J7: =TRUNC(C7*I7) -> 95838 | K7: =토질산근1!L18 -> 7013 | L7: =TRUNC(C7*K7) -> 42078 | M7: 제1호표
A8: =토질산근2!A5 -> 모래(6m/공당) | B8: NX | C8: =토질산근2!E5 -> 12 | D8: m | E8: =SUM(G8,I8,K8) -> #REF! | F8: =SUM(H8,J8,L8) -> #REF! | G8: =토질산근1!H36 -> #REF! | H8: =TRUNC(C8*G8) -> #REF! | I8: =토질산근1!J36 -> 24822 | J8: =TRUNC(C8*I8) -> 297864 | K8: =토질산근1!L36 -> 8734 | L8: =TRUNC(C8*K8) -> 104808 | M8: 제2호표
A9: =토질산근2!A6 -> 자갈(2m/공당) | B9: NX | C9: =토질산근2!E6 -> 12 | D9: m | E9: =SUM(G9,I9,K9) -> #REF! | F9: =SUM(H9,J9,L9) -> #REF! | G9: =토질산근1!H54 -> #REF! | H9: =TRUNC(C9*G9) -> #REF! | I9: =토질산근1!J54 -> 63085 | J9: =TRUNC(C9*I9) -> 757020 | K9: =토질산근1!L54 -> 17259 | L9: =TRUNC(C9*K9) -> 207108 | M9: 제3호표
A10: =토질산근2!A7 -> 풍화암(3m/공당) | B10: NX | C10: =토질산근2!E7 -> 18 | D10: m | E10: =SUM(G10,I10,K10) -> #REF! | F10: =SUM(H10,J10,L10) -> #REF! | G10: =토질산근1!H71 -> #REF! | H10: =TRUNC(C10*G10) -> #REF! | I10: =토질산근1!J71 -> 54224 | J10: =TRUNC(C10*I10) -> 976032 | K10: =토질산근1!L71 -> 7643 | L10: =TRUNC(C10*K10) -> 137574 | M10: 제4호표
A11: =토질산근2!A8 -> 연암(3m/공당) | B11: NX | C11: =토질산근2!E8 -> 12 | D11: m | E11: =SUM(G11,I11,K11) -> #REF! | F11: =SUM(H11,J11,L11) -> #REF! | G11: =토질산근1!H89 -> #REF! | H11: =TRUNC(C11*G11) -> #REF! | I11: =토질산근1!J89 -> 69655 | J11: =TRUNC(C11*I11) -> 835860 | K11: =토질산근1!L89 -> 8734 | L11: =TRUNC(C11*K11) -> 104808 | M11: 제5호표
A12: =토질산근2!A9 -> 보통암(0m/공당) | B12: NX | C12: =토질산근2!E9 -> 0 | D12: m | E12: =SUM(G12,I12,K12) -> #REF! | F12: =SUM(H12,J12,L12) -> #REF! | G12: =토질산근1!H107 -> #REF! | H12: =TRUNC(C12*G12) -> #REF! | I12: =토질산근1!J107 -> 80167 | J12: =TRUNC(C12*I12) -> 0 | K12: =토질산근1!L107 -> 10792 | L12: =TRUNC(C12*K12) -> 0 | M12: 제6호표
A13: =토질산근2!A10 -> 경암(0m/공당) | B13: NX | C13: =토질산근2!E10 -> 0 | D13: m | E13: =SUM(G13,I13,K13) -> #REF! | F13: =SUM(H13,J13,L13) -> #REF! | G13: =토질산근1!H125 -> #REF! | H13: =TRUNC(C13*G13) -> #REF! | I13: =토질산근1!J125 -> 90312 | J13: =TRUNC(C13*I13) -> 0 | K13: =토질산근1!L125 -> 12346 | L13: =TRUNC(C13*K13) -> 0 | M13: 제7호표
A14: 2. 원위치시험 | F14: =SUM(F15:F21) -> #REF! | H14: =SUM(H15:H21) -> #REF! | J14: =SUM(J15:J21) -> 417744 | L14: =SUM(L15:L21) -> #REF!
A15: 표준관입시험 | B15: KS F 2307 | C15: =토질산근2!E13 -> 48 | D15: 회 | E15: =SUM(G15,I15,K15) -> #REF! | F15: =SUM(H15,J15,L15) -> #REF! | G15: =토질산근1!H139 -> #REF! | H15: =TRUNC(C15*G15) -> #REF! | I15: =토질산근1!J139 -> 7827 | J15: =TRUNC(C15*I15) -> 375696 | K15: =토질산근1!L139 -> 0 | L15: =TRUNC(C15*K15) -> 0 | M15: 제8호표
A16: 자연시료채취 | B16: 황동관 | C16: =토질산근2!E14 -> 0 | D16: 회 | E16: =SUM(G16,I16,K16) -> 102943 | F16: =SUM(H16,J16,L16) -> 0 | G16: =토질산근1!H149 -> 76070 | H16: =TRUNC(C16*G16) -> 0 | I16: =토질산근1!J149 -> 26873 | J16: =TRUNC(C16*I16) -> 0 | K16: =토질산근1!L149 -> 0 | L16: =TRUNC(C16*K16) -> 0 | M16: 제9호표
A17: 핸드오거보링 | B17: 3.0m기준 | D17: 회 | E17: =SUM(G17,I17,K17) -> #REF! | F17: =SUM(H17,J17,L17) -> 0 | G17: =토질산근1!H158 -> #REF! | I17: =토질산근1!J158 -> 16800 | K17: =토질산근1!L158 -> 756 | M17: 제10호표
A18: 현장투수시험 | B18: 주수법 | C18: =토질산근2!E16 -> 1 | D18: 회 | E18: =SUM(G18,I18,K18) -> #REF! | F18: =SUM(H18,J18,L18) -> #REF! | G18: =토질산근1!H169 -> #REF! | H18: =TRUNC(C18*G18) -> #REF! | I18: =토질산근1!J169 -> 42048 | J18: =TRUNC(C18*I18) -> 42048 | K18: =토질산근1!L169 -> 26033 | L18: =TRUNC(C18*K18) -> 26033 | M18: 제11호표
A19: 공내수압시험 | B19: Lugeon Test | C19: =토질산근2!E17 -> 0 | D19: 회 | E19: =SUM(G19,I19,K19) -> #REF! | F19: =SUM(H19,J19,L19) -> #REF! | G19: =토질산근1!H188 -> #REF! | H19: =TRUNC(C19*G19) -> #REF! | I19: =토질산근1!J188 -> 231903 | J19: =TRUNC(C19*I19) -> 0 | K19: =토질산근1!L188 -> 37608 | L19: =TRUNC(C19*K19) -> 0 | M19: 제12호표
A20: 공내재하시험 | B20: Elastmeter | C20: =토질산근2!E18 -> 0 | D20: 회 | E20: =SUM(G20,I20,K20) -> #REF! | F20: =SUM(H20,J20,L20) -> #REF! | G20: =토질산근1!H201 -> #REF! | H20: =TRUNC(C20*G20) -> #REF! | I20: =토질산근1!J201 -> 178972 | J20: =TRUNC(C20*I20) -> 0 | K20: =토질산근1!L201 -> 215482 | L20: =TRUNC(C20*K20) -> 0 | M20: 제13호표
A21: 하향식탄성파탐사 | B21: Downhole | C21: =토질산근2!E19 -> 0 | D21: 회 | E21: =SUM(G21,I21,K21) -> #REF! | F21: =SUM(H21,J21,L21) -> #REF! | G21: =토질산근1!H224 -> #REF! | H21: =TRUNC(C21*G21) -> #REF! | I21: =토질산근1!J224 -> 211685 | J21: =TRUNC(C21*I21) -> 0 | K21: =토질산근1!L224 -> #REF! | L21: =TRUNC(C21*K21) -> #REF! | M21: 제14호표
A22: 3. 시험굴조사 | F22: =SUM(F23:F24) -> #REF! | H22: =SUM(H23:H24) -> #REF! | J22: =SUM(J23:J24) -> 6552 | L22: =SUM(L23:L24) -> 169200
A23: 시험굴시료채취 | B23: 2m 이내 | C23: =토질산근2!E21 -> 3 | D23: 개소 | E23: =SUM(G23,I23,K23) -> #REF! | F23: =SUM(H23,J23,L23) -> #REF! | G23: =토질산근1!H233 -> #REF! | H23: =TRUNC(C23*G23) -> #REF! | I23: =토질산근1!J233 -> 2184 | J23: =TRUNC(C23*I23) -> 6552 | K23: =토질산근1!L233 -> 0 | L23: =TRUNC(C23*K23) -> 0 | M23: 제15호표
A24: 현장밀도시험 | B24: KS F 2311 | C24: =토질산근2!E22 -> 3 | D24: 회 | E24: =SUM(G24,I24,K24) -> 56400 | F24: =SUM(H24,J24,L24) -> 169200 | G24: =토질산근1!H237 -> 0 | H24: =TRUNC(C24*G24) -> 0 | I24: =토질산근1!J237 -> 0 | J24: =TRUNC(C24*I24) -> 0 | K24: =토질산근1!L237 -> 56400 | L24: =TRUNC(C24*K24) -> 169200 | M24: 제16호표
A25: 4. 지표지질조사 | B25: 보통산지 | C25: =토질산근2!E23 -> 0 | D25: km2 | E25: =SUM(G25,I25,K25) -> #REF! | F25: =SUM(H25,J25,L25) -> #REF! | G25: =토질산근1!H261 -> #REF! | H25: =TRUNC(C25*G25) -> #REF! | I25: =토질산근1!J261 -> 0 | J25: =TRUNC(C25*I25) -> 0 | K25: =토질산근1!L261 -> #REF! | L25: =TRUNC(C25*K25) -> #REF! | M25: 제17호표
A26: 5. 물리탐사 | F26: =SUM(F27:F28) -> #REF! | H26: =SUM(H27:H28) -> #REF! | J26: =SUM(J27:J28) -> 0 | L26: =SUM(L27:L28) -> 0
A27: 탄성파탐사 | B27: 수진간격 5m | C27: =토질산근2!E25 -> 0 | D27: km | E27: =SUM(G27,I27,K27) -> #REF! | F27: =SUM(H27,J27,L27) -> #REF! | G27: =토질산근1!H274 -> #REF! | H27: =TRUNC(C27*G27) -> #REF! | I27: =토질산근1!J274 -> 271180 | J27: =TRUNC(C27*I27) -> 0 | K27: =토질산근1!L274 -> 626776 | L27: =TRUNC(C27*K27) -> 0 | M27: 제18호표
A28: 전기비저항탐사 | B28: 전극간격 10m | C28: =토질산근2!E26 -> 0 | D28: km | E28: =SUM(G28,I28,K28) -> #REF! | F28: =SUM(H28,J28,L28) -> #REF! | G28: =토질산근1!H292 -> #REF! | H28: =TRUNC(C28*G28) -> #REF! | I28: =토질산근1!J292 -> 85800 | J28: =TRUNC(C28*I28) -> 0 | K28: =토질산근1!L292 -> 274896 | L28: =TRUNC(C28*K28) -> 0 | M28: 제19호표
A29: 6. 부대공 | F29: =SUM(F30,F36) -> #REF! | H29: =SUM(H30,H36) -> #REF! | J29: =SUM(J30,J36) -> #REF! | L29: =SUM(L30,L36) -> 47628
A30: 6-1 육상 | F30: =SUM(F31:F35) -> #REF! | H30: =SUM(H31:H35) -> #REF! | J30: =SUM(J31:J35) -> #REF! | L30: =SUM(L31:L35) -> 47628
A31: 기계기구소운반 | B31: 100m 이내 | C31: =토질산근2!E29 -> 6 | D31: 공 | E31: =SUM(G31,I31,K31) -> #REF! | F31: =SUM(H31,J31,L31) -> #REF! | G31: =토질산근1!H306 -> #REF! | H31: =TRUNC(C31*G31) -> #REF! | I31: =토질산근1!J306 -> #REF! | J31: =TRUNC(C31*I31) -> #REF! | K31: =토질산근1!L306 -> 1342 | L31: =C31*K31 -> 8052 | M31: 제20호표
A32: 기계기구설치 | B32: 평지 | C32: =토질산근2!E30 -> 6 | D32: 공 | E32: =SUM(G32,I32,K32) -> #REF! | F32: =SUM(H32,J32,L32) -> #REF! | G32: =토질산근1!H312 -> #REF! | H32: =TRUNC(C32*G32) -> #REF! | I32: =토질산근1!J312 -> 0 | J32: =TRUNC(C32*I32) -> 0 | K32: =토질산근1!L312 -> 0 | L32: =C32*K32 -> 0 | M32: 제21호표
A33: 급수비 | B33: 펌프운전 | C33: =토질산근2!E31 -> 6 | D33: 공 | E33: =SUM(G33,I33,K33) -> #REF! | F33: =SUM(H33,J33,L33) -> #REF! | G33: =토질산근1!H322 -> #REF! | H33: =TRUNC(C33*G33) -> #REF! | I33: =토질산근1!J322 -> 2732 | J33: =TRUNC(C33*I33) -> 16392 | K33: =토질산근1!L322 -> 6596 | L33: =C33*K33 -> 39576 | M33: 제22호표
A34: 시료상자 | B34: - | C34: =토질산근2!E32 -> 1 | D34: 개 | E34: =SUM(G34,I34,K34) -> #REF! | F34: =SUM(H34,J34,L34) -> #REF! | G34: =토질산근1!H331 -> #REF! | H34: =TRUNC(C34*G34) -> #REF! | I34: =토질산근1!J331 -> 27561 | J34: =TRUNC(C34*I34) -> 27561 | K34: =토질산근1!L331 -> 0 | L34: =C34*K34 -> 0 | M34: 제23호표
A35: 시추공폐공비 | B35: 200m 이내 | C35: =토질산근2!E33 -> 60 | D35: m | E35: =SUM(G35,I35,K35) -> #REF! | F35: =SUM(H35,J35,L35) -> #REF! | G35: =토질산근1!H342 -> #REF! | H35: =TRUNC(C35*G35) -> #REF! | I35: =토질산근1!J342 -> 623 | J35: =TRUNC(C35*I35) -> 37380 | K35: =토질산근1!L342 -> 0 | L35: =C35*K35 -> 0 | M35: 제24호표
A36: 6-2 수상 | F36: =SUM(F37:F39) -> #REF! | H36: =SUM(H37:H39) -> #REF! | J36: =SUM(J37:J39) -> 0 | L36: =SUM(L37:L39) -> 0
A37: Float Barge 조립 및 해체 | C37: =토질산근2!E35 -> 0 | D37: 회 | E37: =SUM(G37,I37,K37) -> #REF! | F37: =SUM(H37,J37,L37) -> #REF! | G37: =토질산근1!H353 -> #REF! | H37: =TRUNC(C37*G37) -> #REF! | I37: =토질산근1!J353 -> 2382000 | J37: =TRUNC(C37*I37) -> 0 | K37: =토질산근1!L353 -> 0 | L37: =C37*K37 -> 0 | M37: 제25호표
A38: Float Barge 이동설치 및 철수 | C38: =토질산근2!E36 -> 0 | D38: 회 | E38: =SUM(G38,I38,K38) -> #REF! | F38: =SUM(H38,J38,L38) -> #REF! | G38: =토질산근1!H367 -> #REF! | H38: =TRUNC(C38*G38) -> #REF! | I38: =토질산근1!J367 -> 122640 | J38: =TRUNC(C38*I38) -> 0 | K38: =토질산근1!L367 -> 4074928 | L38: =C38*K38 -> 0 | M38: 제26호표
A39: 예인선 임대비 | C39: =토질산근2!E37 -> 0 | D39: 일 | E39: =SUM(G39,I39,K39) -> 535496 | F39: =SUM(H39,J39,L39) -> 0 | G39: =토질산근1!H371 -> 0 | I39: =토질산근1!J371 -> 0 | K39: =토질산근1!L371 -> 535496 | L39: =C39*K39 -> 0 | M39: 제27호표
A40: 7. 실내 시험비 | F40: =SUM(F41,F53,F61) -> 3748800 | L40: =SUM(L41,L53,L61) -> 3748800
A41: 7-1 토질시험 | F41: =SUM(F42:F52) -> 3697800 | L41: =SUM(L42:L52) -> 3697800
...

Sheet 토질산근1
A1: ■ 토질조사 산출근거
A2: 공 종 | B2: 규 격 | C2: 수 량 | D2: 단 위 | E2: 합 계 | G2: 노 무 비 | I2: 재 료 비 | K2: 경 비
E3: 단 가 | F3: 금 액 | G3: 단 가 | H3: 금 액 | I3: 단 가 | J3: 금 액 | K3: 단 가 | L3: 금 액
A4: 제 1 호표 : 점토층 (NX규격, m당) | N4: 건품(2016년) 17-1-2
A5: 중급기술자 | C5: 0.18 | D5: 인 | E5: =SUM(G5,I5,K5) -> #REF! | F5: =H5+J5+L5 -> #REF! | G5: =+#REF! -> #REF! | H5: =TRUNC(C5*G5) -> #REF!
A6: 보오링공 | C6: 0.35 | D6: 인 | E6: =SUM(G6,I6,K6) -> #REF! | F6: =H6+J6+L6 -> #REF! | G6: =#REF! -> #REF! | H6: =TRUNC(C6*G6) -> #REF! | L6: =TRUNC(C6*K6) -> 0
A7: 특별인부 | C7: 0.25 | D7: 인 | E7: =SUM(G7,I7,K7) -> #REF! | F7: =H7+J7+L7 -> #REF! | G7: =#REF! -> #REF! | H7: =TRUNC(C7*G7) -> #REF! | L7: =TRUNC(C7*K7) -> 0
A8: 보통인부 | C8: 0.35 | D8: 인 | E8: =SUM(G8,I8,K8) -> #REF! | F8: =H8+J8+L8 -> #REF! | G8: =#REF! -> #REF! | H8: =TRUNC(C8*G8) -> #REF! | L8: =TRUNC(C8*K8) -> 0
A9: 싱글코아바렐 | C9: 0.01 | D9: 개 | E9: =SUM(G9,I9,K9) -> 110000 | F9: =H9+J9+L9 -> 1100 | I9: =토질산근3!D9 -> 110000 | J9: =TRUNC(C9*I9) -> 1100
A10: Metal crown bit | C10: 0.025 | D10: 개 | E10: =SUM(G10,I10,K10) -> 30000 | F10: =H10+J10+L10 -> 750 | I10: =토질산근3!D11 -> 30000 | J10: =TRUNC(C10*I10) -> 750
A11: Drive pipe head | C11: 0.01 | D11: 개 | E11: =SUM(G11,I11,K11) -> 50000 | F11: =H11+J11+L11 -> 500 | I11: =토질산근3!D13 -> 50000 | J11: =TRUNC(C11*I11) -> 500
A12: Drive pipe shoe | C12: 0.01 | D12: 개 | E12: =SUM(G12,I12,K12) -> 35000 | F12: =H12+J12+L12 -> 350 | I12: =토질산근3!D15 -> 35000 | J12: =TRUNC(C12*I12) -> 350
A13: Drive pipe | B13: 1.5m | C13: 0.01 | D13: 개 | E13: =SUM(G13,I13,K13) -> 130000 | F13: =H13+J13+L13 -> 1300 | I13: =토질산근3!D17 -> 130000 | J13: =TRUNC(C13*I13) -> 1300
A14: 잡품(재료비의 5%) | C14: 5 | D14: % | E14: =SUM(G14,I14,K14) -> 40 | F14: =H14+J14+L14 -> 200 | I14: =SUM(J9:J13)/100 -> 40 | J14: =TRUNC(C14*I14) -> 200 | N14: 지반조사표준품셈 153p
A15: 경유 | C15: 5.6 | D15: L | E15: =SUM(G15,I15,K15) -> 1752 | F15: =H15+J15+L15 -> 9811 | I15: =토질산근3!D5 -> 1752 | J15: =TRUNC(C15*I15) -> 9811 | N15: - 잡재료, 동력비, 손료 참고
A16: 잡유(경유의 20%) | C16: 20 | D16: % | E16: =SUM(G16,I16,K16) -> 98.11 | F16: =H16+J16+L16 -> 1962 | I16: =SUM(J15:J15)/100 -> 98.11 | J16: =TRUNC(C16*I16) -> 1962
A17: 기계기구손료 | C17: 0.167 | D17: 일 | E17: =SUM(G17,I17,K17) -> 41995.133 | F17: =H17+J17+L17 -> 7013 | K17: =토질산근4!F4 -> 41995.133 | L17: =TRUNC(C17*K17) -> 7013
A18: 계 | F18: =SUM(F5:F17) -> #REF! | H18: =SUM(H5:H17) -> #REF! | J18: =SUM(J5:J17) -> 15973 | L18: =SUM(L5:L17) -> 7013
A22: 제 2 호표 : 모래층 (NX규격, m당) | N22: 건품(2016년) 17-1-2
A23: 중급기술자 | C23: 0.21 | D23: 인 | E23: =SUM(G23,I23,K23) -> #REF! | F23: =H23+J23+L23 -> #REF! | G23: =+#REF! -> #REF! | H23: =TRUNC(C23*G23) -> #REF!
A24: 보오링공 | C24: 0.4 | D24: 인 | E24: =SUM(G24,I24,K24) -> #REF! | F24: =H24+J24+L24 -> #REF! | G24: =+G6 -> #REF! | H24: =TRUNC(C24*G24) -> #REF! | L24: =TRUNC(C24*K24) -> 0
A25: 특별인부 | C25: 0.29 | D25: 인 | E25: =SUM(G25,I25,K25) -> #REF! | F25: =H25+J25+L25 -> #REF! | G25: =+G7 -> #REF! | H25: =TRUNC(C25*G25) -> #REF! | L25: =TRUNC(C25*K25) -> 0
A26: 보통인부 | C26: 0.4 | D26: 인 | E26: =SUM(G26,I26,K26) -> #REF! | F26: =H26+J26+L26 -> #REF! | G26: =+G8 -> #REF! | H26: =TRUNC(C26*G26) -> #REF! | L26: =TRUNC(C26*K26) -> 0
A27: 싱글코아바렐 | C27: 0.025 | D27: 인 | E27: =SUM(G27,I27,K27) -> 110000 | F27: =H27+J27+L27 -> 2750 | I27: =I9 -> 110000 | J27: =TRUNC(C27*I27) -> 2750
A28: Metal crown bit | C28: 0.05 | D28: 개 | E28: =SUM(G28,I28,K28) -> 30000 | F28: =H28+J28+L28 -> 1500 | I28: =I10 -> 30000 | J28: =TRUNC(C28*I28) -> 1500
A29: Drive pipe head | C29: 0.025 | D29: 개 | E29: =SUM(G29,I29,K29) -> 50000 | F29: =H29+J29+L29 -> 1250 | I29: =I11 -> 50000 | J29: =TRUNC(C29*I29) -> 1250
A30: Drive pipe shoe | C30: 0.025 | D30: 개 | E30: =SUM(G30,I30,K30) -> 35000 | F30: =H30+J30+L30 -> 875 | I30: =I12 -> 35000 | J30: =TRUNC(C30*I30) -> 875
A31: Drive pipe | B31: 1.5m | C31: 0.025 | D31: 개 | E31: =SUM(G31,I31,K31) -> 130000 | F31: =H31+J31+L31 -> 3250 | I31: =I13 -> 130000 | J31: =TRUNC(C31*I31) -> 3250
A32: 잡품(재료비의 5%) | C32: 5 | D32: % | E32: =SUM(G32,I32,K32) -> 96.25 | F32: =H32+J32+L32 -> 481 | I32: =SUM(J27:J31)/100 -> 96.25 | J32: =TRUNC(C32*I32) -> 481 | N32: 지반조사표준품셈 153p
A33: 경유 | C33: 7 | D33: L | E33: =SUM(G33,I33,K33) -> 1752 | F33: =H33+J33+L33 -> 12264 | I33: =I15 -> 1752 | J33: =TRUNC(C33*I33) -> 12264 | N33: - 잡재료, 동력비, 손료 참고
A34: 잡유(경유의 20%) | C34: 20 | D34: % | E34: =SUM(G34,I34,K34) -> 122.64 | F34: =H34+J34+L34 -> 2452 | I34: =SUM(J33:J33)/100 -> 122.64 | J34: =TRUNC(C34*I34) -> 2452
A35: 기계기구손료 | C35: 0.208 | D35: 일 | E35: =SUM(G35,I35,K35) -> 41995.133 | F35: =H35+J35+L35 -> 8734 | K35: =K17 -> 41995.133 | L35: =TRUNC(C35*K35) -> 8734
A36: 계 | F36: =SUM(F23:F35) -> #REF! | H36: =SUM(H23:H35) -> #REF! | J36: =SUM(J23:J35) -> 24822 | L36: =SUM(L23:L35) -> 8734
A40: 제 3 호표 : 자갈층 (NX규격, m당) | N40: 건품(2016년) 17-1-2
A41: 중급기술자 | C41: 0.45 | D41: 인 | E41: =SUM(G41,I41,K41) -> #REF! | F41: =H41+J41+L41 -> #REF! | G41: =+#REF! -> #REF! | H41: =TRUNC(C41*G41) -> #REF!
A42: 보오링공 | C42: 0.72 | D42: 인 | E42: =SUM(G42,I42,K42) -> #REF! | F42: =H42+J42+L42 -> #REF! | G42: =+G24 -> #REF! | H42: =TRUNC(C42*G42) -> #REF! | L42: =TRUNC(C42*K42) -> 0
A43: 특별인부 | C43: 0.63 | D43: 인 | E43: =SUM(G43,I43,K43) -> #REF! | F43: =H43+J43+L43 -> #REF! | G43: =+G25 -> #REF! | H43: =TRUNC(C43*G43) -> #REF! | L43: =TRUNC(C43*K43) -> 0
A44: 보통인부 | C44: 0.73 | D44: 인 | E44: =SUM(G44,I44,K44) -> #REF! | F44: =H44+J44+L44 -> #REF! | G44: =+G26 -> #REF! | H44: =TRUNC(C44*G44) -> #REF! | L44: =TRUNC(C44*K44) -> 0
A45: 싱글코아바렐 | C45: 0.05 | D45: 개 | E45: =SUM(G45,I45,K45) -> 110000 | F45: =H45+J45+L45 -> 5500 | I45: =+I27 -> 110000 | J45: =TRUNC(C45*I45) -> 5500
A46: Metal crown bit | C46: 0.5 | D46: 개 | E46: =SUM(G46,I46,K46) -> 30000 | F46: =H46+J46+L46 -> 15000 | I46: =+I28 -> 30000 | J46: =TRUNC(C46*I46) -> 15000
...

Sheet 토질산근2
A1: ■ 토질조사 산출근거
A2: 공 종 | B2: 규 격 | D2: 단 위 | E2: 수 량 | F2: 비고 | H2: 조사대상 | I2: 배치간격 | K2: 비고
A3: 1. 시추조사 (10m기준) | B3: NX | C3: 공당 | D3: 공 | E3: 6 | H3: 단지조성, 매립지, 공항 등 광역부지 | I3: - 깎기 : 100~200m 간격 | J3: - 연약지반쌓기 : 200~300m 간격 | K3: 대절토, 대형단면 등과 같이 횡단방향의 지층구성 파악이 필요한 경우 횡방향 보링을 실시함
A4: 점토(1m/공당) | B4: NX | C4: 1 | D4: m | E4: =$E$3*C4 -> 6 | I4: - 호안, 방파제등 : 100 간격 | J4: - 구조물 : 해당구조물 배치기준에 따름
A5: 모래(6m/공당) | B5: NX | C5: 2 | D5: m | E5: =$E$3*C5 -> 12 | H5: 지하철 | I5: - 개착구간 : 100m 간격 | J5: - 터널구간 : 50~100m 간격 | K5: 상동
A6: 자갈(2m/공당) | B6: NX | C6: 2 | D6: m | E6: =$E$3*C6 -> 12 | I6: - 고가, 교량 등 : 교대 및 교각에 1개소씩
A7: 풍화암(3m/공당) | B7: NX | C7: 3 | D7: m | E7: =$E$3*C7 -> 18 | H7: 고속전철, 도로 | I7: - 깎기 : 깎기고 20m 이상에 대해 150~200m 간격 | K7: 상동
A8: 연암(3m/공당) | B8: NX | C8: 2 | D8: m | E8: =$E$3*C8 -> 12 | I8: - 연약지반쌓기 : 100~200m 간격 | J8: - 교량 : 교대 및 교각에 1개소씩
A9: 보통암(0m/공당) | B9: NX | C9: 0 | D9: m | E9: =$E$3*C9 -> 0 | H9: 건축물, 정차장, 하수처리장 등 | I9: - 사방 30~50m 간격, 최소한 2~3개소 | K9: -
A10: 경암(0m/공당) | B10: NX | C10: 0 | D10: m | E10: =$E$3*C10 -> 0 | H10: - 기준(구조물기초설계기준 해설, 2009,p80)
C11: =SUM(C4:C10) -> 10 | D11: m | E11: =SUM(E4:E10) -> 60
A12: 2. 원위치시험 | H12: 구조물구간
A13: 표준관입시험 | D13: 회 | E13: =SUM(E4:E7) -> 48 | F13: 1m 간격(풍화암층까지) | H13: 깎기구간
A14: 자연시료채취 | D14: 회 | E14: 0 | F14: 연약지반 출현시
A15: 핸드오거보링 | D15: 회 | E15: 0
A16: 현장투수시험 | D16: 회 | E16: 1 | F16: 비탈면 구간
A17: 공내수압시험 | D17: 회 | E17: 0 | F17: -
A18: 공내재하시험 | D18: 회 | E18: 0 | F18: -
A19: 하향식탄성파탐사 | D19: 회 | E19: 0 | F19: 내진설계 필요시
A20: 3. 시험굴조사
A21: 시험굴시료채취 | D21: 개소 | E21: 3 | F21: 포장관련 최소 3개소
A22: 현장들밀도시험 | D22: 회 | E22: =E21 -> 3
A23: 4. 지표지질조사 | D23: km2 | E23: 0 | F23: 지구별 1k㎡
A24: 5. 물리탐사
A25: 탄성파탐사 | D25: km | E25: 0 | F25: 지구별 0.5km(2개지구) | H25: - 터널 및 시추조사 불가능시 고려하시오.
A26: 전기비저항탐사 | D26: km | E26: 0 | F26: -
A27: 6. 부대공
A28: 6-1 육상
A29: 기계기구 소운반 | D29: 공 | E29: =E3 -> 6
A30: 기계기구 설치비 | D30: 공 | E30: =E29 -> 6
A31: 급수비 | D31: 공 | E31: =E29 -> 6
A32: 시료상자 | D32: 개 | E32: 1 | F32: 3공마다 1개 반영
A33: 시추공폐공비 | D33: m | E33: =SUM(E4:E10) -> 60 | H33: 번호선택
A34: 6-2 수상
A35: Float Barge 조립 및 해체 | D35: 회 | E35: 0
A36: Float Barge 이동설치 및 철수 | D36: 회 | E36: 0
A37: 예인선 임대비 | D37: 일 | E37: 0
A38: 7. 실내 시험비 | H38: 1
A39: 7-1 토질시험
A40: 함 수 량 | D40: 회 | E40: =E3+E21+E14 -> 9 | F40: 공당1회+시험굴시료+자연시료
...

Sheet 토질산근3
A1: ■ 자재조사단가표 | H1: 1$ | I1: 1172 | J1: 16년01월27일(조달청 공지 참조)
A2: 관련항목 | B2: 자 재 명 | C2: 품종 및 규격 | D2: 조 사 단 가 | F2: 비 고
D3: 단 가 | E3: 출처
A4: 유류 | B4: 휘발유 | C4: L | D4: 1720 | E4: 물가정보 II권 p894
B5: 경유 | C5: L | D5: 1752 | E5: 물가정보 II권 p894
B6: 엔진유 | C6: 화물차,중장비,디젤차량용(1L) | D6: =558600/200 -> 2793 | E6: 물가정보 II권 p899
A8: 시추 | B8: 싱글코아바렐 | C8: BX, 1.0m | D8: 85000 | E8: 물가정보 I권 p613
C9: NX, 1.0m | D9: 110000 | E9: 물가정보 I권 p613
B10: Metal Crown Bit | C10: BX(6~8) | D10: 23000 | E10: 물가정보 I권 p613
C11: NX(6~10) | D11: 30000 | E11: 물가정보 I권 p613
B12: Drive Pipe Head | C12: BX(BW) | D12: 40000 | E12: 물가정보 I권 p613
C13: NX(NW) | D13: 50000 | E13: 물가정보 I권 p613
B14: Drive Pipe Shoe | C14: BX(BW) | D14: 30000 | E14: 물가정보 I권 p613
C15: NX(NW) | D15: 35000 | E15: 물가정보 I권 p613
B16: Drive Pipe | C16: BX(1.5m) | D16: 85000 | E16: 물가정보 I권 p613
C17: NX(1.5m) | D17: 130000 | E17: 물가정보 I권 p613
B18: 더블코아바렐 | C18: NX | D18: 440000 | E18: 물가자료 상 p1420
B19: Diamond Bit | C19: NX | D19: 230000 | E19: 물가자료 상 p1420
B20: Metal Rimming Shell | C20: NX | D20: 50000 | E20: 물가정보 I권 p613
B21: 다이아몬드리밍셀 | C21: NX | D21: 220000 | E21: 물가정보 I권 p613
B22: Core Refuter | C22: NX | D22: 17000 | E22: 물가정보 I권 p613
A23: 표준관입시험 | B23: SPT 샘풀러 Shoe | C23: Φ50.8MM | D23: 15000 | E23: 물가정보 I권 p613
B24: SPT 샘플러 | C24: Φ50.8MM | D24: 270000 | E24: 물가정보 I권 p613
A25: 시험굴조사 | B25: PP 마대 | C25: 60kg, 800D, 65×95cm | D25: 400 | E25: 물가정보 II권 p971
B26: 삽(원형삽) | D26: 6200 | E26: 물가정보 I권 p538
A27: 시료채취 | B27: 신월튜브 | C27: 황동관(63.5×750) | D27: 24000 | E27: 물가정보 I권 p613
A28: 핸드오거 | B28: auger날(post hole형) | D28: 200000 | E28: 흥진정밀 | F28: 업체확인가 | H28: 흥진정밀(토질시험) 확인가
A29: 지표지질조사 | B29: 지질조사용구세트 | D29: 121000 | E29: 물가정보 II권 p930
B30: 간승줄자 | C30: 100m×7mm | D30: 33640 | E30: 물가정보 I권 p605
A31: 기타 | B31: 판재 | C31: 외송(2.7x0.3) | D31: 1550 | E31: 물가정보 I권 p163
B32: 경첩 | C32: 스텐경첩 | D32: 6000 | E32: 물가자료 상 p602
B33: 못 | C33: 일반용철못(N50), 1kg | D33: =22200/20 -> 1110 | E33: 물가정보 I권 p104
B34: 공병 | D34: 50 | E34: 이전자료
B35: 합 판 | C35: 보통(준내수4.8) | D35: 8300 | E35: 물가정보 II권 p353
B36: 시멘트 | C36: 보통포틀랜드시멘트,40kg | D36: 5400 | E36: 물가정보 I권 p133
B37: 모래 | C37: 일반수요자 | D37: 18000 | E37: 물가정보 I권 p131
B38: 표지 | C38: 기본부수(50부) | D38: 15370 | E38: 조달청 인쇄요금 | H38: 조달청 2005년 인쇄기준 요금
B39: 경인쇄 | C39: 기본부수(50부) | D39: 12150 | E39: 조달청 인쇄요금 | H39: 2011년 폐지됨
A40: 탄성파탐사 | B40: 절연테이프 | C40: 19mm * 20m | D40: 1200 | E40: 물가정보 I권 p788
B41: 중계케이블 | C41: 200m * 2set | D41: =I1*F41 -> 363320 | E41: ABEM 구입 | F41: 310
...

Sheet 토질산근4
A1: ■ 기계손료
A2: 장 비 명 | B2: 품종 및 규격 | C2: 가 격 | D2: 시간당손율계수 (*10^-7) | E2: 손료(hr) | F2: 손료(일) | G2: 출처
I3: 1$ | J3: =토질산근3!I1 -> 1172 | K3: =토질산근3!J1 -> 16년01월27일(조달청 공지 참조)
A4: 보링기계 | B4: 66.7X500(20HP) | C4: =I4*J3 -> 16287284 | D4: 3223 | E4: =C4*D4*10^-7 -> 5249.3916 | F4: =E4*8 -> 41995.133 | G4: 건품9장 기계경비 | I4: 13897 | J4: $ | K4: -표준품셈 건설기계가격 참조
A5: 들밀도시험기 | B5: 6(1/2)인치, 저울포함 | C5: 143650 | D5: 4980 | E5: =C5*D5*10^-7 -> 71.5377 | F5: =E5*8 -> 572.3016 | G5: 지반조사표준품셈 p288
A6: 지표지질조사 손료 | B6: 클리노컴파스,줄자,해머 | C6: =SUM(토질산근3!D29:D30) -> 154640 | D6: 1332 | E6: =C6*D6*10^-7 -> 20.598048 | F6: =E6*8 -> 164.78438 | G6: 지반조사표준품셈 p287
A7: 경운기 | B7: 1000kg | C7: 1626000 | D7: 3440 | E7: =C7*D7*10^-7 -> 559.344 | F7: =E7*8 -> 4474.752 | G7: 건품9장 기계경비 | K7: -표준품셈 건설기계가격 참조
A8: 펌프 | B8: 20*15*3HP | C8: 1763000 | D8: 4677 | E8: =C8*D8*10^-7 -> 824.5551 | F8: =E8*8 -> 6596.4408 | G8: 지반조사표준품셈 p287
A9: 핸드오거기 | B9: Φ100mm | C9: 500000 | D9: 4980 | E9: =C9*D9*10^-7 -> 249 | F9: =E9*8 -> 1992 | G9: 지반조사표준품셈 p288 | I9: 흥진정밀(토질시험기) 확인가
A10: 굴절법탐사기 | B10: RAS-24 | C10: =I10*J3 -> 34960760 | D10: 4980 | E10: =C10*D10*10^-7 -> 17410.458 | F10: =E10*8 -> 139283.67 | G10: 지반조사표준품셈 p288 | I10: =20560+19870-1000-4000-5600 -> 29830 | J10: $
A11: 전기비저항탐사기 | B11: SAS-4000 | C11: 11500000 | D11: 4980 | E11: =C11*D11*10^-7 -> 5727 | F11: =E11*8 -> 45816 | G11: 지반조사표준품셈 p288 | I11: 구매(AGI)
A12: 투수시험기 | B12: 수위측정기 | C12: 350000 | D12: 4980 | E12: =C12*D12*10^-7 -> 174.3 | F12: =E12*8 -> 1394.4 | G12: 지반조사표준품셈 p288
A13: 자기압력계 | C13: 200000 | D13: 4497 | E13: =C13*D13*10^-7 -> 89.94 | F13: =E13*8 -> 719.52 | G13: 지반조사표준품셈 p288
A14: 급수펌프 | B14: 150 l/min * 10HP | C14: =J3*I14 -> 6621800 | D14: 4677 | E14: =C14*D14*10^-7 -> 3097.0159 | F14: =E14*8 -> 24776.127 | G14: 지반조사표준품셈 p287 | I14: 5650 | J14: $
A15: 발 전 기 | B15: 1kw * 1.5HP | C15: 800000 | D15: 2860 | E15: =C15*D15*10^-7 -> 228.8 | F15: =E15*8 -> 1830.4 | G15: 지반조사표준품셈 p287
A16: 믹 서 | B16: 100 l * 3HP | C16: =J3*I16 -> 1755656 | D16: 3696 | E16: =C16*D16*10^-7 -> 648.89046 | F16: =E16*8 -> 5191.1237 | G16: 지반조사표준품셈 p287 | I16: 1498 | J16: $
A17: 패커(수압시험용) | B17: 30m | C17: 200000 | D17: 4427 | E17: =C17*D17*10^-7 -> 88.54 | F17: =E17*8 -> 708.32 | G17: 지반조사표준품셈 p288
A18: 공내재하시험기 | B18: LLT | C18: =J3*I18 -> 38676000 | D18: 6214 | E18: =C18*D18*10^-7 -> 24033.266 | F18: =E18*8 -> 192266.13 | G18: 견적(다일-OYO) | I18: 33000 | J18: $
B19: EL2 | C19: =J3*I19 -> 76555040 | D19: 6214 | E19: =C19*D19*10^-7 -> 47571.302 | F19: =E19*8 -> 380570.41 | G19: 견적(다일-OYO) | I19: 65320 | J19: $
B20: Goodman | C20: =I20 -> 50000000 | D20: 6214 | E20: =C20*D20*10^-7 -> 31070 | F20: =E20*8 -> 248560 | G20: 한강지오택 | I20: 50000000
A21: 운 송 | B21: 화물 4.5T 노튜브 | C21: 220000 | D21: (회당 가격) | E21: - | F21: =C21 -> 220000 | G21: 물가자료 상(p1315)
A22: 크레인(타이어) | B22: 70TON | C22: - | D22: - | E22: 144731 | F22: - | G22: 물가자료 하(p184)
A23: 지 게 차 | B23: 5TON | C23: - | D23: - | E23: 41226 | F23: - | G23: 물가자료 하(p185)
A24: 양 묘 선 | B24: 4TON (44.8kw) | C24: - | D24: - | E24: 66937 | F24: - | G24: 물가자료 하(p190)
A25: 하향식탄성파탐사기 | B25: RAS-24 | C25: =C10 -> 34960760 | D25: 4980 | E25: =C25*D25*10^-7 -> 17410.458 | F25: =E25*8 -> 139283.67 | G25: 지반조사표준품셈 p288
B26: 펌 프(packer용) | C26: 400000 | D26: 4427 | E26: =C26*D26*10^-7 -> 177.08 | F26: =E26*8 -> 1416.64 | G26: 임의산정

Sheet 2.설계
A1: 3. 기본 및 실시설계
A2: 명 칭 | B2: 규 격 | C2: 수 량 | D2: 단위 | F2: 노 무 비 | H2: 재 료 비 | J2: 경 비 | L2: 비 고
E3: 금 액 | F3: 단 가 | G3: 금 액 | H3: 단 가 | I3: 금 액 | J3: 단 가 | K3: 금 액
A4: 가. 직접인건비 | E4: =G4+I4+K4 -> #REF! | G4: =SUM(G5:G9) -> #REF!
A5: 1. 조사 | C5: 1 | D5: 식 | E5: =G5+I5+K5 -> #REF! | G5: =G30 -> #REF!
A6: 2. 설계안 작성 | C6: 1 | D6: 식 | E6: =G6+I6+K6 -> #REF! | G6: =G38 -> #REF!
A7: 3. 기본 및 실시설계 | C7: 1 | D7: 식 | E7: =G7+I7+K7 -> #REF! | G7: =G46 -> #REF!
A8: 4. 성과품 작성 | C8: 1 | D8: 식 | E8: =G8+I8+K8 -> #REF! | G8: =G54 -> #REF!
A9: 5. 기술협의 | C9: 1 | D9: 식 | E9: =G9+I9+K9 -> #REF! | G9: =G62 -> #REF!
A11: =" 나. 제경비 : 직접인건비 x "&M11*100&"%" -> 나. 제경비 : 직접인건비 x 110% | G11: =G4*M11 -> #REF! | M11: 1.1
A13: =" 다. 기술료 : (직접인건비+제경비) x "&M13*100&"%" -> 다. 기술료 : (직접인건비+제경비) x 20% | G13: =ROUNDDOWN((SUM(G4,G11))*M13,0) -> #REF! | M13: 0.2
A23: 다. 합 계 | E23: =G23+I23+K23 -> #REF! | G23: =ROUND(G4+G11+G13,-5) -> #REF! | H23: (만단위이하절사)
A24: 제 1 호표 조사
A25: 기술사 | C25: =설계산근!G7 -> #REF! | D25: 인 | E25: =+G25+I25+K25 -> #REF! | F25: =#REF! -> #REF! | G25: =INT(+C25*F25) -> #REF!
A26: 특급기술자 | C26: =설계산근!H7 -> #REF! | D26: 인 | E26: =INT(+G26+I26+K26) -> #REF! | F26: =#REF! -> #REF! | G26: =INT(+C26*F26) -> #REF!
A27: 고급기술자 | C27: =설계산근!I7 -> #REF! | D27: 인 | E27: =+G27+I27+K27 -> #REF! | F27: =#REF! -> #REF! | G27: =INT(+C27*F27) -> #REF!
A28: 중급기술자 | C28: =설계산근!J7 -> #REF! | D28: 인 | E28: =+G28+I28+K28 -> #REF! | F28: =#REF! -> #REF! | G28: =INT(+C28*F28) -> #REF!
A29: 초급기술자 | C29: =설계산근!K7 -> #REF! | D29: 인 | E29: =+G29+I29+K29 -> #REF! | F29: =#REF! -> #REF! | G29: =INT(+C29*F29) -> #REF!
A30: 계 | E30: =+G30+I30+K30 -> #REF! | G30: =SUM(G25:G29) -> #REF!
A32: 제 2 호표 설계안 작성
A33: 기술사 | C33: =설계산근!G9 -> #REF! | D33: 인 | E33: =+G33+I33+K33 -> #REF! | F33: =F25 -> #REF! | G33: =INT(+C33*F33) -> #REF!
A34: 특급기술자 | C34: =설계산근!H9 -> #REF! | D34: 인 | E34: =INT(+G34+I34+K34) -> #REF! | F34: =F26 -> #REF! | G34: =INT(+C34*F34) -> #REF!
A35: 고급기술자 | C35: =설계산근!I9 -> #REF! | D35: 인 | E35: =+G35+I35+K35 -> #REF! | F35: =F27 -> #REF! | G35: =INT(+C35*F35) -> #REF!
A36: 중급기술자 | C36: =설계산근!J9 -> #REF! | D36: 인 | E36: =+G36+I36+K36 -> #REF! | F36: =F28 -> #REF! | G36: =INT(+C36*F36) -> #REF!
A37: 초급기술자 | C37: =설계산근!K9 -> #REF! | D37: 인 | E37: =+G37+I37+K37 -> #REF! | F37: =F29 -> #REF! | G37: =INT(+C37*F37) -> #REF!
A38: 계 | E38: =+G38+I38+K38 -> #REF! | G38: =SUM(G33:G37) -> #REF!
A40: 제 3 호표 기본 및 실시설계
A41: 기술사 | C41: =설계산근!G11 -> #REF! | D41: 인 | E41: =+G41+I41+K41 -> #REF! | F41: =F25 -> #REF! | G41: =INT(+C41*F41) -> #REF!
A42: 특급기술자 | C42: =설계산근!H11 -> #REF! | D42: 인 | E42: =+G42+I42+K42 -> #REF! | F42: =F26 -> #REF! | G42: =INT(+C42*F42) -> #REF!
A43: 고급기술자 | C43: =설계산근!I11 -> #REF! | D43: 인 | E43: =+G43+I43+K43 -> #REF! | F43: =F27 -> #REF! | G43: =INT(+C43*F43) -> #REF!
A44: 중급기술자 | C44: =설계산근!J11 -> #REF! | D44: 인 | E44: =+G44+I44+K44 -> #REF! | F44: =F28 -> #REF! | G44: =INT(+C44*F44) -> #REF!
A45: 초급기술자 | C45: =설계산근!K11 -> #REF! | D45: 인 | E45: =+G45+I45+K45 -> #REF! | F45: =F29 -> #REF! | G45: =INT(+C45*F45) -> #REF!
A46: 계 | E46: =+G46+I46+K46 -> #REF! | G46: =SUM(G41:G45) -> #REF!
A48: 제 4 호표 성과품 작성
A49: 기술사 | C49: =설계산근!G17 -> #REF! | D49: 인 | E49: =+G49+I49+K49 -> #REF! | F49: =F33 -> #REF! | G49: =INT(+C49*F49) -> #REF!
A50: 특급기술자 | C50: =설계산근!H17 -> #REF! | D50: 인 | E50: =+G50+I50+K50 -> #REF! | F50: =F34 -> #REF! | G50: =INT(+C50*F50) -> #REF!
A51: 고급기술자 | C51: =설계산근!I17 -> #REF! | D51: 인 | E51: =+G51+I51+K51 -> #REF! | F51: =F35 -> #REF! | G51: =INT(+C51*F51) -> #REF!
A52: 중급기술자 | C52: =설계산근!J17 -> #REF! | D52: 인 | E52: =+G52+I52+K52 -> #REF! | F52: =F36 -> #REF! | G52: =INT(+C52*F52) -> #REF!
A53: 초급기술자 | C53: =설계산근!K17 -> #REF! | D53: 인 | E53: =+G53+I53+K53 -> #REF! | F53: =F37 -> #REF! | G53: =INT(+C53*F53) -> #REF!
A54: 계 | E54: =+G54+I54+K54 -> #REF! | G54: =SUM(G49:G53) -> #REF!
...

Sheet 설계산근
A1: ■ 기본 및 실시설계 산출근거
A2: =#REF! -> #REF! | B2: M2 | C2: ( | D2: =IF(A2<5000,5000,A2) -> #REF! | E2: M2) | F2: 적용
A3: * 대상면적에 대한 작업량 계수 a=(A/5,000)^(4/10) | D3: a = | E3: =ROUND((A2/5000)^(4/10),1) -> #REF!
A4: 구 분 | B4: 소요인력 산정기준(인) | G4: 실소요인력 (인) | L4: 환산계수 | M4: 보정계수 | O4: 적용 계수
B5: 기술사 | C5: 특 급 | D5: 고 급 | E5: 중 급 | F5: 초 급 | G5: 기술사 | H5: 특 급 | I5: 고 급 | J5: 중 급 | K5: 초 급 | M5: 대상지성격 | N5: 업무난이도
A6: 1. 직접인건비 | B6: =B7+B9+B11+B17+B20 -> 33.2 | C6: =C7+C9+C11+C17+C20 -> 61.2 | D6: =D7+D9+D11+D17+D20 -> 80.8 | E6: =E7+E9+E11+E17+E20 -> 65 | F6: =F7+F9+F11+F17+F20 -> 47.5 | G6: =G7+G9+G11+G17+G20 -> #REF! | H6: =H7+H9+H11+H17+H20 -> #REF! | I6: =I7+I9+I11+I17+I20 -> #REF! | ... K6: =K7+K9+K11+K17+K20 -> #REF!
A7: □ 조사 | B7: =SUM(B8) -> 1.3 | C7: =SUM(C8) -> 3 | D7: =SUM(D8) -> 5.5 | E7: =SUM(E8) -> 5.5 | F7: =SUM(F8) -> 4.6 | G7: =SUM(G8) -> #REF! | H7: =SUM(H8) -> #REF! | I7: =SUM(I8) -> #REF! | ... K7: =SUM(K8) -> #REF!
A8: 1) 각종 조사 등 | B8: 1.3 | C8: 3 | D8: 5.5 | E8: 5.5 | F8: 4.6 | G8: =ROUND(B8*$L8*$M8*$N8*$O8,1) -> #REF! | H8: =ROUND(C8*$L8*$M8*$N8*$O8,1) -> #REF! | I8: =ROUND(D8*$L8*$M8*$N8*$O8,1) -> #REF! | J8: =ROUND(E8*$L8*$M8*$N8*$O8,1) -> #REF! | K8: =ROUND(F8*$L8*$M8*$N8*$O8,1) -> #REF! | L8: =E3 -> #REF! | M8: 1 | N8: 1.1 | O8: 1
A9: □ 설계안 작성 | B9: =SUM(B10) -> 7.5 | C9: =SUM(C10) -> 11.5 | D9: =SUM(D10) -> 9.3 | E9: =SUM(E10) -> 6.1 | F9: =SUM(F10) -> 4.2 | G9: =SUM(G10) -> #REF! | H9: =SUM(H10) -> #REF! | I9: =SUM(I10) -> #REF! | ... K9: =SUM(K10) -> #REF!
A10: 2) 대안작성·선정 | B10: 7.5 | C10: 11.5 | D10: 9.3 | E10: 6.1 | F10: 4.2 | G10: =ROUND(B10*$L10*$M10*$N10*$O10,1) -> #REF! | H10: =ROUND(C10*$L10*$M10*$N10*$O10,1) -> #REF! | I10: =ROUND(D10*$L10*$M10*$N10*$O10,1) -> #REF! | J10: =ROUND(E10*$L10*$M10*$N10*$O10,1) -> #REF! | K10: =ROUND(F10*$L10*$M10*$N10*$O10,1) -> #REF! | L10: =L8 -> #REF! | M10: =M8 -> 1 | N10: =N8 -> 1.1 | O10: =O8 -> 1
A11: □ 기본 및 실시설계 | B11: =SUM(B12:B16) -> 11.3 | C11: =SUM(C12:C16) -> 21.4 | D11: =SUM(D12:D16) -> 34.1 | E11: =SUM(E12:E16) -> 28.6 | F11: =SUM(F12:F16) -> 20.9 | G11: =SUM(G12:G16) -> #REF! | H11: =SUM(H12:H16) -> #REF! | I11: =SUM(I12:I16) -> #REF! | ... K11: =SUM(K12:K16) -> #REF!
A12: 3) 기반 설계 | B12: 1.9 | C12: 3.5 | D12: 6.2 | E12: 5.1 | F12: 3.3 | G12: =ROUND(B12*$L12*$M12*$N12*$O12,1) -> #REF! | H12: =ROUND(C12*$L12*$M12*$N12*$O12,1) -> #REF! | I12: =ROUND(D12*$L12*$M12*$N12*$O12,1) -> #REF! | J12: =ROUND(E12*$L12*$M12*$N12*$O12,1) -> #REF! | K12: =ROUND(F12*$L12*$M12*$N12*$O12,1) -> #REF! | L12: =L8 -> #REF! | M12: =M8 -> 1 | N12: =N8 -> 1.1 | O12: =O8 -> 1
A13: 4) 식재 설계 | B13: 3.5 | C13: 5.5 | D13: 8.4 | E13: 5.4 | F13: 3.9 | G13: =ROUND(B13*$L13*$M13*$N13*$O13,1) -> #REF! | H13: =ROUND(C13*$L13*$M13*$N13*$O13,1) -> #REF! | I13: =ROUND(D13*$L13*$M13*$N13*$O13,1) -> #REF! | J13: =ROUND(E13*$L13*$M13*$N13*$O13,1) -> #REF! | K13: =ROUND(F13*$L13*$M13*$N13*$O13,1) -> #REF! | L13: =L8 -> #REF! | M13: =M8 -> 1 | N13: =N8 -> 1.1 | O13: =O8 -> 1
A14: 5) 시설 설계 | B14: 2.8 | C14: 6.4 | D14: 9 | E14: 8.1 | F14: 6.1 | G14: =ROUND(B14*$L14*$M14*$N14*$O14,1) -> #REF! | H14: =ROUND(C14*$L14*$M14*$N14*$O14,1) -> #REF! | I14: =ROUND(D14*$L14*$M14*$N14*$O14,1) -> #REF! | J14: =ROUND(E14*$L14*$M14*$N14*$O14,1) -> #REF! | K14: =ROUND(F14*$L14*$M14*$N14*$O14,1) -> #REF! | L14: =L8 -> #REF! | M14: =M8 -> 1 | N14: =N8 -> 1.1 | O14: =O8 -> 1
A15: 6) 포장 설계 | B15: 1.2 | C15: 3 | D15: 5.4 | E15: 5.5 | F15: 4.4 | G15: =ROUND(B15*$L15*$M15*$N15*$O15,1) -> #REF! | H15: =ROUND(C15*$L15*$M15*$N15*$O15,1) -> #REF! | I15: =ROUND(D15*$L15*$M15*$N15*$O15,1) -> #REF! | J15: =ROUND(E15*$L15*$M15*$N15*$O15,1) -> #REF! | K15: =ROUND(F15*$L15*$M15*$N15*$O15,1) -> #REF! | L15: =L8 -> #REF! | M15: =M8 -> 1 | N15: =N8 -> 1.1 | O15: =O8 -> 1
A16: 7) 기본공사비 산출 | B16: 1.9 | C16: 3 | D16: 5.1 | E16: 4.5 | F16: 3.2 | G16: =ROUND(B16*$L16*$M16*$N16*$O16,1) -> #REF! | H16: =ROUND(C16*$L16*$M16*$N16*$O16,1) -> #REF! | I16: =ROUND(D16*$L16*$M16*$N16*$O16,1) -> #REF! | J16: =ROUND(E16*$L16*$M16*$N16*$O16,1) -> #REF! | K16: =ROUND(F16*$L16*$M16*$N16*$O16,1) -> #REF! | L16: =L8 -> #REF! | M16: =M8 -> 1 | N16: =N8 -> 1.1 | O16: =O8 -> 1
A17: □ 성과품 작성 | B17: =SUM(B18:B19) -> 5.5 | C17: =SUM(C18:C19) -> 11.5 | D17: =SUM(D18:D19) -> 16 | E17: =SUM(E18:E19) -> 13.3 | F17: =SUM(F18:F19) -> 9.1 | G17: =SUM(G18:G19) -> #REF! | H17: =SUM(H18:H19) -> #REF! | I17: =SUM(I18:I19) -> #REF! | ... K17: =SUM(K18:K19) -> #REF!
A18: 8) 보고서 | B18: 2.5 | C18: 4.2 | D18: 7 | E18: 6.2 | F18: 4.5 | G18: =ROUND(B18*$L18*$M18*$N18*$O18,1) -> #REF! | H18: =ROUND(C18*$L18*$M18*$N18*$O18,1) -> #REF! | I18: =ROUND(D18*$L18*$M18*$N18*$O18,1) -> #REF! | J18: =ROUND(E18*$L18*$M18*$N18*$O18,1) -> #REF! | K18: =ROUND(F18*$L18*$M18*$N18*$O18,1) -> #REF! | L18: =L8 -> #REF! | M18: =M8 -> 1 | N18: =N8 -> 1.1 | O18: =O8 -> 1
A19: 9) 기본 및 실시설계 도서 | B19: 3 | C19: 7.3 | D19: 9 | E19: 7.1 | F19: 4.6 | G19: =ROUND(B19*$L19*$M19*$N19*$O19,1) -> #REF! | H19: =ROUND(C19*$L19*$M19*$N19*$O19,1) -> #REF! | I19: =ROUND(D19*$L19*$M19*$N19*$O19,1) -> #REF! | J19: =ROUND(E19*$L19*$M19*$N19*$O19,1) -> #REF! | K19: =ROUND(F19*$L19*$M19*$N19*$O19,1) -> #REF! | L19: =L8 -> #REF! | M19: =M8 -> 1 | N19: =N8 -> 1.1 | O19: =O8 -> 1
A20: □ 기술협의 | B20: =SUM(B21:B23) -> 7.6 | C20: =SUM(C21:C23) -> 13.8 | D20: =SUM(D21:D23) -> 15.9 | E20: =SUM(E21:E23) -> 11.5 | F20: =SUM(F21:F23) -> 8.7 | G20: =SUM(G21:G23) -> 7.6 | H20: =SUM(H21:H23) -> 13.8 | I20: =SUM(I21:I23) -> 15.9 | ... K20: =SUM(K21:K23) -> 8.7
A21: 10) 위원회 심의 지원 | B21: 2.8 | C21: 4.4 | D21: 5.7 | E21: 4.1 | F21: 3.5 | G21: =ROUND(B21*$L21*$O21,1) -> 2.8 | H21: =ROUND(C21*$L21*$O21,1) -> 4.4 | I21: =ROUND(D21*$L21*$O21,1) -> 5.7 | J21: =ROUND(E21*$L21*$O21,1) -> 4.1 | K21: =ROUND(F21*$L21*$O21,1) -> 3.5 | L21: 1 | O21: =O8 -> 1
A22: 11) 주민설명회 자료 작성 등 | B22: 1.6 | C22: 3.9 | D22: 4.8 | E22: 3.8 | F22: 3 | G22: =ROUND(B22*$L22*$O22,1) -> 1.6 | H22: =ROUND(C22*$L22*$O22,1) -> 3.9 | I22: =ROUND(D22*$L22*$O22,1) -> 4.8 | J22: =ROUND(E22*$L22*$O22,1) -> 3.8 | K22: =ROUND(F22*$L22*$O22,1) -> 3 | L22: =L21 -> 1 | O22: =O8 -> 1
A23: 12) 관계기관 협의 | B23: 3.2 | C23: 5.5 | D23: 5.4 | E23: 3.6 | F23: 2.2 | G23: =ROUND(B23*$L23*$O23,1) -> 3.2 | H23: =ROUND(C23*$L23*$O23,1) -> 5.5 | I23: =ROUND(D23*$L23*$O23,1) -> 5.4 | J23: =ROUND(E23*$L23*$O23,1) -> 3.6 | K23: =ROUND(F23*$L23*$O23,1) -> 2.2 | L23: =L22 -> 1 | O23: =O8 -> 1
A25: ※ 보정계수 ① | D25: ※ 보정계수 ②
A26: 대상지 성격 | D26: 업무 난이도
A27: 도시공원 | B27: 1 | D27: 도시공원 | E27: 단순 | F27: 소공원, 묘지공원, 광장, 도시공원 내 시설 교체 등 | L27: 0.9
A28: 공동주택 및 대지의 조경 | B28: 1.1 | E28: 보통 | F28: 국가도시공원, 근린공원, 체육공원, 수변공원, 유원지, 광장 등 | L28: 1
A29: 녹지 및 도시숲 | B29: 0.8 | E29: 복잡 | F29: 어린이공원, 문화공원, 역사공원, 방재공원, 도시공원(재생사업) | L29: 1.1
A30: 주제형 사업 | B30: 1.2 | F30: 도시공원(재생사업) | L30: 1.2

Sheet 8.교통성검토
A1: 8. 교통성검토
A2: 구분 | B2: 규 격 | C2: 수 량 | D2: 단위 | E2: 총 계 | G2: 재 료 비 | I2: 노 무 비 | K2: 경 비 | M2: 비 고
E3: 단 가 | F3: 금 액 | G3: 단 가 | H3: 금 액 | I3: 단 가 | J3: 금 액 | K3: 단 가 | L3: 금 액
A4: 가. 직접인건비
A5: 1) 개요 | C5: 1 | D5: 식 | J5: =J34 -> #REF!
A6: 2) 현황분석 | C6: 1 | D6: 식 | J6: =J43 -> #REF!
A7: 3) 교통계획 | C7: 1 | D7: 식 | J7: =J52 -> #REF!
A8: 4) 성과품작성 | C8: 1 | D8: 식 | J8: =J60 -> #REF!
A9: 5) 기술협의 | C9: 1 | D9: 식 | J9: =J69 -> #REF!
A10: 소 계 | J10: =SUM(J5:J9) -> #REF!
A12: 나. 제 경 비 | E12: (직접인건비)x | G12: 1.1 | J12: =ROUNDDOWN(J10*G12,0) -> #REF! | O12: 제경비 기준 : 110~120%
A13: 소 계 | J13: =J10+J12 -> #REF!
A15: 다. 기 술 료 | E15: (직접인건비+제경비)x | G15: 0.2 | J15: =ROUNDDOWN(J13*G15,0) -> #REF! | O15: 기술료 기준 : 20~40%
A16: 소 계 | J16: =J13+J15 -> #REF!
A18: 라. 직 접 경 비 | C18: 1 | D18: 식
A19: 1) 인쇄비 | C19: 1 | D19: 식 | J19: 2000000
A20: 소 계 | J20: =J19 -> 2000000
A26: 합 계 | J26: =ROUNDDOWN(J16+J20,-5) -> #REF! | K26: (만단위이하 절사)
A27: 제 1 호표 개요 | E27: 1 | F27: 적용
A28: 기 술 사 | C28: =교통산근!F9*$E$27 -> #REF! | D28: 인 | I28: =#REF! -> #REF! | J28: =ROUNDDOWN(I28*C28,0) -> #REF!
A29: 특급기술자 | C29: =교통산근!H9*$E$27 -> #REF! | D29: 인 | I29: =#REF! -> #REF! | J29: =ROUNDDOWN(I29*C29,0) -> #REF!
A30: 고급기술자 | C30: =교통산근!J9*$E$27 -> #REF! | D30: 인 | I30: =#REF! -> #REF! | J30: =ROUNDDOWN(I30*C30,0) -> #REF!
A31: 중급기술자 | C31: =교통산근!L9*$E$27 -> #REF! | D31: 인 | I31: =#REF! -> #REF! | J31: =ROUNDDOWN(I31*C31,0) -> #REF!
A32: 초급기술자 | C32: =교통산근!N9*$E$27 -> #REF! | D32: 인 | I32: =#REF! -> #REF! | J32: =ROUNDDOWN(I32*C32,0) -> #REF!
A33: 보 조 원 | C33: =교통산근!P9*$E$27 -> #REF! | D33: 인 | I33: =#REF! -> #REF! | J33: =ROUNDDOWN(I33*C33,0) -> #REF!
A34: 계 | J34: =SUM(J28:J33) -> #REF!
A36: 제 2 호표 현황분석 | E36: =E27 -> 1 | F36: 적용
A37: 기 술 사 | C37: =교통산근!F12*$E$36 -> #REF! | D37: 인 | I37: =I28 -> #REF! | J37: =ROUNDDOWN(I37*C37,0) -> #REF!
A38: 특급기술자 | C38: =교통산근!H12*$E$36 -> #REF! | D38: 인 | I38: =I29 -> #REF! | J38: =ROUNDDOWN(I38*C38,0) -> #REF!
A39: 고급기술자 | C39: =교통산근!J12*$E$36 -> #REF! | D39: 인 | I39: =I30 -> #REF! | J39: =ROUNDDOWN(I39*C39,0) -> #REF!
A40: 중급기술자 | C40: =교통산근!L12*$E$36 -> #REF! | D40: 인 | I40: =I31 -> #REF! | J40: =ROUNDDOWN(I40*C40,0) -> #REF!
A41: 초급기술자 | C41: =교통산근!N12*$E$36 -> #REF! | D41: 인 | I41: =I32 -> #REF! | J41: =ROUNDDOWN(I41*C41,0) -> #REF!
A42: 보 조 원 | C42: =교통산근!P12*$E$36 -> #REF! | D42: 인 | I42: =I33 -> #REF! | J42: =ROUNDDOWN(I42*C42,0) -> #REF!
A43: 계 | J43: =SUM(J37:J42) -> #REF!
A45: 제 3 호표 교통계획 | E45: =E27 -> 1 | F45: 적용
A46: 기 술 사 | C46: =교통산근!F16*$E$45 -> #REF! | D46: 인 | I46: =I37 -> #REF! | J46: =ROUNDDOWN(I46*C46,0) -> #REF!
A47: 특급기술자 | C47: =교통산근!H16*$E$45 -> #REF! | D47: 인 | I47: =I38 -> #REF! | J47: =ROUNDDOWN(I47*C47,0) -> #REF!
A48: 고급기술자 | C48: =교통산근!J16*$E$45 -> #REF! | D48: 인 | I48: =I39 -> #REF! | J48: =ROUNDDOWN(I48*C48,0) -> #REF!
A49: 중급기술자 | C49: =교통산근!L16*$E$45 -> #REF! | D49: 인 | I49: =I40 -> #REF! | J49: =ROUNDDOWN(I49*C49,0) -> #REF!
A50: 초급기술자 | C50: =교통산근!N16*$E$45 -> #REF! | D50: 인 | I50: =I41 -> #REF! | J50: =ROUNDDOWN(I50*C50,0) -> #REF!
...

Sheet 교통산근
A1: ■ 교통성검토 직접인력 소요작업량 산정
B2: =#REF! -> #REF! | C2: M2 | D2: ( | E2: =IF(B2<30000,3,ROUND(B2/10000,2)) -> #REF! | F2: ha) | G2: 적용 | I2: * 계획면적이 3만㎡이하인 경우 3만㎡를 기준으로 함
B3: * 대상면적에 대한 작업량 계수 a=(A/10)^(6/10) | F3: a = | G3: =ROUND((E2/10)^(6/10),1) -> #REF!
A4: 공 종 | C4: 합 계 | E4: 기 술 사 | G4: 특급기술자 | I4: 고급기술자 | K4: 중급기술자 | M4: 초급기술자 | O4: 보 조 원 | Q4: 비 고
C5: 보정전 | D5: 보정후 | E5: 보정전 | F5: 보정후 | G5: 보정전 | H5: 보정후 | I5: 보정전 | J5: 보정후 | K5: 보정전 | L5: 보정후 | M5: 보정전 | N5: 보정후 | O5: 보정전 | P5: 보정후 | Q5: 보정계수
A6: 1) 개요
A7: 3) 교통계획 | B7: 가. 서론 | C7: =G7+I7+K7+M7+O7+E7 -> 3.8 | D7: =H7+J7+L7+N7+P7+F7 -> #REF! | E7: 0.1 | F7: =ROUND(E7*Q7,2) -> #REF! | G7: 0.3 | H7: =ROUND(G7*Q7,2) -> #REF! | I7: 0.6 | J7: =ROUND(I7*Q7,2) -> #REF! | K7: 1 | L7: =ROUND(K7*Q7,2) -> #REF! | M7: 1.2 | N7: =ROUND(M7*Q7,2) -> #REF! | O7: 0.6 | P7: =ROUND(O7*Q7,2) -> #REF! | Q7: =$G$3 -> #REF!
A8: 4) 성과품작성 | B8: 나. 도시군관리계획 개요 | C8: =G8+I8+K8+M8+O8+E8 -> 7.6 | D8: =H8+J8+L8+N8+P8+F8 -> #REF! | E8: 0.2 | F8: =ROUND(E8*Q8,2) -> #REF! | G8: 0.6 | H8: =ROUND(G8*Q8,2) -> #REF! | I8: 1.2 | J8: =ROUND(I8*Q8,2) -> #REF! | K8: 2 | L8: =ROUND(K8*Q8,2) -> #REF! | M8: 2.4 | N8: =ROUND(M8*Q8,2) -> #REF! | O8: 1.2 | P8: =ROUND(O8*Q8,2) -> #REF! | Q8: =$G$3 -> #REF!
B9: 소 계 | C9: =G9+I9+K9+M9+O9+E9 -> 11.4 | D9: =H9+J9+L9+N9+P9+F9 -> #REF! | E9: =SUM(E7:E8) -> 0.3 | F9: =SUM(F7:F8) -> #REF! | G9: =SUM(G7:G8) -> 0.9 | H9: =SUM(H7:H8) -> #REF! | I9: =SUM(I7:I8) -> 1.8 | J9: =SUM(J7:J8) -> #REF! | K9: =SUM(K7:K8) -> 3 | L9: =SUM(L7:L8) -> #REF! | ... P9: =SUM(P7:P8) -> #REF!
A10: 2) 현황분석
B11: 가. 교통시설 현황분석 | C11: =G11+I11+K11+M11+O11+E11 -> 29.4 | D11: =H11+J11+L11+N11+P11+F11 -> #REF! | E11: 1 | F11: =ROUND(E11*Q11,2) -> #REF! | G11: 2.4 | H11: =ROUND(G11*Q11,2) -> #REF! | I11: 4.5 | J11: =ROUND(I11*Q11,2) -> #REF! | K11: 8 | L11: =ROUND(K11*Q11,2) -> #REF! | M11: 9 | N11: =ROUND(M11*Q11,2) -> #REF! | O11: 4.5 | P11: =ROUND(O11*Q11,2) -> #REF! | Q11: =$G$3 -> #REF!
B12: 소 계 | C12: =G12+I12+K12+M12+O12+E12 -> 29.4 | D12: =H12+J12+L12+N12+P12+F12 -> #REF! | E12: =SUM(E11:E11) -> 1 | F12: =SUM(F11:F11) -> #REF! | G12: =SUM(G11:G11) -> 2.4 | H12: =SUM(H11:H11) -> #REF! | I12: =SUM(I11:I11) -> 4.5 | J12: =SUM(J11:J11) -> #REF! | K12: =SUM(K11:K11) -> 8 | L12: =SUM(L11:L11) -> #REF! | ... P12: =SUM(P11:P11) -> #REF!
A13: 3) 교통계획
B14: 가. 교통시설계획 | C14: =G14+I14+K14+M14+O14+E14 -> 74 | D14: =H14+J14+L14+N14+P14+F14 -> #REF! | E14: 2.5 | F14: =ROUND(E14*Q14,2) -> #REF! | G14: 8 | H14: =ROUND(G14*Q14,2) -> #REF! | I14: 12 | J14: =ROUND(I14*Q14,2) -> #REF! | K14: 15.5 | L14: =ROUND(K14*Q14,2) -> #REF! | M14: 24 | N14: =ROUND(M14*Q14,2) -> #REF! | O14: 12 | P14: =ROUND(O14*Q14,2) -> #REF! | Q14: =$G$3 -> #REF!
B15: 나. 교통시설운영계획 | C15: =G15+I15+K15+M15+O15+E15 -> 8.7 | D15: =H15+J15+L15+N15+P15+F15 -> #REF! | E15: 0.3 | F15: =ROUND(E15*Q15,2) -> #REF! | G15: 0.6 | H15: =ROUND(G15*Q15,2) -> #REF! | I15: 1.2 | J15: =ROUND(I15*Q15,2) -> #REF! | K15: 3 | L15: =ROUND(K15*Q15,2) -> #REF! | M15: 2.4 | N15: =ROUND(M15*Q15,2) -> #REF! | O15: 1.2 | P15: =ROUND(O15*Q15,2) -> #REF! | Q15: =$G$3 -> #REF!
B16: 소 계 | C16: =G16+I16+K16+M16+O16+E16 -> 82.7 | D16: =H16+J16+L16+N16+P16+F16 -> #REF! | E16: =SUM(E14:E15) -> 2.8 | F16: =SUM(F14:F15) -> #REF! | G16: =SUM(G14:G15) -> 8.6 | H16: =SUM(H14:H15) -> #REF! | I16: =SUM(I14:I15) -> 13.2 | J16: =SUM(J14:J15) -> #REF! | K16: =SUM(K14:K15) -> 18.5 | L16: =SUM(L14:L15) -> #REF! | ... P16: =SUM(P14:P15) -> #REF!
A17: 4) 성과품작성
B18: 가. 성과품작성 | C18: =G18+I18+K18+M18+O18+E18 -> 3.8 | D18: =H18+J18+L18+N18+P18+F18 -> #REF! | E18: 0.1 | F18: =ROUND(E18*Q18,2) -> #REF! | G18: 0.3 | H18: =ROUND(G18*Q18,2) -> #REF! | I18: 0.6 | J18: =ROUND(I18*Q18,2) -> #REF! | K18: 1 | L18: =ROUND(K18*Q18,2) -> #REF! | M18: 1.2 | N18: =ROUND(M18*Q18,2) -> #REF! | O18: 0.6 | P18: =ROUND(O18*Q18,2) -> #REF! | Q18: =$G$3 -> #REF!
B19: 소 계 | C19: =G19+I19+K19+M19+O19+E19 -> 3.8 | D19: =H19+J19+L19+N19+P19+F19 -> #REF! | E19: =SUM(E18:E18) -> 0.1 | F19: =SUM(F18:F18) -> #REF! | G19: =SUM(G18:G18) -> 0.3 | H19: =SUM(H18:H18) -> #REF! | I19: =SUM(I18:I18) -> 0.6 | J19: =SUM(J18:J18) -> #REF! | K19: =SUM(K18:K18) -> 1 | L19: =SUM(L18:L18) -> #REF! | ... P19: =SUM(P18:P18) -> #REF!
A20: 합 계 | C20: =G20+I20+K20+M20+O20+E20 -> 127.3 | D20: =H20+J20+L20+N20+P20+F20 -> #REF! | E20: =E9+E12+E16+E19 -> 4.2 | F20: =F9+F12+F16+F19 -> #REF! | G20: =G9+G12+G16+G19 -> 12.2 | H20: =H9+H12+H16+H19 -> #REF! | I20: =I9+I12+I16+I19 -> 20.1 | J20: =J9+J12+J16+J19 -> #REF! | K20: =K9+K12+K16+K19 -> 30.5 | L20: =L9+L12+L16+L19 -> #REF! | ... P20: =P9+P12+P16+P19 -> #REF!
A21: 5) 기술협의
B22: 가. 공청회/주민설명회 | C22: =G22+I22+K22+M22+O22+E22 -> 18 | D22: =H22+J22+L22+N22+P22+F22 -> #REF! | E22: 2 | F22: =ROUND(E22*Q22,2) -> #REF! | G22: 2 | H22: =ROUND(G22*Q22,2) -> #REF! | I22: 2 | J22: =ROUND(I22*Q22,2) -> #REF! | K22: 4 | L22: =ROUND(K22*Q22,2) -> #REF! | M22: 4 | N22: =ROUND(M22*Q22,2) -> #REF! | O22: 4 | P22: =ROUND(O22*Q22,2) -> #REF! | Q22: =$G$3 -> #REF!
B23: 나. 주민간담회/시민계획단 | C23: =G23+I23+K23+M23+O23+E23 -> 18 | D23: =H23+J23+L23+N23+P23+F23 -> #REF! | E23: 2 | F23: =ROUND(E23*Q23,2) -> #REF! | G23: 2 | H23: =ROUND(G23*Q23,2) -> #REF! | I23: 2 | J23: =ROUND(I23*Q23,2) -> #REF! | K23: 4 | L23: =ROUND(K23*Q23,2) -> #REF! | M23: 4 | N23: =ROUND(M23*Q23,2) -> #REF! | O23: 4 | P23: =ROUND(O23*Q23,2) -> #REF! | Q23: =$G$3 -> #REF!
B24: 다. 위원회심의 지원 | C24: =G24+I24+K24+M24+O24+E24 -> 18 | D24: =H24+J24+L24+N24+P24+F24 -> #REF! | E24: 2 | F24: =ROUND(E24*Q24,2) -> #REF! | G24: 2 | H24: =ROUND(G24*Q24,2) -> #REF! | I24: 2 | J24: =ROUND(I24*Q24,2) -> #REF! | K24: 4 | L24: =ROUND(K24*Q24,2) -> #REF! | M24: 4 | N24: =ROUND(M24*Q24,2) -> #REF! | O24: 4 | P24: =ROUND(O24*Q24,2) -> #REF! | Q24: =$G$3 -> #REF!
B25: 라. 관계기관 협의 | C25: =G25+I25+K25+M25+O25+E25 -> 18 | D25: =H25+J25+L25+N25+P25+F25 -> #REF! | E25: 2 | F25: =ROUND(E25*Q25,2) -> #REF! | G25: 2 | H25: =ROUND(G25*Q25,2) -> #REF! | I25: 2 | J25: =ROUND(I25*Q25,2) -> #REF! | K25: 4 | L25: =ROUND(K25*Q25,2) -> #REF! | M25: 4 | N25: =ROUND(M25*Q25,2) -> #REF! | O25: 4 | P25: =ROUND(O25*Q25,2) -> #REF! | Q25: =$G$3 -> #REF!
B26: 소 계 | C26: =G26+I26+K26+M26+O26+E26 -> 72 | D26: =H26+J26+L26+N26+P26+F26 -> #REF! | E26: =SUM(E22:E25) -> 8 | F26: =SUM(F22:F25) -> #REF! | G26: =SUM(G22:G25) -> 8 | H26: =SUM(H22:H25) -> #REF! | I26: =SUM(I22:I25) -> 8 | J26: =SUM(J22:J25) -> #REF! | K26: =SUM(K22:K25) -> 16 | L26: =SUM(L22:L25) -> #REF! | ... P26: =SUM(P22:P25) -> #REF!
B27: *참조 : 국토계획 표준품셈(2022), 8장 8-5. 교통성검토 직접인력소요작업량

Sheet 인쇄비
A1: 8. 인쇄비
B3: 산 출 근 거 | D3: : 보고서 ( | E3: 50 | F3: )부 기준 | H3: :
B4: 가. 보고서 인쇄요금 요금(원가계산에 의한 예정가격 작성준칙(회계예규2200. 04-105-7, 2003. 12. 26))
B5: 1) 경인쇄(마스타제판) 기준요금 | H5: 2) 표지가격
B6: 절 수 | C6: 지 질 | D6: 50부까지 | E6: 10부마다 | F6: 비 고 | H6: 1. 표지는 백상지 80g/m2이상을 사용하여야 하며, 단색인쇄의 경우에는 다음가격에 의한다.
B7: 8절 | C7: 백 상 지 | D7: 15370 | E7: 183 | H7: 가) 8절 책자:8절 백상지 10포인트 5매가격
B8: 10절 | C8: 백 상 지 | D8: 12150 | E8: 157 | F8: 적 용 | H8: 나) 10절 책자:10절 백상지 10포인트 5매가격
B9: 16절 | C9: 백 상 지 | D9: 8180 | E9: 101 | H9: 다) 16절 책자:8절 백상지 10포인트 3매가격
B10: 25절 | C10: 백 상 지 | D10: 5580 | E10: 80 | H10: 라) 25절 책자:10절 백상지 10포인트 3매가격
B11: 32절 | C11: 백 상 지 | D11: 4190 | E11: 55 | H11: 마) 32절 책자:16절 백상지 10포인트 3매가격
B12: ※ 10 포인트 주간작업 기준, 전자조판기준, 인쇄면당 | H12: 2. 기본1도 이외의 추가 색도에 대하여는 1색도당 2.5매를 가산한다.
H13: 3. 아트지, 레자크지등을 사용할때는 추가1색도로 보며, 코팅을 할때에는 추가 2색도로 본다.
H14: 4. 중간크기 책자의 표지가격은 큰절수의 기준요금을 계산한다.
H15: 5. 양장, 반양장등 특수표지로 제본할때에는 실비를 별도로 계상한다.
B16: 3) 보고서 인쇄비 산정
B17: - 백상지, 경인쇄, A4(10절), 400P | F17: :(백상지단가×면수(200면×양면)) | K17: ※조판생략감액 미적용 : 해당 일위대가에 보고서 작성비용 불포함
D18: =D8 -> 12150 | E18: × ( | F18: 200 | G18: × | H18: 2 | I18: ) ＋ ( | J18: 0 | K18: × | L18: 0 | M18: × | N18: 0 | O18: × | P18: 0 | Q18: ) | R18: = | S18: =D18*(F18*H18)+(J18*L18*N18*P18) -> 4860000
B19: - 표지 : 아트지(50부) | E19: : 8절백상지단가×(2색도＋아트지＋코팅)×부수
D20: 15370 | E20: × ( | F20: 5 | G20: ＋ | H20: 2.5 | I20: ＋ | J20: 2.5 | K20: ＋ | L20: 2.5 | M20: × | N20: 2 | O20: ) × | P20: 1 | R20: = | S20: =D20*(F20+H20+J20+(L20*N20))*P20 -> 230550
B21: - 제본료 : 무사무선철적용 | E21: : (10절 무사무선철×단가×면수×부수)
D22: 1.683 | E22: × ( | F22: 200 | G22: × | H22: 2 | I22: × | J22: 50 | K22: ) | R22: = | S22: =F22*D22*H22*J22 -> 33660
B23: - 계 | R23: = | S23: =S20+S18+S22 -> 5124210
R24: = | S24: =ROUNDDOWN(S23,-5) -> 5100000
