Workbook
Name 공종: OFFSET(#REF!,,,COUNTA(#REF!)-1)
Name 데이터: OFFSET(#REF!,,,COUNTA(#REF!)-1,40)
Name ㅇ: #REF!
Name 인쇄영역1: [1]산출!#REF!
Name 코드: OFFSET(#REF!,,,COUNTA(#REF!)-1)

Sheet 원가
H1: [ 원가계산서 ]
A2: 공 사 원 가 계 산 서
A3: [ 공 사 명 ] | C3: 신흥고 기숙사 스프링클러 설치공사
A4: [ 공사금액 ] | C4: ="금"&TEXT(D33,"#,###")&"원(금"&NUMBERSTRING(D33,1)&"원)" -> 금원(금영원) | J4: 원가계산요율 | L4: 1
D5: 금 액 | E5: 구 성 비 | H5: 비 고 | J5: 일반 | K5: 교육청 | L5: 기타
A6: 순 공 사 원 가 | B6: 재 료 비 | C6: 직 접 재 료 비 | J6: 1 | K6: 2 | L6: 3
C7: 간 접 재 료 비
C8: 작 업 설.부 산 물 등(△)
C9: 소 계
B10: 노 무 비 | C10: 직 접 노 무 비
C11: 간 접 노 무 비 | E11: 직접노무비 의 | F11: =IF($L$4=1,J11,IF($L$4=2,K11,IF($L$4=3,L11,0))) -> 17.5 | G11: % | J11: 17.5 | K11: 9.4 | L11: 9.7
C12: 소 계 | F12: 0
B13: 경 비 | C13: 기 계 경 비 | F13: 0
C14: 고 용 보 험 료 | E14: 노무비의 | F14: =IF($L$4=1,J14,IF($L$4=2,K14,IF($L$4=3,L14,0))) -> 1.01 | G14: % | J14: 1.01 | K14: 0.87 | L14: 0.87
C15: 산 재 보 험 료 | E15: 노무비의 | F15: =IF($L$4=1,J15,IF($L$4=2,K15,IF($L$4=3,L15,0))) -> 3.56 | G15: % | J15: 3.56 | K15: 3.8 | L15: 3.9 | N15: 주공정 | O15: 별도 | P15: 5억이상
C16: 산업 안전 보건 관리비 | E16: (재료비+직접노무비+관급자재)의 | F16: =IF($L$4=1,J16,IF($L$4=2,K16,IF($L$4=3,L16,0))) -> 2.07 | G16: % | H16: =IF(F16=1.86,"+5349000",0) -> 0 | I16: =IF($D$33>40000000,"적용"," ") | J16: 2.07 | L16: 1.86 | N16: 2.93 | O16: 1.85 | P16: 1.86+5349000
C17: 건 강 보 험 료 | E17: 직접노무비 의 | F17: =IF($L$4=1,J17,IF($L$4=2,K17,IF($L$4=3,L17,0))) -> 3.595 | G17: % | J17: 3.595 | K17: 3.12 | L17: 1.7 | N17: * 4천만원이상 : 산업안전보건관리비적용
C18: 노인건강 장기요양보험료 | E18: 건강보험료 의 | F18: =IF($L$4=1,J18,IF($L$4=2,K18,IF($L$4=3,L18,0))) -> 13.14 | G18: % | J18: 13.14 | K18: 6.55 | L18: 6.55 | N18: * 2천만원미만 : 산재,고용보험료제외(건설공사를 건설업자가 아닌자가 시공시)
C19: 연 금 보 험 료 | E19: 직접노무비 의 | F19: =IF($L$4=1,J19,IF($L$4=2,K19,IF($L$4=3,L19,0))) -> 4.75 | G19: % | J19: 4.75 | K19: 2.49 | L19: 2.49 | N19: * 1개월미만 : 건강,연금,노인장기요양제외
C20: 퇴 직 공 제 부 금 비 | E20: 직접노무비 의 | F20: =IF($L$4=1,J20,IF($L$4=2,K20,IF($L$4=3,L20,0))) -> 0 | G20: % | I20: =IF($D$33>300000000,"적용"," ") | L20: 2.3 | N20: * 3억이상 : 퇴직공제부금비
C21: 석 면 부 담 금 | E21: 직접노무비 의 | F21: =IF($L$4=1,J21,IF($L$4=2,K21,IF($L$4=3,L21,0))) -> 0.006 | G21: % | J21: 0.006 | K21: 2.49 | L21: 2.49 | N21: * 1개월미만 : 건강,연금,노인장기요양제외
C22: 임 금 채 권 부 담 금 | E22: 직접노무비 의 | F22: =IF($L$4=1,J22,IF($L$4=2,K22,IF($L$4=3,L22,0))) -> 0.09 | G22: % | J22: 0.09 | K22: 2.49 | L22: 2.49 | N22: * 1개월미만 : 건강,연금,노인장기요양제외
C23: 기 타 경 비 | E23: (재료비+노무비)의 | F23: =IF($L$4=1,J23,IF($L$4=2,K23,IF($L$4=3,L23,0))) -> 5 | G23: % | J23: 5 | K23: 5 | L23: 4.8 | N23: * 건설공사 : 주택건설업자,건설업자, 전기공사업자, 정보통신공사업자, 소방시설업자, 문화재수리업자
C24: 소 계 | F24: 0
B25: 계
A26: 일 반 관 리 비 | E26: [(재료비+노무비+경비)]의 | F26: =IF($L$4=1,J26,IF($L$4=2,K26,IF($L$4=3,L26,0))) -> 8 | G26: % | J26: 8 | K26: 6 | L26: 5.5
A27: 이 윤 | E27: [(노무비+경비+일반관리비)]의 | F27: =IF($L$4=1,J27,IF($L$4=2,K27,IF($L$4=3,L27,0))) -> 15 | G27: % | J27: 15 | K27: 15 | L27: 15
A28: 총 원 가 | F28: 0
A29: 부 가 가 치 세 | E29: (총원가) 의 | F29: =IF($L$4=1,J29,IF($L$4=2,K29,IF($L$4=3,L29,0))) -> 10 | G29: % | J29: 10 | K29: 10 | L29: 10
A30: 소방시설공사업 배상책임공제 | F30: =IF($L$4=1,J30,IF($L$4=2,K30,IF($L$4=3,L30,0))) -> 0.364 | G30: % | J30: 0.364
A31: 도 급 예 정 액 | H31: 계수정리
A32: 관 급 자 재 비
A33: 총 합 계

Sheet 집계
A1: =SUBSTITUTE(원가!A3," ","")&" "&원가!C3 -> [공사명] 신흥고 기숙사 스프링클러 설치공사 | L1: [ 집 계 표 ]
A2: 명 칭 | B2: 규 격 | C2: 단위 | D2: 수량 | E2: 재 료 비 | G2: 노 무 비 | I2: 경 비 | K2: 계 | L2: 비 고
E3: 단 가 | F3: 금 액 | G3: 단 가 | H3: 금 액 | I3: 단 가 | J3: 금 액
A4: [ 소 방 설 비 공 사 집 계 표]
A5: ='내역(기)'!A4 -> 0 | K5: =SUM(F5+H5+J5) -> 0
A6: =IF(K6=0,0,'내역(기)'!A5) -> 0 | C6: 식 | D6: 1 | K6: =SUM(F6+H6+J6) -> 0
A7: =IF(K7=0,0,'내역(기)'!A112) -> 0 | C7: 식 | D7: 1 | K7: =SUM(F7+H7+J7) -> 0
A8: [ 소 계 ] | F8: =SUM(F6:F7) -> 0 | H8: =SUM(H6:H7) -> 0 | J8: =SUM(J6:J7) -> 0 | K8: =SUM(K6:K7) -> 0
A12: ='내역(전)'!A4 -> 0 | K12: =SUM(F12+H12+J12) -> 0
A13: =IF(K13=0,0,'내역(전)'!A5) -> 0 | C13: 식 | D13: 1 | J13: ='내역(전)'!J29 -> 0 | K13: =SUM(F13+H13+J13) -> 0
A14: [ 소 계 ] | F14: =SUM(F12:F13) -> 0 | H14: =SUM(H12:H13) -> 0 | J14: =SUM(J12:J13) -> 0 | K14: =SUM(K12:K13) -> 0
A18: 3) 기숙사동 스프링클러 설치공사(건축)
A19: 0101 < 기숙사동 스프링클러 >
A20: 010101 가 설 공 사 | C20: 식 | D20: 1 | K20: =SUM(F20+H20+J20) -> 0
A21: 010102 철근콘크리트공사 | C21: 식 | D21: 1 | K21: =SUM(F21+H21+J21) -> 0
A22: 010103 금 속 공 사 | C22: 식 | D22: 1 | K22: =SUM(F22+H22+J22) -> 0
A23: 010104 창 호 공 사 | C23: 식 | D23: 1 | K23: =SUM(F23+H23+J23) -> 0
A24: 010105 수 장 공 사 | C24: 식 | D24: 1 | K24: =SUM(F24+H24+J24) -> 0
A25: 010106 철 거 공 사 | C25: 식 | D25: 1 | K25: =SUM(F25+H25+J25) -> 0
A26: 010107 폐 자 재 처 리 | C26: 식 | D26: 1 | K26: =SUM(F26+H26+J26) -> 0
A27: [ 소 계 ] | F27: =SUM(F20:F26) -> 0 | H27: =SUM(H20:H26) -> 0 | J27: =SUM(J19:J25) -> 0 | K27: =SUM(F27+H27+J27) -> 0
A29: [ 합 계 ] | F29: =F8+F14+F27 -> 0 | H29: =H8+H14+H27 -> 0 | J29: =J8+J14+J27 -> 0 | K29: =SUM(F29+H29+J29) -> 0

Sheet 내역(기)
A1: =집계!A1 -> [공사명] 신흥고 기숙사 스프링클러 설치공사 | L1: [ 내 역 서 ] | S1: 1
A2: 품 명 | B2: 규 격 | C2: 단위 | D2: 수량 | E2: 재 료 비 | G2: 노 무 비 | I2: 경 비 | K2: 계 | L2: 비 고 | N2: 공정 | O2: 수량 | P2: 할증 | Q2: 분류 | S2: 1
E3: 단 가 | F3: 금 액 | G3: 단 가 | H3: 금 액 | I3: 단 가 | J3: 금 액 | S3: 1
S4: 1
N5: MF1 | S5: =IF(#REF!=0,"",1) -> #REF!
A6: 백강관(KSD-3507),나사식 | B6: 25Ø | C6: M | D6: 430 | K6: =SUM(F6+H6+J6) -> 0 | L6: =IF(N6="A","관급자재",IF(N6="B","사급자재",IF(N6="D","노무비적용",IF(N6="E","견적",IF(R6=0,0,"일위대가"))))) -> 0 | O6: {=SUM(IF((#REF!=$N$5)*(#REF!=A6)*(#REF!=B6),#REF!))} -> #REF! | Q6: 1-배관 | S6: =IF(D6=0,"",1) -> 1 | V6: A.A.1.백강관/나/025 | W6: =IF(Q6="1-밸브류",IF(LEN(MID(B6,1,FIND("Ø",B6)-1))=3,"A.J.1.밸브콕설치/"&MID(B6,1,FIND("Ø",B6)-1),"A.J.1.밸브콕설치/0"&MID(B6,1,FIND("Ø",B6)-1)),0) -> 0
A7: 백강관(KSD-3507),나사식 | B7: 32Ø | C7: M | D7: 63.5 | K7: =SUM(F7+H7+J7) -> 0 | L7: =IF(N7="A","관급자재",IF(N7="B","사급자재",IF(N7="D","노무비적용",IF(N7="E","견적",IF(R7=0,0,"일위대가"))))) -> 0 | O7: {=SUM(IF((#REF!=$N$5)*(#REF!=A7)*(#REF!=B7),#REF!))} -> #REF! | Q7: 1-배관 | S7: =IF(D7=0,"",1) -> 1 | V7: A.A.1.백강관/나/032 | W7: =IF(Q7="1-밸브류",IF(LEN(MID(B7,1,FIND("Ø",B7)-1))=3,"A.J.1.밸브콕설치/"&MID(B7,1,FIND("Ø",B7)-1),"A.J.1.밸브콕설치/0"&MID(B7,1,FIND("Ø",B7)-1)),0) -> 0
A8: 백강관(KSD-3507),나사식 | B8: 40Ø | C8: M | D8: 18.5 | K8: =SUM(F8+H8+J8) -> 0 | L8: =IF(N8="A","관급자재",IF(N8="B","사급자재",IF(N8="D","노무비적용",IF(N8="E","견적",IF(R8=0,0,"일위대가"))))) -> 0 | O8: {=SUM(IF((#REF!=$N$5)*(#REF!=A8)*(#REF!=B8),#REF!))} -> #REF! | Q8: 1-배관 | S8: =IF(D8=0,"",1) -> 1 | V8: A.A.1.백강관/나/040 | W8: =IF(Q8="1-밸브류",IF(LEN(MID(B8,1,FIND("Ø",B8)-1))=3,"A.J.1.밸브콕설치/"&MID(B8,1,FIND("Ø",B8)-1),"A.J.1.밸브콕설치/0"&MID(B8,1,FIND("Ø",B8)-1)),0) -> 0
A9: 백강관(KSD-3507),나사식 | B9: 50Ø | C9: M | D9: 22.5 | K9: =SUM(F9+H9+J9) -> 0 | L9: =IF(N9="A","관급자재",IF(N9="B","사급자재",IF(N9="D","노무비적용",IF(N9="E","견적",IF(R9=0,0,"일위대가"))))) -> 0 | O9: {=SUM(IF((#REF!=$N$5)*(#REF!=A9)*(#REF!=B9),#REF!))} -> #REF! | Q9: 1-배관 | S9: =IF(D9=0,"",1) -> 1 | V9: A.A.1.백강관/나/050 | W9: =IF(Q9="1-밸브류",IF(LEN(MID(B9,1,FIND("Ø",B9)-1))=3,"A.J.1.밸브콕설치/"&MID(B9,1,FIND("Ø",B9)-1),"A.J.1.밸브콕설치/0"&MID(B9,1,FIND("Ø",B9)-1)),0) -> 0
A10: 백강관(KSD-3507),용접식 | B10: 65Ø | C10: M | D10: 52 | K10: =SUM(F10+H10+J10) -> 0 | L10: =IF(N10="A","관급자재",IF(N10="B","사급자재",IF(N10="D","노무비적용",IF(N10="E","견적",IF(R10=0,0,"일위대가"))))) -> 0 | O10: {=SUM(IF((#REF!=$N$5)*(#REF!=A10)*(#REF!=B10),#REF!))} -> #REF! | Q10: 1-배관 | S10: =IF(D10=0,"",1) -> 1 | V10: A.A.1.백강관/용/065 | W10: =IF(Q10="1-밸브류",IF(LEN(MID(B10,1,FIND("Ø",B10)-1))=3,"A.J.1.밸브콕설치/"&MID(B10,1,FIND("Ø",B10)-1),"A.J.1.밸브콕설치/0"&MID(B10,1,FIND("Ø",B10)-1)),0) -> 0
A11: 백강관(KSD-3507),용접식 | B11: 80Ø | C11: M | D11: 65 | K11: =SUM(F11+H11+J11) -> 0 | L11: =IF(N11="A","관급자재",IF(N11="B","사급자재",IF(N11="D","노무비적용",IF(N11="E","견적",IF(R11=0,0,"일위대가"))))) -> 0 | O11: {=SUM(IF((#REF!=$N$5)*(#REF!=A11)*(#REF!=B11),#REF!))} -> #REF! | Q11: 1-배관 | S11: =IF(D11=0,"",1) -> 1 | V11: A.A.1.백강관/용/080 | W11: =IF(Q11="1-밸브류",IF(LEN(MID(B11,1,FIND("Ø",B11)-1))=3,"A.J.1.밸브콕설치/"&MID(B11,1,FIND("Ø",B11)-1),"A.J.1.밸브콕설치/0"&MID(B11,1,FIND("Ø",B11)-1)),0) -> 0
A12: 백강관(KSD-3507),용접식 | B12: 100Ø | C12: M | D12: 63 | K12: =SUM(F12+H12+J12) -> 0 | L12: =IF(N12="A","관급자재",IF(N12="B","사급자재",IF(N12="D","노무비적용",IF(N12="E","견적",IF(R12=0,0,"일위대가"))))) -> 0 | O12: {=SUM(IF((#REF!=$N$5)*(#REF!=A12)*(#REF!=B12),#REF!))} -> #REF! | Q12: 1-배관 | S12: =IF(D12=0,"",1) -> 1 | V12: A.A.1.백강관/용/100 | W12: =IF(Q12="1-밸브류",IF(LEN(MID(B12,1,FIND("Ø",B12)-1))=3,"A.J.1.밸브콕설치/"&MID(B12,1,FIND("Ø",B12)-1),"A.J.1.밸브콕설치/0"&MID(B12,1,FIND("Ø",B12)-1)),0) -> 0
A13: 관보온재 | B13: 고무발포, 25t*D25 | C13: M | D13: 429 | K13: =SUM(F13+H13+J13) -> 0 | L13: =IF(N13="A","관급자재",IF(N13="B","사급자재",IF(N13="D","노무비적용",IF(N13="E","견적",IF(R13=0,0,"일위대가"))))) -> 0 | O13: {=SUM(IF((#REF!=$N$5)*(#REF!=A13)*(#REF!=B13),#REF!))} -> #REF! | P13: 0 | Q13: 0 | S13: =IF(D13=0,"",1) -> 1 | V13: A.B.3.고무발포/난연/25/025 | W13: =IF(Q13="1-밸브류",IF(LEN(MID(B13,1,FIND("Ø",B13)-1))=3,"A.J.1.밸브콕설치/"&MID(B13,1,FIND("Ø",B13)-1),"A.J.1.밸브콕설치/0"&MID(B13,1,FIND("Ø",B13)-1)),0) -> 0
A14: 관보온재 | B14: 고무발포, 25t*D32 | C14: M | D14: 63.5 | K14: =SUM(F14+H14+J14) -> 0 | L14: =IF(N14="A","관급자재",IF(N14="B","사급자재",IF(N14="D","노무비적용",IF(N14="E","견적",IF(R14=0,0,"일위대가"))))) -> 0 | O14: {=SUM(IF((#REF!=$N$5)*(#REF!=A14)*(#REF!=B14),#REF!))} -> #REF! | P14: 0 | Q14: 0 | S14: =IF(D14=0,"",1) -> 1 | V14: A.B.3.고무발포/난연/25/032 | W14: =IF(Q14="1-밸브류",IF(LEN(MID(B14,1,FIND("Ø",B14)-1))=3,"A.J.1.밸브콕설치/"&MID(B14,1,FIND("Ø",B14)-1),"A.J.1.밸브콕설치/0"&MID(B14,1,FIND("Ø",B14)-1)),0) -> 0
A15: 관보온재 | B15: 고무발포, 25t*D40 | C15: M | D15: 18.5 | K15: =SUM(F15+H15+J15) -> 0 | L15: =IF(N15="A","관급자재",IF(N15="B","사급자재",IF(N15="D","노무비적용",IF(N15="E","견적",IF(R15=0,0,"일위대가"))))) -> 0 | O15: {=SUM(IF((#REF!=$N$5)*(#REF!=A15)*(#REF!=B15),#REF!))} -> #REF! | P15: 0 | Q15: 0 | S15: =IF(D15=0,"",1) -> 1 | V15: A.B.3.고무발포/난연/25/040 | W15: =IF(Q15="1-밸브류",IF(LEN(MID(B15,1,FIND("Ø",B15)-1))=3,"A.J.1.밸브콕설치/"&MID(B15,1,FIND("Ø",B15)-1),"A.J.1.밸브콕설치/0"&MID(B15,1,FIND("Ø",B15)-1)),0) -> 0
A16: 관보온재 | B16: 고무발포, 25t*D50 | C16: M | D16: 5.5 | K16: =SUM(F16+H16+J16) -> 0 | L16: =IF(N16="A","관급자재",IF(N16="B","사급자재",IF(N16="D","노무비적용",IF(N16="E","견적",IF(R16=0,0,"일위대가"))))) -> 0 | O16: {=SUM(IF((#REF!=$N$5)*(#REF!=A16)*(#REF!=B16),#REF!))} -> #REF! | P16: 0 | Q16: 0 | S16: =IF(D16=0,"",1) -> 1 | V16: A.B.3.고무발포/난연/25/050 | W16: =IF(Q16="1-밸브류",IF(LEN(MID(B16,1,FIND("Ø",B16)-1))=3,"A.J.1.밸브콕설치/"&MID(B16,1,FIND("Ø",B16)-1),"A.J.1.밸브콕설치/0"&MID(B16,1,FIND("Ø",B16)-1)),0) -> 0
A17: 관보온재 | B17: 고무발포, 25t*D65 | C17: M | D17: 52 | K17: =SUM(F17+H17+J17) -> 0 | L17: =IF(N17="A","관급자재",IF(N17="B","사급자재",IF(N17="D","노무비적용",IF(N17="E","견적",IF(R17=0,0,"일위대가"))))) -> 0 | O17: {=SUM(IF((#REF!=$N$5)*(#REF!=A17)*(#REF!=B17),#REF!))} -> #REF! | P17: 0 | Q17: 0 | S17: =IF(D17=0,"",1) -> 1 | V17: A.B.3.고무발포/난연/25/065 | W17: =IF(Q17="1-밸브류",IF(LEN(MID(B17,1,FIND("Ø",B17)-1))=3,"A.J.1.밸브콕설치/"&MID(B17,1,FIND("Ø",B17)-1),"A.J.1.밸브콕설치/0"&MID(B17,1,FIND("Ø",B17)-1)),0) -> 0
A18: 관보온재 | B18: 고무발포, 25t*D80 | C18: M | D18: 65 | K18: =SUM(F18+H18+J18) -> 0 | L18: =IF(N18="A","관급자재",IF(N18="B","사급자재",IF(N18="D","노무비적용",IF(N18="E","견적",IF(R18=0,0,"일위대가"))))) -> 0 | O18: {=SUM(IF((#REF!=$N$5)*(#REF!=A18)*(#REF!=B18),#REF!))} -> #REF! | P18: 0 | Q18: 0 | S18: =IF(D18=0,"",1) -> 1 | V18: A.B.3.고무발포/난연/25/080 | W18: =IF(Q18="1-밸브류",IF(LEN(MID(B18,1,FIND("Ø",B18)-1))=3,"A.J.1.밸브콕설치/"&MID(B18,1,FIND("Ø",B18)-1),"A.J.1.밸브콕설치/0"&MID(B18,1,FIND("Ø",B18)-1)),0) -> 0
A19: 관보온재 | B19: 고무발포, 25t*D100 | C19: M | D19: 56 | K19: =SUM(F19+H19+J19) -> 0 | L19: =IF(N19="A","관급자재",IF(N19="B","사급자재",IF(N19="D","노무비적용",IF(N19="E","견적",IF(R19=0,0,"일위대가"))))) -> 0 | O19: {=SUM(IF((#REF!=$N$5)*(#REF!=A19)*(#REF!=B19),#REF!))} -> #REF! | P19: 0 | Q19: 0 | S19: =IF(D19=0,"",1) -> 1 | V19: A.B.3.고무발포/난연/25/100 | W19: =IF(Q19="1-밸브류",IF(LEN(MID(B19,1,FIND("Ø",B19)-1))=3,"A.J.1.밸브콕설치/"&MID(B19,1,FIND("Ø",B19)-1),"A.J.1.밸브콕설치/0"&MID(B19,1,FIND("Ø",B19)-1)),0) -> 0
A20: 백 엘 보 (나사) | B20: 25Ø | C20: EA | D20: 27 | K20: =SUM(F20+H20+J20) -> 0 | L20: =IF(N20="A","관급자재",IF(N20="B","사급자재",IF(N20="D","노무비적용",IF(N20="E","견적",IF(R20=0,0,"일위대가"))))) -> 0 | O20: {=SUM(IF((#REF!=$N$5)*(#REF!=A20)*(#REF!=B20),#REF!))} -> #REF! | P20: 0 | Q20: 0 | S20: =IF(D20=0,"",1) -> 1 | V20: A.C.1.백엘보/나/025 | W20: =IF(Q20="1-밸브류",IF(LEN(MID(B20,1,FIND("Ø",B20)-1))=3,"A.J.1.밸브콕설치/"&MID(B20,1,FIND("Ø",B20)-1),"A.J.1.밸브콕설치/0"&MID(B20,1,FIND("Ø",B20)-1)),0) -> 0
A21: 백 엘 보 (나사) | B21: 32Ø | C21: EA | D21: 18 | K21: =SUM(F21+H21+J21) -> 0 | L21: =IF(N21="A","관급자재",IF(N21="B","사급자재",IF(N21="D","노무비적용",IF(N21="E","견적",IF(R21=0,0,"일위대가"))))) -> 0 | O21: {=SUM(IF((#REF!=$N$5)*(#REF!=A21)*(#REF!=B21),#REF!))} -> #REF! | P21: 0 | Q21: 0 | S21: =IF(D21=0,"",1) -> 1 | V21: A.C.1.백엘보/나/032 | W21: =IF(Q21="1-밸브류",IF(LEN(MID(B21,1,FIND("Ø",B21)-1))=3,"A.J.1.밸브콕설치/"&MID(B21,1,FIND("Ø",B21)-1),"A.J.1.밸브콕설치/0"&MID(B21,1,FIND("Ø",B21)-1)),0) -> 0
A22: 백 엘 보 (나사) | B22: 40Ø | C22: EA | D22: 7 | K22: =SUM(F22+H22+J22) -> 0 | L22: =IF(N22="A","관급자재",IF(N22="B","사급자재",IF(N22="D","노무비적용",IF(N22="E","견적",IF(R22=0,0,"일위대가"))))) -> 0 | O22: {=SUM(IF((#REF!=$N$5)*(#REF!=A22)*(#REF!=B22),#REF!))} -> #REF! | P22: 0 | Q22: 0 | S22: =IF(D22=0,"",1) -> 1 | V22: A.C.1.백엘보/나/040 | W22: =IF(Q22="1-밸브류",IF(LEN(MID(B22,1,FIND("Ø",B22)-1))=3,"A.J.1.밸브콕설치/"&MID(B22,1,FIND("Ø",B22)-1),"A.J.1.밸브콕설치/0"&MID(B22,1,FIND("Ø",B22)-1)),0) -> 0
A23: 백 엘 보 (나사) | B23: 50Ø | C23: EA | D23: 4 | K23: =SUM(F23+H23+J23) -> 0 | L23: =IF(N23="A","관급자재",IF(N23="B","사급자재",IF(N23="D","노무비적용",IF(N23="E","견적",IF(R23=0,0,"일위대가"))))) -> 0 | O23: {=SUM(IF((#REF!=$N$5)*(#REF!=A23)*(#REF!=B23),#REF!))} -> #REF! | P23: 0 | Q23: 0 | S23: =IF(D23=0,"",1) -> 1 | V23: A.C.1.백엘보/나/050 | W23: =IF(Q23="1-밸브류",IF(LEN(MID(B23,1,FIND("Ø",B23)-1))=3,"A.J.1.밸브콕설치/"&MID(B23,1,FIND("Ø",B23)-1),"A.J.1.밸브콕설치/0"&MID(B23,1,FIND("Ø",B23)-1)),0) -> 0
A24: 백 엘 보 (용접) | B24: 80Ø | C24: EA | D24: 7 | K24: =SUM(F24+H24+J24) -> 0 | L24: =IF(N24="A","관급자재",IF(N24="B","사급자재",IF(N24="D","노무비적용",IF(N24="E","견적",IF(R24=0,0,"일위대가"))))) -> 0 | O24: {=SUM(IF((#REF!=$N$5)*(#REF!=A24)*(#REF!=B24),#REF!))} -> #REF! | P24: 0 | Q24: 0 | S24: =IF(D24=0,"",1) -> 1 | V24: A.C.1.백엘보/용/080 | W24: =IF(Q24="1-밸브류",IF(LEN(MID(B24,1,FIND("Ø",B24)-1))=3,"A.J.1.밸브콕설치/"&MID(B24,1,FIND("Ø",B24)-1),"A.J.1.밸브콕설치/0"&MID(B24,1,FIND("Ø",B24)-1)),0) -> 0
... A55: 파이프 행가(일반) | B55: 65Ø | C55: 개소 | D55: 18 | K55: =SUM(F55+H55+J55) -> 0 | L55: =IF(N55="A","관급자재",IF(N55="B","사급자재",IF(N55="D","노무비적용",IF(N55="E","견적",IF(R55=0,0,"일위대가"))))) -> 0 | O55: {=SUM(IF((#REF!=$N$5)*(#REF!=A55)*(#REF!=B55),#REF!))} -> #REF! | P55: 0 | Q55: 0 | S55: =IF(D55=0,"",1) -> 1 | V55: A.E.1.파이프행거/일/065 | W55: =IF(Q55="1-밸브류",IF(LEN(MID(B55,1,FIND("Ø",B55)-1))=3,"A.J.1.밸브콕설치/"&MID(B55,1,FIND("Ø",B55)-1),"A.J.1.밸브콕설치/0"&MID(B55,1,FIND("Ø",B55)-1)),0) -> 0
A56: 파이프 행가(일반) | B56: 80Ø | C56: 개소 | D56: 19 | J56: =INT(SUM(I56*D56)) -> 0 | K56: =SUM(F56+H56+J56) -> 0 | L56: =IF(N56="A","관급자재",IF(N56="B","사급자재",IF(N56="D","노무비적용",IF(N56="E","견적",IF(R56=0,0,"일위대가"))))) -> 0 | O56: {=SUM(IF((#REF!=$N$5)*(#REF!=A56)*(#REF!=B56),#REF!))} -> #REF! | P56: 0 | Q56: 0 | S56: =IF(D56=0,"",1) -> 1 | V56: A.E.1.파이프행거/일/080 | W56: =IF(Q56="1-밸브류",IF(LEN(MID(B56,1,FIND("Ø",B56)-1))=3,"A.J.1.밸브콕설치/"&MID(B56,1,FIND("Ø",B56)-1),"A.J.1.밸브콕설치/0"&MID(B56,1,FIND("Ø",B56)-1)),0) -> 0
A57: 파이프 행가(일반) | B57: 100Ø | C57: 개소 | D57: 12 | J57: =INT(SUM(I57*D57)) -> 0 | K57: =SUM(F57+H57+J57) -> 0 | L57: =IF(N57="A","관급자재",IF(N57="B","사급자재",IF(N57="D","노무비적용",IF(N57="E","견적",IF(R57=0,0,"일위대가"))))) -> 0 | O57: {=SUM(IF((#REF!=$N$5)*(#REF!=A57)*(#REF!=B57),#REF!))} -> #REF! | P57: 0 | Q57: 0 | S57: =IF(D57=0,"",1) -> 1 | V57: A.E.1.파이프행거/일/100 | W57: =IF(Q57="1-밸브류",IF(LEN(MID(B57,1,FIND("Ø",B57)-1))=3,"A.J.1.밸브콕설치/"&MID(B57,1,FIND("Ø",B57)-1),"A.J.1.밸브콕설치/0"&MID(B57,1,FIND("Ø",B57)-1)),0) -> 0
A58: 볼밸브(황동10KG) | B58: 25Ø | C58: EA | D58: 1 | J58: =INT(SUM(I58*D58)) -> 0 | K58: =SUM(F58+H58+J58) -> 0 | L58: =IF(N58="A","관급자재",IF(N58="B","사급자재",IF(N58="D","노무비적용",IF(N58="E","견적",IF(R58=0,0,"일위대가"))))) -> 0 | O58: {=SUM(IF((#REF!=$N$5)*(#REF!=A58)*(#REF!=B58),#REF!))} -> #REF! | P58: 0 | Q58: 1-밸브류 | S58: =IF(D58=0,"",1) -> 1 | V58: A.F.01.볼밸브/황/10/025 | W58: =IF(Q58="1-밸브류",IF(LEN(MID(B58,1,FIND("Ø",B58)-1))=3,"A.J.1.밸브콕설치/"&MID(B58,1,FIND("Ø",B58)-1),"A.J.1.밸브콕설치/0"&MID(B58,1,FIND("Ø",B58)-1)),0) -> A.J.1.밸브콕설치/025
A59: 게이트OSandY밸브 | B59: 40Ø | C59: EA | D59: 2 | J59: =INT(SUM(I59*D59)) -> 0 | K59: =SUM(F59+H59+J59) -> 0 | L59: =IF(N59="A","관급자재",IF(N59="B","사급자재",IF(N59="D","노무비적용",IF(N59="E","견적",IF(R59=0,0,"일위대가"))))) -> 0 | O59: {=SUM(IF((#REF!=$N$5)*(#REF!=A59)*(#REF!=B59),#REF!))} -> #REF! | P59: 0 | Q59: 1-밸브류 | S59: =IF(D59=0,"",1) -> 1 | V59: A.F.02.게이트밸브/주/10/040 | W59: =IF(Q59="1-밸브류",IF(LEN(MID(B59,1,FIND("Ø",B59)-1))=3,"A.J.1.밸브콕설치/"&MID(B59,1,FIND("Ø",B59)-1),"A.J.1.밸브콕설치/0"&MID(B59,1,FIND("Ø",B59)-1)),0) -> A.J.1.밸브콕설치/040
A60: 게이트OSandY밸브 | B60: 80Ø | C60: EA | D60: 3 | J60: =INT(SUM(I60*D60)) -> 0 | K60: =SUM(F60+H60+J60) -> 0 | L60: =IF(N60="A","관급자재",IF(N60="B","사급자재",IF(N60="D","노무비적용",IF(N60="E","견적",IF(R60=0,0,"일위대가"))))) -> 0 | O60: {=SUM(IF((#REF!=$N$5)*(#REF!=A60)*(#REF!=B60),#REF!))} -> #REF! | P60: 0 | Q60: 1-밸브류 | S60: =IF(D60=0,"",1) -> 1 | V60: A.F.02.게이트밸브/주/10/080 | W60: =IF(Q60="1-밸브류",IF(LEN(MID(B60,1,FIND("Ø",B60)-1))=3,"A.J.1.밸브콕설치/"&MID(B60,1,FIND("Ø",B60)-1),"A.J.1.밸브콕설치/0"&MID(B60,1,FIND("Ø",B60)-1)),0) -> A.J.1.밸브콕설치/080
A61: 게이트OSandY밸브 | B61: 100Ø | C61: EA | D61: 3 | J61: =INT(SUM(I61*D61)) -> 0 | K61: =SUM(F61+H61+J61) -> 0 | L61: =IF(N61="A","관급자재",IF(N61="B","사급자재",IF(N61="D","노무비적용",IF(N61="E","견적",IF(R61=0,0,"일위대가"))))) -> 0 | O61: {=SUM(IF((#REF!=$N$5)*(#REF!=A61)*(#REF!=B61),#REF!))} -> #REF! | P61: 0 | Q61: 1-밸브류 | S61: =IF(D61=0,"",1) -> 1 | V61: A.F.02.게이트밸브/주/10/100 | W61: =IF(Q61="1-밸브류",IF(LEN(MID(B61,1,FIND("Ø",B61)-1))=3,"A.J.1.밸브콕설치/"&MID(B61,1,FIND("Ø",B61)-1),"A.J.1.밸브콕설치/0"&MID(B61,1,FIND("Ø",B61)-1)),0) -> A.J.1.밸브콕설치/100
A62: 스모렌스첵크밸브(10KG/㎠) | B62: 40Ø | C62: EA | D62: 1 | J62: =INT(SUM(I62*D62)) -> 0 | K62: =SUM(F62+H62+J62) -> 0 | L62: =IF(N62="A","관급자재",IF(N62="B","사급자재",IF(N62="D","노무비적용",IF(N62="E","견적",IF(R62=0,0,"일위대가"))))) -> 0 | O62: {=SUM(IF((#REF!=$N$5)*(#REF!=A62)*(#REF!=B62),#REF!))} -> #REF! | P62: 0 | Q62: 1-밸브류 | S62: =IF(D62=0,"",1) -> 1 | V62: A.F.04.첵크밸브/스/10/040 | W62: =IF(Q62="1-밸브류",IF(LEN(MID(B62,1,FIND("Ø",B62)-1))=3,"A.J.1.밸브콕설치/"&MID(B62,1,FIND("Ø",B62)-1),"A.J.1.밸브콕설치/0"&MID(B62,1,FIND("Ø",B62)-1)),0) -> A.J.1.밸브콕설치/040
A63: 스모렌스첵크밸브(10KG/㎠) | B63: 100Ø | C63: EA | D63: 2 | J63: =INT(SUM(I63*D63)) -> 0 | K63: =SUM(F63+H63+J63) -> 0 | L63: =IF(N63="A","관급자재",IF(N63="B","사급자재",IF(N63="D","노무비적용",IF(N63="E","견적",IF(R63=0,0,"일위대가"))))) -> 0 | O63: {=SUM(IF((#REF!=$N$5)*(#REF!=A63)*(#REF!=B63),#REF!))} -> #REF! | P63: 0 | Q63: 1-밸브류 | S63: =IF(D63=0,"",1) -> 1 | V63: A.F.04.첵크밸브/스/10/100 | W63: =IF(Q63="1-밸브류",IF(LEN(MID(B63,1,FIND("Ø",B63)-1))=3,"A.J.1.밸브콕설치/"&MID(B63,1,FIND("Ø",B63)-1),"A.J.1.밸브콕설치/0"&MID(B63,1,FIND("Ø",B63)-1)),0) -> A.J.1.밸브콕설치/100
A64: 버터플라이밸브(10K, 기어식) | B64: 50Ø | C64: EA | D64: 1 | J64: =INT(SUM(I64*D64)) -> 0 | K64: =SUM(F64+H64+J64) -> 0 | L64: =IF(N64="A","관급자재",IF(N64="B","사급자재",IF(N64="D","노무비적용",IF(N64="E","견적",IF(R64=0,0,"일위대가"))))) -> 0 | O64: {=SUM(IF((#REF!=$N$5)*(#REF!=A64)*(#REF!=B64),#REF!))} -> #REF! | P64: 0 | Q64: 1-밸브류 | S64: =IF(D64=0,"",1) -> 1 | V64: A.F.06.버터밸브/기/10/050 | W64: =IF(Q64="1-밸브류",IF(LEN(MID(B64,1,FIND("Ø",B64)-1))=3,"A.J.1.밸브콕설치/"&MID(B64,1,FIND("Ø",B64)-1),"A.J.1.밸브콕설치/0"&MID(B64,1,FIND("Ø",B64)-1)),0) -> A.J.1.밸브콕설치/050
A65: 버터플라이밸브(10K, 기어식) | B65: 100Ø | C65: EA | D65: 1 | K65: =SUM(F65+H65+J65) -> 0 | L65: =IF(N65="A","관급자재",IF(N65="B","사급자재",IF(N65="D","노무비적용",IF(N65="E","견적",IF(R65=0,0,"일위대가"))))) -> 0 | O65: {=SUM(IF((#REF!=$N$5)*(#REF!=A65)*(#REF!=B65),#REF!))} -> #REF! | P65: 0 | Q65: 1-밸브류 | S65: =IF(D65=0,"",1) -> 1 | V65: A.F.06.버터밸브/기/10/100 | W65: =IF(Q65="1-밸브류",IF(LEN(MID(B65,1,FIND("Ø",B65)-1))=3,"A.J.1.밸브콕설치/"&MID(B65,1,FIND("Ø",B65)-1),"A.J.1.밸브콕설치/0"&MID(B65,1,FIND("Ø",B65)-1)),0) -> A.J.1.밸브콕설치/100
A66: 스트레이너(후렌지) | B66: 40Ø | C66: EA | D66: 1 | K66: =SUM(F66+H66+J66) -> 0 | L66: =IF(N66="A","관급자재",IF(N66="B","사급자재",IF(N66="D","노무비적용",IF(N66="E","견적",IF(R66=0,0,"일위대가"))))) -> 0 | O66: {=SUM(IF((#REF!=$N$5)*(#REF!=A66)*(#REF!=B66),#REF!))} -> #REF! | P66: 0 | Q66: 1-밸브류 | S66: =IF(D66=0,"",1) -> 1 | V66: A.F.07.스트레이너/후/040 | W66: =IF(Q66="1-밸브류",IF(LEN(MID(B66,1,FIND("Ø",B66)-1))=3,"A.J.1.밸브콕설치/"&MID(B66,1,FIND("Ø",B66)-1),"A.J.1.밸브콕설치/0"&MID(B66,1,FIND("Ø",B66)-1)),0) -> A.J.1.밸브콕설치/040
A67: 스트레이너(후렌지) | B67: 100Ø | C67: EA | D67: 1 | K67: =SUM(F67+H67+J67) -> 0 | L67: =IF(N67="A","관급자재",IF(N67="B","사급자재",IF(N67="D","노무비적용",IF(N67="E","견적",IF(R67=0,0,"일위대가"))))) -> 0 | O67: {=SUM(IF((#REF!=$N$5)*(#REF!=A67)*(#REF!=B67),#REF!))} -> #REF! | P67: 0 | Q67: 1-밸브류 | S67: =IF(D67=0,"",1) -> 1 | V67: A.F.07.스트레이너/후/100 | W67: =IF(Q67="1-밸브류",IF(LEN(MID(B67,1,FIND("Ø",B67)-1))=3,"A.J.1.밸브콕설치/"&MID(B67,1,FIND("Ø",B67)-1),"A.J.1.밸브콕설치/0"&MID(B67,1,FIND("Ø",B67)-1)),0) -> A.J.1.밸브콕설치/100
A68: 후렉시블 죠인트(벨로즈형) | B68: 40Ø | C68: EA | D68: 2 | K68: =SUM(F68+H68+J68) -> 0 | L68: =IF(N68="A","관급자재",IF(N68="B","사급자재",IF(N68="D","노무비적용",IF(N68="E","견적",IF(R68=0,0,"일위대가"))))) -> 0 | O68: {=SUM(IF((#REF!=$N$5)*(#REF!=A68)*(#REF!=B68),#REF!))} -> #REF! | P68: 0 | Q68: 1-밸브류 | S68: =IF(D68=0,"",1) -> 1 | V68: A.F.09.후.조인트/벨/040 | W68: =IF(Q68="1-밸브류",IF(LEN(MID(B68,1,FIND("Ø",B68)-1))=3,"A.J.1.밸브콕설치/"&MID(B68,1,FIND("Ø",B68)-1),"A.J.1.밸브콕설치/0"&MID(B68,1,FIND("Ø",B68)-1)),0) -> A.J.1.밸브콕설치/040
A69: 후렉시블 죠인트(벨로즈형) | B69: 100Ø | C69: EA | D69: 3 | K69: =SUM(F69+H69+J69) -> 0 | L69: =IF(N69="A","관급자재",IF(N69="B","사급자재",IF(N69="D","노무비적용",IF(N69="E","견적",IF(R69=0,0,"일위대가"))))) -> 0 | O69: {=SUM(IF((#REF!=$N$5)*(#REF!=A69)*(#REF!=B69),#REF!))} -> #REF! | P69: 0 | Q69: 1-밸브류 | S69: =IF(D69=0,"",1) -> 1 | V69: A.F.09.후.조인트/벨/100 | W69: =IF(Q69="1-밸브류",IF(LEN(MID(B69,1,FIND("Ø",B69)-1))=3,"A.J.1.밸브콕설치/"&MID(B69,1,FIND("Ø",B69)-1),"A.J.1.밸브콕설치/0"&MID(B69,1,FIND("Ø",B69)-1)),0) -> A.J.1.밸브콕설치/100
A70: 릴리프 밸브(10KG) | B70: 25Ø | C70: EA | D70: 1 | K70: =SUM(F70+H70+J70) -> 0 | L70: =IF(N70="A","관급자재",IF(N70="B","사급자재",IF(N70="D","노무비적용",IF(N70="E","견적",IF(R70=0,0,"일위대가"))))) -> 0 | O70: {=SUM(IF((#REF!=$N$5)*(#REF!=A70)*(#REF!=B70),#REF!))} -> #REF! | P70: 0 | Q70: 1-밸브류 | S70: =IF(D70=0,"",1) -> 1 | V70: A.F.10.릴리프밸브/10/025 | W70: =IF(Q70="1-밸브류",IF(LEN(MID(B70,1,FIND("Ø",B70)-1))=3,"A.J.1.밸브콕설치/"&MID(B70,1,FIND("Ø",B70)-1),"A.J.1.밸브콕설치/0"&MID(B70,1,FIND("Ø",B70)-1)),0) -> A.J.1.밸브콕설치/025
A71: 압 력 계 | B71: 100Ø | C71: EA | D71: 2 | K71: =SUM(F71+H71+J71) -> 0 | L71: =IF(N71="A","관급자재",IF(N71="B","사급자재",IF(N71="D","노무비적용",IF(N71="E","견적",IF(R71=0,0,"일위대가"))))) -> 0 | O71: {=SUM(IF((#REF!=$N$5)*(#REF!=A71)*(#REF!=B71),#REF!))} -> #REF! | P71: 0 | Q71: 0 | S71: =IF(D71=0,"",1) -> 1 | V71: A.F.10.압력계/100 | W71: =IF(Q71="1-밸브류",IF(LEN(MID(B71,1,FIND("Ø",B71)-1))=3,"A.J.1.밸브콕설치/"&MID(B71,1,FIND("Ø",B71)-1),"A.J.1.밸브콕설치/0"&MID(B71,1,FIND("Ø",B71)-1)),0) -> 0
A72: 후로셀유량계 | B72: 40Ø | C72: EA | D72: 1 | K72: =SUM(F72+H72+J72) -> 0 | L72: =IF(N72="A","관급자재",IF(N72="B","사급자재",IF(N72="D","노무비적용",IF(N72="E","견적",IF(R72=0,0,"일위대가"))))) -> 0 | O72: {=SUM(IF((#REF!=$N$5)*(#REF!=A72)*(#REF!=B72),#REF!))} -> #REF! | P72: 0 | Q72: 0 | S72: =IF(D72=0,"",1) -> 1 | V72: A.F.10.유량계/후/040 | W72: =IF(Q72="1-밸브류",IF(LEN(MID(B72,1,FIND("Ø",B72)-1))=3,"A.J.1.밸브콕설치/"&MID(B72,1,FIND("Ø",B72)-1),"A.J.1.밸브콕설치/0"&MID(B72,1,FIND("Ø",B72)-1)),0) -> 0
A73: 후드캡 | B73: 50Ø | C73: EA | D73: 1 | K73: =SUM(F73+H73+J73) -> 0 | L73: =IF(N73="A","관급자재",IF(N73="B","사급자재",IF(N73="D","노무비적용",IF(N73="E","견적",IF(R73=0,0,"일위대가"))))) -> 0 | O73: {=SUM(IF((#REF!=$N$5)*(#REF!=A73)*(#REF!=B73),#REF!))} -> #REF! | P73: 0 | Q73: 0 | S73: =IF(D73=0,"",1) -> 1 | V73: A.F.10-1.후드캡/050 | W73: =IF(Q73="1-밸브류",IF(LEN(MID(B73,1,FIND("Ø",B73)-1))=3,"A.J.1.밸브콕설치/"&MID(B73,1,FIND("Ø",B73)-1),"A.J.1.밸브콕설치/0"&MID(B73,1,FIND("Ø",B73)-1)),0) -> 0
A74: 수격 방지기 | B74: 65Ø | C74: EA | D74: 4 | K74: =SUM(F74+H74+J74) -> 0 | L74: =IF(N74="A","관급자재",IF(N74="B","사급자재",IF(N74="D","노무비적용",IF(N74="E","견적",IF(R74=0,0,"일위대가"))))) -> 0 | O74: {=SUM(IF((#REF!=$N$5)*(#REF!=A74)*(#REF!=B74),#REF!))} -> #REF! | P74: 0 | Q74: 1-밸브류 | S74: =IF(D74=0,"",1) -> 1 | V74: A.F.12.수격방지기/065 | W74: =IF(Q74="1-밸브류",IF(LEN(MID(B74,1,FIND("Ø",B74)-1))=3,"A.J.1.밸브콕설치/"&MID(B74,1,FIND("Ø",B74)-1),"A.J.1.밸브콕설치/0"&MID(B74,1,FIND("Ø",B74)-1)),0) -> A.J.1.밸브콕설치/065
A75: 수격 방지기 | B75: 80Ø | C75: EA | D75: 3 | K75: =SUM(F75+H75+J75) -> 0 | L75: =IF(N75="A","관급자재",IF(N75="B","사급자재",IF(N75="D","노무비적용",IF(N75="E","견적",IF(R75=0,0,"일위대가"))))) -> 0 | O75: {=SUM(IF((#REF!=$N$5)*(#REF!=A75)*(#REF!=B75),#REF!))} -> #REF! | P75: 0 | Q75: 1-밸브류 | S75: =IF(D75=0,"",1) -> 1 | V75: A.F.12.수격방지기/080 | W75: =IF(Q75="1-밸브류",IF(LEN(MID(B75,1,FIND("Ø",B75)-1))=3,"A.J.1.밸브콕설치/"&MID(B75,1,FIND("Ø",B75)-1),"A.J.1.밸브콕설치/0"&MID(B75,1,FIND("Ø",B75)-1)),0) -> A.J.1.밸브콕설치/080
A76: 수격 방지기 | B76: 100Ø | C76: EA | D76: 3 | K76: =SUM(F76+H76+J76) -> 0 | L76: =IF(N76="A","관급자재",IF(N76="B","사급자재",IF(N76="D","노무비적용",IF(N76="E","견적",IF(R76=0,0,"일위대가"))))) -> 0 | O76: {=SUM(IF((#REF!=$N$5)*(#REF!=A76)*(#REF!=B76),#REF!))} -> #REF! | P76: 0 | Q76: 1-밸브류 | S76: =IF(D76=0,"",1) -> 1 | V76: A.F.12.수격방지기/100 | W76: =IF(Q76="1-밸브류",IF(LEN(MID(B76,1,FIND("Ø",B76)-1))=3,"A.J.1.밸브콕설치/"&MID(B76,1,FIND("Ø",B76)-1),"A.J.1.밸브콕설치/0"&MID(B76,1,FIND("Ø",B76)-1)),0) -> A.J.1.밸브콕설치/100
A77: 후렉시블조인트(보온형) | B77: 1500L | C77: EA | D77: 183 | J77: =INT(SUM(I77*D77)) -> 0 | K77: =SUM(F77+H77+J77) -> 0 | L77: =IF(N77="A","관급자재",IF(N77="B","사급자재",IF(N77="D","노무비적용",IF(N77="E","견적",IF(R77=0,0,"일위대가"))))) -> 0 | O77: {=SUM(IF((#REF!=$N$5)*(#REF!=A77)*(#REF!=B77),#REF!))} -> #REF! | P77: 0 | Q77: 0 | S77: =IF(D77=0,"",1) -> 1 | V77: A.F.14.후렉시블조인트/보온/1500 | W77: =IF(Q77="1-밸브류",IF(LEN(MID(B77,1,FIND("Ø",B77)-1))=3,"A.J.1.밸브콕설치/"&MID(B77,1,FIND("Ø",B77)-1),"A.J.1.밸브콕설치/0"&MID(B77,1,FIND("Ø",B77)-1)),0) -> 0
A78: 앵 글 밸 브 | B78: 40Ø | C78: EA | D78: 4 | J78: =INT(SUM(I78*D78)) -> 0 | K78: =SUM(F78+H78+J78) -> 0 | L78: =IF(N78="A","관급자재",IF(N78="B","사급자재",IF(N78="D","노무비적용",IF(N78="E","견적",IF(R78=0,0,"일위대가"))))) -> 0 | O78: {=SUM(IF((#REF!=$N$5)*(#REF!=A78)*(#REF!=B78),#REF!))} -> #REF! | P78: 0 | Q78: 1-밸브류 | S78: =IF(D78=0,"",1) -> 1 | V78: A.G.2.앵글밸브/040 | W78: =IF(Q78="1-밸브류",IF(LEN(MID(B78,1,FIND("Ø",B78)-1))=3,"A.J.1.밸브콕설치/"&MID(B78,1,FIND("Ø",B78)-1),"A.J.1.밸브콕설치/0"&MID(B78,1,FIND("Ø",B78)-1)),0) -> A.J.1.밸브콕설치/040
A79: 알 람 밸 브(10KG/㎠) | B79: 80Ø | C79: EA | D79: 3 | J79: =INT(SUM(I79*D79)) -> 0 | K79: =SUM(F79+H79+J79) -> 0 | L79: =IF(N79="A","관급자재",IF(N79="B","사급자재",IF(N79="D","노무비적용",IF(N79="E","견적",IF(R79=0,0,"일위대가"))))) -> 0 | O79: {=SUM(IF((#REF!=$N$5)*(#REF!=A79)*(#REF!=B79),#REF!))} -> #REF! | P79: 0 | Q79: 0 | S79: =IF(D79=0,"",1) -> 1 | V79: A.G.3.알람밸브/10/080 | W79: =IF(Q79="1-밸브류",IF(LEN(MID(B79,1,FIND("Ø",B79)-1))=3,"A.J.1.밸브콕설치/"&MID(B79,1,FIND("Ø",B79)-1),"A.J.1.밸브콕설치/0"&MID(B79,1,FIND("Ø",B79)-1)),0) -> 0
A80: 알 람 밸 브(10KG/㎠) | B80: 100Ø | C80: EA | D80: 1 | J80: =INT(SUM(I80*D80)) -> 0 | K80: =SUM(F80+H80+J80) -> 0 | L80: =IF(N80="A","관급자재",IF(N80="B","사급자재",IF(N80="D","노무비적용",IF(N80="E","견적",IF(R80=0,0,"일위대가"))))) -> 0 | O80: {=SUM(IF((#REF!=$N$5)*(#REF!=A80)*(#REF!=B80),#REF!))} -> #REF! | P80: 0 | Q80: 0 | S80: =IF(D80=0,"",1) -> 1 | V80: A.G.3.알람밸브/10/100 | W80: =IF(Q80="1-밸브류",IF(LEN(MID(B80,1,FIND("Ø",B80)-1))=3,"A.J.1.밸브콕설치/"&MID(B80,1,FIND("Ø",B80)-1),"A.J.1.밸브콕설치/0"&MID(B80,1,FIND("Ø",B80)-1)),0) -> 0
A81: 간이헤드(폐쇄15A,하향) | B81: 105℃ | C81: EA | D81: 6 | J81: =INT(SUM(I81*D81)) -> 0 | K81: =SUM(F81+H81+J81) -> 0 | L81: =IF(N81="A","관급자재",IF(N81="B","사급자재",IF(N81="D","노무비적용",IF(N81="E","견적",IF(R81=0,0,"일위대가"))))) -> 0 | O81: {=SUM(IF((#REF!=$N$5)*(#REF!=A81)*(#REF!=B81),#REF!))} -> #REF! | P81: 0 | Q81: 0 | S81: =IF(D81=0,"",1) -> 1 | V81: A.G.3.헤드/간이/폐/105/하 | W81: =IF(Q81="1-밸브류",IF(LEN(MID(B81,1,FIND("Ø",B81)-1))=3,"A.J.1.밸브콕설치/"&MID(B81,1,FIND("Ø",B81)-1),"A.J.1.밸브콕설치/0"&MID(B81,1,FIND("Ø",B81)-1)),0) -> 0
A82: 간이헤드(폐쇄15A,상향) | B82: 68℃ | C82: EA | D82: 50 | J82: =INT(SUM(I82*D82)) -> 0 | K82: =SUM(F82+H82+J82) -> 0 | L82: =IF(N82="A","관급자재",IF(N82="B","사급자재",IF(N82="D","노무비적용",IF(N82="E","견적",IF(R82=0,0,"일위대가"))))) -> 0 | O82: {=SUM(IF((#REF!=$N$5)*(#REF!=A82)*(#REF!=B82),#REF!))} -> #REF! | P82: 0 | Q82: 0 | S82: =IF(D82=0,"",1) -> 1 | V82: A.G.3.헤드/간이/폐/68/상 | W82: =IF(Q82="1-밸브류",IF(LEN(MID(B82,1,FIND("Ø",B82)-1))=3,"A.J.1.밸브콕설치/"&MID(B82,1,FIND("Ø",B82)-1),"A.J.1.밸브콕설치/0"&MID(B82,1,FIND("Ø",B82)-1)),0) -> 0
A83: 간이헤드(폐쇄15A,하향) | B83: 72℃ | C83: EA | D83: 179 | J83: =INT(SUM(I83*D83)) -> 0 | K83: =SUM(F83+H83+J83) -> 0 | L83: =IF(N83="A","관급자재",IF(N83="B","사급자재",IF(N83="D","노무비적용",IF(N83="E","견적",IF(R83=0,0,"일위대가"))))) -> 0 | O83: {=SUM(IF((#REF!=$N$5)*(#REF!=A83)*(#REF!=B83),#REF!))} -> #REF! | P83: 0 | Q83: 0 | S83: =IF(D83=0,"",1) -> 1 | V83: A.G.3.헤드/간이/폐/72/하 | W83: =IF(Q83="1-밸브류",IF(LEN(MID(B83,1,FIND("Ø",B83)-1))=3,"A.J.1.밸브콕설치/"&MID(B83,1,FIND("Ø",B83)-1),"A.J.1.밸브콕설치/0"&MID(B83,1,FIND("Ø",B83)-1)),0) -> 0
A84: 쌍구형송수구(노출) | B84: 100*65*65 | C84: EA | D84: 1 | J84: =INT(SUM(I84*D84)) -> 0 | K84: =SUM(F84+H84+J84) -> 0 | L84: =IF(N84="A","관급자재",IF(N84="B","사급자재",IF(N84="D","노무비적용",IF(N84="E","견적",IF(R84=0,0,"일위대가"))))) -> 0 | O84: {=SUM(IF((#REF!=$N$5)*(#REF!=A84)*(#REF!=B84),#REF!))} -> #REF! | P84: 0 | Q84: 0 | S84: =IF(D84=0,"",1) -> 1 | V84: A.G.5.쌍구형송수구/노출 | W84: =IF(Q84="1-밸브류",IF(LEN(MID(B84,1,FIND("Ø",B84)-1))=3,"A.J.1.밸브콕설치/"&MID(B84,1,FIND("Ø",B84)-1),"A.J.1.밸브콕설치/0"&MID(B84,1,FIND("Ø",B84)-1)),0) -> 0
A85: 자동 배수밸브 | B85: 20Ø | C85: EA | D85: 1 | J85: =INT(SUM(I85*D85)) -> 0 | K85: =SUM(F85+H85+J85) -> 0 | L85: =IF(N85="A","관급자재",IF(N85="B","사급자재",IF(N85="D","노무비적용",IF(N85="E","견적",IF(R85=0,0,"일위대가"))))) -> 0 | O85: {=SUM(IF((#REF!=$N$5)*(#REF!=A85)*(#REF!=B85),#REF!))} -> #REF! | P85: 0 | Q85: 1-밸브류 | S85: =IF(D85=0,"",1) -> 1 | V85: A.G.5.자동배수밸브/20 | W85: =IF(Q85="1-밸브류",IF(LEN(MID(B85,1,FIND("Ø",B85)-1))=3,"A.J.1.밸브콕설치/"&MID(B85,1,FIND("Ø",B85)-1),"A.J.1.밸브콕설치/0"&MID(B85,1,FIND("Ø",B85)-1)),0) -> A.J.1.밸브콕설치/020
A86: 사이트글라스 | B86: 25Ø | C86: EA | D86: 1 | J86: =INT(SUM(I86*D86)) -> 0 | K86: =SUM(F86+H86+J86) -> 0 | L86: =IF(N86="A","관급자재",IF(N86="B","사급자재",IF(N86="D","노무비적용",IF(N86="E","견적",IF(R86=0,0,"일위대가"))))) -> 0 | O86: {=SUM(IF((#REF!=$N$5)*(#REF!=A86)*(#REF!=B86),#REF!))} -> #REF! | P86: 0 | Q86: 0 | S86: =IF(D86=0,"",1) -> 1 | V86: A.G.6.사이트클라스/50 | W86: =IF(Q86="1-밸브류",IF(LEN(MID(B86,1,FIND("Ø",B86)-1))=3,"A.J.1.밸브콕설치/"&MID(B86,1,FIND("Ø",B86)-1),"A.J.1.밸브콕설치/0"&MID(B86,1,FIND("Ø",B86)-1)),0) -> 0
A87: 시험밸브함(STS) | B87: 300*500*180 | C87: EA | D87: 4 | J87: =INT(SUM(I87*D87)) -> 0 | K87: =SUM(F87+H87+J87) -> 0 | L87: =IF(N87="A","관급자재",IF(N87="B","사급자재",IF(N87="D","노무비적용",IF(N87="E","견적",IF(R87=0,0,"일위대가"))))) -> 0 | O87: {=SUM(IF((#REF!=$N$5)*(#REF!=A87)*(#REF!=B87),#REF!))} -> #REF! | P87: 0 | Q87: 0 | S87: =IF(D87=0,"",1) -> 1 | V87: A.G.6.시험밸브함/STS | W87: =IF(Q87="1-밸브류",IF(LEN(MID(B87,1,FIND("Ø",B87)-1))=3,"A.J.1.밸브콕설치/"&MID(B87,1,FIND("Ø",B87)-1),"A.J.1.밸브콕설치/0"&MID(B87,1,FIND("Ø",B87)-1)),0) -> 0
A88: 전자식압력스위치 | B88: 펌프2대제어 | C88: EA | D88: 1 | J88: =INT(SUM(I88*D88)) -> 0 | K88: =SUM(F88+H88+J88) -> 0 | L88: =IF(N88="A","관급자재",IF(N88="B","사급자재",IF(N88="D","노무비적용",IF(N88="E","견적",IF(R88=0,0,"일위대가"))))) -> 0 | O88: {=SUM(IF((#REF!=$N$5)*(#REF!=A88)*(#REF!=B88),#REF!))} -> #REF! | P88: 0 | Q88: 0 | S88: =IF(D88=0,"",1) -> 1 | V88: A.G.9.압력탱크/1 | W88: =IF(Q88="1-밸브류",IF(LEN(MID(B88,1,FIND("Ø",B88)-1))=3,"A.J.1.밸브콕설치/"&MID(B88,1,FIND("Ø",B88)-1),"A.J.1.밸브콕설치/0"&MID(B88,1,FIND("Ø",B88)-1)),0) -> 0
A89: 펌프(엔진펌프) | B89: 10HP(7.5kw) | C89: EA | D89: 1 | K89: =SUM(F89+H89+J89) -> 0 | L89: =IF(N89="A","관급자재",IF(N89="B","사급자재",IF(N89="D","노무비적용",IF(N89="E","견적",IF(R89=0,0,"일위대가"))))) -> 0 | O89: {=SUM(IF((#REF!=$N$5)*(#REF!=A89)*(#REF!=B89),#REF!))} -> #REF! | P89: 0 | Q89: 1-펌프 | S89: =IF(D89=0,"",1) -> 1 | V89: A.H.3.펌프/엔진/0100 | W89: =IF(Q89="1-밸브류",IF(LEN(MID(B89,1,FIND("Ø",B89)-1))=3,"A.J.1.밸브콕설치/"&MID(B89,1,FIND("Ø",B89)-1),"A.J.1.밸브콕설치/0"&MID(B89,1,FIND("Ø",B89)-1)),0) -> 0
A90: 펌프(웨스코) | B90: 60lpm,35m,5HP(3.7kw) | C90: EA | D90: 1 | K90: =SUM(F90+H90+J90) -> 0 | L90: =IF(N90="A","관급자재",IF(N90="B","사급자재",IF(N90="D","노무비적용",IF(N90="E","견적",IF(R90=0,0,"일위대가"))))) -> 0 | O90: {=SUM(IF((#REF!=$N$5)*(#REF!=A90)*(#REF!=B90),#REF!))} -> #REF! | P90: 0 | Q90: 1-펌프 | S90: =IF(D90=0,"",1) -> 1 | V90: A.H.4.펌프/웨스/0005 | W90: =IF(Q90="1-밸브류",IF(LEN(MID(B90,1,FIND("Ø",B90)-1))=3,"A.J.1.밸브콕설치/"&MID(B90,1,FIND("Ø",B90)-1),"A.J.1.밸브콕설치/0"&MID(B90,1,FIND("Ø",B90)-1)),0) -> 0
A91: 방 진 가 대(스프링식) | B91: 5HP(3.7kw) | C91: EA | D91: 1 | K91: =SUM(F91+H91+J91) -> 0 | L91: =IF(N91="A","관급자재",IF(N91="B","사급자재",IF(N91="D","노무비적용",IF(N91="E","견적",IF(R91=0,0,"일위대가"))))) -> 0 | O91: {=SUM(IF((#REF!=$N$5)*(#REF!=A91)*(#REF!=B91),#REF!))} -> #REF! | P91: 0 | Q91: 0 | S91: =IF(D91=0,"",1) -> 1 | V91: A.H.6.방진가대/스/0005 | W91: =IF(Q91="1-밸브류",IF(LEN(MID(B91,1,FIND("Ø",B91)-1))=3,"A.J.1.밸브콕설치/"&MID(B91,1,FIND("Ø",B91)-1),"A.J.1.밸브콕설치/0"&MID(B91,1,FIND("Ø",B91)-1)),0) -> 0
A92: 유도전동기(고효율) | B92: 5HP(3.7kw) | C92: EA | D92: 1 | K92: =SUM(F92+H92+J92) -> 0 | L92: =IF(N92="A","관급자재",IF(N92="B","사급자재",IF(N92="D","노무비적용",IF(N92="E","견적",IF(R92=0,0,"일위대가"))))) -> 0 | O92: {=SUM(IF((#REF!=$N$5)*(#REF!=A92)*(#REF!=B92),#REF!))} -> #REF! | P92: 0 | Q92: 0 | S92: =IF(D92=0,"",1) -> 1 | V92: A.H.6.전동기/유도/0005 | W92: =IF(Q92="1-밸브류",IF(LEN(MID(B92,1,FIND("Ø",B92)-1))=3,"A.J.1.밸브콕설치/"&MID(B92,1,FIND("Ø",B92)-1),"A.J.1.밸브콕설치/0"&MID(B92,1,FIND("Ø",B92)-1)),0) -> 0
A93: 구멍뚫기(바닥) | B93: D25, 콘크리트 150mm | C93: 개소 | D93: 1 | K93: =SUM(F93+H93+J93) -> 0 | L93: =IF(N93="A","관급자재",IF(N93="B","사급자재",IF(N93="D","노무비적용",IF(N93="E","견적",IF(R93=0,0,"일위대가"))))) -> 0 | O93: {=SUM(IF((#REF!=$N$5)*(#REF!=A93)*(#REF!=B93),#REF!))} -> #REF! | P93: 0 | Q93: 0 | S93: =IF(D93=0,"",1) -> 1 | V93: ZZZZ | W93: =IF(Q93="1-밸브류",IF(LEN(MID(B93,1,FIND("Ø",B93)-1))=3,"A.J.1.밸브콕설치/"&MID(B93,1,FIND("Ø",B93)-1),"A.J.1.밸브콕설치/0"&MID(B93,1,FIND("Ø",B93)-1)),0) -> 0
A94: 구멍뚫기(바닥) | B94: D50, 콘크리트 150mm | C94: 개소 | D94: 3 | K94: =SUM(F94+H94+J94) -> 0 | L94: =IF(N94="A","관급자재",IF(N94="B","사급자재",IF(N94="D","노무비적용",IF(N94="E","견적",IF(R94=0,0,"일위대가"))))) -> 0 | O94: {=SUM(IF((#REF!=$N$5)*(#REF!=A94)*(#REF!=B94),#REF!))} -> #REF! | P94: 0 | Q94: 0 | S94: =IF(D94=0,"",1) -> 1 | V94: ZZZZ | W94: =IF(Q94="1-밸브류",IF(LEN(MID(B94,1,FIND("Ø",B94)-1))=3,"A.J.1.밸브콕설치/"&MID(B94,1,FIND("Ø",B94)-1),"A.J.1.밸브콕설치/0"&MID(B94,1,FIND("Ø",B94)-1)),0) -> 0
A95: 구멍뚫기(바닥) | B95: D100, 콘크리트 150mm | C95: 개소 | D95: 4 | K95: =SUM(F95+H95+J95) -> 0 | L95: =IF(N95="A","관급자재",IF(N95="B","사급자재",IF(N95="D","노무비적용",IF(N95="E","견적",IF(R95=0,0,"일위대가"))))) -> 0 | O95: {=SUM(IF((#REF!=$N$5)*(#REF!=A95)*(#REF!=B95),#REF!))} -> #REF! | P95: 0 | Q95: 0 | S95: =IF(D95=0,"",1) -> 1 | V95: ZZZZ | W95: =IF(Q95="1-밸브류",IF(LEN(MID(B95,1,FIND("Ø",B95)-1))=3,"A.J.1.밸브콕설치/"&MID(B95,1,FIND("Ø",B95)-1),"A.J.1.밸브콕설치/0"&MID(B95,1,FIND("Ø",B95)-1)),0) -> 0
A96: 구멍뚫기(벽체) | B96: D25, 콘크리트 150mm | C96: 개소 | D96: 42 | K96: =SUM(F96+H96+J96) -> 0 | L96: =IF(N96="A","관급자재",IF(N96="B","사급자재",IF(N96="D","노무비적용",IF(N96="E","견적",IF(R96=0,0,"일위대가"))))) -> 0 | O96: {=SUM(IF((#REF!=$N$5)*(#REF!=A96)*(#REF!=B96),#REF!))} -> #REF! | P96: 0 | Q96: 0 | S96: =IF(D96=0,"",1) -> 1 | V96: ZZZZ | W96: =IF(Q96="1-밸브류",IF(LEN(MID(B96,1,FIND("Ø",B96)-1))=3,"A.J.1.밸브콕설치/"&MID(B96,1,FIND("Ø",B96)-1),"A.J.1.밸브콕설치/0"&MID(B96,1,FIND("Ø",B96)-1)),0) -> 0
A97: 구멍뚫기(벽체) | B97: D50, 콘크리트 150mm | C97: 개소 | D97: 20 | K97: =SUM(F97+H97+J97) -> 0 | L97: =IF(N97="A","관급자재",IF(N97="B","사급자재",IF(N97="D","노무비적용",IF(N97="E","견적",IF(R97=0,0,"일위대가"))))) -> 0 | O97: {=SUM(IF((#REF!=$N$5)*(#REF!=A97)*(#REF!=B97),#REF!))} -> #REF! | P97: 0 | Q97: 0 | S97: =IF(D97=0,"",1) -> 1 | V97: ZZZZ | W97: =IF(Q97="1-밸브류",IF(LEN(MID(B97,1,FIND("Ø",B97)-1))=3,"A.J.1.밸브콕설치/"&MID(B97,1,FIND("Ø",B97)-1),"A.J.1.밸브콕설치/0"&MID(B97,1,FIND("Ø",B97)-1)),0) -> 0
A98: 구멍뚫기(벽체) | B98: D100, 콘크리트 150mm | C98: 개소 | D98: 15 | K98: =SUM(F98+H98+J98) -> 0 | L98: =IF(N98="A","관급자재",IF(N98="B","사급자재",IF(N98="D","노무비적용",IF(N98="E","견적",IF(R98=0,0,"일위대가"))))) -> 0 | O98: {=SUM(IF((#REF!=$N$5)*(#REF!=A98)*(#REF!=B98),#REF!))} -> #REF! | P98: 0 | Q98: 0 | S98: =IF(D98=0,"",1) -> 1 | V98: ZZZZ | W98: =IF(Q98="1-밸브류",IF(LEN(MID(B98,1,FIND("Ø",B98)-1))=3,"A.J.1.밸브콕설치/"&MID(B98,1,FIND("Ø",B98)-1),"A.J.1.밸브콕설치/0"&MID(B98,1,FIND("Ø",B98)-1)),0) -> 0
A99: 방화실리콘시트마감 | B99: (내화충진재설치),D25 | C99: 개소 | D99: 1 | K99: =SUM(F99+H99+J99) -> 0 | L99: =IF(N99="A","관급자재",IF(N99="B","사급자재",IF(N99="D","노무비적용",IF(N99="E","견적",IF(R99=0,0,"일위대가"))))) -> 0 | O99: {=SUM(IF((#REF!=$N$5)*(#REF!=A99)*(#REF!=B99),#REF!))} -> #REF! | P99: 0 | Q99: 0 | S99: =IF(D99=0,"",1) -> 1 | V99: ZZZZ | W99: =IF(Q99="1-밸브류",IF(LEN(MID(B99,1,FIND("Ø",B99)-1))=3,"A.J.1.밸브콕설치/"&MID(B99,1,FIND("Ø",B99)-1),"A.J.1.밸브콕설치/0"&MID(B99,1,FIND("Ø",B99)-1)),0) -> 0
A100: 방화실리콘시트마감 | B100: (내화충진재설치),D50 | C100: 개소 | D100: 4 | K100: =SUM(F100+H100+J100) -> 0 | L100: =IF(N100="A","관급자재",IF(N100="B","사급자재",IF(N100="D","노무비적용",IF(N100="E","견적",IF(R100=0,0,"일위대가"))))) -> 0 | O100: {=SUM(IF((#REF!=$N$5)*(#REF!=A100)*(#REF!=B100),#REF!))} -> #REF! | P100: 0 | Q100: 0 | S100: =IF(D100=0,"",1) -> 1 | V100: ZZZZ | W100: =IF(Q100="1-밸브류",IF(LEN(MID(B100,1,FIND("Ø",B100)-1))=3,"A.J.1.밸브콕설치/"&MID(B100,1,FIND("Ø",B100)-1),"A.J.1.밸브콕설치/0"&MID(B100,1,FIND("Ø",B100)-1)),0) -> 0
A101: 방화실리콘시트마감 | B101: (내화충진재설치),D100 | C101: 개소 | D101: 9 | K101: =SUM(F101+H101+J101) -> 0 | L101: =IF(N101="A","관급자재",IF(N101="B","사급자재",IF(N101="D","노무비적용",IF(N101="E","견적",IF(R101=0,0,"일위대가"))))) -> 0 | O101: {=SUM(IF((#REF!=$N$5)*(#REF!=A101)*(#REF!=B101),#REF!))} -> #REF! | P101: 0 | Q101: 0 | S101: =IF(D101=0,"",1) -> 1 | V101: ZZZZ | W101: =IF(Q101="1-밸브류",IF(LEN(MID(B101,1,FIND("Ø",B101)-1))=3,"A.J.1.밸브콕설치/"&MID(B101,1,FIND("Ø",B101)-1),"A.J.1.밸브콕설치/0"&MID(B101,1,FIND("Ø",B101)-1)),0) -> 0
A102: 0 | B102: 0 | C102: 0 | D102: 0 | K102: =SUM(F102+H102+J102) -> 0 | L102: =IF(N102="A","관급자재",IF(N102="B","사급자재",IF(N102="D","노무비적용",IF(N102="E","견적",IF(R102=0,0,"일위대가"))))) -> 0 | O102: {=SUM(IF((#REF!=$N$5)*(#REF!=A102)*(#REF!=B102),#REF!))} -> #REF! | P102: 0 | Q102: 0 | S102: =IF(D102=0,"",1) | V102: ZZZZ | W102: =IF(Q102="1-밸브류",IF(LEN(MID(B102,1,FIND("Ø",B102)-1))=3,"A.J.1.밸브콕설치/"&MID(B102,1,FIND("Ø",B102)-1),"A.J.1.밸브콕설치/0"&MID(B102,1,FIND("Ø",B102)-1)),0) -> 0
A103: 0 | B103: 0 | C103: 0 | D103: 0 | K103: =SUM(F103+H103+J103) -> 0 | L103: =IF(N103="A","관급자재",IF(N103="B","사급자재",IF(N103="D","노무비적용",IF(N103="E","견적",IF(R103=0,0,"일위대가"))))) -> 0 | O103: {=SUM(IF((#REF!=$N$5)*(#REF!=A103)*(#REF!=B103),#REF!))} -> #REF! | P103: 0 | Q103: 0 | S103: =IF(D103=0,"",1) | V103: ZZZZ | W103: =IF(Q103="1-밸브류",IF(LEN(MID(B103,1,FIND("Ø",B103)-1))=3,"A.J.1.밸브콕설치/"&MID(B103,1,FIND("Ø",B103)-1),"A.J.1.밸브콕설치/0"&MID(B103,1,FIND("Ø",B103)-1)),0) -> 0
A104: 0 | B104: 0 | C104: 0 | D104: 0 | K104: =SUM(F104+H104+J104) -> 0 | L104: =IF(N104="A","관급자재",IF(N104="B","사급자재",IF(N104="D","노무비적용",IF(N104="E","견적",IF(R104=0,0,"일위대가"))))) -> 0 | O104: {=SUM(IF((#REF!=$N$5)*(#REF!=A104)*(#REF!=B104),#REF!))} -> #REF! | P104: 0 | Q104: 0 | S104: =IF(D104=0,"",1) | V104: ZZZZ | W104: =IF(Q104="1-밸브류",IF(LEN(MID(B104,1,FIND("Ø",B104)-1))=3,"A.J.1.밸브콕설치/"&MID(B104,1,FIND("Ø",B104)-1),"A.J.1.밸브콕설치/0"&MID(B104,1,FIND("Ø",B104)-1)),0) -> 0
A105: 0 | B105: 0 | C105: 0 | D105: 0 | K105: =SUM(F105+H105+J105) -> 0 | L105: =IF(N105="A","관급자재",IF(N105="B","사급자재",IF(N105="D","노무비적용",IF(N105="E","견적",IF(R105=0,0,"일위대가"))))) -> 0 | O105: {=SUM(IF((#REF!=$N$5)*(#REF!=A105)*(#REF!=B105),#REF!))} -> #REF! | P105: 0 | Q105: 0 | S105: =IF(D105=0,"",1) | V105: ZZZZ | W105: =IF(Q105="1-밸브류",IF(LEN(MID(B105,1,FIND("Ø",B105)-1))=3,"A.J.1.밸브콕설치/"&MID(B105,1,FIND("Ø",B105)-1),"A.J.1.밸브콕설치/0"&MID(B105,1,FIND("Ø",B105)-1)),0) -> 0
A106: 0 | B106: 0 | C106: 0 | D106: 0 | K106: =SUM(F106+H106+J106) -> 0 | L106: =IF(N106="A","관급자재",IF(N106="B","사급자재",IF(N106="D","노무비적용",IF(N106="E","견적",IF(R106=0,0,"일위대가"))))) -> 0 | O106: {=SUM(IF((#REF!=$N$5)*(#REF!=A106)*(#REF!=B106),#REF!))} -> #REF! | P106: 0 | Q106: 0 | S106: =IF(D106=0,"",1) | V106: ZZZZ | W106: =IF(Q106="1-밸브류",IF(LEN(MID(B106,1,FIND("Ø",B106)-1))=3,"A.J.1.밸브콕설치/"&MID(B106,1,FIND("Ø",B106)-1),"A.J.1.밸브콕설치/0"&MID(B106,1,FIND("Ø",B106)-1)),0) -> 0
A107: 0 | B107: 0 | C107: 0 | D107: 0 | K107: =SUM(F107+H107+J107) -> 0 | L107: =IF(N107="A","관급자재",IF(N107="B","사급자재",IF(N107="D","노무비적용",IF(N107="E","견적",IF(R107=0,0,"일위대가"))))) -> 0 | O107: {=SUM(IF((#REF!=$N$5)*(#REF!=A107)*(#REF!=B107),#REF!))} -> #REF! | P107: 0 | Q107: 0 | S107: =IF(D107=0,"",1) | V107: ZZZZ | W107: =IF(Q107="1-밸브류",IF(LEN(MID(B107,1,FIND("Ø",B107)-1))=3,"A.J.1.밸브콕설치/"&MID(B107,1,FIND("Ø",B107)-1),"A.J.1.밸브콕설치/0"&MID(B107,1,FIND("Ø",B107)-1)),0) -> 0
A108: 0 | B108: 0 | C108: 0 | D108: 0 | K108: =SUM(F108+H108+J108) -> 0 | L108: =IF(N108="A","관급자재",IF(N108="B","사급자재",IF(N108="D","노무비적용",IF(N108="E","견적",IF(R108=0,0,"일위대가"))))) -> 0 | O108: {=SUM(IF((#REF!=$N$5)*(#REF!=A108)*(#REF!=B108),#REF!))} -> #REF! | P108: 0 | Q108: 0 | S108: =IF(D108=0,"",1) | V108: ZZZZ | W108: =IF(Q108="1-밸브류",IF(LEN(MID(B108,1,FIND("Ø",B108)-1))=3,"A.J.1.밸브콕설치/"&MID(B108,1,FIND("Ø",B108)-1),"A.J.1.밸브콕설치/0"&MID(B108,1,FIND("Ø",B108)-1)),0) -> 0
A109: 0 | B109: 0 | C109: 0 | D109: 0 | K109: =SUM(F109+H109+J109) -> 0 | L109: =IF(N109="A","관급자재",IF(N109="B","사급자재",IF(N109="D","노무비적용",IF(N109="E","견적",IF(R109=0,0,"일위대가"))))) -> 0 | O109: {=SUM(IF((#REF!=$N$5)*(#REF!=A109)*(#REF!=B109),#REF!))} -> #REF! | P109: 0 | Q109: 0 | S109: =IF(D109=0,"",1) | V109: ZZZZ | W109: =IF(Q109="1-밸브류",IF(LEN(MID(B109,1,FIND("Ø",B109)-1))=3,"A.J.1.밸브콕설치/"&MID(B109,1,FIND("Ø",B109)-1),"A.J.1.밸브콕설치/0"&MID(B109,1,FIND("Ø",B109)-1)),0) -> 0
A110: 0 | B110: 0 | C110: 0 | D110: 0 | K110: =SUM(F110+H110+J110) -> 0 | L110: =IF(N110="A","관급자재",IF(N110="B","사급자재",IF(N110="D","노무비적용",IF(N110="E","견적",IF(R110=0,0,"일위대가"))))) -> 0 | O110: {=SUM(IF((#REF!=$N$5)*(#REF!=A110)*(#REF!=B110),#REF!))} -> #REF! | P110: 0 | Q110: 0 | S110: =IF(D110=0,"",1) | V110: ZZZZ | W110: =IF(Q110="1-밸브류",IF(LEN(MID(B110,1,FIND("Ø",B110)-1))=3,"A.J.1.밸브콕설치/"&MID(B110,1,FIND("Ø",B110)-1),"A.J.1.밸브콕설치/0"&MID(B110,1,FIND("Ø",B110)-1)),0) -> 0
A111: 합 계 | F111: =SUM(F6:F110) -> 0 | H111: =SUM(H6:H110) -> 0 | J111: =SUM(J6:J110) -> 0 | K111: =SUM(F111+H111+J111) -> 0 | S111: =IF(SUM(E111:K111)=0,"",1)
N112: MF2 | S112: =IF(#REF!=0,"",1) -> #REF!
A113: 스텐관철거 | B113: 50Ø | C113: M | D113: 14 | J113: =INT(SUM(I113*D113)) -> 0 | K113: =SUM(F113+H113+J113) -> 0 | L113: =IF(N113="A","관급자재",IF(N113="B","사급자재",IF(N113="D","노무비적용",IF(N113="E","견적",IF(R113=0,0,"일위대가"))))) -> 0 | O113: {=SUM(IF((#REF!=$N$112)*(#REF!=A113)*(#REF!=B113),#REF!))} -> #REF! | P113: 0 | Q113: 0 | S113: =IF(D113=0,"",1) -> 1 | V113: A.X.1.배관철거/050 | W113: =IF(Q113="1-밸브류",IF(LEN(MID(B113,1,FIND("Ø",B113)-1))=3,"A.J.1.밸브콕설치/"&MID(B113,1,FIND("Ø",B113)-1),"A.J.1.밸브콕설치/0"&MID(B113,1,FIND("Ø",B113)-1)),0) -> 0
A114: 보온재철거(발포폴리애틸렌) | B114: 50Ø | C114: M | D114: 14 | J114: =INT(SUM(I114*D114)) -> 0 | K114: =SUM(F114+H114+J114) -> 0 | L114: =IF(N114="A","관급자재",IF(N114="B","사급자재",IF(N114="D","노무비적용",IF(N114="E","견적",IF(R114=0,0,"일위대가"))))) -> 0 | O114: {=SUM(IF((#REF!=$N$112)*(#REF!=A114)*(#REF!=B114),#REF!))} -> #REF! | P114: 0 | Q114: 0 | S114: =IF(D114=0,"",1) -> 1 | V114: A.X.1.보온재철거/050 | W114: =IF(Q114="1-밸브류",IF(LEN(MID(B114,1,FIND("Ø",B114)-1))=3,"A.J.1.밸브콕설치/"&MID(B114,1,FIND("Ø",B114)-1),"A.J.1.밸브콕설치/0"&MID(B114,1,FIND("Ø",B114)-1)),0) -> 0
A115: 펌프철거 | B115: 5HP | C115: 식 | D115: 2 | J115: =INT(SUM(I115*D115)) -> 0 | K115: =SUM(F115+H115+J115) -> 0 | L115: =IF(N115="A","관급자재",IF(N115="B","사급자재",IF(N115="D","노무비적용",IF(N115="E","견적",IF(R115=0,0,"일위대가"))))) -> 0 | O115: {=SUM(IF((#REF!=$N$112)*(#REF!=A115)*(#REF!=B115),#REF!))} -> #REF! | P115: 0 | Q115: 0 | S115: =IF(D115=0,"",1) -> 1 | V115: A.X.1.펌프철거/0005 | W115: =IF(Q115="1-밸브류",IF(LEN(MID(B115,1,FIND("Ø",B115)-1))=3,"A.J.1.밸브콕설치/"&MID(B115,1,FIND("Ø",B115)-1),"A.J.1.밸브콕설치/0"&MID(B115,1,FIND("Ø",B115)-1)),0) -> 0
A116: 방진가대 철거 | B116: 5HP | C116: EA | D116: 2 | J116: =INT(SUM(I116*D116)) -> 0 | K116: =SUM(F116+H116+J116) -> 0 | L116: =IF(N116="A","관급자재",IF(N116="B","사급자재",IF(N116="D","노무비적용",IF(N116="E","견적",IF(R116=0,0,"일위대가"))))) -> 0 | O116: {=SUM(IF((#REF!=$N$112)*(#REF!=A116)*(#REF!=B116),#REF!))} -> #REF! | P116: 0 | Q116: 0 | S116: =IF(D116=0,"",1) -> 1 | V116: A.X.2.방진가대/스/0050 | W116: =IF(Q116="1-밸브류",IF(LEN(MID(B116,1,FIND("Ø",B116)-1))=3,"A.J.1.밸브콕설치/"&MID(B116,1,FIND("Ø",B116)-1),"A.J.1.밸브콕설치/0"&MID(B116,1,FIND("Ø",B116)-1)),0) -> 0
A117: 고스텐 | B117: 0 | C117: kg | D117: 45.024 | J117: =INT(SUM(I117*D117)) -> 0 | K117: =SUM(F117+H117+J117) -> 0 | L117: =IF(N117="A","관급자재",IF(N117="B","사급자재",IF(N117="D","노무비적용",IF(N117="E","견적",IF(R117=0,0,"일위대가"))))) -> 0 | O117: {=SUM(IF((#REF!=$N$112)*(#REF!=A117)*(#REF!=B117),#REF!))} -> #REF! | P117: 0 | Q117: 0 | S117: =IF(D117=0,"",1) -> 1 | V117: ZZZZ | W117: =IF(Q117="1-밸브류",IF(LEN(MID(B117,1,FIND("Ø",B117)-1))=3,"A.J.1.밸브콕설치/"&MID(B117,1,FIND("Ø",B117)-1),"A.J.1.밸브콕설치/0"&MID(B117,1,FIND("Ø",B117)-1)),0) -> 0
A118: 고철 | C118: kg | D118: 200 | J118: =INT(SUM(I118*D118)) -> 0 | K118: =SUM(F118+H118+J118) -> 0 | L118: =IF(N118="A","관급자재",IF(N118="B","사급자재",IF(N118="D","노무비적용",IF(N118="E","견적",IF(R118=0,0,"일위대가"))))) -> 0 | O118: {=SUM(IF((#REF!=$N$112)*(#REF!=A118)*(#REF!=B118),#REF!))} -> #REF! | P118: 0 | Q118: 0 | S118: =IF(D118=0,"",1) -> 1 | V118: ZZZZ | W118: =IF(Q118="1-밸브류",IF(LEN(MID(B118,1,FIND("Ø",B118)-1))=3,"A.J.1.밸브콕설치/"&MID(B118,1,FIND("Ø",B118)-1),"A.J.1.밸브콕설치/0"&MID(B118,1,FIND("Ø",B118)-1)),0) -> 0
A119: 0 | B119: 0 | C119: 0 | D119: 0 | J119: =INT(SUM(I119*D119)) -> 0 | K119: =SUM(F119+H119+J119) -> 0 | L119: =IF(N119="A","관급자재",IF(N119="B","사급자재",IF(N119="D","노무비적용",IF(N119="E","견적",IF(R119=0,0,"일위대가"))))) -> 0 | O119: {=SUM(IF((#REF!=$N$112)*(#REF!=A119)*(#REF!=B119),#REF!))} -> #REF! | P119: 0 | Q119: 0 | S119: =IF(D119=0,"",1) | V119: ZZZZ | W119: =IF(Q119="1-밸브류",IF(LEN(MID(B119,1,FIND("Ø",B119)-1))=3,"A.J.1.밸브콕설치/"&MID(B119,1,FIND("Ø",B119)-1),"A.J.1.밸브콕설치/0"&MID(B119,1,FIND("Ø",B119)-1)),0) -> 0
A120: 0 | B120: 0 | C120: 0 | D120: 0 | J120: =INT(SUM(I120*D120)) -> 0 | K120: =SUM(F120+H120+J120) -> 0 | L120: =IF(N120="A","관급자재",IF(N120="B","사급자재",IF(N120="D","노무비적용",IF(N120="E","견적",IF(R120=0,0,"일위대가"))))) -> 0 | O120: {=SUM(IF((#REF!=$N$112)*(#REF!=A120)*(#REF!=B120),#REF!))} -> #REF! | P120: 0 | Q120: 0 | S120: =IF(D120=0,"",1) | V120: ZZZZ | W120: =IF(Q120="1-밸브류",IF(LEN(MID(B120,1,FIND("Ø",B120)-1))=3,"A.J.1.밸브콕설치/"&MID(B120,1,FIND("Ø",B120)-1),"A.J.1.밸브콕설치/0"&MID(B120,1,FIND("Ø",B120)-1)),0) -> 0
A121: 0 | B121: 0 | C121: 0 | D121: 0 | K121: =SUM(F121+H121+J121) -> 0 | L121: =IF(N121="A","관급자재",IF(N121="B","사급자재",IF(N121="D","노무비적용",IF(N121="E","견적",IF(R121=0,0,"일위대가"))))) -> 0 | O121: {=SUM(IF((#REF!=$N$112)*(#REF!=A121)*(#REF!=B121),#REF!))} -> #REF! | P121: 0 | Q121: 0 | S121: =IF(D121=0,"",1) | V121: ZZZZ | W121: =IF(Q121="1-밸브류",IF(LEN(MID(B121,1,FIND("Ø",B121)-1))=3,"A.J.1.밸브콕설치/"&MID(B121,1,FIND("Ø",B121)-1),"A.J.1.밸브콕설치/0"&MID(B121,1,FIND("Ø",B121)-1)),0) -> 0
A122: 0 | B122: 0 | C122: 0 | D122: 0 | K122: =SUM(F122+H122+J122) -> 0 | L122: =IF(N122="A","관급자재",IF(N122="B","사급자재",IF(N122="D","노무비적용",IF(N122="E","견적",IF(R122=0,0,"일위대가"))))) -> 0 | O122: {=SUM(IF((#REF!=$N$112)*(#REF!=A122)*(#REF!=B122),#REF!))} -> #REF! | P122: 0 | Q122: 0 | S122: =IF(D122=0,"",1) | V122: ZZZZ | W122: =IF(Q122="1-밸브류",IF(LEN(MID(B122,1,FIND("Ø",B122)-1))=3,"A.J.1.밸브콕설치/"&MID(B122,1,FIND("Ø",B122)-1),"A.J.1.밸브콕설치/0"&MID(B122,1,FIND("Ø",B122)-1)),0) -> 0
A123: 0 | B123: 0 | C123: 0 | D123: 0 | K123: =SUM(F123+H123+J123) -> 0 | L123: =IF(N123="A","관급자재",IF(N123="B","사급자재",IF(N123="D","노무비적용",IF(N123="E","견적",IF(R123=0,0,"일위대가"))))) -> 0 | O123: {=SUM(IF((#REF!=$N$112)*(#REF!=A123)*(#REF!=B123),#REF!))} -> #REF! | P123: 0 | Q123: 0 | S123: =IF(D123=0,"",1) | V123: ZZZZ | W123: =IF(Q123="1-밸브류",IF(LEN(MID(B123,1,FIND("Ø",B123)-1))=3,"A.J.1.밸브콕설치/"&MID(B123,1,FIND("Ø",B123)-1),"A.J.1.밸브콕설치/0"&MID(B123,1,FIND("Ø",B123)-1)),0) -> 0
A124: 0 | B124: 0 | C124: 0 | D124: 0 | K124: =SUM(F124+H124+J124) -> 0 | L124: =IF(N124="A","관급자재",IF(N124="B","사급자재",IF(N124="D","노무비적용",IF(N124="E","견적",IF(R124=0,0,"일위대가"))))) -> 0 | O124: {=SUM(IF((#REF!=$N$112)*(#REF!=A124)*(#REF!=B124),#REF!))} -> #REF! | P124: 0 | Q124: 0 | S124: =IF(D124=0,"",1) | V124: ZZZZ | W124: =IF(Q124="1-밸브류",IF(LEN(MID(B124,1,FIND("Ø",B124)-1))=3,"A.J.1.밸브콕설치/"&MID(B124,1,FIND("Ø",B124)-1),"A.J.1.밸브콕설치/0"&MID(B124,1,FIND("Ø",B124)-1)),0) -> 0
A125: 0 | B125: 0 | C125: 0 | D125: 0 | K125: =SUM(F125+H125+J125) -> 0 | L125: =IF(N125="A","관급자재",IF(N125="B","사급자재",IF(N125="D","노무비적용",IF(N125="E","견적",IF(R125=0,0,"일위대가"))))) -> 0 | O125: {=SUM(IF((#REF!=$N$112)*(#REF!=A125)*(#REF!=B125),#REF!))} -> #REF! | P125: 0 | Q125: 0 | S125: =IF(D125=0,"",1) | V125: ZZZZ | W125: =IF(Q125="1-밸브류",IF(LEN(MID(B125,1,FIND("Ø",B125)-1))=3,"A.J.1.밸브콕설치/"&MID(B125,1,FIND("Ø",B125)-1),"A.J.1.밸브콕설치/0"&MID(B125,1,FIND("Ø",B125)-1)),0) -> 0
A126: 0 | B126: 0 | C126: 0 | D126: 0 | K126: =SUM(F126+H126+J126) -> 0 | L126: =IF(N126="A","관급자재",IF(N126="B","사급자재",IF(N126="D","노무비적용",IF(N126="E","견적",IF(R126=0,0,"일위대가"))))) -> 0 | O126: {=SUM(IF((#REF!=$N$112)*(#REF!=A126)*(#REF!=B126),#REF!))} -> #REF! | P126: 0 | Q126: 0 | S126: =IF(D126=0,"",1) | V126: ZZZZ | W126: =IF(Q126="1-밸브류",IF(LEN(MID(B126,1,FIND("Ø",B126)-1))=3,"A.J.1.밸브콕설치/"&MID(B126,1,FIND("Ø",B126)-1),"A.J.1.밸브콕설치/0"&MID(B126,1,FIND("Ø",B126)-1)),0) -> 0
A127: 0 | B127: 0 | C127: 0 | D127: 0 | K127: =SUM(F127+H127+J127) -> 0 | L127: =IF(N127="A","관급자재",IF(N127="B","사급자재",IF(N127="D","노무비적용",IF(N127="E","견적",IF(R127=0,0,"일위대가"))))) -> 0 | O127: {=SUM(IF((#REF!=$N$112)*(#REF!=A127)*(#REF!=B127),#REF!))} -> #REF! | P127: 0 | Q127: 0 | S127: =IF(D127=0,"",1) | V127: ZZZZ | W127: =IF(Q127="1-밸브류",IF(LEN(MID(B127,1,FIND("Ø",B127)-1))=3,"A.J.1.밸브콕설치/"&MID(B127,1,FIND("Ø",B127)-1),"A.J.1.밸브콕설치/0"&MID(B127,1,FIND("Ø",B127)-1)),0) -> 0
A128: 0 | B128: 0 | C128: 0 | D128: 0 | K128: =SUM(F128+H128+J128) -> 0 | L128: =IF(N128="A","관급자재",IF(N128="B","사급자재",IF(N128="D","노무비적용",IF(N128="E","견적",IF(R128=0,0,"일위대가"))))) -> 0 | O128: {=SUM(IF((#REF!=$N$112)*(#REF!=A128)*(#REF!=B128),#REF!))} -> #REF! | P128: 0 | Q128: 0 | S128: =IF(D128=0,"",1) | V128: ZZZZ | W128: =IF(Q128="1-밸브류",IF(LEN(MID(B128,1,FIND("Ø",B128)-1))=3,"A.J.1.밸브콕설치/"&MID(B128,1,FIND("Ø",B128)-1),"A.J.1.밸브콕설치/0"&MID(B128,1,FIND("Ø",B128)-1)),0) -> 0
A129: 0 | B129: 0 | C129: 0 | D129: 0 | K129: =SUM(F129+H129+J129) -> 0 | L129: =IF(N129="A","관급자재",IF(N129="B","사급자재",IF(N129="D","노무비적용",IF(N129="E","견적",IF(R129=0,0,"일위대가"))))) -> 0 | O129: {=SUM(IF((#REF!=$N$112)*(#REF!=A129)*(#REF!=B129),#REF!))} -> #REF! | P129: 0 | Q129: 0 | S129: =IF(D129=0,"",1) | V129: ZZZZ | W129: =IF(Q129="1-밸브류",IF(LEN(MID(B129,1,FIND("Ø",B129)-1))=3,"A.J.1.밸브콕설치/"&MID(B129,1,FIND("Ø",B129)-1),"A.J.1.밸브콕설치/0"&MID(B129,1,FIND("Ø",B129)-1)),0) -> 0
A130: 0 | B130: 0 | C130: 0 | D130: 0 | K130: =SUM(F130+H130+J130) -> 0 | L130: =IF(N130="A","관급자재",IF(N130="B","사급자재",IF(N130="D","노무비적용",IF(N130="E","견적",IF(R130=0,0,"일위대가"))))) -> 0 | O130: {=SUM(IF((#REF!=$N$112)*(#REF!=A130)*(#REF!=B130),#REF!))} -> #REF! | P130: 0 | Q130: 0 | S130: =IF(D130=0,"",1) | V130: ZZZZ | W130: =IF(Q130="1-밸브류",IF(LEN(MID(B130,1,FIND("Ø",B130)-1))=3,"A.J.1.밸브콕설치/"&MID(B130,1,FIND("Ø",B130)-1),"A.J.1.밸브콕설치/0"&MID(B130,1,FIND("Ø",B130)-1)),0) -> 0
...

Sheet 내역(전)
A1: =집계!A1 -> [공사명] 신흥고 기숙사 스프링클러 설치공사 | L1: [ 내 역 서 ] | S1: 1
A2: 품 명 | B2: 규 격 | C2: 단위 | D2: 수량 | E2: 재 료 비 | G2: 노 무 비 | I2: 경 비 | K2: 계 | L2: 비 고 | N2: 공정 | O2: 수량 | P2: 할증 | Q2: 분류 | R2: 일위번호 | S2: 1
E3: 단 가 | F3: 금 액 | G3: 단 가 | H3: 금 액 | I3: 단 가 | J3: 금 액 | S3: 1
S4: 1
N5: EF1 | S5: =#REF! -> #REF!
A6: 나사없는 전선관 | B6: E19(16㎜) | C6: m | D6: 8 | G6: 0 | H6: =INT(SUM(G6*D6)) -> 0 | I6: 0 | J6: =INT(SUM(I6*D6)) -> 0 | K6: =SUM(F6+H6+J6) -> 0 | L6: =IF(N6="A","관급자재",IF(N6="B","사급자재",IF(N6="D","노무비적용",IF(N6="E","견적",IF(R6=0,0,"일위대가"))))) -> 0 | O6: {=SUM(IF((#REF!=$N$5)*(#REF!=A6)*(#REF!=B6),#REF!))} -> #REF! | P6: =#REF! -> #REF! | Q6: 1-전선관 | S6: =IF(D6=0,"",1) -> 1
A7: 나사없는 전선관 | B7: E31(28㎜) | C7: m | D7: 8 | G7: 0 | H7: =INT(SUM(G7*D7)) -> 0 | I7: 0 | J7: =INT(SUM(I7*D7)) -> 0 | K7: =SUM(F7+H7+J7) -> 0 | L7: =IF(N7="A","관급자재",IF(N7="B","사급자재",IF(N7="D","노무비적용",IF(N7="E","견적",IF(R7=0,0,"일위대가"))))) -> 0 | O7: {=SUM(IF((#REF!=$N$5)*(#REF!=A7)*(#REF!=B7),#REF!))} -> #REF! | P7: =#REF! -> #REF! | Q7: 1-전선관 | S7: =IF(D7=0,"",1) -> 1
A8: 1종금속제 가요전선관 | B8: 고장력방수 16C | C8: m | D8: 14 | G8: 0 | H8: =INT(SUM(G8*D8)) -> 0 | I8: 0 | J8: =INT(SUM(I8*D8)) -> 0 | K8: =SUM(F8+H8+J8) -> 0 | L8: =IF(N8="A","관급자재",IF(N8="B","사급자재",IF(N8="D","노무비적용",IF(N8="E","견적",IF(R8=0,0,"일위대가"))))) -> 0 | O8: {=SUM(IF((#REF!=$N$5)*(#REF!=A8)*(#REF!=B8),#REF!))} -> #REF! | P8: =#REF! -> #REF! | Q8: 1-전선관 | S8: =IF(D8=0,"",1) -> 1
A9: 1종금속제 가요전선관 | B9: 고장력비방수 16C | C9: m | D9: 133 | G9: 0 | H9: =INT(SUM(G9*D9)) -> 0 | I9: 0 | J9: =INT(SUM(I9*D9)) -> 0 | K9: =SUM(F9+H9+J9) -> 0 | L9: =IF(N9="A","관급자재",IF(N9="B","사급자재",IF(N9="D","노무비적용",IF(N9="E","견적",IF(R9=0,0,"일위대가"))))) -> 0 | O9: {=SUM(IF((#REF!=$N$5)*(#REF!=A9)*(#REF!=B9),#REF!))} -> #REF! | P9: =#REF! -> #REF! | Q9: 1-전선관 | S9: =IF(D9=0,"",1) -> 1
A10: 1종금속제 가요전선관 | B10: 고장력비방수 22C | C10: m | D10: 3 | G10: 0 | H10: =INT(SUM(G10*D10)) -> 0 | I10: 0 | J10: =INT(SUM(I10*D10)) -> 0 | K10: =SUM(F10+H10+J10) -> 0 | L10: =IF(N10="A","관급자재",IF(N10="B","사급자재",IF(N10="D","노무비적용",IF(N10="E","견적",IF(R10=0,0,"일위대가"))))) -> 0 | O10: {=SUM(IF((#REF!=$N$5)*(#REF!=A10)*(#REF!=B10),#REF!))} -> #REF! | P10: =#REF! -> #REF! | Q10: 1-전선관 | S10: =IF(D10=0,"",1) -> 1
A11: 소방용 내화전선 | B11: F-FR8 2.5sq/4C | C11: m | D11: 14 | G11: 0 | H11: =INT(SUM(G11*D11)) -> 0 | I11: 0 | J11: =INT(SUM(I11*D11)) -> 0 | K11: =SUM(F11+H11+J11) -> 0 | L11: =IF(N11="A","관급자재",IF(N11="B","사급자재",IF(N11="D","노무비적용",IF(N11="E","견적",IF(R11=0,0,"일위대가"))))) -> 0 | O11: {=SUM(IF((#REF!=$N$5)*(#REF!=A11)*(#REF!=B11),#REF!))} -> #REF! | P11: =#REF! -> #REF! | Q11: 2-케이블 | S11: =IF(D11=0,"",1) -> 1
A12: 소방용 내화전선 | B12: F-FR8 2.5sq/10C | C12: m | D12: 70 | G12: 0 | H12: =INT(SUM(G12*D12)) -> 0 | I12: 0 | J12: =INT(SUM(I12*D12)) -> 0 | K12: =SUM(F12+H12+J12) -> 0 | L12: =IF(N12="A","관급자재",IF(N12="B","사급자재",IF(N12="D","노무비적용",IF(N12="E","견적",IF(R12=0,0,"일위대가"))))) -> 0 | O12: {=SUM(IF((#REF!=$N$5)*(#REF!=A12)*(#REF!=B12),#REF!))} -> #REF! | P12: =#REF! -> #REF! | Q12: 2-케이블 | S12: =IF(D12=0,"",1) -> 1
A13: 450/750V 저독성난연절연전선 | B13: HFIX 2.5sq(1.78mm) | C13: m | D13: 424 | G13: 0 | H13: =INT(SUM(G13*D13)) -> 0 | I13: 0 | J13: =INT(SUM(I13*D13)) -> 0 | K13: =SUM(F13+H13+J13) -> 0 | L13: =IF(N13="A","관급자재",IF(N13="B","사급자재",IF(N13="D","노무비적용",IF(N13="E","견적",IF(R13=0,0,"일위대가"))))) -> 0 | O13: {=SUM(IF((#REF!=$N$5)*(#REF!=A13)*(#REF!=B13),#REF!))} -> #REF! | P13: =#REF! -> #REF! | Q13: 2-전선 | S13: =IF(D13=0,"",1) -> 1
A14: 아우트렛 박스 | B14: 4각 54mm | C14: 개 | D14: 6 | G14: 0 | H14: =INT(SUM(G14*D14)) -> 0 | I14: 0 | J14: =INT(SUM(I14*D14)) -> 0 | K14: =SUM(F14+H14+J14) -> 0 | L14: =IF(N14="A","관급자재",IF(N14="B","사급자재",IF(N14="D","노무비적용",IF(N14="E","견적",IF(R14=0,0,"일위대가"))))) -> 0 | O14: {=SUM(IF((#REF!=$N$5)*(#REF!=A14)*(#REF!=B14),#REF!))} -> #REF! | P14: =#REF! -> #REF! | Q14: 0 | S14: =IF(D14=0,"",1) -> 1
A15: 박스커버 | B15: 평(금속제) | C15: 개 | D15: 6 | G15: 0 | H15: =INT(SUM(G15*D15)) -> 0 | I15: 0 | J15: =INT(SUM(I15*D15)) -> 0 | K15: =SUM(F15+H15+J15) -> 0 | L15: =IF(N15="A","관급자재",IF(N15="B","사급자재",IF(N15="D","노무비적용",IF(N15="E","견적",IF(R15=0,0,"일위대가"))))) -> 0 | O15: {=SUM(IF((#REF!=$N$5)*(#REF!=A15)*(#REF!=B15),#REF!))} -> #REF! | P15: =#REF! -> #REF! | Q15: 0 | S15: =IF(D15=0,"",1) -> 1
A16: 풀박스(벽면설치) | B16: 200*200*100*1.2t | C16: 개 | D16: 5 | G16: 0 | H16: =INT(SUM(G16*D16)) -> 0 | I16: 0 | J16: =INT(SUM(I16*D16)) -> 0 | K16: =SUM(F16+H16+J16) -> 0 | L16: =IF(N16="A","관급자재",IF(N16="B","사급자재",IF(N16="D","노무비적용",IF(N16="E","견적",IF(R16=0,0,"일위대가"))))) -> 0 | O16: {=SUM(IF((#REF!=$N$5)*(#REF!=A16)*(#REF!=B16),#REF!))} -> #REF! | P16: =#REF! -> #REF! | Q16: 0 | S16: =IF(D16=0,"",1) -> 1
A17: 풀박스(천정면설치) | B17: 200*200*100*1.2t | C17: 개 | D17: 1 | G17: 0 | H17: =INT(SUM(G17*D17)) -> 0 | I17: 0 | J17: =INT(SUM(I17*D17)) -> 0 | K17: =SUM(F17+H17+J17) -> 0 | L17: =IF(N17="A","관급자재",IF(N17="B","사급자재",IF(N17="D","노무비적용",IF(N17="E","견적",IF(R17=0,0,"일위대가"))))) -> 0 | O17: {=SUM(IF((#REF!=$N$5)*(#REF!=A17)*(#REF!=B17),#REF!))} -> #REF! | P17: =#REF! -> #REF! | Q17: 0 | S17: =IF(D17=0,"",1) -> 1
A18: 알루미늄 덕트 | B18: 100mm * 50mm | C18: m | D18: 2 | G18: 0 | H18: =INT(SUM(G18*D18)) -> 0 | I18: 0 | J18: =INT(SUM(I18*D18)) -> 0 | K18: =SUM(F18+H18+J18) -> 0 | L18: =IF(N18="A","관급자재",IF(N18="B","사급자재",IF(N18="D","노무비적용",IF(N18="E","견적",IF(R18=0,0,"일위대가"))))) -> 0 | O18: {=SUM(IF((#REF!=$N$5)*(#REF!=A18)*(#REF!=B18),#REF!))} -> #REF! | P18: =#REF! -> #REF! | Q18: 0 | S18: =IF(D18=0,"",1) -> 1
A19: 수신기(P형-1급) | B19: 40회로 | C19: Set | D19: 1 | G19: 0 | H19: =INT(SUM(G19*D19)) -> 0 | I19: 0 | J19: =INT(SUM(I19*D19)) -> 0 | K19: =SUM(F19+H19+J19) -> 0 | L19: =IF(N19="A","관급자재",IF(N19="B","사급자재",IF(N19="D","노무비적용",IF(N19="E","견적",IF(R19=0,0,"일위대가"))))) -> 0 | O19: {=SUM(IF((#REF!=$N$5)*(#REF!=A19)*(#REF!=B19),#REF!))} -> #REF! | P19: =#REF! -> #REF! | Q19: 0 | S19: =IF(D19=0,"",1) -> 1
A20: 전자싸이렌 | B20: 전자식 | C20: 개 | D20: 6 | G20: 0 | H20: =INT(SUM(G20*D20)) -> 0 | I20: 0 | J20: =INT(SUM(I20*D20)) -> 0 | K20: =SUM(F20+H20+J20) -> 0 | L20: =IF(N20="A","관급자재",IF(N20="B","사급자재",IF(N20="D","노무비적용",IF(N20="E","견적",IF(R20=0,0,"일위대가"))))) -> 0 | O20: {=SUM(IF((#REF!=$N$5)*(#REF!=A20)*(#REF!=B20),#REF!))} -> #REF! | P20: =#REF! -> #REF! | Q20: 0 | S20: =IF(D20=0,"",1) -> 1
A21: 단자대(고정식) | B21: 15P 20A | C21: 개 | D21: 2 | G21: 0 | H21: =INT(SUM(G21*D21)) -> 0 | I21: 0 | J21: =INT(SUM(I21*D21)) -> 0 | K21: =SUM(F21+H21+J21) -> 0 | L21: =IF(N21="A","관급자재",IF(N21="B","사급자재",IF(N21="D","노무비적용",IF(N21="E","견적",IF(R21=0,0,"일위대가"))))) -> 0 | O21: {=SUM(IF((#REF!=$N$5)*(#REF!=A21)*(#REF!=B21),#REF!))} -> #REF! | P21: =#REF! -> #REF! | Q21: 0 | S21: =IF(D21=0,"",1) -> 1
A22: 화재수신기 철거 | B22: 15회로 | C22: 개 | D22: 1 | G22: 0 | H22: =INT(SUM(G22*D22)) -> 0 | I22: 0 | J22: =INT(SUM(I22*D22)) -> 0 | K22: =SUM(F22+H22+J22) -> 0 | L22: =IF(N22="A","관급자재",IF(N22="B","사급자재",IF(N22="D","노무비적용",IF(N22="E","견적",IF(R22=0,0,"일위대가"))))) -> 0 | O22: {=SUM(IF((#REF!=$N$5)*(#REF!=A22)*(#REF!=B22),#REF!))} -> #REF! | P22: =#REF! -> #REF! | Q22: 0 | S22: =IF(D22=0,"",1) -> 1
A23: 0 | B23: 0 | C23: 0 | D23: 0 | G23: 0 | H23: =INT(SUM(G23*D23)) -> 0 | I23: 0 | J23: =INT(SUM(I23*D23)) -> 0 | K23: =SUM(F23+H23+J23) -> 0 | L23: =IF(N23="A","관급자재",IF(N23="B","사급자재",IF(N23="D","노무비적용",IF(N23="E","견적",IF(R23=0,0,"일위대가"))))) -> 0 | O23: {=SUM(IF((#REF!=$N$5)*(#REF!=A23)*(#REF!=B23),#REF!))} -> #REF! | P23: =#REF! -> #REF! | Q23: 0 | S23: =IF(D23=0,"",1)
A24: 전선관부속품 | B24: 배관의 | C24: % | D24: 15 | E24: =SUMIF($Q$6:$Q$23,"1-전선관",$F$6:$F$23) -> 0 | F24: =INT(SUM(E24*D24)/100) -> 0 | H24: =INT(SUM(G24*D24)) -> 0 | J24: =INT(SUM(I24*D24)) -> 0 | K24: =SUM(F24+H24+J24) -> 0 | S24: =IF(D24=0,"",1) -> 1
A25: 잡자재비 | B25: 배관,배선의 | C25: % | D25: 2 | E25: =SUMIF($Q$6:$Q$23,"1-전선관",$F$6:$F$23)+SUMIF($Q$6:$Q$23,"2-전선",$F$6:$F$23)+SUMIF($Q$6:$Q$23,"2-케이블",$F$6:$F$23) -> 0 | F25: =INT(SUM(E25*D25)/100) -> 0 | H25: =INT(SUM(G25*D25)) -> 0 | J25: =INT(SUM(I25*D25)) -> 0 | K25: =SUM(F25+H25+J25) -> 0 | S25: =IF(D25=0,"",1) -> 1
A26: =IF(D26=0,0,"노 무 비") -> 노 무 비 | B26: =IF(D26=0,0,#REF!) -> #REF! | C26: 인 | D26: 32 | F26: =INT(SUM(E26*D26)) -> 0 | H26: =INT(SUM(G26*D26)) -> 0 | J26: =INT(SUM(I26*D26)) -> 0 | K26: =SUM(F26+H26+J26) -> 0 | S26: =IF(D26=0,"",1) -> 1
A27: =IF(D27=0,0,"노 무 비") -> 노 무 비 | B27: =IF(D27=0,0,#REF!) -> #REF! | C27: 인 | D27: 3 | F27: =INT(SUM(E27*D27)) -> 0 | H27: =INT(SUM(G27*D27)) -> 0 | J27: =INT(SUM(I27*D27)) -> 0 | K27: =SUM(F27+H27+J27) -> 0 | S27: =IF(D27=0,"",1) -> 1
A28: 공구손료 | B28: 노무비의 | C28: % | D28: 3 | E28: =SUM(H6:H27)-SUM(J6:J27) -> 0 | F28: =INT(SUM(E28*D28)/100) -> 0 | H28: =INT(SUM(G28*D28)) -> 0 | J28: =INT(SUM(I28*D28)/100) -> 0 | K28: =SUM(F28+H28+J28) -> 0 | S28: =IF(D28=0,"",1) -> 1
A29: 합 계 | F29: =SUM(F6:F28) -> 0 | H29: =SUM(H6:H28) -> 0 | J29: =SUM(J6:J28) -> 0 | K29: =SUM(F29+H29+J29) -> 0 | S29: =IF(SUM(E29:L29)=0,"",1)

Sheet 내역(건)
A1: 【 기숙사동 스프링클러 설치공사(건축) 】
A2: 품 명 | B2: 규 격 | C2: 단위 | D2: 수량 | E2: 재 료 비 | G2: 노 무 비 | M2: 경 비 | O2: 합 계 | Q2: 비 고 | R2: 품목코드 | S2: 변수 | T2: 설정 | U2: 공종코드 | V2: 일위 | W2: 단산 | X2: 자재 | Y2: 손료적용 | Z2: 손료저장 | AA2: 적용율 | AB2: JUK1 | AC2: JUK2 | AD2: JUK3 | AE2: JUK4 | AF2: JUK5 | AG2: JUK6 | AH2: JUK7 | AI2: JUK8 | AJ2: JUK9 | AK2: JUK10 | AL2: JUK11 | AM2: JUK12 | AN2: JUK13 | AO2: JUK14 | AP2: JUK15 | AQ2: JUK16 | AR2: JUK17 | AS2: JUK18 | AT2: JUK19 | AU2: JUK20 | AV2: 자재구분 | AW2: 공종구분 | AX2: 공종레벨 | AY2: 공종+자재 | AZ2: 고유번호
E3: 단 가 | F3: 금 액 | G3: 단 가 | H3: 금 액 | M3: 단 가 | N3: 금 액 | O3: 단 가 | P3: 금 액
A4: 010101 가 설 공 사 | U4: 010301
A5: 강관 조립말비계(이동식)설치 및 해체 | B5: 높이 2m, 3개월 | C5: 대 | D5: 4 | Q5: 호표 131 | R5: 45816555BA5565397D088A5831FF5 | U5: 010301 | V5: T | W5: F | X5: F | AY5: 01030145816555BA5565397D088A5831FF5 | AZ5: 68547
A6: 강관 조립말비계(이동식)설치 및 해체 | B6: 높이 4m, 3개월 | C6: 대 | D6: 1 | Q6: 호표 132 | R6: 45816555BA5565397D0889B139237 | U6: 010301 | V6: T | W6: F | X6: F | AY6: 01030145816555BA5565397D0889B139237 | AZ6: 68548
A7: 건축물 현장정리(청소포함) | B7: 수선(바닥,천장 수선일경우) | C7: M2 | D7: 218 | Q7: 호표 141 | R7: 45816550395622C972056B7F35809 | U7: 010301 | V7: T | W7: F | X7: F | AY7: 01030145816550395622C972056B7F35809 | AZ7: 68557
U8: 010301
U9: 010301
U10: 010301
U11: 010301
U12: 010301
U13: 010301
U14: 010301
U15: 010301
U16: 010301
U17: 010301
U18: 010301
U19: 010301
... U26: 010301
A27: [ 합 계 ] | F27: =SUMIF(U5:U26,"010301",F5:F26) -> 0 | H27: =SUMIF(U5:U26,"010301",H5:H26) -> 0 | N27: =SUMIF(U5:U26,"010301",N5:N26) -> 0 | P27: =SUMIF(U5:U26,"010301",P5:P26) -> 0 | R27: TOTAL
A28: 010102 철근콘크리트공사 | U28: 010303
A29: 레미콘 - 전주 | B29: 25-21-15 | C29: M3 | D29: 0.8 | R29: 458160D4065A14D9014B39DB3CD28 | U29: 010303 | V29: T | W29: F | X29: F | AY29: 010303458160D4065A14D9014B39DB3CD28 | AZ29: 68184
A30: 철근콘크리트용봉강 | B30: 이형봉강(SD400), HD-10, 지정장소도 | C30: TON | D30: 0.02 | R30: 458160D4065A14D9014B39DB3CD28 | U30: 010303 | V30: T | W30: F | X30: F | AY30: 010303458160D4065A14D9014B39DB3CD28 | AZ30: 68184
A31: 레디믹스트콘크리트 인력운반 타설 | B31: 소형구조물(철근) | C31: M3 | D31: 0.8 | Q31: 호표 174 | R31: 458160D4065A14D9014E8DD933F78 | U31: 010303 | V31: T | W31: F | X31: F | AY31: 010303458160D4065A14D9014E8DD933F78 | AZ31: 68187
A32: 철근 현장가공 및 현장조립 | B32: Type-Ⅱ | C32: TON | D32: 0.02 | Q32: 호표 206 | R32: 458160D0AB570AE93F8231FE33A39 | U32: 010303 | V32: T | W32: F | X32: F | AY32: 010303458160D0AB570AE93F8231FE33A39 | AZ32: 68198
A33: 합판거푸집 설치 및 해체 | B33: 보통 4회 | C33: M2 | D33: 1.6 | Q33: 호표 215 | R33: 458160D37D5225B9B9BC287739C44 | U33: 010303 | V33: T | W33: F | X33: F | AY33: 010303458160D37D5225B9B9BC287739C44 | AZ33: 68207
U34: 010303
U35: 010303
U36: 010303
U37: 010303
U38: 010303
U39: 010303
U40: 010303
U41: 010303
U42: 010303
U43: 010303
U44: 010303
U45: 010303
... U50: 010303
A51: [ 합 계 ] | F51: =SUMIF(U29:U50,"010303",F29:F50) -> 0 | H51: =SUMIF(U29:U50,"010303",H29:H50) -> 0 | N51: =SUMIF(U29:U50,"010303",N29:N50) -> 0 | P51: =SUMIF(U29:U50,"010303",P29:P50) -> 0 | R51: TOTAL
A52: 010103 금 속 공 사 | U52: 010311
A53: 경량철골천정틀 | B53: M-BAR, H:1m이상. 인써트 유 | C53: M2 | D53: 42.3 | Q53: 호표 536 | R53: 45816E79E25C56A99B52E48F33811 | U53: 010311 | V53: T | W53: F | X53: F | AY53: 01031145816E79E25C56A99B52E48F33811 | AZ53: 68452
A54: AL몰딩 설치 | B54: L형, 15*15*1.0mm | C54: M | D54: 48.8 | Q54: 호표 541 | R54: 45816B3573501DA9D15E65C931C02 | U54: 010311 | V54: T | W54: F | X54: F | AY54: 01031145816B3573501DA9D15E65C931C02 | AZ54: 68457
U55: 010311
U56: 010311
U57: 010311
U58: 010311
U59: 010311
U60: 010311
U61: 010311
U62: 010311
U63: 010311
U64: 010311
U65: 010311
U66: 010311
... U74: 010311
A75: [ 합 계 ] | F75: =SUMIF(U53:U74,"010311",F53:F74) -> 0 | H75: =SUMIF(U53:U74,"010311",H53:H74) -> 0 | N75: =SUMIF(U53:U74,"010311",N53:N74) -> 0 | P75: =SUMIF(U53:U74,"010311",P53:P74) -> 0 | R75: TOTAL
A76: 010104 창 호 공 사 | U76: 010313
A77: 갤러리창 | B77: 불소수지 2회 | C77: KG | D77: 3 | Q77: 시공도 | R77: 4581688AA1500209CE9716CC3BE96 | U77: 010313 | V77: T | W77: F | X77: F | AY77: 0103134581688AA1500209CE9716CC3BE96 | AZ77: 68092
A78: 벽부형 배기휀(자동개폐식) | B78: D300x33CMM*60W | C78: 대 | D78: 2 | R78: 4581688AA1500209CE9716CC3BE96 | U78: 010313 | V78: T | W78: F | X78: F | AY78: 0103134581688AA1500209CE9716CC3BE96 | AZ78: 68092
U79: 010313
U80: 010313
U81: 010313
U82: 010313
U83: 010313
U84: 010313
U85: 010313
U86: 010313
U87: 010313
U88: 010313
U89: 010313
U90: 010313
... U98: 010313
A99: [ 합 계 ] | F99: =SUMIF(U77:U98,"010313",F77:F98) -> 0 | H99: =SUMIF(U77:U98,"010313",H77:H98) -> 0 | N99: =SUMIF(U77:U98,"010313",N77:N98) -> 0 | P99: =SUMIF(U77:U98,"010313",P77:P98) -> 0 | R99: TOTAL
A100: 010105 수 장 공 사 | U100: 010316
A101: 천장텍스붙임(재설치) | B101: 300*600*9.5t | C101: M2 | D101: 209.1 | Q101: 호표 843 | R101: 45816B31975AB5E9FCC8C18237833 | U101: 010316 | V101: T | W101: F | X101: F | AY101: 01031645816B31975AB5E9FCC8C18237833 | AZ101: 67901
A102: 금속천장재 탈부착 | C102: M2 | D102: 8.9 | Q102: 호표 914 | R102: 45816B31975AB5E9FCC8C181356AB | U102: 010316 | V102: T | W102: F | X102: F | AY102: 01031645816B31975AB5E9FCC8C181356AB | AZ102: 67971
U103: 010316
U104: 010316
U105: 010316
U106: 010316
U107: 010316
U108: 010316
U109: 010316
U110: 010316
U111: 010316
U112: 010316
U113: 010316
U114: 010316
... U122: 010316
A123: [ 합 계 ] | F123: =SUMIF(U101:U122,"010316",F101:F122) -> 0 | H123: =SUMIF(U101:U122,"010316",H101:H122) -> 0 | N123: =SUMIF(U101:U122,"010316",N101:N122) -> 0 | P123: =SUMIF(U101:U122,"010316",P101:P122) -> 0 | R123: TOTAL
A124: 010106 철 거 공 사 | U124: 010318
A125: 콘크리트구조물 헐기(소형장비) | B125: 전기식, 철근 | C125: M3 | D125: 0.5 | Q125: 호표 922 | R125: 458065E9FB5183A9B3C2CDC03D7E4 | U125: 010318 | V125: T | W125: F | X125: F | AY125: 010318458065E9FB5183A9B3C2CDC03D7E4 | AZ125: 67796
A126: 텍스 해체 | C126: M2 | D126: 218 | Q126: 호표 971 | R126: 458065E9F0572FC9A23EEF69378A5 | U126: 010318 | V126: T | W126: F | X126: F | AY126: 010318458065E9F0572FC9A23EEF69378A5 | AZ126: 67844
A127: 경량천장철골틀 해체 | C127: M2 | D127: 42.7 | Q127: 호표 972 | R127: 458065E9F0572FC9A23FF5B434775 | U127: 010318 | V127: T | W127: F | X127: F | AY127: 010318458065E9F0572FC9A23FF5B434775 | AZ127: 67845
A128: 콘크리트 컷팅 | C128: M | D128: 1.2 | Q128: 호표 981 | R128: 458065E9F0572FC9A3C3BA953977F | U128: 010318 | V128: T | W128: F | X128: F | AY128: 010318458065E9F0572FC9A3C3BA953977F | AZ128: 67853
A129: 철강설 | B129: 알루미늄, 작업설부산물 | C129: kg | D129: -85.3 | R129: 458065E9F0572FC9A3C3B5113D07F | U129: 010318 | V129: T | W129: F | X129: F
R130: 458065E9F0572FC9A3C3B5113D07F | U130: 010318 | V130: T | W130: F | X130: F
R131: 458065E9F0572FC9A3C3B5113D07F | U131: 010318 | V131: T | W131: F | X131: F
...
