Workbook
Name B: #REF!
Name B: #REF!
Name CELLNOTE4: [1]노무비!#REF!
Name CELLNOTE4: [2]노무비!#REF!
Name CELLNOTE5: [3]노무비!#REF!
Name CELLNOTE5: [4]노무비!#REF!
Name CELLNOTE6: [1]노무비!#REF!
Name CELLNOTE6: [2]노무비!#REF!
Name CR: #REF!
Name CR: #REF!
Name CRa: #REF!
Name CRa: #REF!
Name CRb: #REF!
Name CRb: #REF!
Name GONGJONG: #REF!
Name GONGJONG: #REF!
Name Main: #REF!
Name Main: #REF!
Name MAINPART: #REF!
Name MAINPART: #REF!
Name mf: #REF!
Name mf: #REF!
Name PRINT_AREA_MI: #REF!
Name PRINT_AREA_MI: #REF!
Name SChonsei: #REF!
Name SChonsei: #REF!
Name SubDic: #REF!
Name SubDic: #REF!
Name TChonsei: #REF!
Name TChonsei: #REF!
Name TDeposit: #REF!
Name TDeposit: #REF!
Name TRent: #REF!
Name TRent: #REF!
Name ㄷㄱ: '[5]인원계획-미화'!#REF!
Name ㄷㄱ: '[6]인원계획-미화'!#REF!
Name ㄷㄹㄷ: [1]노무비!#REF!
Name ㄷㄹㄷ: [2]노무비!#REF!
Name ㄹㄴㅇㄹㄴㅇㄹ: '[5]인원계획-미화'!#REF!
Name ㄹㄴㅇㄹㄴㅇㄹ: '[6]인원계획-미화'!#REF!
Name ㄹㅇㄹㄷ: [1]노무비!#REF!
Name ㄹㅇㄹㄷ: [2]노무비!#REF!
Name 반대탭: [7]시설장비!#REF!
Name 반대탭: [8]시설장비!#REF!
Name ㅇㄹㄷ: [3]노무비!#REF!
Name ㅇㄹㄷ: [4]노무비!#REF!
Name ㅇㅁ: [7]시설장비!#REF!
Name ㅇㅁ: [8]시설장비!#REF!
Name 연봉: '[5]인원계획-미화'!#REF!
Name 연봉: '[6]인원계획-미화'!#REF!
Name 통신: '[5]인원계획-미화'!#REF!
Name 통신: '[6]인원계획-미화'!#REF!
Name ㅎㄹㅇㄴ: '[5]인원계획-미화'!#REF!
Name ㅎㄹㅇㄴ: '[6]인원계획-미화'!#REF!

Sheet 원가계산
A1: 공 사 원 가 계 산 서
A2: 공 사 명 : | C2: 인천광역시교육청 교직원수련원(영종본원) 환경개선 기계설비공사
A3: 비 목 | D3: 금 액 | E3: 구 성 비 | H3: 비 고
B4: 재 료 비 | C4: 직 접 재 료 비 | D4: =공종별집계표!F6 -> 0
A5: 순 | C5: 간 접 재 료 비
C6: 작업설,부산물(△)
C7: [ 소 계 ] | D7: =SUM(D4:D6) -> 0
A8: 공 | B8: 노 | C8: 직 접 노 무 비 | D8: =공종별집계표!H6 -> 0
B9: 무 | C9: 간 접 노 무 비 | D9: =INT(D8*F9) -> 0 | E9: 직접노무비 * | F9: 0.175 | H9: 10억미만(6개월이하)
B10: 비 | C10: [ 소 계 ] | D10: =INT((D8+D9)*1) -> 0
C11: 운 반 비 | D11: 0
A12: 사 | B12: 경 | C12: 기 계 경 비 | D12: =공종별집계표!J6 -> 0
C13: 산 재 보 험 료 | D13: =INT(D10*F13) -> 0 | E13: 노무비 * | F13: 0.0356
C14: 고 용 보 험 료 | D14: =INT(D10*F14) -> 0 | E14: 노무비 * | F14: 0.0101
C15: 퇴직 공제 부금비 | D15: =INT(D8*F15) -> 0 | E15: 직접노무비 * | F15: 0.023 | H15: 1억원이상 적용
C16: 건강보험료 | D16: =INT(D8*F16) -> 0 | E16: 직접노무비 * | F16: 0.03595
A17: 원 | C17: 연금보험료 | D17: =INT(D8*F17) -> 0 | E17: 직접노무비 * | F17: 0.0475
C18: 노인장기요양보험 | D18: =D16*F18 -> 0 | E18: 건강보험료* | F18: 0.1314
C19: 하도급지급보증수수료 | D19: =INT(SUM(+D7+D8+D12)*F19) -> 0 | E19: (재료비+직접노무비+산출경비) * | H19: 50억미만
C20: 건설기계대여금지급보증서 발급수수료 | D20: =INT(SUM(+D7+D8+D12)*F20) -> 0 | E20: (재료비+직접노무비+산출경비) *
C21: 산업안전보건관리비 | D21: =((D7+D8))*F21 -> 0 | E21: (재료비+직접노무비) * | F21: 0.0311 | H21: 5억미만, 2천만원이상 적용
A22: 가 | B22: 비 | C22: 기 타 경 비 | D22: =INT((D7+D10)*F22) -> 0 | E22: (재료비+노무비) * | F22: 0.05 | H22: 10억미만(6개월이하)
C23: 환경보전비 | D23: =INT(SUM(D4+D8+D12)*F23) -> 0 | E23: (재료비+직접노무비+산출경비) * | F23: 0.003
C24: 석면분담금 | D24: =INT(D10*F24) -> 0 | E24: 노무비 * | F24: 6e-05
C25: 임금채권부담금 | D25: =INT(D10*F25) -> 0 | E25: 노무비 * | F25: 0.0009
C26: [ 소 계 ] | D26: =SUM(D11:D25) -> 0
A27: 계 | D27: =INT((D7+D10+D26)*1) -> 0
A28: 일 반 관 리 비 | D28: =INT(D27*F28) -> 0 | E28: 계 * | F28: 0.065 | H28: 5억~30억 미만 / 전문
A29: 이 윤 | D29: =INT(((D10+D26+D28)*F29)*1) -> 0 | E29: (노무비+경비+일반관리비) * | F29: 0.15 | H29: 50억미만 | I29: 공급가액참고!!
A30: 공 급 가 액 | D30: =SUM(D27:D29) -> 0
A31: 폐기물처리비 | D31: =공종별집계표!L19 -> 0
A32: 부 가 가 치 세 | D32: =INT(SUM(D30+D31)*F32) -> 0 | E32: 공급가액 * | F32: 0.1
A33: 도 급 금 액 | D33: =INT(SUM(D30:D32)/1000)*1000 -> 0
A34: 총 공 사 비 | D34: =SUM(D33:D33) -> 0

Sheet 공종별집계표
A1: 공 종 별 집 계 표
A2: [ 인천광역시교육청 교직원수련원(영종본원) 환경개선 기계설비공사 ]
A3: 품 명 | B3: 규 격 | C3: 단위 | D3: 수량 | E3: 재 료 비 | G3: 노 무 비 | I3: 경 비 | K3: 합 계 | M3: 비 고 | N3: 공종코드 | O3: 변수 | P3: 상위공종 | Q3: 공종구분 | R3: 공종레벨 | S3: 공종소계 | T3: 원가계산서 연결금액
E4: 단 가 | F4: 금 액 | G4: 단 가 | H4: 금 액 | I4: 단 가 | J4: 금 액 | K4: 단 가 | L4: 금 액
A5: 01 인천광역시교육청 교직원수련원(본원) 환경개선공사[기계설비] | D5: 1 | E5: =F6+F19+F21 -> 0 | F5: =E5*D5 -> 0 | G5: =H6+H19+H21 -> 0 | H5: =G5*D5 -> 0 | I5: =J6+J19+J21 -> 0 | J5: =I5*D5 -> 0 | K5: =E5+G5+I5 -> 0 | L5: =F5+H5+J5 -> 0 | N5: 01 | R5: 1
A6: 0101 기계설비공사 | D6: 1 | E6: =F7+F8+F9+F10+F11+F12+F13+F14+F15+F16+F17+F18 -> 0 | F6: =E6*D6 -> 0 | G6: =H7+H8+H9+H10+H11+H12+H13+H14+H15+H16+H17+H18 -> 0 | H6: =G6*D6 -> 0 | I6: =J7+J8+J9+J10+J11+J12+J13+J14+J15+J16+J17+J18 -> 0 | J6: =I6*D6 -> 0 | K6: =E6+G6+I6 -> 0 | L6: =F6+H6+J6 -> 0 | N6: 0101 | P6: 01 | R6: 2
A7: 010101 장비설치공사 | D7: 1 | E7: =공종별내역서!F27 -> 0 | F7: =E7*D7 -> 0 | G7: =공종별내역서!H27 -> 0 | H7: =G7*D7 -> 0 | I7: =공종별내역서!J27 -> 0 | J7: =I7*D7 -> 0 | K7: =E7+G7+I7 -> 0 | L7: =F7+H7+J7 -> 0 | N7: 010101 | P7: 0101 | R7: 3
A8: 010102 위생기구설치공사 | D8: 1 | E8: =공종별내역서!F51 -> 0 | F8: =E8*D8 -> 0 | G8: =공종별내역서!H51 -> 0 | H8: =G8*D8 -> 0 | I8: =공종별내역서!J51 -> 0 | J8: =I8*D8 -> 0 | K8: =E8+G8+I8 -> 0 | L8: =F8+H8+J8 -> 0 | N8: 010102 | P8: 0101 | R8: 3
A9: 010103 기계실배관공사 | D9: 1 | E9: =공종별내역서!F123 -> 0 | F9: =E9*D9 -> 0 | G9: =공종별내역서!H123 -> 0 | H9: =G9*D9 -> 0 | I9: =공종별내역서!J123 -> 0 | J9: =I9*D9 -> 0 | K9: =E9+G9+I9 -> 0 | L9: =F9+H9+J9 -> 0 | N9: 010103 | P9: 0101 | R9: 3
A10: 010104 난방배관공사 | D10: 1 | E10: =공종별내역서!F147 -> 0 | F10: =E10*D10 -> 0 | G10: =공종별내역서!H147 -> 0 | H10: =G10*D10 -> 0 | I10: =공종별내역서!J147 -> 0 | J10: =I10*D10 -> 0 | K10: =E10+G10+I10 -> 0 | L10: =F10+H10+J10 -> 0 | N10: 010104 | P10: 0101 | R10: 3
A11: 010105 급수급탕배관공사 | D11: 1 | E11: =공종별내역서!F291 -> 0 | F11: =E11*D11 -> 0 | G11: =공종별내역서!H291 -> 0 | H11: =G11*D11 -> 0 | I11: =공종별내역서!J291 -> 0 | J11: =I11*D11 -> 0 | K11: =E11+G11+I11 -> 0 | L11: =F11+H11+J11 -> 0 | N11: 010105 | P11: 0101 | R11: 3
A12: 010106 오배수배관공사 | D12: 1 | E12: =공종별내역서!F363 -> 0 | F12: =E12*D12 -> 0 | G12: =공종별내역서!H363 -> 0 | H12: =G12*D12 -> 0 | I12: =공종별내역서!J363 -> 0 | J12: =I12*D12 -> 0 | K12: =E12+G12+I12 -> 0 | L12: =F12+H12+J12 -> 0 | N12: 010106 | P12: 0101 | R12: 3
A13: 010107 환기설비공사 | D13: 1 | E13: =공종별내역서!F387 -> 0 | F13: =E13*D13 -> 0 | G13: =공종별내역서!H387 -> 0 | H13: =G13*D13 -> 0 | I13: =공종별내역서!J387 -> 0 | J13: =I13*D13 -> 0 | K13: =E13+G13+I13 -> 0 | L13: =F13+H13+J13 -> 0 | N13: 010107 | P13: 0101 | R13: 3
A14: 010108 냉난방기신설및이설공사 | D14: 1 | E14: =공종별내역서!F459 -> 0 | F14: =E14*D14 -> 0 | G14: =공종별내역서!H459 -> 0 | H14: =G14*D14 -> 0 | I14: =공종별내역서!J459 -> 0 | J14: =I14*D14 -> 0 | K14: =E14+G14+I14 -> 0 | L14: =F14+H14+J14 -> 0 | N14: 010108 | P14: 0101 | R14: 3
A15: 010109 부대공사 | D15: 1 | E15: =공종별내역서!F483 -> 0 | F15: =E15*D15 -> 0 | G15: =공종별내역서!H483 -> 0 | H15: =G15*D15 -> 0 | I15: =공종별내역서!J483 -> 0 | J15: =I15*D15 -> 0 | K15: =E15+G15+I15 -> 0 | L15: =F15+H15+J15 -> 0 | N15: 010109 | P15: 0101 | R15: 3
A16: 010110 자동제어공사 | D16: 1 | E16: =공종별내역서!F507 -> 0 | F16: =E16*D16 -> 0 | G16: =공종별내역서!H507 -> 0 | H16: =G16*D16 -> 0 | I16: =공종별내역서!J507 -> 0 | J16: =I16*D16 -> 0 | K16: =E16+G16+I16 -> 0 | L16: =F16+H16+J16 -> 0 | N16: 010110 | P16: 0101 | R16: 3
A17: 010111 소화배관공사 | D17: 1 | E17: =공종별내역서!F555 -> 0 | F17: =E17*D17 -> 0 | G17: =공종별내역서!H555 -> 0 | H17: =G17*D17 -> 0 | I17: =공종별내역서!J555 -> 0 | J17: =I17*D17 -> 0 | K17: =E17+G17+I17 -> 0 | L17: =F17+H17+J17 -> 0 | N17: 010111 | P17: 0101 | R17: 3
A18: 010112 철거공사 | D18: 1 | E18: =공종별내역서!F603 -> 0 | F18: =E18*D18 -> 0 | G18: =공종별내역서!H603 -> 0 | H18: =G18*D18 -> 0 | I18: =공종별내역서!J603 -> 0 | J18: =I18*D18 -> 0 | K18: =E18+G18+I18 -> 0 | L18: =F18+H18+J18 -> 0 | N18: 010112 | P18: 0101 | R18: 3
A19: 0102 폐기물처리공사 | D19: 1 | E19: =F20 -> 0 | F19: =E19*D19 -> 0 | G19: =H20 -> 0 | H19: =G19*D19 -> 0 | I19: =J20 -> 0 | J19: =I19*D19 -> 0 | K19: =E19+G19+I19 -> 0 | L19: =F19+H19+J19 -> 0 | N19: 0102 | P19: 01 | R19: 2
A20: 010201 폐기물처리비 | D20: 1 | E20: =공종별내역서!F627 -> 0 | F20: =E20*D20 -> 0 | G20: =공종별내역서!H627 -> 0 | H20: =G20*D20 -> 0 | I20: =공종별내역서!J627 -> 0 | J20: =I20*D20 -> 0 | K20: =E20+G20+I20 -> 0 | L20: =F20+H20+J20 -> 0 | N20: 010201 | P20: 0102 | R20: 3
A21: 0103 관급공사 | D21: 1 | E21: =F22 -> 0 | F21: =E21*D21 -> 0 | G21: =H22 -> 0 | H21: =G21*D21 -> 0 | I21: =J22 -> 0 | J21: =I21*D21 -> 0 | K21: =E21+G21+I21 -> 0 | L21: =F21+H21+J21 -> 0 | N21: 0103 | P21: 01 | R21: 2
A22: 010301 물탱크설치공사 | D22: 1 | E22: =공종별내역서!F651 -> 0 | F22: =E22*D22 -> 0 | G22: =공종별내역서!H651 -> 0 | H22: =G22*D22 -> 0 | I22: =공종별내역서!J651 -> 0 | J22: =I22*D22 -> 0 | K22: =E22+G22+I22 -> 0 | L22: =F22+H22+J22 -> 0 | N22: 010301 | P22: 0103 | R22: 3
A27: [ 합 계 ] | F27: =F5 -> 0 | H27: =H5 -> 0 | J27: =J5 -> 0 | L27: =L5 -> 0

Sheet 공종별내역서
A1: [ 인천광역시교육청 교직원수련원(영종본원) 환경개선 기계설비공사 ]
A2: 품 명 | B2: 규 격 | C2: 단위 | D2: 수량 | E2: 재 료 비 | G2: 노 무 비 | I2: 경 비 | K2: 합 계 | M2: 비 고 | N2: 품목코드 | O2: 변수 | P2: 설정 | Q2: 공종코드 | R2: 일위 | S2: 단산 | T2: 자재 | U2: 손료적용 | V2: 손료저장 | W2: 적용율 | X2: JUK1 | Y2: JUK2 | Z2: JUK3 | AA2: JUK4 | AB2: JUK5 | AC2: JUK6 | AD2: JUK7 | AE2: JUK8 | AF2: JUK9 | AG2: JUK10 | AH2: JUK11 | AI2: JUK12 | AJ2: JUK13 | AK2: JUK14 | AL2: JUK15 | AM2: JUK16 | AN2: JUK17 | AO2: JUK18 | AP2: JUK19 | AQ2: JUK20 | AR2: 자재구분 | AS2: 공종구분 | AT2: 공종레벨 | AU2: 공종+자재 | AV2: 고유번호
E3: 단 가 | F3: 금 액 | G3: 단 가 | H3: 금 액 | I3: 단 가 | J3: 금 액 | K3: 단 가 | L3: 금 액
A4: 010101 장비설치공사 | Q4: 010101
A5: 급탕순환펌프(라인형) | B5: 20LPM*5M*0.1KW | C5: 대 | D5: 4 | N5: 451E543A52608CB08D05EAEC6B390 | Q5: 010101 | R5: T | S5: F | T5: F | AU5: 010101451E543A52608CB08D05EAEC6B390 | AV5: 5915
A6: 급탕대류펌프(라인형) | B6: 20LPM*5M*0.1KW | C6: 대 | D6: 4 | N6: 451E543A52608CB08D05EAEC6B393 | Q6: 010101 | R6: T | S6: F | T6: F | AU6: 010101451E543A52608CB08D05EAEC6B393 | AV6: 5916
A7: 배기팬(천정형,D95) | B7: 1.3CMM*14W,역풍방지댐퍼형 | C7: 대 | D7: 49 | N7: 451E543A5250822136DC77A92C3C1 | Q7: 010101 | R7: T | S7: F | T7: F | AU7: 010101451E543A5250822136DC77A92C3C1 | AV7: 5917
A8: 배기팬(천정형,D150) | B8: 3.5CMM*30W,역풍방지댐퍼형 | C8: 대 | D8: 4 | N8: 451E543A5250822136DC77A92C3C3 | Q8: 010101 | R8: T | S8: F | T8: F | AU8: 010101451E543A5250822136DC77A92C3C3 | AV8: 5605
A9: 전기렌지(인덕션) | B9: 매립2구형,2.8KW,10단 화력조절 | C9: 대 | D9: 37 | N9: 451E543A52608CB08D05EAEC6B392 | Q9: 010101 | R9: T | S9: F | T9: F | AU9: 010101451E543A52608CB08D05EAEC6B392 | AV9: 5918
Q10: 010101
Q11: 010101
Q12: 010101
Q13: 010101
Q14: 010101
Q15: 010101
Q16: 010101
Q17: 010101
Q18: 010101
Q19: 010101
Q20: 010101
Q21: 010101
... Q26: 010101
A27: [ 합 계 ] | F27: =SUMIF(Q5:Q26,"010101",F5:F26) -> 0 | H27: =SUMIF(Q5:Q26,"010101",H5:H26) -> 0 | J27: =SUMIF(Q5:Q26,"010101",J5:J26) -> 0 | L27: =SUMIF(Q5:Q26,"010101",L5:L26) -> 0 | N27: TOTAL
A28: 010102 위생기구설치공사 | Q28: 010102
A29: 양변기(L/T) | B29: KSVC-1210C,절수형 | C29: 조 | D29: 42
A30: 각형세면기 | B30: KSVL-620,비누대내장,,절수형 | C30: 조 | D30: 2
A31: 양변기 세척밸브(장애인용) | B31: 전자감지식(건전지식) | C31: 개 | D31: 1
A32: 세면기수전 | B32: 싱글레버혼합수전(원홀),샤워기겸용,절수형 | C32: 개 | D32: 2
A33: 씽크수전 | B33: 대붙이싱글레버혼합수전(코브라),절수형 | C33: 개 | D33: 37
A34: 씽크수전 | B34: 싱글레버혼합수전(코브라),절수형 | C34: 개 | D34: 2
A35: 휴지걸이 | B35: STS제 | C35: 개 | D35: 2
A36: 수건걸이 | B36: STS제 | C36: 개 | D36: 2
A37: 비데 | B37: KS품,온풍건조,난방변좌 | C37: 개 | D37: 42
A38: 화장경 | B38: 600*900*5T | C38: 개 | D38: 2
A39: 세면기배수폽업 | C39: 개 | D39: 2
A40: 세면기배수트랩 | B40: S트랩 | C40: 개 | D40: 2
Q41: 010102
Q42: 010102
Q43: 010102
Q44: 010102
Q45: 010102
Q46: 010102
Q47: 010102
Q48: 010102
Q49: 010102
Q50: 010102
A51: [ 합 계 ] | F51: =SUMIF(Q29:Q50,"010102",F29:F50) -> 0 | H51: =SUMIF(Q29:Q50,"010102",H29:H50) -> 0 | J51: =SUMIF(Q29:Q50,"010102",J29:J50) -> 0 | L51: =SUMIF(Q29:Q50,"010102",L29:L50) -> 0 | N51: TOTAL
A52: 010103 기계실배관공사
A53: 스테인리스강관(K-TYPE) | B53: D13 | C53: m | D53: 24
A54: 스테인리스강관(K-TYPE) | B54: D30 | C54: m | D54: 6
A55: 스테인리스강관(K-TYPE) | B55: D50 | C55: m | D55: 3
A56: 스테인리스강관(K-TYPE) | B56: D60 | C56: m | D56: 49
A57: 스테인리스강관(K-TYPE) | B57: D80 | C57: m | D57: 7
A58: 스테인리스강관(K-TYPE) | B58: D100 | C58: m | D58: 7
A59: 스테인리스강관 | B59: D125x3T | C59: m | D59: 17
A60: 관보온(아티론.슈퍼매직303) | B60: 25TxD15 | C60: m | D60: 24
A61: 관보온(아티론.슈퍼매직303) | B61: 25TxD32 | C61: m | D61: 3
A62: 관보온(아티론.슈퍼매직303) | B62: 25TxD65 | C62: m | D62: 44
A63: 관보온(아티론.슈퍼매직303) | B63: 25TxD80 | C63: m | D63: 7
A64: 관보온(아티론.슈퍼매직303) | B64: 40TxD125 | C64: m | D64: 17
... A107: 정수위조절변장치 | B107: D65x65x65 | C107: 개소 | D107: 1
A108: 압력계설치(STS) | C108: 조 | D108: 1
A109: 밸브보온(슈퍼매직테프) | B109: 25TxD32 | C109: 개소 | D109: 2
A110: 밸브보온(슈퍼매직테프) | B110: 25TxD65 | C110: 개소 | D110: 5
A111: 밸브보온(슈퍼매직테프) | B111: 25TxD80 | C111: 개소 | D111: 2
A112: 밸브보온(슈퍼매직테프) | B112: 40TxD125 | C112: 개소 | D112: 6
A113: 철강채널 | B113: 100*50*5.0mm, 중형 | C113: kg | D113: 31
A114: 잡철물 제작 및 설치 | B114: 현장제작 설치(일반철제) | C114: KG | D114: 31
A115: 녹막이페인트(붓칠) | B115: 철재면,2회,1종 | C115: ㎡ | D115: 2
A116: 조합페인트(붓칠) | B116: 철재면,2회.1급 | C116: ㎡ | D116: 2
A117: 절연행가(달대볼트) | B117: D15 | C117: 개소 | D117: 16
A118: 절연행가(달대볼트) | B118: D32 | C118: 개소 | D118: 2
A119: 절연행가(달대볼트) | B119: D65 | C119: 개소 | D119: 22
A120: 절연행가(달대볼트) | B120: D80 | C120: 개소 | D120: 4
... A122: 스텐관용접 | B122: D125 | C122: 개소 | D122: 30
A123: [ 합 계 ]
A124: 010104 난방배관공사
A125: 온돌파이프 | B125: XL관(KS), D15 | C125: M | D125: 472
A126: 가교화폴리에틸렌관이음쇠 | B126: XL U-PIN D15 | C126: 개 | D126: 472
A127: 가교화폴리에틸렌관이음쇠 | B127: XL 크립바 D15 | C127: 개 | D127: 472
A128: 온도조절기 철거후 재설치 | B128: 기존재사용,난방용 | C128: 개 | D128: 36
A147: [ 합 계 ]
A148: 010105 급수급탕배관공사
A149: 스테인리스강관(K-TYPE) | B149: D13 | C149: m | D149: 1193
A150: 스테인리스강관(K-TYPE) | B150: D20 | C150: m | D150: 505
A151: 스테인리스강관(K-TYPE) | B151: D25 | C151: m | D151: 430
A152: 스테인리스강관(K-TYPE) | B152: D30 | C152: m | D152: 114
A153: 스테인리스강관(K-TYPE) | B153: D40 | C153: m | D153: 101
A154: 스테인리스강관(K-TYPE) | B154: D50 | C154: m | D154: 51
A155: 스테인리스강관(K-TYPE) | B155: D60 | C155: m | D155: 60
A156: 스테인리스강관(K-TYPE) | B156: D80 | C156: m | D156: 112
A157: 관보온(아티론.슈퍼매직303) | B157: 25TxD15 | C157: m | D157: 1193
A158: 관보온(아티론.슈퍼매직303) | B158: 25TxD20 | C158: m | D158: 505
A159: 관보온(아티론.슈퍼매직303) | B159: 25TxD25 | C159: m | D159: 430
A160: 관보온(아티론.슈퍼매직303) | B160: 25TxD32 | C160: m | D160: 114
... A245: 파이프슈 | B245: 슈(SHOE), 절연가이드, Φ25mm | C245: 개 | D245: 8
A246: 압력계설치(STS) | C246: 조 | D246: 8
A247: 온도계설치(STS) | C247: 조 | D247: 8
A248: 온도감지기설치 | B248: 급탕순환용,제어선재사용 | C248: 개소 | D248: 8
A249: 인테리어(MDF+방염필름) 벽면 마감 | B249: 벽면,급수배관노출부분 | C249: ㎡ | D249: 3
...

Sheet  공사설정 
A1: 이 Sheet는 수정하지 마십시요
A2: 공사구분 | B2: C | C2: 타이틀
A3: 확정내역 | B3: 원내역
A4: 자재단가적용 | B4: 5
A5: 경비단가적용 | B5: 5
A6: 품목코드형식 | B6: XXXX-XXXXXXXXXXXXX
A7: 내역금액소수점처리 | B7: C | C7: 1
A8: 일위대가내역소수점처리 | B8: C | C8: 2
A9: 단가명 | B9: 조달청가격 | C9: 거래가격 | D9: 유통물가 | E9: 물가자료 | F9: 조사가격2 | G9: TTTTT
A10: 환율 | B10: 0 | C10: 0 | D10: 0
A11: 시간당작업량 | B11: R | C11: 3
A12: 1회 사이클시간 | B12: R | C12: 3
A13: 시간당 작업사이클 | B13: R | C13: 2
A14: 일반변수 | B14: C | C14: 5
A15: 시간당 노임산출 계수 | B15: A | C15: 1/8*16/12*25/20 | D15: 1/8*16/12*25/20 | E15: 1/8*16/12*25/20 | F15: 1
A16: 재료비 할증 계수 | B16: 0 | C16: 0
A17: 노무비 할증 계수 | B17: 0 | C17: 0 | D17: 0 | E17: 0 | F17: 0 | G17: 0 | H17: 0 | I17: 0 | J17: 0 | K17: 0 | L17: 0 | M17: 0
A18: 경비 할증 계수 | B18: 0 | C18: 0
A19: 내역,일위대가 품명,규격,단위 따로적용
A20: 내역단가 소수점처리 | C20: 1
A21: 코드 | B21: 공종구분명 | C21: 원가비목코드
A22: 1 | B22: 작 업 부 산 물 | C22: A3
A23: 2 | B23: 운 반 비 | C23: C1
A24: 3 | B24: 관 급 자 재 비 | C24: DJ
A25: 4 | B25: 사 급 자 재 비 | C25: D3
A26: 5 | B26: 외 자 재
A27: 6 | B27: ...
A28: 7 | B28: ...
A29: 8 | B29: ...
A30: 9 | B30: ...
A43: 단가 순서 | B43: 1234

Sheet Sheet1
