Workbook

Sheet 원가  (건축)
A1: 공 사 원 가 계 산 서
A3: 공 사 명 : | C3: 은로초(유치원) 본관동 방수 및 기타공사(건축)
A4: 비 목 | D4: 금 액 | E4: 구 성 비 | F4: 비 고
A5: 순 공 사 원 가 | B5: 재료비 | C5: 직 접 재 료 비
C6: 간 접 재 료 비
C7: 작업설, 부산물( )
C8: [ 소 계 ]
B9: 노무비 | C9: 직 접 노 무 비
C10: 간 접 노 무 비
C11: [ 소 계 ]
B12: 경 비 | C12: 운 반 비
C13: 기 계 경 비
C14: 산 재 보 험 료
C15: 고 용 보 험 료
C16: 건 강 보 험 료
C17: 연 금 보 험 료
C18: 퇴 직 공 제 부금비
C19: 산업안전보건관리비
C20: 기 타 경 비
C21: 환 경 보 전 비
C22: 노인장기요양보험료
C23: 석면분담금
C24: 임금채권부담금
... C29: [ 소 계 ]
A30: 계
A31: 일 반 관 리 비
A32: 이 윤
A33: 폐기물상차비
A34: 폐기물처리비
A35: 작업부산물
A36: 특허(신기술)사용료
A37: 공 급 가 액
A38: 부 가 가 치 세
A39: 도 급 액
A40: 도급자관급자재비
A41: 관급자관급자재비
A42: 총 공 사 비

Sheet 공종별집계표
A1: 공 종 별 집 계 표
A2: [ 은로초(유치원) 본관동 방수 및 기타공사(건축) ]
A3: 품 명 | B3: 규 격 | C3: 단위 | D3: 수량 | E3: 재 료 비 | G3: 노 무 비 | I3: 경 비 | K3: 합 계 | M3: 비 고 | N3: 공종코드 | O3: 변수 | P3: 상위공종 | Q3: 공종구분 | R3: 공종레벨 | S3: 공종소계 | T3: 원가계산서 연결금액
E4: 단 가 | F4: 금 액 | G4: 단 가 | H4: 금 액 | I4: 단 가 | J4: 금 액 | K4: 단 가 | L4: 금 액
A5: 01 은로유치원 본관동 방수 및 기타공사(건축) | D5: 1 | E5: =F6 -> 0 | F5: =E5*D5 -> 0 | G5: =H6 -> 0 | H5: =G5*D5 -> 0 | I5: =J6 -> 0 | J5: =I5*D5 -> 0 | K5: =E5+G5+I5 -> 0 | L5: =F5+H5+J5 -> 0 | N5: 01 | R5: 1
A6: 0101 ▶ 건 축 공 사 | D6: 1 | E6: =F7+F8+F9+F10+F11+F12+F13+F14+F15+F16+F17 -> 0 | F6: =E6*D6 -> 0 | G6: =H7+H8+H9+H10+H11+H12+H13+H14+H15+H16+H17 -> 0 | H6: =G6*D6 -> 0 | I6: =J7+J8+J9+J10+J11+J12+J13+J14+J15+J16+J17 -> 0 | J6: =I6*D6 -> 0 | K6: =E6+G6+I6 -> 0 | L6: =F6+H6+J6 -> 0 | N6: 0101 | P6: 01 | R6: 2
A7: 010101 가 설 공 사 | D7: 1 | E7: =공종별내역서!F25 -> 0 | F7: =E7*D7 -> 0 | G7: =공종별내역서!H25 -> 0 | H7: =G7*D7 -> 0 | I7: =공종별내역서!J25 -> 0 | J7: =I7*D7 -> 0 | K7: =E7+G7+I7 -> 0 | L7: =F7+H7+J7 -> 0 | N7: 010101 | P7: 0101 | R7: 3
A8: 010102 콘크리트공사 | D8: 1 | E8: =공종별내역서!F47 -> 0 | F8: =E8*D8 -> 0 | G8: =공종별내역서!H47 -> 0 | H8: =G8*D8 -> 0 | I8: =공종별내역서!J47 -> 0 | J8: =I8*D8 -> 0 | K8: =E8+G8+I8 -> 0 | L8: =F8+H8+J8 -> 0 | N8: 010102 | P8: 0101 | R8: 3
A9: 010103 치장벽 보강공사 | D9: 1 | E9: =공종별내역서!F69 -> 0 | F9: =E9*D9 -> 0 | G9: =공종별내역서!H69 -> 0 | H9: =G9*D9 -> 0 | I9: =공종별내역서!J69 -> 0 | J9: =I9*D9 -> 0 | K9: =E9+G9+I9 -> 0 | L9: =F9+H9+J9 -> 0 | N9: 010103 | P9: 0101 | R9: 3
A10: 010104 방 수 공 사 | D10: 1 | E10: =공종별내역서!F91 -> 0 | F10: =E10*D10 -> 0 | G10: =공종별내역서!H91 -> 0 | H10: =G10*D10 -> 0 | I10: =공종별내역서!J91 -> 0 | J10: =I10*D10 -> 0 | K10: =E10+G10+I10 -> 0 | L10: =F10+H10+J10 -> 0 | N10: 010104 | P10: 0101 | R10: 3
A11: 010105 지붕 및 홈통공사 | D11: 1 | E11: =공종별내역서!F113 -> 0 | F11: =E11*D11 -> 0 | G11: =공종별내역서!H113 -> 0 | H11: =G11*D11 -> 0 | I11: =공종별내역서!J113 -> 0 | J11: =I11*D11 -> 0 | K11: =E11+G11+I11 -> 0 | L11: =F11+H11+J11 -> 0 | N11: 010105 | P11: 0101 | R11: 3
A12: 010106 금 속 공 사 | D12: 1 | E12: =공종별내역서!F135 -> 0 | F12: =E12*D12 -> 0 | G12: =공종별내역서!H135 -> 0 | H12: =G12*D12 -> 0 | I12: =공종별내역서!J135 -> 0 | J12: =I12*D12 -> 0 | K12: =E12+G12+I12 -> 0 | L12: =F12+H12+J12 -> 0 | N12: 010106 | P12: 0101 | R12: 3
A13: 010107 도 장 공 사 | D13: 1 | E13: =공종별내역서!F157 -> 0 | F13: =E13*D13 -> 0 | G13: =공종별내역서!H157 -> 0 | H13: =G13*D13 -> 0 | I13: =공종별내역서!J157 -> 0 | J13: =I13*D13 -> 0 | K13: =E13+G13+I13 -> 0 | L13: =F13+H13+J13 -> 0 | N13: 010107 | P13: 0101 | R13: 3
A14: 010108 수 장 공 사 | D14: 1 | E14: =공종별내역서!F179 -> 0 | F14: =E14*D14 -> 0 | G14: =공종별내역서!H179 -> 0 | H14: =G14*D14 -> 0 | I14: =공종별내역서!J179 -> 0 | J14: =I14*D14 -> 0 | K14: =E14+G14+I14 -> 0 | L14: =F14+H14+J14 -> 0 | N14: 010108 | P14: 0101 | R14: 3
A15: 010109 기 타 공 사 | D15: 1 | E15: =공종별내역서!F201 -> 0 | F15: =E15*D15 -> 0 | G15: =공종별내역서!H201 -> 0 | H15: =G15*D15 -> 0 | I15: =공종별내역서!J201 -> 0 | J15: =I15*D15 -> 0 | K15: =E15+G15+I15 -> 0 | L15: =F15+H15+J15 -> 0 | N15: 010109 | P15: 0101 | R15: 3
A16: 010110 철 거 공 사 | D16: 1 | E16: =공종별내역서!F245 -> 0 | F16: =E16*D16 -> 0 | G16: =공종별내역서!H245 -> 0 | H16: =G16*D16 -> 0 | I16: =공종별내역서!J245 -> 0 | J16: =I16*D16 -> 0 | K16: =E16+G16+I16 -> 0 | L16: =F16+H16+J16 -> 0 | N16: 010110 | P16: 0101 | R16: 3
A17: 010111 골 재 비 | D17: 1 | E17: =공종별내역서!F267 -> 0 | F17: =E17*D17 -> 0 | G17: =공종별내역서!H267 -> 0 | H17: =G17*D17 -> 0 | I17: =공종별내역서!J267 -> 0 | J17: =I17*D17 -> 0 | K17: =E17+G17+I17 -> 0 | L17: =F17+H17+J17 -> 0 | N17: 010111 | P17: 0101 | R17: 3
A18: 010112 ◈ 작 업 부 산 물 | D18: 1 | E18: =공종별내역서!F289 -> 0 | F18: =E18*D18 -> 0 | G18: =공종별내역서!H289 -> 0 | H18: =G18*D18 -> 0 | I18: =공종별내역서!J289 -> 0 | J18: =I18*D18 -> 0 | K18: =E18+G18+I18 -> 0 | L18: =F18+H18+J18 -> 0 | N18: 010112 | Q18: 1 | R18: 3 | T18: =L18*1 -> 0
A19: 010113 ◈ 폐기물 상차비 | D19: 1 | E19: =공종별내역서!F311 -> 0 | F19: =E19*D19 -> 0 | G19: =공종별내역서!H311 -> 0 | H19: =G19*D19 -> 0 | I19: =공종별내역서!J311 -> 0 | J19: =I19*D19 -> 0 | K19: =E19+G19+I19 -> 0 | L19: =F19+H19+J19 -> 0 | N19: 010113 | Q19: 6 | R19: 3 | T19: =L19*1 -> 0
A20: 010114 ◈ 폐기물 처리비 | D20: 1 | E20: =공종별내역서!F333 -> 0 | F20: =E20*D20 -> 0 | G20: =공종별내역서!H333 -> 0 | H20: =G20*D20 -> 0 | I20: =공종별내역서!J333 -> 0 | J20: =I20*D20 -> 0 | K20: =E20+G20+I20 -> 0 | L20: =F20+H20+J20 -> 0 | N20: 010114 | Q20: 6 | R20: 3 | T20: =L20*1 -> 0
A22: [ 합 계 ] | F22: =F5 -> 0 | H22: =H5 -> 0 | J22: =J5 -> 0 | L22: =L5 -> 0

Sheet 공종별내역서
A1: [ 은로초(유치원) 본관동 방수 및 기타공사(건축) ]
A2: 품 명 | B2: 규 격 | C2: 단위 | D2: 수량 | E2: 재 료 비 | G2: 노 무 비 | I2: 경 비 | K2: 합 계 | M2: 비 고 | N2: 품목코드 | O2: 변수 | P2: 설정 | Q2: 공종코드 | R2: 일위 | S2: 단산 | T2: 자재 | U2: 손료적용 | V2: 손료저장 | W2: 적용율 | X2: JUK1 | Y2: JUK2 | Z2: JUK3 | AA2: JUK4 | AB2: JUK5 | AC2: JUK6 | AD2: JUK7 | AE2: JUK8 | AF2: JUK9 | AG2: JUK10 | AH2: JUK11 | AI2: JUK12 | AJ2: JUK13 | AK2: JUK14 | AL2: JUK15 | AM2: JUK16 | AN2: JUK17 | AO2: JUK18 | AP2: JUK19 | AQ2: JUK20 | AR2: 자재구분 | AS2: 공종구분 | AT2: 공종레벨 | AU2: 공종+자재 | AV2: 고유번호
E3: 단 가 | F3: 금 액 | G3: 단 가 | H3: 금 액 | I3: 단 가 | J3: 금 액 | K3: 단 가 | L3: 금 액
A4: 010101 가 설 공 사 | Q4: 010101
A5: 시스템비계 설치 및 해체 | B5: 10m 이하,재료포함 | C5: M2 | D5: 65 | N5: 518AF2C2E9BB55B3323AC160CE1737 | Q5: 010101 | R5: T | S5: F | T5: F | AU5: 010101518AF2C2E9BB55B3323AC160CE1737 | AV5: 186
A6: 강관 조립말비계(이동식)설치 및 해체 | B6: 높이 2m, 3개월 | C6: 대 | D6: 2 | N6: 518AF2C2E9BB55B3303FB1308744D0 | Q6: 010101 | R6: T | S6: F | T6: F | AU6: 010101518AF2C2E9BB55B3303FB1308744D0 | AV6: 191
A7: 건축물 현장정리 | B7: 공사중 옥내외 청소 + 정리 | C7: M2 | D7: 533 | N7: 518AF2C2B9E5CE409B3A015F98884F | Q7: 010101 | R7: T | S7: F | T7: F | AU7: 010101518AF2C2B9E5CE409B3A015F98884F | AV7: 4
A8: 준공 청소 | B8: 준공시 시공으로 인한 오염물질 제거 / (마감재,창호,유리 등) | C8: M2 | D8: 533 | N8: 518AF2C2B9E5CE409B3A015F98F99F | Q8: 010101 | R8: T | S8: F | T8: F | AU8: 010101518AF2C2B9E5CE409B3A015F98F99F | AV8: 5
A9: 기존 바닥면 보양 설치 및 해체 | B9: 합판 | C9: M2 | D9: 129 | N9: 518AF2C2B9E6EFC3EA3AF15E5756BA | Q9: 010101 | R9: T | S9: F | T9: F | AU9: 010101518AF2C2B9E6EFC3EA3AF15E5756BA | AV9: 192
A10: 집기류 및 가구,수납장,전자제품,벽부착물 등 이전 재설치 | B10: 이전 가능한 모든 것 (소운반 포함) | C10: 인 | D10: 3 | N10: 518AF2C2B9E5CE40983EC199915E95 | Q10: 010101 | R10: T | S10: F | T10: F | AU10: 010101518AF2C2B9E5CE40983EC199915E95 | AV10: 244
A11: 가설칸막이 설치 및 해체 | B11: T50, 그라스울패널 / (출입문 포함) | C11: M2 | D11: 41 | N11: 518AF2C2B9E6EFC3EA3AF15E5756D1 | Q11: 010101 | R11: T | S11: F | T11: F | AU11: 010101518AF2C2B9E6EFC3EA3AF15E5756D1 | AV11: 245
A12: 고소작업차 | B12: 5ton | C12: HR | D12: 64 | N12: 569C0252C93A2C1B6B3FF152E2E67CF33E683670 | Q12: 010101 | R12: T | S12: F | T12: F | AU12: 010101569C0252C93A2C1B6B3FF152E2E67CF33E683670 | AV12: 243
Q13: 010101
Q14: 010101
Q15: 010101
Q16: 010101
Q17: 010101
Q18: 010101
Q19: 010101
Q20: 010101
Q21: 010101
Q22: 010101
Q23: 010101
Q24: 010101
A25: [ 합 계 ] | N25: TOTAL
A26: 010102 콘크리트공사 | Q26: 010102
A27: 레미콘 - 서울 | B27: 25-18-12 | C27: M3 | D27: 24 | N27: 56AE726279AB8F615E3041B31AF096825B8668 | Q27: 010102 | R27: F | S27: F | T27: T | AU27: 01010256AE726279AB8F615E3041B31AF096825B8668 | AV27: 194
A28: 콘크리트 펌프차 타설(무근) | B28: slump 8~12cm, 벽,기둥,슬래브 등, f2 : Type-Ⅰ, 32m | C28: M3 | D28: 23 | N28: 518AA242B999131DD33E616683DD0A | Q28: 010102 | R28: T | S28: F | T28: F | AU28: 010102518AA242B999131DD33E616683DD0A | AV28: 195
A29: 펌프카 임대료 | B29: 0.5일(1회) | C29: 회 | D29: 2 | N29: 56DBC2E2D9F33DD2453C01548B522E8A706C75 | Q29: 010102 | R29: F | S29: F | T29: T | AU29: 01010256DBC2E2D9F33DD2453C01548B522E8A706C75 | AV29: 196
A30: 합판거푸집 설치 및 해체 | B30: 보통 4회, 수직고 7m까지 | C30: M2 | D30: 14 | N30: 518AA242C9BD6770D33D017D076B1B | Q30: 010102 | R30: T | S30: F | T30: F | AU30: 010102518AA242C9BD6770D33D017D076B1B | AV30: 246
A31: 모르타르 기계바름 | B31: 기계마감 | C31: M2 | D31: 217 | N31: 518A92626908DDF1C130C1A0C2FCFD | Q31: 010102 | R31: T | S31: F | T31: F | AU31: 010102518A92626908DDF1C130C1A0C2FCFD | AV31: 263
Q32: 010102
Q33: 010102
Q34: 010102
Q35: 010102
Q36: 010102
Q37: 010102
Q38: 010102
Q39: 010102
Q40: 010102
Q41: 010102
Q42: 010102
Q43: 010102
... Q46: 010102
A47: [ 합 계 ] | N47: TOTAL
A48: 010103 치장벽 보강공사 | Q48: 010103
A49: 앵글 보강 | B49: 앵글+케미컬앵커+하이픽스+방습지 등 포함) | C49: M | D49: 4 | N49: 518A42E289A8E5E6523A41AE5A93CF | Q49: 010103 | R49: T | S49: F | T49: F | AU49: 010103518A42E289A8E5E6523A41AE5A93CF | AV49: 190
Q50: 010103
Q51: 010103
Q52: 010103
Q53: 010103
Q54: 010103
Q55: 010103
Q56: 010103
Q57: 010103
Q58: 010103
Q59: 010103
Q60: 010103
Q61: 010103
... Q68: 010103
A69: [ 합 계 ] | N69: TOTAL
A70: 010104 방 수 공 사 | Q70: 010104
A71: 복합 방수 | B71: 비노출, 바닥 | C71: M2 | D71: 217 | N71: 518A6232E9D722B3CD3F715F2135D2 | Q71: 010104 | R71: T | S71: F | T71: F | AU71: 010104518A6232E9D722B3CD3F715F2135D2 | AV71: 234
A72: 복합 방수 | B72: 비노출, 벽체 | C72: M2 | D72: 40 | N72: 518A6232E9D722B3CD3F715F2135D1 | Q72: 010104 | R72: T | S72: F | T72: F | AU72: 010104518A6232E9D722B3CD3F715F2135D1 | AV72: 235
A73: 발수재 도포 | B73: 뿜칠 2회 | C73: M2 | D73: 1025 | N73: 518A623269825117B33101EEC202CF | Q73: 010104 | R73: T | S73: F | T73: F | AU73: 010104518A623269825117B33101EEC202CF | AV73: 206
A74: 수밀코킹(실리콘) | B74: 10㎜*10㎜ | C74: M | D74: 10 | N74: 518A623249D122F59F3371C27D57E6 | Q74: 010104 | R74: T | S74: F | T74: F | AU74: 010104518A623249D122F59F3371C27D57E6 | AV74: 209
A75: 수밀코킹(실리콘) | B75: 20㎜*20㎜ | C75: M | D75: 157 | N75: 518A623249D122F59F3371C27D57E4 | Q75: 010104 | R75: T | S75: F | T75: F | AU75: 010104518A623249D122F59F3371C27D57E4 | AV75: 249
A76: 옥상 줄눈설치 | B76: SAW CUT+코킹 | C76: M | D76: 81 | N76: 518AA2425971B4FCDE3F8120D4F488 | Q76: 010104 | R76: T | S76: F | T76: F | AU76: 010104518AA2425971B4FCDE3F8120D4F488 | AV76: 250
A77: 유리섬유메쉬 보강 | C77: M | D77: 40 | N77: 518A6232B90384863C38A1987EC552 | Q77: 010104 | R77: T | S77: F | T77: F | AU77: 010104518A6232B90384863C38A1987EC552 | AV77: 251
A78: 우레탄폼 충진 | C78: M3 | D78: 0.6 | N78: 518A2292199878454930E150F5F20E | Q78: 010104 | R78: T | S78: F | T78: F | AU78: 010104518A2292199878454930E150F5F20E | AV78: 199
Q79: 010104
Q80: 010104
Q81: 010104
Q82: 010104
Q83: 010104
Q84: 010104
Q85: 010104
Q86: 010104
Q87: 010104
Q88: 010104
Q89: 010104
Q90: 010104
A91: [ 합 계 ] | N91: TOTAL
A92: 010105 지붕 및 홈통공사 | Q92: 010105
A93: 루프드레인 설치 | B93: L형, D150mm | C93: 개소 | D93: 3 | N93: 518A52C2F9E4C3122B3C71B82E5714 | Q93: 010105 | R93: T | S93: F | T93: F | AU93: 010105518A52C2F9E4C3122B3C71B82E5714 | AV93: 302
A94: AL 선홈통 설치 | B94: 150*150 | C94: M | D94: 29 | N94: 518A52C2E9DEF6B7853F61C18627B2 | Q94: 010105 | R94: T | S94: F | T94: F | AU94: 010105518A52C2E9DEF6B7853F61C18627B2 | AV94: 252
A95: AL 상자홈통 설치 | B95: 250*250*250 | C95: EA | D95: 1 | N95: 518A52C2E9DB23211431619DAD705C | Q95: 010105 | R95: T | S95: F | T95: F | AU95: 010105518A52C2E9DB23211431619DAD705C | AV95: 253
Q96: 010105
Q97: 010105
Q98: 010105
Q99: 010105
Q100: 010105
Q101: 010105
Q102: 010105
Q103: 010105
Q104: 010105
Q105: 010105
Q106: 010105
Q107: 010105
... Q112: 010105
...
