Workbook

Sheet 결재
A2: 설 계 자 | C2: 심사자 | E2: 담당주무관 | G2: 과 장 | I2: 2026년 10월 일
A7: 2027년 CCTV 통합관제센터 모니터링 용역 설계서
C9: ○ 용역개요 : CCTV 통합관제센터 모니터링 용역 1식
B15: ="■ 총용역비 : 금"&TEXT(원가계산서!D32,"#,##0")&"원(금"&TEXT(원가계산서!D32,"[DBNum4]")&"원)" -> ■ 총용역비 : 금1,256,868,000원(금일십이억오천육백팔십육만팔천원)

Sheet 원가계산서
A2: 심 사 결 과 원 가 계 산 서
A4: CCTV통합관제센터 모니터링용역 | F4: 12개월
A5: 구 분 | D5: 심사금액 | E5: 구성비(%) | F5: 비 고
A6: ①재료비 | B6: 직접재료비 | D6: 0
B7: 간접재료비 | D7: 0
B8: 소계 | D8: 0
A9: ② 인 건 비 | B9: 기본급 | D9: ='현장대리인 내역서(총괄)'!B5+'모니터링요원(조장)(총괄)'!B5+'모니터링요원(총괄)'!B5 -> 554122800
B10: 제 수 당 | C10: 야간근로수당 | D10: ='모니터링요원(조장)(총괄)'!B6+'현장대리인 내역서(총괄)'!B6+'모니터링요원(총괄)'!B6 -> 96064272
C11: 연 차 수 당 | D11: ='모니터링요원(조장)(총괄)'!B7+'현장대리인 내역서(총괄)'!B7+'모니터링요원(총괄)'!B7 -> 6267144
C12: 유급휴일수당 | D12: ='모니터링요원(조장)(총괄)'!B8+'현장대리인 내역서(총괄)'!B8+'모니터링요원(총괄)'!B8 -> 103672800
C13: 특별작업수당 | D13: ='모니터링요원(조장)(총괄)'!B9+'현장대리인 내역서(총괄)'!B9 -> 4800000
C14: ='모니터링요원(조장)(총괄)'!A10 -> 연장근로수당 | D14: ='모니터링요원(조장)(총괄)'!B10+'모니터링요원(총괄)'!B9 -> 10438080
C15: ='모니터링요원(조장)(총괄)'!A11 -> 근로자의날 수당 | D15: ='모니터링요원(조장)(총괄)'!B11+'모니터링요원(총괄)'!B10 -> 0
B16: 년수령액 | D16: =SUM(D9:D15) -> 775365096
B17: 퇴직충당금 | D17: ='현장대리인 내역서(총괄)'!B11+'모니터링요원(조장)(총괄)'!B13+'모니터링요원(총괄)'!B12 -> 64613882
B18: 소계 | D18: =D17+D16 -> 839978978
A19: ③ 경 비 | B19: 국 민 연 금 | D19: ='현장대리인 내역서(총괄)'!B16+'모니터링요원(조장)(총괄)'!B18+'모니터링요원(총괄)'!B17 -> 38768256 | E19: 5% | F19: 국민연금법 제88조
B20: 건 강 보 험 | D20: ='현장대리인 내역서(총괄)'!B17+'모니터링요원(조장)(총괄)'!B19+'모니터링요원(총괄)'!B18 -> 27874376 | E20: 3.595% | F20: 국민건강보험법 제62조 및 시행령 제36조
B21: 산 재 보 험 | D21: ='현장대리인 내역서(총괄)'!B18+'모니터링요원(조장)(총괄)'!B20+'모니터링요원(총괄)'!B19 -> 6668141.4 | E21: 0.86% | F21: 고용보험및산업재해보상보험의 보험료 징수등에 관한법률시행령 제13조 ※ 출퇴근 중 발생한 재해 0.06% 포함
B22: 고 용 보 험 | D22: ='현장대리인 내역서(총괄)'!B19+'모니터링요원(조장)(총괄)'!B21+'모니터링요원(총괄)'!B20 -> 8916699.3 | E22: 1.15% | F22: 고용보험및산업재해보상보험의 보험료 징수등에 관한법률시행령 제12조
B23: 노인장기요양보험 | D23: ='현장대리인 내역서(총괄)'!B20+'모니터링요원(조장)(총괄)'!B22+'모니터링요원(총괄)'!B21 -> 3662693.2 | E23: 13.14% | F23: 노인장기요양보험법 제9조
B24: 임금채권 | D24: ='현장대리인 내역서(총괄)'!B21+'모니터링요원(조장)(총괄)'!B23+'모니터링요원(총괄)'!B22 -> 697829.64 | E24: 0.09% | F24: 임금채권보장법 제8조
B25: 복 리 후 생 비 | D25: ='현장대리인 내역서(총괄)'!B27+'모니터링요원(조장)(총괄)'!B29+'모니터링요원(총괄)'!B28 -> 26400000
B26: 소 계 | D26: =SUM(D19:D25) -> 1.12988e+08
A27: ④ 순 원 가 | D27: =D26+D18+D8 -> 9.5296697e+08 | F27: ① + ② + ③
A28: ⑤ 일 반 관 리 비 | D28: =ROUNDDOWN(D27*E28,0) -> 85767027 | E28: 0.09 | F28: ④ 의 9% 이내
A29: ⑥ 이 윤 | D29: =(D27+D28-D8)*E29-G29 -> 1.0387327e+08 | E29: 0.1 | F29: (④ + ⑤ - ①)의 10%이내 | G29: 127
A30: ⑦ 합 계 | D30: =TRUNC(SUM(D27:D29),0) -> 1142607273 | F30: ④ + ⑤ + ⑥
A31: ⑧ 부 가 가 치 세 | D31: =TRUNC(D30*0.1,0) -> 114260727 | E31: 0.1 | F31: ⑦ 의 10%
A32: 총 용 역 비 | D32: =D30+D31 -> 1256868000 | F32: ⑦ + ⑧ (천원단위 이하 절사)

Sheet 현장대리인 내역서(총괄)
A1: 현장대리인 산출내역서(총괄)
A3: [ 인건비]
A4: 구 분 | B4: 금액 | C4: 단가 | D4: 개월수 | E4: 인원 | F4: 비고
A5: 기본급 | B5: =SUM(C5*D5*E5) -> 48232800 | C5: =SUM('현장대리인 내역서(1인당)'!B5) -> 2009700 | D5: 12 | E5: 2
A6: 야간근로수당 | B6: =SUM(C6*D6*E6) -> 12560112 | C6: ='현장대리인 내역서(1인당)'!B6 -> 523338 | D6: 12 | E6: 2
A7: 연 차 수 당 | B7: =SUM(C7*D7*E7) -> 2117448 | C7: ='현장대리인 내역서(1인당)'!B8 -> 88227 | D7: 12 | E7: 2
A8: 유급휴일수당 | B8: =SUM(C8*D8*E8) -> 9424800 | C8: ='현장대리인 내역서(1인당)'!B7 -> 392700 | D8: 12 | E8: 2
A9: 특별작업수당 | B9: =C9*D9*E9 -> 2400000 | C9: ='현장대리인 내역서(1인당)'!B9 -> 100000 | D9: 12 | E9: 2 | F9: 관리자 2명
A10: 연 수령액 | B10: =SUM(B5:B9) -> 74735160
A11: 퇴직충당금 | B11: =C11*D11*E11 -> 6227930 | C11: ='현장대리인 내역서(1인당)'!B11 -> 259497.08 | D11: 12 | E11: 2
A12: 합 계 | B12: =B10+B11 -> 80963090
A14: [ 경 비]
A15: 구 분 | B15: 금액 | C15: 노무비 | D15: 요 율 | F15: 비고
A16: 국민연금 | B16: =C16*D16 -> 3736758 | C16: =SUM(B10) -> 74735160 | D16: 0.05 | F16: (기본급+제수당) x (5/100)
A17: 건강보험 | B17: =C17*D17 -> 2686729 | C17: =B10 -> 74735160 | D17: 0.03595 | F17: (기본급+제수당) x (3.595/100)
A18: 산재보험 | B18: =C18*D18 -> 642722.38 | C18: =B10 -> 74735160 | D18: 0.0086 | F18: (기본급+제수당) x (0.86/100)
A19: 고용보험 | B19: =C19*D19 -> 859454.34 | C19: =B10 -> 74735160 | D19: 0.0115 | F19: (기본급+제수당) x (1.15/100)
A20: 노인장기요양보험 | B20: =C20*D20 -> 353036.19 | C20: =B17 -> 2686729 | D20: 0.1314 | F20: 건강보험료 x (13.14/100)
A21: 임금채권 | B21: =C21*D21 -> 67261.644 | C21: =B10 -> 74735160 | D21: 0.0009 | F21: (기본급+제수당) x (0.09/100)
A22: 합 계 | B22: =SUM(B16:B21) -> 8345961.6
A24: [ 복리후생비]
A25: 구 분 | B25: 금액 | C25: 단가 | D25: 개월수 | E25: 인원 | F25: 비고
A26: 복리후생비 | B26: =SUM(C26*D26*E26) -> 2400000 | C26: ='현장대리인 내역서(1인당)'!B26 -> 100000 | D26: 12 | E26: =E5 -> 2
A27: 합 계 | B27: =B26 -> 2400000
A29: 12개월/2명 총 계 | B29: =SUM(B12,B22,B27) -> 91709052

Sheet 현장대리인 내역서(1인당)
A1: 현장대리인 내역서(1인당)
A3: [인건비] | F3: (단위 :1개월/인당)
A4: 구 분 | B4: 금액 | C4: 단가 | D4: 수량 | E4: 산출근거 | F4: 비고 | G4: 74590 | H4: =823838732/944123000 -> 0.87259682 | I4: =G4*H4 -> 65086.997 | J4: =I4/8 -> 8135.8746
A5: 기본급 | B5: =ROUNDDOWN((C5*D5),0) -> 2009700 | C5: 11550 | D5: =ROUNDDOWN(((8*5)*52+8)/12,0) -> 174 | E5: 시급x근로시간 ((8시간*5일)*52주+8시간)/12개월=174시간 | F5: 2027년 통합관제센터 적용노임(하남시생활임금예상액) = 11,550원
A6: 야간근로수당 | B6: =ROUNDDOWN((C6*D6)*50%,0) -> 523338 | C6: =(B5+B7+B9)/G7 -> 12030.769 | D6: =ROUNDDOWN((365-52-52)*8/2/12,0) -> 87 | E6: 통상임금 x 근무시간 x 50% | F6: 근로기준법 제56조
A7: 유급휴일수당 | B7: =ROUNDDOWN(C7*D7,0) -> 392700 | C7: 11550 | D7: =ROUNDDOWN(((8*1)*52)/12,0) -> 34 | E7: 시급X8시간X52주/12개월 | F7: 근로기준법 제55조,제18조 | G7: =D5+D7 -> 208
A8: 연 차 수 당 | B8: =ROUNDDOWN(C8*8*D8/12,0) -> 88227 | C8: =ROUNDUP((B5+B7+B9)/G7,0) -> 12031 | D8: 11 | E8: 일급 x 11일/12월 | F8: 근로기준법 제60조5항 | J8: =B5+B6+B7+B9 -> 3025738
A9: 특별작업수당 | B9: =ROUNDDOWN(C9*D9,0) -> 100000 | C9: 50000 | D9: 2 | E9: 조장의 2배
A10: 월수령액 | B10: =SUM(B5:B9) -> 3113965
A11: 퇴직충당금 | B11: =B10/12 -> 259497.08 | E11: 월수령액/12 | F11: 근로자 퇴직급여 보장법 제8조 | G11: =B11*2*12 -> 6227930
A12: 합 계 | B12: =B10+B11 -> 3373462.1 | G12: 2941332
G13: =G12*H4 -> 2566597
A14: [경 비]
A15: 구 분 | B15: 금액 | C15: 단가 | D15: 수량 | E15: 산출근거 | F15: 비고
A16: 국민연금 | B16: =ROUNDUP(C16*D16,0) -> 155699 | C16: =B10 -> 3113965 | D16: 0.05 | E16: (기본급+제수당) x (5/100) | F16: 국민연금법 제88조 | G16: =B16*2*12 -> 3736776
A17: 건강보험 | B17: =ROUNDUP(C17*D17,0) -> 111948 | C17: =B10 -> 3113965 | D17: 0.03595 | E17: (기본급+제수당) x (3.595/100) | F17: 국민건강보험법 제62조 및 시행령 제36조 | G17: =B17*2*12 -> 2686752
A18: 산재보험 | B18: =ROUNDUP(C18*D18,0) -> 26781 | C18: =B10 -> 3113965 | D18: 0.0086 | E18: (기본급+제수당) x (0.86/100) | F18: 고용보험및산업재해보상보험의 보험료 징수등에 관한법률시행령 제12조 ※ 출퇴근 중 발생한 재해 0.06% 포함 | G18: =B18*2*12 -> 642744
A19: 고용보험 | B19: =ROUNDUP(C19*D19,0) -> 35811 | C19: =B10 -> 3113965 | D19: 0.0115 | E19: (기본급+제수당) x (1.15/100) | F19: 고용보험및산업재해보상보험의 보험료 징수등에 관한법률시행령 제12조 | G19: =B19*2*12 -> 859464
A20: 노인장기요양보험 | B20: =ROUNDUP(C20*D20,0) -> 14710 | C20: =B17 -> 111948 | D20: 0.1314 | E20: 건강보험료 x (13.14/100) | F20: 노인장기요양보험법 제9조 | G20: =B20*2*12 -> 353040
A21: 임금채권 | B21: =ROUNDUP(C21*D21,0) -> 2803 | C21: =B10 -> 3113965 | D21: 0.0009 | E21: (기본급+제수당) x (0.09/100) | F21: 임금채권보장법 제8조 | G21: =B21*2*12 -> 67272
A22: 합 계 | B22: =SUM(B16:B21) -> 347752 | G22: =B22*2*12 -> 8346048
A24: [복리후생비]
A25: 구 분 | B25: 금액 | C25: 단가 | D25: 수량 | E25: 산출근거 | F25: 비고
A26: 복리후생비 | B26: =ROUNDDOWN(C26*D26,0) -> 100000 | C26: 100000 | D26: 1 | E26: 100,000원 x1개월 | F26: 2027년 복리후생비 100,000원 | G26: =C26*H4 -> 87259.682
A27: 합 계 | B27: =B26 -> 100000 | G27: =(365-52-52)/12 -> 21.75
A29: 1개월/1인 총 계 | B29: =ROUNDDOWN(SUM(B12,B22,B27),0) -> 3821214 | G29: =(B12+B22+B27)*2*12 -> 91709138

Sheet 모니터링요원(조장)(총괄)
A1: 모니터링 요원(조장) 산출내역서(총괄)
A3: [ 인건비]
A4: 구 분 | B4: 금액 | C4: 단가 | D4: 개월수 | E4: 인원 | F4: 비고
A5: 기본급 | B5: =SUM(C5*D5*E5) -> 101178000 | C5: ='모니터링 요원(조장) 내역서(1인당)'!B5 -> 2107875 | D5: 12 | E5: 4
A6: 야간근로수당 | B6: =SUM(C6*D6*E6) -> 16976160 | C6: ='모니터링 요원(조장) 내역서(1인당)'!B6 -> 353670 | D6: 12 | E6: 4 | F6: 야간 근무 시간 22:00 ~ 06:00
A7: 연 차 수 당 | B7: =SUM(C7*D7*E7) -> 4149696 | C7: ='모니터링 요원(조장) 내역서(1인당)'!B10 -> 86452 | D7: 12 | E7: 4
A8: 유급휴일수당 | B8: =SUM(C8*D8*E8) -> 18849600 | C8: ='모니터링 요원(조장) 내역서(1인당)'!B7 -> 392700 | D8: 12 | E8: 4
A9: 특별작업수당 | B9: =C9*D9*E9 -> 2400000 | C9: ='모니터링 요원(조장) 내역서(1인당)'!B11 -> 50000 | D9: 12 | E9: 4 | F9: 조장 4명
A10: 연장근로수당 | B10: =C10*D10*E10 -> 2122176 | C10: ='모니터링 요원(조장) 내역서(1인당)'!B8 -> 44212 | D10: 12 | E10: 4
A11: 근로자의날 수당 | B11: =C11*D11*E11 -> 0 | C11: ='모니터링 요원(조장) 내역서(1인당)'!B9 -> 0 | D11: 12 | E11: 4
A12: 연수령액 | B12: =SUM(B5:B11) -> 145675632
A13: 퇴직충당금 | B13: =C13*D13*E13 -> 12139680 | C13: ='모니터링 요원(조장) 내역서(1인당)'!B13 -> 252910 | D13: 12 | E13: 4
A14: 합 계 | B14: =B12+B13 -> 157815312
A16: [ 경 비]
A17: 구 분 | B17: 금액 | C17: 노무비 | D17: 요 율 | F17: 비고
A18: 국민연금 | B18: =ROUNDUP(C18*D18,0) -> 7283782 | C18: =SUM(B12) -> 145675632 | D18: 0.05 | F18: (기본급+제수당) x (5/100)
A19: 건강보험 | B19: =ROUNDUP(C19*D19,0) -> 5237039 | C19: =B12 -> 145675632 | D19: 0.03595 | F19: (기본급+제수당) x (3.595/100)
A20: 산재보험 | B20: =ROUNDUP(C20*D20,0) -> 1252811 | C20: =B12 -> 145675632 | D20: 0.0086 | F20: (기본급+제수당) x (0.86/100)
A21: 고용보험 | B21: =ROUNDUP(C21*D21,0) -> 1675270 | C21: =B12 -> 145675632 | D21: 0.0115 | F21: (기본급+제수당) x (1.15/100)
A22: 노인장기요양보험 | B22: =ROUNDUP(C22*D22,0) -> 688147 | C22: =B19 -> 5237039 | D22: 0.1314 | F22: 건강보험료 x (13.14/100)
A23: 임금채권 | B23: =ROUNDUP(C23*D23,0) -> 131109 | C23: =B12 -> 145675632 | D23: 0.0009 | F23: (기본급+제수당) x (0.09/100)
A24: 합 계 | B24: =SUM(B18:B23) -> 16268158 | G24: ='모니터링 요원(조장) 내역서(1인당)'!B24*12*5 -> 20335380
A26: [ 복리후생비]
A27: 구 분 | B27: 금액 | C27: 단가 | D27: 개월수 | E27: 인원 | F27: 비고
A28: 복리후생비 | B28: =SUM(C28*D28*E28) -> 4800000 | C28: 100000 | D28: 12 | E28: =E5 -> 4
A29: 합 계 | B29: =B28 -> 4800000
A31: 12개월/4명 총 계 | B31: =SUM(B14,B24,B29) -> 178883470

Sheet 모니터링 요원(조장) 내역서(1인당)
A1: 모니터링 요원(조장) 내역서(1인당)
A3: [인건비] | F3: (단위 :1개월/인당)
A4: 구 분 | B4: 금액 | C4: 단가 | D4: 수량 | E4: 산출근거 | F4: 비고 | G4: 74590 | H4: =823838732/944123000 -> 0.87259682 | I4: =G4*H4 -> 65086.997 | J4: =I4/8 -> 8135.8746
A5: 기본급 | B5: =ROUNDDOWN(C5*D5,0) -> 2107875 | C5: ='(참고)생활임금적용'!$G$17 -> 11550 | D5: =(8+8+8+0)/4*365/12 -> 182.5 | E5: 시급 x 근로시간 365일*8*3/4일/12개월=182.5 | F5: 2027년 통합관제센터 적용노임(하남시생활임금예상액)= 11,550원
A6: 야간근로수당 | B6: =ROUNDDOWN((C6*D6)*50%,0) -> 353670 | C6: =ROUNDDOWN(($C$5*209+$B$11)/209,0) -> 11789 | D6: =ROUNDDOWN(8/4*365/12,0) -> 60 | E6: 통상임금 x 근무시간 x 50% | F6: 근로기준법 제56조 | G6: =ROUNDUP(7/4*365/12,0) -> 54
A7: 유급휴일수당 | B7: =ROUNDDOWN(C7*D7,0) -> 392700 | C7: ='(참고)생활임금적용'!$G$17 -> 11550 | D7: =ROUNDDOWN((8*52)/12,0) -> 34 | E7: 시급X8시간X52주/12개월 | F7: 근로기준법 제55조,제18조 | G7: =D5+D7 -> 216.5
A8: 연장근로수당 | B8: =ROUNDDOWN(C8*D8*50%,0) -> 44212 | C8: =ROUNDUP(($C$5*209+$B$11)/209,0) -> 11790 | D8: =G7-209 -> 7.5 | E8: 통상임금 x 연장시간 x 50%
A9: 근로자의날 수당 | B9: =C9*D9*150% -> 0 | D9: =ROUNDDOWN(8/12,3) -> 0.666 | E9: 통상임금x150%
A10: 연 차 수 당 | B10: =ROUNDDOWN(C10*8*D10/12,0) -> 86452 | C10: =ROUNDDOWN(($C$5*209+$B$11)/209,0) -> 11789 | D10: 11 | E10: 통상임금 x 11일/12월 | F10: 근로기준법 제60조5항
A11: 특별작업수당 | B11: =C11*D11 -> 50000 | C11: 50000 | D11: 1 | E11: 월정액50,000원 | F11: 하남시 공무직 보수규정 제5조
A12: 월수령액 | B12: =SUM(B5:B11) -> 3034909
A13: 퇴직충당금 | B13: =ROUNDUP(B12/12,0) -> 252910 | E13: 월수령액/12 | F13: 근로자 퇴직급여 보장법 제8조 | G13: =2615414 -> 2615414
A14: 합 계 | B14: =B12+B13 -> 3287819 | G14: =G13*H4 -> 2282202
G15: =B14*12*5 -> 197269140
A16: [경 비]
A17: 구 분 | B17: 금액 | C17: 단가 | D17: 수량 | E17: 산출근거 | F17: 비고
A18: 국민연금 | B18: =ROUNDUP(C18*D18,0) -> 151746 | C18: =B12 -> 3034909 | D18: 0.05 | E18: (기본급+제수당) x (5/100) | F18: 국민연금법 제88조
A19: 건강보험 | B19: =ROUNDUP(C19*D19,0) -> 109105 | C19: =B12 -> 3034909 | D19: 0.03595 | E19: (기본급+제수당) x (3.595/100) | F19: 국민건강보험법 제62조 및 시행령 제36조
A20: 산재보험 | B20: =ROUNDUP(C20*D20,0) -> 26101 | C20: =B12 -> 3034909 | D20: 0.0086 | E20: (기본급+제수당) x (0.86/100) | F20: 고용보험및산업재해보상보험의 보험료 징수등에 관한법률시행령 제12조 ※ 출퇴근 중 발생한 재해 0.06% 포함
A21: 고용보험 | B21: =ROUNDUP(C21*D21,0) -> 34902 | C21: =B12 -> 3034909 | D21: 0.0115 | E21: (기본급+제수당) x (1.15/100) | F21: 고용보험및산업재해보상보험의 보험료 징수등에 관한법률시행령 제12조
A22: 노인장기요양보험 | B22: =ROUNDUP(C22*D22,0) -> 14337 | C22: =B19 -> 109105 | D22: 0.1314 | E22: 건강보험료 x (13.14/100) | F22: 노인장기요양보험법 제9조
A23: 임금채권 | B23: =ROUNDUP(C23*D23,0) -> 2732 | C23: =B12 -> 3034909 | D23: 0.0009 | E23: (기본급+제수당) x (0.09/100) | F23: 임금채권보장법 제8조
A24: 합 계 | B24: =SUM(B18:B23) -> 338923 | G24: =B24*12*5 -> 20335380
A26: [복리후생비]
A27: 구 분 | B27: 금액 | C27: 단가 | D27: 수량 | E27: 산출근거 | F27: 비고
A28: 복리후생비 | B28: =ROUNDDOWN(C28*D28,0) -> 100000 | C28: 100000 | D28: 1 | E28: 100,000원 x1개월 | F28: 2027년 복리후생비 100,000원
A29: 합 계 | B29: =B28 -> 100000
A31: 1개월/1인 총 계 | B31: =ROUNDDOWN(SUM(B14,B24,B29),0) -> 3726742 | E31: =B31*12*5 -> 223604520

Sheet 모니터링요원(총괄)
A1: 모니터링 요원 산출내역서(총괄)
A3: [ 인건비]
A4: 구 분 | B4: 금액 | C4: 단가 | D4: 개월수 | E4: 인원 | F4: 비고
A5: 기본급 | B5: =SUM(C5*D5*E5) -> 404712000 | C5: ='모니터링 요원 내역서(1인당)'!B5 -> 2107875 | D5: 12 | E5: 16
A6: 야간근로수당 | B6: =SUM(C6*D6*E6) -> 66528000 | C6: ='모니터링 요원 내역서(1인당)'!B6 -> 346500 | D6: 12 | E6: 16 | F6: 야간 근무 시간 22:00 ~ 06:00
A7: 연 차 수 당 | B7: =SUM(C7*D7*E7) -> 0 | C7: ='모니터링 요원 내역서(1인당)'!B10 -> 0 | D7: 12 | E7: 16
A8: 유급휴일수당 | B8: =SUM(C8*D8*E8) -> 75398400 | C8: ='모니터링 요원 내역서(1인당)'!B7 -> 392700 | D8: 12 | E8: 16
A9: 연장근로수당 | B9: =SUM(C9*D9*E9) -> 8315904 | C9: ='모니터링 요원 내역서(1인당)'!B8 -> 43312 | D9: 12 | E9: 16
A10: 근로자의날 수당 | B10: =SUM(C10*D10*E10) -> 0 | C10: ='모니터링 요원 내역서(1인당)'!B9 -> 0 | D10: 12 | E10: 16
A11: 연수령액 | B11: =SUM(B5:B10) -> 554954304
A12: 퇴직충당금 | B12: =SUM(C12*D12*E12) -> 46246272 | C12: ='모니터링 요원 내역서(1인당)'!B12 -> 240866 | D12: 12 | E12: 16
A13: 합 계 | B13: =SUM(B11:B12) -> 601200576 | G13: =C13*12*15 -> 0
A15: [ 경 비]
A16: 구 분 | B16: 금액 | C16: 노무비 | D16: 요 율 | F16: 비고
A17: 국민연금 | B17: =ROUNDUP(C17*D17,0) -> 27747716 | C17: =SUM(B11) -> 554954304 | D17: 0.05 | F17: (기본급+제수당) x (5/100)
A18: 건강보험 | B18: =ROUNDUP(C18*D18,0) -> 19950608 | C18: =B11 -> 554954304 | D18: 0.03595 | F18: (기본급+제수당) x (3.595/100)
A19: 산재보험 | B19: =ROUNDUP(C19*D19,0) -> 4772608 | C19: =B11 -> 554954304 | D19: 0.0086 | F19: (기본급+제수당) x (0.86/100)
A20: 고용보험 | B20: =ROUNDUP(C20*D20,0) -> 6381975 | C20: =B11 -> 554954304 | D20: 0.0115 | F20: (기본급+제수당) x (1.15/100)
A21: 노인장기요양보험 | B21: =ROUNDUP(C21*D21,0) -> 2621510 | C21: =B18 -> 19950608 | D21: 0.1314 | F21: 건강보험료 x (13.14/100)
A22: 임금채권 | B22: =ROUNDUP(C22*D22,0) -> 499459 | C22: =B11 -> 554954304 | D22: 0.0009 | F22: (기본급+제수당) x (0.09/100)
A23: 합 계 | B23: =SUM(B17:B22) -> 61973876 | G23: ='모니터링 요원 내역서(1인당)'!B23*12*15 -> 58101120
A25: [ 복리후생비]
A26: 구 분 | B26: 금액 | C26: 단가 | D26: 개월수 | E26: 인원 | F26: 비고
A27: 복리후생비 | B27: =SUM(C27*D27*E27) -> 19200000 | C27: 100000 | D27: 12 | E27: =E5 -> 16
A28: 합 계 | B28: =B27 -> 19200000 | G28: ='모니터링 요원 내역서(1인당)'!B28*12*15 -> 18000000
A30: 12개월/16명 총 계 | B30: =SUM(B13,B23,B28) -> 682374452 | G30: =G13+G23+G28 -> 76101120

Sheet 모니터링 요원  내역서(1인당)
A1: 모니터링 요원 내역서(1인당)
A3: [인건비] | F3: (단위 :1개월/인당)
A4: 구 분 | B4: 금액(원) | C4: 단가(원) | D4: 수량 | E4: 산출근거 | F4: 비고 | G4: 74590 | H4: =823838732/944123000 -> 0.87259682 | I4: =G4*H4 -> 65086.997 | J4: =I4/8 -> 8135.8746
A5: 기본급 | B5: =ROUNDDOWN(C5*D5,0) -> 2107875 | C5: ='(참고)생활임금적용'!$G$17 -> 11550 | D5: =(8+8+8+0)/4*365/12 -> 182.5 | E5: 시급 x 근로시간 365일*8시간*3/4일/12개월=182.5 | F5: 2027년 통합관제센터 적용노임(하남시생활임금예상액) = 11,550원
A6: 야간근로수당 | B6: =ROUNDDOWN((C6*D6)*50%,0) -> 346500 | C6: 11550 | D6: =ROUNDDOWN(8/4*365/12,0) -> 60 | E6: 통상임금 x 근무시간 x 50% | F6: 근로기준법 제56조 | I6: =10940*1.05 -> 11487
A7: 유급휴일수당 | B7: =ROUNDDOWN(C7*D7,0) -> 392700 | C7: ='(참고)생활임금적용'!$G$17 -> 11550 | D7: =ROUNDDOWN((8*52)/12,0) -> 34 | E7: 시급X8시간X52주/12개월 | F7: 근로기준법 제55조,제18조 | G7: =D5+D7 -> 216.5 | I7: 11210 | J7: X | K7: 0.87995
A8: 연장근로수당 | B8: =ROUNDDOWN(C8*D8*50%,0) -> 43312 | C8: ='(참고)생활임금적용'!$G$17 -> 11550 | D8: =G7-209 -> 7.5 | E8: 통상임금 x 연장시간 x 50% | I8: =I7/87.995% -> 12739.36
A9: 근로자의 날 수당 | B9: =ROUNDDOWN(C9*D9*150%,0) -> 0 | D9: =ROUNDDOWN(8/12,3) -> 0.666 | E9: 통상임금x150% | I9: =SUM(I8-I7) -> 1529.3602
A10: 연 차 수 당 | B10: =ROUNDDOWN(C10*8*D10/12,0) -> 0 | D10: 11 | E10: 통상임금 x 11일/12월 | F10: 근로기준법 제60조5항 | G10: =B10*12 -> 0
A11: 월수령액 | B11: =SUM(B5:B10) -> 2890387
A12: 퇴직충당금 | B12: =ROUNDUP(B11/12,0) -> 240866 | E12: 월수령액/12 | F12: 근로자 퇴직급여 보장법 제8조 | G12: 2526528
A13: 합 계 | B13: =B11+B12 -> 3131253 | G13: =G12*H4 -> 2204640.3
G14: =B13*12*15 -> 563625540
A15: [경 비]
A16: 구 분 | B16: 금액 | C16: 단가 | D16: 수량 | E16: 산출근거 | F16: 비고
A17: 국민연금 | B17: =ROUNDUP(C17*D17,0) -> 144520 | C17: =B11 -> 2890387 | D17: 0.05 | E17: (기본급+제수당) x (5/100) | F17: 국민연금법 제88조 | G17: =B11*4.5% -> 130067.41 | H17: =5/100 -> 0.05
A18: 건강보험 | B18: =ROUNDUP(C18*D18,0) -> 103910 | C18: =B11 -> 2890387 | D18: 0.03595 | E18: (기본급+제수당) x (3.595/100) | F18: 국민건강보험법 제69조 및 시행령 제44조 | G18: =B11*3.12% -> 90180.074 | H18: =3.595/100 -> 0.03595
A19: 산재보험 | B19: =ROUNDUP(C19*D19,0) -> 24858 | C19: =B11 -> 2890387 | D19: 0.0086 | E19: (기본급+제수당) x (0.86/100) | F19: 고용보험및산업재해보상보험의 보험료 징수등에 관한법률시행령 제12조 ※ 출퇴근 중 발생한 재해 0.06% 포함
A20: 고용보험 | B20: =ROUNDUP(C20*D20,0) -> 33240 | C20: =B11 -> 2890387 | D20: 0.0115 | E20: (기본급+제수당) x (1.15/100) | F20: 고용보험및산업재해보상보험의 보험료 징수등에 관한법률시행령 제12조
A21: 노인장기요양보험 | B21: =ROUNDUP(C21*D21,0) -> 13654 | C21: =B18 -> 103910 | D21: 0.1314 | E21: 건강보험료 x (13.14/100) | F21: 노인장기요양보험법 제9조
A22: 임금채권 | B22: =ROUNDUP(C22*D22,0) -> 2602 | C22: =B11 -> 2890387 | D22: 0.0009 | E22: (기본급+제수당) x (0.09/100) | F22: 임금채권보장법 제8조
A23: 합 계 | B23: =SUM(B17:B22) -> 322784
A25: [복리후생비]
A26: 구 분 | B26: 금액 | C26: 단가 | D26: 수량 | E26: 산출근거 | F26: 비고
A27: 복리후생비 | B27: =ROUNDDOWN(C27*D27,0) -> 100000 | C27: 100000 | D27: 1 | E27: 100,000원 x1개월 | F27: 2027년 복리후생비 100,000원
A28: 합 계 | B28: =B27 -> 100000
A30: 1개월/1인 총 계 | B30: =SUM(B13,B23,B28) -> 3554037

Sheet (참고)생활임금적용
B2: 2024년 하남시 생활임금 : 시간급 10,850원(월 2,267,650원) | I2: 10850 | K2: =I2*209 -> 2267650 | M2: 110 | O2: =SUM(I2-I3) -> 990
B3: ※ 2024년 최저임금(9,860원)대비 110% 수준 | I3: 9860
B4: `24.1.1. ~ 12.31.
B5: `24.1.1. ~ 12.31.
I6: 10940 | K6: =I6*209 -> 2286460 | M6: 109 | O6: =SUM(I6-I7) -> 910
B7: 2025년 하남시 생활임금 : 시간급 10,940원(월 2,286,460원) | I7: 10030
B8: ※ 2025년 최저임금(10,030원)대비 109% 수준
B9: `25.1.1. ~ 12.31.
I10: 11210 | K10: =I10*209 -> 2342890 | M10: 109 | O10: =SUM(I10-I11) -> 890
B11: 2026년 하남시 생활임금 : 시간급 11,210원(월 2,342,890원) | I11: 10320
B12: ※ 2026년 최저임금(10,320원)대비 109% 수준
B13: `26.1.1. ~ 12.31.
I14: 11540 | K14: 2411860 | M14: 110 | O14: =SUM(I14-#REF!) -> #REF!
B15: 2027년 하남시 생활임금 : 시간급 11,550원
C16: 생활임금 | G16: 생활임금(입찰액)
A17: =G17*87.995% -> 10163.423 | C17: 11550 | G17: =ROUNDUP(C17+E17,0) -> 11550 | I17: 10700
