Workbook

Sheet 원가계산서
A1: 공 사 원 가 계 산 서
A2: 공사명 : 2026년 태백산국립공원 하늘전망대 야간조명 설치공사
A3: 구 분 비 목 | D3: 구 성 비 | E3: 금 액 | F3: 비 고
A5: 순 공 사 원 가 | B5: 재료비 | C5: 직 접 재 료 비 | E5: =ROUNDDOWN(집계표!E20-집계표!AU20, 0) -> 0 | G5: A1 | H5: 0 | I5: =E5 -> 0
C6: 간 접 재 료 비 | E6: =ROUNDDOWN(E5*H6, 0) -> 0 | G6: A2 | H6: 0 | I6: =E6 -> 0
C7: 소 계 | E7: =SUM(E5:E5)-ABS(0) -> 0 | G7: A | H7: 0 | I7: =E7 -> 0
B8: 노무비 | C8: 직 접 노 무 비 | E8: =ROUNDDOWN(집계표!G20, 0) -> 0 | G8: B1 | H8: 0 | I8: =E8 -> 0
C9: 간 접 노 무 비 | D9: 직.노*19.1% | E9: =ROUNDDOWN(E8*H9, 0) -> 0 | G9: B2 | H9: 0.191 | I9: =E9 -> 0
C10: 소 계 | E10: =SUM(E8:E9) -> 0 | G10: B | H10: 0 | I10: =E10 -> 0
B11: 경 비 | C11: 기 계 경 비 | E11: =ROUNDDOWN(집계표!I20, 0) -> 0 | G11: C4 | H11: 0 | I11: =E11 -> 0
C12: 산 재 보 험 료 | D12: (노)*3.56% | E12: =ROUNDDOWN((E10)*H12, 0) -> 0 | G12: C10 | H12: 0.0356 | I12: =E12 -> 0
C13: 고 용 보 험 료 | D13: (노)*1.01% | E13: =ROUNDDOWN((E10)*H13, 0) -> 0 | G13: C11 | H13: 0.0101 | I13: =E13 -> 0
C14: 건 강 보 험 료 | D14: (직.노)*3.595% | E14: =ROUNDDOWN((E8)*H14, 0) -> 0 | G14: C12 | H14: 0.03595 | I14: =E14 -> 0
C15: 연 금 보 험 료 | D15: (직.노)*4.75% | E15: =ROUNDDOWN((E8)*H15, 0) -> 0 | G15: C13 | H15: 0.0475 | I15: =E15 -> 0
C16: 노인 장기 요양보험료 | D16: (건강보험료)*13.14% | E16: =ROUNDDOWN((E14)*H16, 0) -> 0 | G16: C14 | H16: 0.1314 | I16: =E16 -> 0
C17: 퇴 직 공 제 부 금 비 | D17: (직.노)*2.3% | E17: =ROUNDDOWN((E8)*H17, 0) -> 0 | G17: C15 | H17: 0.023 | I17: =E17 -> 0
C18: 산업 안전 보건관리비 | D18: (재+직.노+(관급-300,672)/1.1)*2.07% > (재+직.노)*2.07%*1.2 | E18: =ROUNDDOWN((E7+E8)*H18*1.2, 0) -> 0 | G18: C16 | H18: 0.0207 | I18: =E18 -> 0
C19: 기 타 경 비 | D19: (재+노)*5.5% | E19: =ROUNDDOWN((E7+E10)*H19, 0) -> 0 | G19: C20 | H19: 0.055 | I19: =E19 -> 0
C20: 석 면 분 담 금 | D20: 노*0.006% | E20: =ROUNDDOWN(E10*H20, 0) -> 0 | G20: C21 | H20: 6e-05 | I20: =E20 -> 0
C21: 임금 채권 부담금 | D21: 노*0.09% | E21: =ROUNDDOWN(E10*H21, 0) -> 0 | G21: C22 | H21: 0.0009 | I21: =E21 -> 0
C22: 소 계 | E22: =SUM(E11:E21) -> 0 | G22: C | H22: 0 | I22: =E22 -> 0
B23: 계 | E23: =E7+E10+E22 -> 0 | G23: X | H23: 0 | I23: =E23 -> 0
A24: 일 반 관 리 비 | D24: (재+노+경)*8% | E24: =ROUNDDOWN((E7+E10+E22)*H24, 0) -> 0 | G24: D | H24: 0.08 | I24: =E24 -> 0
A25: 이 윤 | D25: (노+경+일)*15% | E25: =ROUNDDOWN((E10+E22+E24)*H25, 0) -> 0 | G25: E | H25: 0.15 | I25: =(I10+I22+I24)*H25 -> 0
A26: 총 원 가 | E26: =SUM(E23:E25) -> 0 | G26: F | H26: 0 | I26: =SUM(I23:I25) -> 0
A27: 전기공사 손해배상보험료 | D27: (총원가+관급)*0.26477% | G27: L1 | H27: 0.0026477 | I27: =E27 -> 0
A28: 부 가 가 치 세 | D28: (총원가+사용자항목8)*10% | G28: H | H28: 0.1 | I28: =ROUNDDOWN((I26+I27)*H28, 0)+71031 -> 71031 | J28: 31
A29: 도 급 금 액 | G29: Y | H29: 0 | I29: =I26+I28+710000 -> 781031
A30: 관 급 자 재 대 | G30: J | H30: 0 | I30: =E30 -> 0
A31: 총 공 사 금 액 | H31: 0 | I31: =I29+I30+0+0+0+0 -> 781031

Sheet 집계표
A1: 공 사 집 계 표
A2: 공사명 : 2026년 태백산국립공원 하늘전망대 야간조명 설치공사
A3: 품 명 | B3: 단위 | C3: 수량 | D3: 재 료 비 | F3: 노 무 비 | H3: 경 비 | J3: 합 계 | L3: 비고
D4: 단 가 | E4: 금 액 | F4: 단 가 | G4: 금 액 | H4: 단 가 | I4: 금 액 | J4: 단 가 | K4: 금 액 | M4: 손료요율 | N4: 손료구분 | O4: 적용구분 | P4: 합계구분 | Q4: 기계경비 | R4: 운반비 | S4: 작업부산물 | T4: 관급 | U4: 외주비 | V4: 장비비 | W4: 폐기물처리비 | X4: 가설비 | Y4: 잡비제외분 | Z4: 사급자재대 | AA4: 관급자재대 | AB4: 한전불입금 | AC4: 사용자항목2 | AD4: 안전관리비 | AE4: 품질관리비 | AF4: 작업부산물(철거해체) | AG4: 사용자항목6 | AH4: 전기공사 손해배상보험료 | AI4: 사용자항목8 | AJ4: 사용자항목9 | AK4: 사용자항목10 | AL4: 사용자항목11 | AM4: 사용자항목12 | AN4: 사용자항목13 | AO4: 사용자항목14 | AP4: 사용자항목15 | AQ4: 사용자항목16 | AR4: 사용자항목17 | AS4: 사용자항목18 | AT4: 사용자항목19 | AU4: 간접재료비 | AV4: 품목구분 | AW4: 조달코드 | AX4: 구분
A5: 01. 도급공사 | B5: 식 | C5: 1 | P5: 1 | Q5: =C5*Q36 -> 0 | R5: =C5*R36 -> 0 | S5: =C5*S36 -> 0 | T5: =C5*T36 -> 0 | U5: =C5*U36 -> 0 | V5: =C5*V36 -> 0 | W5: =C5*W36 -> 0 | X5: =C5*X36 -> 0 | Y5: =C5*Y36 -> 0 | Z5: =C5*Z36 -> 0 | AA5: =C5*AA36 -> 0 | AB5: =C5*AB36 -> 0 | AC5: =C5*AC36 -> 0 | AD5: =C5*AD36 -> 0 | AE5: =C5*AE36 -> 0 | AF5: =C5*AF36 -> 0 | AG5: =C5*AG36 -> 0 | AH5: =C5*AH36 -> 0 | AI5: =C5*AI36 -> 0 | AJ5: =C5*AJ36 -> 0 | AK5: =C5*AK36 -> 0 | AL5: =C5*AL36 -> 0 | AM5: =C5*AM36 -> 0 | AN5: =C5*AN36 -> 0 | AO5: =C5*AO36 -> 0 | AP5: =C5*AP36 -> 0 | AQ5: =C5*AQ36 -> 0 | AR5: =C5*AR36 -> 0 | AS5: =C5*AS36 -> 0 | AT5: =C5*AT36 -> 0 | AU5: =C5*AU36 -> 0
A6: 02. 관급자재 | B6: 식 | C6: 1 | Q6: =C6*Q52 -> 0 | R6: =C6*R52 -> 0 | S6: =C6*S52 -> 0 | T6: =C6*T52 -> 0 | U6: =C6*U52 -> 0 | V6: =C6*V52 -> 0 | W6: =C6*W52 -> 0 | X6: =C6*X52 -> 0 | Y6: =C6*Y52 -> 0 | Z6: =C6*Z52 -> 0 | AA6: =C6*AA52 -> 0 | AB6: =C6*AB52 -> 0 | AC6: =C6*AC52 -> 0 | AD6: =C6*AD52 -> 0 | AE6: =C6*AE52 -> 0 | AF6: =C6*AF52 -> 0 | AG6: =C6*AG52 -> 0 | AH6: =C6*AH52 -> 0 | AI6: =C6*AI52 -> 0 | AJ6: =C6*AJ52 -> 0 | AK6: =C6*AK52 -> 0 | AL6: =C6*AL52 -> 0 | AM6: =C6*AM52 -> 0 | AN6: =C6*AN52 -> 0 | AO6: =C6*AO52 -> 0 | AP6: =C6*AP52 -> 0 | AQ6: =C6*AQ52 -> 0 | AR6: =C6*AR52 -> 0 | AS6: =C6*AS52 -> 0 | AT6: =C6*AT52 -> 0 | AU6: =C6*AU52 -> 0
A20: 합 계 | Q20: =SUM(Q5:Q6) -> 0 | R20: =SUM(R5:R6) -> 0 | S20: =SUM(S5:S6) -> 0 | T20: =SUM(T5:T6) -> 0 | U20: =SUM(U5:U6) -> 0 | V20: =SUM(V5:V6) -> 0 | W20: =SUM(W5:W6) -> 0 | X20: =SUM(X5:X6) -> 0 | ... AX20: =SUM(AX5:AX6) -> 0
A21: 01. 도급공사
A22: 0101. 공통사항 | B22: 식 | C22: 1 | P22: 1 | Q22: =C22*내역서!R20 -> 0 | R22: =C22*내역서!S20 -> 0 | S22: =C22*내역서!T20 -> 0 | T22: =C22*내역서!U20 -> 0 | U22: =C22*내역서!V20 -> 0 | V22: =C22*내역서!W20 -> 0 | W22: =C22*내역서!X20 -> 0 | X22: =C22*내역서!Y20 -> 0 | Y22: =C22*내역서!Z20 -> 0 | Z22: =C22*내역서!AA20 -> 0 | AA22: =C22*내역서!AB20 -> 0 | AB22: =C22*내역서!AC20 -> 0 | AC22: =C22*내역서!AD20 -> 0 | AD22: =C22*내역서!AE20 -> 0 | AE22: =C22*내역서!AF20 -> 0 | AF22: =C22*내역서!AG20 -> 0 | AG22: =C22*내역서!AH20 -> 0 | AH22: =C22*내역서!AI20 -> 0 | AI22: =C22*내역서!AJ20 -> 0 | AJ22: =C22*내역서!AK20 -> 0 | AK22: =C22*내역서!AL20 -> 0 | AL22: =C22*내역서!AM20 -> 0 | AM22: =C22*내역서!AN20 -> 0 | AN22: =C22*내역서!AO20 -> 0 | AO22: =C22*내역서!AP20 -> 0 | AP22: =C22*내역서!AQ20 -> 0 | AQ22: =C22*내역서!AR20 -> 0 | AR22: =C22*내역서!AS20 -> 0 | AS22: =C22*내역서!AT20 -> 0 | AT22: =C22*내역서!AU20 -> 0 | AU22: =C22*내역서!AV20 -> 0
A23: 0102. 데크 라인 조명 - 1 | B23: 식 | C23: 1 | P23: 1 | Q23: =C23*내역서!R52 -> 0 | R23: =C23*내역서!S52 -> 0 | S23: =C23*내역서!T52 -> 0 | T23: =C23*내역서!U52 -> 0 | U23: =C23*내역서!V52 -> 0 | V23: =C23*내역서!W52 -> 0 | W23: =C23*내역서!X52 -> 0 | X23: =C23*내역서!Y52 -> 0 | Y23: =C23*내역서!Z52 -> 0 | Z23: =C23*내역서!AA52 -> 0 | AA23: =C23*내역서!AB52 -> 0 | AB23: =C23*내역서!AC52 -> 0 | AC23: =C23*내역서!AD52 -> 0 | AD23: =C23*내역서!AE52 -> 0 | AE23: =C23*내역서!AF52 -> 0 | AF23: =C23*내역서!AG52 -> 0 | AG23: =C23*내역서!AH52 -> 0 | AH23: =C23*내역서!AI52 -> 0 | AI23: =C23*내역서!AJ52 -> 0 | AJ23: =C23*내역서!AK52 -> 0 | AK23: =C23*내역서!AL52 -> 0 | AL23: =C23*내역서!AM52 -> 0 | AM23: =C23*내역서!AN52 -> 0 | AN23: =C23*내역서!AO52 -> 0 | AO23: =C23*내역서!AP52 -> 0 | AP23: =C23*내역서!AQ52 -> 0 | AQ23: =C23*내역서!AR52 -> 0 | AR23: =C23*내역서!AS52 -> 0 | AS23: =C23*내역서!AT52 -> 0 | AT23: =C23*내역서!AU52 -> 0 | AU23: =C23*내역서!AV52 -> 0
A24: 0103. 데크 라인 조명 - 2 | B24: 식 | C24: 1 | P24: 1 | Q24: =C24*내역서!R68 -> 0 | R24: =C24*내역서!S68 -> 0 | S24: =C24*내역서!T68 -> 0 | T24: =C24*내역서!U68 -> 0 | U24: =C24*내역서!V68 -> 0 | V24: =C24*내역서!W68 -> 0 | W24: =C24*내역서!X68 -> 0 | X24: =C24*내역서!Y68 -> 0 | Y24: =C24*내역서!Z68 -> 0 | Z24: =C24*내역서!AA68 -> 0 | AA24: =C24*내역서!AB68 -> 0 | AB24: =C24*내역서!AC68 -> 0 | AC24: =C24*내역서!AD68 -> 0 | AD24: =C24*내역서!AE68 -> 0 | AE24: =C24*내역서!AF68 -> 0 | AF24: =C24*내역서!AG68 -> 0 | AG24: =C24*내역서!AH68 -> 0 | AH24: =C24*내역서!AI68 -> 0 | AI24: =C24*내역서!AJ68 -> 0 | AJ24: =C24*내역서!AK68 -> 0 | AK24: =C24*내역서!AL68 -> 0 | AL24: =C24*내역서!AM68 -> 0 | AM24: =C24*내역서!AN68 -> 0 | AN24: =C24*내역서!AO68 -> 0 | AO24: =C24*내역서!AP68 -> 0 | AP24: =C24*내역서!AQ68 -> 0 | AQ24: =C24*내역서!AR68 -> 0 | AR24: =C24*내역서!AS68 -> 0 | AS24: =C24*내역서!AT68 -> 0 | AT24: =C24*내역서!AU68 -> 0 | AU24: =C24*내역서!AV68 -> 0
A25: 0104. 전망대 라인 조명 | B25: 식 | C25: 1 | P25: 1 | Q25: =C25*내역서!R100 -> 0 | R25: =C25*내역서!S100 -> 0 | S25: =C25*내역서!T100 -> 0 | T25: =C25*내역서!U100 -> 0 | U25: =C25*내역서!V100 -> 0 | V25: =C25*내역서!W100 -> 0 | W25: =C25*내역서!X100 -> 0 | X25: =C25*내역서!Y100 -> 0 | Y25: =C25*내역서!Z100 -> 0 | Z25: =C25*내역서!AA100 -> 0 | AA25: =C25*내역서!AB100 -> 0 | AB25: =C25*내역서!AC100 -> 0 | AC25: =C25*내역서!AD100 -> 0 | AD25: =C25*내역서!AE100 -> 0 | AE25: =C25*내역서!AF100 -> 0 | AF25: =C25*내역서!AG100 -> 0 | AG25: =C25*내역서!AH100 -> 0 | AH25: =C25*내역서!AI100 -> 0 | AI25: =C25*내역서!AJ100 -> 0 | AJ25: =C25*내역서!AK100 -> 0 | AK25: =C25*내역서!AL100 -> 0 | AL25: =C25*내역서!AM100 -> 0 | AM25: =C25*내역서!AN100 -> 0 | AN25: =C25*내역서!AO100 -> 0 | AO25: =C25*내역서!AP100 -> 0 | AP25: =C25*내역서!AQ100 -> 0 | AQ25: =C25*내역서!AR100 -> 0 | AR25: =C25*내역서!AS100 -> 0 | AS25: =C25*내역서!AT100 -> 0 | AT25: =C25*내역서!AU100 -> 0 | AU25: =C25*내역서!AV100 -> 0
A36: 합 계 | Q36: =SUM(Q22:Q25) -> 0 | R36: =SUM(R22:R25) -> 0 | S36: =SUM(S22:S25) -> 0 | T36: =SUM(T22:T25) -> 0 | U36: =SUM(U22:U25) -> 0 | V36: =SUM(V22:V25) -> 0 | W36: =SUM(W22:W25) -> 0 | X36: =SUM(X22:X25) -> 0 | ... AX36: =SUM(AX22:AX25) -> 0
A37: 02. 관급자재
A38: 0201. 도급자 관급자재 | B38: 식 | C38: 1 | P38: 1 | Q38: =C38*내역서!R116 -> 0 | R38: =C38*내역서!S116 -> 0 | S38: =C38*내역서!T116 -> 0 | T38: =C38*내역서!U116 -> 0 | U38: =C38*내역서!V116 -> 0 | V38: =C38*내역서!W116 -> 0 | W38: =C38*내역서!X116 -> 0 | X38: =C38*내역서!Y116 -> 0 | Y38: =C38*내역서!Z116 -> 0 | Z38: =C38*내역서!AA116 -> 0 | AA38: =C38*내역서!AB116 -> 0 | AB38: =C38*내역서!AC116 -> 0 | AC38: =C38*내역서!AD116 -> 0 | AD38: =C38*내역서!AE116 -> 0 | AE38: =C38*내역서!AF116 -> 0 | AF38: =C38*내역서!AG116 -> 0 | AG38: =C38*내역서!AH116 -> 0 | AH38: =C38*내역서!AI116 -> 0 | AI38: =C38*내역서!AJ116 -> 0 | AJ38: =C38*내역서!AK116 -> 0 | AK38: =C38*내역서!AL116 -> 0 | AL38: =C38*내역서!AM116 -> 0 | AM38: =C38*내역서!AN116 -> 0 | AN38: =C38*내역서!AO116 -> 0 | AO38: =C38*내역서!AP116 -> 0 | AP38: =C38*내역서!AQ116 -> 0 | AQ38: =C38*내역서!AR116 -> 0 | AR38: =C38*내역서!AS116 -> 0 | AS38: =C38*내역서!AT116 -> 0 | AT38: =C38*내역서!AU116 -> 0 | AU38: =C38*내역서!AV116 -> 0
A52: 합 계 | Q52: =SUM(Q38:Q38) -> 0 | R52: =SUM(R38:R38) -> 0 | S52: =SUM(S38:S38) -> 0 | T52: =SUM(T38:T38) -> 0 | U52: =SUM(U38:U38) -> 0 | V52: =SUM(V38:V38) -> 0 | W52: =SUM(W38:W38) -> 0 | X52: =SUM(X38:X38) -> 0 | ... AX52: =SUM(AX38:AX38) -> 0

Sheet 내역서
A1: 공 사 내 역 서
A2: 공사명 : 2026년 태백산국립공원 하늘전망대 야간조명 설치공사
A3: 품 명 | B3: 규 격 | C3: 단위 | D3: 수 량 | E3: 재 료 비 | G3: 노 무 비 | I3: 경 비 | K3: 합 계 | M3: 비고
E4: 단 가 | F4: 금 액 | G4: 단 가 | H4: 금 액 | I4: 단 가 | J4: 금 액 | K4: 단 가 | L4: 금 액 | N4: 손료요율 | O4: 손료구분 | P4: 적용구분 | Q4: 합계구분 | R4: 기계경비 | S4: 운반비 | T4: 작업부산물 | U4: 관급 | V4: 외주비 | W4: 장비비 | X4: 폐기물처리비 | Y4: 가설비 | Z4: 잡비제외분 | AA4: 사급자재대 | AB4: 관급자재대 | AC4: 한전불입금 | AD4: 사용자항목2 | AE4: 안전관리비 | AF4: 품질관리비 | AG4: 작업부산물(철거해체) | AH4: 사용자항목6 | AI4: 전기공사 손해배상보험료 | AJ4: 사용자항목8 | AK4: 사용자항목9 | AL4: 사용자항목10 | AM4: 사용자항목11 | AN4: 사용자항목12 | AO4: 사용자항목13 | AP4: 사용자항목14 | AQ4: 사용자항목15 | AR4: 사용자항목16 | AS4: 사용자항목17 | AT4: 사용자항목18 | AU4: 사용자항목19 | AV4: 간접재료비 | AW4: 품목구분 | AX4: 조달코드 | AY4: 구분
A5: 0101. 공통사항
A6: SMPS 외함 | B6: STS 1.5T,600*930*250 | C6: 면 | D6: 2 | O6: ="" | P6: 기계경비 | Q6: 1 | R6: =IF(P6="기계경비", J6, 0) -> 0 | S6: =IF(P6="운반비", L6, 0) -> 0 | T6: =IF(P6="작업부산물", F6, 0) -> 0 | U6: =IF(P6="관급", F6, 0) -> 0 | V6: =IF(P6="외주비", J6, 0) -> 0 | W6: =IF(P6="장비비", J6, 0) -> 0 | X6: =IF(P6="폐기물처리비", L6, 0) -> 0 | Y6: =IF(P6="가설비", J6, 0) -> 0 | Z6: =IF(P6="잡비제외분", F6, 0) -> 0 | AA6: =IF(P6="사급자재대", L6, 0) -> 0 | AB6: =IF(P6="관급자재대", L6, 0) -> 0 | AC6: =IF(P6="한전불입금", L6, 0) -> 0 | AD6: =IF(P6="사용자항목2", L6, 0) -> 0 | AE6: =IF(P6="안전관리비", L6, 0) -> 0 | AF6: =IF(P6="품질관리비", L6, 0) -> 0 | AG6: =IF(P6="작업부산물(철거해체)", L6, 0) -> 0 | AH6: =IF(P6="사용자항목6", L6, 0) -> 0 | AI6: =IF(P6="전기공사 손해배상보험료", L6, 0) -> 0 | AJ6: =IF(P6="사용자항목8", L6, 0) -> 0 | AK6: =IF(P6="사용자항목9", L6, 0) -> 0 | AL6: =IF(P6="사용자항목10", L6, 0) -> 0 | AM6: =IF(P6="사용자항목11", L6, 0) -> 0 | AN6: =IF(P6="사용자항목12", L6, 0) -> 0 | AO6: =IF(P6="사용자항목13", L6, 0) -> 0 | AP6: =IF(P6="사용자항목14", L6, 0) -> 0 | AQ6: =IF(P6="사용자항목15", L6, 0) -> 0 | AR6: =IF(P6="사용자항목16", L6, 0) -> 0 | AS6: =IF(P6="사용자항목17", L6, 0) -> 0 | AT6: =IF(P6="사용자항목18", L6, 0) -> 0 | AU6: =IF(P6="사용자항목19", L6, 0) -> 0
A7: SMPS 외함 | B7: STS 1.5T,600*1130*250 | C7: 면 | D7: 1 | O7: ="" | P7: 기계경비 | Q7: 1 | R7: =IF(P7="기계경비", J7, 0) -> 0 | S7: =IF(P7="운반비", L7, 0) -> 0 | T7: =IF(P7="작업부산물", F7, 0) -> 0 | U7: =IF(P7="관급", F7, 0) -> 0 | V7: =IF(P7="외주비", J7, 0) -> 0 | W7: =IF(P7="장비비", J7, 0) -> 0 | X7: =IF(P7="폐기물처리비", L7, 0) -> 0 | Y7: =IF(P7="가설비", J7, 0) -> 0 | Z7: =IF(P7="잡비제외분", F7, 0) -> 0 | AA7: =IF(P7="사급자재대", L7, 0) -> 0 | AB7: =IF(P7="관급자재대", L7, 0) -> 0 | AC7: =IF(P7="한전불입금", L7, 0) -> 0 | AD7: =IF(P7="사용자항목2", L7, 0) -> 0 | AE7: =IF(P7="안전관리비", L7, 0) -> 0 | AF7: =IF(P7="품질관리비", L7, 0) -> 0 | AG7: =IF(P7="작업부산물(철거해체)", L7, 0) -> 0 | AH7: =IF(P7="사용자항목6", L7, 0) -> 0 | AI7: =IF(P7="전기공사 손해배상보험료", L7, 0) -> 0 | AJ7: =IF(P7="사용자항목8", L7, 0) -> 0 | AK7: =IF(P7="사용자항목9", L7, 0) -> 0 | AL7: =IF(P7="사용자항목10", L7, 0) -> 0 | AM7: =IF(P7="사용자항목11", L7, 0) -> 0 | AN7: =IF(P7="사용자항목12", L7, 0) -> 0 | AO7: =IF(P7="사용자항목13", L7, 0) -> 0 | AP7: =IF(P7="사용자항목14", L7, 0) -> 0 | AQ7: =IF(P7="사용자항목15", L7, 0) -> 0 | AR7: =IF(P7="사용자항목16", L7, 0) -> 0 | AS7: =IF(P7="사용자항목17", L7, 0) -> 0 | AT7: =IF(P7="사용자항목18", L7, 0) -> 0 | AU7: =IF(P7="사용자항목19", L7, 0) -> 0
A8: 외함 기초 | B8: 500*750*800 | C8: 개소 | D8: 3 | O8: ="" | P8: 기계경비 | Q8: 1 | R8: =IF(P8="기계경비", J8, 0) -> 0 | S8: =IF(P8="운반비", L8, 0) -> 0 | T8: =IF(P8="작업부산물", F8, 0) -> 0 | U8: =IF(P8="관급", F8, 0) -> 0 | V8: =IF(P8="외주비", J8, 0) -> 0 | W8: =IF(P8="장비비", J8, 0) -> 0 | X8: =IF(P8="폐기물처리비", L8, 0) -> 0 | Y8: =IF(P8="가설비", J8, 0) -> 0 | Z8: =IF(P8="잡비제외분", F8, 0) -> 0 | AA8: =IF(P8="사급자재대", L8, 0) -> 0 | AB8: =IF(P8="관급자재대", L8, 0) -> 0 | AC8: =IF(P8="한전불입금", L8, 0) -> 0 | AD8: =IF(P8="사용자항목2", L8, 0) -> 0 | AE8: =IF(P8="안전관리비", L8, 0) -> 0 | AF8: =IF(P8="품질관리비", L8, 0) -> 0 | AG8: =IF(P8="작업부산물(철거해체)", L8, 0) -> 0 | AH8: =IF(P8="사용자항목6", L8, 0) -> 0 | AI8: =IF(P8="전기공사 손해배상보험료", L8, 0) -> 0 | AJ8: =IF(P8="사용자항목8", L8, 0) -> 0 | AK8: =IF(P8="사용자항목9", L8, 0) -> 0 | AL8: =IF(P8="사용자항목10", L8, 0) -> 0 | AM8: =IF(P8="사용자항목11", L8, 0) -> 0 | AN8: =IF(P8="사용자항목12", L8, 0) -> 0 | AO8: =IF(P8="사용자항목13", L8, 0) -> 0 | AP8: =IF(P8="사용자항목14", L8, 0) -> 0 | AQ8: =IF(P8="사용자항목15", L8, 0) -> 0 | AR8: =IF(P8="사용자항목16", L8, 0) -> 0 | AS8: =IF(P8="사용자항목17", L8, 0) -> 0 | AT8: =IF(P8="사용자항목18", L8, 0) -> 0 | AU8: =IF(P8="사용자항목19", L8, 0) -> 0
A9: 목재데크 설치 | B9: 멀바우 | C9: M2 | D9: 3 | O9: ="" | P9: 기계경비 | Q9: 1 | R9: =IF(P9="기계경비", J9, 0) -> 0 | S9: =IF(P9="운반비", L9, 0) -> 0 | T9: =IF(P9="작업부산물", F9, 0) -> 0 | U9: =IF(P9="관급", F9, 0) -> 0 | V9: =IF(P9="외주비", J9, 0) -> 0 | W9: =IF(P9="장비비", J9, 0) -> 0 | X9: =IF(P9="폐기물처리비", L9, 0) -> 0 | Y9: =IF(P9="가설비", J9, 0) -> 0 | Z9: =IF(P9="잡비제외분", F9, 0) -> 0 | AA9: =IF(P9="사급자재대", L9, 0) -> 0 | AB9: =IF(P9="관급자재대", L9, 0) -> 0 | AC9: =IF(P9="한전불입금", L9, 0) -> 0 | AD9: =IF(P9="사용자항목2", L9, 0) -> 0 | AE9: =IF(P9="안전관리비", L9, 0) -> 0 | AF9: =IF(P9="품질관리비", L9, 0) -> 0 | AG9: =IF(P9="작업부산물(철거해체)", L9, 0) -> 0 | AH9: =IF(P9="사용자항목6", L9, 0) -> 0 | AI9: =IF(P9="전기공사 손해배상보험료", L9, 0) -> 0 | AJ9: =IF(P9="사용자항목8", L9, 0) -> 0 | AK9: =IF(P9="사용자항목9", L9, 0) -> 0 | AL9: =IF(P9="사용자항목10", L9, 0) -> 0 | AM9: =IF(P9="사용자항목11", L9, 0) -> 0 | AN9: =IF(P9="사용자항목12", L9, 0) -> 0 | AO9: =IF(P9="사용자항목13", L9, 0) -> 0 | AP9: =IF(P9="사용자항목14", L9, 0) -> 0 | AQ9: =IF(P9="사용자항목15", L9, 0) -> 0 | AR9: =IF(P9="사용자항목16", L9, 0) -> 0 | AS9: =IF(P9="사용자항목17", L9, 0) -> 0 | AT9: =IF(P9="사용자항목18", L9, 0) -> 0 | AU9: =IF(P9="사용자항목19", L9, 0) -> 0
A10: 디지털 타임스위치 | B10: 10A | C10: EA | D10: 3 | O10: ="" | P10: 기계경비 | Q10: 1 | R10: =IF(P10="기계경비", J10, 0) -> 0 | S10: =IF(P10="운반비", L10, 0) -> 0 | T10: =IF(P10="작업부산물", F10, 0) -> 0 | U10: =IF(P10="관급", F10, 0) -> 0 | V10: =IF(P10="외주비", J10, 0) -> 0 | W10: =IF(P10="장비비", J10, 0) -> 0 | X10: =IF(P10="폐기물처리비", L10, 0) -> 0 | Y10: =IF(P10="가설비", J10, 0) -> 0 | Z10: =IF(P10="잡비제외분", F10, 0) -> 0 | AA10: =IF(P10="사급자재대", L10, 0) -> 0 | AB10: =IF(P10="관급자재대", L10, 0) -> 0 | AC10: =IF(P10="한전불입금", L10, 0) -> 0 | AD10: =IF(P10="사용자항목2", L10, 0) -> 0 | AE10: =IF(P10="안전관리비", L10, 0) -> 0 | AF10: =IF(P10="품질관리비", L10, 0) -> 0 | AG10: =IF(P10="작업부산물(철거해체)", L10, 0) -> 0 | AH10: =IF(P10="사용자항목6", L10, 0) -> 0 | AI10: =IF(P10="전기공사 손해배상보험료", L10, 0) -> 0 | AJ10: =IF(P10="사용자항목8", L10, 0) -> 0 | AK10: =IF(P10="사용자항목9", L10, 0) -> 0 | AL10: =IF(P10="사용자항목10", L10, 0) -> 0 | AM10: =IF(P10="사용자항목11", L10, 0) -> 0 | AN10: =IF(P10="사용자항목12", L10, 0) -> 0 | AO10: =IF(P10="사용자항목13", L10, 0) -> 0 | AP10: =IF(P10="사용자항목14", L10, 0) -> 0 | AQ10: =IF(P10="사용자항목15", L10, 0) -> 0 | AR10: =IF(P10="사용자항목16", L10, 0) -> 0 | AS10: =IF(P10="사용자항목17", L10, 0) -> 0 | AT10: =IF(P10="사용자항목18", L10, 0) -> 0 | AU10: =IF(P10="사용자항목19", L10, 0) -> 0 | AY10: 사용자
A20: 합 계 | R20: =ROUNDDOWN(SUM(R6:R10), 0) -> 0 | S20: =ROUNDDOWN(SUM(S6:S10), 0) -> 0 | T20: =ROUNDDOWN(SUM(T6:T10), 0) -> 0 | U20: =ROUNDDOWN(SUM(U6:U10), 0) -> 0 | V20: =ROUNDDOWN(SUM(V6:V10), 0) -> 0 | W20: =ROUNDDOWN(SUM(W6:W10), 0) -> 0 | X20: =ROUNDDOWN(SUM(X6:X10), 0) -> 0 | Y20: =ROUNDDOWN(SUM(Y6:Y10), 0) -> 0 | ... AY20: =ROUNDDOWN(SUM(AY6:AY10), 0) -> 0
A21: 0102. 데크 라인 조명 - 1
A22: 1종금속제 가요전선관 | B22: 28mm 고장력방수, 노출 | C22: m | D22: 248 | O22: ="" | P22: 기계경비 | Q22: 1 | R22: =IF(P22="기계경비", J22, 0) -> 0 | S22: =IF(P22="운반비", L22, 0) -> 0 | T22: =IF(P22="작업부산물", F22, 0) -> 0 | U22: =IF(P22="관급", F22, 0) -> 0 | V22: =IF(P22="외주비", J22, 0) -> 0 | W22: =IF(P22="장비비", J22, 0) -> 0 | X22: =IF(P22="폐기물처리비", L22, 0) -> 0 | Y22: =IF(P22="가설비", J22, 0) -> 0 | Z22: =IF(P22="잡비제외분", F22, 0) -> 0 | AA22: =IF(P22="사급자재대", L22, 0) -> 0 | AB22: =IF(P22="관급자재대", L22, 0) -> 0 | AC22: =IF(P22="한전불입금", L22, 0) -> 0 | AD22: =IF(P22="사용자항목2", L22, 0) -> 0 | AE22: =IF(P22="안전관리비", L22, 0) -> 0 | AF22: =IF(P22="품질관리비", L22, 0) -> 0 | AG22: =IF(P22="작업부산물(철거해체)", L22, 0) -> 0 | AH22: =IF(P22="사용자항목6", L22, 0) -> 0 | AI22: =IF(P22="전기공사 손해배상보험료", L22, 0) -> 0 | AJ22: =IF(P22="사용자항목8", L22, 0) -> 0 | AK22: =IF(P22="사용자항목9", L22, 0) -> 0 | AL22: =IF(P22="사용자항목10", L22, 0) -> 0 | AM22: =IF(P22="사용자항목11", L22, 0) -> 0 | AN22: =IF(P22="사용자항목12", L22, 0) -> 0 | AO22: =IF(P22="사용자항목13", L22, 0) -> 0 | AP22: =IF(P22="사용자항목14", L22, 0) -> 0 | AQ22: =IF(P22="사용자항목15", L22, 0) -> 0 | AR22: =IF(P22="사용자항목16", L22, 0) -> 0 | AS22: =IF(P22="사용자항목17", L22, 0) -> 0 | AT22: =IF(P22="사용자항목18", L22, 0) -> 0 | AU22: =IF(P22="사용자항목19", L22, 0) -> 0
A23: 1종금속제 가요전선관 | B23: 36mm 고장력방수, 노출 | C23: m | D23: 32 | O23: ="" | P23: 기계경비 | Q23: 1 | R23: =IF(P23="기계경비", J23, 0) -> 0 | S23: =IF(P23="운반비", L23, 0) -> 0 | T23: =IF(P23="작업부산물", F23, 0) -> 0 | U23: =IF(P23="관급", F23, 0) -> 0 | V23: =IF(P23="외주비", J23, 0) -> 0 | W23: =IF(P23="장비비", J23, 0) -> 0 | X23: =IF(P23="폐기물처리비", L23, 0) -> 0 | Y23: =IF(P23="가설비", J23, 0) -> 0 | Z23: =IF(P23="잡비제외분", F23, 0) -> 0 | AA23: =IF(P23="사급자재대", L23, 0) -> 0 | AB23: =IF(P23="관급자재대", L23, 0) -> 0 | AC23: =IF(P23="한전불입금", L23, 0) -> 0 | AD23: =IF(P23="사용자항목2", L23, 0) -> 0 | AE23: =IF(P23="안전관리비", L23, 0) -> 0 | AF23: =IF(P23="품질관리비", L23, 0) -> 0 | AG23: =IF(P23="작업부산물(철거해체)", L23, 0) -> 0 | AH23: =IF(P23="사용자항목6", L23, 0) -> 0 | AI23: =IF(P23="전기공사 손해배상보험료", L23, 0) -> 0 | AJ23: =IF(P23="사용자항목8", L23, 0) -> 0 | AK23: =IF(P23="사용자항목9", L23, 0) -> 0 | AL23: =IF(P23="사용자항목10", L23, 0) -> 0 | AM23: =IF(P23="사용자항목11", L23, 0) -> 0 | AN23: =IF(P23="사용자항목12", L23, 0) -> 0 | AO23: =IF(P23="사용자항목13", L23, 0) -> 0 | AP23: =IF(P23="사용자항목14", L23, 0) -> 0 | AQ23: =IF(P23="사용자항목15", L23, 0) -> 0 | AR23: =IF(P23="사용자항목16", L23, 0) -> 0 | AS23: =IF(P23="사용자항목17", L23, 0) -> 0 | AT23: =IF(P23="사용자항목18", L23, 0) -> 0 | AU23: =IF(P23="사용자항목19", L23, 0) -> 0
A24: 알루미늄 덕트 | B24: 전선덕트, 알루미늄, 50x35mm | C24: m | D24: 335 | O24: ="" | P24: 기계경비 | Q24: 1 | R24: =IF(P24="기계경비", J24, 0) -> 0 | S24: =IF(P24="운반비", L24, 0) -> 0 | T24: =IF(P24="작업부산물", F24, 0) -> 0 | U24: =IF(P24="관급", F24, 0) -> 0 | V24: =IF(P24="외주비", J24, 0) -> 0 | W24: =IF(P24="장비비", J24, 0) -> 0 | X24: =IF(P24="폐기물처리비", L24, 0) -> 0 | Y24: =IF(P24="가설비", J24, 0) -> 0 | Z24: =IF(P24="잡비제외분", F24, 0) -> 0 | AA24: =IF(P24="사급자재대", L24, 0) -> 0 | AB24: =IF(P24="관급자재대", L24, 0) -> 0 | AC24: =IF(P24="한전불입금", L24, 0) -> 0 | AD24: =IF(P24="사용자항목2", L24, 0) -> 0 | AE24: =IF(P24="안전관리비", L24, 0) -> 0 | AF24: =IF(P24="품질관리비", L24, 0) -> 0 | AG24: =IF(P24="작업부산물(철거해체)", L24, 0) -> 0 | AH24: =IF(P24="사용자항목6", L24, 0) -> 0 | AI24: =IF(P24="전기공사 손해배상보험료", L24, 0) -> 0 | AJ24: =IF(P24="사용자항목8", L24, 0) -> 0 | AK24: =IF(P24="사용자항목9", L24, 0) -> 0 | AL24: =IF(P24="사용자항목10", L24, 0) -> 0 | AM24: =IF(P24="사용자항목11", L24, 0) -> 0 | AN24: =IF(P24="사용자항목12", L24, 0) -> 0 | AO24: =IF(P24="사용자항목13", L24, 0) -> 0 | AP24: =IF(P24="사용자항목14", L24, 0) -> 0 | AQ24: =IF(P24="사용자항목15", L24, 0) -> 0 | AR24: =IF(P24="사용자항목16", L24, 0) -> 0 | AS24: =IF(P24="사용자항목17", L24, 0) -> 0 | AT24: =IF(P24="사용자항목18", L24, 0) -> 0 | AU24: =IF(P24="사용자항목19", L24, 0) -> 0 | AY24: 사용자
A25: 알루미늄 덕트 | B25: 전선덕트, 알루미늄, 70x40mm | C25: m | D25: 132 | O25: ="" | P25: 기계경비 | Q25: 1 | R25: =IF(P25="기계경비", J25, 0) -> 0 | S25: =IF(P25="운반비", L25, 0) -> 0 | T25: =IF(P25="작업부산물", F25, 0) -> 0 | U25: =IF(P25="관급", F25, 0) -> 0 | V25: =IF(P25="외주비", J25, 0) -> 0 | W25: =IF(P25="장비비", J25, 0) -> 0 | X25: =IF(P25="폐기물처리비", L25, 0) -> 0 | Y25: =IF(P25="가설비", J25, 0) -> 0 | Z25: =IF(P25="잡비제외분", F25, 0) -> 0 | AA25: =IF(P25="사급자재대", L25, 0) -> 0 | AB25: =IF(P25="관급자재대", L25, 0) -> 0 | AC25: =IF(P25="한전불입금", L25, 0) -> 0 | AD25: =IF(P25="사용자항목2", L25, 0) -> 0 | AE25: =IF(P25="안전관리비", L25, 0) -> 0 | AF25: =IF(P25="품질관리비", L25, 0) -> 0 | AG25: =IF(P25="작업부산물(철거해체)", L25, 0) -> 0 | AH25: =IF(P25="사용자항목6", L25, 0) -> 0 | AI25: =IF(P25="전기공사 손해배상보험료", L25, 0) -> 0 | AJ25: =IF(P25="사용자항목8", L25, 0) -> 0 | AK25: =IF(P25="사용자항목9", L25, 0) -> 0 | AL25: =IF(P25="사용자항목10", L25, 0) -> 0 | AM25: =IF(P25="사용자항목11", L25, 0) -> 0 | AN25: =IF(P25="사용자항목12", L25, 0) -> 0 | AO25: =IF(P25="사용자항목13", L25, 0) -> 0 | AP25: =IF(P25="사용자항목14", L25, 0) -> 0 | AQ25: =IF(P25="사용자항목15", L25, 0) -> 0 | AR25: =IF(P25="사용자항목16", L25, 0) -> 0 | AS25: =IF(P25="사용자항목17", L25, 0) -> 0 | AT25: =IF(P25="사용자항목18", L25, 0) -> 0 | AU25: =IF(P25="사용자항목19", L25, 0) -> 0 | AY25: 사용자
A26: 덕트 지지대 | B26: STS 4T, 50*50*50 | C26: EA | D26: 467 | O26: ="" | P26: 기계경비 | Q26: 1 | R26: =IF(P26="기계경비", J26, 0) -> 0 | S26: =IF(P26="운반비", L26, 0) -> 0 | T26: =IF(P26="작업부산물", F26, 0) -> 0 | U26: =IF(P26="관급", F26, 0) -> 0 | V26: =IF(P26="외주비", J26, 0) -> 0 | W26: =IF(P26="장비비", J26, 0) -> 0 | X26: =IF(P26="폐기물처리비", L26, 0) -> 0 | Y26: =IF(P26="가설비", J26, 0) -> 0 | Z26: =IF(P26="잡비제외분", F26, 0) -> 0 | AA26: =IF(P26="사급자재대", L26, 0) -> 0 | AB26: =IF(P26="관급자재대", L26, 0) -> 0 | AC26: =IF(P26="한전불입금", L26, 0) -> 0 | AD26: =IF(P26="사용자항목2", L26, 0) -> 0 | AE26: =IF(P26="안전관리비", L26, 0) -> 0 | AF26: =IF(P26="품질관리비", L26, 0) -> 0 | AG26: =IF(P26="작업부산물(철거해체)", L26, 0) -> 0 | AH26: =IF(P26="사용자항목6", L26, 0) -> 0 | AI26: =IF(P26="전기공사 손해배상보험료", L26, 0) -> 0 | AJ26: =IF(P26="사용자항목8", L26, 0) -> 0 | AK26: =IF(P26="사용자항목9", L26, 0) -> 0 | AL26: =IF(P26="사용자항목10", L26, 0) -> 0 | AM26: =IF(P26="사용자항목11", L26, 0) -> 0 | AN26: =IF(P26="사용자항목12", L26, 0) -> 0 | AO26: =IF(P26="사용자항목13", L26, 0) -> 0 | AP26: =IF(P26="사용자항목14", L26, 0) -> 0 | AQ26: =IF(P26="사용자항목15", L26, 0) -> 0 | AR26: =IF(P26="사용자항목16", L26, 0) -> 0 | AS26: =IF(P26="사용자항목17", L26, 0) -> 0 | AT26: =IF(P26="사용자항목18", L26, 0) -> 0 | AU26: =IF(P26="사용자항목19", L26, 0) -> 0
A27: 덕트 지지대 설치 | B27: 노출 설치용 | C27: 개소 | D27: 467 | O27: ="" | P27: 기계경비 | Q27: 1 | R27: =IF(P27="기계경비", J27, 0) -> 0 | S27: =IF(P27="운반비", L27, 0) -> 0 | T27: =IF(P27="작업부산물", F27, 0) -> 0 | U27: =IF(P27="관급", F27, 0) -> 0 | V27: =IF(P27="외주비", J27, 0) -> 0 | W27: =IF(P27="장비비", J27, 0) -> 0 | X27: =IF(P27="폐기물처리비", L27, 0) -> 0 | Y27: =IF(P27="가설비", J27, 0) -> 0 | Z27: =IF(P27="잡비제외분", F27, 0) -> 0 | AA27: =IF(P27="사급자재대", L27, 0) -> 0 | AB27: =IF(P27="관급자재대", L27, 0) -> 0 | AC27: =IF(P27="한전불입금", L27, 0) -> 0 | AD27: =IF(P27="사용자항목2", L27, 0) -> 0 | AE27: =IF(P27="안전관리비", L27, 0) -> 0 | AF27: =IF(P27="품질관리비", L27, 0) -> 0 | AG27: =IF(P27="작업부산물(철거해체)", L27, 0) -> 0 | AH27: =IF(P27="사용자항목6", L27, 0) -> 0 | AI27: =IF(P27="전기공사 손해배상보험료", L27, 0) -> 0 | AJ27: =IF(P27="사용자항목8", L27, 0) -> 0 | AK27: =IF(P27="사용자항목9", L27, 0) -> 0 | AL27: =IF(P27="사용자항목10", L27, 0) -> 0 | AM27: =IF(P27="사용자항목11", L27, 0) -> 0 | AN27: =IF(P27="사용자항목12", L27, 0) -> 0 | AO27: =IF(P27="사용자항목13", L27, 0) -> 0 | AP27: =IF(P27="사용자항목14", L27, 0) -> 0 | AQ27: =IF(P27="사용자항목15", L27, 0) -> 0 | AR27: =IF(P27="사용자항목16", L27, 0) -> 0 | AS27: =IF(P27="사용자항목17", L27, 0) -> 0 | AT27: =IF(P27="사용자항목18", L27, 0) -> 0 | AU27: =IF(P27="사용자항목19", L27, 0) -> 0
A28: F-CV 케이블 | B28: F-CV, 0.6/1kV, 3C 4㎟ | C28: m | D28: 102 | O28: ="" | P28: 기계경비 | Q28: 1 | R28: =IF(P28="기계경비", J28, 0) -> 0 | S28: =IF(P28="운반비", L28, 0) -> 0 | T28: =IF(P28="작업부산물", F28, 0) -> 0 | U28: =IF(P28="관급", F28, 0) -> 0 | V28: =IF(P28="외주비", J28, 0) -> 0 | W28: =IF(P28="장비비", J28, 0) -> 0 | X28: =IF(P28="폐기물처리비", L28, 0) -> 0 | Y28: =IF(P28="가설비", J28, 0) -> 0 | Z28: =IF(P28="잡비제외분", F28, 0) -> 0 | AA28: =IF(P28="사급자재대", L28, 0) -> 0 | AB28: =IF(P28="관급자재대", L28, 0) -> 0 | AC28: =IF(P28="한전불입금", L28, 0) -> 0 | AD28: =IF(P28="사용자항목2", L28, 0) -> 0 | AE28: =IF(P28="안전관리비", L28, 0) -> 0 | AF28: =IF(P28="품질관리비", L28, 0) -> 0 | AG28: =IF(P28="작업부산물(철거해체)", L28, 0) -> 0 | AH28: =IF(P28="사용자항목6", L28, 0) -> 0 | AI28: =IF(P28="전기공사 손해배상보험료", L28, 0) -> 0 | AJ28: =IF(P28="사용자항목8", L28, 0) -> 0 | AK28: =IF(P28="사용자항목9", L28, 0) -> 0 | AL28: =IF(P28="사용자항목10", L28, 0) -> 0 | AM28: =IF(P28="사용자항목11", L28, 0) -> 0 | AN28: =IF(P28="사용자항목12", L28, 0) -> 0 | AO28: =IF(P28="사용자항목13", L28, 0) -> 0 | AP28: =IF(P28="사용자항목14", L28, 0) -> 0 | AQ28: =IF(P28="사용자항목15", L28, 0) -> 0 | AR28: =IF(P28="사용자항목16", L28, 0) -> 0 | AS28: =IF(P28="사용자항목17", L28, 0) -> 0 | AT28: =IF(P28="사용자항목18", L28, 0) -> 0 | AU28: =IF(P28="사용자항목19", L28, 0) -> 0 | AY28: 사용자
A29: F-CV 케이블 | B29: F-CV, 0.6/1kV, 3C 10㎟ | C29: m | D29: 182 | O29: ="" | P29: 기계경비 | Q29: 1 | R29: =IF(P29="기계경비", J29, 0) -> 0 | S29: =IF(P29="운반비", L29, 0) -> 0 | T29: =IF(P29="작업부산물", F29, 0) -> 0 | U29: =IF(P29="관급", F29, 0) -> 0 | V29: =IF(P29="외주비", J29, 0) -> 0 | W29: =IF(P29="장비비", J29, 0) -> 0 | X29: =IF(P29="폐기물처리비", L29, 0) -> 0 | Y29: =IF(P29="가설비", J29, 0) -> 0 | Z29: =IF(P29="잡비제외분", F29, 0) -> 0 | AA29: =IF(P29="사급자재대", L29, 0) -> 0 | AB29: =IF(P29="관급자재대", L29, 0) -> 0 | AC29: =IF(P29="한전불입금", L29, 0) -> 0 | AD29: =IF(P29="사용자항목2", L29, 0) -> 0 | AE29: =IF(P29="안전관리비", L29, 0) -> 0 | AF29: =IF(P29="품질관리비", L29, 0) -> 0 | AG29: =IF(P29="작업부산물(철거해체)", L29, 0) -> 0 | AH29: =IF(P29="사용자항목6", L29, 0) -> 0 | AI29: =IF(P29="전기공사 손해배상보험료", L29, 0) -> 0 | AJ29: =IF(P29="사용자항목8", L29, 0) -> 0 | AK29: =IF(P29="사용자항목9", L29, 0) -> 0 | AL29: =IF(P29="사용자항목10", L29, 0) -> 0 | AM29: =IF(P29="사용자항목11", L29, 0) -> 0 | AN29: =IF(P29="사용자항목12", L29, 0) -> 0 | AO29: =IF(P29="사용자항목13", L29, 0) -> 0 | AP29: =IF(P29="사용자항목14", L29, 0) -> 0 | AQ29: =IF(P29="사용자항목15", L29, 0) -> 0 | AR29: =IF(P29="사용자항목16", L29, 0) -> 0 | AS29: =IF(P29="사용자항목17", L29, 0) -> 0 | AT29: =IF(P29="사용자항목18", L29, 0) -> 0 | AU29: =IF(P29="사용자항목19", L29, 0) -> 0 | AY29: 사용자
A30: F-CV 케이블 | B30: F-CV, 0.6/1kV, 2C 4㎟ | C30: m | D30: 146 | O30: ="" | P30: 기계경비 | Q30: 1 | R30: =IF(P30="기계경비", J30, 0) -> 0 | S30: =IF(P30="운반비", L30, 0) -> 0 | T30: =IF(P30="작업부산물", F30, 0) -> 0 | U30: =IF(P30="관급", F30, 0) -> 0 | V30: =IF(P30="외주비", J30, 0) -> 0 | W30: =IF(P30="장비비", J30, 0) -> 0 | X30: =IF(P30="폐기물처리비", L30, 0) -> 0 | Y30: =IF(P30="가설비", J30, 0) -> 0 | Z30: =IF(P30="잡비제외분", F30, 0) -> 0 | AA30: =IF(P30="사급자재대", L30, 0) -> 0 | AB30: =IF(P30="관급자재대", L30, 0) -> 0 | AC30: =IF(P30="한전불입금", L30, 0) -> 0 | AD30: =IF(P30="사용자항목2", L30, 0) -> 0 | AE30: =IF(P30="안전관리비", L30, 0) -> 0 | AF30: =IF(P30="품질관리비", L30, 0) -> 0 | AG30: =IF(P30="작업부산물(철거해체)", L30, 0) -> 0 | AH30: =IF(P30="사용자항목6", L30, 0) -> 0 | AI30: =IF(P30="전기공사 손해배상보험료", L30, 0) -> 0 | AJ30: =IF(P30="사용자항목8", L30, 0) -> 0 | AK30: =IF(P30="사용자항목9", L30, 0) -> 0 | AL30: =IF(P30="사용자항목10", L30, 0) -> 0 | AM30: =IF(P30="사용자항목11", L30, 0) -> 0 | AN30: =IF(P30="사용자항목12", L30, 0) -> 0 | AO30: =IF(P30="사용자항목13", L30, 0) -> 0 | AP30: =IF(P30="사용자항목14", L30, 0) -> 0 | AQ30: =IF(P30="사용자항목15", L30, 0) -> 0 | AR30: =IF(P30="사용자항목16", L30, 0) -> 0 | AS30: =IF(P30="사용자항목17", L30, 0) -> 0 | AT30: =IF(P30="사용자항목18", L30, 0) -> 0 | AU30: =IF(P30="사용자항목19", L30, 0) -> 0
A31: F-CV 케이블 | B31: F-CV, 0.6/1kV, 2C 6㎟ | C31: m | D31: 435 | O31: ="" | P31: 기계경비 | Q31: 1 | R31: =IF(P31="기계경비", J31, 0) -> 0 | S31: =IF(P31="운반비", L31, 0) -> 0 | T31: =IF(P31="작업부산물", F31, 0) -> 0 | U31: =IF(P31="관급", F31, 0) -> 0 | V31: =IF(P31="외주비", J31, 0) -> 0 | W31: =IF(P31="장비비", J31, 0) -> 0 | X31: =IF(P31="폐기물처리비", L31, 0) -> 0 | Y31: =IF(P31="가설비", J31, 0) -> 0 | Z31: =IF(P31="잡비제외분", F31, 0) -> 0 | AA31: =IF(P31="사급자재대", L31, 0) -> 0 | AB31: =IF(P31="관급자재대", L31, 0) -> 0 | AC31: =IF(P31="한전불입금", L31, 0) -> 0 | AD31: =IF(P31="사용자항목2", L31, 0) -> 0 | AE31: =IF(P31="안전관리비", L31, 0) -> 0 | AF31: =IF(P31="품질관리비", L31, 0) -> 0 | AG31: =IF(P31="작업부산물(철거해체)", L31, 0) -> 0 | AH31: =IF(P31="사용자항목6", L31, 0) -> 0 | AI31: =IF(P31="전기공사 손해배상보험료", L31, 0) -> 0 | AJ31: =IF(P31="사용자항목8", L31, 0) -> 0 | AK31: =IF(P31="사용자항목9", L31, 0) -> 0 | AL31: =IF(P31="사용자항목10", L31, 0) -> 0 | AM31: =IF(P31="사용자항목11", L31, 0) -> 0 | AN31: =IF(P31="사용자항목12", L31, 0) -> 0 | AO31: =IF(P31="사용자항목13", L31, 0) -> 0 | AP31: =IF(P31="사용자항목14", L31, 0) -> 0 | AQ31: =IF(P31="사용자항목15", L31, 0) -> 0 | AR31: =IF(P31="사용자항목16", L31, 0) -> 0 | AS31: =IF(P31="사용자항목17", L31, 0) -> 0 | AT31: =IF(P31="사용자항목18", L31, 0) -> 0 | AU31: =IF(P31="사용자항목19", L31, 0) -> 0
A32: F-CV 케이블 | B32: F-CV, 0.6/1kV, 2C 10㎟ | C32: m | D32: 140 | O32: ="" | P32: 기계경비 | Q32: 1 | R32: =IF(P32="기계경비", J32, 0) -> 0 | S32: =IF(P32="운반비", L32, 0) -> 0 | T32: =IF(P32="작업부산물", F32, 0) -> 0 | U32: =IF(P32="관급", F32, 0) -> 0 | V32: =IF(P32="외주비", J32, 0) -> 0 | W32: =IF(P32="장비비", J32, 0) -> 0 | X32: =IF(P32="폐기물처리비", L32, 0) -> 0 | Y32: =IF(P32="가설비", J32, 0) -> 0 | Z32: =IF(P32="잡비제외분", F32, 0) -> 0 | AA32: =IF(P32="사급자재대", L32, 0) -> 0 | AB32: =IF(P32="관급자재대", L32, 0) -> 0 | AC32: =IF(P32="한전불입금", L32, 0) -> 0 | AD32: =IF(P32="사용자항목2", L32, 0) -> 0 | AE32: =IF(P32="안전관리비", L32, 0) -> 0 | AF32: =IF(P32="품질관리비", L32, 0) -> 0 | AG32: =IF(P32="작업부산물(철거해체)", L32, 0) -> 0 | AH32: =IF(P32="사용자항목6", L32, 0) -> 0 | AI32: =IF(P32="전기공사 손해배상보험료", L32, 0) -> 0 | AJ32: =IF(P32="사용자항목8", L32, 0) -> 0 | AK32: =IF(P32="사용자항목9", L32, 0) -> 0 | AL32: =IF(P32="사용자항목10", L32, 0) -> 0 | AM32: =IF(P32="사용자항목11", L32, 0) -> 0 | AN32: =IF(P32="사용자항목12", L32, 0) -> 0 | AO32: =IF(P32="사용자항목13", L32, 0) -> 0 | AP32: =IF(P32="사용자항목14", L32, 0) -> 0 | AQ32: =IF(P32="사용자항목15", L32, 0) -> 0 | AR32: =IF(P32="사용자항목16", L32, 0) -> 0 | AS32: =IF(P32="사용자항목17", L32, 0) -> 0 | AT32: =IF(P32="사용자항목18", L32, 0) -> 0 | AU32: =IF(P32="사용자항목19", L32, 0) -> 0
A33: LED 조명기구 설치 | B33: 직부등 15W 이하 | C33: EA | D33: 119 | O33: ="" | P33: 기계경비 | Q33: 1 | R33: =IF(P33="기계경비", J33, 0) -> 0 | S33: =IF(P33="운반비", L33, 0) -> 0 | T33: =IF(P33="작업부산물", F33, 0) -> 0 | U33: =IF(P33="관급", F33, 0) -> 0 | V33: =IF(P33="외주비", J33, 0) -> 0 | W33: =IF(P33="장비비", J33, 0) -> 0 | X33: =IF(P33="폐기물처리비", L33, 0) -> 0 | Y33: =IF(P33="가설비", J33, 0) -> 0 | Z33: =IF(P33="잡비제외분", F33, 0) -> 0 | AA33: =IF(P33="사급자재대", L33, 0) -> 0 | AB33: =IF(P33="관급자재대", L33, 0) -> 0 | AC33: =IF(P33="한전불입금", L33, 0) -> 0 | AD33: =IF(P33="사용자항목2", L33, 0) -> 0 | AE33: =IF(P33="안전관리비", L33, 0) -> 0 | AF33: =IF(P33="품질관리비", L33, 0) -> 0 | AG33: =IF(P33="작업부산물(철거해체)", L33, 0) -> 0 | AH33: =IF(P33="사용자항목6", L33, 0) -> 0 | AI33: =IF(P33="전기공사 손해배상보험료", L33, 0) -> 0 | AJ33: =IF(P33="사용자항목8", L33, 0) -> 0 | AK33: =IF(P33="사용자항목9", L33, 0) -> 0 | AL33: =IF(P33="사용자항목10", L33, 0) -> 0 | AM33: =IF(P33="사용자항목11", L33, 0) -> 0 | AN33: =IF(P33="사용자항목12", L33, 0) -> 0 | AO33: =IF(P33="사용자항목13", L33, 0) -> 0 | AP33: =IF(P33="사용자항목14", L33, 0) -> 0 | AQ33: =IF(P33="사용자항목15", L33, 0) -> 0 | AR33: =IF(P33="사용자항목16", L33, 0) -> 0 | AS33: =IF(P33="사용자항목17", L33, 0) -> 0 | AT33: =IF(P33="사용자항목18", L33, 0) -> 0 | AU33: =IF(P33="사용자항목19", L33, 0) -> 0
A34: SMPS | B34: DC 24V, 1kW | C34: EA | D34: 3 | O34: ="" | P34: 기계경비 | Q34: 1 | R34: =IF(P34="기계경비", J34, 0) -> 0 | S34: =IF(P34="운반비", L34, 0) -> 0 | T34: =IF(P34="작업부산물", F34, 0) -> 0 | U34: =IF(P34="관급", F34, 0) -> 0 | V34: =IF(P34="외주비", J34, 0) -> 0 | W34: =IF(P34="장비비", J34, 0) -> 0 | X34: =IF(P34="폐기물처리비", L34, 0) -> 0 | Y34: =IF(P34="가설비", J34, 0) -> 0 | Z34: =IF(P34="잡비제외분", F34, 0) -> 0 | AA34: =IF(P34="사급자재대", L34, 0) -> 0 | AB34: =IF(P34="관급자재대", L34, 0) -> 0 | AC34: =IF(P34="한전불입금", L34, 0) -> 0 | AD34: =IF(P34="사용자항목2", L34, 0) -> 0 | AE34: =IF(P34="안전관리비", L34, 0) -> 0 | AF34: =IF(P34="품질관리비", L34, 0) -> 0 | AG34: =IF(P34="작업부산물(철거해체)", L34, 0) -> 0 | AH34: =IF(P34="사용자항목6", L34, 0) -> 0 | AI34: =IF(P34="전기공사 손해배상보험료", L34, 0) -> 0 | AJ34: =IF(P34="사용자항목8", L34, 0) -> 0 | AK34: =IF(P34="사용자항목9", L34, 0) -> 0 | AL34: =IF(P34="사용자항목10", L34, 0) -> 0 | AM34: =IF(P34="사용자항목11", L34, 0) -> 0 | AN34: =IF(P34="사용자항목12", L34, 0) -> 0 | AO34: =IF(P34="사용자항목13", L34, 0) -> 0 | AP34: =IF(P34="사용자항목14", L34, 0) -> 0 | AQ34: =IF(P34="사용자항목15", L34, 0) -> 0 | AR34: =IF(P34="사용자항목16", L34, 0) -> 0 | AS34: =IF(P34="사용자항목17", L34, 0) -> 0 | AT34: =IF(P34="사용자항목18", L34, 0) -> 0 | AU34: =IF(P34="사용자항목19", L34, 0) -> 0
A35: 고소작업대임대료 | B35: 스카이, 1.0톤(16m급) | C35: 일 | D35: 2 | O35: ="03" -> 03 | P35: 기계경비 | Q35: 1 | R35: =IF(P35="기계경비", J35, 0) -> 0 | S35: =IF(P35="운반비", L35, 0) -> 0 | T35: =IF(P35="작업부산물", F35, 0) -> 0 | U35: =IF(P35="관급", F35, 0) -> 0 | V35: =IF(P35="외주비", J35, 0) -> 0 | W35: =IF(P35="장비비", J35, 0) -> 0 | X35: =IF(P35="폐기물처리비", L35, 0) -> 0 | Y35: =IF(P35="가설비", J35, 0) -> 0 | Z35: =IF(P35="잡비제외분", F35, 0) -> 0 | AA35: =IF(P35="사급자재대", L35, 0) -> 0 | AB35: =IF(P35="관급자재대", L35, 0) -> 0 | AC35: =IF(P35="한전불입금", L35, 0) -> 0 | AD35: =IF(P35="사용자항목2", L35, 0) -> 0 | AE35: =IF(P35="안전관리비", L35, 0) -> 0 | AF35: =IF(P35="품질관리비", L35, 0) -> 0 | AG35: =IF(P35="작업부산물(철거해체)", L35, 0) -> 0 | AH35: =IF(P35="사용자항목6", L35, 0) -> 0 | AI35: =IF(P35="전기공사 손해배상보험료", L35, 0) -> 0 | AJ35: =IF(P35="사용자항목8", L35, 0) -> 0 | AK35: =IF(P35="사용자항목9", L35, 0) -> 0 | AL35: =IF(P35="사용자항목10", L35, 0) -> 0 | AM35: =IF(P35="사용자항목11", L35, 0) -> 0 | AN35: =IF(P35="사용자항목12", L35, 0) -> 0 | AO35: =IF(P35="사용자항목13", L35, 0) -> 0 | AP35: =IF(P35="사용자항목14", L35, 0) -> 0 | AQ35: =IF(P35="사용자항목15", L35, 0) -> 0 | AR35: =IF(P35="사용자항목16", L35, 0) -> 0 | AS35: =IF(P35="사용자항목17", L35, 0) -> 0 | AT35: =IF(P35="사용자항목18", L35, 0) -> 0 | AU35: =IF(P35="사용자항목19", L35, 0) -> 0
A36: 유성페인트 롤러칠 | B36: 철재면 2회 1급 | C36: M2 | D36: 86 | O36: ="" | P36: 기계경비 | Q36: 1 | R36: =IF(P36="기계경비", J36, 0) -> 0 | S36: =IF(P36="운반비", L36, 0) -> 0 | T36: =IF(P36="작업부산물", F36, 0) -> 0 | U36: =IF(P36="관급", F36, 0) -> 0 | V36: =IF(P36="외주비", J36, 0) -> 0 | W36: =IF(P36="장비비", J36, 0) -> 0 | X36: =IF(P36="폐기물처리비", L36, 0) -> 0 | Y36: =IF(P36="가설비", J36, 0) -> 0 | Z36: =IF(P36="잡비제외분", F36, 0) -> 0 | AA36: =IF(P36="사급자재대", L36, 0) -> 0 | AB36: =IF(P36="관급자재대", L36, 0) -> 0 | AC36: =IF(P36="한전불입금", L36, 0) -> 0 | AD36: =IF(P36="사용자항목2", L36, 0) -> 0 | AE36: =IF(P36="안전관리비", L36, 0) -> 0 | AF36: =IF(P36="품질관리비", L36, 0) -> 0 | AG36: =IF(P36="작업부산물(철거해체)", L36, 0) -> 0 | AH36: =IF(P36="사용자항목6", L36, 0) -> 0 | AI36: =IF(P36="전기공사 손해배상보험료", L36, 0) -> 0 | AJ36: =IF(P36="사용자항목8", L36, 0) -> 0 | AK36: =IF(P36="사용자항목9", L36, 0) -> 0 | AL36: =IF(P36="사용자항목10", L36, 0) -> 0 | AM36: =IF(P36="사용자항목11", L36, 0) -> 0 | AN36: =IF(P36="사용자항목12", L36, 0) -> 0 | AO36: =IF(P36="사용자항목13", L36, 0) -> 0 | AP36: =IF(P36="사용자항목14", L36, 0) -> 0 | AQ36: =IF(P36="사용자항목15", L36, 0) -> 0 | AR36: =IF(P36="사용자항목16", L36, 0) -> 0 | AS36: =IF(P36="사용자항목17", L36, 0) -> 0 | AT36: =IF(P36="사용자항목18", L36, 0) -> 0 | AU36: =IF(P36="사용자항목19", L36, 0) -> 0
A52: 합 계 | R52: =ROUNDDOWN(SUM(R22:R36), 0) -> 0 | S52: =ROUNDDOWN(SUM(S22:S36), 0) -> 0 | T52: =ROUNDDOWN(SUM(T22:T36), 0) -> 0 | U52: =ROUNDDOWN(SUM(U22:U36), 0) -> 0 | V52: =ROUNDDOWN(SUM(V22:V36), 0) -> 0 | W52: =ROUNDDOWN(SUM(W22:W36), 0) -> 0 | X52: =ROUNDDOWN(SUM(X22:X36), 0) -> 0 | Y52: =ROUNDDOWN(SUM(Y22:Y36), 0) -> 0 | ... AY52: =ROUNDDOWN(SUM(AY22:AY36), 0) -> 0
A53: 0103. 데크 라인 조명 - 2
A54: 1종금속제 가요전선관 | B54: 28mm 고장력방수, 노출 | C54: m | D54: 208 | O54: ="" | P54: 기계경비 | Q54: 1 | R54: =IF(P54="기계경비", J54, 0) -> 0 | S54: =IF(P54="운반비", L54, 0) -> 0 | T54: =IF(P54="작업부산물", F54, 0) -> 0 | U54: =IF(P54="관급", F54, 0) -> 0 | V54: =IF(P54="외주비", J54, 0) -> 0 | W54: =IF(P54="장비비", J54, 0) -> 0 | X54: =IF(P54="폐기물처리비", L54, 0) -> 0 | Y54: =IF(P54="가설비", J54, 0) -> 0 | Z54: =IF(P54="잡비제외분", F54, 0) -> 0 | AA54: =IF(P54="사급자재대", L54, 0) -> 0 | AB54: =IF(P54="관급자재대", L54, 0) -> 0 | AC54: =IF(P54="한전불입금", L54, 0) -> 0 | AD54: =IF(P54="사용자항목2", L54, 0) -> 0 | AE54: =IF(P54="안전관리비", L54, 0) -> 0 | AF54: =IF(P54="품질관리비", L54, 0) -> 0 | AG54: =IF(P54="작업부산물(철거해체)", L54, 0) -> 0 | AH54: =IF(P54="사용자항목6", L54, 0) -> 0 | AI54: =IF(P54="전기공사 손해배상보험료", L54, 0) -> 0 | AJ54: =IF(P54="사용자항목8", L54, 0) -> 0 | AK54: =IF(P54="사용자항목9", L54, 0) -> 0 | AL54: =IF(P54="사용자항목10", L54, 0) -> 0 | AM54: =IF(P54="사용자항목11", L54, 0) -> 0 | AN54: =IF(P54="사용자항목12", L54, 0) -> 0 | AO54: =IF(P54="사용자항목13", L54, 0) -> 0 | AP54: =IF(P54="사용자항목14", L54, 0) -> 0 | AQ54: =IF(P54="사용자항목15", L54, 0) -> 0 | AR54: =IF(P54="사용자항목16", L54, 0) -> 0 | AS54: =IF(P54="사용자항목17", L54, 0) -> 0 | AT54: =IF(P54="사용자항목18", L54, 0) -> 0 | AU54: =IF(P54="사용자항목19", L54, 0) -> 0
A55: 1종금속제 가요전선관 | B55: 36mm 고장력방수, 노출 | C55: m | D55: 17 | O55: ="" | P55: 기계경비 | Q55: 1 | R55: =IF(P55="기계경비", J55, 0) -> 0 | S55: =IF(P55="운반비", L55, 0) -> 0 | T55: =IF(P55="작업부산물", F55, 0) -> 0 | U55: =IF(P55="관급", F55, 0) -> 0 | V55: =IF(P55="외주비", J55, 0) -> 0 | W55: =IF(P55="장비비", J55, 0) -> 0 | X55: =IF(P55="폐기물처리비", L55, 0) -> 0 | Y55: =IF(P55="가설비", J55, 0) -> 0 | Z55: =IF(P55="잡비제외분", F55, 0) -> 0 | AA55: =IF(P55="사급자재대", L55, 0) -> 0 | AB55: =IF(P55="관급자재대", L55, 0) -> 0 | AC55: =IF(P55="한전불입금", L55, 0) -> 0 | AD55: =IF(P55="사용자항목2", L55, 0) -> 0 | AE55: =IF(P55="안전관리비", L55, 0) -> 0 | AF55: =IF(P55="품질관리비", L55, 0) -> 0 | AG55: =IF(P55="작업부산물(철거해체)", L55, 0) -> 0 | AH55: =IF(P55="사용자항목6", L55, 0) -> 0 | AI55: =IF(P55="전기공사 손해배상보험료", L55, 0) -> 0 | AJ55: =IF(P55="사용자항목8", L55, 0) -> 0 | AK55: =IF(P55="사용자항목9", L55, 0) -> 0 | AL55: =IF(P55="사용자항목10", L55, 0) -> 0 | AM55: =IF(P55="사용자항목11", L55, 0) -> 0 | AN55: =IF(P55="사용자항목12", L55, 0) -> 0 | AO55: =IF(P55="사용자항목13", L55, 0) -> 0 | AP55: =IF(P55="사용자항목14", L55, 0) -> 0 | AQ55: =IF(P55="사용자항목15", L55, 0) -> 0 | AR55: =IF(P55="사용자항목16", L55, 0) -> 0 | AS55: =IF(P55="사용자항목17", L55, 0) -> 0 | AT55: =IF(P55="사용자항목18", L55, 0) -> 0 | AU55: =IF(P55="사용자항목19", L55, 0) -> 0
A56: 알루미늄 덕트 | B56: 전선덕트, 알루미늄, 50x35mm | C56: m | D56: 427 | O56: ="" | P56: 기계경비 | Q56: 1 | R56: =IF(P56="기계경비", J56, 0) -> 0 | S56: =IF(P56="운반비", L56, 0) -> 0 | T56: =IF(P56="작업부산물", F56, 0) -> 0 | U56: =IF(P56="관급", F56, 0) -> 0 | V56: =IF(P56="외주비", J56, 0) -> 0 | W56: =IF(P56="장비비", J56, 0) -> 0 | X56: =IF(P56="폐기물처리비", L56, 0) -> 0 | Y56: =IF(P56="가설비", J56, 0) -> 0 | Z56: =IF(P56="잡비제외분", F56, 0) -> 0 | AA56: =IF(P56="사급자재대", L56, 0) -> 0 | AB56: =IF(P56="관급자재대", L56, 0) -> 0 | AC56: =IF(P56="한전불입금", L56, 0) -> 0 | AD56: =IF(P56="사용자항목2", L56, 0) -> 0 | AE56: =IF(P56="안전관리비", L56, 0) -> 0 | AF56: =IF(P56="품질관리비", L56, 0) -> 0 | AG56: =IF(P56="작업부산물(철거해체)", L56, 0) -> 0 | AH56: =IF(P56="사용자항목6", L56, 0) -> 0 | AI56: =IF(P56="전기공사 손해배상보험료", L56, 0) -> 0 | AJ56: =IF(P56="사용자항목8", L56, 0) -> 0 | AK56: =IF(P56="사용자항목9", L56, 0) -> 0 | AL56: =IF(P56="사용자항목10", L56, 0) -> 0 | AM56: =IF(P56="사용자항목11", L56, 0) -> 0 | AN56: =IF(P56="사용자항목12", L56, 0) -> 0 | AO56: =IF(P56="사용자항목13", L56, 0) -> 0 | AP56: =IF(P56="사용자항목14", L56, 0) -> 0 | AQ56: =IF(P56="사용자항목15", L56, 0) -> 0 | AR56: =IF(P56="사용자항목16", L56, 0) -> 0 | AS56: =IF(P56="사용자항목17", L56, 0) -> 0 | AT56: =IF(P56="사용자항목18", L56, 0) -> 0 | AU56: =IF(P56="사용자항목19", L56, 0) -> 0 | AY56: 사용자
A57: 덕트 지지대 | B57: STS 4T, 50*50*50 | C57: EA | D57: 427 | O57: ="" | P57: 기계경비 | Q57: 1 | R57: =IF(P57="기계경비", J57, 0) -> 0 | S57: =IF(P57="운반비", L57, 0) -> 0 | T57: =IF(P57="작업부산물", F57, 0) -> 0 | U57: =IF(P57="관급", F57, 0) -> 0 | V57: =IF(P57="외주비", J57, 0) -> 0 | W57: =IF(P57="장비비", J57, 0) -> 0 | X57: =IF(P57="폐기물처리비", L57, 0) -> 0 | Y57: =IF(P57="가설비", J57, 0) -> 0 | Z57: =IF(P57="잡비제외분", F57, 0) -> 0 | AA57: =IF(P57="사급자재대", L57, 0) -> 0 | AB57: =IF(P57="관급자재대", L57, 0) -> 0 | AC57: =IF(P57="한전불입금", L57, 0) -> 0 | AD57: =IF(P57="사용자항목2", L57, 0) -> 0 | AE57: =IF(P57="안전관리비", L57, 0) -> 0 | AF57: =IF(P57="품질관리비", L57, 0) -> 0 | AG57: =IF(P57="작업부산물(철거해체)", L57, 0) -> 0 | AH57: =IF(P57="사용자항목6", L57, 0) -> 0 | AI57: =IF(P57="전기공사 손해배상보험료", L57, 0) -> 0 | AJ57: =IF(P57="사용자항목8", L57, 0) -> 0 | AK57: =IF(P57="사용자항목9", L57, 0) -> 0 | AL57: =IF(P57="사용자항목10", L57, 0) -> 0 | AM57: =IF(P57="사용자항목11", L57, 0) -> 0 | AN57: =IF(P57="사용자항목12", L57, 0) -> 0 | AO57: =IF(P57="사용자항목13", L57, 0) -> 0 | AP57: =IF(P57="사용자항목14", L57, 0) -> 0 | AQ57: =IF(P57="사용자항목15", L57, 0) -> 0 | AR57: =IF(P57="사용자항목16", L57, 0) -> 0 | AS57: =IF(P57="사용자항목17", L57, 0) -> 0 | AT57: =IF(P57="사용자항목18", L57, 0) -> 0 | AU57: =IF(P57="사용자항목19", L57, 0) -> 0
A58: 덕트 지지대 설치 | B58: 노출 설치용 | C58: 개소 | D58: 427 | O58: ="" | P58: 기계경비 | Q58: 1 | R58: =IF(P58="기계경비", J58, 0) -> 0 | S58: =IF(P58="운반비", L58, 0) -> 0 | T58: =IF(P58="작업부산물", F58, 0) -> 0 | U58: =IF(P58="관급", F58, 0) -> 0 | V58: =IF(P58="외주비", J58, 0) -> 0 | W58: =IF(P58="장비비", J58, 0) -> 0 | X58: =IF(P58="폐기물처리비", L58, 0) -> 0 | Y58: =IF(P58="가설비", J58, 0) -> 0 | Z58: =IF(P58="잡비제외분", F58, 0) -> 0 | AA58: =IF(P58="사급자재대", L58, 0) -> 0 | AB58: =IF(P58="관급자재대", L58, 0) -> 0 | AC58: =IF(P58="한전불입금", L58, 0) -> 0 | AD58: =IF(P58="사용자항목2", L58, 0) -> 0 | AE58: =IF(P58="안전관리비", L58, 0) -> 0 | AF58: =IF(P58="품질관리비", L58, 0) -> 0 | AG58: =IF(P58="작업부산물(철거해체)", L58, 0) -> 0 | AH58: =IF(P58="사용자항목6", L58, 0) -> 0 | AI58: =IF(P58="전기공사 손해배상보험료", L58, 0) -> 0 | AJ58: =IF(P58="사용자항목8", L58, 0) -> 0 | AK58: =IF(P58="사용자항목9", L58, 0) -> 0 | AL58: =IF(P58="사용자항목10", L58, 0) -> 0 | AM58: =IF(P58="사용자항목11", L58, 0) -> 0 | AN58: =IF(P58="사용자항목12", L58, 0) -> 0 | AO58: =IF(P58="사용자항목13", L58, 0) -> 0 | AP58: =IF(P58="사용자항목14", L58, 0) -> 0 | AQ58: =IF(P58="사용자항목15", L58, 0) -> 0 | AR58: =IF(P58="사용자항목16", L58, 0) -> 0 | AS58: =IF(P58="사용자항목17", L58, 0) -> 0 | AT58: =IF(P58="사용자항목18", L58, 0) -> 0 | AU58: =IF(P58="사용자항목19", L58, 0) -> 0
A59: F-CV 케이블 | B59: F-CV, 0.6/1kV, 2C 4㎟ | C59: m | D59: 51 | O59: ="" | P59: 기계경비 | Q59: 1 | R59: =IF(P59="기계경비", J59, 0) -> 0 | S59: =IF(P59="운반비", L59, 0) -> 0 | T59: =IF(P59="작업부산물", F59, 0) -> 0 | U59: =IF(P59="관급", F59, 0) -> 0 | V59: =IF(P59="외주비", J59, 0) -> 0 | W59: =IF(P59="장비비", J59, 0) -> 0 | X59: =IF(P59="폐기물처리비", L59, 0) -> 0 | Y59: =IF(P59="가설비", J59, 0) -> 0 | Z59: =IF(P59="잡비제외분", F59, 0) -> 0 | AA59: =IF(P59="사급자재대", L59, 0) -> 0 | AB59: =IF(P59="관급자재대", L59, 0) -> 0 | AC59: =IF(P59="한전불입금", L59, 0) -> 0 | AD59: =IF(P59="사용자항목2", L59, 0) -> 0 | AE59: =IF(P59="안전관리비", L59, 0) -> 0 | AF59: =IF(P59="품질관리비", L59, 0) -> 0 | AG59: =IF(P59="작업부산물(철거해체)", L59, 0) -> 0 | AH59: =IF(P59="사용자항목6", L59, 0) -> 0 | AI59: =IF(P59="전기공사 손해배상보험료", L59, 0) -> 0 | AJ59: =IF(P59="사용자항목8", L59, 0) -> 0 | AK59: =IF(P59="사용자항목9", L59, 0) -> 0 | AL59: =IF(P59="사용자항목10", L59, 0) -> 0 | AM59: =IF(P59="사용자항목11", L59, 0) -> 0 | AN59: =IF(P59="사용자항목12", L59, 0) -> 0 | AO59: =IF(P59="사용자항목13", L59, 0) -> 0 | AP59: =IF(P59="사용자항목14", L59, 0) -> 0 | AQ59: =IF(P59="사용자항목15", L59, 0) -> 0 | AR59: =IF(P59="사용자항목16", L59, 0) -> 0 | AS59: =IF(P59="사용자항목17", L59, 0) -> 0 | AT59: =IF(P59="사용자항목18", L59, 0) -> 0 | AU59: =IF(P59="사용자항목19", L59, 0) -> 0
A60: F-CV 케이블 | B60: F-CV, 0.6/1kV, 2C 6㎟ | C60: m | D60: 462 | O60: ="" | P60: 기계경비 | Q60: 1 | R60: =IF(P60="기계경비", J60, 0) -> 0 | S60: =IF(P60="운반비", L60, 0) -> 0 | T60: =IF(P60="작업부산물", F60, 0) -> 0 | U60: =IF(P60="관급", F60, 0) -> 0 | V60: =IF(P60="외주비", J60, 0) -> 0 | W60: =IF(P60="장비비", J60, 0) -> 0 | X60: =IF(P60="폐기물처리비", L60, 0) -> 0 | Y60: =IF(P60="가설비", J60, 0) -> 0 | Z60: =IF(P60="잡비제외분", F60, 0) -> 0 | AA60: =IF(P60="사급자재대", L60, 0) -> 0 | AB60: =IF(P60="관급자재대", L60, 0) -> 0 | AC60: =IF(P60="한전불입금", L60, 0) -> 0 | AD60: =IF(P60="사용자항목2", L60, 0) -> 0 | AE60: =IF(P60="안전관리비", L60, 0) -> 0 | AF60: =IF(P60="품질관리비", L60, 0) -> 0 | AG60: =IF(P60="작업부산물(철거해체)", L60, 0) -> 0 | AH60: =IF(P60="사용자항목6", L60, 0) -> 0 | AI60: =IF(P60="전기공사 손해배상보험료", L60, 0) -> 0 | AJ60: =IF(P60="사용자항목8", L60, 0) -> 0 | AK60: =IF(P60="사용자항목9", L60, 0) -> 0 | AL60: =IF(P60="사용자항목10", L60, 0) -> 0 | AM60: =IF(P60="사용자항목11", L60, 0) -> 0 | AN60: =IF(P60="사용자항목12", L60, 0) -> 0 | AO60: =IF(P60="사용자항목13", L60, 0) -> 0 | AP60: =IF(P60="사용자항목14", L60, 0) -> 0 | AQ60: =IF(P60="사용자항목15", L60, 0) -> 0 | AR60: =IF(P60="사용자항목16", L60, 0) -> 0 | AS60: =IF(P60="사용자항목17", L60, 0) -> 0 | AT60: =IF(P60="사용자항목18", L60, 0) -> 0 | AU60: =IF(P60="사용자항목19", L60, 0) -> 0
A61: F-CV 케이블 | B61: F-CV, 0.6/1kV, 2C 10㎟ | C61: m | D61: 153 | O61: ="" | P61: 기계경비 | Q61: 1 | R61: =IF(P61="기계경비", J61, 0) -> 0 | S61: =IF(P61="운반비", L61, 0) -> 0 | T61: =IF(P61="작업부산물", F61, 0) -> 0 | U61: =IF(P61="관급", F61, 0) -> 0 | V61: =IF(P61="외주비", J61, 0) -> 0 | W61: =IF(P61="장비비", J61, 0) -> 0 | X61: =IF(P61="폐기물처리비", L61, 0) -> 0 | Y61: =IF(P61="가설비", J61, 0) -> 0 | Z61: =IF(P61="잡비제외분", F61, 0) -> 0 | AA61: =IF(P61="사급자재대", L61, 0) -> 0 | AB61: =IF(P61="관급자재대", L61, 0) -> 0 | AC61: =IF(P61="한전불입금", L61, 0) -> 0 | AD61: =IF(P61="사용자항목2", L61, 0) -> 0 | AE61: =IF(P61="안전관리비", L61, 0) -> 0 | AF61: =IF(P61="품질관리비", L61, 0) -> 0 | AG61: =IF(P61="작업부산물(철거해체)", L61, 0) -> 0 | AH61: =IF(P61="사용자항목6", L61, 0) -> 0 | AI61: =IF(P61="전기공사 손해배상보험료", L61, 0) -> 0 | AJ61: =IF(P61="사용자항목8", L61, 0) -> 0 | AK61: =IF(P61="사용자항목9", L61, 0) -> 0 | AL61: =IF(P61="사용자항목10", L61, 0) -> 0 | AM61: =IF(P61="사용자항목11", L61, 0) -> 0 | AN61: =IF(P61="사용자항목12", L61, 0) -> 0 | AO61: =IF(P61="사용자항목13", L61, 0) -> 0 | AP61: =IF(P61="사용자항목14", L61, 0) -> 0 | AQ61: =IF(P61="사용자항목15", L61, 0) -> 0 | AR61: =IF(P61="사용자항목16", L61, 0) -> 0 | AS61: =IF(P61="사용자항목17", L61, 0) -> 0 | AT61: =IF(P61="사용자항목18", L61, 0) -> 0 | AU61: =IF(P61="사용자항목19", L61, 0) -> 0
A62: LED 조명기구 설치 | B62: 직부등 15W 이하 | C62: EA | D62: 107 | O62: ="" | P62: 기계경비 | Q62: 1 | R62: =IF(P62="기계경비", J62, 0) -> 0 | S62: =IF(P62="운반비", L62, 0) -> 0 | T62: =IF(P62="작업부산물", F62, 0) -> 0 | U62: =IF(P62="관급", F62, 0) -> 0 | V62: =IF(P62="외주비", J62, 0) -> 0 | W62: =IF(P62="장비비", J62, 0) -> 0 | X62: =IF(P62="폐기물처리비", L62, 0) -> 0 | Y62: =IF(P62="가설비", J62, 0) -> 0 | Z62: =IF(P62="잡비제외분", F62, 0) -> 0 | AA62: =IF(P62="사급자재대", L62, 0) -> 0 | AB62: =IF(P62="관급자재대", L62, 0) -> 0 | AC62: =IF(P62="한전불입금", L62, 0) -> 0 | AD62: =IF(P62="사용자항목2", L62, 0) -> 0 | AE62: =IF(P62="안전관리비", L62, 0) -> 0 | AF62: =IF(P62="품질관리비", L62, 0) -> 0 | AG62: =IF(P62="작업부산물(철거해체)", L62, 0) -> 0 | AH62: =IF(P62="사용자항목6", L62, 0) -> 0 | AI62: =IF(P62="전기공사 손해배상보험료", L62, 0) -> 0 | AJ62: =IF(P62="사용자항목8", L62, 0) -> 0 | AK62: =IF(P62="사용자항목9", L62, 0) -> 0 | AL62: =IF(P62="사용자항목10", L62, 0) -> 0 | AM62: =IF(P62="사용자항목11", L62, 0) -> 0 | AN62: =IF(P62="사용자항목12", L62, 0) -> 0 | AO62: =IF(P62="사용자항목13", L62, 0) -> 0 | AP62: =IF(P62="사용자항목14", L62, 0) -> 0 | AQ62: =IF(P62="사용자항목15", L62, 0) -> 0 | AR62: =IF(P62="사용자항목16", L62, 0) -> 0 | AS62: =IF(P62="사용자항목17", L62, 0) -> 0 | AT62: =IF(P62="사용자항목18", L62, 0) -> 0 | AU62: =IF(P62="사용자항목19", L62, 0) -> 0
A63: SMPS | B63: DC 24V, 600W | C63: EA | D63: 2 | O63: ="" | P63: 기계경비 | Q63: 1 | R63: =IF(P63="기계경비", J63, 0) -> 0 | S63: =IF(P63="운반비", L63, 0) -> 0 | T63: =IF(P63="작업부산물", F63, 0) -> 0 | U63: =IF(P63="관급", F63, 0) -> 0 | V63: =IF(P63="외주비", J63, 0) -> 0 | W63: =IF(P63="장비비", J63, 0) -> 0 | X63: =IF(P63="폐기물처리비", L63, 0) -> 0 | Y63: =IF(P63="가설비", J63, 0) -> 0 | Z63: =IF(P63="잡비제외분", F63, 0) -> 0 | AA63: =IF(P63="사급자재대", L63, 0) -> 0 | AB63: =IF(P63="관급자재대", L63, 0) -> 0 | AC63: =IF(P63="한전불입금", L63, 0) -> 0 | AD63: =IF(P63="사용자항목2", L63, 0) -> 0 | AE63: =IF(P63="안전관리비", L63, 0) -> 0 | AF63: =IF(P63="품질관리비", L63, 0) -> 0 | AG63: =IF(P63="작업부산물(철거해체)", L63, 0) -> 0 | AH63: =IF(P63="사용자항목6", L63, 0) -> 0 | AI63: =IF(P63="전기공사 손해배상보험료", L63, 0) -> 0 | AJ63: =IF(P63="사용자항목8", L63, 0) -> 0 | AK63: =IF(P63="사용자항목9", L63, 0) -> 0 | AL63: =IF(P63="사용자항목10", L63, 0) -> 0 | AM63: =IF(P63="사용자항목11", L63, 0) -> 0 | AN63: =IF(P63="사용자항목12", L63, 0) -> 0 | AO63: =IF(P63="사용자항목13", L63, 0) -> 0 | AP63: =IF(P63="사용자항목14", L63, 0) -> 0 | AQ63: =IF(P63="사용자항목15", L63, 0) -> 0 | AR63: =IF(P63="사용자항목16", L63, 0) -> 0 | AS63: =IF(P63="사용자항목17", L63, 0) -> 0 | AT63: =IF(P63="사용자항목18", L63, 0) -> 0 | AU63: =IF(P63="사용자항목19", L63, 0) -> 0
A64: SMPS | B64: DC 24V, 1kW | C64: EA | D64: 1 | O64: ="" | P64: 기계경비 | Q64: 1 | R64: =IF(P64="기계경비", J64, 0) -> 0 | S64: =IF(P64="운반비", L64, 0) -> 0 | T64: =IF(P64="작업부산물", F64, 0) -> 0 | U64: =IF(P64="관급", F64, 0) -> 0 | V64: =IF(P64="외주비", J64, 0) -> 0 | W64: =IF(P64="장비비", J64, 0) -> 0 | X64: =IF(P64="폐기물처리비", L64, 0) -> 0 | Y64: =IF(P64="가설비", J64, 0) -> 0 | Z64: =IF(P64="잡비제외분", F64, 0) -> 0 | AA64: =IF(P64="사급자재대", L64, 0) -> 0 | AB64: =IF(P64="관급자재대", L64, 0) -> 0 | AC64: =IF(P64="한전불입금", L64, 0) -> 0 | AD64: =IF(P64="사용자항목2", L64, 0) -> 0 | AE64: =IF(P64="안전관리비", L64, 0) -> 0 | AF64: =IF(P64="품질관리비", L64, 0) -> 0 | AG64: =IF(P64="작업부산물(철거해체)", L64, 0) -> 0 | AH64: =IF(P64="사용자항목6", L64, 0) -> 0 | AI64: =IF(P64="전기공사 손해배상보험료", L64, 0) -> 0 | AJ64: =IF(P64="사용자항목8", L64, 0) -> 0 | AK64: =IF(P64="사용자항목9", L64, 0) -> 0 | AL64: =IF(P64="사용자항목10", L64, 0) -> 0 | AM64: =IF(P64="사용자항목11", L64, 0) -> 0 | AN64: =IF(P64="사용자항목12", L64, 0) -> 0 | AO64: =IF(P64="사용자항목13", L64, 0) -> 0 | AP64: =IF(P64="사용자항목14", L64, 0) -> 0 | AQ64: =IF(P64="사용자항목15", L64, 0) -> 0 | AR64: =IF(P64="사용자항목16", L64, 0) -> 0 | AS64: =IF(P64="사용자항목17", L64, 0) -> 0 | AT64: =IF(P64="사용자항목18", L64, 0) -> 0 | AU64: =IF(P64="사용자항목19", L64, 0) -> 0
...
