Workbook

Sheet 원가계산서
A1: 공 사 원 가 계 산 서
A2: 공사명 : 2026년 태백산국립공원 하늘전망대 야간조명 설치공사
A3: 구 분 비 목 | D3: 구 성 비 | E3: 금 액 | F3: 비 고
A5: 순 공 사 원 가 | B5: 재료비 | C5: 직 접 재 료 비 | E5: =ROUNDDOWN(집계표!E20-집계표!AU20, 0) -> 0 | G5: A1 | H5: 0 | I5: =E5 -> 0
C6: 간 접 재 료 비 | E6: =ROUNDDOWN(E5*H6, 0) -> 0 | G6: A2 | H6: 0 | I6: =E6 -> 0
C7: 소 계 | E7: =SUM(E5:E5)-ABS(0) -> 0 | G7: A | H7: 0 | I7: =E7 -> 0
B8: 노무비 | C8: 직 접 노 무 비 | E8: =ROUNDDOWN(집계표!G20, 0) -> 0 | G8: B1 | H8: 0 | I8: =E8 -> 0
C9: 간 접 노 무 비 | D9: 직.노*19.1% | E9: =ROUNDDOWN(E8*H9, 0) -> 0 | G9: B2 | H9: 0.191 | I9: =E9 -> 0
C10: 소 계 | E10: =SUM(E8:E9) -> 0 | G10: B | H10: 0 | I10: =E10 -> 0
B11: 경 비 | C11: 기 계 경 비 | E11: =ROUNDDOWN(집계표!I20, 0) -> 0 | G11: C4 | H11: 0 | I11: =E11 -> 0
C12: 산 재 보 험 료 | D12: (노)*3.56% | E12: =ROUNDDOWN((E10)*H12, 0) -> 0 | G12: C10 | H12: 0.0356 | I12: =E12 -> 0
C13: 고 용 보 험 료 | D13: (노)*1.01% | E13: =ROUNDDOWN((E10)*H13, 0) -> 0 | G13: C11 | H13: 0.0101 | I13: =E13 -> 0
C14: 건 강 보 험 료 | D14: (직.노)*3.595% | E14: =ROUNDDOWN((E8)*H14, 0) -> 0 | G14: C12 | H14: 0.03595 | I14: =E14 -> 0
C15: 연 금 보 험 료 | D15: (직.노)*4.75% | E15: =ROUNDDOWN((E8)*H15, 0) -> 0 | G15: C13 | H15: 0.0475 | I15: =E15 -> 0
C16: 노인 장기 요양보험료 | D16: (건강보험료)*13.14% | E16: =ROUNDDOWN((E14)*H16, 0) -> 0 | G16: C14 | H16: 0.1314 | I16: =E16 -> 0
C17: 퇴 직 공 제 부 금 비 | D17: (직.노)*2.3% | E17: =ROUNDDOWN((E8)*H17, 0) -> 0 | G17: C15 | H17: 0.023 | I17: =E17 -> 0
C18: 산업 안전 보건관리비 | D18: (재+직.노+(관급-300,672)/1.1)*2.07% > (재+직.노)*2.07%*1.2 | E18: =ROUNDDOWN((E7+E8)*H18*1.2, 0) -> 0 | G18: C16 | H18: 0.0207 | I18: =E18 -> 0
C19: 기 타 경 비 | D19: (재+노)*5.5% | E19: =ROUNDDOWN((E7+E10)*H19, 0) -> 0 | G19: C20 | H19: 0.055 | I19: =E19 -> 0
C20: 석 면 분 담 금 | D20: 노*0.006% | E20: =ROUNDDOWN(E10*H20, 0) -> 0 | G20: C21 | H20: 6e-05 | I20: =E20 -> 0
C21: 임금 채권 부담금 | D21: 노*0.09% | E21: =ROUNDDOWN(E10*H21, 0) -> 0 | G21: C22 | H21: 0.0009 | I21: =E21 -> 0
C22: 소 계 | E22: =SUM(E11:E21) -> 0 | G22: C | H22: 0 | I22: =E22 -> 0
B23: 계 | E23: =E7+E10+E22 -> 0 | G23: X | H23: 0 | I23: =E23 -> 0
A24: 일 반 관 리 비 | D24: (재+노+경)*8% | E24: =ROUNDDOWN((E7+E10+E22)*H24, 0) -> 0 | G24: D | H24: 0.08 | I24: =E24 -> 0
A25: 이 윤 | D25: (노+경+일)*15% | E25: =ROUNDDOWN((E10+E22+E24)*H25, 0) -> 0 | G25: E | H25: 0.15 | I25: =(I10+I22+I24)*H25 -> 0
A26: 총 원 가 | E26: =SUM(E23:E25) -> 0 | G26: F | H26: 0 | I26: =SUM(I23:I25) -> 0
A27: 전기공사 손해배상보험료 | D27: (총원가+관급)*0.26477% | G27: L1 | H27: 0.0026477 | I27: =E27 -> 0
A28: 부 가 가 치 세 | D28: (총원가+사용자항목8)*10% | G28: H | H28: 0.1 | I28: =ROUNDDOWN((I26+I27)*H28, 0)+71031 -> 71031 | J28: 31
A29: 도 급 금 액 | G29: Y | H29: 0 | I29: =I26+I28+710000 -> 781031
A30: 관 급 자 재 대 | G30: J | H30: 0 | I30: =E30 -> 0
A31: 총 공 사 금 액 | H31: 0 | I31: =I29+I30+0+0+0+0 -> 781031

Sheet 집계표
A1: 공 사 집 계 표
A2: 공사명 : 2026년 태백산국립공원 하늘전망대 야간조명 설치공사
A3: 품 명 | B3: 단위 | C3: 수량 | D3: 재 료 비 | F3: 노 무 비 | H3: 경 비 | J3: 합 계 | L3: 비고
D4: 단 가 | E4: 금 액 | F4: 단 가 | G4: 금 액 | H4: 단 가 | I4: 금 액 | J4: 단 가 | K4: 금 액 | M4: 손료요율 | N4: 손료구분 | O4: 적용구분 | P4: 합계구분 | Q4: 기계경비 | R4: 운반비 | S4: 작업부산물 | T4: 관급 | U4: 외주비 | V4: 장비비 | W4: 폐기물처리비 | X4: 가설비 | Y4: 잡비제외분 | Z4: 사급자재대 | AA4: 관급자재대 | AB4: 한전불입금 | AC4: 사용자항목2 | AD4: 안전관리비 | AE4: 품질관리비 | AF4: 작업부산물(철거해체) | AG4: 사용자항목6 | AH4: 전기공사 손해배상보험료 | AI4: 사용자항목8 | AJ4: 사용자항목9 | AK4: 사용자항목10 | AL4: 사용자항목11 | AM4: 사용자항목12 | AN4: 사용자항목13 | AO4: 사용자항목14 | AP4: 사용자항목15 | AQ4: 사용자항목16 | AR4: 사용자항목17 | AS4: 사용자항목18 | AT4: 사용자항목19 | AU4: 간접재료비 | AV4: 품목구분 | AW4: 조달코드 | AX4: 구분
A5: 01. 도급공사 | B5: 식 | C5: 1 | P5: 1 | Q5: =C5*Q36 -> 0 | R5: =C5*R36 -> 0 | S5: =C5*S36 -> 0 | T5: =C5*T36 -> 0 | U5: =C5*U36 -> 0 | V5: =C5*V36 -> 0 | W5: =C5*W36 -> 0 | X5: =C5*X36 -> 0 | Y5: =C5*Y36 -> 0 | Z5: =C5*Z36 -> 0 | AA5: =C5*AA36 -> 0 | AB5: =C5*AB36 -> 0 | AC5: =C5*AC36 -> 0 | AD5: =C5*AD36 -> 0 | AE5: =C5*AE36 -> 0 | AF5: =C5*AF36 -> 0 | AG5: =C5*AG36 -> 0 | AH5: =C5*AH36 -> 0 | AI5: =C5*AI36 -> 0 | AJ5: =C5*AJ36 -> 0 | AK5: =C5*AK36 -> 0 | AL5: =C5*AL36 -> 0 | AM5: =C5*AM36 -> 0 | AN5: =C5*AN36 -> 0 | AO5: =C5*AO36 -> 0 | AP5: =C5*AP36 -> 0 | AQ5: =C5*AQ36 -> 0 | AR5: =C5*AR36 -> 0 | AS5: =C5*AS36 -> 0 | AT5: =C5*AT36 -> 0 | AU5: =C5*AU36 -> 0
A6: 02. 관급자재 | B6: 식 | C6: 1 | Q6: =C6*Q52 -> 0 | R6: =C6*R52 -> 0 | S6: =C6*S52 -> 0 | T6: =C6*T52 -> 0 | U6: =C6*U52 -> 0 | V6: =C6*V52 -> 0 | W6: =C6*W52 -> 0 | X6: =C6*X52 -> 0 | Y6: =C6*Y52 -> 0 | Z6: =C6*Z52 -> 0 | AA6: =C6*AA52 -> 0 | AB6: =C6*AB52 -> 0 | AC6: =C6*AC52 -> 0 | AD6: =C6*AD52 -> 0 | AE6: =C6*AE52 -> 0 | AF6: =C6*AF52 -> 0 | AG6: =C6*AG52 -> 0 | AH6: =C6*AH52 -> 0 | AI6: =C6*AI52 -> 0 | AJ6: =C6*AJ52 -> 0 | AK6: =C6*AK52 -> 0 | AL6: =C6*AL52 -> 0 | AM6: =C6*AM52 -> 0 | AN6: =C6*AN52 -> 0 | AO6: =C6*AO52 -> 0 | AP6: =C6*AP52 -> 0 | AQ6: =C6*AQ52 -> 0 | AR6: =C6*AR52 -> 0 | AS6: =C6*AS52 -> 0 | AT6: =C6*AT52 -> 0 | AU6: =C6*AU52 -> 0
A20: 합 계 | Q20: =SUM(Q5:Q6) -> 0 | R20: =SUM(R5:R6) -> 0 | S20: =SUM(S5:S6) -> 0 | T20: =SUM(T5:T6) -> 0 | U20: =SUM(U5:U6) -> 0 | V20: =SUM(V5:V6) -> 0 | W20: =SUM(W5:W6) -> 0 | X20: =SUM(X5:X6) -> 0 | ... AX20: =SUM(AX5:AX6) -> 0
A21: 01. 도급공사
A22: 0101. 공통사항 | B22: 식 | C22: 1 | P22: 1 | Q22: =C22*내역서!R20 -> 0 | R22: =C22*내역서!S20 -> 0 | S22: =C22*내역서!T20 -> 0 | T22: =C22*내역서!U20 -> 0 | U22: =C22*내역서!V20 -> 0 | V22: =C22*내역서!W20 -> 0 | W22: =C22*내역서!X20 -> 0 | X22: =C22*내역서!Y20 -> 0 | Y22: =C22*내역서!Z20 -> 0 | Z22: =C22*내역서!AA20 -> 0 | AA22: =C22*내역서!AB20 -> 0 | AB22: =C22*내역서!AC20 -> 0 | AC22: =C22*내역서!AD20 -> 0 | AD22: =C22*내역서!AE20 -> 0 | AE22: =C22*내역서!AF20 -> 0 | AF22: =C22*내역서!AG20 -> 0 | AG22: =C22*내역서!AH20 -> 0 | AH22: =C22*내역서!AI20 -> 0 | AI22: =C22*내역서!AJ20 -> 0 | AJ22: =C22*내역서!AK20 -> 0 | AK22: =C22*내역서!AL20 -> 0 | AL22: =C22*내역서!AM20 -> 0 | AM22: =C22*내역서!AN20 -> 0 | AN22: =C22*내역서!AO20 -> 0 | AO22: =C22*내역서!AP20 -> 0 | AP22: =C22*내역서!AQ20 -> 0 | AQ22: =C22*내역서!AR20 -> 0 | AR22: =C22*내역서!AS20 -> 0 | AS22: =C22*내역서!AT20 -> 0 | AT22: =C22*내역서!AU20 -> 0 | AU22: =C22*내역서!AV20 -> 0
A23: 0102. 데크 라인 조명 - 1 | B23: 식 | C23: 1 | P23: 1 | Q23: =C23*내역서!R52 -> 0 | R23: =C23*내역서!S52 -> 0 | S23: =C23*내역서!T52 -> 0 | T23: =C23*내역서!U52 -> 0 | U23: =C23*내역서!V52 -> 0 | V23: =C23*내역서!W52 -> 0 | W23: =C23*내역서!X52 -> 0 | X23: =C23*내역서!Y52 -> 0 | Y23: =C23*내역서!Z52 -> 0 | Z23: =C23*내역서!AA52 -> 0 | AA23: =C23*내역서!AB52 -> 0 | AB23: =C23*내역서!AC52 -> 0 | AC23: =C23*내역서!AD52 -> 0 | AD23: =C23*내역서!AE52 -> 0 | AE23: =C23*내역서!AF52 -> 0 | AF23: =C23*내역서!AG52 -> 0 | AG23: =C23*내역서!AH52 -> 0 | AH23: =C23*내역서!AI52 -> 0 | AI23: =C23*내역서!AJ52 -> 0 | AJ23: =C23*내역서!AK52 -> 0 | AK23: =C23*내역서!AL52 -> 0 | AL23: =C23*내역서!AM52 -> 0 | AM23: =C23*내역서!AN52 -> 0 | AN23: =C23*내역서!AO52 -> 0 | AO23: =C23*내역서!AP52 -> 0 | AP23: =C23*내역서!AQ52 -> 0 | AQ23: =C23*내역서!AR52 -> 0 | AR23: =C23*내역서!AS52 -> 0 | AS23: =C23*내역서!AT52 -> 0 | AT23: =C23*내역서!AU52 -> 0 | AU23: =C23*내역서!AV52 -> 0
A24: 0103. 데크 라인 조명 - 2 | B24: 식 | C24: 1 | P24: 1 | Q24: =C24*내역서!R68 -> 0 | R24: =C24*내역서!S68 -> 0 | S24: =C24*내역서!T68 -> 0 | T24: =C24*내역서!U68 -> 0 | U24: =C24*내역서!V68 -> 0 | V24: =C24*내역서!W68 -> 0 | W24: =C24*내역서!X68 -> 0 | X24: =C24*내역서!Y68 -> 0 | Y24: =C24*내역서!Z68 -> 0 | Z24: =C24*내역서!AA68 -> 0 | AA24: =C24*내역서!AB68 -> 0 | AB24: =C24*내역서!AC68 -> 0 | AC24: =C24*내역서!AD68 -> 0 | AD24: =C24*내역서!AE68 -> 0 | AE24: =C24*내역서!AF68 -> 0 | AF24: =C24*내역서!AG68 -> 0 | AG24: =C24*내역서!AH68 -> 0 | AH24: =C24*내역서!AI68 -> 0 | AI24: =C24*내역서!AJ68 -> 0 | AJ24: =C24*내역서!AK68 -> 0 | AK24: =C24*내역서!AL68 -> 0 | AL24: =C24*내역서!AM68 -> 0 | AM24: =C24*내역서!AN68 -> 0 | AN24: =C24*내역서!AO68 -> 0 | AO24: =C24*내역서!AP68 -> 0 | AP24: =C24*내역서!AQ68 -> 0 | AQ24: =C24*내역서!AR68 -> 0 | AR24: =C24*내역서!AS68 -> 0 | AS24: =C24*내역서!AT68 -> 0 | AT24: =C24*내역서!AU68 -> 0 | AU24: =C24*내역서!AV68 -> 0
A25: 0104. 전망대 라인 조명 | B25: 식 | C25: 1 | P25: 1 | Q25: =C25*내역서!R100 -> 0 | R25: =C25*내역서!S100 -> 0 | S25: =C25*내역서!T100 -> 0 | T25: =C25*내역서!U100 -> 0 | U25: =C25*내역서!V100 -> 0 | V25: =C25*내역서!W100 -> 0 | W25: =C25*내역서!X100 -> 0 | X25: =C25*내역서!Y100 -> 0 | Y25: =C25*내역서!Z100 -> 0 | Z25: =C25*내역서!AA100 -> 0 | AA25: =C25*내역서!AB100 -> 0 | AB25: =C25*내역서!AC100 -> 0 | AC25: =C25*내역서!AD100 -> 0 | AD25: =C25*내역서!AE100 -> 0 | AE25: =C25*내역서!AF100 -> 0 | AF25: =C25*내역서!AG100 -> 0 | AG25: =C25*내역서!AH100 -> 0 | AH25: =C25*내역서!AI100 -> 0 | AI25: =C25*내역서!AJ100 -> 0 | AJ25: =C25*내역서!AK100 -> 0 | AK25: =C25*내역서!AL100 -> 0 | AL25: =C25*내역서!AM100 -> 0 | AM25: =C25*내역서!AN100 -> 0 | AN25: =C25*내역서!AO100 -> 0 | AO25: =C25*내역서!AP100 -> 0 | AP25: =C25*내역서!AQ100 -> 0 | AQ25: =C25*내역서!AR100 -> 0 | AR25: =C25*내역서!AS100 -> 0 | AS25: =C25*내역서!AT100 -> 0 | AT25: =C25*내역서!AU100 -> 0 | AU25: =C25*내역서!AV100 -> 0
A36: 합 계 | Q36: =SUM(Q22:Q25) -> 0 | R36: =SUM(R22:R25) -> 0 | S36: =SUM(S22:S25) -> 0 | T36: =SUM(T22:T25) -> 0 | U36: =SUM(U22:U25) -> 0 | V36: =SUM(V22:V25) -> 0 | W36: =SUM(W22:W25) -> 0 | X36: =SUM(X22:X25) -> 0 | ... AX36: =SUM(AX22:AX25) -> 0
A37: 02. 관급자재
A38: 0201. 도급자 관급자재 | B38: 식 | C38: 1 | P38: 1 | Q38: =C38*내역서!R116 -> 0 | R38: =C38*내역서!S116 -> 0 | S38: =C38*내역서!T116 -> 0 | T38: =C38*내역서!U116 -> 0 | U38: =C38*내역서!V116 -> 0 | V38: =C38*내역서!W116 -> 0 | W38: =C38*내역서!X116 -> 0 | X38: =C38*내역서!Y116 -> 0 | Y38: =C38*내역서!Z116 -> 0 | Z38: =C38*내역서!AA116 -> 0 | AA38: =C38*내역서!AB116 -> 0 | AB38: =C38*내역서!AC116 -> 0 | AC38: =C38*내역서!AD116 -> 0 | AD38: =C38*내역서!AE116 -> 0 | AE38: =C38*내역서!AF116 -> 0 | AF38: =C38*내역서!AG116 -> 0 | AG38: =C38*내역서!AH116 -> 0 | AH38: =C38*내역서!AI116 -> 0 | AI38: =C38*내역서!AJ116 -> 0 | AJ38: =C38*내역서!AK116 -> 0 | AK38: =C38*내역서!AL116 -> 0 | AL38: =C38*내역서!AM116 -> 0 | AM38: =C38*내역서!AN116 -> 0 | AN38: =C38*내역서!AO116 -> 0 | AO38: =C38*내역서!AP116 -> 0 | AP38: =C38*내역서!AQ116 -> 0 | AQ38: =C38*내역서!AR116 -> 0 | AR38: =C38*내역서!AS116 -> 0 | AS38: =C38*내역서!AT116 -> 0 | AT38: =C38*내역서!AU116 -> 0 | AU38: =C38*내역서!AV116 -> 0
A52: 합 계 | Q52: =SUM(Q38:Q38) -> 0 | R52: =SUM(R38:R38) -> 0 | S52: =SUM(S38:S38) -> 0 | T52: =SUM(T38:T38) -> 0 | U52: =SUM(U38:U38) -> 0 | V52: =SUM(V38:V38) -> 0 | W52: =SUM(W38:W38) -> 0 | X52: =SUM(X38:X38) -> 0 | ... AX52: =SUM(AX38:AX38) -> 0

Sheet 내역서
A1: 공 사 내 역 서
A2: 공사명 : 2026년 태백산국립공원 하늘전망대 야간조명 설치공사
A3: 품 명 | B3: 규 격 | C3: 단위 | D3: 수 량 | E3: 재 료 비 | G3: 노 무 비 | I3: 경 비 | K3: 합 계 | M3: 비고
E4: 단 가 | F4: 금 액 | G4: 단 가 | H4: 금 액 | I4: 단 가 | J4: 금 액 | K4: 단 가 | L4: 금 액 | N4: 손료요율 | O4: 손료구분 | P4: 적용구분 | Q4: 합계구분 | R4: 기계경비 | S4: 운반비 | T4: 작업부산물 | U4: 관급 | V4: 외주비 | W4: 장비비 | X4: 폐기물처리비 | Y4: 가설비 | Z4: 잡비제외분 | AA4: 사급자재대 | AB4: 관급자재대 | AC4: 한전불입금 | AD4: 사용자항목2 | AE4: 안전관리비 | AF4: 품질관리비 | AG4: 작업부산물(철거해체) | AH4: 사용자항목6 | AI4: 전기공사 손해배상보험료 | AJ4: 사용자항목8 | AK4: 사용자항목9 | AL4: 사용자항목10 | AM4: 사용자항목11 | AN4: 사용자항목12 | AO4: 사용자항목13 | AP4: 사용자항목14 | AQ4: 사용자항목15 | AR4: 사용자항목16 | AS4: 사용자항목17 | AT4: 사용자항목18 | AU4: 사용자항목19 | AV4: 간접재료비 | AW4: 품목구분 | AX4: 조달코드 | AY4: 구분
A5: 0101. 공통사항
A6: SMPS 외함 | B6: STS 1.5T,600*930*250 | C6: 면 | D6: 2 | O6: ="" | P6: 기계경비 | Q6: 1 | R6: =IF(P6="기계경비", J6, 0) -> 0 | S6: =IF(P6="운반비", L6, 0) -> 0 | T6: =IF(P6="작업부산물", F6, 0) -> 0 | U6: =IF(P6="관급", F6, 0) -> 0 | V6: =IF(P6="외주비", J6, 0) -> 0 | W6: =IF(P6="장비비", J6, 0) -> 0 | X6: =IF(P6="폐기물처리비", L6, 0) -> 0 | Y6: =IF(P6="가설비", J6, 0) -> 0 | Z6: =IF(P6="잡비제외분", F6, 0) -> 0 | AA6: =IF(P6="사급자재대", L6, 0) -> 0 | AB6: =IF(P6="관급자재대", L6, 0) -> 0 | AC6: =IF(P6="한전불입금", L6, 0) -> 0 | AD6: =IF(P6="사용자항목2", L6, 0) -> 0 | AE6: =IF(P6="안전관리비", L6, 0) -> 0 | AF6: =IF(P6="품질관리비", L6, 0) -> 0 | AG6: =IF(P6="작업부산물(철거해체)", L6, 0) -> 0 | AH6: =IF(P6="사용자항목6", L6, 0) -> 0 | AI6: =IF(P6="전기공사 손해배상보험료", L6, 0) -> 0 | AJ6: =IF(P6="사용자항목8", L6, 0) -> 0 | AK6: =IF(P6="사용자항목9", L6, 0) -> 0 | AL6: =IF(P6="사용자항목10", L6, 0) -> 0 | AM6: =IF(P6="사용자항목11", L6, 0) -> 0 | AN6: =IF(P6="사용자항목12", L6, 0) -> 0 | AO6: =IF(P6="사용자항목13", L6, 0) -> 0 | AP6: =IF(P6="사용자항목14", L6, 0) -> 0 | AQ6: =IF(P6="사용자항목15", L6, 0) -> 0 | AR6: =IF(P6="사용자항목16", L6, 0) -> 0 | AS6: =IF(P6="사용자항목17", L6, 0) -> 0 | AT6: =IF(P6="사용자항목18", L6, 0) -> 0 | AU6: =IF(P6="사용자항목19", L6, 0) -> 0
A7: SMPS 외함 | B7: STS 1.5T,600*1130*250 | C7: 면 | D7: 1 | O7: ="" | P7: 기계경비 | Q7: 1 | R7: =IF(P7="기계경비", J7, 0) -> 0 | S7: =IF(P7="운반비", L7, 0) -> 0 | T7: =IF(P7="작업부산물", F7, 0) -> 0 | U7: =IF(P7="관급", F7, 0) -> 0 | V7: =IF(P7="외주비", J7, 0) -> 0 | W7: =IF(P7="장비비", J7, 0) -> 0 | X7: =IF(P7="폐기물처리비", L7, 0) -> 0 | Y7: =IF(P7="가설비", J7, 0) -> 0 | Z7: =IF(P7="잡비제외분", F7, 0) -> 0 | AA7: =IF(P7="사급자재대", L7, 0) -> 0 | AB7: =IF(P7="관급자재대", L7, 0) -> 0 | AC7: =IF(P7="한전불입금", L7, 0) -> 0 | AD7: =IF(P7="사용자항목2", L7, 0) -> 0 | AE7: =IF(P7="안전관리비", L7, 0) -> 0 | AF7: =IF(P7="품질관리비", L7, 0) -> 0 | AG7: =IF(P7="작업부산물(철거해체)", L7, 0) -> 0 | AH7: =IF(P7="사용자항목6", L7, 0) -> 0 | AI7: =IF(P7="전기공사 손해배상보험료", L7, 0) -> 0 | AJ7: =IF(P7="사용자항목8", L7, 0) -> 0 | AK7: =IF(P7="사용자항목9", L7, 0) -> 0 | AL7: =IF(P7="사용자항목10", L7, 0) -> 0 | AM7: =IF(P7="사용자항목11", L7, 0) -> 0 | AN7: =IF(P7="사용자항목12", L7, 0) -> 0 | AO7: =IF(P7="사용자항목13", L7, 0) -> 0 | AP7: =IF(P7="사용자항목14", L7, 0) -> 0 | AQ7: =IF(P7="사용자항목15", L7, 0) -> 0 | AR7: =IF(P7="사용자항목16", L7, 0) -> 0 | AS7: =IF(P7="사용자항목17", L7, 0) -> 0 | AT7: =IF(P7="사용자항목18", L7, 0) -> 0 | AU7: =IF(P7="사용자항목19", L7, 0) -> 0
A8: 외함 기초 | B8: 500*750*800 | C8: 개소 | D8: 3 | O8: ="" | P8: 기계경비 | Q8: 1 | R8: =IF(P8="기계경비", J8, 0) -> 0 | S8: =IF(P8="운반비", L8, 0) -> 0 | T8: =IF(P8="작업부산물", F8, 0) -> 0 | U8: =IF(P8="관급", F8, 0) -> 0 | V8: =IF(P8="외주비", J8, 0) -> 0 | W8: =IF(P8="장비비", J8, 0) -> 0 | X8: =IF(P8="폐기물처리비", L8, 0) -> 0 | Y8: =IF(P8="가설비", J8, 0) -> 0 | Z8: =IF(P8="잡비제외분", F8, 0) -> 0 | AA8: =IF(P8="사급자재대", L8, 0) -> 0 | AB8: =IF(P8="관급자재대", L8, 0) -> 0 | AC8: =IF(P8="한전불입금", L8, 0) -> 0 | AD8: =IF(P8="사용자항목2", L8, 0) -> 0 | AE8: =IF(P8="안전관리비", L8, 0) -> 0 | AF8: =IF(P8="품질관리비", L8, 0) -> 0 | AG8: =IF(P8="작업부산물(철거해체)", L8, 0) -> 0 | AH8: =IF(P8="사용자항목6", L8, 0) -> 0 | AI8: =IF(P8="전기공사 손해배상보험료", L8, 0) -> 0 | AJ8: =IF(P8="사용자항목8", L8, 0) -> 0 | AK8: =IF(P8="사용자항목9", L8, 0) -> 0 | AL8: =IF(P8="사용자항목10", L8, 0) -> 0 | AM8: =IF(P8="사용자항목11", L8, 0) -> 0 | AN8: =IF(P8="사용자항목12", L8, 0) -> 0 | AO8: =IF(P8="사용자항목13", L8, 0) -> 0 | AP8: =IF(P8="사용자항목14", L8, 0) -> 0 | AQ8: =IF(P8="사용자항목15", L8, 0) -> 0 | AR8: =IF(P8="사용자항목16", L8, 0) -> 0 | AS8: =IF(P8="사용자항목17", L8, 0) -> 0 | AT8: =IF(P8="사용자항목18", L8, 0) -> 0 | AU8: =IF(P8="사용자항목19", L8, 0) -> 0
A9: 목재데크 설치 | B9: 멀바우 | C9: M2 | D9: 3 | O9: ="" | P9: 기계경비 | Q9: 1 | R9: =IF(P9="기계경비", J9, 0) -> 0 | S9: =IF(P9="운반비", L9, 0) -> 0 | T9: =IF(P9="작업부산물", F9, 0) -> 0 | U9: =IF(P9="관급", F9, 0) -> 0 | V9: =IF(P9="외주비", J9, 0) -> 0 | W9: =IF(P9="장비비", J9, 0) -> 0 | X9: =IF(P9="폐기물처리비", L9, 0) -> 0 | Y9: =IF(P9="가설비", J9, 0) -> 0 | Z9: =IF(P9="잡비제외분", F9, 0) -> 0 | AA9: =IF(P9="사급자재대", L9, 0) -> 0 | AB9: =IF(P9="관급자재대", L9, 0) -> 0 | AC9: =IF(P9="한전불입금", L9, 0) -> 0 | AD9: =IF(P9="사용자항목2", L9, 0) -> 0 | AE9: =IF(P9="안전관리비", L9, 0) -> 0 | AF9: =IF(P9="품질관리비", L9, 0) -> 0 | AG9: =IF(P9="작업부산물(철거해체)", L9, 0) -> 0 | AH9: =IF(P9="사용자항목6", L9, 0) -> 0 | AI9: =IF(P9="전기공사 손해배상보험료", L9, 0) -> 0 | AJ9: =IF(P9="사용자항목8", L9, 0) -> 0 | AK9: =IF(P9="사용자항목9", L9, 0) -> 0 | AL9: =IF(P9="사용자항목10", L9, 0) -> 0 | AM9: =IF(P9="사용자항목11", L9, 0) -> 0 | AN9: =IF(P9="사용자항목12", L9, 0) -> 0 | AO9: =IF(P9="사용자항목13", L9, 0) -> 0 | AP9: =IF(P9="사용자항목14", L9, 0) -> 0 | AQ9: =IF(P9="사용자항목15", L9, 0) -> 0 | AR9: =IF(P9="사용자항목16", L9, 0) -> 0 | AS9: =IF(P9="사용자항목17", L9, 0) -> 0 | AT9: =IF(P9="사용자항목18", L9, 0) -> 0 | AU9: =IF(P9="사용자항목19", L9, 0) -> 0
A10: 디지털 타임스위치 | B10: 10A | C10: EA | D10: 3 | O10: ="" | P10: 기계경비 | Q10: 1 | R10: =IF(P10="기계경비", J10, 0) -> 0 | S10: =IF(P10="운반비", L10, 0) -> 0 | T10: =IF(P10="작업부산물", F10, 0) -> 0 | U10: =IF(P10="관급", F10, 0) -> 0 | V10: =IF(P10="외주비", J10, 0) -> 0 | W10: =IF(P10="장비비", J10, 0) -> 0 | X10: =IF(P10="폐기물처리비", L10, 0) -> 0 | Y10: =IF(P10="가설비", J10, 0) -> 0 | Z10: =IF(P10="잡비제외분", F10, 0) -> 0 | AA10: =IF(P10="사급자재대", L10, 0) -> 0 | AB10: =IF(P10="관급자재대", L10, 0) -> 0 | AC10: =IF(P10="한전불입금", L10, 0) -> 0 | AD10: =IF(P10="사용자항목2", L10, 0) -> 0 | AE10: =IF(P10="안전관리비", L10, 0) -> 0 | AF10: =IF(P10="품질관리비", L10, 0) -> 0 | AG10: =IF(P10="작업부산물(철거해체)", L10, 0) -> 0 | AH10: =IF(P10="사용자항목6", L10, 0) -> 0 | AI10: =IF(P10="전기공사 손해배상보험료", L10, 0) -> 0 | AJ10: =IF(P10="사용자항목8", L10, 0) -> 0 | AK10: =IF(P10="사용자항목9", L10, 0) -> 0 | AL10: =IF(P10="사용자항목10", L10, 0) -> 0 | AM10: =IF(P10="사용자항목11", L10, 0) -> 0 | AN10: =IF(P10="사용자항목12", L10, 0) -> 0 | AO10: =IF(P10="사용자항목13", L10, 0) -> 0 | AP10: =IF(P10="사용자항목14", L10, 0) -> 0 | AQ10: =IF(P10="사용자항목15", L10, 0) -> 0 | AR10: =IF(P10="사용자항목16", L10, 0) -> 0 | AS10: =IF(P10="사용자항목17", L10, 0) -> 0 | AT10: =IF(P10="사용자항목18", L10, 0) -> 0 | AU10: =IF(P10="사용자항목19", L10, 0) -> 0 | AY10: 사용자
A20: 합 계 | R20: =ROUNDDOWN(SUM(R6:R10), 0) -> 0 | S20: =ROUNDDOWN(SUM(S6:S10), 0) -> 0 | T20: =ROUNDDOWN(SUM(T6:T10), 0) -> 0 | U20: =ROUNDDOWN(SUM(U6:U10), 0) -> 0 | V20: =ROUNDDOWN(SUM(V6:V10), 0) -> 0 | W20: =ROUNDDOWN(SUM(W6:W10), 0) -> 0 | X20: =ROUNDDOWN(SUM(X6:X10), 0) -> 0 | Y20: =ROUNDDOWN(SUM(Y6:Y10), 0) -> 0 | ... AY20: =ROUNDDOWN(SUM(AY6:AY10), 0) -> 0
A21: 0102. 데크 라인 조명 - 1
A22: 1종금속제 가요전선관 | B22: 28mm 고장력방수, 노출 | C22: m | D22: 248 | O22: ="" | P22: 기계경비 | Q22: 1 | R22: =IF(P22="기계경비", J22, 0) -> 0 | S22: =IF(P22="운반비", L22, 0) -> 0 | T22: =IF(P22="작업부산물", F22, 0) -> 0 | U22: =IF(P22="관급", F22, 0) -> 0 | V22: =IF(P22="외주비", J22, 0) -> 0 | W22: =IF(P22="장비비", J22, 0) -> 0 | X22: =IF(P22="폐기물처리비", L22, 0) -> 0 | Y22: =IF(P22="가설비", J22, 0) -> 0 | Z22: =IF(P22="잡비제외분", F22, 0) -> 0 | AA22: =IF(P22="사급자재대", L22, 0) -> 0 | AB22: =IF(P22="관급자재대", L22, 0) -> 0 | AC22: =IF(P22="한전불입금", L22, 0) -> 0 | AD22: =IF(P22="사용자항목2", L22, 0) -> 0 | AE22: =IF(P22="안전관리비", L22, 0) -> 0 | AF22: =IF(P22="품질관리비", L22, 0) -> 0 | AG22: =IF(P22="작업부산물(철거해체)", L22, 0) -> 0 | AH22: =IF(P22="사용자항목6", L22, 0) -> 0 | AI22: =IF(P22="전기공사 손해배상보험료", L22, 0) -> 0 | AJ22: =IF(P22="사용자항목8", L22, 0) -> 0 | AK22: =IF(P22="사용자항목9", L22, 0) -> 0 | AL22: =IF(P22="사용자항목10", L22, 0) -> 0 | AM22: =IF(P22="사용자항목11", L22, 0) -> 0 | AN22: =IF(P22="사용자항목12", L22, 0) -> 0 | AO22: =IF(P22="사용자항목13", L22, 0) -> 0 | AP22: =IF(P22="사용자항목14", L22, 0) -> 0 | AQ22: =IF(P22="사용자항목15", L22, 0) -> 0 | AR22: =IF(P22="사용자항목16", L22, 0) -> 0 | AS22: =IF(P22="사용자항목17", L22, 0) -> 0 | AT22: =IF(P22="사용자항목18", L22, 0) -> 0 | AU22: =IF(P22="사용자항목19", L22, 0) -> 0
A23: 1종금속제 가요전선관 | B23: 36mm 고장력방수, 노출 | C23: m | D23: 32 | O23: ="" | P23: 기계경비 | Q23: 1 | R23: =IF(P23="기계경비", J23, 0) -> 0 | S23: =IF(P23="운반비", L23, 0) -> 0 | T23: =IF(P23="작업부산물", F23, 0) -> 0 | U23: =IF(P23="관급", F23, 0) -> 0 | V23: =IF(P23="외주비", J23, 0) -> 0 | W23: =IF(P23="장비비", J23, 0) -> 0 | X23: =IF(P23="폐기물처리비", L23, 0) -> 0 | Y23: =IF(P23="가설비", J23, 0) -> 0 | Z23: =IF(P23="잡비제외분", F23, 0) -> 0 | AA23: =IF(P23="사급자재대", L23, 0) -> 0 | AB23: =IF(P23="관급자재대", L23, 0) -> 0 | AC23: =IF(P23="한전불입금", L23, 0) -> 0 | AD23: =IF(P23="사용자항목2", L23, 0) -> 0 | AE23: =IF(P23="안전관리비", L23, 0) -> 0 | AF23: =IF(P23="품질관리비", L23, 0) -> 0 | AG23: =IF(P23="작업부산물(철거해체)", L23, 0) -> 0 | AH23: =IF(P23="사용자항목6", L23, 0) -> 0 | AI23: =IF(P23="전기공사 손해배상보험료", L23, 0) -> 0 | AJ23: =IF(P23="사용자항목8", L23, 0) -> 0 | AK23: =IF(P23="사용자항목9", L23, 0) -> 0 | AL23: =IF(P23="사용자항목10", L23, 0) -> 0 | AM23: =IF(P23="사용자항목11", L23, 0) -> 0 | AN23: =IF(P23="사용자항목12", L23, 0) -> 0 | AO23: =IF(P23="사용자항목13", L23, 0) -> 0 | AP23: =IF(P23="사용자항목14", L23, 0) -> 0 | AQ23: =IF(P23="사용자항목15", L23, 0) -> 0 | AR23: =IF(P23="사용자항목16", L23, 0) -> 0 | AS23: =IF(P23="사용자항목17", L23, 0) -> 0 | AT23: =IF(P23="사용자항목18", L23, 0) -> 0 | AU23: =IF(P23="사용자항목19", L23, 0) -> 0
A24: 알루미늄 덕트 | B24: 전선덕트, 알루미늄, 50x35mm | C24: m | D24: 335 | O24: ="" | P24: 기계경비 | Q24: 1 | R24: =IF(P24="기계경비", J24, 0) -> 0 | S24: =IF(P24="운반비", L24, 0) -> 0 | T24: =IF(P24="작업부산물", F24, 0) -> 0 | U24: =IF(P24="관급", F24, 0) -> 0 | V24: =IF(P24="외주비", J24, 0) -> 0 | W24: =IF(P24="장비비", J24, 0) -> 0 | X24: =IF(P24="폐기물처리비", L24, 0) -> 0 | Y24: =IF(P24="가설비", J24, 0) -> 0 | Z24: =IF(P24="잡비제외분", F24, 0) -> 0 | AA24: =IF(P24="사급자재대", L24, 0) -> 0 | AB24: =IF(P24="관급자재대", L24, 0) -> 0 | AC24: =IF(P24="한전불입금", L24, 0) -> 0 | AD24: =IF(P24="사용자항목2", L24, 0) -> 0 | AE24: =IF(P24="안전관리비", L24, 0) -> 0 | AF24: =IF(P24="품질관리비", L24, 0) -> 0 | AG24: =IF(P24="작업부산물(철거해체)", L24, 0) -> 0 | AH24: =IF(P24="사용자항목6", L24, 0) -> 0 | AI24: =IF(P24="전기공사 손해배상보험료", L24, 0) -> 0 | AJ24: =IF(P24="사용자항목8", L24, 0) -> 0 | AK24: =IF(P24="사용자항목9", L24, 0) -> 0 | AL24: =IF(P24="사용자항목10", L24, 0) -> 0 | AM24: =IF(P24="사용자항목11", L24, 0) -> 0 | AN24: =IF(P24="사용자항목12", L24, 0) -> 0 | AO24: =IF(P24="사용자항목13", L24, 0) -> 0 | AP24: =IF(P24="사용자항목14", L24, 0) -> 0 | AQ24: =IF(P24="사용자항목15", L24, 0) -> 0 | AR24: =IF(P24="사용자항목16", L24, 0) -> 0 | AS24: =IF(P24="사용자항목17", L24, 0) -> 0 | AT24: =IF(P24="사용자항목18", L24, 0) -> 0 | AU24: =IF(P24="사용자항목19", L24, 0) -> 0 | AY24: 사용자
A25: 알루미늄 덕트 | B25: 전선덕트, 알루미늄, 70x40mm | C25: m | D25: 132 | O25: ="" | P25: 기계경비 | Q25: 1 | R25: =IF(P25="기계경비", J25, 0) -> 0 | S25: =IF(P25="운반비", L25, 0) -> 0 | T25: =IF(P25="작업부산물", F25, 0) -> 0 | U25: =IF(P25="관급", F25, 0) -> 0 | V25: =IF(P25="외주비", J25, 0) -> 0 | W25: =IF(P25="장비비", J25, 0) -> 0 | X25: =IF(P25="폐기물처리비", L25, 0) -> 0 | Y25: =IF(P25="가설비", J25, 0) -> 0 | Z25: =IF(P25="잡비제외분", F25, 0) -> 0 | AA25: =IF(P25="사급자재대", L25, 0) -> 0 | AB25: =IF(P25="관급자재대", L25, 0) -> 0 | AC25: =IF(P25="한전불입금", L25, 0) -> 0 | AD25: =IF(P25="사용자항목2", L25, 0) -> 0 | AE25: =IF(P25="안전관리비", L25, 0) -> 0 | AF25: =IF(P25="품질관리비", L25, 0) -> 0 | AG25: =IF(P25="작업부산물(철거해체)", L25, 0) -> 0 | AH25: =IF(P25="사용자항목6", L25, 0) -> 0 | AI25: =IF(P25="전기공사 손해배상보험료", L25, 0) -> 0 | AJ25: =IF(P25="사용자항목8", L25, 0) -> 0 | AK25: =IF(P25="사용자항목9", L25, 0) -> 0 | AL25: =IF(P25="사용자항목10", L25, 0) -> 0 | AM25: =IF(P25="사용자항목11", L25, 0) -> 0 | AN25: =IF(P25="사용자항목12", L25, 0) -> 0 | AO25: =IF(P25="사용자항목13", L25, 0) -> 0 | AP25: =IF(P25="사용자항목14", L25, 0) -> 0 | AQ25: =IF(P25="사용자항목15", L25, 0) -> 0 | AR25: =IF(P25="사용자항목16", L25, 0) -> 0 | AS25: =IF(P25="사용자항목17", L25, 0) -> 0 | AT25: =IF(P25="사용자항목18", L25, 0) -> 0 | AU25: =IF(P25="사용자항목19", L25, 0) -> 0 | AY25: 사용자
A26: 덕트 지지대 | B26: STS 4T, 50*50*50 | C26: EA | D26: 467 | O26: ="" | P26: 기계경비 | Q26: 1 | R26: =IF(P26="기계경비", J26, 0) -> 0 | S26: =IF(P26="운반비", L26, 0) -> 0 | T26: =IF(P26="작업부산물", F26, 0) -> 0 | U26: =IF(P26="관급", F26, 0) -> 0 | V26: =IF(P26="외주비", J26, 0) -> 0 | W26: =IF(P26="장비비", J26, 0) -> 0 | X26: =IF(P26="폐기물처리비", L26, 0) -> 0 | Y26: =IF(P26="가설비", J26, 0) -> 0 | Z26: =IF(P26="잡비제외분", F26, 0) -> 0 | AA26: =IF(P26="사급자재대", L26, 0) -> 0 | AB26: =IF(P26="관급자재대", L26, 0) -> 0 | AC26: =IF(P26="한전불입금", L26, 0) -> 0 | AD26: =IF(P26="사용자항목2", L26, 0) -> 0 | AE26: =IF(P26="안전관리비", L26, 0) -> 0 | AF26: =IF(P26="품질관리비", L26, 0) -> 0 | AG26: =IF(P26="작업부산물(철거해체)", L26, 0) -> 0 | AH26: =IF(P26="사용자항목6", L26, 0) -> 0 | AI26: =IF(P26="전기공사 손해배상보험료", L26, 0) -> 0 | AJ26: =IF(P26="사용자항목8", L26, 0) -> 0 | AK26: =IF(P26="사용자항목9", L26, 0) -> 0 | AL26: =IF(P26="사용자항목10", L26, 0) -> 0 | AM26: =IF(P26="사용자항목11", L26, 0) -> 0 | AN26: =IF(P26="사용자항목12", L26, 0) -> 0 | AO26: =IF(P26="사용자항목13", L26, 0) -> 0 | AP26: =IF(P26="사용자항목14", L26, 0) -> 0 | AQ26: =IF(P26="사용자항목15", L26, 0) -> 0 | AR26: =IF(P26="사용자항목16", L26, 0) -> 0 | AS26: =IF(P26="사용자항목17", L26, 0) -> 0 | AT26: =IF(P26="사용자항목18", L26, 0) -> 0 | AU26: =IF(P26="사용자항목19", L26, 0) -> 0
A27: 덕트 지지대 설치 | B27: 노출 설치용 | C27: 개소 | D27: 467 | O27: ="" | P27: 기계경비 | Q27: 1 | R27: =IF(P27="기계경비", J27, 0) -> 0 | S27: =IF(P27="운반비", L27, 0) -> 0 | T27: =IF(P27="작업부산물", F27, 0) -> 0 | U27: =IF(P27="관급", F27, 0) -> 0 | V27: =IF(P27="외주비", J27, 0) -> 0 | W27: =IF(P27="장비비", J27, 0) -> 0 | X27: =IF(P27="폐기물처리비", L27, 0) -> 0 | Y27: =IF(P27="가설비", J27, 0) -> 0 | Z27: =IF(P27="잡비제외분", F27, 0) -> 0 | AA27: =IF(P27="사급자재대", L27, 0) -> 0 | AB27: =IF(P27="관급자재대", L27, 0) -> 0 | AC27: =IF(P27="한전불입금", L27, 0) -> 0 | AD27: =IF(P27="사용자항목2", L27, 0) -> 0 | AE27: =IF(P27="안전관리비", L27, 0) -> 0 | AF27: =IF(P27="품질관리비", L27, 0) -> 0 | AG27: =IF(P27="작업부산물(철거해체)", L27, 0) -> 0 | AH27: =IF(P27="사용자항목6", L27, 0) -> 0 | AI27: =IF(P27="전기공사 손해배상보험료", L27, 0) -> 0 | AJ27: =IF(P27="사용자항목8", L27, 0) -> 0 | AK27: =IF(P27="사용자항목9", L27, 0) -> 0 | AL27: =IF(P27="사용자항목10", L27, 0) -> 0 | AM27: =IF(P27="사용자항목11", L27, 0) -> 0 | AN27: =IF(P27="사용자항목12", L27, 0) -> 0 | AO27: =IF(P27="사용자항목13", L27, 0) -> 0 | AP27: =IF(P27="사용자항목14", L27, 0) -> 0 | AQ27: =IF(P27="사용자항목15", L27, 0) -> 0 | AR27: =IF(P27="사용자항목16", L27, 0) -> 0 | AS27: =IF(P27="사용자항목17", L27, 0) -> 0 | AT27: =IF(P27="사용자항목18", L27, 0) -> 0 | AU27: =IF(P27="사용자항목19", L27, 0) -> 0
A28: F-CV 케이블 | B28: F-CV, 0.6/1kV, 3C 4㎟ | C28: m | D28: 102 | O28: ="" | P28: 기계경비 | Q28: 1 | R28: =IF(P28="기계경비", J28, 0) -> 0 | S28: =IF(P28="운반비", L28, 0) -> 0 | T28: =IF(P28="작업부산물", F28, 0) -> 0 | U28: =IF(P28="관급", F28, 0) -> 0 | V28: =IF(P28="외주비", J28, 0) -> 0 | W28: =IF(P28="장비비", J28, 0) -> 0 | X28: =IF(P28="폐기물처리비", L28, 0) -> 0 | Y28: =IF(P28="가설비", J28, 0) -> 0 | Z28: =IF(P28="잡비제외분", F28, 0) -> 0 | AA28: =IF(P28="사급자재대", L28, 0) -> 0 | AB28: =IF(P28="관급자재대", L28, 0) -> 0 | AC28: =IF(P28="한전불입금", L28, 0) -> 0 | AD28: =IF(P28="사용자항목2", L28, 0) -> 0 | AE28: =IF(P28="안전관리비", L28, 0) -> 0 | AF28: =IF(P28="품질관리비", L28, 0) -> 0 | AG28: =IF(P28="작업부산물(철거해체)", L28, 0) -> 0 | AH28: =IF(P28="사용자항목6", L28, 0) -> 0 | AI28: =IF(P28="전기공사 손해배상보험료", L28, 0) -> 0 | AJ28: =IF(P28="사용자항목8", L28, 0) -> 0 | AK28: =IF(P28="사용자항목9", L28, 0) -> 0 | AL28: =IF(P28="사용자항목10", L28, 0) -> 0 | AM28: =IF(P28="사용자항목11", L28, 0) -> 0 | AN28: =IF(P28="사용자항목12", L28, 0) -> 0 | AO28: =IF(P28="사용자항목13", L28, 0) -> 0 | AP28: =IF(P28="사용자항목14", L28, 0) -> 0 | AQ28: =IF(P28="사용자항목15", L28, 0) -> 0 | AR28: =IF(P28="사용자항목16", L28, 0) -> 0 | AS28: =IF(P28="사용자항목17", L28, 0) -> 0 | AT28: =IF(P28="사용자항목18", L28, 0) -> 0 | AU28: =IF(P28="사용자항목19", L28, 0) -> 0 | AY28: 사용자
A29: F-CV 케이블 | B29: F-CV, 0.6/1kV, 3C 10㎟ | C29: m | D29: 182 | O29: ="" | P29: 기계경비 | Q29: 1 | R29: =IF(P29="기계경비", J29, 0) -> 0 | S29: =IF(P29="운반비", L29, 0) -> 0 | T29: =IF(P29="작업부산물", F29, 0) -> 0 | U29: =IF(P29="관급", F29, 0) -> 0 | V29: =IF(P29="외주비", J29, 0) -> 0 | W29: =IF(P29="장비비", J29, 0) -> 0 | X29: =IF(P29="폐기물처리비", L29, 0) -> 0 | Y29: =IF(P29="가설비", J29, 0) -> 0 | Z29: =IF(P29="잡비제외분", F29, 0) -> 0 | AA29: =IF(P29="사급자재대", L29, 0) -> 0 | AB29: =IF(P29="관급자재대", L29, 0) -> 0 | AC29: =IF(P29="한전불입금", L29, 0) -> 0 | AD29: =IF(P29="사용자항목2", L29, 0) -> 0 | AE29: =IF(P29="안전관리비", L29, 0) -> 0 | AF29: =IF(P29="품질관리비", L29, 0) -> 0 | AG29: =IF(P29="작업부산물(철거해체)", L29, 0) -> 0 | AH29: =IF(P29="사용자항목6", L29, 0) -> 0 | AI29: =IF(P29="전기공사 손해배상보험료", L29, 0) -> 0 | AJ29: =IF(P29="사용자항목8", L29, 0) -> 0 | AK29: =IF(P29="사용자항목9", L29, 0) -> 0 | AL29: =IF(P29="사용자항목10", L29, 0) -> 0 | AM29: =IF(P29="사용자항목11", L29, 0) -> 0 | AN29: =IF(P29="사용자항목12", L29, 0) -> 0 | AO29: =IF(P29="사용자항목13", L29, 0) -> 0 | AP29: =IF(P29="사용자항목14", L29, 0) -> 0 | AQ29: =IF(P29="사용자항목15", L29, 0) -> 0 | AR29: =IF(P29="사용자항목16", L29, 0) -> 0 | AS29: =IF(P29="사용자항목17", L29, 0) -> 0 | AT29: =IF(P29="사용자항목18", L29, 0) -> 0 | AU29: =IF(P29="사용자항목19", L29, 0) -> 0 | AY29: 사용자
A30: F-CV 케이블 | B30: F-CV, 0.6/1kV, 2C 4㎟ | C30: m | D30: 146 | O30: ="" | P30: 기계경비 | Q30: 1 | R30: =IF(P30="기계경비", J30, 0) -> 0 | S30: =IF(P30="운반비", L30, 0) -> 0 | T30: =IF(P30="작업부산물", F30, 0) -> 0 | U30: =IF(P30="관급", F30, 0) -> 0 | V30: =IF(P30="외주비", J30, 0) -> 0 | W30: =IF(P30="장비비", J30, 0) -> 0 | X30: =IF(P30="폐기물처리비", L30, 0) -> 0 | Y30: =IF(P30="가설비", J30, 0) -> 0 | Z30: =IF(P30="잡비제외분", F30, 0) -> 0 | AA30: =IF(P30="사급자재대", L30, 0) -> 0 | AB30: =IF(P30="관급자재대", L30, 0) -> 0 | AC30: =IF(P30="한전불입금", L30, 0) -> 0 | AD30: =IF(P30="사용자항목2", L30, 0) -> 0 | AE30: =IF(P30="안전관리비", L30, 0) -> 0 | AF30: =IF(P30="품질관리비", L30, 0) -> 0 | AG30: =IF(P30="작업부산물(철거해체)", L30, 0) -> 0 | AH30: =IF(P30="사용자항목6", L30, 0) -> 0 | AI30: =IF(P30="전기공사 손해배상보험료", L30, 0) -> 0 | AJ30: =IF(P30="사용자항목8", L30, 0) -> 0 | AK30: =IF(P30="사용자항목9", L30, 0) -> 0 | AL30: =IF(P30="사용자항목10", L30, 0) -> 0 | AM30: =IF(P30="사용자항목11", L30, 0) -> 0 | AN30: =IF(P30="사용자항목12", L30, 0) -> 0 | AO30: =IF(P30="사용자항목13", L30, 0) -> 0 | AP30: =IF(P30="사용자항목14", L30, 0) -> 0 | AQ30: =IF(P30="사용자항목15", L30, 0) -> 0 | AR30: =IF(P30="사용자항목16", L30, 0) -> 0 | AS30: =IF(P30="사용자항목17", L30, 0) -> 0 | AT30: =IF(P30="사용자항목18", L30, 0) -> 0 | AU30: =IF(P30="사용자항목19", L30, 0) -> 0
A31: F-CV 케이블 | B31: F-CV, 0.6/1kV, 2C 6㎟ | C31: m | D31: 435 | O31: ="" | P31: 기계경비 | Q31: 1 | R31: =IF(P31="기계경비", J31, 0) -> 0 | S31: =IF(P31="운반비", L31, 0) -> 0 | T31: =IF(P31="작업부산물", F31, 0) -> 0 | U31: =IF(P31="관급", F31, 0) -> 0 | V31: =IF(P31="외주비", J31, 0) -> 0 | W31: =IF(P31="장비비", J31, 0) -> 0 | X31: =IF(P31="폐기물처리비", L31, 0) -> 0 | Y31: =IF(P31="가설비", J31, 0) -> 0 | Z31: =IF(P31="잡비제외분", F31, 0) -> 0 | AA31: =IF(P31="사급자재대", L31, 0) -> 0 | AB31: =IF(P31="관급자재대", L31, 0) -> 0 | AC31: =IF(P31="한전불입금", L31, 0) -> 0 | AD31: =IF(P31="사용자항목2", L31, 0) -> 0 | AE31: =IF(P31="안전관리비", L31, 0) -> 0 | AF31: =IF(P31="품질관리비", L31, 0) -> 0 | AG31: =IF(P31="작업부산물(철거해체)", L31, 0) -> 0 | AH31: =IF(P31="사용자항목6", L31, 0) -> 0 | AI31: =IF(P31="전기공사 손해배상보험료", L31, 0) -> 0 | AJ31: =IF(P31="사용자항목8", L31, 0) -> 0 | AK31: =IF(P31="사용자항목9", L31, 0) -> 0 | AL31: =IF(P31="사용자항목10", L31, 0) -> 0 | AM31: =IF(P31="사용자항목11", L31, 0) -> 0 | AN31: =IF(P31="사용자항목12", L31, 0) -> 0 | AO31: =IF(P31="사용자항목13", L31, 0) -> 0 | AP31: =IF(P31="사용자항목14", L31, 0) -> 0 | AQ31: =IF(P31="사용자항목15", L31, 0) -> 0 | AR31: =IF(P31="사용자항목16", L31, 0) -> 0 | AS31: =IF(P31="사용자항목17", L31, 0) -> 0 | AT31: =IF(P31="사용자항목18", L31, 0) -> 0 | AU31: =IF(P31="사용자항목19", L31, 0) -> 0
A32: F-CV 케이블 | B32: F-CV, 0.6/1kV, 2C 10㎟ | C32: m | D32: 140 | O32: ="" | P32: 기계경비 | Q32: 1 | R32: =IF(P32="기계경비", J32, 0) -> 0 | S32: =IF(P32="운반비", L32, 0) -> 0 | T32: =IF(P32="작업부산물", F32, 0) -> 0 | U32: =IF(P32="관급", F32, 0) -> 0 | V32: =IF(P32="외주비", J32, 0) -> 0 | W32: =IF(P32="장비비", J32, 0) -> 0 | X32: =IF(P32="폐기물처리비", L32, 0) -> 0 | Y32: =IF(P32="가설비", J32, 0) -> 0 | Z32: =IF(P32="잡비제외분", F32, 0) -> 0 | AA32: =IF(P32="사급자재대", L32, 0) -> 0 | AB32: =IF(P32="관급자재대", L32, 0) -> 0 | AC32: =IF(P32="한전불입금", L32, 0) -> 0 | AD32: =IF(P32="사용자항목2", L32, 0) -> 0 | AE32: =IF(P32="안전관리비", L32, 0) -> 0 | AF32: =IF(P32="품질관리비", L32, 0) -> 0 | AG32: =IF(P32="작업부산물(철거해체)", L32, 0) -> 0 | AH32: =IF(P32="사용자항목6", L32, 0) -> 0 | AI32: =IF(P32="전기공사 손해배상보험료", L32, 0) -> 0 | AJ32: =IF(P32="사용자항목8", L32, 0) -> 0 | AK32: =IF(P32="사용자항목9", L32, 0) -> 0 | AL32: =IF(P32="사용자항목10", L32, 0) -> 0 | AM32: =IF(P32="사용자항목11", L32, 0) -> 0 | AN32: =IF(P32="사용자항목12", L32, 0) -> 0 | AO32: =IF(P32="사용자항목13", L32, 0) -> 0 | AP32: =IF(P32="사용자항목14", L32, 0) -> 0 | AQ32: =IF(P32="사용자항목15", L32, 0) -> 0 | AR32: =IF(P32="사용자항목16", L32, 0) -> 0 | AS32: =IF(P32="사용자항목17", L32, 0) -> 0 | AT32: =IF(P32="사용자항목18", L32, 0) -> 0 | AU32: =IF(P32="사용자항목19", L32, 0) -> 0
A33: LED 조명기구 설치 | B33: 직부등 15W 이하 | C33: EA | D33: 119 | O33: ="" | P33: 기계경비 | Q33: 1 | R33: =IF(P33="기계경비", J33, 0) -> 0 | S33: =IF(P33="운반비", L33, 0) -> 0 | T33: =IF(P33="작업부산물", F33, 0) -> 0 | U33: =IF(P33="관급", F33, 0) -> 0 | V33: =IF(P33="외주비", J33, 0) -> 0 | W33: =IF(P33="장비비", J33, 0) -> 0 | X33: =IF(P33="폐기물처리비", L33, 0) -> 0 | Y33: =IF(P33="가설비", J33, 0) -> 0 | Z33: =IF(P33="잡비제외분", F33, 0) -> 0 | AA33: =IF(P33="사급자재대", L33, 0) -> 0 | AB33: =IF(P33="관급자재대", L33, 0) -> 0 | AC33: =IF(P33="한전불입금", L33, 0) -> 0 | AD33: =IF(P33="사용자항목2", L33, 0) -> 0 | AE33: =IF(P33="안전관리비", L33, 0) -> 0 | AF33: =IF(P33="품질관리비", L33, 0) -> 0 | AG33: =IF(P33="작업부산물(철거해체)", L33, 0) -> 0 | AH33: =IF(P33="사용자항목6", L33, 0) -> 0 | AI33: =IF(P33="전기공사 손해배상보험료", L33, 0) -> 0 | AJ33: =IF(P33="사용자항목8", L33, 0) -> 0 | AK33: =IF(P33="사용자항목9", L33, 0) -> 0 | AL33: =IF(P33="사용자항목10", L33, 0) -> 0 | AM33: =IF(P33="사용자항목11", L33, 0) -> 0 | AN33: =IF(P33="사용자항목12", L33, 0) -> 0 | AO33: =IF(P33="사용자항목13", L33, 0) -> 0 | AP33: =IF(P33="사용자항목14", L33, 0) -> 0 | AQ33: =IF(P33="사용자항목15", L33, 0) -> 0 | AR33: =IF(P33="사용자항목16", L33, 0) -> 0 | AS33: =IF(P33="사용자항목17", L33, 0) -> 0 | AT33: =IF(P33="사용자항목18", L33, 0) -> 0 | AU33: =IF(P33="사용자항목19", L33, 0) -> 0
A34: SMPS | B34: DC 24V, 1kW | C34: EA | D34: 3 | O34: ="" | P34: 기계경비 | Q34: 1 | R34: =IF(P34="기계경비", J34, 0) -> 0 | S34: =IF(P34="운반비", L34, 0) -> 0 | T34: =IF(P34="작업부산물", F34, 0) -> 0 | U34: =IF(P34="관급", F34, 0) -> 0 | V34: =IF(P34="외주비", J34, 0) -> 0 | W34: =IF(P34="장비비", J34, 0) -> 0 | X34: =IF(P34="폐기물처리비", L34, 0) -> 0 | Y34: =IF(P34="가설비", J34, 0) -> 0 | Z34: =IF(P34="잡비제외분", F34, 0) -> 0 | AA34: =IF(P34="사급자재대", L34, 0) -> 0 | AB34: =IF(P34="관급자재대", L34, 0) -> 0 | AC34: =IF(P34="한전불입금", L34, 0) -> 0 | AD34: =IF(P34="사용자항목2", L34, 0) -> 0 | AE34: =IF(P34="안전관리비", L34, 0) -> 0 | AF34: =IF(P34="품질관리비", L34, 0) -> 0 | AG34: =IF(P34="작업부산물(철거해체)", L34, 0) -> 0 | AH34: =IF(P34="사용자항목6", L34, 0) -> 0 | AI34: =IF(P34="전기공사 손해배상보험료", L34, 0) -> 0 | AJ34: =IF(P34="사용자항목8", L34, 0) -> 0 | AK34: =IF(P34="사용자항목9", L34, 0) -> 0 | AL34: =IF(P34="사용자항목10", L34, 0) -> 0 | AM34: =IF(P34="사용자항목11", L34, 0) -> 0 | AN34: =IF(P34="사용자항목12", L34, 0) -> 0 | AO34: =IF(P34="사용자항목13", L34, 0) -> 0 | AP34: =IF(P34="사용자항목14", L34, 0) -> 0 | AQ34: =IF(P34="사용자항목15", L34, 0) -> 0 | AR34: =IF(P34="사용자항목16", L34, 0) -> 0 | AS34: =IF(P34="사용자항목17", L34, 0) -> 0 | AT34: =IF(P34="사용자항목18", L34, 0) -> 0 | AU34: =IF(P34="사용자항목19", L34, 0) -> 0
A35: 고소작업대임대료 | B35: 스카이, 1.0톤(16m급) | C35: 일 | D35: 2 | O35: ="03" -> 03 | P35: 기계경비 | Q35: 1 | R35: =IF(P35="기계경비", J35, 0) -> 0 | S35: =IF(P35="운반비", L35, 0) -> 0 | T35: =IF(P35="작업부산물", F35, 0) -> 0 | U35: =IF(P35="관급", F35, 0) -> 0 | V35: =IF(P35="외주비", J35, 0) -> 0 | W35: =IF(P35="장비비", J35, 0) -> 0 | X35: =IF(P35="폐기물처리비", L35, 0) -> 0 | Y35: =IF(P35="가설비", J35, 0) -> 0 | Z35: =IF(P35="잡비제외분", F35, 0) -> 0 | AA35: =IF(P35="사급자재대", L35, 0) -> 0 | AB35: =IF(P35="관급자재대", L35, 0) -> 0 | AC35: =IF(P35="한전불입금", L35, 0) -> 0 | AD35: =IF(P35="사용자항목2", L35, 0) -> 0 | AE35: =IF(P35="안전관리비", L35, 0) -> 0 | AF35: =IF(P35="품질관리비", L35, 0) -> 0 | AG35: =IF(P35="작업부산물(철거해체)", L35, 0) -> 0 | AH35: =IF(P35="사용자항목6", L35, 0) -> 0 | AI35: =IF(P35="전기공사 손해배상보험료", L35, 0) -> 0 | AJ35: =IF(P35="사용자항목8", L35, 0) -> 0 | AK35: =IF(P35="사용자항목9", L35, 0) -> 0 | AL35: =IF(P35="사용자항목10", L35, 0) -> 0 | AM35: =IF(P35="사용자항목11", L35, 0) -> 0 | AN35: =IF(P35="사용자항목12", L35, 0) -> 0 | AO35: =IF(P35="사용자항목13", L35, 0) -> 0 | AP35: =IF(P35="사용자항목14", L35, 0) -> 0 | AQ35: =IF(P35="사용자항목15", L35, 0) -> 0 | AR35: =IF(P35="사용자항목16", L35, 0) -> 0 | AS35: =IF(P35="사용자항목17", L35, 0) -> 0 | AT35: =IF(P35="사용자항목18", L35, 0) -> 0 | AU35: =IF(P35="사용자항목19", L35, 0) -> 0
A36: 유성페인트 롤러칠 | B36: 철재면 2회 1급 | C36: M2 | D36: 86 | O36: ="" | P36: 기계경비 | Q36: 1 | R36: =IF(P36="기계경비", J36, 0) -> 0 | S36: =IF(P36="운반비", L36, 0) -> 0 | T36: =IF(P36="작업부산물", F36, 0) -> 0 | U36: =IF(P36="관급", F36, 0) -> 0 | V36: =IF(P36="외주비", J36, 0) -> 0 | W36: =IF(P36="장비비", J36, 0) -> 0 | X36: =IF(P36="폐기물처리비", L36, 0) -> 0 | Y36: =IF(P36="가설비", J36, 0) -> 0 | Z36: =IF(P36="잡비제외분", F36, 0) -> 0 | AA36: =IF(P36="사급자재대", L36, 0) -> 0 | AB36: =IF(P36="관급자재대", L36, 0) -> 0 | AC36: =IF(P36="한전불입금", L36, 0) -> 0 | AD36: =IF(P36="사용자항목2", L36, 0) -> 0 | AE36: =IF(P36="안전관리비", L36, 0) -> 0 | AF36: =IF(P36="품질관리비", L36, 0) -> 0 | AG36: =IF(P36="작업부산물(철거해체)", L36, 0) -> 0 | AH36: =IF(P36="사용자항목6", L36, 0) -> 0 | AI36: =IF(P36="전기공사 손해배상보험료", L36, 0) -> 0 | AJ36: =IF(P36="사용자항목8", L36, 0) -> 0 | AK36: =IF(P36="사용자항목9", L36, 0) -> 0 | AL36: =IF(P36="사용자항목10", L36, 0) -> 0 | AM36: =IF(P36="사용자항목11", L36, 0) -> 0 | AN36: =IF(P36="사용자항목12", L36, 0) -> 0 | AO36: =IF(P36="사용자항목13", L36, 0) -> 0 | AP36: =IF(P36="사용자항목14", L36, 0) -> 0 | AQ36: =IF(P36="사용자항목15", L36, 0) -> 0 | AR36: =IF(P36="사용자항목16", L36, 0) -> 0 | AS36: =IF(P36="사용자항목17", L36, 0) -> 0 | AT36: =IF(P36="사용자항목18", L36, 0) -> 0 | AU36: =IF(P36="사용자항목19", L36, 0) -> 0
A52: 합 계 | R52: =ROUNDDOWN(SUM(R22:R36), 0) -> 0 | S52: =ROUNDDOWN(SUM(S22:S36), 0) -> 0 | T52: =ROUNDDOWN(SUM(T22:T36), 0) -> 0 | U52: =ROUNDDOWN(SUM(U22:U36), 0) -> 0 | V52: =ROUNDDOWN(SUM(V22:V36), 0) -> 0 | W52: =ROUNDDOWN(SUM(W22:W36), 0) -> 0 | X52: =ROUNDDOWN(SUM(X22:X36), 0) -> 0 | Y52: =ROUNDDOWN(SUM(Y22:Y36), 0) -> 0 | ... AY52: =ROUNDDOWN(SUM(AY22:AY36), 0) -> 0
A53: 0103. 데크 라인 조명 - 2
A54: 1종금속제 가요전선관 | B54: 28mm 고장력방수, 노출 | C54: m | D54: 208 | O54: ="" | P54: 기계경비 | Q54: 1 | R54: =IF(P54="기계경비", J54, 0) -> 0 | S54: =IF(P54="운반비", L54, 0) -> 0 | T54: =IF(P54="작업부산물", F54, 0) -> 0 | U54: =IF(P54="관급", F54, 0) -> 0 | V54: =IF(P54="외주비", J54, 0) -> 0 | W54: =IF(P54="장비비", J54, 0) -> 0 | X54: =IF(P54="폐기물처리비", L54, 0) -> 0 | Y54: =IF(P54="가설비", J54, 0) -> 0 | Z54: =IF(P54="잡비제외분", F54, 0) -> 0 | AA54: =IF(P54="사급자재대", L54, 0) -> 0 | AB54: =IF(P54="관급자재대", L54, 0) -> 0 | AC54: =IF(P54="한전불입금", L54, 0) -> 0 | AD54: =IF(P54="사용자항목2", L54, 0) -> 0 | AE54: =IF(P54="안전관리비", L54, 0) -> 0 | AF54: =IF(P54="품질관리비", L54, 0) -> 0 | AG54: =IF(P54="작업부산물(철거해체)", L54, 0) -> 0 | AH54: =IF(P54="사용자항목6", L54, 0) -> 0 | AI54: =IF(P54="전기공사 손해배상보험료", L54, 0) -> 0 | AJ54: =IF(P54="사용자항목8", L54, 0) -> 0 | AK54: =IF(P54="사용자항목9", L54, 0) -> 0 | AL54: =IF(P54="사용자항목10", L54, 0) -> 0 | AM54: =IF(P54="사용자항목11", L54, 0) -> 0 | AN54: =IF(P54="사용자항목12", L54, 0) -> 0 | AO54: =IF(P54="사용자항목13", L54, 0) -> 0 | AP54: =IF(P54="사용자항목14", L54, 0) -> 0 | AQ54: =IF(P54="사용자항목15", L54, 0) -> 0 | AR54: =IF(P54="사용자항목16", L54, 0) -> 0 | AS54: =IF(P54="사용자항목17", L54, 0) -> 0 | AT54: =IF(P54="사용자항목18", L54, 0) -> 0 | AU54: =IF(P54="사용자항목19", L54, 0) -> 0
A55: 1종금속제 가요전선관 | B55: 36mm 고장력방수, 노출 | C55: m | D55: 17 | O55: ="" | P55: 기계경비 | Q55: 1 | R55: =IF(P55="기계경비", J55, 0) -> 0 | S55: =IF(P55="운반비", L55, 0) -> 0 | T55: =IF(P55="작업부산물", F55, 0) -> 0 | U55: =IF(P55="관급", F55, 0) -> 0 | V55: =IF(P55="외주비", J55, 0) -> 0 | W55: =IF(P55="장비비", J55, 0) -> 0 | X55: =IF(P55="폐기물처리비", L55, 0) -> 0 | Y55: =IF(P55="가설비", J55, 0) -> 0 | Z55: =IF(P55="잡비제외분", F55, 0) -> 0 | AA55: =IF(P55="사급자재대", L55, 0) -> 0 | AB55: =IF(P55="관급자재대", L55, 0) -> 0 | AC55: =IF(P55="한전불입금", L55, 0) -> 0 | AD55: =IF(P55="사용자항목2", L55, 0) -> 0 | AE55: =IF(P55="안전관리비", L55, 0) -> 0 | AF55: =IF(P55="품질관리비", L55, 0) -> 0 | AG55: =IF(P55="작업부산물(철거해체)", L55, 0) -> 0 | AH55: =IF(P55="사용자항목6", L55, 0) -> 0 | AI55: =IF(P55="전기공사 손해배상보험료", L55, 0) -> 0 | AJ55: =IF(P55="사용자항목8", L55, 0) -> 0 | AK55: =IF(P55="사용자항목9", L55, 0) -> 0 | AL55: =IF(P55="사용자항목10", L55, 0) -> 0 | AM55: =IF(P55="사용자항목11", L55, 0) -> 0 | AN55: =IF(P55="사용자항목12", L55, 0) -> 0 | AO55: =IF(P55="사용자항목13", L55, 0) -> 0 | AP55: =IF(P55="사용자항목14", L55, 0) -> 0 | AQ55: =IF(P55="사용자항목15", L55, 0) -> 0 | AR55: =IF(P55="사용자항목16", L55, 0) -> 0 | AS55: =IF(P55="사용자항목17", L55, 0) -> 0 | AT55: =IF(P55="사용자항목18", L55, 0) -> 0 | AU55: =IF(P55="사용자항목19", L55, 0) -> 0
A56: 알루미늄 덕트 | B56: 전선덕트, 알루미늄, 50x35mm | C56: m | D56: 427 | O56: ="" | P56: 기계경비 | Q56: 1 | R56: =IF(P56="기계경비", J56, 0) -> 0 | S56: =IF(P56="운반비", L56, 0) -> 0 | T56: =IF(P56="작업부산물", F56, 0) -> 0 | U56: =IF(P56="관급", F56, 0) -> 0 | V56: =IF(P56="외주비", J56, 0) -> 0 | W56: =IF(P56="장비비", J56, 0) -> 0 | X56: =IF(P56="폐기물처리비", L56, 0) -> 0 | Y56: =IF(P56="가설비", J56, 0) -> 0 | Z56: =IF(P56="잡비제외분", F56, 0) -> 0 | AA56: =IF(P56="사급자재대", L56, 0) -> 0 | AB56: =IF(P56="관급자재대", L56, 0) -> 0 | AC56: =IF(P56="한전불입금", L56, 0) -> 0 | AD56: =IF(P56="사용자항목2", L56, 0) -> 0 | AE56: =IF(P56="안전관리비", L56, 0) -> 0 | AF56: =IF(P56="품질관리비", L56, 0) -> 0 | AG56: =IF(P56="작업부산물(철거해체)", L56, 0) -> 0 | AH56: =IF(P56="사용자항목6", L56, 0) -> 0 | AI56: =IF(P56="전기공사 손해배상보험료", L56, 0) -> 0 | AJ56: =IF(P56="사용자항목8", L56, 0) -> 0 | AK56: =IF(P56="사용자항목9", L56, 0) -> 0 | AL56: =IF(P56="사용자항목10", L56, 0) -> 0 | AM56: =IF(P56="사용자항목11", L56, 0) -> 0 | AN56: =IF(P56="사용자항목12", L56, 0) -> 0 | AO56: =IF(P56="사용자항목13", L56, 0) -> 0 | AP56: =IF(P56="사용자항목14", L56, 0) -> 0 | AQ56: =IF(P56="사용자항목15", L56, 0) -> 0 | AR56: =IF(P56="사용자항목16", L56, 0) -> 0 | AS56: =IF(P56="사용자항목17", L56, 0) -> 0 | AT56: =IF(P56="사용자항목18", L56, 0) -> 0 | AU56: =IF(P56="사용자항목19", L56, 0) -> 0 | AY56: 사용자
A57: 덕트 지지대 | B57: STS 4T, 50*50*50 | C57: EA | D57: 427 | O57: ="" | P57: 기계경비 | Q57: 1 | R57: =IF(P57="기계경비", J57, 0) -> 0 | S57: =IF(P57="운반비", L57, 0) -> 0 | T57: =IF(P57="작업부산물", F57, 0) -> 0 | U57: =IF(P57="관급", F57, 0) -> 0 | V57: =IF(P57="외주비", J57, 0) -> 0 | W57: =IF(P57="장비비", J57, 0) -> 0 | X57: =IF(P57="폐기물처리비", L57, 0) -> 0 | Y57: =IF(P57="가설비", J57, 0) -> 0 | Z57: =IF(P57="잡비제외분", F57, 0) -> 0 | AA57: =IF(P57="사급자재대", L57, 0) -> 0 | AB57: =IF(P57="관급자재대", L57, 0) -> 0 | AC57: =IF(P57="한전불입금", L57, 0) -> 0 | AD57: =IF(P57="사용자항목2", L57, 0) -> 0 | AE57: =IF(P57="안전관리비", L57, 0) -> 0 | AF57: =IF(P57="품질관리비", L57, 0) -> 0 | AG57: =IF(P57="작업부산물(철거해체)", L57, 0) -> 0 | AH57: =IF(P57="사용자항목6", L57, 0) -> 0 | AI57: =IF(P57="전기공사 손해배상보험료", L57, 0) -> 0 | AJ57: =IF(P57="사용자항목8", L57, 0) -> 0 | AK57: =IF(P57="사용자항목9", L57, 0) -> 0 | AL57: =IF(P57="사용자항목10", L57, 0) -> 0 | AM57: =IF(P57="사용자항목11", L57, 0) -> 0 | AN57: =IF(P57="사용자항목12", L57, 0) -> 0 | AO57: =IF(P57="사용자항목13", L57, 0) -> 0 | AP57: =IF(P57="사용자항목14", L57, 0) -> 0 | AQ57: =IF(P57="사용자항목15", L57, 0) -> 0 | AR57: =IF(P57="사용자항목16", L57, 0) -> 0 | AS57: =IF(P57="사용자항목17", L57, 0) -> 0 | AT57: =IF(P57="사용자항목18", L57, 0) -> 0 | AU57: =IF(P57="사용자항목19", L57, 0) -> 0
A58: 덕트 지지대 설치 | B58: 노출 설치용 | C58: 개소 | D58: 427 | O58: ="" | P58: 기계경비 | Q58: 1 | R58: =IF(P58="기계경비", J58, 0) -> 0 | S58: =IF(P58="운반비", L58, 0) -> 0 | T58: =IF(P58="작업부산물", F58, 0) -> 0 | U58: =IF(P58="관급", F58, 0) -> 0 | V58: =IF(P58="외주비", J58, 0) -> 0 | W58: =IF(P58="장비비", J58, 0) -> 0 | X58: =IF(P58="폐기물처리비", L58, 0) -> 0 | Y58: =IF(P58="가설비", J58, 0) -> 0 | Z58: =IF(P58="잡비제외분", F58, 0) -> 0 | AA58: =IF(P58="사급자재대", L58, 0) -> 0 | AB58: =IF(P58="관급자재대", L58, 0) -> 0 | AC58: =IF(P58="한전불입금", L58, 0) -> 0 | AD58: =IF(P58="사용자항목2", L58, 0) -> 0 | AE58: =IF(P58="안전관리비", L58, 0) -> 0 | AF58: =IF(P58="품질관리비", L58, 0) -> 0 | AG58: =IF(P58="작업부산물(철거해체)", L58, 0) -> 0 | AH58: =IF(P58="사용자항목6", L58, 0) -> 0 | AI58: =IF(P58="전기공사 손해배상보험료", L58, 0) -> 0 | AJ58: =IF(P58="사용자항목8", L58, 0) -> 0 | AK58: =IF(P58="사용자항목9", L58, 0) -> 0 | AL58: =IF(P58="사용자항목10", L58, 0) -> 0 | AM58: =IF(P58="사용자항목11", L58, 0) -> 0 | AN58: =IF(P58="사용자항목12", L58, 0) -> 0 | AO58: =IF(P58="사용자항목13", L58, 0) -> 0 | AP58: =IF(P58="사용자항목14", L58, 0) -> 0 | AQ58: =IF(P58="사용자항목15", L58, 0) -> 0 | AR58: =IF(P58="사용자항목16", L58, 0) -> 0 | AS58: =IF(P58="사용자항목17", L58, 0) -> 0 | AT58: =IF(P58="사용자항목18", L58, 0) -> 0 | AU58: =IF(P58="사용자항목19", L58, 0) -> 0
A59: F-CV 케이블 | B59: F-CV, 0.6/1kV, 2C 4㎟ | C59: m | D59: 51 | O59: ="" | P59: 기계경비 | Q59: 1 | R59: =IF(P59="기계경비", J59, 0) -> 0 | S59: =IF(P59="운반비", L59, 0) -> 0 | T59: =IF(P59="작업부산물", F59, 0) -> 0 | U59: =IF(P59="관급", F59, 0) -> 0 | V59: =IF(P59="외주비", J59, 0) -> 0 | W59: =IF(P59="장비비", J59, 0) -> 0 | X59: =IF(P59="폐기물처리비", L59, 0) -> 0 | Y59: =IF(P59="가설비", J59, 0) -> 0 | Z59: =IF(P59="잡비제외분", F59, 0) -> 0 | AA59: =IF(P59="사급자재대", L59, 0) -> 0 | AB59: =IF(P59="관급자재대", L59, 0) -> 0 | AC59: =IF(P59="한전불입금", L59, 0) -> 0 | AD59: =IF(P59="사용자항목2", L59, 0) -> 0 | AE59: =IF(P59="안전관리비", L59, 0) -> 0 | AF59: =IF(P59="품질관리비", L59, 0) -> 0 | AG59: =IF(P59="작업부산물(철거해체)", L59, 0) -> 0 | AH59: =IF(P59="사용자항목6", L59, 0) -> 0 | AI59: =IF(P59="전기공사 손해배상보험료", L59, 0) -> 0 | AJ59: =IF(P59="사용자항목8", L59, 0) -> 0 | AK59: =IF(P59="사용자항목9", L59, 0) -> 0 | AL59: =IF(P59="사용자항목10", L59, 0) -> 0 | AM59: =IF(P59="사용자항목11", L59, 0) -> 0 | AN59: =IF(P59="사용자항목12", L59, 0) -> 0 | AO59: =IF(P59="사용자항목13", L59, 0) -> 0 | AP59: =IF(P59="사용자항목14", L59, 0) -> 0 | AQ59: =IF(P59="사용자항목15", L59, 0) -> 0 | AR59: =IF(P59="사용자항목16", L59, 0) -> 0 | AS59: =IF(P59="사용자항목17", L59, 0) -> 0 | AT59: =IF(P59="사용자항목18", L59, 0) -> 0 | AU59: =IF(P59="사용자항목19", L59, 0) -> 0
A60: F-CV 케이블 | B60: F-CV, 0.6/1kV, 2C 6㎟ | C60: m | D60: 462 | O60: ="" | P60: 기계경비 | Q60: 1 | R60: =IF(P60="기계경비", J60, 0) -> 0 | S60: =IF(P60="운반비", L60, 0) -> 0 | T60: =IF(P60="작업부산물", F60, 0) -> 0 | U60: =IF(P60="관급", F60, 0) -> 0 | V60: =IF(P60="외주비", J60, 0) -> 0 | W60: =IF(P60="장비비", J60, 0) -> 0 | X60: =IF(P60="폐기물처리비", L60, 0) -> 0 | Y60: =IF(P60="가설비", J60, 0) -> 0 | Z60: =IF(P60="잡비제외분", F60, 0) -> 0 | AA60: =IF(P60="사급자재대", L60, 0) -> 0 | AB60: =IF(P60="관급자재대", L60, 0) -> 0 | AC60: =IF(P60="한전불입금", L60, 0) -> 0 | AD60: =IF(P60="사용자항목2", L60, 0) -> 0 | AE60: =IF(P60="안전관리비", L60, 0) -> 0 | AF60: =IF(P60="품질관리비", L60, 0) -> 0 | AG60: =IF(P60="작업부산물(철거해체)", L60, 0) -> 0 | AH60: =IF(P60="사용자항목6", L60, 0) -> 0 | AI60: =IF(P60="전기공사 손해배상보험료", L60, 0) -> 0 | AJ60: =IF(P60="사용자항목8", L60, 0) -> 0 | AK60: =IF(P60="사용자항목9", L60, 0) -> 0 | AL60: =IF(P60="사용자항목10", L60, 0) -> 0 | AM60: =IF(P60="사용자항목11", L60, 0) -> 0 | AN60: =IF(P60="사용자항목12", L60, 0) -> 0 | AO60: =IF(P60="사용자항목13", L60, 0) -> 0 | AP60: =IF(P60="사용자항목14", L60, 0) -> 0 | AQ60: =IF(P60="사용자항목15", L60, 0) -> 0 | AR60: =IF(P60="사용자항목16", L60, 0) -> 0 | AS60: =IF(P60="사용자항목17", L60, 0) -> 0 | AT60: =IF(P60="사용자항목18", L60, 0) -> 0 | AU60: =IF(P60="사용자항목19", L60, 0) -> 0
A61: F-CV 케이블 | B61: F-CV, 0.6/1kV, 2C 10㎟ | C61: m | D61: 153 | O61: ="" | P61: 기계경비 | Q61: 1 | R61: =IF(P61="기계경비", J61, 0) -> 0 | S61: =IF(P61="운반비", L61, 0) -> 0 | T61: =IF(P61="작업부산물", F61, 0) -> 0 | U61: =IF(P61="관급", F61, 0) -> 0 | V61: =IF(P61="외주비", J61, 0) -> 0 | W61: =IF(P61="장비비", J61, 0) -> 0 | X61: =IF(P61="폐기물처리비", L61, 0) -> 0 | Y61: =IF(P61="가설비", J61, 0) -> 0 | Z61: =IF(P61="잡비제외분", F61, 0) -> 0 | AA61: =IF(P61="사급자재대", L61, 0) -> 0 | AB61: =IF(P61="관급자재대", L61, 0) -> 0 | AC61: =IF(P61="한전불입금", L61, 0) -> 0 | AD61: =IF(P61="사용자항목2", L61, 0) -> 0 | AE61: =IF(P61="안전관리비", L61, 0) -> 0 | AF61: =IF(P61="품질관리비", L61, 0) -> 0 | AG61: =IF(P61="작업부산물(철거해체)", L61, 0) -> 0 | AH61: =IF(P61="사용자항목6", L61, 0) -> 0 | AI61: =IF(P61="전기공사 손해배상보험료", L61, 0) -> 0 | AJ61: =IF(P61="사용자항목8", L61, 0) -> 0 | AK61: =IF(P61="사용자항목9", L61, 0) -> 0 | AL61: =IF(P61="사용자항목10", L61, 0) -> 0 | AM61: =IF(P61="사용자항목11", L61, 0) -> 0 | AN61: =IF(P61="사용자항목12", L61, 0) -> 0 | AO61: =IF(P61="사용자항목13", L61, 0) -> 0 | AP61: =IF(P61="사용자항목14", L61, 0) -> 0 | AQ61: =IF(P61="사용자항목15", L61, 0) -> 0 | AR61: =IF(P61="사용자항목16", L61, 0) -> 0 | AS61: =IF(P61="사용자항목17", L61, 0) -> 0 | AT61: =IF(P61="사용자항목18", L61, 0) -> 0 | AU61: =IF(P61="사용자항목19", L61, 0) -> 0
A62: LED 조명기구 설치 | B62: 직부등 15W 이하 | C62: EA | D62: 107 | O62: ="" | P62: 기계경비 | Q62: 1 | R62: =IF(P62="기계경비", J62, 0) -> 0 | S62: =IF(P62="운반비", L62, 0) -> 0 | T62: =IF(P62="작업부산물", F62, 0) -> 0 | U62: =IF(P62="관급", F62, 0) -> 0 | V62: =IF(P62="외주비", J62, 0) -> 0 | W62: =IF(P62="장비비", J62, 0) -> 0 | X62: =IF(P62="폐기물처리비", L62, 0) -> 0 | Y62: =IF(P62="가설비", J62, 0) -> 0 | Z62: =IF(P62="잡비제외분", F62, 0) -> 0 | AA62: =IF(P62="사급자재대", L62, 0) -> 0 | AB62: =IF(P62="관급자재대", L62, 0) -> 0 | AC62: =IF(P62="한전불입금", L62, 0) -> 0 | AD62: =IF(P62="사용자항목2", L62, 0) -> 0 | AE62: =IF(P62="안전관리비", L62, 0) -> 0 | AF62: =IF(P62="품질관리비", L62, 0) -> 0 | AG62: =IF(P62="작업부산물(철거해체)", L62, 0) -> 0 | AH62: =IF(P62="사용자항목6", L62, 0) -> 0 | AI62: =IF(P62="전기공사 손해배상보험료", L62, 0) -> 0 | AJ62: =IF(P62="사용자항목8", L62, 0) -> 0 | AK62: =IF(P62="사용자항목9", L62, 0) -> 0 | AL62: =IF(P62="사용자항목10", L62, 0) -> 0 | AM62: =IF(P62="사용자항목11", L62, 0) -> 0 | AN62: =IF(P62="사용자항목12", L62, 0) -> 0 | AO62: =IF(P62="사용자항목13", L62, 0) -> 0 | AP62: =IF(P62="사용자항목14", L62, 0) -> 0 | AQ62: =IF(P62="사용자항목15", L62, 0) -> 0 | AR62: =IF(P62="사용자항목16", L62, 0) -> 0 | AS62: =IF(P62="사용자항목17", L62, 0) -> 0 | AT62: =IF(P62="사용자항목18", L62, 0) -> 0 | AU62: =IF(P62="사용자항목19", L62, 0) -> 0
A63: SMPS | B63: DC 24V, 600W | C63: EA | D63: 2 | O63: ="" | P63: 기계경비 | Q63: 1 | R63: =IF(P63="기계경비", J63, 0) -> 0 | S63: =IF(P63="운반비", L63, 0) -> 0 | T63: =IF(P63="작업부산물", F63, 0) -> 0 | U63: =IF(P63="관급", F63, 0) -> 0 | V63: =IF(P63="외주비", J63, 0) -> 0 | W63: =IF(P63="장비비", J63, 0) -> 0 | X63: =IF(P63="폐기물처리비", L63, 0) -> 0 | Y63: =IF(P63="가설비", J63, 0) -> 0 | Z63: =IF(P63="잡비제외분", F63, 0) -> 0 | AA63: =IF(P63="사급자재대", L63, 0) -> 0 | AB63: =IF(P63="관급자재대", L63, 0) -> 0 | AC63: =IF(P63="한전불입금", L63, 0) -> 0 | AD63: =IF(P63="사용자항목2", L63, 0) -> 0 | AE63: =IF(P63="안전관리비", L63, 0) -> 0 | AF63: =IF(P63="품질관리비", L63, 0) -> 0 | AG63: =IF(P63="작업부산물(철거해체)", L63, 0) -> 0 | AH63: =IF(P63="사용자항목6", L63, 0) -> 0 | AI63: =IF(P63="전기공사 손해배상보험료", L63, 0) -> 0 | AJ63: =IF(P63="사용자항목8", L63, 0) -> 0 | AK63: =IF(P63="사용자항목9", L63, 0) -> 0 | AL63: =IF(P63="사용자항목10", L63, 0) -> 0 | AM63: =IF(P63="사용자항목11", L63, 0) -> 0 | AN63: =IF(P63="사용자항목12", L63, 0) -> 0 | AO63: =IF(P63="사용자항목13", L63, 0) -> 0 | AP63: =IF(P63="사용자항목14", L63, 0) -> 0 | AQ63: =IF(P63="사용자항목15", L63, 0) -> 0 | AR63: =IF(P63="사용자항목16", L63, 0) -> 0 | AS63: =IF(P63="사용자항목17", L63, 0) -> 0 | AT63: =IF(P63="사용자항목18", L63, 0) -> 0 | AU63: =IF(P63="사용자항목19", L63, 0) -> 0
A64: SMPS | B64: DC 24V, 1kW | C64: EA | D64: 1 | O64: ="" | P64: 기계경비 | Q64: 1 | R64: =IF(P64="기계경비", J64, 0) -> 0 | S64: =IF(P64="운반비", L64, 0) -> 0 | T64: =IF(P64="작업부산물", F64, 0) -> 0 | U64: =IF(P64="관급", F64, 0) -> 0 | V64: =IF(P64="외주비", J64, 0) -> 0 | W64: =IF(P64="장비비", J64, 0) -> 0 | X64: =IF(P64="폐기물처리비", L64, 0) -> 0 | Y64: =IF(P64="가설비", J64, 0) -> 0 | Z64: =IF(P64="잡비제외분", F64, 0) -> 0 | AA64: =IF(P64="사급자재대", L64, 0) -> 0 | AB64: =IF(P64="관급자재대", L64, 0) -> 0 | AC64: =IF(P64="한전불입금", L64, 0) -> 0 | AD64: =IF(P64="사용자항목2", L64, 0) -> 0 | AE64: =IF(P64="안전관리비", L64, 0) -> 0 | AF64: =IF(P64="품질관리비", L64, 0) -> 0 | AG64: =IF(P64="작업부산물(철거해체)", L64, 0) -> 0 | AH64: =IF(P64="사용자항목6", L64, 0) -> 0 | AI64: =IF(P64="전기공사 손해배상보험료", L64, 0) -> 0 | AJ64: =IF(P64="사용자항목8", L64, 0) -> 0 | AK64: =IF(P64="사용자항목9", L64, 0) -> 0 | AL64: =IF(P64="사용자항목10", L64, 0) -> 0 | AM64: =IF(P64="사용자항목11", L64, 0) -> 0 | AN64: =IF(P64="사용자항목12", L64, 0) -> 0 | AO64: =IF(P64="사용자항목13", L64, 0) -> 0 | AP64: =IF(P64="사용자항목14", L64, 0) -> 0 | AQ64: =IF(P64="사용자항목15", L64, 0) -> 0 | AR64: =IF(P64="사용자항목16", L64, 0) -> 0 | AS64: =IF(P64="사용자항목17", L64, 0) -> 0 | AT64: =IF(P64="사용자항목18", L64, 0) -> 0 | AU64: =IF(P64="사용자항목19", L64, 0) -> 0
A65: 고소작업대임대료 | B65: 스카이, 1.0톤(16m급) | C65: 일 | D65: 2 | O65: ="03" -> 03 | P65: 기계경비 | Q65: 1 | R65: =IF(P65="기계경비", J65, 0) -> 0 | S65: =IF(P65="운반비", L65, 0) -> 0 | T65: =IF(P65="작업부산물", F65, 0) -> 0 | U65: =IF(P65="관급", F65, 0) -> 0 | V65: =IF(P65="외주비", J65, 0) -> 0 | W65: =IF(P65="장비비", J65, 0) -> 0 | X65: =IF(P65="폐기물처리비", L65, 0) -> 0 | Y65: =IF(P65="가설비", J65, 0) -> 0 | Z65: =IF(P65="잡비제외분", F65, 0) -> 0 | AA65: =IF(P65="사급자재대", L65, 0) -> 0 | AB65: =IF(P65="관급자재대", L65, 0) -> 0 | AC65: =IF(P65="한전불입금", L65, 0) -> 0 | AD65: =IF(P65="사용자항목2", L65, 0) -> 0 | AE65: =IF(P65="안전관리비", L65, 0) -> 0 | AF65: =IF(P65="품질관리비", L65, 0) -> 0 | AG65: =IF(P65="작업부산물(철거해체)", L65, 0) -> 0 | AH65: =IF(P65="사용자항목6", L65, 0) -> 0 | AI65: =IF(P65="전기공사 손해배상보험료", L65, 0) -> 0 | AJ65: =IF(P65="사용자항목8", L65, 0) -> 0 | AK65: =IF(P65="사용자항목9", L65, 0) -> 0 | AL65: =IF(P65="사용자항목10", L65, 0) -> 0 | AM65: =IF(P65="사용자항목11", L65, 0) -> 0 | AN65: =IF(P65="사용자항목12", L65, 0) -> 0 | AO65: =IF(P65="사용자항목13", L65, 0) -> 0 | AP65: =IF(P65="사용자항목14", L65, 0) -> 0 | AQ65: =IF(P65="사용자항목15", L65, 0) -> 0 | AR65: =IF(P65="사용자항목16", L65, 0) -> 0 | AS65: =IF(P65="사용자항목17", L65, 0) -> 0 | AT65: =IF(P65="사용자항목18", L65, 0) -> 0 | AU65: =IF(P65="사용자항목19", L65, 0) -> 0
A66: 유성페인트 롤러칠 | B66: 철재면 2회 1급 | C66: M2 | D66: 73 | O66: ="" | P66: 기계경비 | Q66: 1 | R66: =IF(P66="기계경비", J66, 0) -> 0 | S66: =IF(P66="운반비", L66, 0) -> 0 | T66: =IF(P66="작업부산물", F66, 0) -> 0 | U66: =IF(P66="관급", F66, 0) -> 0 | V66: =IF(P66="외주비", J66, 0) -> 0 | W66: =IF(P66="장비비", J66, 0) -> 0 | X66: =IF(P66="폐기물처리비", L66, 0) -> 0 | Y66: =IF(P66="가설비", J66, 0) -> 0 | Z66: =IF(P66="잡비제외분", F66, 0) -> 0 | AA66: =IF(P66="사급자재대", L66, 0) -> 0 | AB66: =IF(P66="관급자재대", L66, 0) -> 0 | AC66: =IF(P66="한전불입금", L66, 0) -> 0 | AD66: =IF(P66="사용자항목2", L66, 0) -> 0 | AE66: =IF(P66="안전관리비", L66, 0) -> 0 | AF66: =IF(P66="품질관리비", L66, 0) -> 0 | AG66: =IF(P66="작업부산물(철거해체)", L66, 0) -> 0 | AH66: =IF(P66="사용자항목6", L66, 0) -> 0 | AI66: =IF(P66="전기공사 손해배상보험료", L66, 0) -> 0 | AJ66: =IF(P66="사용자항목8", L66, 0) -> 0 | AK66: =IF(P66="사용자항목9", L66, 0) -> 0 | AL66: =IF(P66="사용자항목10", L66, 0) -> 0 | AM66: =IF(P66="사용자항목11", L66, 0) -> 0 | AN66: =IF(P66="사용자항목12", L66, 0) -> 0 | AO66: =IF(P66="사용자항목13", L66, 0) -> 0 | AP66: =IF(P66="사용자항목14", L66, 0) -> 0 | AQ66: =IF(P66="사용자항목15", L66, 0) -> 0 | AR66: =IF(P66="사용자항목16", L66, 0) -> 0 | AS66: =IF(P66="사용자항목17", L66, 0) -> 0 | AT66: =IF(P66="사용자항목18", L66, 0) -> 0 | AU66: =IF(P66="사용자항목19", L66, 0) -> 0
A68: 합 계 | R68: =ROUNDDOWN(SUM(R54:R66), 0) -> 0 | S68: =ROUNDDOWN(SUM(S54:S66), 0) -> 0 | T68: =ROUNDDOWN(SUM(T54:T66), 0) -> 0 | U68: =ROUNDDOWN(SUM(U54:U66), 0) -> 0 | V68: =ROUNDDOWN(SUM(V54:V66), 0) -> 0 | W68: =ROUNDDOWN(SUM(W54:W66), 0) -> 0 | X68: =ROUNDDOWN(SUM(X54:X66), 0) -> 0 | Y68: =ROUNDDOWN(SUM(Y54:Y66), 0) -> 0 | ... AY68: =ROUNDDOWN(SUM(AY54:AY66), 0) -> 0
A69: 0104. 전망대 라인 조명
A70: 1종금속제 가요전선관 | B70: 28mm 고장력방수, 노출 | C70: m | D70: 204 | O70: ="" | P70: 기계경비 | Q70: 1 | R70: =IF(P70="기계경비", J70, 0) -> 0 | S70: =IF(P70="운반비", L70, 0) -> 0 | T70: =IF(P70="작업부산물", F70, 0) -> 0 | U70: =IF(P70="관급", F70, 0) -> 0 | V70: =IF(P70="외주비", J70, 0) -> 0 | W70: =IF(P70="장비비", J70, 0) -> 0 | X70: =IF(P70="폐기물처리비", L70, 0) -> 0 | Y70: =IF(P70="가설비", J70, 0) -> 0 | Z70: =IF(P70="잡비제외분", F70, 0) -> 0 | AA70: =IF(P70="사급자재대", L70, 0) -> 0 | AB70: =IF(P70="관급자재대", L70, 0) -> 0 | AC70: =IF(P70="한전불입금", L70, 0) -> 0 | AD70: =IF(P70="사용자항목2", L70, 0) -> 0 | AE70: =IF(P70="안전관리비", L70, 0) -> 0 | AF70: =IF(P70="품질관리비", L70, 0) -> 0 | AG70: =IF(P70="작업부산물(철거해체)", L70, 0) -> 0 | AH70: =IF(P70="사용자항목6", L70, 0) -> 0 | AI70: =IF(P70="전기공사 손해배상보험료", L70, 0) -> 0 | AJ70: =IF(P70="사용자항목8", L70, 0) -> 0 | AK70: =IF(P70="사용자항목9", L70, 0) -> 0 | AL70: =IF(P70="사용자항목10", L70, 0) -> 0 | AM70: =IF(P70="사용자항목11", L70, 0) -> 0 | AN70: =IF(P70="사용자항목12", L70, 0) -> 0 | AO70: =IF(P70="사용자항목13", L70, 0) -> 0 | AP70: =IF(P70="사용자항목14", L70, 0) -> 0 | AQ70: =IF(P70="사용자항목15", L70, 0) -> 0 | AR70: =IF(P70="사용자항목16", L70, 0) -> 0 | AS70: =IF(P70="사용자항목17", L70, 0) -> 0 | AT70: =IF(P70="사용자항목18", L70, 0) -> 0 | AU70: =IF(P70="사용자항목19", L70, 0) -> 0
A71: 1종금속제 가요전선관 | B71: 36mm 고장력방수, 노출 | C71: m | D71: 36 | O71: ="" | P71: 기계경비 | Q71: 1 | R71: =IF(P71="기계경비", J71, 0) -> 0 | S71: =IF(P71="운반비", L71, 0) -> 0 | T71: =IF(P71="작업부산물", F71, 0) -> 0 | U71: =IF(P71="관급", F71, 0) -> 0 | V71: =IF(P71="외주비", J71, 0) -> 0 | W71: =IF(P71="장비비", J71, 0) -> 0 | X71: =IF(P71="폐기물처리비", L71, 0) -> 0 | Y71: =IF(P71="가설비", J71, 0) -> 0 | Z71: =IF(P71="잡비제외분", F71, 0) -> 0 | AA71: =IF(P71="사급자재대", L71, 0) -> 0 | AB71: =IF(P71="관급자재대", L71, 0) -> 0 | AC71: =IF(P71="한전불입금", L71, 0) -> 0 | AD71: =IF(P71="사용자항목2", L71, 0) -> 0 | AE71: =IF(P71="안전관리비", L71, 0) -> 0 | AF71: =IF(P71="품질관리비", L71, 0) -> 0 | AG71: =IF(P71="작업부산물(철거해체)", L71, 0) -> 0 | AH71: =IF(P71="사용자항목6", L71, 0) -> 0 | AI71: =IF(P71="전기공사 손해배상보험료", L71, 0) -> 0 | AJ71: =IF(P71="사용자항목8", L71, 0) -> 0 | AK71: =IF(P71="사용자항목9", L71, 0) -> 0 | AL71: =IF(P71="사용자항목10", L71, 0) -> 0 | AM71: =IF(P71="사용자항목11", L71, 0) -> 0 | AN71: =IF(P71="사용자항목12", L71, 0) -> 0 | AO71: =IF(P71="사용자항목13", L71, 0) -> 0 | AP71: =IF(P71="사용자항목14", L71, 0) -> 0 | AQ71: =IF(P71="사용자항목15", L71, 0) -> 0 | AR71: =IF(P71="사용자항목16", L71, 0) -> 0 | AS71: =IF(P71="사용자항목17", L71, 0) -> 0 | AT71: =IF(P71="사용자항목18", L71, 0) -> 0 | AU71: =IF(P71="사용자항목19", L71, 0) -> 0
A72: 알루미늄 덕트 | B72: 전선덕트, 알루미늄, 50x35mm | C72: m | D72: 634 | O72: ="" | P72: 기계경비 | Q72: 1 | R72: =IF(P72="기계경비", J72, 0) -> 0 | S72: =IF(P72="운반비", L72, 0) -> 0 | T72: =IF(P72="작업부산물", F72, 0) -> 0 | U72: =IF(P72="관급", F72, 0) -> 0 | V72: =IF(P72="외주비", J72, 0) -> 0 | W72: =IF(P72="장비비", J72, 0) -> 0 | X72: =IF(P72="폐기물처리비", L72, 0) -> 0 | Y72: =IF(P72="가설비", J72, 0) -> 0 | Z72: =IF(P72="잡비제외분", F72, 0) -> 0 | AA72: =IF(P72="사급자재대", L72, 0) -> 0 | AB72: =IF(P72="관급자재대", L72, 0) -> 0 | AC72: =IF(P72="한전불입금", L72, 0) -> 0 | AD72: =IF(P72="사용자항목2", L72, 0) -> 0 | AE72: =IF(P72="안전관리비", L72, 0) -> 0 | AF72: =IF(P72="품질관리비", L72, 0) -> 0 | AG72: =IF(P72="작업부산물(철거해체)", L72, 0) -> 0 | AH72: =IF(P72="사용자항목6", L72, 0) -> 0 | AI72: =IF(P72="전기공사 손해배상보험료", L72, 0) -> 0 | AJ72: =IF(P72="사용자항목8", L72, 0) -> 0 | AK72: =IF(P72="사용자항목9", L72, 0) -> 0 | AL72: =IF(P72="사용자항목10", L72, 0) -> 0 | AM72: =IF(P72="사용자항목11", L72, 0) -> 0 | AN72: =IF(P72="사용자항목12", L72, 0) -> 0 | AO72: =IF(P72="사용자항목13", L72, 0) -> 0 | AP72: =IF(P72="사용자항목14", L72, 0) -> 0 | AQ72: =IF(P72="사용자항목15", L72, 0) -> 0 | AR72: =IF(P72="사용자항목16", L72, 0) -> 0 | AS72: =IF(P72="사용자항목17", L72, 0) -> 0 | AT72: =IF(P72="사용자항목18", L72, 0) -> 0 | AU72: =IF(P72="사용자항목19", L72, 0) -> 0 | AY72: 사용자
A73: 덕트 지지대 | B73: STS 4T, 50*50*50 | C73: EA | D73: 634 | O73: ="" | P73: 기계경비 | Q73: 1 | R73: =IF(P73="기계경비", J73, 0) -> 0 | S73: =IF(P73="운반비", L73, 0) -> 0 | T73: =IF(P73="작업부산물", F73, 0) -> 0 | U73: =IF(P73="관급", F73, 0) -> 0 | V73: =IF(P73="외주비", J73, 0) -> 0 | W73: =IF(P73="장비비", J73, 0) -> 0 | X73: =IF(P73="폐기물처리비", L73, 0) -> 0 | Y73: =IF(P73="가설비", J73, 0) -> 0 | Z73: =IF(P73="잡비제외분", F73, 0) -> 0 | AA73: =IF(P73="사급자재대", L73, 0) -> 0 | AB73: =IF(P73="관급자재대", L73, 0) -> 0 | AC73: =IF(P73="한전불입금", L73, 0) -> 0 | AD73: =IF(P73="사용자항목2", L73, 0) -> 0 | AE73: =IF(P73="안전관리비", L73, 0) -> 0 | AF73: =IF(P73="품질관리비", L73, 0) -> 0 | AG73: =IF(P73="작업부산물(철거해체)", L73, 0) -> 0 | AH73: =IF(P73="사용자항목6", L73, 0) -> 0 | AI73: =IF(P73="전기공사 손해배상보험료", L73, 0) -> 0 | AJ73: =IF(P73="사용자항목8", L73, 0) -> 0 | AK73: =IF(P73="사용자항목9", L73, 0) -> 0 | AL73: =IF(P73="사용자항목10", L73, 0) -> 0 | AM73: =IF(P73="사용자항목11", L73, 0) -> 0 | AN73: =IF(P73="사용자항목12", L73, 0) -> 0 | AO73: =IF(P73="사용자항목13", L73, 0) -> 0 | AP73: =IF(P73="사용자항목14", L73, 0) -> 0 | AQ73: =IF(P73="사용자항목15", L73, 0) -> 0 | AR73: =IF(P73="사용자항목16", L73, 0) -> 0 | AS73: =IF(P73="사용자항목17", L73, 0) -> 0 | AT73: =IF(P73="사용자항목18", L73, 0) -> 0 | AU73: =IF(P73="사용자항목19", L73, 0) -> 0
A74: 덕트 지지대 설치 | B74: 노출 설치용 | C74: 개소 | D74: 634 | O74: ="" | P74: 기계경비 | Q74: 1 | R74: =IF(P74="기계경비", J74, 0) -> 0 | S74: =IF(P74="운반비", L74, 0) -> 0 | T74: =IF(P74="작업부산물", F74, 0) -> 0 | U74: =IF(P74="관급", F74, 0) -> 0 | V74: =IF(P74="외주비", J74, 0) -> 0 | W74: =IF(P74="장비비", J74, 0) -> 0 | X74: =IF(P74="폐기물처리비", L74, 0) -> 0 | Y74: =IF(P74="가설비", J74, 0) -> 0 | Z74: =IF(P74="잡비제외분", F74, 0) -> 0 | AA74: =IF(P74="사급자재대", L74, 0) -> 0 | AB74: =IF(P74="관급자재대", L74, 0) -> 0 | AC74: =IF(P74="한전불입금", L74, 0) -> 0 | AD74: =IF(P74="사용자항목2", L74, 0) -> 0 | AE74: =IF(P74="안전관리비", L74, 0) -> 0 | AF74: =IF(P74="품질관리비", L74, 0) -> 0 | AG74: =IF(P74="작업부산물(철거해체)", L74, 0) -> 0 | AH74: =IF(P74="사용자항목6", L74, 0) -> 0 | AI74: =IF(P74="전기공사 손해배상보험료", L74, 0) -> 0 | AJ74: =IF(P74="사용자항목8", L74, 0) -> 0 | AK74: =IF(P74="사용자항목9", L74, 0) -> 0 | AL74: =IF(P74="사용자항목10", L74, 0) -> 0 | AM74: =IF(P74="사용자항목11", L74, 0) -> 0 | AN74: =IF(P74="사용자항목12", L74, 0) -> 0 | AO74: =IF(P74="사용자항목13", L74, 0) -> 0 | AP74: =IF(P74="사용자항목14", L74, 0) -> 0 | AQ74: =IF(P74="사용자항목15", L74, 0) -> 0 | AR74: =IF(P74="사용자항목16", L74, 0) -> 0 | AS74: =IF(P74="사용자항목17", L74, 0) -> 0 | AT74: =IF(P74="사용자항목18", L74, 0) -> 0 | AU74: =IF(P74="사용자항목19", L74, 0) -> 0
A75: F-CV 케이블 | B75: F-CV, 0.6/1kV, 3C 4㎟ | C75: m | D75: 7 | O75: ="" | P75: 기계경비 | Q75: 1 | R75: =IF(P75="기계경비", J75, 0) -> 0 | S75: =IF(P75="운반비", L75, 0) -> 0 | T75: =IF(P75="작업부산물", F75, 0) -> 0 | U75: =IF(P75="관급", F75, 0) -> 0 | V75: =IF(P75="외주비", J75, 0) -> 0 | W75: =IF(P75="장비비", J75, 0) -> 0 | X75: =IF(P75="폐기물처리비", L75, 0) -> 0 | Y75: =IF(P75="가설비", J75, 0) -> 0 | Z75: =IF(P75="잡비제외분", F75, 0) -> 0 | AA75: =IF(P75="사급자재대", L75, 0) -> 0 | AB75: =IF(P75="관급자재대", L75, 0) -> 0 | AC75: =IF(P75="한전불입금", L75, 0) -> 0 | AD75: =IF(P75="사용자항목2", L75, 0) -> 0 | AE75: =IF(P75="안전관리비", L75, 0) -> 0 | AF75: =IF(P75="품질관리비", L75, 0) -> 0 | AG75: =IF(P75="작업부산물(철거해체)", L75, 0) -> 0 | AH75: =IF(P75="사용자항목6", L75, 0) -> 0 | AI75: =IF(P75="전기공사 손해배상보험료", L75, 0) -> 0 | AJ75: =IF(P75="사용자항목8", L75, 0) -> 0 | AK75: =IF(P75="사용자항목9", L75, 0) -> 0 | AL75: =IF(P75="사용자항목10", L75, 0) -> 0 | AM75: =IF(P75="사용자항목11", L75, 0) -> 0 | AN75: =IF(P75="사용자항목12", L75, 0) -> 0 | AO75: =IF(P75="사용자항목13", L75, 0) -> 0 | AP75: =IF(P75="사용자항목14", L75, 0) -> 0 | AQ75: =IF(P75="사용자항목15", L75, 0) -> 0 | AR75: =IF(P75="사용자항목16", L75, 0) -> 0 | AS75: =IF(P75="사용자항목17", L75, 0) -> 0 | AT75: =IF(P75="사용자항목18", L75, 0) -> 0 | AU75: =IF(P75="사용자항목19", L75, 0) -> 0 | AY75: 사용자
A76: F-CV 케이블 | B76: F-CV, 0.6/1kV, 2C 4㎟ | C76: m | D76: 173 | O76: ="" | P76: 기계경비 | Q76: 1 | R76: =IF(P76="기계경비", J76, 0) -> 0 | S76: =IF(P76="운반비", L76, 0) -> 0 | T76: =IF(P76="작업부산물", F76, 0) -> 0 | U76: =IF(P76="관급", F76, 0) -> 0 | V76: =IF(P76="외주비", J76, 0) -> 0 | W76: =IF(P76="장비비", J76, 0) -> 0 | X76: =IF(P76="폐기물처리비", L76, 0) -> 0 | Y76: =IF(P76="가설비", J76, 0) -> 0 | Z76: =IF(P76="잡비제외분", F76, 0) -> 0 | AA76: =IF(P76="사급자재대", L76, 0) -> 0 | AB76: =IF(P76="관급자재대", L76, 0) -> 0 | AC76: =IF(P76="한전불입금", L76, 0) -> 0 | AD76: =IF(P76="사용자항목2", L76, 0) -> 0 | AE76: =IF(P76="안전관리비", L76, 0) -> 0 | AF76: =IF(P76="품질관리비", L76, 0) -> 0 | AG76: =IF(P76="작업부산물(철거해체)", L76, 0) -> 0 | AH76: =IF(P76="사용자항목6", L76, 0) -> 0 | AI76: =IF(P76="전기공사 손해배상보험료", L76, 0) -> 0 | AJ76: =IF(P76="사용자항목8", L76, 0) -> 0 | AK76: =IF(P76="사용자항목9", L76, 0) -> 0 | AL76: =IF(P76="사용자항목10", L76, 0) -> 0 | AM76: =IF(P76="사용자항목11", L76, 0) -> 0 | AN76: =IF(P76="사용자항목12", L76, 0) -> 0 | AO76: =IF(P76="사용자항목13", L76, 0) -> 0 | AP76: =IF(P76="사용자항목14", L76, 0) -> 0 | AQ76: =IF(P76="사용자항목15", L76, 0) -> 0 | AR76: =IF(P76="사용자항목16", L76, 0) -> 0 | AS76: =IF(P76="사용자항목17", L76, 0) -> 0 | AT76: =IF(P76="사용자항목18", L76, 0) -> 0 | AU76: =IF(P76="사용자항목19", L76, 0) -> 0
A77: F-CV 케이블 | B77: F-CV, 0.6/1kV, 2C 6㎟ | C77: m | D77: 101 | O77: ="" | P77: 기계경비 | Q77: 1 | R77: =IF(P77="기계경비", J77, 0) -> 0 | S77: =IF(P77="운반비", L77, 0) -> 0 | T77: =IF(P77="작업부산물", F77, 0) -> 0 | U77: =IF(P77="관급", F77, 0) -> 0 | V77: =IF(P77="외주비", J77, 0) -> 0 | W77: =IF(P77="장비비", J77, 0) -> 0 | X77: =IF(P77="폐기물처리비", L77, 0) -> 0 | Y77: =IF(P77="가설비", J77, 0) -> 0 | Z77: =IF(P77="잡비제외분", F77, 0) -> 0 | AA77: =IF(P77="사급자재대", L77, 0) -> 0 | AB77: =IF(P77="관급자재대", L77, 0) -> 0 | AC77: =IF(P77="한전불입금", L77, 0) -> 0 | AD77: =IF(P77="사용자항목2", L77, 0) -> 0 | AE77: =IF(P77="안전관리비", L77, 0) -> 0 | AF77: =IF(P77="품질관리비", L77, 0) -> 0 | AG77: =IF(P77="작업부산물(철거해체)", L77, 0) -> 0 | AH77: =IF(P77="사용자항목6", L77, 0) -> 0 | AI77: =IF(P77="전기공사 손해배상보험료", L77, 0) -> 0 | AJ77: =IF(P77="사용자항목8", L77, 0) -> 0 | AK77: =IF(P77="사용자항목9", L77, 0) -> 0 | AL77: =IF(P77="사용자항목10", L77, 0) -> 0 | AM77: =IF(P77="사용자항목11", L77, 0) -> 0 | AN77: =IF(P77="사용자항목12", L77, 0) -> 0 | AO77: =IF(P77="사용자항목13", L77, 0) -> 0 | AP77: =IF(P77="사용자항목14", L77, 0) -> 0 | AQ77: =IF(P77="사용자항목15", L77, 0) -> 0 | AR77: =IF(P77="사용자항목16", L77, 0) -> 0 | AS77: =IF(P77="사용자항목17", L77, 0) -> 0 | AT77: =IF(P77="사용자항목18", L77, 0) -> 0 | AU77: =IF(P77="사용자항목19", L77, 0) -> 0
A78: F-CV 케이블 | B78: F-CV, 0.6/1kV, 2C 10㎟ | C78: m | D78: 235 | O78: ="" | P78: 기계경비 | Q78: 1 | R78: =IF(P78="기계경비", J78, 0) -> 0 | S78: =IF(P78="운반비", L78, 0) -> 0 | T78: =IF(P78="작업부산물", F78, 0) -> 0 | U78: =IF(P78="관급", F78, 0) -> 0 | V78: =IF(P78="외주비", J78, 0) -> 0 | W78: =IF(P78="장비비", J78, 0) -> 0 | X78: =IF(P78="폐기물처리비", L78, 0) -> 0 | Y78: =IF(P78="가설비", J78, 0) -> 0 | Z78: =IF(P78="잡비제외분", F78, 0) -> 0 | AA78: =IF(P78="사급자재대", L78, 0) -> 0 | AB78: =IF(P78="관급자재대", L78, 0) -> 0 | AC78: =IF(P78="한전불입금", L78, 0) -> 0 | AD78: =IF(P78="사용자항목2", L78, 0) -> 0 | AE78: =IF(P78="안전관리비", L78, 0) -> 0 | AF78: =IF(P78="품질관리비", L78, 0) -> 0 | AG78: =IF(P78="작업부산물(철거해체)", L78, 0) -> 0 | AH78: =IF(P78="사용자항목6", L78, 0) -> 0 | AI78: =IF(P78="전기공사 손해배상보험료", L78, 0) -> 0 | AJ78: =IF(P78="사용자항목8", L78, 0) -> 0 | AK78: =IF(P78="사용자항목9", L78, 0) -> 0 | AL78: =IF(P78="사용자항목10", L78, 0) -> 0 | AM78: =IF(P78="사용자항목11", L78, 0) -> 0 | AN78: =IF(P78="사용자항목12", L78, 0) -> 0 | AO78: =IF(P78="사용자항목13", L78, 0) -> 0 | AP78: =IF(P78="사용자항목14", L78, 0) -> 0 | AQ78: =IF(P78="사용자항목15", L78, 0) -> 0 | AR78: =IF(P78="사용자항목16", L78, 0) -> 0 | AS78: =IF(P78="사용자항목17", L78, 0) -> 0 | AT78: =IF(P78="사용자항목18", L78, 0) -> 0 | AU78: =IF(P78="사용자항목19", L78, 0) -> 0
A79: F-CV 케이블 | B79: F-CV, 0.6/1kV, 2C 16㎟ | C79: m | D79: 365 | O79: ="" | P79: 기계경비 | Q79: 1 | R79: =IF(P79="기계경비", J79, 0) -> 0 | S79: =IF(P79="운반비", L79, 0) -> 0 | T79: =IF(P79="작업부산물", F79, 0) -> 0 | U79: =IF(P79="관급", F79, 0) -> 0 | V79: =IF(P79="외주비", J79, 0) -> 0 | W79: =IF(P79="장비비", J79, 0) -> 0 | X79: =IF(P79="폐기물처리비", L79, 0) -> 0 | Y79: =IF(P79="가설비", J79, 0) -> 0 | Z79: =IF(P79="잡비제외분", F79, 0) -> 0 | AA79: =IF(P79="사급자재대", L79, 0) -> 0 | AB79: =IF(P79="관급자재대", L79, 0) -> 0 | AC79: =IF(P79="한전불입금", L79, 0) -> 0 | AD79: =IF(P79="사용자항목2", L79, 0) -> 0 | AE79: =IF(P79="안전관리비", L79, 0) -> 0 | AF79: =IF(P79="품질관리비", L79, 0) -> 0 | AG79: =IF(P79="작업부산물(철거해체)", L79, 0) -> 0 | AH79: =IF(P79="사용자항목6", L79, 0) -> 0 | AI79: =IF(P79="전기공사 손해배상보험료", L79, 0) -> 0 | AJ79: =IF(P79="사용자항목8", L79, 0) -> 0 | AK79: =IF(P79="사용자항목9", L79, 0) -> 0 | AL79: =IF(P79="사용자항목10", L79, 0) -> 0 | AM79: =IF(P79="사용자항목11", L79, 0) -> 0 | AN79: =IF(P79="사용자항목12", L79, 0) -> 0 | AO79: =IF(P79="사용자항목13", L79, 0) -> 0 | AP79: =IF(P79="사용자항목14", L79, 0) -> 0 | AQ79: =IF(P79="사용자항목15", L79, 0) -> 0 | AR79: =IF(P79="사용자항목16", L79, 0) -> 0 | AS79: =IF(P79="사용자항목17", L79, 0) -> 0 | AT79: =IF(P79="사용자항목18", L79, 0) -> 0 | AU79: =IF(P79="사용자항목19", L79, 0) -> 0 | AY79: 사용자
A80: LED 조명기구 설치 | B80: 직부등 15W 이하 | C80: EA | D80: 122 | O80: ="" | P80: 기계경비 | Q80: 1 | R80: =IF(P80="기계경비", J80, 0) -> 0 | S80: =IF(P80="운반비", L80, 0) -> 0 | T80: =IF(P80="작업부산물", F80, 0) -> 0 | U80: =IF(P80="관급", F80, 0) -> 0 | V80: =IF(P80="외주비", J80, 0) -> 0 | W80: =IF(P80="장비비", J80, 0) -> 0 | X80: =IF(P80="폐기물처리비", L80, 0) -> 0 | Y80: =IF(P80="가설비", J80, 0) -> 0 | Z80: =IF(P80="잡비제외분", F80, 0) -> 0 | AA80: =IF(P80="사급자재대", L80, 0) -> 0 | AB80: =IF(P80="관급자재대", L80, 0) -> 0 | AC80: =IF(P80="한전불입금", L80, 0) -> 0 | AD80: =IF(P80="사용자항목2", L80, 0) -> 0 | AE80: =IF(P80="안전관리비", L80, 0) -> 0 | AF80: =IF(P80="품질관리비", L80, 0) -> 0 | AG80: =IF(P80="작업부산물(철거해체)", L80, 0) -> 0 | AH80: =IF(P80="사용자항목6", L80, 0) -> 0 | AI80: =IF(P80="전기공사 손해배상보험료", L80, 0) -> 0 | AJ80: =IF(P80="사용자항목8", L80, 0) -> 0 | AK80: =IF(P80="사용자항목9", L80, 0) -> 0 | AL80: =IF(P80="사용자항목10", L80, 0) -> 0 | AM80: =IF(P80="사용자항목11", L80, 0) -> 0 | AN80: =IF(P80="사용자항목12", L80, 0) -> 0 | AO80: =IF(P80="사용자항목13", L80, 0) -> 0 | AP80: =IF(P80="사용자항목14", L80, 0) -> 0 | AQ80: =IF(P80="사용자항목15", L80, 0) -> 0 | AR80: =IF(P80="사용자항목16", L80, 0) -> 0 | AS80: =IF(P80="사용자항목17", L80, 0) -> 0 | AT80: =IF(P80="사용자항목18", L80, 0) -> 0 | AU80: =IF(P80="사용자항목19", L80, 0) -> 0
A81: ABS BOX | B81: ABS (380*280*130) | C81: 개소 | D81: 2 | O81: ="" | P81: 기계경비 | Q81: 1 | R81: =IF(P81="기계경비", J81, 0) -> 0 | S81: =IF(P81="운반비", L81, 0) -> 0 | T81: =IF(P81="작업부산물", F81, 0) -> 0 | U81: =IF(P81="관급", F81, 0) -> 0 | V81: =IF(P81="외주비", J81, 0) -> 0 | W81: =IF(P81="장비비", J81, 0) -> 0 | X81: =IF(P81="폐기물처리비", L81, 0) -> 0 | Y81: =IF(P81="가설비", J81, 0) -> 0 | Z81: =IF(P81="잡비제외분", F81, 0) -> 0 | AA81: =IF(P81="사급자재대", L81, 0) -> 0 | AB81: =IF(P81="관급자재대", L81, 0) -> 0 | AC81: =IF(P81="한전불입금", L81, 0) -> 0 | AD81: =IF(P81="사용자항목2", L81, 0) -> 0 | AE81: =IF(P81="안전관리비", L81, 0) -> 0 | AF81: =IF(P81="품질관리비", L81, 0) -> 0 | AG81: =IF(P81="작업부산물(철거해체)", L81, 0) -> 0 | AH81: =IF(P81="사용자항목6", L81, 0) -> 0 | AI81: =IF(P81="전기공사 손해배상보험료", L81, 0) -> 0 | AJ81: =IF(P81="사용자항목8", L81, 0) -> 0 | AK81: =IF(P81="사용자항목9", L81, 0) -> 0 | AL81: =IF(P81="사용자항목10", L81, 0) -> 0 | AM81: =IF(P81="사용자항목11", L81, 0) -> 0 | AN81: =IF(P81="사용자항목12", L81, 0) -> 0 | AO81: =IF(P81="사용자항목13", L81, 0) -> 0 | AP81: =IF(P81="사용자항목14", L81, 0) -> 0 | AQ81: =IF(P81="사용자항목15", L81, 0) -> 0 | AR81: =IF(P81="사용자항목16", L81, 0) -> 0 | AS81: =IF(P81="사용자항목17", L81, 0) -> 0 | AT81: =IF(P81="사용자항목18", L81, 0) -> 0 | AU81: =IF(P81="사용자항목19", L81, 0) -> 0
A82: ABS BOX | B82: ABS (560*380*180) | C82: 개소 | D82: 1 | O82: ="" | P82: 기계경비 | Q82: 1 | R82: =IF(P82="기계경비", J82, 0) -> 0 | S82: =IF(P82="운반비", L82, 0) -> 0 | T82: =IF(P82="작업부산물", F82, 0) -> 0 | U82: =IF(P82="관급", F82, 0) -> 0 | V82: =IF(P82="외주비", J82, 0) -> 0 | W82: =IF(P82="장비비", J82, 0) -> 0 | X82: =IF(P82="폐기물처리비", L82, 0) -> 0 | Y82: =IF(P82="가설비", J82, 0) -> 0 | Z82: =IF(P82="잡비제외분", F82, 0) -> 0 | AA82: =IF(P82="사급자재대", L82, 0) -> 0 | AB82: =IF(P82="관급자재대", L82, 0) -> 0 | AC82: =IF(P82="한전불입금", L82, 0) -> 0 | AD82: =IF(P82="사용자항목2", L82, 0) -> 0 | AE82: =IF(P82="안전관리비", L82, 0) -> 0 | AF82: =IF(P82="품질관리비", L82, 0) -> 0 | AG82: =IF(P82="작업부산물(철거해체)", L82, 0) -> 0 | AH82: =IF(P82="사용자항목6", L82, 0) -> 0 | AI82: =IF(P82="전기공사 손해배상보험료", L82, 0) -> 0 | AJ82: =IF(P82="사용자항목8", L82, 0) -> 0 | AK82: =IF(P82="사용자항목9", L82, 0) -> 0 | AL82: =IF(P82="사용자항목10", L82, 0) -> 0 | AM82: =IF(P82="사용자항목11", L82, 0) -> 0 | AN82: =IF(P82="사용자항목12", L82, 0) -> 0 | AO82: =IF(P82="사용자항목13", L82, 0) -> 0 | AP82: =IF(P82="사용자항목14", L82, 0) -> 0 | AQ82: =IF(P82="사용자항목15", L82, 0) -> 0 | AR82: =IF(P82="사용자항목16", L82, 0) -> 0 | AS82: =IF(P82="사용자항목17", L82, 0) -> 0 | AT82: =IF(P82="사용자항목18", L82, 0) -> 0 | AU82: =IF(P82="사용자항목19", L82, 0) -> 0 | AY82: 사용자
A83: SMPS | B83: DC 24V, 600W | C83: EA | D83: 2 | O83: ="" | P83: 기계경비 | Q83: 1 | R83: =IF(P83="기계경비", J83, 0) -> 0 | S83: =IF(P83="운반비", L83, 0) -> 0 | T83: =IF(P83="작업부산물", F83, 0) -> 0 | U83: =IF(P83="관급", F83, 0) -> 0 | V83: =IF(P83="외주비", J83, 0) -> 0 | W83: =IF(P83="장비비", J83, 0) -> 0 | X83: =IF(P83="폐기물처리비", L83, 0) -> 0 | Y83: =IF(P83="가설비", J83, 0) -> 0 | Z83: =IF(P83="잡비제외분", F83, 0) -> 0 | AA83: =IF(P83="사급자재대", L83, 0) -> 0 | AB83: =IF(P83="관급자재대", L83, 0) -> 0 | AC83: =IF(P83="한전불입금", L83, 0) -> 0 | AD83: =IF(P83="사용자항목2", L83, 0) -> 0 | AE83: =IF(P83="안전관리비", L83, 0) -> 0 | AF83: =IF(P83="품질관리비", L83, 0) -> 0 | AG83: =IF(P83="작업부산물(철거해체)", L83, 0) -> 0 | AH83: =IF(P83="사용자항목6", L83, 0) -> 0 | AI83: =IF(P83="전기공사 손해배상보험료", L83, 0) -> 0 | AJ83: =IF(P83="사용자항목8", L83, 0) -> 0 | AK83: =IF(P83="사용자항목9", L83, 0) -> 0 | AL83: =IF(P83="사용자항목10", L83, 0) -> 0 | AM83: =IF(P83="사용자항목11", L83, 0) -> 0 | AN83: =IF(P83="사용자항목12", L83, 0) -> 0 | AO83: =IF(P83="사용자항목13", L83, 0) -> 0 | AP83: =IF(P83="사용자항목14", L83, 0) -> 0 | AQ83: =IF(P83="사용자항목15", L83, 0) -> 0 | AR83: =IF(P83="사용자항목16", L83, 0) -> 0 | AS83: =IF(P83="사용자항목17", L83, 0) -> 0 | AT83: =IF(P83="사용자항목18", L83, 0) -> 0 | AU83: =IF(P83="사용자항목19", L83, 0) -> 0
A84: SMPS | B84: DC 24V, 1kW | C84: EA | D84: 1 | O84: ="" | P84: 기계경비 | Q84: 1 | R84: =IF(P84="기계경비", J84, 0) -> 0 | S84: =IF(P84="운반비", L84, 0) -> 0 | T84: =IF(P84="작업부산물", F84, 0) -> 0 | U84: =IF(P84="관급", F84, 0) -> 0 | V84: =IF(P84="외주비", J84, 0) -> 0 | W84: =IF(P84="장비비", J84, 0) -> 0 | X84: =IF(P84="폐기물처리비", L84, 0) -> 0 | Y84: =IF(P84="가설비", J84, 0) -> 0 | Z84: =IF(P84="잡비제외분", F84, 0) -> 0 | AA84: =IF(P84="사급자재대", L84, 0) -> 0 | AB84: =IF(P84="관급자재대", L84, 0) -> 0 | AC84: =IF(P84="한전불입금", L84, 0) -> 0 | AD84: =IF(P84="사용자항목2", L84, 0) -> 0 | AE84: =IF(P84="안전관리비", L84, 0) -> 0 | AF84: =IF(P84="품질관리비", L84, 0) -> 0 | AG84: =IF(P84="작업부산물(철거해체)", L84, 0) -> 0 | AH84: =IF(P84="사용자항목6", L84, 0) -> 0 | AI84: =IF(P84="전기공사 손해배상보험료", L84, 0) -> 0 | AJ84: =IF(P84="사용자항목8", L84, 0) -> 0 | AK84: =IF(P84="사용자항목9", L84, 0) -> 0 | AL84: =IF(P84="사용자항목10", L84, 0) -> 0 | AM84: =IF(P84="사용자항목11", L84, 0) -> 0 | AN84: =IF(P84="사용자항목12", L84, 0) -> 0 | AO84: =IF(P84="사용자항목13", L84, 0) -> 0 | AP84: =IF(P84="사용자항목14", L84, 0) -> 0 | AQ84: =IF(P84="사용자항목15", L84, 0) -> 0 | AR84: =IF(P84="사용자항목16", L84, 0) -> 0 | AS84: =IF(P84="사용자항목17", L84, 0) -> 0 | AT84: =IF(P84="사용자항목18", L84, 0) -> 0 | AU84: =IF(P84="사용자항목19", L84, 0) -> 0
A85: SMPS | B85: DC 24V, 150W, Wireless Dimming | C85: EA | D85: 4 | O85: ="" | P85: 기계경비 | Q85: 1 | R85: =IF(P85="기계경비", J85, 0) -> 0 | S85: =IF(P85="운반비", L85, 0) -> 0 | T85: =IF(P85="작업부산물", F85, 0) -> 0 | U85: =IF(P85="관급", F85, 0) -> 0 | V85: =IF(P85="외주비", J85, 0) -> 0 | W85: =IF(P85="장비비", J85, 0) -> 0 | X85: =IF(P85="폐기물처리비", L85, 0) -> 0 | Y85: =IF(P85="가설비", J85, 0) -> 0 | Z85: =IF(P85="잡비제외분", F85, 0) -> 0 | AA85: =IF(P85="사급자재대", L85, 0) -> 0 | AB85: =IF(P85="관급자재대", L85, 0) -> 0 | AC85: =IF(P85="한전불입금", L85, 0) -> 0 | AD85: =IF(P85="사용자항목2", L85, 0) -> 0 | AE85: =IF(P85="안전관리비", L85, 0) -> 0 | AF85: =IF(P85="품질관리비", L85, 0) -> 0 | AG85: =IF(P85="작업부산물(철거해체)", L85, 0) -> 0 | AH85: =IF(P85="사용자항목6", L85, 0) -> 0 | AI85: =IF(P85="전기공사 손해배상보험료", L85, 0) -> 0 | AJ85: =IF(P85="사용자항목8", L85, 0) -> 0 | AK85: =IF(P85="사용자항목9", L85, 0) -> 0 | AL85: =IF(P85="사용자항목10", L85, 0) -> 0 | AM85: =IF(P85="사용자항목11", L85, 0) -> 0 | AN85: =IF(P85="사용자항목12", L85, 0) -> 0 | AO85: =IF(P85="사용자항목13", L85, 0) -> 0 | AP85: =IF(P85="사용자항목14", L85, 0) -> 0 | AQ85: =IF(P85="사용자항목15", L85, 0) -> 0 | AR85: =IF(P85="사용자항목16", L85, 0) -> 0 | AS85: =IF(P85="사용자항목17", L85, 0) -> 0 | AT85: =IF(P85="사용자항목18", L85, 0) -> 0 | AU85: =IF(P85="사용자항목19", L85, 0) -> 0
A86: 디지털 타임스위치 | B86: 10A | C86: EA | D86: 3 | O86: ="" | P86: 기계경비 | Q86: 1 | R86: =IF(P86="기계경비", J86, 0) -> 0 | S86: =IF(P86="운반비", L86, 0) -> 0 | T86: =IF(P86="작업부산물", F86, 0) -> 0 | U86: =IF(P86="관급", F86, 0) -> 0 | V86: =IF(P86="외주비", J86, 0) -> 0 | W86: =IF(P86="장비비", J86, 0) -> 0 | X86: =IF(P86="폐기물처리비", L86, 0) -> 0 | Y86: =IF(P86="가설비", J86, 0) -> 0 | Z86: =IF(P86="잡비제외분", F86, 0) -> 0 | AA86: =IF(P86="사급자재대", L86, 0) -> 0 | AB86: =IF(P86="관급자재대", L86, 0) -> 0 | AC86: =IF(P86="한전불입금", L86, 0) -> 0 | AD86: =IF(P86="사용자항목2", L86, 0) -> 0 | AE86: =IF(P86="안전관리비", L86, 0) -> 0 | AF86: =IF(P86="품질관리비", L86, 0) -> 0 | AG86: =IF(P86="작업부산물(철거해체)", L86, 0) -> 0 | AH86: =IF(P86="사용자항목6", L86, 0) -> 0 | AI86: =IF(P86="전기공사 손해배상보험료", L86, 0) -> 0 | AJ86: =IF(P86="사용자항목8", L86, 0) -> 0 | AK86: =IF(P86="사용자항목9", L86, 0) -> 0 | AL86: =IF(P86="사용자항목10", L86, 0) -> 0 | AM86: =IF(P86="사용자항목11", L86, 0) -> 0 | AN86: =IF(P86="사용자항목12", L86, 0) -> 0 | AO86: =IF(P86="사용자항목13", L86, 0) -> 0 | AP86: =IF(P86="사용자항목14", L86, 0) -> 0 | AQ86: =IF(P86="사용자항목15", L86, 0) -> 0 | AR86: =IF(P86="사용자항목16", L86, 0) -> 0 | AS86: =IF(P86="사용자항목17", L86, 0) -> 0 | AT86: =IF(P86="사용자항목18", L86, 0) -> 0 | AU86: =IF(P86="사용자항목19", L86, 0) -> 0 | AY86: 사용자
A87: 유성페인트 롤러칠 | B87: 철재면 2회 1급 | C87: M2 | D87: 108 | O87: ="" | P87: 기계경비 | Q87: 1 | R87: =IF(P87="기계경비", J87, 0) -> 0 | S87: =IF(P87="운반비", L87, 0) -> 0 | T87: =IF(P87="작업부산물", F87, 0) -> 0 | U87: =IF(P87="관급", F87, 0) -> 0 | V87: =IF(P87="외주비", J87, 0) -> 0 | W87: =IF(P87="장비비", J87, 0) -> 0 | X87: =IF(P87="폐기물처리비", L87, 0) -> 0 | Y87: =IF(P87="가설비", J87, 0) -> 0 | Z87: =IF(P87="잡비제외분", F87, 0) -> 0 | AA87: =IF(P87="사급자재대", L87, 0) -> 0 | AB87: =IF(P87="관급자재대", L87, 0) -> 0 | AC87: =IF(P87="한전불입금", L87, 0) -> 0 | AD87: =IF(P87="사용자항목2", L87, 0) -> 0 | AE87: =IF(P87="안전관리비", L87, 0) -> 0 | AF87: =IF(P87="품질관리비", L87, 0) -> 0 | AG87: =IF(P87="작업부산물(철거해체)", L87, 0) -> 0 | AH87: =IF(P87="사용자항목6", L87, 0) -> 0 | AI87: =IF(P87="전기공사 손해배상보험료", L87, 0) -> 0 | AJ87: =IF(P87="사용자항목8", L87, 0) -> 0 | AK87: =IF(P87="사용자항목9", L87, 0) -> 0 | AL87: =IF(P87="사용자항목10", L87, 0) -> 0 | AM87: =IF(P87="사용자항목11", L87, 0) -> 0 | AN87: =IF(P87="사용자항목12", L87, 0) -> 0 | AO87: =IF(P87="사용자항목13", L87, 0) -> 0 | AP87: =IF(P87="사용자항목14", L87, 0) -> 0 | AQ87: =IF(P87="사용자항목15", L87, 0) -> 0 | AR87: =IF(P87="사용자항목16", L87, 0) -> 0 | AS87: =IF(P87="사용자항목17", L87, 0) -> 0 | AT87: =IF(P87="사용자항목18", L87, 0) -> 0 | AU87: =IF(P87="사용자항목19", L87, 0) -> 0
A100: 합 계 | R100: =ROUNDDOWN(SUM(R70:R87), 0) -> 0 | S100: =ROUNDDOWN(SUM(S70:S87), 0) -> 0 | T100: =ROUNDDOWN(SUM(T70:T87), 0) -> 0 | U100: =ROUNDDOWN(SUM(U70:U87), 0) -> 0 | V100: =ROUNDDOWN(SUM(V70:V87), 0) -> 0 | W100: =ROUNDDOWN(SUM(W70:W87), 0) -> 0 | X100: =ROUNDDOWN(SUM(X70:X87), 0) -> 0 | Y100: =ROUNDDOWN(SUM(Y70:Y87), 0) -> 0 | ... AY100: =ROUNDDOWN(SUM(AY70:AY87), 0) -> 0
A101: 0201. 도급자 관급자재
A102: 조명기구 TYPE "A" | B102: LINE LED 14W [3000K] | C102: EA | D102: 348 | O102: ="" | P102: 관급자재대 | Q102: 1 | R102: =IF(P102="기계경비", J102, 0) -> 0 | S102: =IF(P102="운반비", L102, 0) -> 0 | T102: =IF(P102="작업부산물", F102, 0) -> 0 | U102: =IF(P102="관급", F102, 0) -> 0 | V102: =IF(P102="외주비", J102, 0) -> 0 | W102: =IF(P102="장비비", J102, 0) -> 0 | X102: =IF(P102="폐기물처리비", L102, 0) -> 0 | Y102: =IF(P102="가설비", J102, 0) -> 0 | Z102: =IF(P102="잡비제외분", F102, 0) -> 0 | AA102: =IF(P102="사급자재대", L102, 0) -> 0 | AB102: =IF(P102="관급자재대", L102, 0) -> 0 | AC102: =IF(P102="한전불입금", L102, 0) -> 0 | AD102: =IF(P102="사용자항목2", L102, 0) -> 0 | AE102: =IF(P102="안전관리비", L102, 0) -> 0 | AF102: =IF(P102="품질관리비", L102, 0) -> 0 | AG102: =IF(P102="작업부산물(철거해체)", L102, 0) -> 0 | AH102: =IF(P102="사용자항목6", L102, 0) -> 0 | AI102: =IF(P102="전기공사 손해배상보험료", L102, 0) -> 0 | AJ102: =IF(P102="사용자항목8", L102, 0) -> 0 | AK102: =IF(P102="사용자항목9", L102, 0) -> 0 | AL102: =IF(P102="사용자항목10", L102, 0) -> 0 | AM102: =IF(P102="사용자항목11", L102, 0) -> 0 | AN102: =IF(P102="사용자항목12", L102, 0) -> 0 | AO102: =IF(P102="사용자항목13", L102, 0) -> 0 | AP102: =IF(P102="사용자항목14", L102, 0) -> 0 | AQ102: =IF(P102="사용자항목15", L102, 0) -> 0 | AR102: =IF(P102="사용자항목16", L102, 0) -> 0 | AS102: =IF(P102="사용자항목17", L102, 0) -> 0 | AT102: =IF(P102="사용자항목18", L102, 0) -> 0 | AU102: =IF(P102="사용자항목19", L102, 0) -> 0
A103: 조달수수료 | B103: 0.54 | C103: ％ | D103: 0.54 | N103: 0.0054 | O103: ="" | P103: 관급자재대 | Q103: 1 | R103: =IF(P103="기계경비", J103, 0) -> 0 | S103: =IF(P103="운반비", L103, 0) -> 0 | T103: =IF(P103="작업부산물", F103, 0) -> 0 | U103: =IF(P103="관급", F103, 0) -> 0 | V103: =IF(P103="외주비", J103, 0) -> 0 | W103: =IF(P103="장비비", J103, 0) -> 0 | X103: =IF(P103="폐기물처리비", L103, 0) -> 0 | Y103: =IF(P103="가설비", J103, 0) -> 0 | Z103: =IF(P103="잡비제외분", F103, 0) -> 0 | AA103: =IF(P103="사급자재대", L103, 0) -> 0 | AB103: =IF(P103="관급자재대", L103, 0) -> 0 | AC103: =IF(P103="한전불입금", L103, 0) -> 0 | AD103: =IF(P103="사용자항목2", L103, 0) -> 0 | AE103: =IF(P103="안전관리비", L103, 0) -> 0 | AF103: =IF(P103="품질관리비", L103, 0) -> 0 | AG103: =IF(P103="작업부산물(철거해체)", L103, 0) -> 0 | AH103: =IF(P103="사용자항목6", L103, 0) -> 0 | AI103: =IF(P103="전기공사 손해배상보험료", L103, 0) -> 0 | AJ103: =IF(P103="사용자항목8", L103, 0) -> 0 | AK103: =IF(P103="사용자항목9", L103, 0) -> 0 | AL103: =IF(P103="사용자항목10", L103, 0) -> 0 | AM103: =IF(P103="사용자항목11", L103, 0) -> 0 | AN103: =IF(P103="사용자항목12", L103, 0) -> 0 | AO103: =IF(P103="사용자항목13", L103, 0) -> 0 | AP103: =IF(P103="사용자항목14", L103, 0) -> 0 | AQ103: =IF(P103="사용자항목15", L103, 0) -> 0 | AR103: =IF(P103="사용자항목16", L103, 0) -> 0 | AS103: =IF(P103="사용자항목17", L103, 0) -> 0 | AT103: =IF(P103="사용자항목18", L103, 0) -> 0 | AU103: =IF(P103="사용자항목19", L103, 0) -> 0
A104: 단수정리 | D104: 1 | O104: ="" | P104: 관급자재대 | Q104: 1 | R104: =IF(P104="기계경비", J104, 0) -> 0 | S104: =IF(P104="운반비", L104, 0) -> 0 | T104: =IF(P104="작업부산물", F104, 0) -> 0 | U104: =IF(P104="관급", F104, 0) -> 0 | V104: =IF(P104="외주비", J104, 0) -> 0 | W104: =IF(P104="장비비", J104, 0) -> 0 | X104: =IF(P104="폐기물처리비", L104, 0) -> 0 | Y104: =IF(P104="가설비", J104, 0) -> 0 | Z104: =IF(P104="잡비제외분", F104, 0) -> 0 | AA104: =IF(P104="사급자재대", L104, 0) -> 0 | AB104: =IF(P104="관급자재대", L104, 0) -> 0 | AC104: =IF(P104="한전불입금", L104, 0) -> 0 | AD104: =IF(P104="사용자항목2", L104, 0) -> 0 | AE104: =IF(P104="안전관리비", L104, 0) -> 0 | AF104: =IF(P104="품질관리비", L104, 0) -> 0 | AG104: =IF(P104="작업부산물(철거해체)", L104, 0) -> 0 | AH104: =IF(P104="사용자항목6", L104, 0) -> 0 | AI104: =IF(P104="전기공사 손해배상보험료", L104, 0) -> 0 | AJ104: =IF(P104="사용자항목8", L104, 0) -> 0 | AK104: =IF(P104="사용자항목9", L104, 0) -> 0 | AL104: =IF(P104="사용자항목10", L104, 0) -> 0 | AM104: =IF(P104="사용자항목11", L104, 0) -> 0 | AN104: =IF(P104="사용자항목12", L104, 0) -> 0 | AO104: =IF(P104="사용자항목13", L104, 0) -> 0 | AP104: =IF(P104="사용자항목14", L104, 0) -> 0 | AQ104: =IF(P104="사용자항목15", L104, 0) -> 0 | AR104: =IF(P104="사용자항목16", L104, 0) -> 0 | AS104: =IF(P104="사용자항목17", L104, 0) -> 0 | AT104: =IF(P104="사용자항목18", L104, 0) -> 0 | AU104: =IF(P104="사용자항목19", L104, 0) -> 0
A116: 합 계 | R116: =ROUNDDOWN(SUM(R102:R104), 0) -> 0 | S116: =ROUNDDOWN(SUM(S102:S104), 0) -> 0 | T116: =ROUNDDOWN(SUM(T102:T104), 0) -> 0 | U116: =ROUNDDOWN(SUM(U102:U104), 0) -> 0 | V116: =ROUNDDOWN(SUM(V102:V104), 0) -> 0 | W116: =ROUNDDOWN(SUM(W102:W104), 0) -> 0 | X116: =ROUNDDOWN(SUM(X102:X104), 0) -> 0 | Y116: =ROUNDDOWN(SUM(Y102:Y104), 0) -> 0 | ... AY116: =ROUNDDOWN(SUM(AY102:AY104), 0) -> 0
