Workbook

Sheet 자재단가
A1: 자 재 단 가
A3: 품 명 | B3: 규 격 | C3: 단위 | D3: 가 격 정 보 | F3: 물 가 자 료 | H3: 물 가 정 보 | J3: 거 래 가 격 | L3: 유 통 물 가 | N3: 기 타 가 격 | P3: 단 가 | Q3: 낙찰율(%) | R3: 적용단가 | S3: 비 고
D4: 단 가 | E4: Page | F4: 단 가 | G4: Page | H4: 단 가 | I4: Page | J4: 단 가 | K4: Page | L4: 단 가 | M4: Page | N4: 단 가 | O4: Page
A5: 경 유 | B5: 저 유 황 | C5: ℓ | D5: 1657 | E5: 06/02 | F5: 0 | H5: 0 | J5: 0 | L5: 0 | N5: 0 | P5: 1657 | Q5: 0 | R5: =IF(Q5=0,P5,TRUNC(Q5/100*P5,0)) -> 1657 | DM5: M000-0101
A6: 레 미 콘 | B6: 25-18-120 | C6: ㎥ | D6: 93430 | E6: 23734421 | F6: 0 | H6: 0 | J6: 0 | L6: 0 | N6: 0 | P6: 93430 | Q6: 0 | R6: =IF(Q6=0,P6,TRUNC(Q6/100*P6,0)) -> 93430 | DM6: M25-18-12 | DN6: K
A7: 레 미 콘 | B7: 25-21-120 | C7: ㎥ | D7: 99010 | E7: 23734428 | F7: 0 | H7: 0 | J7: 0 | L7: 0 | N7: 0 | P7: 99010 | Q7: 0 | R7: =IF(Q7=0,P7,TRUNC(Q7/100*P7,0)) -> 99010 | DM7: M25-21-12 | DN7: K
A8: 판 넬 | B8: 600×1200mm | C8: 매 | D8: 0 | F8: 28500 | G8: 107 | H8: 33000 | I8: 87 | J8: 0 | L8: 0 | N8: 0 | P8: 28500 | Q8: 0 | R8: =IF(Q8=0,P8,TRUNC(Q8/100*P8,0)) -> 28500 | DM8: M3501-700
A9: 결 속 선 | B9: Φ 0.9mm | C9: ㎏ | D9: 0 | F9: 1720 | G9: 27 | H9: 2380 | I9: 36 | J9: 0 | L9: 0 | N9: 0 | P9: 1720 | Q9: 0 | R9: =IF(Q9=0,P9,TRUNC(Q9/100*P9,0)) -> 1720 | DM9: M0401-910
A10: 모 래 | C10: ㎥ | D10: 0 | F10: 48000 | G10: 62 | H10: 59000 | I10: 55 | J10: 0 | L10: 0 | N10: 0 | P10: 48000 | Q10: 0 | R10: =IF(Q10=0,P10,TRUNC(Q10/100*P10,0)) -> 48000 | DM10: M0901-500
A11: 이 형 철 근 | B11: SD400,HD13mm | C11: Ton | D11: 822800 | E11: 10063866 | F11: 0 | H11: 0 | J11: 0 | L11: 0 | N11: 0 | P11: 822800 | Q11: 0 | R11: =IF(Q11=0,P11,TRUNC(Q11/100*P11,0)) -> 822800 | DM11: M000-1313 | DN11: K
A12: 합 판 | B12: 내수12mm | C12: ㎡ | D12: 0 | F12: 11858 | G12: 670 | H12: 14176 | I12: 583 | J12: 0 | L12: 0 | N12: 0 | P12: 11858 | Q12: 0 | R12: =IF(Q12=0,P12,TRUNC(Q12/100*P12,0)) -> 11858 | DM12: M4301-700
A13: 각 재 | B13: 외 송 | C13: ㎥ | D13: 0 | F13: 838323 | G13: 98 | H13: 0 | J13: 0 | L13: 0 | N13: 0 | P13: 838323 | Q13: 0 | R13: =IF(Q13=0,P13,TRUNC(Q13/100*P13,0)) -> 838323 | DM13: M1202-500
A14: 복 합 지 수 판 | B14: DX-150,150x5T | C14: M | D14: 0 | F14: 7000 | G14: 293 | H14: 0 | J14: 0 | L14: 0 | N14: 0 | P14: 7000 | Q14: 0 | R14: =IF(Q14=0,P14,TRUNC(Q14/100*P14,0)) -> 7000 | DM14: M2351-200
A15: 익스펜션죠인트 | B15: 30x1000x1000 | C15: ㎡ | D15: 0 | F15: 0 | H15: 24000 | I15: 184 | J15: 0 | L15: 0 | N15: 0 | P15: 24000 | Q15: 0 | R15: =IF(Q15=0,P15,TRUNC(Q15/100*P15,0)) -> 24000 | DM15: M3116-010
A16: 아 스 팔 트 | B16: 수용성 | C16: ℓ | D16: 0 | F16: 2200 | G16: 462 | H16: 0 | J16: 0 | L16: 0 | N16: 0 | P16: 2200 | Q16: 0 | R16: =IF(Q16=0,P16,TRUNC(Q16/100*P16,0)) -> 2200 | DM16: M000-1020

Sheet 노임단가
A1: 노 임 단 가
A3: 번호 | B3: 직 종 명 | C3: 단위 | D3: 건 설 협 회 | F3: 조 달 청 | H3: 기타단가 | I3: 단 가 | J3: 낙찰율(%) | K3: 적용단가 | L3: 비 고
D4: 상반기 | E4: 하반기 | F4: 상반기 | G4: 하반기
A5: 1 | B5: 보 통 인 부 | C5: 인 | D5: 172068 | E5: 0 | F5: 0 | G5: 0 | H5: 0 | I5: 172068 | J5: 0 | K5: =IF(J5=0,I5,TRUNC(J5/100*I5,0)) -> 172068 | DM5: W0-0084
A6: 2 | B6: 콘 크 리 트 공 | C6: 인 | D6: 273540 | E6: 0 | F6: 0 | G6: 0 | H6: 0 | I6: 273540 | J6: 0 | K6: =IF(J6=0,I6,TRUNC(J6/100*I6,0)) -> 273540 | DM6: W0-0026
A7: 3 | B7: 형 틀 목 공 | C7: 인 | D7: 275790 | E7: 0 | F7: 0 | G7: 0 | H7: 0 | I7: 275790 | J7: 0 | K7: =IF(J7=0,I7,TRUNC(J7/100*I7,0)) -> 275790 | DM7: W0-0004
A8: 4 | B8: 철 근 공 | C8: 인 | D8: 268187 | E8: 0 | F8: 0 | G8: 0 | H8: 0 | I8: 268187 | J8: 0 | K8: =IF(J8=0,I8,TRUNC(J8/100*I8,0)) -> 268187 | DM8: W0-0008
A9: 5 | B9: 건설기계운전사 | C9: 인 | D9: 283297 | E9: 0 | F9: 0 | G9: 0 | H9: 0 | I9: 283297 | J9: 0 | K9: =IF(J9=0,I9,TRUNC(J9/100*I9,0)) -> 283297 | DM9: W0-0085
A10: 6 | B10: 화물차 운전사 | C10: 인 | D10: 238936 | E10: 0 | F10: 0 | G10: 0 | H10: 0 | I10: 238936 | J10: 0 | K10: =IF(J10=0,I10,TRUNC(J10/100*I10,0)) -> 238936 | DM10: W1049
A11: 7 | B11: 특 별 인 부 | C11: 인 | D11: 226122 | E11: 0 | F11: 0 | G11: 0 | H11: 0 | I11: 226122 | J11: 0 | K11: =IF(J11=0,I11,TRUNC(J11/100*I11,0)) -> 226122 | DM11: W0-0083
A12: 8 | B12: 일반기계 운전사 | C12: 인 | D12: 173995 | E12: 0 | F12: 0 | G12: 0 | H12: 0 | I12: 173995 | J12: 0 | K12: =IF(J12=0,I12,TRUNC(J12/100*I12,0)) -> 173995 | DM12: W0-0088
A13: 9 | B13: 방 수 공 | C13: 인 | D13: 228286 | E13: 0 | F13: 0 | G13: 0 | H13: 0 | I13: 228286 | J13: 0 | K13: =IF(J13=0,I13,TRUNC(J13/100*I13,0)) -> 228286 | DM13: W1026

Sheet 견적및기타
A1: 견 적 및 기 타 단 가
A3: 구 분 | B3: 규 격 | C3: 수량 | D3: 단위 | E3: 합 계 | F3: 재 료 비 | G3: 노 무 비 | H3: 경 비 | I3: 낙찰율(%) | J3: 합 계(적용) | K3: 재료비(적용) | L3: 노무비(적용) | M3: 경 비(적용) | N3: 비 고
A5: 금 액 조 정 | C5: 1 | D5: 식 | E5: =F5+G5+H5 -> 5907 | F5: 5907 | G5: 0 | H5: 0 | I5: 0 | J5: =K5+L5+M5 -> 5907 | K5: =IF(I5=0,F5,TRUNC(I5/100*F5,0)) -> 5907 | L5: =IF(I5=0,G5,TRUNC(I5/100*G5,0)) -> 0 | M5: =IF(I5=0,H5,TRUNC(I5/100*H5,0)) -> 0 | DM5: E000-040
A6: 하 차 비 | C6: 1 | D6: Ton | E6: =F6+G6+H6 -> 2261.69 | F6: 0 | G6: 0 | H6: 2261.69 | I6: 0 | J6: =K6+L6+M6 -> 2261.69 | K6: =IF(I6=0,F6,TRUNC(I6/100*F6,0)) -> 0 | L6: =IF(I6=0,G6,TRUNC(I6/100*G6,0)) -> 0 | M6: =IF(I6=0,H6,TRUNC(I6/100*H6,0)) -> 2261.69 | DM6: E000-1020
A7: 구역화물(20㎞) | B7: 10.5 Ton | C7: 1 | D7: 대 | E7: =F7+G7+H7 -> 111240 | F7: 0 | G7: 0 | H7: 111240 | I7: 0 | J7: =K7+L7+M7 -> 111240 | K7: =IF(I7=0,F7,TRUNC(I7/100*F7,0)) -> 0 | L7: =IF(I7=0,G7,TRUNC(I7/100*G7,0)) -> 0 | M7: =IF(I7=0,H7,TRUNC(I7/100*H7,0)) -> 111240 | DM7: E1-010-020

Sheet 건설기계 적용기준
DM5: S_1EXCHANGE | DN5: M000-0001
C6: ◈ ◈ 적 용 기 준 ◈ ◈ | DM6: S_VOLATILE | DN6: M0000-100
DM7: S_LIGHTOIL | DN7: M000-0101
C8: ▣ 유 류 대 | DM8: S_JADD_MX2 | DN8: 1.110
C9: 경 유 : 1,657.00 원 | DM9: S_JADD_MX3 | DN9: 1.120
DM10: S_DRIVER | DN10: W0-0085
C11: ▣ 노 무 비 | DM11: S_1DRIVER | DN11: W1049
C12: ⊙ 노임산출계수(보통) | DM12: S_2DRIVER | DN12: W0-0088
C13: 건설기계운전사 : 283,297.00 x 16/12 x 1/8 x 25/20 = 59,020.00 원 | DM13: S_LABCGYESU | DN13: 16/12 * 1/8 * 25/20
C14: 화물차 운전사 : 238,936.00 x 16/12 x 1/8 x 25/20 = 49,778.00 원 | DM14: S_1LABCGYESU | DN14: 16/12 * 1/8 * 25/20
C15: 일반기계운전사 : 173,995.00 x 16/12 x 1/8 x 25/20 = 36,248.00 원 | DM15: S_2LABCGYESU | DN15: 16/12 * 1/8 * 25/20
DM16: S_3LABCGYESU | DN16: 16/12 * 1/8 * 25/20
C17: ▣ 주.야간 할증 | DM17: S_GYESUDEC | DN17: 0
C18: ⊙ 재료비 할증 | DM18: S_LABJARISU | DN18: 0
C19: 야 간 할증계수: 1.110 | DM19: S_K_SONLYO | DN19: 10^-7*1000
C20: 주.야간 할증계수: 1.120 | DM20: S_JB_METHOD | DN20: 2
DM21: S_JB_AMTDEC | DN21: 1
DM22: S_JB_RES_RMK | DN22: 0
DM23: S_JB_JBK_RMK | DN23: 1
DM24: S_JB_HP_MAKE | DN24: 0
DM25: S_JB_HP_FIRST | DN25: 기손
DM26: S_JB_HP_LAST | DN26: 호표
DM27: S_JB_NO_JEOKYONG | DN27: 0
DM28: S_JB_LNK_MODE | DN28: 2

Sheet 건설기계
A1: 건 설 기 계 손 료
A3: 구 분 | B3: 규 격 | C3: 수량 | D3: 단위 | E3: 합 계 | G3: 재 료 비 | I3: 노 무 비 | K3: 경 비 | M3: 비 고
E4: 단 가 | F4: 금 액 | G4: 단 가 | H4: 금 액 | I4: 단 가 | J4: 금 액 | K4: 단 가 | L4: 금 액
A5: ：트랙트및트레일러 (20Ton)【기계가격：67,216 천원】 | DM5: :D00263
A6: 경 유 | B6: 저 유 황 | C6: 16.5 | D6: ℓ | E6: =G6+I6+K6 -> 1657 | F6: =H6+J6+L6 -> 27340.5 | G6: =자재단가!R5 -> 1657 | H6: =TRUNC(C6*G6,1) -> 27340.5 | I6: 0 | J6: =TRUNC(C6*I6,1) -> 0 | K6: 0 | L6: =TRUNC(C6*K6,1) -> 0 | DM6: M000-0101
A7: 잡 품 | B7: 주연료비의 | C7: 39 | D7: % | E7: =G7+I7+K7 -> 27340.5 | F7: =H7+J7+L7 -> 10662.7 | G7: =H6 -> 27340.5 | H7: =TRUNC(C7/100*G7,1) -> 10662.7 | I7: 0 | J7: =TRUNC(C7/100*I7,1) -> 0 | K7: 0 | L7: =TRUNC(C7/100*K7,1) -> 0 | DM7: %RAN*MM | DN7: 1
A8: 건설기계운전사 | C8: 1 | D8: 인 | E8: =G8+I8+K8 -> 59020 | F8: =H8+J8+L8 -> 59020 | G8: 0 | H8: =TRUNC(C8*G8,1) -> 0 | I8: =TRUNC(노임단가!K9*16/12*1/8*25/20,0) -> 59020 | J8: =TRUNC(C8*I8,1) -> 59020 | K8: 0 | L8: =TRUNC(C8*K8,1) -> 0 | DM8: W0-0085
A9: 기계손료 | C9: =2576*10^-7*1000 -> 0.2576 | E9: =G9+I9+K9 -> 67216 | F9: =H9+J9+L9 -> 17314.8 | G9: 0 | H9: =TRUNC(C9*G9,1) -> 0 | I9: 0 | J9: =TRUNC(C9*I9,1) -> 0 | K9: 67216 | L9: =TRUNC(C9*K9,1) -> 17314.8 | DM9: %SON-LYO | DN9: 2576
A10: ☞품셈8-2-5 | C10: 0 | E10: =G10+I10+K10 -> 0 | F10: =H10+J10+L10 -> 0 | G10: 0 | H10: =TRUNC(C10*G10,1) -> 0 | I10: 0 | J10: =TRUNC(C10*I10,1) -> 0 | K10: 0 | L10: =TRUNC(C10*K10,1) -> 0
A11: 계 | F11: =H11+J11+L11 -> 114337 | H11: =ROUNDDOWN(SUM(H6:H10),0) -> 38003 | J11: =ROUNDDOWN(SUM(J6:J10),0) -> 59020 | L11: =ROUNDDOWN(SUM(L6:L10),0) -> 17314
A13: ：덤 프 트 럭 (2.5 ton)【기계가격：21,982 천원】 | DM13: :D0602-0025
A14: 경 유 | B14: 저 유 황 | C14: 2.9 | D14: ℓ | E14: =G14+I14+K14 -> 1657 | F14: =H14+J14+L14 -> 4805.3 | G14: =자재단가!R5 -> 1657 | H14: =TRUNC(C14*G14,1) -> 4805.3 | I14: 0 | J14: =TRUNC(C14*I14,1) -> 0 | K14: 0 | L14: =TRUNC(C14*K14,1) -> 0 | DM14: M000-0101
A15: 잡 품 | B15: 주연료비의 % | C15: 38 | D15: % | E15: =G15+I15+K15 -> 4805.3 | F15: =H15+J15+L15 -> 1826 | G15: =H14 -> 4805.3 | H15: =TRUNC(C15/100*G15,1) -> 1826 | I15: 0 | J15: =TRUNC(C15/100*I15,1) -> 0 | K15: 0 | L15: =TRUNC(C15/100*K15,1) -> 0 | DM15: %RAN*MM | DN15: 1
A16: 화물차 운전사 | C16: 1 | D16: 인 | E16: =G16+I16+K16 -> 49778 | F16: =H16+J16+L16 -> 49778 | G16: 0 | H16: =TRUNC(C16*G16,1) -> 0 | I16: =TRUNC(노임단가!K10*16/12*1/8*25/20,0) -> 49778 | J16: =TRUNC(C16*I16,1) -> 49778 | K16: 0 | L16: =TRUNC(C16*K16,1) -> 0 | DM16: W1049
A17: 기 계 손 료 | C17: =2967*10^-7*1000 -> 0.2967 | E17: =G17+I17+K17 -> 21982 | F17: =H17+J17+L17 -> 6522 | G17: 0 | H17: =TRUNC(C17*G17,1) -> 0 | I17: 0 | J17: =TRUNC(C17*I17,1) -> 0 | K17: 21982 | L17: =TRUNC(C17*K17,1) -> 6522 | DM17: %SON-LYO | DN17: 2967
A18: ⊙ 품셈8-2-8 | C18: 0 | E18: =G18+I18+K18 -> 0 | F18: =H18+J18+L18 -> 0 | G18: 0 | H18: =TRUNC(C18*G18,1) -> 0 | I18: 0 | J18: =TRUNC(C18*I18,1) -> 0 | K18: 0 | L18: =TRUNC(C18*K18,1) -> 0
A19: 계 | F19: =H19+J19+L19 -> 62931 | H19: =ROUNDDOWN(SUM(H14:H18),0) -> 6631 | J19: =ROUNDDOWN(SUM(J14:J18),0) -> 49778 | L19: =ROUNDDOWN(SUM(L14:L18),0) -> 6522
A21: ：덤 프 트 럭 (4.5 ton)【기계가격：25,662 천원】 | DM21: :D0602-0045
A22: 경 유 | B22: 저 유 황 | C22: 5 | D22: ℓ | E22: =G22+I22+K22 -> 1657 | F22: =H22+J22+L22 -> 8285 | G22: =자재단가!R5 -> 1657 | H22: =TRUNC(C22*G22,1) -> 8285 | I22: 0 | J22: =TRUNC(C22*I22,1) -> 0 | K22: 0 | L22: =TRUNC(C22*K22,1) -> 0 | DM22: M000-0101
A23: 잡 품 | B23: 주연료비의 % | C23: 38 | D23: % | E23: =G23+I23+K23 -> 8285 | F23: =H23+J23+L23 -> 3148.3 | G23: =H22 -> 8285 | H23: =TRUNC(C23/100*G23,1) -> 3148.3 | I23: 0 | J23: =TRUNC(C23/100*I23,1) -> 0 | K23: 0 | L23: =TRUNC(C23/100*K23,1) -> 0 | DM23: %RAN*MM | DN23: 1
A24: 화물차 운전사 | C24: 1 | D24: 인 | E24: =G24+I24+K24 -> 49778 | F24: =H24+J24+L24 -> 49778 | G24: 0 | H24: =TRUNC(C24*G24,1) -> 0 | I24: =TRUNC(노임단가!K10*16/12*1/8*25/20,0) -> 49778 | J24: =TRUNC(C24*I24,1) -> 49778 | K24: 0 | L24: =TRUNC(C24*K24,1) -> 0 | DM24: W1049
A25: 기 계 손 료 | C25: =2967*10^-7*1000 -> 0.2967 | E25: =G25+I25+K25 -> 25662 | F25: =H25+J25+L25 -> 7613.9 | G25: 0 | H25: =TRUNC(C25*G25,1) -> 0 | I25: 0 | J25: =TRUNC(C25*I25,1) -> 0 | K25: 25662 | L25: =TRUNC(C25*K25,1) -> 7613.9 | DM25: %SON-LYO | DN25: 2967
A26: ⊙ 품셈8-2-8 | C26: 0 | E26: =G26+I26+K26 -> 0 | F26: =H26+J26+L26 -> 0 | G26: 0 | H26: =TRUNC(C26*G26,1) -> 0 | I26: 0 | J26: =TRUNC(C26*I26,1) -> 0 | K26: 0 | L26: =TRUNC(C26*K26,1) -> 0
A27: 계 | F27: =H27+J27+L27 -> 68824 | H27: =ROUNDDOWN(SUM(H22:H26),0) -> 11433 | J27: =ROUNDDOWN(SUM(J22:J26),0) -> 49778 | L27: =ROUNDDOWN(SUM(L22:L26),0) -> 7613
A29: ：굴삭기(무한궤도) [0.2 ㎥]【기계가격：66,538 천원】 | DM29: :D0201-0020
A30: 경 유 | B30: 저 유 황 | C30: 5 | D30: ℓ | E30: =G30+I30+K30 -> 1657 | F30: =H30+J30+L30 -> 8285 | G30: =자재단가!R5 -> 1657 | H30: =TRUNC(C30*G30,1) -> 8285 | I30: 0 | J30: =TRUNC(C30*I30,1) -> 0 | K30: 0 | L30: =TRUNC(C30*K30,1) -> 0 | DM30: M000-0101
A31: 잡 품 | B31: 주연료비의 % | C31: 21 | D31: % | E31: =G31+I31+K31 -> 8285 | F31: =H31+J31+L31 -> 1739.8 | G31: =H30 -> 8285 | H31: =TRUNC(C31/100*G31,1) -> 1739.8 | I31: 0 | J31: =TRUNC(C31/100*I31,1) -> 0 | K31: 0 | L31: =TRUNC(C31/100*K31,1) -> 0 | DM31: %RAN*MM | DN31: 1
A32: 건설기계운전사 | C32: 1 | D32: 인 | E32: =G32+I32+K32 -> 59020 | F32: =H32+J32+L32 -> 59020 | G32: 0 | H32: =TRUNC(C32*G32,1) -> 0 | I32: =TRUNC(노임단가!K9*16/12*1/8*25/20,0) -> 59020 | J32: =TRUNC(C32*I32,1) -> 59020 | K32: 0 | L32: =TRUNC(C32*K32,1) -> 0 | DM32: W0-0085
A33: 기 계 손 료 | C33: =2085*10^-7*1000 -> 0.2085 | E33: =G33+I33+K33 -> 66538 | F33: =H33+J33+L33 -> 13873.1 | G33: 0 | H33: =TRUNC(C33*G33,1) -> 0 | I33: 0 | J33: =TRUNC(C33*I33,1) -> 0 | K33: 66538 | L33: =TRUNC(C33*K33,1) -> 13873.1 | DM33: %SON-LYO | DN33: 2085
A34: ☞품셈8-2-3 | C34: 0 | E34: =G34+I34+K34 -> 0 | F34: =H34+J34+L34 -> 0 | G34: 0 | H34: =TRUNC(C34*G34,1) -> 0 | I34: 0 | J34: =TRUNC(C34*I34,1) -> 0 | K34: 0 | L34: =TRUNC(C34*K34,1) -> 0
A35: 계 | F35: =H35+J35+L35 -> 82917 | H35: =ROUNDDOWN(SUM(H30:H34),0) -> 10024 | J35: =ROUNDDOWN(SUM(J30:J34),0) -> 59020 | L35: =ROUNDDOWN(SUM(L30:L34),0) -> 13873
A37: ：물탱크(살수차) [5500 L]【기계가격：47,263 천원】 | DM37: :D7204-005500
A38: 경 유 | B38: 저 유 황 | C38: 9.3 | D38: ℓ | E38: =G38+I38+K38 -> 1657 | F38: =H38+J38+L38 -> 15410.1 | G38: =자재단가!R5 -> 1657 | H38: =TRUNC(C38*G38,1) -> 15410.1 | I38: 0 | J38: =TRUNC(C38*I38,1) -> 0 | K38: 0 | L38: =TRUNC(C38*K38,1) -> 0 | DM38: M000-0101
A39: 잡 품 | B39: 주연료비의 % | C39: 30 | D39: % | E39: =G39+I39+K39 -> 15410.1 | F39: =H39+J39+L39 -> 4623 | G39: =H38 -> 15410.1 | H39: =TRUNC(C39/100*G39,1) -> 4623 | I39: 0 | J39: =TRUNC(C39/100*I39,1) -> 0 | K39: 0 | L39: =TRUNC(C39/100*K39,1) -> 0 | DM39: %RAN*MM | DN39: 1
A40: 화물차 운전사 | C40: 1 | D40: 인 | E40: =G40+I40+K40 -> 49778 | F40: =H40+J40+L40 -> 49778 | G40: 0 | H40: =TRUNC(C40*G40,1) -> 0 | I40: =TRUNC(노임단가!K10*16/12*1/8*25/20,0) -> 49778 | J40: =TRUNC(C40*I40,1) -> 49778 | K40: 0 | L40: =TRUNC(C40*K40,1) -> 0 | DM40: W1049
A41: 기 계 손 료 | C41: =2113*10^-7*1000 -> 0.2113 | E41: =G41+I41+K41 -> 47263 | F41: =H41+J41+L41 -> 9986.6 | G41: 0 | H41: =TRUNC(C41*G41,1) -> 0 | I41: 0 | J41: =TRUNC(C41*I41,1) -> 0 | K41: 47263 | L41: =TRUNC(C41*K41,1) -> 9986.6 | DM41: %SON-LYO | DN41: 2113
A42: ⊙ 품셈8-2-23-7204 | C42: 0 | E42: =G42+I42+K42 -> 0 | F42: =H42+J42+L42 -> 0 | G42: 0 | H42: =TRUNC(C42*G42,1) -> 0 | I42: 0 | J42: =TRUNC(C42*I42,1) -> 0 | K42: 0 | L42: =TRUNC(C42*K42,1) -> 0
A43: 계 | F43: =H43+J43+L43 -> 79797 | H43: =ROUNDDOWN(SUM(H38:H42),0) -> 20033 | J43: =ROUNDDOWN(SUM(J38:J42),0) -> 49778 | L43: =ROUNDDOWN(SUM(L38:L42),0) -> 9986
A45: ：진동로울러(핸드가이드식) [0.7 ton,조정원제외]【기계가격：6,966 천원】 | DM45: :D1306-0071
A46: 경 유 | B46: 저 유 황 | C46: 2.2 | D46: ℓ | E46: =G46+I46+K46 -> 1657 | F46: =H46+J46+L46 -> 3645.4 | G46: =자재단가!R5 -> 1657 | H46: =TRUNC(C46*G46,1) -> 3645.4 | I46: 0 | J46: =TRUNC(C46*I46,1) -> 0 | K46: 0 | L46: =TRUNC(C46*K46,1) -> 0 | DM46: M000-0101
...

Sheet 건설기계 목록
A1: 건 설 기 계 목 록 표
A3: 공 종 | B3: 규 격 | C3: 수 량 | D3: 단위 | E3: 합 계 | F3: 재 료 비 | G3: 노 무 비 | H3: 경 비 | I3: 비 고
A5: 트랙트및트레일러 | B5: 20Ton | C5: 1 | D5: 시간 | E5: =F5+G5+H5 -> 114337 | F5: =건설기계!H11 -> 38003 | G5: =건설기계!J11 -> 59020 | H5: =건설기계!L11 -> 17314 | DM5: D00263
A6: 덤 프 트 럭 | B6: 2.5 ton | C6: 1 | D6: 시간 | E6: =F6+G6+H6 -> 62931 | F6: =건설기계!H19 -> 6631 | G6: =건설기계!J19 -> 49778 | H6: =건설기계!L19 -> 6522 | I6: D0602-0025 | DM6: D0602-0025
A7: 덤 프 트 럭 | B7: 4.5 ton | C7: 1 | D7: 시간 | E7: =F7+G7+H7 -> 68824 | F7: =건설기계!H27 -> 11433 | G7: =건설기계!J27 -> 49778 | H7: =건설기계!L27 -> 7613 | I7: D0602-0025 | DM7: D0602-0045
A8: 굴삭기(무한궤도) | B8: 0.2 ㎥ | C8: 1 | D8: 시간 | E8: =F8+G8+H8 -> 82917 | F8: =건설기계!H35 -> 10024 | G8: =건설기계!J35 -> 59020 | H8: =건설기계!L35 -> 13873 | DM8: D0201-0020
A9: 물탱크(살수차) | B9: 5500 L | C9: 1 | D9: 시간 | E9: =F9+G9+H9 -> 79797 | F9: =건설기계!H43 -> 20033 | G9: =건설기계!J43 -> 49778 | H9: =건설기계!L43 -> 9986 | DM9: D7204-005500
A10: 진동로울러(핸드가이드식) | B10: 0.7 ton,조정원제외 | C10: 1 | D10: 시간 | E10: =F10+G10+H10 -> 6086 | F10: =건설기계!H50 -> 4119 | G10: =건설기계!J50 -> 0 | H10: =건설기계!L50 -> 1967 | DM10: D1306-0071
A11: 덤 프 트 럭 | B11: 15 Ton | C11: 1 | D11: 시간 | E11: =F11+G11+H11 -> 116474 | F11: =건설기계!H59 -> 36357 | G11: =건설기계!J59 -> 59020 | H11: =건설기계!L59 -> 21097 | DM11: D0602-0150
A12: 덤프 트럭 자동덮개 | B12: 15.0 ton | C12: 1 | D12: 시간 | E12: =F12+G12+H12 -> 438 | F12: =건설기계!H64 -> 0 | G12: =건설기계!J64 -> 0 | H12: =건설기계!L64 -> 438 | DM12: D0610-0150
A13: 굴삭기(무한궤도) | B13: 0.6㎥ | C13: 1 | D13: 시간 | E13: =F13+G13+H13 -> 103062 | F13: =건설기계!H72 -> 20619 | G13: =건설기계!J72 -> 59020 | H13: =건설기계!L72 -> 23423 | I13: D0211-0018 | DM13: D0211-00601
A14: 진동롤러(핸드가이드식) | B14: 0.7TON | C14: 1 | D14: 시간 | E14: =F14+G14+H14 -> 42334 | F14: =건설기계!H80 -> 4119 | G14: =건설기계!J80 -> 36248 | H14: =건설기계!L80 -> 1967 | DM14: D1306-007
A15: 굴삭기(무한궤도) | B15: 0.4 ㎥ | C15: 1 | D15: 시간 | E15: =F15+G15+H15 -> 96547 | F15: =건설기계!H88 -> 20013 | G15: =건설기계!J88 -> 59020 | H15: =건설기계!L88 -> 17514 | DM15: D0201-0040

Sheet 단가산출
A1: 단 가 산 출 근 거
A3: 산 출 근 거 | CX3: 합 계 | CY3: 재료비 | CZ3: 노무비 | DA3: 경 비
A5: 산근 1 호표 ：성 토 및 다 짐 (굴삭기0.2㎥,기계100%) ㎥ 당 | DM5: :S2-006 | DN5: "◈ 성토 및 다짐 (굴삭기0.2㎥;기계100%) : ㎥당"&C_&C_&C_"1.기 계 (굴삭기0.2㎥)"&C_&C_ q = 0.2, k = 1.1, f = 1&C_&C_ E = 0.65, cm = 15"sec" &C_&C_ Q = 3600 * q * k * f * E / cm = "㎥/hr"&C_&C_ "&M_:"[D0201-0020] / ?Q = "￦/㎥"&C_&C_ "&L_:"[D0201-0020] / ?Q = "￦/㎥"&C_&C_ "&E_:"[D0201-0020] / ?Q = "￦/㎥"&C_&C_/-&C_&C_+>&C_&C_"2. 진동 로울러(핸드가이드식0.7ton)"&C_&C_ "* 품셈 8-2-9 롤러 "&C_&C_ V = 1.0, W = 0.65, E = 0.6 &C_&C_ N = 6, D = 0.30, F=1&C_&C_ Q = 1000*V*W*E*D*f*1/N = "㎥/hr"&C_&C_ "&L_:"[D1306-0071]/Q= "원/㎥"&C_&C_ "&M_:"[D1306-0071]/Q= "원/㎥" &C_&C_ "&E_:"[D1306-0071]/Q= "원/㎥"&C_&C_/-&C_&C_+>&C_&C_++>
A6: ◈ 성토 및 다짐 (굴삭기0.2㎥;기계100%) : ㎥당
A8: 1.기 계 (굴삭기0.2㎥)
F10: q | H10: = | J10: =TEXT(0.2,"#,##0.0#######") -> 0.2 | N10: , | P10: k | R10: = | T10: =TEXT(1.1,"#,##0.0#######") -> 1.1 | X10: , | Z10: f | AB10: = | AD10: =TEXT(1,"#,##0") -> 1
F12: E | H12: = | J12: =TEXT(0.65,"#,##0.00#######") -> 0.65 | O12: , | Q12: cm | T12: = | V12: =TEXT(15,"#,##0") -> 15 | Y12: sec
F14: Q | H14: = | J14: =TEXT(3600,"#,##0") -> 3,600 | O14: * | Q14: q | S14: * | U14: k | W14: * | Y14: f | AA14: * | AC14: E | AE14: / | AG14: cm | AJ14: = | AL14: =TEXT(ROUND(J14*J10*T10*AD10*J12/V12,2),"#,##0.00#######") -> 34.32 | AS14: ㎥/hr
G16: 재료비: | L16: =TEXT(TRUNC(건설기계!H35,0),"#,##0") -> 10,024 | S16: / | V16: Q | X16: = | Z16: =TEXT(ROUNDDOWN(L16/AL14,1),"#,##0.0#######") -> 292.0 | AG16: ￦/㎥ | CX16: =CY16+CZ16+DA16 -> 292 | CY16: =TEXT(Z16,"#,###.0") -> 292.0 | DM16: D0201-0020
G18: 노무비: | L18: =TEXT(TRUNC(건설기계!J35,0),"#,##0") -> 59,020 | S18: / | V18: Q | X18: = | Z18: =TEXT(ROUNDDOWN(L18/AL14,1),"#,##0.0#######") -> 1,719.6 | AI18: ￦/㎥ | CX18: =CY18+CZ18+DA18 -> 1719.6 | CZ18: =TEXT(Z18,"#,###.0") -> 1,719.6 | DM18: D0201-0020
G20: 경 비: | L20: =TEXT(TRUNC(건설기계!L35,0),"#,##0") -> 13,873 | S20: / | V20: Q | X20: = | Z20: =TEXT(ROUNDDOWN(L20/AL14,1),"#,##0.0#######") -> 404.2 | AG20: ￦/㎥ | CX20: =CY20+CZ20+DA20 -> 404.2 | DA20: =TEXT(Z20,"#,###.0") -> 404.2 | DM20: D0201-0020
A22: ------------------------------------------------------------
B24: 소 | F24: 계 | CX24: =CY24+CZ24+DA24 -> 2415.8 | CY24: =TEXT(TRUNC(CY16+CY18+CY20,1),"#,###.0") -> 292.0 | CZ24: =TEXT(TRUNC(CZ16+CZ18+CZ20,1),"#,###.0") -> 1,719.6 | DA24: =TEXT(TRUNC(DA16+DA18+DA20,1),"#,###.0") -> 404.2
A26: 2. 진동 로울러(핸드가이드식0.7ton)
A28: * 품셈 8-2-9 롤러
G30: V | I30: = | K30: =TEXT(1,"#,##0.0#######") -> 1.0 | O30: , | Q30: W | S30: = | U30: =TEXT(0.65,"#,##0.00#######") -> 0.65 | Z30: , | AB30: E | AD30: = | AF30: =TEXT(0.6,"#,##0.0#######") -> 0.6
G32: N | I32: = | K32: =TEXT(6,"#,##0") -> 6 | M32: , | O32: D | Q32: = | S32: =TEXT(0.3,"#,##0.00#######") -> 0.30 | X32: , | Z32: F | AB32: = | AD32: =TEXT(1,"#,##0") -> 1
G34: Q | I34: = | K34: =TEXT(1000,"#,##0") -> 1,000 | P34: * | R34: V | T34: * | V34: W | X34: * | Z34: E | AB34: * | AD34: D | AF34: * | AH34: f | AJ34: * | AL34: =TEXT(1,"#,##0") -> 1 | AN34: / | AP34: N | AR34: = | AT34: =TEXT(ROUND(K34*K30*U30*AF30*S32*AD10*AL34/K32,1),"#,##0.0#######") -> 19.5 | AZ34: ㎥/hr
G36: 노무비: | L36: =TEXT(TRUNC(건설기계!J50,0),"#,##0") -> 0 | N36: / | P36: Q | R36: = | T36: =TEXT(ROUNDDOWN(L36/AT34,0),"#,##0") -> 0 | W36: 원/㎥ | CZ36: =TEXT(T36,"#,###.0") -> .0 | DM36: D1306-0071
G38: 재료비: | L38: =TEXT(TRUNC(건설기계!H50,0),"#,##0") -> 4,119 | R38: / | T38: Q | V38: = | X38: =TEXT(ROUNDDOWN(L38/AT34,1),"#,##0.0#######") -> 211.2 | AE38: 원/㎥ | CX38: =CY38+CZ38+DA38 -> 211.2 | CY38: =TEXT(X38,"#,###.0") -> 211.2 | DM38: D1306-0071
G40: 경 비: | L40: =TEXT(TRUNC(건설기계!L50,0),"#,##0") -> 1,967 | R40: / | T40: Q | V40: = | X40: =TEXT(ROUNDDOWN(L40/AT34,1),"#,##0.0#######") -> 100.8 | AE40: 원/㎥ | CX40: =CY40+CZ40+DA40 -> 100.8 | DA40: =TEXT(X40,"#,###.0") -> 100.8 | DM40: D1306-0071
A42: ------------------------------------------------------------
B44: 소 | F44: 계 | CX44: =CY44+CZ44+DA44 -> 312 | CY44: =TEXT(TRUNC(CY36+CY38+CY40,1),"#,###.0") -> 211.2 | CZ44: =TEXT(TRUNC(CZ36+CZ38+CZ40,1),"#,###.0") -> .0 | DA44: =TEXT(TRUNC(DA36+DA38+DA40,1),"#,###.0") -> 100.8
B46: 합 | F46: 계 | CX46: =CY46+CZ46+DA46 -> 2727.8 | CY46: =TEXT(TRUNC(CY24+CY44,1),"#,###.0") -> 503.2 | CZ46: =TEXT(TRUNC(CZ24+CZ44,1),"#,###.0") -> 1,719.6 | DA46: =TEXT(TRUNC(DA24+DA44,1),"#,###.0") -> 505.0
A48: 계 | CX48: =TEXT(CY48+CZ48+DA48,"#,##0") -> 2,727 | CY48: =TEXT(TRUNC(CY46,0),"#,##0") -> 503 | CZ48: =TEXT(TRUNC(CZ46,0),"#,##0") -> 1,719 | DA48: =TEXT(TRUNC(DA46,0),"#,##0") -> 505
A50: 산근 2 호표 ：터 파 기(토사,육상) (굴삭기0.2㎥,기계100%) ㎥ 당 | DM50: :S2-002 | DN50: "◈ 터파기 (토사;굴삭기0.2㎥,;기계100%) ㎥ 당"&C_&C_ "* 품셈 8-2-3굴삭기 "&C_&C_&C_ "1.기계터파기(100%)굴삭기0.2㎥"&C_&C_ q = 0.2, k = 0.9, f = 1 / 1.24 =&C_&C_ E = 0.7-0.05=, Cm = 15"Sec"&C_&C_ Q = 3600 * q * k * f * E / Cm = "㎥/hr"&C_&C_ "&M_:" [D0201-0020] / ?Q = "￦/㎥"&C_&C_ "&L_:" [D0201-0020] / ?Q = "￦/㎥"&C_&C_ "&E_:" [D0201-0020] / ?Q = "￦/㎥"&C_&C_&C_/-&C_&C_+>&C_&C_++>
A51: ◈ 터파기 (토사;굴삭기0.2㎥,;기계100%) ㎥ 당 | CX51: =CY51+CZ51+DA51 -> 0
A53: * 품셈 8-2-3굴삭기
A55: 1.기계터파기(100%)굴삭기0.2㎥
G57: q | I57: = | K57: =TEXT(0.2,"#,##0.0#######") -> 0.2 | O57: , | Q57: k | S57: = | U57: =TEXT(0.9,"#,##0.0#######") -> 0.9 | Y57: , | AA57: f | AC57: = | AE57: =TEXT(1,"#,##0") -> 1 | AG57: / | AI57: =TEXT(1.24,"#,##0.00#######") -> 1.24 | AN57: = | AP57: =TEXT(ROUND(AE57/AI57,2),"#,##0.00#######") -> 0.81
G59: E | I59: = | K59: =TEXT(0.7,"#,##0.0#######") -> 0.7 | O59: - | Q59: =TEXT(0.05,"#,##0.00#######") -> 0.05 | V59: = | X59: =TEXT(ROUND(K59-Q59,2),"#,##0.00#######") -> 0.65 | AC59: , | AE59: Cm | AH59: = | AJ59: =TEXT(15,"#,##0") -> 15 | AM59: Sec
G61: Q | I61: = | K61: =TEXT(3600,"#,##0") -> 3,600 | P61: * | R61: q | T61: * | V61: k | X61: * | Z61: f | AB61: * | AD61: E | AF61: / | AH61: Cm | AK61: = | AM61: =TEXT(ROUND(K61*K57*U57*AP57*X59/AJ59,2),"#,##0.00#######") -> 22.74 | AT61: ㎥/hr
F63: 재료비: | L63: =TEXT(TRUNC(건설기계!H35,0),"#,##0") -> 10,024 | S63: / | V63: Q | Y63: = | AA63: =TEXT(ROUNDDOWN(L63/AM61,1),"#,##0.0#######") -> 440.8 | AH63: ￦/㎥ | CX63: =CY63+CZ63+DA63 -> 440.8 | CY63: =TEXT(AA63,"#,###.0") -> 440.8 | DM63: D0201-0020
F65: 노무비: | L65: =TEXT(TRUNC(건설기계!J35,0),"#,##0") -> 59,020 | S65: / | V65: Q | Y65: = | AA65: =TEXT(ROUNDDOWN(L65/AM61,1),"#,##0.0#######") -> 2,595.4 | AJ65: ￦/㎥ | CX65: =CY65+CZ65+DA65 -> 2595.4 | CZ65: =TEXT(AA65,"#,###.0") -> 2,595.4 | DM65: D0201-0020
F67: 경 비: | L67: =TEXT(TRUNC(건설기계!L35,0),"#,##0") -> 13,873 | S67: / | V67: Q | Y67: = | AA67: =TEXT(ROUNDDOWN(L67/AM61,1),"#,##0.0#######") -> 610.0 | AH67: ￦/㎥ | CX67: =CY67+CZ67+DA67 -> 610 | DA67: =TEXT(AA67,"#,###.0") -> 610.0 | DM67: D0201-0020
A69: ------------------------------------------------------------
B71: 소 | F71: 계 | CX71: =CY71+CZ71+DA71 -> 3646.2 | CY71: =TEXT(TRUNC(CY63+CY65+CY67,1),"#,###.0") -> 440.8 | CZ71: =TEXT(TRUNC(CZ63+CZ65+CZ67,1),"#,###.0") -> 2,595.4 | DA71: =TEXT(TRUNC(DA63+DA65+DA67,1),"#,###.0") -> 610.0
B73: 합 | F73: 계 | CX73: =CY73+CZ73+DA73 -> 3646.2 | CY73: =TEXT(TRUNC(CY71,1),"#,###.0") -> 440.8 | CZ73: =TEXT(TRUNC(CZ71,1),"#,###.0") -> 2,595.4 | DA73: =TEXT(TRUNC(DA71,1),"#,###.0") -> 610.0
A75: 계 | CX75: =TEXT(CY75+CZ75+DA75,"#,##0") -> 3,645 | CY75: =TEXT(TRUNC(CY73,0),"#,##0") -> 440 | CZ75: =TEXT(TRUNC(CZ73,0),"#,##0") -> 2,595 | DA75: =TEXT(TRUNC(DA73,0),"#,##0") -> 610
A77: 산근 3 호표 ：되메우기및다짐 (소형장비사용) ㎥ 당 | DM77: :S2-003 | DN77: "◈ 되메우기및다짐(소형장비사용) : ㎥당"&C_&C_&C_"1. 인 력"&C_&C_ "특별인부:" [W0-0083] * 1"인" /130 "㎥" = &C_&C_ "보통인부:" [W0-0084] * 1"인" /130 "㎥" = &C_&C_/--&C_+>&C_&C_"2. 기 계 (굴삭기0.2㎥)"&C_&C_ Q = 130 "㎥" / 8 "hr"= "㎥/hr"&C_&C_ "1) 굴삭기0.2㎥"&C_&C_ "&M_:"[D0201-0020] / ?Q = "￦/㎥"&C_&C_ "&L_:"[D0201-0020] / ?Q = "￦/㎥"&C_&C_ "&E_:"[D0201-0020] / ?Q = "￦/㎥"&C_&C_/-&C_&C_+>&C_&C_ "2) 물탱크5500L"&C_&C_ "&M_:"[D7204-005500] / ?Q * 0.5 = "￦/㎥"&C_&C_ "&L_:"[D7204-005500] / ?Q * 0.5 = "￦/㎥"&C_&C_ "&E_:"[D7204-005500] / ?Q * 0.5 = "￦/㎥"&C_&C_/--&C_+>&C_&C_&C_ "3) 진동 로울러:핸드가이드식0.7ton"&C_&C_ "&M_:"[D1306-007] / Q = "원/㎥" &C_&C_ "&L_:"[D1306-007] / Q * 0 = "원/㎥"&C_ &C_ "&E_:"[D1306-007] / Q = "원/㎥"&C_&C_/-&C_&C_+>&C_&C_++>
...

Sheet 단가산출 목록
A1: 단 가 산 출 목 록 표
A3: 공 종 | B3: 규 격 | C3: 수 량 | D3: 단위 | E3: 합 계 | F3: 재 료 비 | G3: 노 무 비 | H3: 경 비 | I3: 비 고
A5: 성 토 및 다 짐 | B5: 굴삭기0.2㎥,기계100% | C5: 1 | D5: ㎥ | E5: =F5+G5+H5 -> 2727 | F5: =단가산출!CY48 -> 503 | G5: =단가산출!CZ48 -> 1,719 | H5: =단가산출!DA48 -> 505 | DM5: S2-006
A6: 터 파 기(토사,육상) | B6: 굴삭기0.2㎥,기계100% | C6: 1 | D6: ㎥ | E6: =F6+G6+H6 -> 3645 | F6: =단가산출!CY75 -> 440 | G6: =단가산출!CZ75 -> 2,595 | H6: =단가산출!DA75 -> 610 | DM6: S2-002
A7: 되메우기및다짐 | B7: 소형장비사용 | C7: 1 | D7: ㎥ | E7: =F7+G7+H7 -> 10993 | F7: =단가산출!CY132 -> 1,486 | G7: =단가산출!CZ132 -> 8,226 | H7: =단가산출!DA132 -> 1,281 | DM7: S2-003
A8: 순 성 토 운 반 | B8: 덤프4.5Ton,L=5.0Km | C8: 1 | D8: ㎥ | E8: =F8+G8+H8 -> 13570 | F8: =단가산출!CY189 -> 2,119 | G8: =단가산출!CZ189 -> 9,760 | H8: =단가산출!DA189 -> 1,691 | DM8: S2-0045
A9: 철 근 운 반 | B9: 구역화물 | C9: 1 | D9: Ton | E9: =F9+G9+H9 -> 18699 | F9: =단가산출!CY212 -> 0 | G9: =단가산출!CZ212 -> 0 | H9: =단가산출!DA212 -> 18,699 | DM9: S301-001-0111
A10: 철 근 소 운 반 | B10: 덤프2.5Ton,L=0.06Km | C10: 1 | D10: Ton | E10: =F10+G10+H10 -> 17856 | F10: =단가산출!CY279 -> 1,906 | G10: =단가산출!CZ279 -> 8,679 | H10: =단가산출!DA279 -> 7,271 | DM10: S111-002003
A11: 레미콘 소운반 | B11: 덤프2.5ton,L=0.06km | C11: 1 | D11: ㎥ | E11: =F11+G11+H11 -> 4882 | F11: =단가산출!CY308 -> 0 | G11: =단가산출!CZ308 -> 0 | H11: =단가산출!DA308 -> 4,882 | DM11: S111-002-A
A12: 중 기 운 반 | B12: 트레일러20Ton | C12: 1 | D12: 회 | E12: =F12+G12+H12 -> 123335 | F12: =단가산출!CY337 -> 0 | G12: =단가산출!CZ337 -> 0 | H12: =단가산출!DA337 -> 123,335 | DM12: S008-000-010
A13: 중 기 운 반 | B13: 덤프15.0Ton | C13: 1 | D13: 회 | E13: =F13+G13+H13 -> 126513 | F13: =단가산출!CY366 -> 0 | G13: =단가산출!CZ366 -> 0 | H13: =단가산출!DA366 -> 126,513 | DM13: S008-000-0105
A14: 중 기 운 반 비 | C14: 1 | D14: 회 | E14: =F14+G14+H14 -> 249848 | F14: =단가산출!CY389 -> 0 | G14: =단가산출!CZ389 -> 0 | H14: =단가산출!DA389 -> 249,848 | DM14: S008-000-2010

Sheet 일위대가
A1: 일 위 대 가 표
A3: 공 종 | B3: 규 격 | C3: 수 량 | D3: 단위 | E3: 합 계 | G3: 재 료 비 | I3: 노 무 비 | K3: 경 비 | M3: 비 고
E4: 단 가 | F4: 금 액 | G4: 단 가 | H4: 금 액 | I4: 단 가 | J4: 금 액 | K4: 단 가 | L4: 금 액
A5: 제 1 호표 ：배 수 로 (800x800,개거부) M 당 | DM5: :B000-6060
A6: 레 미 콘 타 설 | B6: 무근구조물,장비사용 | C6: 0.13 | D6: ㎥ | E6: =G6+I6+K6 -> 29158 | F6: =H6+J6+L6 -> 3790.4 | G6: =H30 -> 2618 | H6: =TRUNC(C6*G6,1) -> 340.3 | I6: =J30 -> 23251 | J6: =TRUNC(C6*I6,1) -> 3022.6 | K6: =L30 -> 3289 | L6: =TRUNC(C6*K6,1) -> 427.5 | M6: 제 4호표 | DM6: B0113
A7: 레 미 콘 타 설 | B7: 철근구조물,장비사용 | C7: 0.41 | D7: ㎥ | E7: =G7+I7+K7 -> 33399 | F7: =H7+J7+L7 -> 13693.4 | G7: =H41 -> 2999 | H7: =TRUNC(C7*G7,1) -> 1229.5 | I7: =J41 -> 26633 | J7: =TRUNC(C7*I7,1) -> 10919.5 | K7: =L41 -> 3767 | L7: =TRUNC(C7*K7,1) -> 1544.4 | M7: 제 5호표 | DM7: B01132
A8: 합 판 거 푸 집 | B8: 6회,간단 | C8: 0.2 | D8: ㎡ | E8: =G8+I8+K8 -> 50800 | F8: =H8+J8+L8 -> 10160 | G8: =H70 -> 15995 | H8: =TRUNC(C8*G8,1) -> 3199 | I8: =J70 -> 34461 | J8: =TRUNC(C8*I8,1) -> 6892.2 | K8: =L70 -> 344 | L8: =TRUNC(C8*K8,1) -> 68.8 | M8: 제 8호표 | DM8: B100-150-60
A9: 유로품조립해체 | B9: 6회,보통 | C9: 3.5 | D9: ㎡ | E9: =G9+I9+K9 -> 37113 | F9: =H9+J9+L9 -> 129895.5 | G9: =H51 -> 4277 | H9: =TRUNC(C9*G9,1) -> 14969.5 | I9: =J51 -> 31880 | J9: =TRUNC(C9*I9,1) -> 111580 | K9: =L51 -> 956 | L9: =TRUNC(C9*K9,1) -> 3346 | M9: 제 6호표 | DM9: B000-000-135
A10: 철근 가공 조립 | B10: Type-1,공장가공+현장조립 | C10: 0.027 | D10: Ton | E10: =G10+I10+K10 -> 704108 | F10: =H10+J10+L10 -> 19010.7 | G10: =H82 -> 11180 | H10: =TRUNC(C10*G10,1) -> 301.8 | I10: =J82 -> 641332 | J10: =TRUNC(C10*I10,1) -> 17315.9 | K10: =L82 -> 51596 | L10: =TRUNC(C10*K10,1) -> 1393 | M10: 제 10호표 | DM10: B103-00811
A11: 계 | F11: =H11+J11+L11 -> 176549 | H11: =ROUNDDOWN(SUM(H6:H10),0) -> 20040 | J11: =ROUNDDOWN(SUM(J6:J10),0) -> 149730 | L11: =ROUNDDOWN(SUM(L6:L10),0) -> 6779
A13: 제 2 호표 ：수축이음설치(개거부) (20m/1개소) 개소 당 | DM13: :B000-161
A14: 수축이음(지수판) | C14: 2.7 | D14: M | E14: =G14+I14+K14 -> 7644 | F14: =H14+J14+L14 -> 20638.8 | G14: =H95 -> 7280 | H14: =TRUNC(C14*G14,1) -> 19656 | I14: =J95 -> 364 | J14: =TRUNC(C14*I14,1) -> 982.8 | K14: =L95 -> 0 | L14: =TRUNC(C14*K14,1) -> 0 | M14: 제 12호표 | DM14: B2009-JS
A15: 계 | F15: =H15+J15+L15 -> 20638 | H15: =ROUNDDOWN(SUM(H14:H14),0) -> 19656 | J15: =ROUNDDOWN(SUM(J14:J14),0) -> 982 | L15: =ROUNDDOWN(SUM(L14:L14),0) -> 0
A17: 제 3 호표 ：신축이음설치(개거부) (20m/1개소) 개소 당 | DM17: :B000-1704
A18: 신축이음(익스펜션조인트) | C18: 0.32 | D18: ㎡ | E18: =G18+I18+K18 -> 28974 | F18: =H18+J18+L18 -> 9271.6 | G18: =H102 -> 26692 | H18: =TRUNC(C18*G18,1) -> 8541.4 | I18: =J102 -> 2282 | J18: =TRUNC(C18*I18,1) -> 730.2 | K18: =L102 -> 0 | L18: =TRUNC(C18*K18,1) -> 0 | M18: 제 13호표 | DM18: B2009-S
A19: 계 | F19: =H19+J19+L19 -> 9271 | H19: =ROUNDDOWN(SUM(H18:H18),0) -> 8541 | J19: =ROUNDDOWN(SUM(J18:J18),0) -> 730 | L19: =ROUNDDOWN(SUM(L18:L18),0) -> 0
A21: 제 4 호표 ：레 미 콘 타 설 (무근구조물,장비사용) ㎥ 당 | DM21: :B0113
A22: 품셈6-1-1 | C22: 0 | E22: =G22+I22+K22 -> 0 | F22: =H22+J22+L22 -> 0 | G22: 0 | H22: =TRUNC(C22*G22,1) -> 0 | I22: 0 | J22: =TRUNC(C22*I22,1) -> 0 | K22: 0 | L22: =TRUNC(C22*K22,1) -> 0
A23: 레 미 콘 | B23: 별 도 계 산 | C23: 0 | E23: =G23+I23+K23 -> 0 | F23: =H23+J23+L23 -> 0 | G23: 0 | H23: =TRUNC(C23*G23,1) -> 0 | I23: 0 | J23: =TRUNC(C23*I23,1) -> 0 | K23: 0 | L23: =TRUNC(C23*K23,1) -> 0
A24: 콘 크 리 트 공 | C24: 3 | D24: 인 | E24: =G24+I24+K24 -> 273540 | F24: =H24+J24+L24 -> 820620 | G24: 0 | H24: =TRUNC(C24*G24,1) -> 0 | I24: =노임단가!K6 -> 273540 | J24: =TRUNC(C24*I24,1) -> 820620 | K24: 0 | L24: =TRUNC(C24*K24,1) -> 0 | DM24: W0-0026
A25: 보 통 인 부 | C25: 1 | D25: 인 | E25: =G25+I25+K25 -> 172068 | F25: =H25+J25+L25 -> 172068 | G25: 0 | H25: =TRUNC(C25*G25,1) -> 0 | I25: =노임단가!K5 -> 172068 | J25: =TRUNC(C25*I25,1) -> 172068 | K25: 0 | L25: =TRUNC(C25*K25,1) -> 0 | DM25: W0-0084
A26: 굴삭기(무한궤도) | B26: 0.6 ㎥ | C26: 8 | D26: 시간 | E26: =G26+I26+K26 -> 103062 | F26: =H26+J26+L26 -> 824496 | G26: =건설기계!H72 -> 20619 | H26: =TRUNC(C26*G26,1) -> 164952 | I26: =건설기계!J72 -> 59020 | J26: =TRUNC(C26*I26,1) -> 472160 | K26: =건설기계!L72 -> 23423 | L26: =TRUNC(C26*K26,1) -> 187384 | DM26: D0211-00601
A27: 기구손료 | B27: 노무비의 | C27: 2 | D27: % | E27: =G27+I27+K27 -> 992688 | F27: =H27+J27+L27 -> 19853.7 | G27: 0 | H27: =TRUNC(C27/100*G27,1) -> 0 | I27: 0 | J27: =TRUNC(C27/100*I27,1) -> 0 | K27: =SUM(J24:J25) -> 992688 | L27: =TRUNC(C27/100*K27,1) -> 19853.7 | DM27: %RAN*LE | DN27: 3..4
A28: 합 계 | C28: 0 | E28: =G28+I28+K28 -> 0 | F28: =H28+J28+L28 -> 1837037.7 | G28: 0 | H28: =SUM(H22:H27) -> 164952 | I28: 0 | J28: =SUM(J22:J27) -> 1464848 | K28: 0 | L28: =SUM(L22:L27) -> 207237.7 | DM28: %GYE
A29: 계 ÷ 63 | B29: 일시공량63㎥적용 | C29: 0 | E29: =G29+I29+K29 -> 0 | F29: =H29+J29+L29 -> 29159.329 | G29: 0 | H29: =SUM(H28)/63 -> 2618.2857 | I29: 0 | J29: =SUM(J28)/63 -> 23251.556 | K29: 0 | L29: =SUM(L28)/63 -> 3289.4873 | DM29: %GYE/?? | DN29: 63
A30: 계 | F30: =H30+J30+L30 -> 29158 | H30: =ROUNDDOWN(SUM(H29),0) -> 2618 | J30: =ROUNDDOWN(SUM(J29),0) -> 23251 | L30: =ROUNDDOWN(SUM(L29),0) -> 3289
A32: 제 5 호표 ：레 미 콘 타 설 (철근구조물,장비사용) ㎥ 당 | DM32: :B01132
A33: 품셈6-1-1 | C33: 0 | E33: =G33+I33+K33 -> 0 | F33: =H33+J33+L33 -> 0 | G33: 0 | H33: =TRUNC(C33*G33,1) -> 0 | I33: 0 | J33: =TRUNC(C33*I33,1) -> 0 | K33: 0 | L33: =TRUNC(C33*K33,1) -> 0
A34: 레 미 콘 | B34: 별 도 계 산 | C34: 0 | E34: =G34+I34+K34 -> 0 | F34: =H34+J34+L34 -> 0 | G34: 0 | H34: =TRUNC(C34*G34,1) -> 0 | I34: 0 | J34: =TRUNC(C34*I34,1) -> 0 | K34: 0 | L34: =TRUNC(C34*K34,1) -> 0
A35: 콘 크 리 트 공 | C35: 3 | D35: 인 | E35: =G35+I35+K35 -> 273540 | F35: =H35+J35+L35 -> 820620 | G35: 0 | H35: =TRUNC(C35*G35,1) -> 0 | I35: =노임단가!K6 -> 273540 | J35: =TRUNC(C35*I35,1) -> 820620 | K35: 0 | L35: =TRUNC(C35*K35,1) -> 0 | DM35: W0-0026
A36: 보 통 인 부 | C36: 1 | D36: 인 | E36: =G36+I36+K36 -> 172068 | F36: =H36+J36+L36 -> 172068 | G36: 0 | H36: =TRUNC(C36*G36,1) -> 0 | I36: =노임단가!K5 -> 172068 | J36: =TRUNC(C36*I36,1) -> 172068 | K36: 0 | L36: =TRUNC(C36*K36,1) -> 0 | DM36: W0-0084
A37: 굴삭기(무한궤도) | B37: 0.6 ㎥ | C37: 8 | D37: 시간 | E37: =G37+I37+K37 -> 103062 | F37: =H37+J37+L37 -> 824496 | G37: =건설기계!H72 -> 20619 | H37: =TRUNC(C37*G37,1) -> 164952 | I37: =건설기계!J72 -> 59020 | J37: =TRUNC(C37*I37,1) -> 472160 | K37: =건설기계!L72 -> 23423 | L37: =TRUNC(C37*K37,1) -> 187384 | DM37: D0211-00601
A38: 기구손료 | B38: 노무비의 | C38: 2 | D38: % | E38: =G38+I38+K38 -> 992688 | F38: =H38+J38+L38 -> 19853.7 | G38: 0 | H38: =TRUNC(C38/100*G38,1) -> 0 | I38: 0 | J38: =TRUNC(C38/100*I38,1) -> 0 | K38: =SUM(J35:J36) -> 992688 | L38: =TRUNC(C38/100*K38,1) -> 19853.7 | DM38: %RAN*LE | DN38: 3..4
A39: 합 계 | C39: 0 | E39: =G39+I39+K39 -> 0 | F39: =H39+J39+L39 -> 1837037.7 | G39: 0 | H39: =SUM(H33:H38) -> 164952 | I39: 0 | J39: =SUM(J33:J38) -> 1464848 | K39: 0 | L39: =SUM(L33:L38) -> 207237.7 | DM39: %GYE
A40: 계 ÷ 55 | B40: 일시공량55㎥적용 | C40: 0 | E40: =G40+I40+K40 -> 0 | F40: =H40+J40+L40 -> 33400.685 | G40: 0 | H40: =SUM(H39)/55 -> 2999.1273 | I40: 0 | J40: =SUM(J39)/55 -> 26633.6 | K40: 0 | L40: =SUM(L39)/55 -> 3767.9582 | DM40: %GYE/?? | DN40: 55
A41: 계 | F41: =H41+J41+L41 -> 33399 | H41: =ROUNDDOWN(SUM(H40),0) -> 2999 | J41: =ROUNDDOWN(SUM(J40),0) -> 26633 | L41: =ROUNDDOWN(SUM(L40),0) -> 3767
A43: 제 6 호표 ：유로품조립해체 (6회,보통) ㎡ 당 | DM43: :B000-000-135
A44: 품셈6-3-3 | C44: 0 | E44: =G44+I44+K44 -> 0 | F44: =H44+J44+L44 -> 0 | G44: 0 | H44: =TRUNC(C44*G44,1) -> 0 | I44: 0 | J44: =TRUNC(C44*I44,1) -> 0 | K44: 0 | L44: =TRUNC(C44*K44,1) -> 0
A45: 판 넬 | B45: 600×1200mm | C45: 0.095 | D45: 매 | E45: =G45+I45+K45 -> 28500 | F45: =H45+J45+L45 -> 2707.5 | G45: =자재단가!R8 -> 28500 | H45: =TRUNC(C45*G45,1) -> 2707.5 | I45: 0 | J45: =TRUNC(C45*I45,1) -> 0 | K45: 0 | L45: =TRUNC(C45*K45,1) -> 0 | DM45: M3501-700
A46: 부 자 재 | B46: 재료비의 | C46: 55 | D46: % | E46: =G46+I46+K46 -> 2707.5 | F46: =H46+J46+L46 -> 1489.1 | G46: =H45 -> 2707.5 | H46: =TRUNC(C46/100*G46,1) -> 1489.1 | I46: 0 | J46: =TRUNC(C46/100*I46,1) -> 0 | K46: 0 | L46: =TRUNC(C46/100*K46,1) -> 0 | DM46: %RAN*MM | DN46: 2..2
...

Sheet 일위대가 목록
A1: 일 위 대 가 목 록 표
A3: 공 종 | B3: 규 격 | C3: 수 량 | D3: 단위 | E3: 합 계 | F3: 재 료 비 | G3: 노 무 비 | H3: 경 비 | I3: 비 고
A5: 배 수 로 | B5: 800x800,개거부 | C5: 1 | D5: M | E5: =F5+G5+H5 -> 176549 | F5: =일위대가!H11 -> 20040 | G5: =일위대가!J11 -> 149730 | H5: =일위대가!L11 -> 6779 | DM5: B000-6060
A6: 수축이음설치(개거부) | B6: 20m/1개소 | C6: 1 | D6: 개소 | E6: =F6+G6+H6 -> 20638 | F6: =일위대가!H15 -> 19656 | G6: =일위대가!J15 -> 982 | H6: =일위대가!L15 -> 0 | DM6: B000-161
A7: 신축이음설치(개거부) | B7: 20m/1개소 | C7: 1 | D7: 개소 | E7: =F7+G7+H7 -> 9271 | F7: =일위대가!H19 -> 8541 | G7: =일위대가!J19 -> 730 | H7: =일위대가!L19 -> 0 | DM7: B000-1704
A8: 레 미 콘 타 설 | B8: 무근구조물,장비사용 | C8: 1 | D8: ㎥ | E8: =F8+G8+H8 -> 29158 | F8: =일위대가!H30 -> 2618 | G8: =일위대가!J30 -> 23251 | H8: =일위대가!L30 -> 3289 | DM8: B0113
A9: 레 미 콘 타 설 | B9: 철근구조물,장비사용 | C9: 1 | D9: ㎥ | E9: =F9+G9+H9 -> 33399 | F9: =일위대가!H41 -> 2999 | G9: =일위대가!J41 -> 26633 | H9: =일위대가!L41 -> 3767 | DM9: B01132
A10: 유로품조립해체 | B10: 6회,보통 | C10: 1 | D10: ㎡ | E10: =F10+G10+H10 -> 37113 | F10: =일위대가!H51 -> 4277 | G10: =일위대가!J51 -> 31880 | H10: =일위대가!L51 -> 956 | DM10: B000-000-135
A11: 철 근 조 립 | B11: Type-1,현장조립 | C11: 1 | D11: Ton | E11: =F11+G11+H11 -> 597156 | F11: =일위대가!H61 -> 11180 | G11: =일위대가!J61 -> 574487 | H11: =일위대가!L61 -> 11489 | DM11: B103-0081
A12: 합 판 거 푸 집 | B12: 6회,간단 | C12: 1 | D12: ㎡ | E12: =F12+G12+H12 -> 50800 | F12: =일위대가!H70 -> 15995 | G12: =일위대가!J70 -> 34461 | H12: =일위대가!L70 -> 344 | DM12: B100-150-60
A13: 합판거푸집(재료비) | C13: 1 | D13: ㎡ | E13: =F13+G13+H13 -> 44069 | F13: =일위대가!H76 -> 44069 | G13: =일위대가!J76 -> 0 | H13: =일위대가!L76 -> 0 | DM13: B100-150-10
A14: 철근 가공 조립 | B14: Type-1,공장가공+현장조립 | C14: 1 | D14: Ton | E14: =F14+G14+H14 -> 704108 | F14: =일위대가!H82 -> 11180 | G14: =일위대가!J82 -> 641332 | H14: =일위대가!L82 -> 51596 | DM14: B103-00811
A15: 철 근 가 공 | B15: Type-1,공장가공 | C15: 1 | D15: Ton | E15: =F15+G15+H15 -> 106952 | F15: =일위대가!H90 -> 0 | G15: =일위대가!J90 -> 66845 | H15: =일위대가!L90 -> 40107 | DM15: B103-0083
A16: 수 축 이 음 | C16: 1 | D16: M | E16: =F16+G16+H16 -> 7644 | F16: =일위대가!H95 -> 7280 | G16: =일위대가!J95 -> 364 | H16: =일위대가!L95 -> 0 | DM16: B2009-JS
A17: 신 축 이 음 | C17: 1 | D17: ㎡ | E17: =F17+G17+H17 -> 28974 | F17: =일위대가!H102 -> 26692 | G17: =일위대가!J102 -> 2282 | H17: =일위대가!L102 -> 0 | DM17: B2009-S

Sheet 내역서
A1: 예 산 내 역 서
A2: 공사명 : 웅촌 대대(141) 배수로 정비공사
A3: 공 종 | B3: 규 격 | C3: 수 량 | D3: 단위 | E3: 합 계 | G3: 재 료 비 | I3: 노 무 비 | K3: 경 비 | M3: 낙찰율(%) | N3: 비 고
E4: 단 가 | F4: 금 액 | G4: 단 가 | H4: 금 액 | I4: 단 가 | J4: 금 액 | K4: 단 가 | L4: 금 액
A5: *. 순 공 사 비 | C5: 0 | F5: =H5+J5+L5 -> 0 | H5: =H6+H13+H19 -> 0 | J5: =J6+J13+J19 -> 0 | L5: =L6+L13+L19 -> 0
A6: 1. 토 공 | C6: 0 | F6: =H6+J6+L6 -> 0 | H6: =H7 -> 0 | J6: =J7 -> 0 | L6: =L7 -> 0
A7: 1] 토 공 | C7: 0 | F7: =H7+J7+L7 -> 0 | H7: =SUM(H8:H11) -> 0 | J7: =SUM(J8:J11) -> 0 | L7: =SUM(L8:L11) -> 0
A8: 성 토 및 다 짐 | B8: 굴삭기0.2㎥,기계100% | C8: 61 | D8: ㎥ | F8: =H8+J8+L8 -> 0 | H8: =TRUNC(C8*G8,0) -> 0 | J8: =TRUNC(C8*I8,0) -> 0 | L8: =TRUNC(C8*K8,0) -> 0 | N8: 산근 1호표 | DM8: S2-006
A9: 터 파 기(토사,육상) | B9: 굴삭기0.2㎥,기계100% | C9: 50 | D9: ㎥ | F9: =H9+J9+L9 -> 0 | H9: =TRUNC(C9*G9,0) -> 0 | J9: =TRUNC(C9*I9,0) -> 0 | L9: =TRUNC(C9*K9,0) -> 0 | N9: 산근 2호표 | DM9: S2-002
A10: 되메우기및다짐 | B10: 소형장비사용 | C10: 23 | D10: ㎥ | F10: =H10+J10+L10 -> 0 | H10: =TRUNC(C10*G10,0) -> 0 | J10: =TRUNC(C10*I10,0) -> 0 | L10: =TRUNC(C10*K10,0) -> 0 | N10: 산근 3호표 | DM10: S2-003
A11: 순 성 토 운 반 | B11: 덤프4.5Ton,L=5.0Km | C11: 34 | D11: ㎥ | F11: =H11+J11+L11 -> 0 | H11: =TRUNC(C11*G11,0) -> 0 | J11: =TRUNC(C11*I11,0) -> 0 | L11: =TRUNC(C11*K11,0) -> 0 | N11: 산근 4호표 | DM11: S2-0045
C12: 0 | F12: =H12+J12+L12 -> 0 | H12: =TRUNC(C12*G12,0) -> 0 | J12: =TRUNC(C12*I12,0) -> 0 | L12: =TRUNC(C12*K12,0) -> 0
A13: 2. 배 수 공 | C13: 0 | F13: =H13+J13+L13 -> 0 | H13: =H14 -> 0 | J13: =J14 -> 0 | L13: =L14 -> 0
A14: 1] 배 수 로 | C14: 0 | F14: =H14+J14+L14 -> 0 | H14: =SUM(H15:H17) -> 0 | J14: =SUM(J15:J17) -> 0 | L14: =SUM(L15:L17) -> 0
A15: 배 수 로 | B15: 800x800,개거부 | C15: 75 | D15: M | F15: =H15+J15+L15 -> 0 | H15: =TRUNC(C15*G15,0) -> 0 | J15: =TRUNC(C15*I15,0) -> 0 | L15: =TRUNC(C15*K15,0) -> 0 | N15: 제 1호표 | DM15: B000-6060
A16: 수축이음설치(개거부) | B16: 20m/1개소 | C16: 3 | D16: 개소 | F16: =H16+J16+L16 -> 0 | H16: =TRUNC(C16*G16,0) -> 0 | J16: =TRUNC(C16*I16,0) -> 0 | L16: =TRUNC(C16*K16,0) -> 0 | N16: 제 2호표 | DM16: B000-161
A17: 신축이음설치(개거부) | B17: 20m/1개소 | C17: 3 | D17: 개소 | F17: =H17+J17+L17 -> 0 | H17: =TRUNC(C17*G17,0) -> 0 | J17: =TRUNC(C17*I17,0) -> 0 | L17: =TRUNC(C17*K17,0) -> 0 | N17: 제 3호표 | DM17: B000-1704
C18: 0 | F18: =H18+J18+L18 -> 0 | H18: =TRUNC(C18*G18,0) -> 0 | J18: =TRUNC(C18*I18,0) -> 0 | L18: =TRUNC(C18*K18,0) -> 0
A19: 3. 부 대 공 | C19: 0 | F19: =H19+J19+L19 -> 0 | H19: =H20 -> 0 | J19: =J20 -> 0 | L19: =L20 -> 0
A20: 1] 운 반 | C20: 0 | F20: =H20+J20+L20 -> 0 | H20: =SUM(H21:H24) -> 0 | J20: =SUM(J21:J24) -> 0 | L20: =SUM(L21:L24) -> 0
A21: 철 근 운 반 | B21: 구역화물 | C21: 2.102 | D21: Ton | F21: =H21+J21+L21 -> 0 | H21: =TRUNC(C21*G21,0) -> 0 | J21: =TRUNC(C21*I21,0) -> 0 | L21: =TRUNC(C21*K21,0) -> 0 | N21: 산근 5호표 | DM21: S301-001-0111
A22: 철 근 소 운 반 | B22: 덤프2.5Ton,L=0.06Km | C22: 2.102 | D22: Ton | F22: =H22+J22+L22 -> 0 | H22: =TRUNC(C22*G22,0) -> 0 | J22: =TRUNC(C22*I22,0) -> 0 | L22: =TRUNC(C22*K22,0) -> 0 | N22: 산근 6호표 | DM22: S111-002003
A23: 레미콘 소운반 | B23: 덤프2.5ton,L=0.06km | C23: 41 | D23: ㎥ | F23: =H23+J23+L23 -> 0 | H23: =TRUNC(C23*G23,0) -> 0 | J23: =TRUNC(C23*I23,0) -> 0 | L23: =TRUNC(C23*K23,0) -> 0 | N23: 산근 7호표 | DM23: S111-002-A
A24: 중 기 운 반 비 | C24: 1 | D24: 회 | F24: =H24+J24+L24 -> 0 | H24: =TRUNC(C24*G24,0) -> 0 | J24: =TRUNC(C24*I24,0) -> 0 | L24: =TRUNC(C24*K24,0) -> 0 | N24: 산근 10호표 | DM24: S008-000-2010
C25: 0 | F25: =H25+J25+L25 -> 0 | H25: =TRUNC(C25*G25,0) -> 0 | J25: =TRUNC(C25*I25,0) -> 0 | L25: =TRUNC(C25*K25,0) -> 0
A26: :: | C26: 0 | F26: =H26+J26+L26 -> 0 | H26: =TRUNC(C26*G26,0) -> 0 | J26: =TRUNC(C26*I26,0) -> 0 | L26: =TRUNC(C26*K26,0) -> 0
A27: *. 관 급 자 재 대 | C27: 0 | F27: =H27+J27+L27 -> 0 | H27: =H28+H32+H35 -> 0 | J27: =J28+J32+J35 -> 0 | L27: =L28+L32+L35 -> 0
A28: 1. 레 미 콘 | C28: 0 | F28: =H28+J28+L28 -> 0 | H28: =SUM(H29:H31) -> 0 | J28: =SUM(J29:J31) -> 0 | L28: =SUM(L29:L31) -> 0
A29: 레 미 콘 | B29: 25-18-120 | C29: 10 | D29: ㎥ | F29: =H29+J29+L29 -> 0 | H29: =TRUNC(C29*G29,0) -> 0 | J29: =TRUNC(C29*I29,0) -> 0 | K29: 0 | L29: =TRUNC(C29*K29,0) -> 0 | DM29: M25-18-12
A30: 레 미 콘 | B30: 25-21-120 | C30: 31 | D30: ㎥ | F30: =H30+J30+L30 -> 0 | H30: =TRUNC(C30*G30,0) -> 0 | I30: 0 | J30: =TRUNC(C30*I30,0) -> 0 | K30: 0 | L30: =TRUNC(C30*K30,0) -> 0 | DM30: M25-21-12
A31: 조 달 수 수 료 | B31: 재료비의 | C31: 0.54 | D31: % | F31: =H31+J31+L31 -> 0 | H31: =TRUNC(C31/100*G31,0) -> 0 | I31: 0 | J31: =TRUNC(C31/100*I31,0) -> 0 | K31: 0 | L31: =TRUNC(C31/100*K31,0) -> 0 | DM31: %RAN*MM | DN31: 25..26
A32: 2. 철 근 | C32: 0 | F32: =H32+J32+L32 -> 0 | H32: =SUM(H33:H34) -> 0 | I32: 0 | J32: =SUM(J33:J34) -> 0 | K32: 0 | L32: =SUM(L33:L34) -> 0
A33: 이 형 철 근 | B33: SD400,HD13mm | C33: 2.102 | D33: Ton | F33: =H33+J33+L33 -> 0 | H33: =TRUNC(C33*G33,0) -> 0 | I33: 0 | J33: =TRUNC(C33*I33,0) -> 0 | K33: 0 | L33: =TRUNC(C33*K33,0) -> 0 | DM33: M000-1313
A34: 조 달 수 수 료 | B34: 재료비의 | C34: 0.54 | D34: % | F34: =H34+J34+L34 -> 0 | H34: =TRUNC(C34/100*G34,0) -> 0 | I34: 0 | J34: =TRUNC(C34/100*I34,0) -> 0 | K34: 0 | L34: =TRUNC(C34/100*K34,0) -> 0 | DM34: %RAN*MM | DN34: 29
A35: 3. 금 액 조 정 | C35: 0 | F35: =H35+J35+L35 -> 0 | H35: =H36 -> 0 | I35: 0 | J35: =J36 -> 0 | K35: 0 | L35: =L36 -> 0
A36: 금 액 조 정 | C36: 1 | D36: 식 | F36: =H36+J36+L36 -> 0 | H36: =TRUNC(C36*G36,0) -> 0 | I36: =견적및기타!L5 -> 0 | J36: =TRUNC(C36*I36,0) -> 0 | K36: =견적및기타!M5 -> 0 | L36: =TRUNC(C36*K36,0) -> 0 | DM36: E000-040

Sheet 원가계산서
A1: 원 가 계 산 서
A2: 공사명 : 웅촌 대대(141) 배수로 정비공사
A3: 구 분 | B3: 산 출 근 거 | C3: 금 액 | D3: 비 고
A5: 1. 순 공 사 비 | C5: =내역서!F5 -> 0 | DN5: {B||*.순공사비|T}
A6: 2. 재 료 비 | C6: =내역서!H5 -> 0 | DN6: {B||*.순공사비|M}
A7: 3. 직 접 노 무 비 | C7: =내역서!J5 -> 0 | DN7: {B||*.순공사비|L}
A8: 4. 경 비 | C8: =내역서!L5 -> 0 | DN8: {B||*.순공사비|E}
A9: 5. 간 접 노 무 비 | B9: [3] x 19.1% | C9: =TRUNC((C7)*0.191,0) -> 0 | DN9: [3]*<19.1%>
A10: 6. 산 재 보 험 료 | B10: [3+5] x 3.56% | C10: =TRUNC((C7+C9)*0.0356,0) -> 0 | DN10: [3+5]*<3.56%>
A11: 7. 고 용 보 험 료 | B11: [3+5] x 1.01% | C11: =TRUNC((C7+C9)*0.0101,0) -> 0 | DN11: [3+5]*<1.01%>
A12: 8. 건 강 보 험 료 | B12: [3] x 3.595% | C12: =TRUNC((C7)*0.03595,0) -> 0 | DN12: [3]*<3.595%>
A13: 9. 연 금 보 험 료 | B13: [3] x 4.75% | C13: =TRUNC((C7)*0.0475,0) -> 0 | DN13: [3]*<4.75%>
A14: 10. 노인요양보험료 | B14: [8] x 13.14% | C14: =TRUNC((C12)*0.1314,0) -> 0 | DN14: [8]*<13.14%>
A15: 11. 건설기계대여대금지급보증 | B15: [1] x 0.32% | C15: =TRUNC((C5)*0.0032,0) -> 0 | DN15: [1]*<0.32%>
A16: 12. 산업안전보건관리비 | B16: [2+3] x 3.15% x 1.2 | C16: =TRUNC((C6+C7)*0.0315*1.2,0) -> 0 | DN16: [2+3]*<3.15%>*1.2
A17: 13. 기 타 경 비 | B17: [2+3+5] x 5.5% | C17: =TRUNC((C6+C7+C9)*0.055,0) -> 0 | DN17: [2+3+5]*<5.5%>
A18: 14. 환 경 보 전 비 | B18: [1] x 0.8% | C18: =TRUNC((C5)*0.008,0) -> 0 | DN18: [1]*<0.8%>
A19: 15. 석 면 분 담 금 | B19: [3+5] x 0.006% | C19: =TRUNC((C7+C9)*0.00006,0) -> 0 | DN19: [3+5]*<0.006%>
A20: 16. 임금채권부담금 | B20: [3+5] x 0.090% | C20: =TRUNC((C7+C9)*0.0009,0) -> 0 | DN20: [3+5]*<0.090%>
A21: 17. 일 반 관 리 비 | B21: [1+5+6+7+8+9+10+11+12+13+14+15+16] x 8.0% | C21: =TRUNC((C5+SUM(C9:C20))*0.08,0) -> 0 | DN21: [1+5..16]*<8.0%>
A22: 18. 이 윤 | B22: [3+4+5+6+7+8+9+10+11+12+13+14+15+16+17] x 14.9879% | D22: [3+4+5+6+7+8+9+10+11+12+13+14+15+16+17]x14.9879%= 3,060,136(≒3,057,675) | DN22: [3+4..17]*<15.0%>
A23: 19. 공 급 가 액 | B23: [1+5+6+7+8+9+10+11+12+13+14+15+16+17+18] | DN23: [1+5..18]
A24: 20. 부 가 가 치 세 | B24: [19] x 10.0% | DN24: [19]*<10.0%>
A25: 21. 도 급 예 정 액 | B25: [19+20] | DN25: [19..20]
A26: 22. 관 급 자 재 대 | DN26: {B||*.관급자재대|T}
A27: 23. 총 공 사 비 | B27: [21+22] | DN27: [21..22]
C30: 0
C31: 0
C32: 0
C33: 0
C34: 0
C35: 0
C36: 0
C37: 0
C38: 0
C39: 0
C40: 0
C41: 0
... C52: 0

Sheet 총공사비집계표
A1: 총 공 사 비 집 계 표
A2: 공사명 : 웅촌 대대(141) 배수로 정비공사
A3: 공 종 | B3: 규 격 | C3: 수량 | D3: 단위 | E3: 합 계 | G3: 재 료 비 | I3: 노 무 비 | K3: 경 비 | M3: 비 고
E4: 단 가 | F4: 금 액 | G4: 단 가 | H4: 금 액 | I4: 단 가 | J4: 금 액 | K4: 단 가 | L4: 금 액
A5: 1. 토 공 | E5: =G5+I5+K5 -> 0 | F5: =H5+J5+L5 -> 0 | G5: 0 | H5: =내역서!H6 -> 0 | I5: 0 | J5: =내역서!J6 -> 0 | K5: 0 | L5: =내역서!L6 -> 0 | DM5: #B-2
A6: 2. 배 수 공 | E6: =G6+I6+K6 -> 0 | F6: =H6+J6+L6 -> 0 | G6: 0 | H6: =내역서!H13 -> 0 | I6: 0 | J6: =내역서!J13 -> 0 | K6: 0 | L6: =내역서!L13 -> 0 | DM6: #B-9
A7: 3. 부 대 공 | E7: =G7+I7+K7 -> 0 | F7: =H7+J7+L7 -> 0 | G7: 0 | H7: =내역서!H19 -> 0 | I7: 0 | J7: =내역서!J19 -> 0 | K7: 0 | L7: =내역서!L19 -> 0 | DM7: #B-15
A8: 순공사비 | E8: =G8+I8+K8 -> 0 | F8: =H8+J8+L8 -> 0 | G8: 0 | H8: =SUM(H5:H7) -> 0 | I8: 0 | J8: =SUM(J5:J7) -> 0 | K8: 0 | L8: =SUM(L5:L7) -> 0 | DM8: %SUM | DN8: [1..3]
A9: 4. 간 접 노 무 비 | C9: 1 | D9: 식 | E9: =G9+I9+K9 -> 0 | F9: =원가계산서!C9 -> 0 | G9: 0 | H9: 0 | I9: 0 | J9: 0 | K9: 0 | L9: 0 | DM9: #W-5
A10: 5. 산 재 보 험 료 | C10: 1 | D10: 식 | E10: =G10+I10+K10 -> 0 | F10: =원가계산서!C10 -> 0 | G10: 0 | H10: 0 | I10: 0 | J10: 0 | K10: 0 | L10: 0 | DM10: #W-6
A11: 6. 고 용 보 험 료 | C11: 1 | D11: 식 | E11: =G11+I11+K11 -> 0 | F11: =원가계산서!C11 -> 0 | G11: 0 | H11: 0 | I11: 0 | J11: 0 | K11: 0 | L11: 0 | DM11: #W-7
A12: 7. 건 강 보 험 료 | C12: 1 | D12: 식 | E12: =G12+I12+K12 -> 0 | F12: =원가계산서!C12 -> 0 | G12: 0 | H12: 0 | I12: 0 | J12: 0 | K12: 0 | L12: 0 | DM12: #W-8
A13: 8. 연 금 보 험 료 | C13: 1 | D13: 식 | E13: =G13+I13+K13 -> 0 | F13: =원가계산서!C13 -> 0 | G13: 0 | H13: 0 | I13: 0 | J13: 0 | K13: 0 | L13: 0 | DM13: #W-9
A14: 9. 노인요양보험료 | C14: 1 | D14: 식 | E14: =G14+I14+K14 -> 0 | F14: =원가계산서!C14 -> 0 | G14: 0 | H14: 0 | I14: 0 | J14: 0 | K14: 0 | L14: 0 | DM14: #W-10
A15: 10. 건설기계대여대금지급보증 | C15: 1 | D15: 식 | E15: =G15+I15+K15 -> 0 | F15: =원가계산서!C15 -> 0 | G15: 0 | H15: 0 | I15: 0 | J15: 0 | K15: 0 | L15: 0 | DM15: #W-11
A16: 11. 산업안전보건관리비 | C16: 1 | D16: 식 | E16: =G16+I16+K16 -> 0 | F16: =원가계산서!C16 -> 0 | G16: 0 | H16: 0 | I16: 0 | J16: 0 | K16: 0 | L16: 0 | DM16: #W-12
A17: 12. 기 타 경 비 | C17: 1 | D17: 식 | E17: =G17+I17+K17 -> 0 | F17: =원가계산서!C17 -> 0 | G17: 0 | H17: 0 | I17: 0 | J17: 0 | K17: 0 | L17: 0 | DM17: #W-13
A18: 13. 환 경 보 전 비 | C18: 1 | D18: 식 | E18: =G18+I18+K18 -> 0 | F18: =원가계산서!C18 -> 0 | G18: 0 | H18: 0 | I18: 0 | J18: 0 | K18: 0 | L18: 0 | DM18: #W-14
A19: 14. 석 면 분 담 금 | C19: 1 | D19: 식 | E19: =G19+I19+K19 -> 0 | F19: =원가계산서!C19 -> 0 | G19: 0 | H19: 0 | I19: 0 | J19: 0 | K19: 0 | L19: 0 | DM19: #W-15
A20: 15. 임금채권부담금 | C20: 1 | D20: 식 | E20: =G20+I20+K20 -> 0 | F20: =원가계산서!C20 -> 0 | G20: 0 | H20: 0 | I20: 0 | J20: 0 | K20: 0 | L20: 0 | DM20: #W-16
A21: 16. 일 반 관 리 비 | C21: 1 | D21: 식 | E21: =G21+I21+K21 -> 0 | F21: =원가계산서!C21 -> 0 | G21: 0 | H21: 0 | I21: 0 | J21: 0 | K21: 0 | L21: 0 | DM21: #W-17
A22: 소 계 | E22: =G22+I22+K22 -> 0 | F22: =SUM(F8:F21) -> 0 | G22: 0 | H22: 0 | I22: 0 | J22: 0 | K22: 0 | L22: 0 | DM22: %SUM-TOT | DN22: [4..17]
A23: 17. 이 윤 | C23: 1 | D23: 식 | E23: =G23+I23+K23 -> 0 | F23: =원가계산서!C22 -> 0 | G23: 0 | H23: 0 | I23: 0 | J23: 0 | K23: 0 | L23: 0 | DM23: #W-18
A24: 공급가액 | E24: =G24+I24+K24 -> 0 | F24: =SUM(F22:F23) -> 0 | G24: 0 | H24: 0 | I24: 0 | J24: 0 | K24: 0 | L24: 0 | DM24: %SUM-TOT | DN24: [18..19]
A25: 18. 부 가 가 치 세 | C25: 1 | D25: 식 | E25: =G25+I25+K25 -> 0 | F25: =F24*0.1 -> 0 | G25: 0 | H25: 0 | I25: 0 | J25: 0 | K25: 0 | L25: 0 | DM25: %SUM-TOT | DN25: [20] * 0.1
A26: 도 급 예 정 액 | C26: 1 | D26: 식 | E26: =G26+I26+K26 -> 0 | F26: =SUM(F24:F25) -> 0 | G26: 0 | H26: 0 | I26: 0 | J26: 0 | K26: 0 | L26: 0 | DM26: %SUM-TOT | DN26: [20..21]
A27: 19. 관 급 자 재 대 | C27: 1 | D27: 식 | E27: =G27+I27+K27 -> 0 | F27: =원가계산서!C26 -> 0 | G27: 0 | H27: 0 | I27: 0 | J27: 0 | K27: 0 | L27: 0 | DM27: #W-22
A28: 총 공 사 비 | C28: 1 | D28: 식 | E28: =G28+I28+K28 -> 0 | F28: =SUM(F26:F27) -> 0 | G28: 0 | H28: 0 | I28: 0 | J28: 0 | K28: 0 | L28: 0 | DM28: %SUM-TOT | DN28: [22..23]
