Workbook
Name _.사급자재대: #REF!
Name _.사급자재대: #REF!
Name _.사급자재대: #N/A
Name __: #REF!
Name __: #REF!
Name __: #REF!
Name ___: #REF!
Name ___??1????: #N/A
Name ___??2????: #N/A
Name ___??3????: #N/A
Name ___??4????: #N/A
Name ___??5????: #N/A
Name ___??6????: #N/A
Name ____: #REF!
Name ____: #REF!
Name ____: #REF!
Name ______: #REF!
Name ______: #REF!
Name _______: #REF!
Name _______: #REF!
Name __________0: #REF!
Name __________0: #REF!
Name __________11: #REF!
Name __________11: #REF!
Name __________12: #REF!
Name __________12: #REF!
Name _________0: #REF!
Name _________0: #REF!
Name _________11: #REF!
Name _________11: #REF!
Name _________12: #REF!
Name _________12: #REF!
Name ______AUS1: BlankMacro1
Name _____A81620: #N/A
Name ____AUS1: BlankMacro1
Name ____DOG1: #N/A
Name ____DOG2: #N/A
Name ____DOG3: #N/A
Name ____DOG4: #N/A
Name ____JA2: #N/A
Name ____ll15: #N/A
Name ____LP1: #N/A
Name ____LP2: #N/A
Name ____LP3: #N/A
Name ____LPB1: #N/A
Name ____LPK1: #N/A
Name ____LU1: #N/A
Name ____LU2: #N/A
Name ____LV01: #N/A
Name ____PI48: #N/A
Name ____PI60: #N/A
Name ____RO110: #N/A
Name ____RO22: #N/A
Name ____RO35: #N/A
Name ____RO60: #N/A
Name ____RO80: #N/A
Name ____sub4: #N/A
Name ____sub5: #N/A
Name ____SUM1: #N/A
Name ____SUM10: #N/A

Sheet 000000

Sheet 원가계산
A1: 공사명 : 송정배수펌프장 전력설비 노후 부품 교체
A2: 구 분 | D2: 금 액 | E2: 비 고 | F2: 구 성 비
A3: 순 공 사 원 가 | B3: 재료비 | C3: 직 접 재 료 비
C5: 소 계
B6: 노무비 | C6: 직 접 노 무 비
C7: 간 접 노 무 비 | E7: 직 접 노 무 비 의 | F7: 0.175
C8: 소 계
B9: 경 비 | C9: 직 접 경 비
C10: 산업안전보건관리비 | E10: (재료비 + 직접노무비) 의 | F10: 0.0207
C11: 산 재 보 험 료 | E11: 노 무 비 의 | F11: 0.0356
C12: 고 용 보 험 료 | E12: 노 무 비 의 | F12: 0.0101
C13: 석 면 분 담 금 | E13: 노 무 비 의 | F13: 6e-05
C14: 임 금 채 권 부 담 금 | E14: 노 무 비 의 | F14: 0.0009
C15: 건 강 보 험 료 | E15: 직 접 노 무 비 의 | F15: 0.03595
C16: 연 금 보 험 료 | E16: 직 접 노 무 비 의 | F16: 0.0475
C17: 노인장기요양보험료 | E17: 건 강 보 험 료 의 | F17: 0.1314
C18: 퇴 직 공 제 부 금 비 | E18: 직 접 노 무 비 의 | F18: 0.023
C19: 기 타 경 비 | E19: (재료비 + 노무비) 의 | F19: 0.05
C20: 소 계
A21: 일 반 관 리 비 | E21: (재료비 + 노무비 + 경비) 의 | F21: 0.08
A22: 이 윤 | E22: (노무비 + 경비 + 일반관리비) 의 | F22: 0.15
A23: 고 재 처 리 비
A24: 폐 기 물 처 리 비
A25: 공 급 가 액 | E25: 재료비+노무비+경비+일반관리비+이윤+고재처리비+폐기물처리비
A26: 손 해 배 상 공 제 료 | E26: (공급가액+관급금액) 의, 천단위 미만 절사 | F26: 0.0026477
A27: 부 가 가 치 세 | E27: (공급가액+손해배상공제료) 의 | F27: 0.1
A28: 도 급 금 액
A29: 총 공 사 비

Sheet 내역서
A1: 공 종 | B1: 규 격 | C1: 수량 | D1: 단위 | E1: 합 계 | G1: 재 료 비 | I1: 노 무 비 | K1: 경 비 | M1: 비 고
E2: 단 가 | F2: 금 액 | G2: 단 가 | H2: 금 액 | I2: 단 가 | J2: 금 액 | K2: 단 가 | L2: 금 액
A3: =원가계산!A1 -> 공사명 : 송정배수펌프장 전력설비 노후 부품 교체
A4: 1. 수배전반 개량
A5: 보호계전기 교체 | B5: GIPAM 2000FI -> GIPAM 3000FI(MV-5) | C5: 1 | D5: 개소
A6: 보호계전기 교체 | B6: GIPAM 2000FI -> GIPAM 1000FI(MV-M1) | C6: 1 | D6: 개소
A7: 보호계전기 교체 | B7: GIPAM 2000M -> GIPAM 3000FI(MV-P2,P3,P4,P6) | C7: 4 | D7: 개소
A8: 진상용콘덴서 교체 | B8: 3.6KV 150KVA(MV-S1,S2,S3) | C8: 6 | D8: 개소
A9: 진상용콘덴서 교체 | B9: 3.6KV 75KVA(MV-M1,M2) | C9: 2 | D9: 개소
A10: 직렬리액터 교체 | B10: 3.6KV 150KVA(MV-S1,S2,S3) | C10: 6 | D10: 개소
A11: 직렬리액터 교체 | B11: 3.6KV 75KVA(MV-M1,M2) | C11: 2 | D11: 개소
A12: ALTS 밧데리 교체 | B12: 24V/10AH/20HR | C12: 1 | D12: 개소

Sheet 관급자재
A1: 공 종 | B1: 규 격 | C1: 수량 | D1: 단위 | E1: 합 계 | G1: 재 료 비 | I1: 노 무 비 | K1: 경 비 | M1: 비 고
E2: 단 가 | F2: 금 액 | G2: 단 가 | H2: 금 액 | I2: 단 가 | J2: 금 액 | K2: 단 가 | L2: 금 액
A3: =원가계산!A1 -> 공사명 : 송정배수펌프장 전력설비 노후 부품 교체
A4: =#REF! -> #REF!
A5: =#REF! -> #REF! | B5: =#REF! -> #REF! | C5: =내역서!#REF! -> #REF! | D5: =#REF! -> #REF! | F5: =H5 -> #REF! | G5: 380000 | H5: =C5*G5 -> #REF!
A17: 소 계 | F17: =SUM(L17+J17+H17) -> #REF! | H17: =SUM(H5:H9) -> #REF!
A18: 조달수수료 | C18: % | D18: 0.0054 | F18: =SUM(L18+J18+H18) -> #REF! | H18: =ROUNDUP((H17*0.54%),-3) -> #REF!
A19: 합 계 | F19: =SUM(L19+J19+H19) -> #REF! | H19: =SUM(H17:H18) -> #REF!
A20: 적용금액 | F20: =SUM(L20+J20+H20) -> #REF! | H20: =ROUNDUP(H19,-3) -> #REF! | I20: (천단위 미만 절상)

Sheet 한전공사비
A1: =#REF! -> #REF! | D1: (기존 한전주에서 인입)
B2: 제어반 | C2: 5 | D2: a) | E2: 5㎾까지 | K2: = | L2: =F$25 -> 306000
D3: b) | E3: 5㎾ 초과 | G3: =IF($C2<5,0,IF($C2=5,0,IF($C2>5,($C2-5)))) -> 0 | H3: × | I3: =L$25 -> 121000 | K3: 원 = | L3: =I3*G3 -> 0
C4: 거리시설부담금 | G4: =IF($C3<5,0,IF($C3=5,0,IF($C3>5,($C3-5)))) -> 0 | H4: × | I4: =L27 -> 48000 | K4: 원 =
C5: ☞. | D5: 계 : | F5: =+L2 -> 306000 | H5: × | I5: 2면 | K5: = | L5: =F5*2 -> 612000
C19: 합 계 | F19: =L5+L10 -> 612000
C20: 부가가치세 | F20: =F19*10% -> 61200
B22: ■ | C22: 계 | F22: =ROUNDUP(F19+F20,-3) -> 674000
C24: 기본시설부담금
C25: ※. 기본 5㎾까지 : | F25: 306000 | I25: 5㎾초과시 1㎾마다 : | L25: 121000
C26: 거리시설부담금
C27: ※. 기본 200m까지 : | I27: 200m초과시 1m마다 : | L27: 48000

Sheet 한전불입금
A1: 품 명 | B1: 규 격 | C1: 수량 | D1: 단위 | E1: 계 | G1: 재 료 비 | I1: 노 무 비 | K1: 경 비 | M1: 비 고
E2: 단 가 | F2: 금 액 | G2: 단 가 | H2: 금 액 | I2: 단 가 | J2: 금 액 | K2: 단 가 | L2: 금 액
A3: 4. 한전표준공사비
A4: 1) 한전불입금 (한국전력전기공급규정)
A5: (가) 공사비 산출
A6: 동력(저압반) | B6: 5KW까지 | C6: 5 | D6: kW | F6: =H6+I6+K6 -> 531000 | H6: 531000 | O6: 지중
B7: 5KW초과 | C7: 395 | D7: kW | F7: =H7+I7+K7 -> 50560000 | G7: 128000 | H7: =C7*G7 -> 50560000 | O7: 지중
A8: 기존 고압수전 | B8: 철거에 따른 차감 | C8: 400 | D8: kW | F8: =H8+I8+K8 -> -8800000 | G8: -22000 | H8: =C8*G8 -> -8800000 | O8: 가공
B9: 합 계 | F9: =H9+I9+K9 -> 42291000 | H9: =SUM(H6:H8) -> 42291000
A11: 동력(가로등제어반) | B11: 5KW까지 | C11: 5 | D11: kW | F11: =H11+I11+K11 -> 306000 | H11: 306000
B12: 5KW초과 | C12: 0 | D12: kW | F12: =H12+I12+K12 -> 0 | G12: 121000 | H12: =C12*G12 -> 0
B13: 합 계 | F13: =H13+I13+K13 -> 306000 | H13: =SUM(H11:H12) -> 306000
A22: 2) 사용전 검사비(전기안전관리공사검사규정)
A23: (1) 기 본 료-저압 | C23: 1 | D23: 식 | F23: =H23+I23+K23 -> 94000 | G23: 94000 | H23: =C23*G23 -> 94000
A24: (2) 전기용량에 따른 검사비 (저압)
A25: (나) 검사비 산출
A26: 동력 | C26: 400 | D26: kW | F26: =H26+I26+K26 -> 156400 | G26: 391 | H26: =C26*G26 -> 156400
B27: 합계 | F27: =H27+I27+K27 -> 250400 | H27: =SUM(H23:H26) -> 250400
B37: 소 계 | F37: =H37+I37+K37 -> 42847400 | H37: =H9+H13+H27 -> 42847400
B38: 부가가치세 | F38: =INT(F37*10%) -> 4284740
B39: 합 계 | F39: =SUM(F37:F38) -> 47132140
B40: 적 용 | F40: =ROUNDUP(F39,-3) -> 47133000

Sheet 토목단가목록
A1: 토목단가산출 목록표
A2: =원가계산!A1 -> 공사명 : 송정배수펌프장 전력설비 노후 부품 교체
A3: 공 종 | B3: 규 격 | C3: 수 량 | D3: 단위 | E3: 합 계 | F3: 재료비 | G3: 노무비 | H3: 경 비 | I3: 비 고
A4: 터 파 기(토사) | B4: 인력:10%,기계:90% | C4: 1 | D4: ㎥ | E4: =F4+G4+H4 -> #REF! | F4: =단가기초산출!S22 -> #REF! | G4: =단가기초산출!T22 -> #REF! | H4: =단가기초산출!U22 -> 304 | I4: 산근 1호표
A5: 되메우기 및 다짐 | B5: 인력:10%,기계:90% | C5: 1 | D5: ㎥ | E5: =F5+G5+H5 -> #REF! | F5: =단가기초산출!S57 -> #REF! | G5: =단가기초산출!T57 -> #REF! | H5: =단가기초산출!U57 -> 404 | I5: 산근 2호표
A6: 레미콘 타설 | B6: 무근구조물, 25-18-80 | C6: 1 | D6: ㎥ | E6: =F6+G6+H6 -> #REF! | F6: =단가기초산출!S66 -> #REF! | G6: =단가기초산출!T66 -> #REF! | H6: =단가기초산출!U66 -> 0 | I6: 산근 3호표
A7: 잔토처리 | C7: 1 | D7: ㎥ | E7: =F7+G7+H7 -> #REF! | F7: =단가기초산출!S73 -> 0 | G7: =단가기초산출!T73 -> #REF! | H7: =단가기초산출!U73 -> 0 | I7: 산근 4호표
A8: 합판거푸집(1회) | B8: 1회사용 | C8: 1 | D8: ㎡ | E8: =F8+G8+H8 -> #REF! | F8: =단가기초산출!S98 -> 32127 | G8: =단가기초산출!T98 -> #REF! | H8: =단가기초산출!U98 -> 0 | I8: 산근 5호표
A9: 합판거푸집(6회) | B9: 6회사용 | C9: 1 | D9: ㎡ | E9: =F9+G9+H9 -> #REF! | F9: =단가기초산출!S112 -> 14038 | G9: =단가기초산출!T112 -> #REF! | H9: =단가기초산출!U112 -> 0 | I9: 산근 6호표
A10: 무근콘크리트깨기 깨기 | B10: T=30cm미만 0.7B/H | C10: 1 | D10: ㎥ | E10: =F10+G10+H10 -> #REF! | F10: =단가기초산출!S139 -> #REF! | G10: =단가기초산출!T139 -> #REF! | H10: =단가기초산출!U139 -> 10674 | I10: 산근 7호표
A11: 폐기물 상차 | B11: 0.7B/H(무한궤도) | C11: 1 | D11: ㎥ | E11: =F11+G11+H11 -> #REF! | F11: =단가기초산출!S166 -> #REF! | G11: =단가기초산출!T166 -> #REF! | H11: =단가기초산출!U166 -> 1181 | I11: 산근 8호표
A12: 폐콘크리트 운반 | B12: D/T24ton+0.7B/H | C12: 1 | D12: ㎥ | E12: =F12+G12+H12 -> #REF! | F12: =단가기초산출!S193 -> #REF! | G12: =단가기초산출!T193 -> #REF! | H12: =단가기초산출!U193 -> 4060 | I12: 산근 9호표

Sheet 단가기초산출
A1: 공 종 | B1: 산 출 근 거 | R1: 합 계 | S1: 재 료 비 | T1: 노 무 비 | U1: 경 비
A2: 1 | B2: 터파기 (기계90%+인력10%) ㎥ 당
B3: ◈ 터 파 기 : ㎥당
B5: 1. 기 계(백호우 0.7㎥ : 90%)
C6: q = | D6: 0.7 | E6: ㎥ | F6: , | G6: f = | H6: 1 / 1.25 | J6: = | K6: 0.8 | L6: , | M6: k = | N6: 0.9
C7: E = | D7: 0.65 - 0.05 | G7: = | H7: 0.6 | I7: , | J7: Cm = | K7: 15 | L7: sec(90)
C8: Q = | D8: 3600 x q x k x f x E / Cm = | J8: =ROUND((3600*D6*K6*N6*H7/K7),2) -> 72.58 | L8: ㎥/hr
C10: 재료비: | D10: ( | E10: =건설기계!$H$8 -> #REF! | G10: /Q ) | H10: * | I10: 0.9 | J10: = | K10: =INT(E10/J$8*I10) -> #REF! | R10: =S10+T10+U10 -> #REF! | S10: =K10 -> #REF!
C11: 노무비: | D11: ( | E11: =건설기계!$J$8 -> #REF! | G11: /Q ) | H11: * | I11: 0.9 | J11: = | K11: =INT(E11/J$8*I11) -> #REF! | R11: =S11+T11+U11 -> #REF! | T11: =K11 -> #REF!
C12: 경 비: | D12: ( | E12: =건설기계!$L$8 -> 24554 | G12: /Q ) | H12: * | I12: 0.9 | J12: = | K12: =INT(E12/J$8*I12) -> 304 | R12: =S12+T12+U12 -> 304 | U12: =K12 -> 304
B13: 소 계 | R13: =S13+T13+U13 -> #REF! | S13: =SUM(S10:S12) -> #REF! | T13: =SUM(T10:T12) -> #REF! | U13: =SUM(U10:U12) -> 304
B15: 2. 인 력(10%)
D16: 보통인부 | E16: : | F16: =VLOOKUP(D16,#REF!,2,FALSE) -> #REF! | H16: * | I16: 0.20 * 0.1 | M16: = | N16: =F16*0.2*0.1 -> #REF! | P16: \/㎥ | R16: =S16+T16+U16 -> #REF! | T16: =N16 -> #REF!
B17: 소 계 | R17: =S17+T17+U17 -> #REF! | S17: =S16 -> 0 | T17: =SUM(T16:T16) -> #REF! | U17: =U16 -> 0
B22: 합 계 | R22: =S22+T22+U22 -> #REF! | S22: =TRUNC(S13+S17,0) -> #REF! | T22: =TRUNC(T13+T17,0) -> #REF! | U22: =TRUNC(U13+U17,0) -> 304
A30: 2 | B30: 되메우기 및 다짐 (기계90%+인력10%) ㎥ 당
B31: ◈ 되메우기 및 다짐 : ㎥당
B32: 1. 되메우기(0.7BH+램머80㎏ : 90%)
B33: 1) 기계 0.7BH : 90%
C34: q = | D34: 0.7 | E34: ㎥ | F34: , | G34: f = | H34: 0.8 | I34: , | J34: k = | K34: 0.9
C35: E = | D35: 0.65 | F35: , | H35: Cm = | I35: 15 | J35: sec(90)
C36: Q = | D36: 3600 x q x k x f x E / Cm = | J36: =ROUND((3600*D34*H34*K34*D35/I35),2) -> 78.62 | L36: ㎥/hr
C37: 재료비: | D37: ( | E37: =건설기계!$H$8 -> #REF! | G37: /Q ) | H37: * | I37: 0.9 | J37: = | K37: =INT(E37/J$36*I37) -> #REF! | R37: =S37+T37+U37 -> #REF! | S37: =K37 -> #REF!
C38: 노무비: | D38: ( | E38: =건설기계!$J$8 -> #REF! | G38: /Q ) | H38: * | I38: 0.9 | J38: = | K38: =INT(E38/J$36*I38) -> #REF! | R38: =S38+T38+U38 -> #REF! | T38: =K38 -> #REF!
C39: 경 비: | D39: ( | E39: =건설기계!$L$8 -> 24554 | G39: /Q ) | H39: * | I39: 0.9 | J39: = | K39: =INT(E39/J$36*I39) -> 281 | R39: =S39+T39+U39 -> 281 | U39: =K39 -> 281
B40: 소 계 | R40: =S40+T40+U40 -> #REF! | S40: =SUM(S37:S39) -> #REF! | T40: =SUM(T37:T39) -> #REF! | U40: =SUM(U37:U39) -> 281
B41: 2) 인 력 : 10%
D42: 보통인부 | E42: : | F42: =VLOOKUP(D42,#REF!,2,FALSE) -> #REF! | H42: * | I42: 0.1 | J42: * | K42: 0.1 | L42: = | M42: =INT(F42*I42*K42) -> #REF! | O42: \/㎥ | R42: =S42+T42+U42 -> #REF! | T42: =M42 -> #REF!
B43: 소 계 | R43: =S43+T43+U43 -> #REF! | T43: =SUM(T42:T42) -> #REF!
B45: 2. 다 짐(램머 80㎏)
C46: A = | D46: 0.28*0.33 | F46: = | G46: 0.09 | H46: , | J46: N = | K46: 36000 | M46: 회/HR
C47: H = | D47: 0.15 | E47: M , | G47: f = | H47: 1 | I47: , | J47: E = | K47: 0.5 | L47: , | M47: P = | N47: 57 | O47: 회
C48: Q = | D48: A x N x H x f x E / P = | I48: =ROUND(G46*K46*D47*H47*K47/N47,2) -> 4.26 | K48: ㎥/HR
C49: 재료비: | D49: ( | E49: =건설기계!H15 -> #REF! | G49: /Q ) | H49: = | I49: =INT(E49/I$48) -> #REF! | R49: =S49+T49+U49 -> #REF! | S49: =I49 -> #REF!
C50: 노무비: | D50: ( | E50: =건설기계!J15 -> #REF! | G50: /Q ) | H50: = | I50: =INT(E50/I$48) -> #REF! | R50: =S50+T50+U50 -> #REF! | T50: =I50 -> #REF!
C51: 경 비: | D51: ( | E51: =건설기계!L15 -> 525 | G51: /Q ) | H51: = | I51: =INT(E51/I$48) -> 123 | R51: =S51+T51+U51 -> 123 | U51: =I51 -> 123
B52: 소 계 | R52: =S52+T52+U52 -> #REF! | S52: =SUM(S49:S51) -> #REF! | T52: =SUM(T49:T51) -> #REF! | U52: =SUM(U49:U51) -> 123
B57: 합 계 | R57: =SUM(S57:U57) -> #REF! | S57: =TRUNC(S40+S43+S52,0) -> #REF! | T57: =TRUNC(T40+T43+T52,0) -> #REF! | U57: =TRUNC(U40+U43+U52,0) -> 404
A58: 3 | B58: 레 미 콘 타 설 (무근구조물) ㎥ 당
B60: 1. 레미콘(25-18-80)
C61: =#REF! -> #REF! | E61: * | F61: 1.02 | G61: = | H61: =INT(C61*F61) -> #REF! | R61: =SUM(S61:U61) -> #REF! | S61: =H61 -> #REF!
B62: 2. 인건비
D63: 콘크리트공 | E63: : | F63: =VLOOKUP(D63,#REF!,2,FALSE) -> #REF! | H63: * | I63: 0.15 | J63: = | K63: =INT(F63*I63) -> #REF! | M63: \/㎥ | R63: =SUM(S63:U63) -> #REF! | T63: =K63 -> #REF!
D64: 보통인부 | E64: : | F64: =VLOOKUP(D64,#REF!,2,FALSE) -> #REF! | H64: * | I64: 0.46 | J64: = | K64: =INT(F64*I64) -> #REF! | M64: \/㎥ | R64: =SUM(S64:U64) -> #REF! | T64: =K64 -> #REF!
B66: 합 계 | R66: =SUM(S66:U66) -> #REF! | S66: =TRUNC(SUM(S61:S65),0) -> #REF! | T66: =TRUNC(SUM(T61:T65),0) -> #REF! | U66: =TRUNC(SUM(U61:U65),0) -> 0
A67: 4 | B67: 잔토처리 ㎥ 당
B69: 1. 인건비
D70: 보통인부 | E70: : | F70: =VLOOKUP(D70,#REF!,2,FALSE) -> #REF! | H70: * | I70: 0.2 | J70: = | K70: =INT(F70*I70) -> #REF! | M70: \/㎥ | R70: =SUM(S70:U70) -> #REF! | T70: =K70 -> #REF!
B73: 합 계 | R73: =SUM(S73:U73) -> #REF! | S73: =TRUNC(SUM(S68:S72),0) -> 0 | T73: =TRUNC(SUM(T67:T72),0) -> #REF! | U73: =TRUNC(SUM(U68:U72),0) -> 0
A86: =A67+1 -> 5 | B86: 합판거푸집 (1회사용) ㎡ 당
B88: 1 | C88: 합 판 : | E88: 11791.185 | G88: * | H88: 1.03 | J88: = | K88: =INT(E88*H88) -> 12144 | R88: =SUM(S88:U88) -> 12144 | S88: =K88 -> 12144
B89: 2 | C89: 각 재 : | E89: 778443.11 | G89: * | H89: 0.038 | J89: = | K89: =INT(E89*H89) -> 29580 | R89: =SUM(S89:U89) -> 29580 | S89: =K89 -> 29580
B90: 3 | C90: 형틀목공 | E90: =VLOOKUP(C90,#REF!,2,FALSE) -> #REF! | G90: * | H90: 0.23 | J90: = | K90: =INT(E90*H90) -> #REF! | R90: =SUM(S90:U90) -> #REF! | T90: =K90 -> #REF!
B91: 4 | C91: 보통인부 | E91: =VLOOKUP(C91,#REF!,2,FALSE) -> #REF! | G91: * | H91: 0.14 | J91: = | K91: =INT(E91*H91) -> #REF! | R91: =SUM(S91:U91) -> #REF! | T91: =K91 -> #REF!
B92: 5 | C92: 사용고재(합판+각재))
C93: ( | D93: =K88 -> 12144 | F93: + | G93: =K89 -> 29580 | I93: ) * | J93: -0.23 | L93: = | M93: =INT((D93+G93)*J93) -> -9597 | R93: =S93+T93+U93 -> -9597 | S93: =M93 -> -9597
B98: 합 계 | R98: =S98+T98+U98 -> #REF! | S98: =TRUNC(SUM(S88:S93),0) -> 32127 | T98: =TRUNC(SUM(T88:T93),0) -> #REF! | U98: =TRUNC(SUM(U88:U93),0) -> 0
A99: =A86+1 -> 6 | B99: 합판거푸집 (6회사용) ㎡ 당
B101: 1. 합판거푸집(재료비의 32.7%)
C102: =S98 -> 32127 | E102: * | F102: 0.327 | H102: = | I102: =INT(C102*F102) -> 10505 | R102: =S102+T102+U102 -> 10505 | S102: =I102 -> 10505
B103: 2. 소모자재(주재료비의 11%)
C104: =S98 -> 32127 | E104: * | F104: 0.11 | H104: = | I104: =INT(C104*F104) -> 3533 | R104: =S104+T104+U104 -> 3533 | S104: =I104 -> 3533
B105: 3 | C105: 형틀목공
C106: =VLOOKUP(C105,#REF!,2,FALSE) -> #REF! | E106: * | F106: 0.1 | H106: = | I106: =INT(C106*F106) -> #REF! | R106: =S106+T106+U106 -> #REF! | T106: =I106 -> #REF!
B107: 4 | C107: 보통인부
C108: =VLOOKUP(C107,#REF!,2,FALSE) -> #REF! | E108: * | F108: 0.02 | H108: = | I108: =INT(C108*F108) -> #REF! | R108: =S108+T108+U108 -> #REF! | T108: =I108 -> #REF!
B112: 합 계 | R112: =S112+T112+U112 -> #REF! | S112: =TRUNC(SUM(S102:S108),0) -> 14038 | T112: =TRUNC(SUM(T102:T108),0) -> #REF! | U112: =TRUNC(SUM(U102:U108),0) -> 0
A113: =A99+1 -> 7 | B113: 무근콘크리트깨기 (T=30cm미만(0.7B/H)) ㎥ 당
B114: ◈ 무근콘크리트깨기 (T=30cm미만(0.7B/H)) ㎥ 당
C115: Q1 | D115: = | E115: (3.3+5.9)/2 | H115: = | I115: =(3.3+5.9)/2 -> 4.6 | J115: ㎥/hr
B116: 1. 대형 브레이커(0.7㎥)+굴삭기(무한궤도)[0.7㎥]
C117: 재료비: | D117: ( | E117: =건설기계!H8 -> #REF! | G117: /Q1 ) | K117: = | L117: =INT(E117/I$115) -> #REF! | N117: \/㎥ | R117: =S117+T117+U117 -> #REF! | S117: =L117 -> #REF!
C118: 노무비: | D118: ( | E118: =건설기계!J8 -> #REF! | G118: /Q1 ) | K118: = | L118: =INT(E118/I$115) -> #REF! | N118: \/㎥ | R118: =S118+T118+U118 -> #REF! | T118: =L118 -> #REF!
C119: 경 비: | D119: ( | E119: =건설기계!L8 -> 24554 | G119: + | H119: =건설기계!L37 -> 11412 | J119: )/Q1 | K119: = | L119: =INT(E119/I$115) -> 5337 | N119: \/㎥ | R119: =S119+T119+U119 -> 5337 | U119: =L119 -> 5337
B120: 소 계 | R120: =S120+T120+U120 -> #REF! | S120: =SUM(S117:S119) -> #REF! | T120: =SUM(T117:T119) -> #REF! | U120: =SUM(U117:U119) -> 5337
B122: 2. 인 력
C123: 보통인부 | D123: : | E123: =VLOOKUP(C123,#REF!,2,FALSE) -> #REF! | G123: * | H123: 1 | I123: / | J123: (8*Q) | L123: = | M123: =INT(E123*H123/(8*I115)) -> #REF! | O123: \/㎥ | R123: =S123+T123+U123 -> #REF! | T123: =M123 -> #REF!
B124: 소 계 | R124: =S124+T124+U124 -> #REF! | S124: =SUM(S122:S122)+S123 -> 0 | T124: =SUM(T122:T122)+T123 -> #REF! | U124: =SUM(U122:U122)+U123 -> 0
B125: 3. 들어내기(백호우 0.7㎥)
C126: q = | D126: 0.7 | E126: ㎥ | F126: , | G126: f = | H126: 1 / 1.5 | J126: = | K126: =1/1.5 -> 0.66666667 | L126: , | M126: k = | N126: 0.55
C127: E = | D127: 0.45 | F127: , | G127: Cm = | H127: 20 | I127: sec(90)
C128: Q2 = | D128: 3600 x q x k x f x E / Cm = | J128: =ROUND((3600*D126*K126*N126*D127/H127),2) -> 20.79 | L128: ㎥/hr
C130: 재료비: | D130: ( | E130: =건설기계!H8 -> #REF! | G130: /Q2 ) | J130: = | K130: =INT(E130/I$115) -> #REF! | M130: \/㎥ | R130: =S130+T130+U130 -> #REF! | S130: =K130 -> #REF!
C131: 노무비: | D131: ( | E131: =건설기계!J8 -> #REF! | G131: /Q2 ) | J131: = | K131: =INT(E131/I$115) -> #REF! | M131: \/㎥ | R131: =S131+T131+U131 -> #REF! | T131: =K131 -> #REF!
C132: 경 비: | D132: ( | E132: =건설기계!L8 -> 24554 | G132: /Q2 ) | J132: = | K132: =INT(E132/I$115) -> 5337 | M132: \/㎥ | R132: =S132+T132+U132 -> 5337 | U132: =K132 -> 5337
B133: 소 계 | R133: =S133+T133+U133 -> #REF! | S133: =SUM(S130:S132) -> #REF! | T133: =SUM(T130:T132) -> #REF! | U133: =SUM(U130:U132) -> 5337
B139: 합 계 | R139: =S139+T139+U139 -> #REF! | S139: =TRUNC(S120+S124+S133,0) -> #REF! | T139: =TRUNC(T120+T124+T133,0) -> #REF! | U139: =TRUNC(U120+U124+U133,0) -> 10674
A140: =A113+1 -> 8 | B140: 폐기물 상차(0.7B/H) ㎥ 당
B141: ◈ 폐기물 상차(0.7B/H) ㎥ 당
B142: 1. 기 계(백호우 0.7㎥)
C143: q = | D143: 0.7 | E143: ㎥ | F143: , | G143: f = | H143: 1 / 1.5 | J143: = | K143: =1/1.5 -> 0.66666667 | L143: , | M143: k = | N143: 0.55
C144: E = | D144: 0.45 | F144: , | G144: Cm = | H144: 20 | I144: sec(90)
C145: Q2 = | D145: 3600 x q x k x f x E / Cm = | J145: =ROUND((3600*D143*K143*N143*D144/H144),2) -> 20.79 | L145: ㎥/hr
C147: 재료비: | D147: ( | E147: =건설기계!H8 -> #REF! | G147: /Q ) | J147: = | K147: =INT(E147/J$145) -> #REF! | M147: \/㎥ | R147: =S147+T147+U147 -> #REF! | S147: =K147 -> #REF!
C148: 노무비: | D148: ( | E148: =건설기계!J8 -> #REF! | G148: /Q ) | J148: = | K148: =INT(E148/J$145) -> #REF! | M148: \/㎥ | R148: =S148+T148+U148 -> #REF! | T148: =K148 -> #REF!
C149: 경 비: | D149: ( | E149: =건설기계!L8 -> 24554 | G149: /Q ) | J149: = | K149: =INT(E149/J$145) -> 1181 | M149: \/㎥ | R149: =S149+T149+U149 -> 1181 | U149: =K149 -> 1181
B150: 소 계 | R150: =S150+T150+U150 -> #REF! | S150: =SUM(S147:S149) -> #REF! | T150: =SUM(T147:T149) -> #REF! | U150: =SUM(U147:U149) -> 1181
B166: 합 계 | R166: =S166+T166+U166 -> #REF! | S166: =TRUNC(S150,0) -> #REF! | T166: =TRUNC(T150,0) -> #REF! | U166: =TRUNC(U150,0) -> 1181
A167: =A140+1 -> 9 | B167: 폐콘크리트 운반 (D/T24ton+0.7B/H) ㎥ 당
B168: ◈폐콘크리트 운반 (D/T24ton+0.7B/H) ㎥ 당
...

Sheet 일위대가 H=1200이하
A1: 산근 10호표 | B1: 기초 설치 일위대가표 (개 당) (H=1200이하, 작업계수 F=0.9) | L1: 작업계수 1.0기준으로 잡고 양호상태 0.9로 계산
H2: 계 | I2: 재 료 비 | J2: 노 무 비 | K2: 경 비
B3: 1. 굴착기(무한궤도,0.7 ㎥)적용
B4: 장비사용시간 0.43hr(=60*0.43=25.8), Tc=25.8분, F=0.9, T=Tc/F=28.67분
B6: 재료비: | C6: =건설기계!H8 -> #REF! | D6: × 28.67 / 60 | E6: = | F6: =TRUNC(INT(C6*28.67/60),0) -> #REF! | H6: =SUM(I6:K6) -> #REF! | I6: =F6 -> #REF!
B7: 노무비: | C7: =건설기계!J8 -> #REF! | D7: × 28.67 / 60 | E7: = | F7: =TRUNC(INT(C7*28.67/60),0) -> #REF! | H7: =SUM(I7:K7) -> #REF! | J7: =F7 -> #REF!
B8: 경 비: | C8: =건설기계!L8 -> 24554 | D8: × 28.67 / 60 | E8: = | F8: =TRUNC(INT(C8*28.67/60),0) -> 11732 | H8: =SUM(I8:K8) -> 11732 | K8: =F8 -> 11732
G10: 소 계 | H10: =SUM(H3:H9) -> #REF! | I10: =SUM(I3:I9) -> #REF! | J10: =SUM(J3:J9) -> #REF! | K10: =SUM(K3:K9) -> 11732
B11: 2. 래머[굴착기의 24%] (전5-27-1) | L11: 5-27-1 4. 장비사용시간 굴삭기 기준, 래머는 굴삭기의 24% 별도 계상
B13: 재료비: | C13: =건설기계!H15 -> #REF! | D13: × 28.67/60×0.24% | E13: = | F13: =INT(C13*28.67/60*0.24) -> #REF! | H13: =SUM(I13:K13) -> #REF! | I13: =F13 -> #REF!
B14: 노무비: | C14: =건설기계!J15 -> #REF! | D14: × 28.67/60×0.24% | E14: = | F14: =INT(C14*28.67/60*0.24) -> #REF! | H14: =SUM(I14:K14) -> #REF! | J14: =F14 -> #REF!
B15: 경 비: | C15: =건설기계!L15 -> 525 | D15: × 28.67/60×0.24% | E15: = | F15: =INT(C15*28.67/60*0.24) -> 60 | H15: =SUM(I15:K15) -> 60 | K15: =F15 -> 60
H17: =SUM(H13:H15) -> #REF! | I17: =SUM(I13:I15) -> #REF! | J17: =SUM(J13:J15) -> #REF! | K17: =SUM(K13:K15) -> 60
B18: 3. 설치노무비(전5-27-1)
B20: 내선전공: | C20: =#REF! -> #REF! | D20: × 0.08 | E20: = | F20: =INT(C20*0.08) -> #REF! | H20: =SUM(I20:K20) -> #REF! | J20: =F20 -> #REF!
B21: 보통인부: | C21: =#REF! -> #REF! | D21: × 0.19 | E21: = | F21: =INT(C21*0.19) -> #REF! | H21: =SUM(I21:K21) -> #REF! | J21: =F21 -> #REF!
H22: =SUM(H19:H21) -> #REF! | I22: =SUM(I18:I20) -> 0 | J22: =SUM(J19:J21) -> #REF! | K22: =SUM(K18:K20) -> 0
G25: 합 계 | H25: =H10+H17+H22 -> #REF! | I25: =I10+I17+I22 -> #REF! | J25: =J10+J17+J22 -> #REF! | K25: =K10+K17+K22 -> 11792

Sheet 전선관배관토공물량산출 (2)
A2: 1. 전선관 배관 1.2m 매설(토사구간) - m당
R3: A : | S3: =S4+0.2 -> 0.6 | U3: [m]
R4: B : | S4: 0.4 | U4: [m]
R5: H : | S5: 1.2 | U5: [m]
R6: L : | S6: 1 | U6: [m]
B11: 가. 터파기 | E11: [㎥]
A12: V2 | B12: = | C12: A | D12: + | E12: B | G12: × | H12: H | J12: × | K12: L | M12: = | N12: =TRUNC((((S3+S4)/C13)*S5*S6),3) -> 0.6 | P12: [㎥]
C13: 2
B14: 나. 되메우기 | E14: [㎥] | G14: : | H14: V3 | J14: = | K14: V2 | N14: = | O14: =N12 -> 0.6 | Q14: [㎥]
A26: 2. 전선관 배관 0.6m 매설(토사구간) - m당
R27: A : | S27: =S28+0.2 -> 0.6 | U27: [m]
R28: B : | S28: 0.4 | U28: [m]
R29: H : | S29: 0.6 | U29: [m]
R30: L : | S30: 1 | U30: [m]
B35: 가. 터파기 | E35: [㎥]
A36: V2 | B36: = | C36: A | D36: + | E36: B | G36: × | H36: H | J36: × | K36: L | M36: = | N36: =TRUNC((((S27+S28)/C37)*S29*S30),3) -> 0.3 | P36: [㎥]
C37: 2
B38: 나. 되메우기 | E38: [㎥] | G38: : | H38: V3 | J38: = | K38: V2 | N38: = | O38: =N36 -> 0.3 | Q38: [㎥]
A50: 3. 배전함(일반)
N51: 기초대 | Q51: : | R51: A × H × B
O52: A | P52: : | Q52: 400 | S52: [㎜]
O53: H | P53: : | Q53: 1000 | S53: [㎜]
O54: B | P54: : | Q54: 800 | S54: [㎜]
O55: C | P55: : | Q55: =Q56+(0.3*Q53)*2 -> 1600 | S55: [㎜]
O56: D | P56: : | Q56: =Q54+200 -> 1000 | S56: [㎜]
O57: h | P57: : | Q57: =TRUNC((SQRT((((Q54-Q52)/2)^2)+(Q53^2))),3) -> 1019.803 | S57: [㎜]
A62: 1. 콘크리트 | D62: [㎥]
A63: V1 | B63: = | C63: H | D63: ( | E63: A | F63: 2 | G63: ＋ | H63: B | I63: 2 | J63: ＋ | K63: A | L63: · | M63: B | N63: ) | O63: = | P63: =TRUNC((((Q53/1000)/3)*((Q52/1000)^2+(Q54/1000)^2+(Q52/1000)*(Q54/1000))),3) -> 0.373 | R63: [㎥]
C64: 3
A65: 2. 터파기 | D65: [㎥]
A66: V2 | B66: = | C66: H | D66: ( | E66: C | F66: 2 | G66: ＋ | H66: D | I66: 2 | J66: ＋ | K66: C | L66: · | M66: D | N66: ) | O66: = | P66: =TRUNC((((Q53/1000)/3)*((Q55/1000)^2+(Q56/1000)^2+(Q55/1000)*(Q56/1000))),3) -> 1.72 | R66: [㎥]
C67: 3
A68: 3. 되메우기 | E68: [㎥] | G68: : | H68: V3 | I68: = | J68: V2 | K68: - | L68: V1 | M68: = | N68: =P66-P63 -> 1.347 | P68: [㎥]
A69: 4. 잔토처리 | E69: [㎥] | G69: : | H69: V4 | I69: = | J69: V1 | K69: = | L69: =P63 -> 0.373 | N69: [㎥]
A70: 5. 거푸집 | D70: [㎡]
A71: S | B71: = | C71: ( | D71: A | E71: + | F71: B | G71: ) | H71: × | I71: h | J71: × | K71: 4 | L71: = | M71: =TRUNC(((((Q52/1000)+(Q54/1000))/2)*(Q57/1000)*4),3) -> 2.447 | O71: [㎡]
C72: 2
A74: 4. 가로등주 높이 8.5m 이하 1등용(암길이 1.5m)(일반)
N75: 기초대 | Q75: : | R75: A × H × B
O76: A | P76: : | Q76: 400 | S76: [㎜]
O77: H | P77: : | Q77: 1000 | S77: [㎜]
O78: B | P78: : | Q78: 800 | S78: [㎜]
O79: C | P79: : | Q79: =Q80+(0.3*Q77)*2 -> 1600 | S79: [㎜]
O80: D | P80: : | Q80: =Q78+200 -> 1000 | S80: [㎜]
O81: h | P81: : | Q81: =TRUNC((SQRT((((Q78-Q76)/2)^2)+(Q77^2))),3) -> 1019.803 | S81: [㎜]
A86: 1. 콘크리트 | D86: [㎥]
A87: V1 | B87: = | C87: H | D87: ( | E87: A | F87: 2 | G87: ＋ | H87: B | I87: 2 | J87: ＋ | K87: A | L87: · | M87: B | N87: ) | O87: = | P87: =TRUNC((((Q77/1000)/3)*((Q76/1000)^2+(Q78/1000)^2+(Q76/1000)*(Q78/1000))),3) -> 0.373 | R87: [㎥]
C88: 3
A89: 2. 터파기 | D89: [㎥]
A90: V2 | B90: = | C90: H | D90: ( | E90: C | F90: 2 | G90: ＋ | H90: D | I90: 2 | J90: ＋ | K90: C | L90: · | M90: D | N90: ) | O90: = | P90: =TRUNC((((Q77/1000)/3)*((Q79/1000)^2+(Q80/1000)^2+(Q79/1000)*(Q80/1000))),3) -> 1.72 | R90: [㎥]
C91: 3
A92: 3. 되메우기 | E92: [㎥] | G92: : | H92: V3 | I92: = | J92: V2 | K92: - | L92: V1 | M92: = | N92: =P90-P87 -> 1.347 | P92: [㎥]
A93: 4. 잔토처리 | E93: [㎥] | G93: : | H93: V4 | I93: = | J93: V1 | K93: = | L93: =P87 -> 0.373 | N93: [㎥]
A94: 5. 거푸집 | D94: [㎡]
A95: S | B95: = | C95: ( | D95: A | E95: + | F95: B | G95: ) | H95: × | I95: h | J95: × | K95: 4 | L95: = | M95: =TRUNC(((((Q76/1000)+(Q78/1000))/2)*(Q81/1000)*4),3) -> 2.447 | O95: [㎡]
C96: 2
A98: 5. 가로등주 높이 8.5m 이하 1등용(암길이 1.5m)(경계석)
N99: 기초대 | Q99: : | R99: A × H × B(B´)
O100: A | P100: : | Q100: 400 | S100: [㎜]
O101: H | P101: : | Q101: 1000 | S101: [㎜]
O102: B | P102: : | Q102: 800 | S102: [㎜]
O103: B´ | P103: : | Q103: =Q100+(Q102-Q100)/2 -> 600 | S103: [㎜]
O104: C | P104: : | Q104: =Q106+(0.3*Q102)*2 -> 1480 | S104: [㎜]
O105: C´ | P105: : | Q105: =Q107+(0.3*Q103)*2 -> 1060 | S105: [㎜]
O106: D | P106: : | Q106: =Q102+200 -> 1000 | S106: [㎜]
O107: D´ | P107: : | Q107: =Q103+100 -> 700 | S107: [㎜]
O108: h | P108: : | Q108: =TRUNC((SQRT((((Q102-Q100)/2)^2)+(Q101^2))),3) -> 1019.803 | S108: [㎜]
A109: 1. 콘크리트 | D109: [㎥]
A110: V1 | B110: = | C110: H | D110: [( | E110: A | F110: 2 | G110: ＋ | H110: B | I110: × | J110: B´ | L110: ＋ | M110: √ | N110: { | O110: A | P110: 2 | Q110: × | R110: ( | S110: B | T110: × | U110: B´ | V110: )}] | W110: = | X110: =TRUNC((((Q101/1000)/C111)*((((Q100/1000)^2)+((Q102/1000)*(Q103/1000)))+SQRT(((Q100/1000)^2)*((Q102/1000)*(Q103/1000))))),3) -> 0.305 | Z110: [㎥]
C111: 3
A112: 2. 터파기 | D112: [㎥]
A113: V2 | B113: = | C113: H | D113: [{( | E113: C | F113: × | G113: C´ | H113: ) | I113: ＋ | J113: ( | K113: D | L113: × | M113: D´ | N113: ) | O113: ＋ | P113: √ | Q113: {( | R113: (C | S113: × | T113: C´ | U113: ) | V113: ×( | W113: D | X113: ×D´ | Y113: )}]
C114: 3
B115: = | C115: =TRUNC((((Q101/1000)/C114)*(((Q104/1000)*(Q105/1000))+((Q106/1000)*(Q107/1000))+SQRT(((Q104/1000)*(Q105/1000))*((Q106/1000)*(Q107/1000))))),3) -> 1.105 | D115: =D112 -> [㎥]
A116: 3. 되메우기 | E116: [㎥] : | G116: V3 | H116: = | I116: V2 | J116: - | K116: V1 | L116: = | M116: =C115-X110 -> 0.8 | O116: [㎥]
A117: 4. 잔토처리 | E117: [㎥] : | G117: V4 | H117: = | I117: V1 | J117: = | K117: =X110 -> 0.305 | M117: [㎥]
A118: 5. 거푸집 | D118: [㎡]
A119: S | B119: = | C119: {( | D119: A | E119: + | F119: B | G119: ) | H119: × | I119: ( | J119: H | K119: × | L119: h | M119: ) | N119: + | O119: ( | P119: A | Q119: + | R119: B´ | S119: ) | T119: × | U119: h | V119: × | W119: 2 | X119: }
D120: 2 | P120: 2
B121: = | C121: =TRUNC(((((Q100/1000)+(Q102/1000))/D120)*((Q101/1000)*(Q108/1000))+((((Q100/1000)+(Q103/1000))/P120)*(Q108/1000)*W119)),3) -> 1.631 | D121: [㎡]
A122: 6. 가로등주 높이 8.5m 이하 1등용(암길이 1.5m)(경계석)
O123: 가로등중공기초 | S123: : | T123: A × H × B(B´)
O124: A | P124: : | Q124: 500 | S124: [㎜]
O125: H | P125: : | Q125: 700 | S125: [㎜]
O126: B | P126: : | Q126: 850 | S126: [㎜]
O127: B´ | P127: : | Q127: =Q124+(Q126-Q124)/2 -> 675 | S127: [㎜]
O128: C | P128: : | Q128: =Q130+(0.3*Q126)*2 -> 1560 | S128: [㎜]
O129: C´ | P129: : | Q129: =Q131+(0.3*Q127)*2 -> 1180 | S129: [㎜]
O130: D | P130: : | Q130: =Q126+200 -> 1050 | S130: [㎜]
O131: D´ | P131: : | Q131: =Q127+100 -> 775 | S131: [㎜]
O132: h | P132: : | Q132: =TRUNC((SQRT((((Q126-Q124)/2)^2)+(Q125^2))),3) -> 721.543 | S132: [㎜]
A133: 1. 가로등중공기초 | E133: [㎥]
A134: V1 | B134: = | C134: H | D134: [( | E134: A | F134: 2 | G134: ＋ | H134: B | I134: × | J134: B´ | L134: ＋ | M134: √ | N134: { | O134: A | P134: 2 | Q134: × | R134: ( | S134: B | T134: × | U134: B´ | V134: )}] | W134: = | X134: =TRUNC((((Q125/1000)/C135)*((((Q124/1000)^2)+((Q126/1000)*(Q127/1000)))+SQRT(((Q124/1000)^2)*((Q126/1000)*(Q127/1000))))),3) -> 0.28 | Z134: [㎥]
C135: 3
A136: 2. 터파기 | D136: [㎥]
A137: V2 | B137: = | C137: H | D137: [{( | E137: C | F137: × | G137: C´ | H137: ) | I137: ＋ | J137: ( | K137: D | L137: × | M137: D´ | N137: ) | O137: ＋ | P137: √ | Q137: {( | R137: (C | S137: × | T137: C´ | U137: ) | V137: ×( | W137: D | X137: ×D´ | Y137: )}]
C138: 3
B139: = | C139: =TRUNC((((Q125/1000)/C138)*(((Q128/1000)*(Q129/1000))+((Q130/1000)*(Q131/1000))+SQRT(((Q128/1000)*(Q129/1000))*((Q130/1000)*(Q131/1000))))),3) -> 0.904 | D139: =D136 -> [㎥]
A140: 3. 되메우기 | E140: [㎥] : | G140: V3 | H140: = | I140: V2 | J140: - | K140: V1 | L140: = | M140: =C139-X134 -> 0.624 | O140: [㎥]
A141: 4. 잔토처리 | E141: [㎥] : | G141: V4 | H141: = | I141: V1 | J141: = | K141: =X134 -> 0.28 | M141: [㎥]

Sheet 건설기계
A1: 구 분 | B1: 규 격 | C1: 수 량 | D1: 단위 | E1: 합 계 | G1: 재 료 비 | I1: 노 무 비 | K1: 경 비 | M1: 비 고
E2: 단 가 | F2: 금 액 | G2: 단 가 | H2: 금 액 | I2: 단 가 | J2: 금 액 | K2: 단 가 | L2: 금 액
A3: 1. 굴삭기(무한궤도) [0.7 ㎥]【기계가격：117,766 천원】
A4: 경유 | B4: 저 유 황 | C4: 11.6 | D4: ℓ | E4: =G4+I4+K4 -> #REF! | F4: =H4+J4+L4 -> #REF! | G4: =VLOOKUP(A4,#REF!,12,FALSE) -> #REF! | H4: =TRUNC(C4*G4, 0) -> #REF!
A5: 잡 품 | B5: 주연료비의 % | C5: 22 | D5: % | E5: =G5+I5+K5 -> #REF! | F5: =H5+J5+L5 -> #REF! | G5: =H4 -> #REF! | H5: =TRUNC(C5*G5/100, 0) -> #REF!
A6: 건설기계운전사 | B6: =""&N6&"*16/12*1/8*25/20" -> #REF! | C6: 1 | D6: 인 | E6: =G6+I6+K6 -> #REF! | F6: =H6+J6+L6 -> #REF! | I6: =INT(N6*16/12*1/8*25/20) -> #REF! | J6: =TRUNC(C6*I6, 0) -> #REF! | N6: =VLOOKUP(A6,#REF!,2,FALSE) -> #REF!
A7: 기계손료 | C7: 0.2085 | E7: =G7+I7+K7 -> 117766 | F7: =H7+J7+L7 -> 24554 | K7: =MID(A3,FIND("：",A3)+1,FIND(" 천원",A3)-(FIND("：",A3)+1)) -> 117,766 | L7: =TRUNC(C7*K7, 0) -> 24554
A8: 계 | F8: =INT(H8+J8+L8) -> #REF! | H8: =INT(SUM(H4:H7)) -> #REF! | J8: =INT(SUM(J4:J7)) -> #REF! | L8: =INT(SUM(L4:L7)) -> 24554
A10: 2. 램 머 (80KG)【기계가격：1,418 천원】
A11: 휘발유 | B11: 무 연 | C11: 0.7 | D11: L | E11: =G11+I11+K11 -> #REF! | F11: =H11+J11+L11 -> #REF! | G11: =VLOOKUP(A11,#REF!,12,FALSE) -> #REF! | H11: =TRUNC(C11*G11, 0) -> #REF!
A12: 잡 품 | B12: 주연료비의 % | C12: 10 | D12: % | E12: =G12+I12+K12 -> #REF! | F12: =H12+J12+L12 -> #REF! | G12: =H11 -> #REF! | H12: =TRUNC(C12*G12/100,0) -> #REF!
A13: 일반기계운전사 | B13: =""&N13&"*16/12*1/8*25/20" -> #REF! | C13: 1 | D13: 인 | E13: =G13+I13+K13 -> #REF! | F13: =H13+J13+L13 -> #REF! | I13: =INT(N13*16/12*1/8*25/20) -> #REF! | J13: =TRUNC(C13*I13, 0) -> #REF! | N13: =VLOOKUP(A13,#REF!,2,FALSE) -> #REF!
A14: 기계손료 | C14: 0.3708 | E14: =G14+I14+K14 -> 1418 | F14: =H14+J14+L14 -> 525 | K14: =MID(A10,FIND("：",A10)+1,FIND(" 천원",A10)-(FIND("：",A10)+1)) -> 1,418 | L14: =TRUNC(C14*K14, 0) -> 525
A15: 계 | F15: =H15+J15+L15 -> #REF! | H15: =INT(SUM(H11:H14)) -> #REF! | J15: =INT(SUM(J11:J14)) -> #REF! | L15: =INT(SUM(L11:L14)) -> 525
A21: 3. 플레이트콤팩터 (1.5 ton)【기계가격：1,673 천원】
A22: 휘발유 | B22: 무 연 | C22: 1 | D22: ℓ | E22: =G22+I22+K22 -> #REF! | F22: =H22+J22+L22 -> #REF! | G22: =VLOOKUP(A22,#REF!,12,FALSE) -> #REF! | H22: =TRUNC(C22*G22, 0) -> #REF!
A23: 잡 품 | B23: 주연료비의 % | C23: 20 | D23: % | E23: =G23+I23+K23 -> #REF! | F23: =H23+J23+L23 -> #REF! | G23: =H22 -> #REF! | H23: =TRUNC(C23*G23/100, 0) -> #REF!
A24: 일반기계운전사 | B24: =""&N24&"*16/12*1/8*25/20" -> #REF! | C24: 1 | D24: 인 | E24: =G24+I24+K24 -> #REF! | F24: =H24+J24+L24 -> #REF! | I24: =INT(N24*16/12*1/8*25/20) -> #REF! | J24: =TRUNC(C24*I24, 0) -> #REF! | N24: =VLOOKUP(A24,#REF!,2,FALSE) -> #REF!
A25: 기계손료 | C25: 0.3708 | E25: =G25+I25+K25 -> 1673 | F25: =H25+J25+L25 -> 620 | K25: =MID(A21,FIND("：",A21)+1,FIND(" 천원",A21)-(FIND("：",A21)+1)) -> 1,673 | L25: =TRUNC(C25*K25, 0) -> 620
A26: 계 | F26: =H26+J26+L26 -> #REF! | H26: =ROUNDDOWN(SUM(H22:H25),0) -> #REF! | J26: =ROUNDDOWN(SUM(J22:J25),0) -> #REF! | L26: =ROUNDDOWN(SUM(L22:L25),0) -> 620
A28: 4. 커터(콘크리트 및 아스팔트용) [320~400 mm]【기계가격：3,249 천원】
A29: 휘발유 | B29: 무 연 | C29: 5.6 | D29: ℓ | E29: =G29+I29+K29 -> #REF! | F29: =H29+J29+L29 -> #REF! | G29: =VLOOKUP(A29,#REF!,12,FALSE) -> #REF! | H29: =TRUNC(C29*G29, 0) -> #REF!
A30: 잡 품 | B30: 주연료비의 % | C30: 20 | D30: % | E30: =G30+I30+K30 -> #REF! | F30: =H30+J30+L30 -> #REF! | G30: =H29 -> #REF! | H30: =TRUNC(C30*G30/100, 0) -> #REF!
A31: 일반기계운전사 | B31: =""&N31&"*16/12*1/8*25/20" -> #REF! | C31: 1 | D31: 인 | E31: =G31+I31+K31 -> #REF! | F31: =H31+J31+L31 -> #REF! | I31: =INT(N31*16/12*1/8*25/20) -> #REF! | J31: =TRUNC(C31*I31, 0) -> #REF! | N31: =VLOOKUP(A31,#REF!,2,FALSE) -> #REF!
A32: 기계손료 | C32: 0.6354 | E32: =G32+I32+K32 -> 3249 | F32: =H32+J32+L32 -> 2064 | K32: =MID(A28,FIND("：",A28)+1,FIND(" 천원",A28)-(FIND("：",A28)+1)) -> 3,249 | L32: =TRUNC(C32*K32, 0) -> 2064
A33: 계 | F33: =H33+J33+L33 -> #REF! | H33: =ROUNDDOWN(SUM(H29:H32),0) -> #REF! | J33: =ROUNDDOWN(SUM(J29:J32),0) -> #REF! | L33: =ROUNDDOWN(SUM(L29:L32),0) -> 2064
A35: 5. 대형 브레이커 (0.7㎥)【기계가격：17,289 천원】
A36: 기계손료 | C36: 0.6601 | E36: =G36+I36+K36 -> 17289 | F36: =H36+J36+L36 -> 11412 | K36: =MID(A35,FIND("：",A35)+1,FIND(" 천원",A35)-(FIND("：",A35)+1)) -> 17,289 | L36: =INT(C36*K36) -> 11412
A37: 계 | F37: =H37+J37+L37 -> 11412 | H37: =INT(SUM(H36:H36)) -> 0 | J37: =INT(SUM(J36:J36)) -> 0 | L37: =INT(SUM(L36:L36)) -> 11412
A39: 6. 덤프트럭 (24ton)【기계가격：147,825 천원】
A40: 경유 | B40: 저 유 황 | C40: 23 | D40: ℓ | E40: =G40+I40+K40 -> #REF! | F40: =H40+J40+L40 -> #REF! | G40: =VLOOKUP(A40,#REF!,12,FALSE) -> #REF! | H40: =TRUNC(C40*G40, 0) -> #REF!
A41: 잡 품 | B41: 주연료비의 % | C41: 38 | D41: % | E41: =G41+I41+K41 -> #REF! | F41: =H41+J41+L41 -> #REF! | G41: =H40 -> #REF! | H41: =TRUNC(C41*G41/100, 0) -> #REF!
A42: 건설기계운전사 | B42: =""&N42&"*16/12*1/8*25/20" -> #REF! | C42: 1 | D42: 인 | E42: =G42+I42+K42 -> #REF! | F42: =H42+J42+L42 -> #REF! | I42: =INT(N42*16/12*1/8*25/20) -> #REF! | J42: =TRUNC(C42*I42, 0) -> #REF! | N42: =VLOOKUP(A42,#REF!,2,FALSE) -> #REF!
A43: 기계손료 | C43: 0.2229 | E43: =G43+I43+K43 -> 147825 | F43: =H43+J43+L43 -> 32950 | K43: =MID(A39,FIND("：",A39)+1,FIND(" 천원",A39)-(FIND("：",A39)+1)) -> 147,825 | L43: =TRUNC(C43*K43, 0) -> 32950
A44: 덤프트럭 자동덮개시설 | B44: 24ton | C44: 1 | D44: 시간 | E44: =G44+I44+K44 -> 508 | F44: =H44+J44+L44 -> 508 | K44: 508 | L44: =TRUNC(C44*K44, 0) -> 508
A45: 계 | F45: =H45+J45+L45 -> #REF! | H45: =ROUNDDOWN(SUM(H40:H44),0) -> #REF! | J45: =ROUNDDOWN(SUM(J40:J44),0) -> #REF! | L45: =ROUNDDOWN(SUM(L40:L44),0) -> 33458
A47: 8. 물탱크(살수차) (16000 ℓ)【기계가격：90,649 천원】
A48: 경유 | B48: 저 유 황 | C48: 12.9 | D48: ℓ | E48: =G48+I48+K48 -> #REF! | F48: =H48+J48+L48 -> #REF! | G48: =VLOOKUP(A48,#REF!,12,FALSE) -> #REF! | H48: =TRUNC(C48*G48, 0) -> #REF!
A49: 잡 품 | B49: 주연료비의 % | C49: 30 | D49: % | E49: =G49+I49+K49 -> #REF! | F49: =H49+J49+L49 -> #REF! | G49: =H48 -> #REF! | H49: =TRUNC(C49*G49/100, 0) -> #REF!
A50: 화물차운전사 | B50: =""&N50&"*16/12*1/8*25/20" -> #REF! | C50: 1 | D50: 인 | E50: =G50+I50+K50 -> #REF! | F50: =H50+J50+L50 -> #REF! | I50: =INT(N50*16/12*1/8*25/20) -> #REF! | J50: =TRUNC(C50*I50, 0) -> #REF! | N50: =VLOOKUP(A50,#REF!,2,FALSE) -> #REF!
A51: 기계손료 | C51: 0.2113 | E51: =G51+I51+K51 -> 90649 | F51: =H51+J51+L51 -> 19154 | K51: =MID(A47,FIND("：",A47)+1,FIND(" 천원",A47)-(FIND("：",A47)+1)) -> 90,649 | L51: =TRUNC(C51*K51, 0) -> 19154
A52: 계 | F52: =H52+J52+L52 -> #REF! | H52: =ROUNDDOWN(SUM(H48:H51),0) -> #REF! | J52: =ROUNDDOWN(SUM(J48:J51),0) -> #REF! | L52: =ROUNDDOWN(SUM(L48:L51),0) -> 19154
A57: 9. 아스팔트 스프레이어 (400 ℓ)【기계가격：3,158 천원】
A58: 휘발유 | B58: 무 연 | C58: 1.2 | D58: ℓ | E58: =G58+I58+K58 -> #REF! | F58: =H58+J58+L58 -> #REF! | G58: =VLOOKUP(A58,#REF!,12,FALSE) -> #REF! | H58: =TRUNC(C58*G58, 0) -> #REF!
A59: 잡 품 | B59: 주연료비의 % | C59: 6 | D59: % | E59: =G59+I59+K59 -> #REF! | F59: =H59+J59+L59 -> #REF! | G59: =H58 -> #REF! | H59: =TRUNC(C59*G59/100, 0) -> #REF!
A60: 건설기계운전사 | B60: =""&N60&"*16/12*1/8*25/20" -> #REF! | C60: 1 | D60: 인 | E60: =G60+I60+K60 -> #REF! | F60: =H60+J60+L60 -> #REF! | I60: =INT(N60*16/12*1/8*25/20) -> #REF! | J60: =TRUNC(C60*I60, 0) -> #REF! | N60: =VLOOKUP(A60,#REF!,2,FALSE) -> #REF!
A61: 기계손료 | C61: 0.2549 | E61: =G61+I61+K61 -> 3158 | F61: =H61+J61+L61 -> 804 | K61: =MID(A57,FIND("：",A57)+1,FIND(" 천원",A57)-(FIND("：",A57)+1)) -> 3,158 | L61: =TRUNC(C61*K61, 0) -> 804
A62: 계 | F62: =H62+J62+L62 -> #REF! | H62: =ROUNDDOWN(SUM(H58:H61),0) -> #REF! | J62: =ROUNDDOWN(SUM(J58:J61),0) -> #REF! | L62: =ROUNDDOWN(SUM(L58:L61),0) -> 804
A64: 10. 머캐덤롤러(자주식) [10~12 ton]【기계가격：71,351 천원】
A65: 경유 | B65: 저 유 황 | C65: 9.3 | D65: ℓ | E65: =G65+I65+K65 -> #REF! | F65: =H65+J65+L65 -> #REF! | G65: =VLOOKUP(A65,#REF!,12,FALSE) -> #REF! | H65: =TRUNC(C65*G65, 0) -> #REF!
A66: 잡 품 | B66: 주연료비의 % | C66: 18 | D66: % | E66: =G66+I66+K66 -> #REF! | F66: =H66+J66+L66 -> #REF! | G66: =H65 -> #REF! | H66: =TRUNC(C66*G66/100, 0) -> #REF!
A67: 건설기계운전사 | C67: 1 | D67: 인 | E67: =G67+I67+K67 -> #REF! | F67: =H67+J67+L67 -> #REF! | I67: =INT(N67*16/12*1/8*25/20) -> #REF! | J67: =TRUNC(C67*I67, 0) -> #REF! | N67: =VLOOKUP(A67,#REF!,2,FALSE) -> #REF!
A68: 기계손료 | B68: 상각비:750/정비비:500/관리비:552 | C68: 0.1802 | E68: =G68+I68+K68 -> 71351 | F68: =H68+J68+L68 -> 12857 | K68: =MID(A64,FIND("：",A64)+1,FIND(" 천원",A64)-(FIND("：",A64)+1)) -> 71,351 | L68: =TRUNC(C68*K68, 0) -> 12857
A69: 계 | F69: =H69+J69+L69 -> #REF! | H69: =INT(SUM(H65:H68)) -> #REF! | J69: =INT(SUM(J65:J68)) -> #REF! | L69: =INT(SUM(L65:L68)) -> 12857
A75: 11. 아스팔트 페이버(피니셔) [3 m]【기계가격：250,388 천원】
A76: 경유 | B76: 저 유 황 | C76: 13 | D76: ℓ | E76: =G76+I76+K76 -> #REF! | F76: =H76+J76+L76 -> #REF! | G76: =VLOOKUP(A76,#REF!,12,FALSE) -> #REF! | H76: =TRUNC(C76*G76, 0) -> #REF!
A77: 잡 품 | B77: 주연료비의 % | C77: 7 | D77: % | E77: =G77+I77+K77 -> #REF! | F77: =H77+J77+L77 -> #REF! | G77: =H76 -> #REF! | H77: =TRUNC(C77*G77/100, 0) -> #REF!
A78: 건설기계운전사 | C78: 1 | D78: 인 | E78: =G78+I78+K78 -> #REF! | F78: =H78+J78+L78 -> #REF! | I78: =INT(N78*16/12*1/8*25/20) -> #REF! | J78: =TRUNC(C78*I78, 0) -> #REF! | N78: =VLOOKUP(A78,#REF!,2,FALSE) -> #REF!
A79: 기계손료 | B79: 상각비:1125/정비비:563/관리비:674 | C79: 0.2362 | E79: =G79+I79+K79 -> 250388 | F79: =H79+J79+L79 -> 59141 | K79: =MID(A75,FIND("：",A75)+1,FIND(" 천원",A75)-(FIND("：",A75)+1)) -> 250,388 | L79: =TRUNC(C79*K79, 0) -> 59141
A80: 계 | F80: =H80+J80+L80 -> #REF! | H80: =INT(SUM(H76:H79)) -> #REF! | J80: =INT(SUM(J76:J79)) -> #REF! | L80: =INT(SUM(L76:L79)) -> 59141
A82: 12. 타이어롤러(자주식) [8~15 ton]【기계가격：98,388 천원】
A83: 경유 | B83: 저 유 황 | C83: 8 | D83: ℓ | E83: =G83+I83+K83 -> #REF! | F83: =H83+J83+L83 -> #REF! | G83: =VLOOKUP(A83,#REF!,12,FALSE) -> #REF! | H83: =TRUNC(C83*G83, 0) -> #REF!
A84: 잡 품 | B84: 주연료비의 % | C84: 23 | D84: % | E84: =G84+I84+K84 -> #REF! | F84: =H84+J84+L84 -> #REF! | G84: =H83 -> #REF! | H84: =TRUNC(C84*G84/100, 0) -> #REF!
A85: 건설기계운전사 | C85: 1 | D85: 인 | E85: =G85+I85+K85 -> #REF! | F85: =H85+J85+L85 -> #REF! | I85: =INT(N85*16/12*1/8*25/20) -> #REF! | J85: =TRUNC(C85*I85, 0) -> #REF! | N85: =VLOOKUP(A85,#REF!,2,FALSE) -> #REF!
A86: 기계손료 | B86: 상각비:833/정비비:556/관리비:556 | C86: 0.1945 | E86: =G86+I86+K86 -> 98388 | F86: =H86+J86+L86 -> 19136 | K86: =MID(A82,FIND("：",A82)+1,FIND(" 천원",A82)-(FIND("：",A82)+1)) -> 98,388 | L86: =TRUNC(C86*K86, 0) -> 19136
A87: 계 | F87: =H87+J87+L87 -> #REF! | H87: =INT(SUM(H83:H86)) -> #REF! | J87: =INT(SUM(J83:J86)) -> #REF! | L87: =INT(SUM(L83:L86)) -> 19136
A93: 13. 탠덤롤러(자주식) [5~8 ton]【기계가격：48,513 천원】
A94: 경유 | B94: 저 유 황 | C94: 5 | D94: ℓ | E94: =G94+I94+K94 -> #REF! | F94: =H94+J94+L94 -> #REF! | G94: =VLOOKUP(A94,#REF!,12,FALSE) -> #REF! | H94: =TRUNC(C94*G94, 0) -> #REF!
A95: 잡 품 | B95: 주연료비의 % | C95: 18 | D95: % | E95: =G95+I95+K95 -> #REF! | F95: =H95+J95+L95 -> #REF! | G95: =H94 -> #REF! | H95: =TRUNC(C95*G95/100, 0) -> #REF!
A96: 건설기계운전사 | C96: 1 | D96: 인 | E96: =G96+I96+K96 -> #REF! | F96: =H96+J96+L96 -> #REF! | I96: =INT(N96*16/12*1/8*25/20) -> #REF! | J96: =TRUNC(C96*I96, 0) -> #REF! | N96: =VLOOKUP(A96,#REF!,2,FALSE) -> #REF!
A97: 기계손료 | B97: 상각비:750/정비비:458/관리비:655 | C97: 0.1863 | E97: =G97+I97+K97 -> 48513 | F97: =H97+J97+L97 -> 9037 | K97: =MID(A93,FIND("：",A93)+1,FIND(" 천원",A93)-(FIND("：",A93)+1)) -> 48,513 | L97: =TRUNC(C97*K97, 0) -> 9037
A98: 계 | F98: =H98+J98+L98 -> #REF! | H98: =INT(SUM(H94:H97)) -> #REF! | J98: =INT(SUM(J94:J97)) -> #REF! | L98: =INT(SUM(L94:L97)) -> 9037
A100: 14. 진동롤러(자주식) [12.0 ton]【기계가격：103,333 천원】
A101: 경유 | B101: 저 유 황 | C101: 15.8 | D101: ℓ | E101: =G101+I101+K101 -> #REF! | F101: =H101+J101+L101 -> #REF! | G101: =VLOOKUP(A101,#REF!,12,FALSE) -> #REF! | H101: =TRUNC(C101*G101, 0) -> #REF!
A102: 잡 품 | B102: 주연료비의 % | C102: 30 | D102: % | E102: =G102+I102+K102 -> #REF! | F102: =H102+J102+L102 -> #REF! | G102: =H101 -> #REF! | H102: =TRUNC(C102*G102/100, 0) -> #REF!
A103: 건설기계운전사 | C103: 1 | D103: 인 | E103: =G103+I103+K103 -> #REF! | F103: =H103+J103+L103 -> #REF! | I103: =INT(N103*16/12*1/8*25/20) -> #REF! | J103: =TRUNC(C103*I103, 0) -> #REF! | N103: =VLOOKUP(A103,#REF!,2,FALSE) -> #REF!
A104: 기계손료 | B104: 상각비:1286/정비비:857/관리비:682 | C104: 0.2825 | E104: =G104+I104+K104 -> 103333 | F104: =H104+J104+L104 -> 29191 | K104: =MID(A100,FIND("：",A100)+1,FIND(" 천원",A100)-(FIND("：",A100)+1)) -> 103,333 | L104: =TRUNC(C104*K104, 0) -> 29191
A105: 계 | F105: =H105+J105+L105 -> #REF! | H105: =INT(SUM(H101:H104)) -> #REF! | J105: =INT(SUM(J101:J104)) -> #REF! | L105: =INT(SUM(L101:L104)) -> 29191
A111: 15. 모터그레이더 [3.6 m(일반용)]【기계가격：310,687 천원】
A112: 경유 | B112: 저 유 황 | C112: 16.2 | D112: ℓ | E112: =G112+I112+K112 -> #REF! | F112: =H112+J112+L112 -> #REF! | G112: =VLOOKUP(A112,#REF!,12,FALSE) -> #REF! | H112: =TRUNC(C112*G112, 0) -> #REF!
A113: 잡 품 | B113: 주연료비의 % | C113: 39 | D113: % | E113: =G113+I113+K113 -> #REF! | F113: =H113+J113+L113 -> #REF! | G113: =H112 -> #REF! | H113: =TRUNC(C113*G113/100, 0) -> #REF!
A114: 건설기계운전사 | C114: 1 | D114: 인 | E114: =G114+I114+K114 -> #REF! | F114: =H114+J114+L114 -> #REF! | I114: =INT(N114*16/12*1/8*25/20) -> #REF! | J114: =TRUNC(C114*I114, 0) -> #REF! | N114: =VLOOKUP(A114,#REF!,2,FALSE) -> #REF!
A115: 기계손료 | B115: 상각비:643/정비비:393/관리비:472 | C115: 0.1508 | E115: =G115+I115+K115 -> 310687 | F115: =H115+J115+L115 -> 46851 | K115: =MID(A111,FIND("：",A111)+1,FIND(" 천원",A111)-(FIND("：",A111)+1)) -> 310,687 | L115: =TRUNC(C115*K115, 0) -> 46851
A116: 계 | F116: =H116+J116+L116 -> #REF! | H116: =INT(SUM(H112:H115)) -> #REF! | J116: =INT(SUM(J112:J115)) -> #REF! | L116: =INT(SUM(L112:L115)) -> 46851
A119: 16. 동력분무기 (4.85kw)【기계가격：922 천원】
A120: 휘발유 | B120: 무 연 | C120: 1.3 | D120: ℓ | E120: =G120+I120+K120 -> #REF! | F120: =H120+J120+L120 -> #REF! | G120: =VLOOKUP(A120,#REF!,12,FALSE) -> #REF! | H120: =TRUNC(C120*G120, 0) -> #REF!
A121: 잡 품 | B121: 주연료비의 % | C121: 20 | D121: % | E121: =G121+I121+K121 -> #REF! | F121: =H121+J121+L121 -> #REF! | G121: =H120 -> #REF! | H121: =TRUNC(C121*G121/100, 0) -> #REF!
A122: 일반기계운전사 | B122: =""&N122&"*16/12*1/8*25/20" -> #REF! | C122: 1 | D122: 인 | E122: =G122+I122+K122 -> #REF! | F122: =H122+J122+L122 -> #REF! | I122: =INT(N122*16/12*1/8*25/20) -> #REF! | J122: =TRUNC(C122*I122, 0) -> #REF! | N122: =VLOOKUP(A122,#REF!,2,FALSE) -> #REF!
A123: 기계손료 | C123: 0.2799 | E123: =G123+I123+K123 -> 922 | F123: =H123+J123+L123 -> 258 | K123: =MID(A119,FIND("：",A119)+1,FIND(" 천원",A119)-(FIND("：",A119)+1)) -> 922 | L123: =TRUNC(C123*K123, 0) -> 258
A124: 계 | F124: =H124+J124+L124 -> #REF! | H124: =ROUNDDOWN(SUM(H119:H123),0) -> #REF! | J124: =ROUNDDOWN(SUM(J119:J123),0) -> #REF! | L124: =ROUNDDOWN(SUM(L119:L123),0) -> 258
A129: 17. 크레인(트럭탑재형) (5ton) 【기계가격：42,791 천원】
A130: 경유 | B130: 저 유 황 | C130: 5.1 | D130: ℓ | E130: =G130+I130+K130 -> #REF! | F130: =H130+J130+L130 -> #REF! | G130: =VLOOKUP(A130,#REF!,12,FALSE) -> #REF! | H130: =TRUNC(C130*G130,0) -> #REF!
A131: 잡 품 | B131: 주연료비의 % | C131: 20 | D131: % | E131: =G131+I131+K131 -> #REF! | F131: =H131+J131+L131 -> #REF! | G131: =H130 -> #REF! | H131: =TRUNC(C131*G131/100,0) -> #REF!
A132: 화물차운전사 | C132: 1 | D132: 인 | E132: =G132+I132+K132 -> #REF! | F132: =H132+J132+L132 -> #REF! | I132: =INT(N132*16/12*1/8*25/20) -> #REF! | J132: =TRUNC(C132*I132, 0) -> #REF! | N132: =VLOOKUP(A132,#REF!,2,FALSE) -> #REF!
A133: 기계손료 | C133: 0.2598 | E133: =G133+I133+K133 -> 42791 | F133: =H133+J133+L133 -> 11117 | K133: =MID(A129,FIND("：",A129)+1,FIND(" 천원",A129)-(FIND("：",A129)+1)) -> 42,791 | L133: =TRUNC(C133*K133, 0) -> 11117
A134: 계 | F134: =H134+J134+L134 -> #REF! | H134: =INT(SUM(H130:H133)) -> #REF! | J134: =INT(SUM(J130:J133)) -> #REF! | L134: =INT(SUM(L130:L133)) -> 11117

Sheet 전선관배관토공물량산출
A1: 1. 가로등주 높이 8.5m 이하 1등용(경계석)
N2: 기초대 | Q2: : | R2: A × H × B(B´)
O3: A | P3: : | Q3: 500 | S3: [㎜]
O4: H | P4: : | Q4: 1000 | S4: [㎜]
O5: B | P5: : | Q5: 1000 | S5: [㎜]
O6: B´ | P6: : | Q6: =Q3+(Q5-Q3)/2 -> 750 | S6: [㎜]
O7: C | P7: : | Q7: =Q9+(0.3*Q5)*2 -> 1800 | S7: [㎜]
O8: C´ | P8: : | Q8: =Q10+(0.3*Q6)*2 -> 1300 | S8: [㎜]
O9: D | P9: : | Q9: =Q5+200 -> 1200 | S9: [㎜]
O10: D´ | P10: : | Q10: =Q6+100 -> 850 | S10: [㎜]
O11: h | P11: : | Q11: =TRUNC((SQRT((((Q5-Q3)/2)^2)+(Q4^2))),3) -> 1030.776 | S11: [㎜]
A12: 1. 콘크리트 | D12: [㎥]
A13: V1 | B13: = | C13: H | D13: [( | E13: A | F13: 2 | G13: ＋ | H13: B | I13: × | J13: B´ | L13: ＋ | M13: √ | N13: { | O13: A | P13: 2 | Q13: × | R13: ( | S13: B | T13: × | U13: B´ | V13: )}] | W13: = | X13: =TRUNC((((Q4/1000)/C14)*((((Q3/1000)^2)+((Q5/1000)*(Q6/1000)))+SQRT(((Q3/1000)^2)*((Q5/1000)*(Q6/1000))))),3) -> 0.477 | Z13: [㎥] | AA13: =C18 -> 1.634
C14: 3 | AA14: =M19 -> 1.157
A15: 2. 터파기 | D15: [㎥] | AA15: =X13 -> 0.477
A16: V2 | B16: = | C16: H | D16: [{( | E16: C | F16: × | G16: C´ | H16: ) | I16: ＋ | J16: ( | K16: D | L16: × | M16: D´ | N16: ) | O16: ＋ | P16: √ | Q16: {( | R16: (C | S16: × | T16: C´ | U16: ) | V16: ×( | W16: D | X16: ×D´ | Y16: )}] | AA16: =K20 -> 0.477
C17: 3 | AA17: =C24 -> 2.061
B18: = | C18: =TRUNC((((Q4/1000)/C17)*(((Q7/1000)*(Q8/1000))+((Q9/1000)*(Q10/1000))+SQRT(((Q7/1000)*(Q8/1000))*((Q9/1000)*(Q10/1000))))),3) -> 1.634 | D18: =D15 -> [㎥]
A19: 3. 되메우기 | E19: [㎥] : | G19: V3 | H19: = | I19: V2 | J19: - | K19: V1 | L19: = | M19: =C18-X13 -> 1.157 | O19: [㎥]
A20: 4. 잔토처리 | E20: [㎥] : | G20: V4 | H20: = | I20: V1 | J20: = | K20: =X13 -> 0.477 | M20: [㎥]
A21: 5. 거푸집 | D21: [㎡]
A22: S | B22: = | C22: {( | D22: A | E22: + | F22: B | G22: ) | H22: × | I22: ( | J22: H | K22: × | L22: h | M22: ) | N22: + | O22: ( | P22: A | Q22: + | R22: B´ | S22: ) | T22: × | U22: h | V22: × | W22: 2 | X22: }
D23: 2 | P23: 2
B24: = | C24: =TRUNC(((((Q3/1000)+(Q5/1000))/D23)*((Q4/1000)*(Q11/1000))+((((Q3/1000)+(Q6/1000))/P23)*(Q11/1000)*W22)),3) -> 2.061 | D24: [㎡]

Sheet 기초산출
A1: 토 목 산 출 근 거
B2: Φ250 차량철주 기초산출 근거
A3: ◈ 흙굴착(Φ250) : m3 당
B12: ◇ 콘크리트 : | C12: (1.6×1.2×1.2)+(0.7×0.7×0.2) | D12: = | E12: 2.402 | F12: m3 | H12: =E14 -> 3.6
H13: =E18 -> 1.198
B14: ◇ 터파기 : | C14: ((1.8×1.6×1.6)+(1.8×1.2×1.2))/2 | D14: = | E14: 3.6 | F14: m3 | H14: =E12 -> 2.402
H15: =E20 -> 2.402
B16: ◇ 거푸집 : | C16: (1.6×1.2)×4+(0.7×0.2)×4 | D16: = | E16: 8.24 | F16: m2 | H16: =E16 -> 8.24
B18: ◇ 되메우기 : | C18: 3.6-2.402 | D18: = | E18: 1.198 | F18: m3
B20: ◇ 잔토처리 : | C20: 3.6-1.198 | D20: = | E20: 2.402 | F20: m3

Sheet 단가대비표
B1: 품명 | C1: 규격 | D1: 단위 | E1: 물가자료 | G1: 물가정보(2025년6월) | I1: 거래가격 | K1: 기타단가 | L1: 적용단가 | M1: 비 고
E2: PAGE | F2: 단가 | G2: PAGE | H2: 단가 | I2: PAGE | J2: 단가 | K2: 견적1
A3: =CONCATENATE(B3,C3,D3) -> 차량철주(용융도금)Φ250×8m본 | B3: 차량철주(용융도금) | C3: Φ250×8m | D3: 본 | K3: 1400000 | L3: =MIN(F3,H3,J3,K3) -> 1400000 | M3: [23052091]
A4: =CONCATENATE(B4,C4,D4) -> 차량철주(용융도금)Φ200×8m본 | B4: 차량철주(용융도금) | C4: Φ200×8m | D4: 본 | K4: 1140000 | L4: =MIN(F4,H4,J4,K4) -> 1140000 | M4: [23052089]
A5: =CONCATENATE(B5,C5,D5) -> 보행철주(용융도금)Φ125×6m본 | B5: 보행철주(용융도금) | C5: Φ125×6m | D5: 본 | K5: 400000 | L5: =MIN(F5,H5,J5,K5) -> 400000 | M5: [23052087]
A6: =CONCATENATE(B6,C6,D6) -> 차량철주부착대(용융도금)11m본 | B6: 차량철주부착대(용융도금) | C6: 11m | D6: 본 | K6: 520000 | L6: =MIN(F6,H6,J6,K6) -> 520000 | M6: [23052078]
A7: =CONCATENATE(B7,C7,D7) -> 차량철주부착대(용융도금)9m본 | B7: 차량철주부착대(용융도금) | C7: 9m | D7: 본 | K7: 395000 | L7: =MIN(F7,H7,J7,K7) -> 395000 | M7: [23052074]
A8: =CONCATENATE(B8,C8,D8) -> 차량철주부착대(용융도금)7m본 | B8: 차량철주부착대(용융도금) | C8: 7m | D8: 본 | K8: 300000 | L8: =MIN(F8,H8,J8,K8) -> 300000 | M8: [23052070]
A9: =CONCATENATE(B9,C9,D9) -> 차량철주부착대(용융도금)5m본 | B9: 차량철주부착대(용융도금) | C9: 5m | D9: 본 | K9: 270000 | L9: =MIN(F9,H9,J9,K9) -> 270000 | M9: [23052066]
A10: =CONCATENATE(B10,C10,D10) -> 1면4색LED차량등Φ300mm조 | B10: 1면4색LED차량등 | C10: Φ300mm | D10: 조 | K10: 330000 | L10: =MIN(F10,H10,J10,K10) -> 330000 | M10: [21974858]
A11: =CONCATENATE(B11,C11,D11) -> 1면3색(좌)LED차량등Φ300mm조 | B11: 1면3색(좌)LED차량등 | C11: Φ300mm | D11: 조 | K11: 247000 | L11: =MIN(F11,H11,J11,K11) -> 247000 | M11: [21974855]
A12: =CONCATENATE(B12,C12,D12) -> 1면3색LED차량등Φ300mm조 | B12: 1면3색LED차량등 | C12: Φ300mm | D12: 조 | K12: 243000 | L12: =MIN(F12,H12,J12,K12) -> 243000 | M12: [21974866]
A13: =CONCATENATE(B13,C13,D13) -> 1면2색LED경보등Φ300mm조 | B13: 1면2색LED경보등 | C13: Φ300mm | D13: 조 | K13: 164000 | L13: =MIN(F13,H13,J13,K13) -> 164000 | M13: [21974853]
A14: =CONCATENATE(B14,C14,D14) -> 1면2색LED보행등Φ300mm조 | B14: 1면2색LED보행등 | C14: Φ300mm | D14: 조 | K14: 162000 | L14: =MIN(F14,H14,J14,K14) -> 162000 | M14: [21974859]
... A17: =CONCATENATE(B17,C17,D17) -> 무인교통감시장치KATES-I9BH-TP2(현장설치도)대 | B17: 무인교통감시장치 | C17: KATES-I9BH-TP2(현장설치도) | D17: 대 | K17: 27500000 | L17: =MIN(F17,H17,J17,K17) -> 27500000 | M17: [25324729]
A18: =CONCATENATE(B18,C18,D18) -> 차량철주앙카Φ150×1.2mEA | B18: 차량철주앙카 | C18: Φ150×1.2m | D18: EA | G18: 1308 | H18: 250000 | L18: =MIN(F18,H18,J18,K18) -> 250000
A19: =CONCATENATE(B19,C19,D19) -> 차량철주앙카Φ200×1.5mEA | B19: 차량철주앙카 | C19: Φ200×1.5m | D19: EA | E19: 1264 | F19: 500000 | G19: 1308 | H19: 430000 | L19: =MIN(F19,H19,J19,K19) -> 430000
A20: =CONCATENATE(B20,C20,D20) -> 차량철주앙카Φ250×1.8mEA | B20: 차량철주앙카 | C20: Φ250×1.8m | D20: EA | E20: 1264 | F20: 580000 | G20: 1308 | H20: 540000 | L20: =MIN(F20,H20,J20,K20) -> 540000
A21: =CONCATENATE(B21,C21,D21) -> 차량철주앙카Φ350EA | B21: 차량철주앙카 | C21: Φ350 | D21: EA | E21: 1264 | F21: 1150000 | G21: 1345 | H21: 1150000 | L21: =MIN(F21,H21,J21,K21) -> 1150000
A22: =CONCATENATE(B22,C22,D22) -> 보행철주앙카Φ125×0.8mEA | B22: 보행철주앙카 | C22: Φ125×0.8m | D22: EA | E22: 1266 | F22: 275000 | G22: 1309 | H22: 220000 | L22: =MIN(F22,H22,J22,K22) -> 220000
A23: =CONCATENATE(B23,C23,D23) -> 볼트캡M24EA | B23: 볼트캡 | C23: M24 | D23: EA | G23: 49 | H23: =3450/3 -> 1150 | L23: =MIN(F23,H23,J23,K23) -> 1150
A24: =CONCATENATE(B24,C24,D24) -> 보호금구차량등용조 | B24: 보호금구 | C24: 차량등용 | D24: 조 | E24: 1264 | F24: 65000 | G24: 1309 | H24: 40000 | L24: =MIN(F24,H24,J24,K24) -> 40000
A25: =CONCATENATE(B25,C25,D25) -> 보호금구보행등용조 | B25: 보호금구 | C25: 보행등용 | D25: 조 | E25: 1264 | F25: 75000 | G25: 1309 | H25: 50000 | L25: =MIN(F25,H25,J25,K25) -> 50000
A26: =CONCATENATE(B26,C26,D26) -> 애자75×65EA | B26: 애자 | C26: 75×65 | D26: EA | E26: 1262 | F26: 850 | I26: 1132 | J26: 850 | L26: =MIN(F26,H26,J26,K26) -> 850
A27: =CONCATENATE(B27,C27,D27) -> 암타이밴드2방5호EA | B27: 암타이밴드 | C27: 2방5호 | D27: EA | E27: 1231 | F27: 7800 | G27: 1303 | H27: 5180 | L27: =MIN(F27,H27,J27,K27) -> 5180
A28: =CONCATENATE(B28,C28,D28) -> 제어기좌대철주부착형EA | B28: 제어기좌대 | C28: 철주부착형 | D28: EA | E28: 1264 | F28: 550000 | G28: 1308 | H28: 550000 | L28: =MIN(F28,H28,J28,K28) -> 550000
A29: =CONCATENATE(B29,C29,D29) -> 전원선FW-CV4×2Cm | B29: 전원선 | C29: FW-CV4×2C | D29: m | G29: 1168 | H29: 2182 | L29: =MIN(F29,H29,J29,K29) -> 2182
A30: =CONCATENATE(B30,C30,D30) -> 전원선FW-CV6×2Cm | B30: 전원선 | C30: FW-CV6×2C | D30: m | G30: 1168 | H30: 2952 | L30: =MIN(F30,H30,J30,K30) -> 2952
A31: =CONCATENATE(B31,C31,D31) -> 전원선FW-CV10×2Cm | B31: 전원선 | C31: FW-CV10×2C | D31: m | E31: 1115 | F31: 4045 | G31: 1168 | H31: 4491 | L31: =MIN(F31,H31,J31,K31) -> 4045
A32: =CONCATENATE(B32,C32,D32) -> 신호선FR-CVV2.5×5Cm | B32: 신호선 | C32: FR-CVV2.5×5C | D32: m | G32: 1179 | H32: 3121 | L32: =MIN(F32,H32,J32,K32) -> 3121
A33: =CONCATENATE(B33,C33,D33) -> 스텐인리스와이어로프7×7m | B33: 스텐인리스와이어로프 | C33: 7×7 | D33: m | E33: 29 | F33: 930 | G33: 31 | H33: 550 | I33: 83 | J33: 754 | L33: =MIN(F33,H33,J33,K33) -> 550
A34: =CONCATENATE(B34,C34,D34) -> 앙카볼트Ø13mm이하, M12EA | B34: 앙카볼트 | C34: Ø13mm이하, M12 | D34: EA | E34: 53 | F34: 380 | G34: 41 | H34: 349 | L34: =MIN(F34,H34,J34,K34) -> 349
A35: =CONCATENATE(B35,C35,D35) -> 전원선F-CV6×2Cm | B35: 전원선 | C35: F-CV6×2C | D35: m | G35: 1168 | H35: 2952 | L35: =MIN(F35,H35,J35,K35) -> 2952
A36: =CONCATENATE(B36,C36,D36) -> 통신선F-CVV-S1.5×2Cm | B36: 통신선 | C36: F-CVV-S1.5×2C | D36: m | G36: 1179 | H36: 1084 | L36: =MIN(F36,H36,J36,K36) -> 1084
A37: =CONCATENATE(B37,C37,D37) -> 통신선F-CVV-S1.5×4Cm | B37: 통신선 | C37: F-CVV-S1.5×4C | D37: m | G37: 1179 | H37: 1867 | L37: =MIN(F37,H37,J37,K37) -> 1867
A38: =CONCATENATE(B38,C38,D38) -> LED투광등100WEA | B38: LED투광등 | C38: 100W | D38: EA | K38: 600000 | L38: =MIN(F38,H38,J38,K38) -> 600000 | M38: [25565674]
A39: =CONCATENATE(B39,C39,D39) -> 누전차단기EA | B39: 누전차단기 | D39: EA | G39: 1233 | H39: 60000 | L39: =MIN(F39,H39,J39,K39) -> 60000
A40: =CONCATENATE(B40,C40,D40) -> 투광등점멸기GPS식EA | B40: 투광등점멸기 | C40: GPS식 | D40: EA | I40: 958 | J40: 100000 | L40: =MIN(F40,H40,J40,K40) -> 100000
A41: =CONCATENATE(B41,C41,D41) -> 레미콘25-210-08m3 | B41: 레미콘 | C41: 25-210-08 | D41: m3 | G41: 56 | H41: 101370 | L41: =MIN(F41,H41,J41,K41) -> 101370 | M41: 부산/25/6월
A42: =CONCATENATE(B42,C42,D42) -> 레미콘25-18-120m3 | B42: 레미콘 | C42: 25-18-120 | D42: m3 | E42: 71 | F42: 94510 | G42: 56 | H42: 98200 | I42: 109 | J42: 93800 | L42: =MIN(F42,H42,J42,K42) -> 93800 | M42: 부산 24/5월
A43: =CONCATENATE(B43,C43,D43) -> 합판(내수1급)12x1220x2440mm(㎡)m2 | B43: 합판(내수1급) | C43: 12x1220x2440mm(㎡) | D43: m2 | G43: 587 | H43: =41200/N43 -> 13840.365 | L43: =MIN(F43,H43,J43,K43) -> 13840.365 | M43: 부산 25/6월 | N43: =1220*2440/1000000 -> 2.9768
A44: =CONCATENATE(B44,C44,D44) -> 각재30×30×3600mmm3 | B44: 각재 | C44: 30×30×3600mm | D44: m3 | G44: 85 | H44: =2610/0.00334 -> 781437.13 | L44: =MIN(F44,H44,J44,K44) -> 781437.13 | M44: 부산/25/6월
A45: =CONCATENATE(B45,C45,D45) -> 각재3.6×3.6×3.6m3 | B45: 각재 | C45: 3.6×3.6×3.6 | D45: m3 | G45: 85 | H45: =2860/0.00334 -> 856287.43 | L45: =MIN(F45,H45,J45,K45) -> 856287.43 | M45: 부산/24/8월
A46: =CONCATENATE(B46,C46,D46) -> 접지동봉14×1000㎜EA | B46: 접지동봉 | C46: 14×1000㎜ | D46: EA | E46: 1222 | F46: 5780 | G46: 1270 | H46: 6500 | L46: =MIN(F46,H46,J46,K46) -> 5780
A47: =CONCATENATE(B47,C47,D47) -> 접지선F-GV6SQm | B47: 접지선 | C47: F-GV6SQ | D47: m | G47: 1165 | H47: 1302 | L47: =MIN(F47,H47,J47,K47) -> 1302
A48: =CONCATENATE(B48,C48,D48) -> 볼트M24EA | B48: 볼트 | C48: M24 | D48: EA | G48: 49 | H48: 6900 | L48: =MIN(F48,H48,J48,K48) -> 6900
A49: =CONCATENATE(B49,C49,D49) -> 기초앙카볼트M24×800EA | B49: 기초앙카볼트 | C49: M24×800 | D49: EA | G49: 48 | H49: 16000 | L49: =MIN(F49,H49,J49,K49) -> 16000 | N49: 측주식6EA
A50: =CONCATENATE(B50,C50,D50) -> 기초앙카볼트M36×1000EA | B50: 기초앙카볼트 | C50: M36×1000 | D50: EA | G50: 48 | H50: 45000 | L50: =MIN(F50,H50,J50,K50) -> 45000 | N50: 이정표8EA
A51: 경유 | B51: 연료 | C51: 경유 | D51: ℓ | G51: 1430 | H51: 1778 | K51: 1318 | L51: =MIN(F51,H51,J51,K51) -> 1318 | M51: 조달청2025.04.01.고시
A52: 휘발유 | B52: 연료 | C52: 휘발유 | D52: ℓ | G52: 1430 | H52: 1910 | K52: 1421 | L52: =MIN(F52,H52,J52,K52) -> 1421 | M52: 조달청2025.04.01.고시

Sheet 가로등설치비 
A1: 가로등 설치비 산출기초
A3: 1. 기계화 시공기준 | M3: [전기,통신,신호 표준품샘 참조] | O3: ※ 노임적용 : 2026년 상반기 노임 | S3: 내선전공: | T3: =#REF! -> #REF!
A4: 1) 적용장비 : 크레인트럭 5ton 시간당 비용 산출 | S4: 보통인부: | T4: =#REF! -> #REF!
B5: 기계경비: | C5: =건설기계!$L$134 -> 11117 | O5: ※ 조달청 기준 | S5: 경유 : | T5: =#REF! -> #REF!
B6: 운전사(화물차) | C6: =건설기계!$J$134 -> #REF!
B7: 재 료 비: | C7: =건설기계!$H$134 -> #REF!
A9: 2. 가로등 신설
A10: 가. 등주높이 및 작업 조건별 장비 사용료 | N10: 나. 기계화 설치에 따른 노무비
B11: 구 분 | D11: 장비사용 | F11: 재료비 | H11: 인건비 | J11: 기계경비 | L11: 비 고 | N11: 구 분 | O11: H=5∼7m | Q11: H=8∼9m | S11: H=10∼12m
B12: 시간당 비용 | D12: 시간(분) | F12: =C7 -> #REF! | H12: =C6 -> #REF! | J12: =C5 -> 11117 | L12: 기 준 | O12: 내선전공 | P12: 인건비 | Q12: 내선전공 | R12: 인건비 | S12: 내선전공 | T12: 인건비
C13: 양호(0.9) | D13: =ROUNDDOWN((L13/0.9),2) -> 36.66 | F13: =INT($F$12*D13/60) -> #REF! | H13: =INT($H$12*D13/60) -> #REF! | J13: =INT($J$12*D13/60) -> 6792 | L13: 33 | N13: 기 준 | O13: 0.31 | P13: =INT(T3*O13) -> #REF! | Q13: 0.36 | R13: =INT(Q13*T3) -> #REF! | S13: 0.42 | T13: =INT(S13*$T$3) -> #REF!
B14: H=5∼7m | C14: 보통(0.7) | D14: =ROUNDDOWN((L13/0.7),2) -> 47.14 | F14: =INT($F$12*D14/60) -> #REF! | H14: =INT($H$12*D14/60) -> #REF! | J14: =INT($J$12*D14/60) -> 8734 | N14: 양 호 | O14: 0.34 | P14: =INT(T3*O14) -> #REF! | Q14: 0.4 | R14: =INT(Q14*T3) -> #REF! | S14: 0.46 | T14: =INT(S14*$T$3) -> #REF!
C15: 불량(0.6) | D15: =ROUNDDOWN((L13/0.6),2) -> 55 | F15: =INT($F$12*D15/60) -> #REF! | H15: =INT($H$12*D15/60) -> #REF! | J15: =INT($J$12*D15/60) -> 10190 | N15: 보 통 | O15: 0.44 | P15: =INT(T3*O15) -> #REF! | Q15: 0.51 | R15: =INT(Q15*T3) -> #REF! | S15: 0.6 | T15: =INT(S15*$T$3) -> #REF!
C16: 양호(0.9) | D16: 40 | F16: =INT($F$12*D16/60) -> #REF! | H16: =INT($H$12*D16/60) -> #REF! | J16: =INT($J$12*D16/60) -> 7411 | L16: 36 | N16: 불 량 | O16: 0.51 | P16: =INT(T3*O16) -> #REF! | Q16: 0.6 | R16: =INT(Q16*T3) -> #REF! | S16: 0.7 | T16: =INT(S16*$T$3) -> #REF!
B17: H=8∼9m | C17: 보통(0.7) | D17: =ROUNDDOWN((L16/0.7),2) -> 51.42 | F17: =INT($F$12*D17/60) -> #REF! | H17: =INT($H$12*D17/60) -> #REF! | J17: =INT($J$12*D17/60) -> 9527
C18: 불량(0.6) | D18: =ROUNDDOWN((L16/0.6),2) -> 60 | F18: =INT($F$12*D18/60) -> #REF! | H18: =INT($H$12*D18/60) -> #REF! | J18: =INT($J$12*D18/60) -> 11117
C19: 양호(0.9) | D19: =ROUNDDOWN((L19/0.9),2) -> 43.33 | F19: =INT($F$12*D19/60) -> #REF! | H19: =INT($H$12*D19/60) -> #REF! | J19: =INT($J$12*D19/60) -> 8028 | L19: 39
B20: H=10∼12m | C20: 보통(0.7) | D20: =ROUNDDOWN((L19/0.7),2) -> 55.71 | F20: =INT($F$12*D20/60) -> #REF! | H20: =INT($H$12*D20/60) -> #REF! | J20: =INT($J$12*D20/60) -> 10322
C21: 불량(0.6) | D21: =ROUNDDOWN((L19/0.6),2) -> 65 | F21: =INT($F$12*D21/60) -> #REF! | H21: =INT($H$12*D21/60) -> #REF! | J21: =INT($J$12*D21/60) -> 12043
A23: 3. 가로등 설치비 | N23: *. 기타사항
B24: *. 설치비 : 가 + 나 | N24: 가. 현장 교통정리 필요시 보통인부(본당 0.13인) 별도 계상
B25: 구 분 | F25: 재료비 | H25: 노무비 | J25: 경 비 | N25: 나. 본 계산시 크레인트럭 운반경비는 무시(필요시 별도 추가)
B26: H=8M | C26: LED등기구 | D26: 양호 | F26: =F$16 -> #REF! | H26: =INT(SUM(H$16+R$14+T21+T$19)) -> #REF! | J26: =J$16 -> 7411 | N26: 다. 등주조립에 따른 인건비 계산은 전기품셈 5-26-1,5-27,5-19항 참조.
N27: 라. 현장상태(양호, 보통, 불량)는 전기품셈 1.34(다) 참조.
N28: 마. 등구류 설치는 기계설치의 60%를 별도 계상

Sheet 가로등철거비
A1: 가로등 재사용 철거비 산출기초
A3: 1. 기계화 시공기준 | M3: [전기,통신,신호 표준품샘 참조] | O3: ※ 노임적용 : 2026년 상반기 노임 | S3: 내선전공: | T3: =#REF! -> #REF!
A4: 1) 적용장비 : 크레인트럭 5ton 시간당 비용 산출 | S4: 보통인부: | T4: =#REF! -> #REF!
B5: 기계경비: | C5: =건설기계!$L$134 -> 11117 | O5: ※ 조달청 연도초기준 | S5: 경유 : | T5: =#REF! -> #REF!
B6: 운전사(화물차) | C6: =건설기계!$J$134 -> #REF!
B7: 재 료 비: | C7: =건설기계!$H$134 -> #REF!
A9: 2. 가로등 신설
A10: 가. 등주높이 및 작업 조건별 장비 사용료 | N10: 나. 기계화 설치에 따른 노무비
B11: 구 분 | D11: 장비사용 | F11: 재료비 | H11: 인건비 | J11: 기계경비 | L11: 비 고 | N11: 구 분 | O11: H=5∼7m | Q11: H=8∼9m | S11: H=10∼12m
B12: 시간당 비용 | D12: 시간(분) | F12: =C7 -> #REF! | H12: =C6 -> #REF! | J12: =C5 -> 11117 | L12: 기 준 | O12: 내선전공 | P12: 인건비 | Q12: 내선전공 | R12: 인건비 | S12: 내선전공 | T12: 인건비
C13: 양호(0.9) | D13: =ROUNDDOWN((L13/0.9),2) -> 36.66 | F13: =INT($F$12*D13/60) -> #REF! | H13: =INT($H$12*D13/60) -> #REF! | J13: =INT($J$12*D13/60) -> 6792 | L13: 33 | N13: 기 준 | O13: 0.31 | P13: =INT(T3*O13) -> #REF! | Q13: 0.36 | R13: =INT(Q13*T3) -> #REF! | S13: 0.42 | T13: =INT(S13*$T$3) -> #REF!
B14: H=5∼7m | C14: 보통(0.7) | D14: =ROUNDDOWN((L13/0.7),2) -> 47.14 | F14: =INT($F$12*D14/60) -> #REF! | H14: =INT($H$12*D14/60) -> #REF! | J14: =INT($J$12*D14/60) -> 8734 | N14: 양 호 | O14: 0.34 | P14: =INT(T3*O14) -> #REF! | Q14: 0.4 | R14: =INT(Q14*T3) -> #REF! | S14: 0.46 | T14: =INT(S14*$T$3) -> #REF!
C15: 불량(0.6) | D15: =ROUNDDOWN((L13/0.6),2) -> 55 | F15: =INT($F$12*D15/60) -> #REF! | H15: =INT($H$12*D15/60) -> #REF! | J15: =INT($J$12*D15/60) -> 10190 | N15: 보 통 | O15: 0.44 | P15: =INT(T3*O15) -> #REF! | Q15: 0.51 | R15: =INT(Q15*T3) -> #REF! | S15: 0.6 | T15: =INT(S15*$T$3) -> #REF!
C16: 양호(0.9) | D16: 40 | F16: =INT($F$12*D16/60) -> #REF! | H16: =INT($H$12*D16/60) -> #REF! | J16: =INT($J$12*D16/60) -> 7411 | L16: 36 | N16: 불 량 | O16: 0.51 | P16: =INT(T3*O16) -> #REF! | Q16: 0.6 | R16: =INT(Q16*T3) -> #REF! | S16: 0.7 | T16: =INT(S16*$T$3) -> #REF!
B17: H=8∼9m | C17: 보통(0.7) | D17: =ROUNDDOWN((L16/0.7),2) -> 51.42 | F17: =INT($F$12*D17/60) -> #REF! | H17: =INT($H$12*D17/60) -> #REF! | J17: =INT($J$12*D17/60) -> 9527
C18: 불량(0.6) | D18: =ROUNDDOWN((L16/0.6),2) -> 60 | F18: =INT($F$12*D18/60) -> #REF! | H18: =INT($H$12*D18/60) -> #REF! | J18: =INT($J$12*D18/60) -> 11117
C19: 양호(0.9) | D19: =ROUNDDOWN((L19/0.9),2) -> 43.33 | F19: =INT($F$12*D19/60) -> #REF! | H19: =INT($H$12*D19/60) -> #REF! | J19: =INT($J$12*D19/60) -> 8028 | L19: 39
B20: H=10∼12m | C20: 보통(0.7) | D20: =ROUNDDOWN((L19/0.7),2) -> 55.71 | F20: =INT($F$12*D20/60) -> #REF! | H20: =INT($H$12*D20/60) -> #REF! | J20: =INT($J$12*D20/60) -> 10322
C21: 불량(0.6) | D21: =ROUNDDOWN((L19/0.6),2) -> 65 | F21: =INT($F$12*D21/60) -> #REF! | H21: =INT($H$12*D21/60) -> #REF! | J21: =INT($J$12*D21/60) -> 12043
A23: 3. 가로등 재사용 철거비(설치비의 80%) | N23: *. 기타사항
B24: *. 설치비 : 가 + 나 | N24: 가. 현장 교통정리 필요시 보통인부(본당 0.13인) 별도 계상
B25: 구 분 | F25: 재료비 | H25: 노무비 | J25: 경 비 | N25: 나. 본 계산시 크레인트럭 운반경비는 무시(필요시 별도 추가)
B26: H=8M | C26: LED등기구 | D26: 양호 | F26: =F$16 -> #REF! | H26: =INT(SUM(H$16+R$14+T21+T$19)) -> #REF! | J26: =J$16 -> 7411 | N26: 다. 등주조립에 따른 인건비 계산은 전기품셈 5-26-1,5-27,5-19항 참조.
B27: *. 철거비 : (가 + 나)*80% | N27: 라. 현장상태(양호, 보통, 불량)는 전기품셈 1.34(다) 참조.
B28: 구 분 | F28: 재료비 | H28: 노무비 | J28: 경 비 | N28: 마. 등구류 설치는 기계설치의 60%를 별도 계상
B29: H=8M | D29: 양호 | F29: =F26*0.8 -> #REF! | H29: =H26*0.8 -> #REF! | J29: =J26*0.8 -> 5928.8

Sheet 수량집계
A1: 품명 | B1: 규격 | C1: 단위 | D1: 일광 | E1: 이천 | G1: 동백 | I1: 문동 | K1: 임랑 | M1: 계
D2: LP-01 | E2: LP-01 | F2: LP-02 | G2: LP-01 | H2: LP-02 | I2: LP-01 | J2: LP-02 | K2: LP-01 | L2: LP-02
A3: 가로등주 | B3: 원형테파 10M 1등용 | C3: =#REF! -> #REF! | D3: =#REF! -> #REF! | E3: =#REF! -> #REF! | F3: =#REF! -> #REF! | G3: =#REF! -> #REF! | H3: =#REF! -> #REF! | I3: =#REF! -> #REF! | J3: =#REF! -> #REF! | ... L3: =#REF! -> #REF! | M3: =SUM(D3:L3) -> #REF! | N3: =E3+F3 -> #REF! | O3: =G3+H3 -> #REF! | P3: =I3+J3 -> #REF! | Q3: =K3+L3 -> #REF!
A4: =#REF! -> #REF! | B4: LED 150W | C4: 개 | D4: =#REF! -> #REF! | E4: =#REF! -> #REF! | F4: =#REF! -> #REF! | M4: =SUM(D4:L4) -> #REF! | N4: =E4+F4 -> #REF! | O4: =G4+H4 -> 0 | P4: =I4+J4 -> 0 | Q4: =K4+L4 -> 0
A5: =#REF! -> #REF! | B5: CPO-140W | C5: 개 | G5: =#REF! -> #REF! | H5: =#REF! -> #REF! | I5: =#REF! -> #REF! | J5: =#REF! -> #REF! | K5: =#REF! -> #REF! | L5: =#REF! -> #REF! | M5: =SUM(D5:L5) -> #REF! | N5: =E5+F5 -> 0 | O5: =G5+H5 -> #REF! | P5: =I5+J5 -> #REF! | Q5: =K5+L5 -> #REF!
A6: 가로등기초 | B6: 560*825*1150*1300 | C6: 개 | D6: =#REF! -> #REF! | E6: =#REF! -> #REF! | F6: =#REF! -> #REF! | G6: =#REF! -> #REF! | H6: =#REF! -> #REF! | I6: =#REF! -> #REF! | J6: =#REF! -> #REF! | K6: =#REF! -> #REF! | L6: =#REF! -> #REF! | M6: =SUM(D6:L6) -> #REF! | N6: =E6+F6 -> #REF! | O6: =G6+H6 -> #REF! | P6: =I6+J6 -> #REF! | Q6: =K6+L6 -> #REF!
A7: 제어반 설치 | B7: 1함8회로(STS) | C7: =#REF! -> #REF! | D7: =#REF! -> #REF! | E7: =#REF! -> #REF! | F7: =#REF! -> #REF! | G7: =#REF! -> #REF! | H7: =#REF! -> #REF! | I7: =#REF! -> #REF! | J7: =#REF! -> #REF! | ... L7: =#REF! -> #REF! | M7: =SUM(D7:L7) -> #REF! | N7: =E7+F7 -> #REF! | O7: =G7+H7 -> #REF! | P7: =I7+J7 -> #REF! | Q7: =K7+L7 -> #REF!
A8: 제어반 기초 | B8: H=600 | C8: =#REF! -> #REF! | D8: =#REF! -> #REF! | E8: =#REF! -> #REF! | F8: =#REF! -> #REF! | G8: =#REF! -> #REF! | H8: =#REF! -> #REF! | I8: =#REF! -> #REF! | J8: =#REF! -> #REF! | ... L8: =#REF! -> #REF! | M8: =SUM(D8:L8) -> #REF! | N8: =E8+F8 -> #REF! | O8: =G8+H8 -> #REF! | P8: =I8+J8 -> #REF! | Q8: =K8+L8 -> #REF!
A9: 전선관(PE 42C) | B9: PE 42C | C9: M | D9: =#REF! -> #REF! | E9: =#REF! -> #REF! | F9: =#REF! -> #REF! | G9: =#REF! -> #REF! | H9: =#REF! -> #REF! | I9: =#REF! -> #REF! | J9: =#REF! -> #REF! | K9: =#REF! -> #REF! | L9: =#REF! -> #REF! | M9: =SUM(D9:L9) -> #REF! | N9: =E9+F9 -> #REF! | O9: =G9+H9 -> #REF! | P9: =I9+J9 -> #REF! | Q9: =K9+L9 -> #REF!
A10: 전선관(PE 36C) | B10: PE 36C | C10: M | D10: =#REF! -> #REF! | E10: =#REF! -> #REF! | F10: =#REF! -> #REF! | G10: =#REF! -> #REF! | H10: =#REF! -> #REF! | I10: =#REF! -> #REF! | J10: =#REF! -> #REF! | K10: =#REF! -> #REF! | L10: =#REF! -> #REF! | M10: =SUM(D10:L10) -> #REF! | N10: =E10+F10 -> #REF! | O10: =G10+H10 -> #REF! | P10: =I10+J10 -> #REF! | Q10: =K10+L10 -> #REF!
A11: 케이블(F-CV25㎟-2C) | B11: F-CV 25㎟-2C | C11: M | D11: =#REF! -> #REF! | E11: =#REF! -> #REF! | F11: =#REF! -> #REF! | G11: =#REF! -> #REF! | H11: =#REF! -> #REF! | I11: =#REF! -> #REF! | J11: =#REF! -> #REF! | K11: =#REF! -> #REF! | L11: =#REF! -> #REF! | M11: =SUM(D11:L11) -> #REF! | N11: =E11+F11 -> #REF! | O11: =G11+H11 -> #REF! | P11: =I11+J11 -> #REF! | Q11: =K11+L11 -> #REF!
A12: 케이블(F-CV10㎟-2C) | B12: F-CV 10㎟-2C | C12: M | D12: =#REF! -> #REF! | M12: =SUM(D12:L12) -> #REF! | N12: =E12+F12 -> 0 | O12: =G12+H12 -> 0 | P12: =I12+J12 -> 0 | Q12: =K12+L12 -> 0
A13: 케이블(F-CV6㎟-2C)2열동시 | B13: F-CV 6㎟-2C | C13: M | D13: =#REF! -> #REF! | E13: =#REF! -> #REF! | F13: =#REF! -> #REF! | G13: =#REF! -> #REF! | H13: =#REF! -> #REF! | I13: =#REF! -> #REF! | J13: =#REF! -> #REF! | K13: =#REF! -> #REF! | L13: =#REF! -> #REF! | M13: =SUM(D13:L13) -> #REF! | N13: =E13+F13 -> #REF! | O13: =G13+H13 -> #REF! | P13: =I13+J13 -> #REF! | Q13: =K13+L13 -> #REF!
A14: 케이블(F-CV6㎟-2C) | B14: F-CV 6㎟-2C | C14: M | D14: =#REF! -> #REF! | E14: =#REF! -> #REF! | F14: =#REF! -> #REF! | G14: =#REF! -> #REF! | H14: =#REF! -> #REF! | I14: =#REF! -> #REF! | J14: =#REF! -> #REF! | K14: =#REF! -> #REF! | L14: =#REF! -> #REF! | M14: =SUM(D14:L14) -> #REF! | N14: =E14+F14 -> #REF! | O14: =G14+H14 -> #REF! | P14: =I14+J14 -> #REF! | Q14: =K14+L14 -> #REF!
A15: 전선(F-GV 10㎟) | B15: F-GV 10㎟ | C15: M | D15: =#REF! -> #REF! | E15: =#REF! -> #REF! | F15: =#REF! -> #REF! | G15: =#REF! -> #REF! | H15: =#REF! -> #REF! | I15: =#REF! -> #REF! | J15: =#REF! -> #REF! | K15: =#REF! -> #REF! | L15: =#REF! -> #REF! | M15: =SUM(D15:L15) -> #REF! | N15: =E15+F15 -> #REF! | O15: =G15+H15 -> #REF! | P15: =I15+J15 -> #REF! | Q15: =K15+L15 -> #REF!
A16: 워샤캡 설치 | B16: 42C | C16: 개 | E16: =#REF! -> #REF! | F16: =#REF! -> #REF! | G16: =#REF! -> #REF! | H16: =#REF! -> #REF! | I16: =#REF! -> #REF! | J16: =#REF! -> #REF! | K16: =#REF! -> #REF! | L16: =#REF! -> #REF! | M16: =SUM(D16:L16) -> #REF! | N16: =E16+F16 -> #REF! | O16: =G16+H16 -> #REF! | P16: =I16+J16 -> #REF! | Q16: =K16+L16 -> #REF!
A17: 워샤캡 설치 | B17: 36C | C17: 개 | D17: =#REF! -> #REF! | M17: =SUM(D17:L17) -> #REF! | N17: =E17+F17 -> 0 | O17: =G17+H17 -> 0 | P17: =I17+J17 -> 0 | Q17: =K17+L17 -> 0
A18: 케이블표지시트 | B18: 200x250 | C18: M | D18: =#REF! -> #REF! | E18: =#REF! -> #REF! | F18: =#REF! -> #REF! | G18: =#REF! -> #REF! | H18: =#REF! -> #REF! | I18: =#REF! -> #REF! | J18: =#REF! -> #REF! | K18: =#REF! -> #REF! | L18: =#REF! -> #REF! | M18: =SUM(D18:L18) -> #REF! | N18: =E18+F18 -> #REF! | O18: =G18+H18 -> #REF! | P18: =I18+J18 -> #REF! | Q18: =K18+L18 -> #REF!
A19: 터파기 | B19: 인력:10%,기계:90% | C19: ㎥ | D19: =#REF! -> #REF! | E19: =#REF! -> #REF! | F19: =#REF! -> #REF! | G19: =#REF! -> #REF! | H19: =#REF! -> #REF! | I19: =#REF! -> #REF! | J19: =#REF! -> #REF! | K19: =#REF! -> #REF! | L19: =#REF! -> #REF! | M19: =SUM(D19:L19) -> #REF! | N19: =E19+F19 -> #REF! | O19: =G19+H19 -> #REF! | P19: =I19+J19 -> #REF! | Q19: =K19+L19 -> #REF!
A20: 되메우기 및 다짐 | B20: 인력:10%,기계:90% | C20: ㎥ | D20: =#REF! -> #REF! | E20: =#REF! -> #REF! | F20: =#REF! -> #REF! | G20: =#REF! -> #REF! | H20: =#REF! -> #REF! | I20: =#REF! -> #REF! | J20: =#REF! -> #REF! | K20: =#REF! -> #REF! | L20: =#REF! -> #REF! | M20: =SUM(D20:L20) -> #REF! | N20: =E20+F20 -> #REF! | O20: =G20+H20 -> #REF! | P20: =I20+J20 -> #REF! | Q20: =K20+L20 -> #REF!
A21: 기계터파기 | B21: (소형)(연암) | C21: ㎥ | G21: =#REF! -> #REF! | H21: =#REF! -> #REF! | I21: =#REF! -> #REF! | J21: =#REF! -> #REF! | K21: =#REF! -> #REF! | L21: =#REF! -> #REF! | M21: =SUM(D21:L21) -> #REF! | N21: =E21+F21 -> 0 | O21: =G21+H21 -> #REF! | P21: =I21+J21 -> #REF! | Q21: =K21+L21 -> #REF!
